{"text_format":"1","workbook":"xlsx","n_sheets":3,"sheets":["Thermal Analysis","Pavement","Reference"],"not_rendered":{"charts":0,"images":1,"macros":1,"external_links":0,"defined_names":11,"comments":0,"pivot_tables":0},"unopened":[],"bounds":{"document_bytes":16777216,"sheet_cells":100000,"rows_first":2000,"rows_last":500,"rows_between":2000,"halvings":0,"cell_chars":16384,"cell_head_chars":4096},"cells_cut":0,"cells_raw":0,"read":"whole","date_system":"1900"}

{"sheet":"Thermal Analysis","index":0,"n_rows":135,"n_cols":33,"rows_kept":135,"cut":false,"hidden":false,"merged":[[134,2,134,5],[134,6,134,10],[134,11,134,15],[134,16,134,17],[131,2,131,5],[131,6,131,10],[131,11,131,15],[131,16,131,17],[132,2,132,5],[132,6,132,10],[132,11,132,15],[132,16,132,17],[133,2,133,5],[133,6,133,10],[133,11,133,15],[133,16,133,17],[128,2,128,5],[128,6,128,10],[128,11,128,15],[128,16,128,17],[129,2,129,5],[129,6,129,10],[129,11,129,15],[129,16,129,17],[130,2,130,5],[130,6,130,10],[130,11,130,15],[130,16,130,17],[121,19,121,21],[121,22,121,23],[123,2,123,18],[123,19,123,21],[123,22,123,23],[125,2,125,23],[127,2,127,5],[127,6,127,10],[127,11,127,15],[113,2,113,5],[113,6,113,10],[115,2,115,23],[117,2,117,17],[117,19,117,21],[119,2,119,17],[119,19,119,21],[119,22,119,23],[108,2,108,5],[108,6,108,10],[109,2,109,5],[109,6,109,10],[110,2,110,5],[110,6,110,10],[111,2,111,5],[111,6,111,10],[112,2,112,5],[112,6,112,10],[100,2,100,18],[100,19,100,21],[102,2,102,18],[102,19,102,21],[104,2,104,18],[104,19,104,21],[106,2,106,5],[106,6,106,10],[107,2,107,5],[107,6,107,10],[92,2,92,18],[92,19,92,21],[92,22,92,23],[94,2,94,18],[94,19,94,21],[94,22,94,23],[96,2,96,23],[98,2,98,7],[98,8,98,21],[86,2,86,23],[88,2,88,18],[88,19,88,21],[88,22,88,24],[90,2,90,18],[90,19,90,21],[90,22,90,23],[78,1,78,18],[78,19,78,21],[78,22,78,23],[80,1,80,18],[80,19,80,21],[80,22,80,23],[81,2,81,17],[82,1,82,18],[82,19,82,21],[72,6,72,10],[75,16,75,17],[76,16,76,17],[70,16,70,17],[71,16,71,17],[72,16,72,17],[73,16,73,17],[74,16,74,17],[73,6,73,10],[74,6,74,10],[75,6,75,10],[76,6,76,10],[48,2,48,5],[49,2,49,5],[50,2,50,5],[51,2,51,5],[52,2,52,5],[53,2,53,5],[69,11,69,15],[69,6,69,10],[48,6,48,10],[49,6,49,10],[50,6,50,10],[51,6,51,10],[46,6,46,10],[47,6,47,10],[74,2,74,5],[75,2,75,5],[76,2,76,5],[55,2,55,23],[52,6,52,10],[53,6,53,10],[69,2,69,5],[70,2,70,5],[71,2,71,5],[72,2,72,5],[73,2,73,5],[70,11,70,15],[71,11,71,15],[72,11,72,15],[73,11,73,15],[74,11,74,15],[75,11,75,15],[76,11,76,15],[70,6,70,10],[71,6,71,10],[46,2,46,5],[47,2,47,5],[63,19,63,21],[63,22,63,23],[67,2,67,23],[57,22,57,23],[59,19,59,21],[61,19,61,21],[61,22,61,23],[65,2,65,18],[65,19,65,21],[65,22,65,23],[59,2,59,17],[57,2,57,17],[61,2,61,17],[57,19,57,21],[34,19,34,21],[34,2,34,18],[10,1,10,23],[16,22,16,23],[16,19,16,21],[18,22,18,23],[18,19,18,21],[20,19,20,21],[16,1,16,18],[20,1,20,18],[28,22,28,23],[30,22,30,23],[32,22,32,23],[26,19,26,21],[28,19,28,21],[30,19,30,21],[32,19,32,21],[26,22,26,24],[4,1,4,23],[5,1,5,23],[19,2,19,17],[18,1,18,18],[44,19,44,21],[44,2,44,18],[36,2,36,23],[38,2,38,7],[38,8,38,21],[40,19,40,21],[42,19,42,21],[42,2,42,18],[40,2,40,18],[32,2,32,18],[30,2,30,18],[28,2,28,18],[26,2,26,18],[24,2,24,23],[8,1,8,4],[12,1,12,23],[14,1,14,3],[14,4,14,5],[8,5,8,23],[34,22,34,23]]}
[null,null,null,null,null,null,null,null,null,null,null,null,null,null,null,null,null,null,null,null,null,null,null,null,null,null,"WWF","Yes","Composite CN",1,"Scenario 1 - One or more peak rate control SCMs are proposed that will receive stormwater from a drainage area containing more than 25% impervious surface."]
[null,null,null,null,null,null,null,null,null,null,null,null,null,null,null,null,null,null,null,null,null,null,null,"Stormwater Thermal Analysis Spreadsheet",null,null,"CWF","No","% Impervious",2,"Scenario 2 - A Wet Basin or Engineered Stormwater Treatment Wetland is proposed that does not include shading and/or a reversed slope outlet pipe."]
[null,null,null,null,null,null,null,null,null,null,null,null,null,null,null,null,null,null,null,null,null,null,null,"Version 1.0, Draft, October 2025",null,null,"TSF",null,null,3,"Scenario 3 - There will be post-construction undetained areas, within the limit of disturbance, that contain impervious surface."]
[null,null,null,null,null,null,null,null,null,null,null,null,null,null,null,null,null,null,null,null,null,null,null,null,null,null,"HQ-WWF",null,null,4]
[null,"CHAPTER 102",null,null,null,null,null,null,null,null,null,null,null,null,null,null,null,null,null,null,null,null,null,null,null,null,"HQ-CWF",null,null,5]
[null,"STORMWATER THERMAL ANALYSIS SPREADSHEET",null,null,null,null,null,null,null,null,null,null,null,null,null,null,null,null,null,null,null,null,null,null,null,null,"HQ-TSF",null,null,6]
[null,null,null,null,null,null,null,null,null,null,null,null,null,null,null,null,null,null,null,null,null,null,null,null,null,null,"EV",null,null,7]
[null,null,null,null,null,null,null,null,null,null,null,null,null,null,null,null,null,null,null,null,null,null,null,null,null,null,"ORSANCO",null,null,8]
[null,"Project Name:",null,null,null,null,null,null,null,null,null,null,null,null,null,null,null,null,null,null,null,null,null,null,null,null,null,null,null,9]
[null,null,null,null,null,null,null,null,null,null,null,null,null,null,null,null,null,null,null,null,null,null,null,null,null,null,null,null,null,10]
[null,"Select the thermal analysis scenario from the dropdown list:",null,null,null,null,null,null,null,null,null,null,null,null,null,null,null,null,null,null,null,null,null,null,null,null,null,null,null,11]
[null,null,null,null,null,null,null,null,null,null,null,null,null,null,null,null,null,null,null,null,null,null,null,null,null,null,null,null,null,12]
[null,null,null,null,null,null,null,null,null,null,null,null,null,null,null,null,null,null,null,null,null,null,null,null,null,null,{"$f":"IF(B13=\"One or more peak rate control SCMs are proposed that will receive stormwater from a drainage area containing more than 25% impervious surface.\",1,IF(B13=\"A Wet Basin or Engineered Stormwater Treatment Wetland is proposed that does not include shading and/or a reversed slope outlet pipe.\",2,IF(B13=\"There will be post-construction undetained areas, within the limit of disturbance, that contain impervious surface.\",3,\"\")))","v":""},null,null,13]
[null,null,null,null,null,null,null,null,null,null,null,null,null,null,null,null,null,null,null,null,null,null,null,null,null,null,null,null,null,14]
[null,"SCM ID:",null,null,null,null,null,null,null,null,null,null,null,null,null,null,null,null,null,null,null,null,null,null,null,null,null,null,null,15]
[null,null,null,null,null,null,null,null,null,null,null,null,null,null,null,null,null,null,null,null,null,null,null,null,null,null,null,null,null,16]
[null,"SCM Drainage Area:",null,null,null,null,null,null,null,null,null,null,null,null,null,null,null,null,null,null,null,null,"acres",null,null,null,null,null,null,17]
[null,null,null,null,null,null,null,null,null,null,null,null,null,null,null,null,null,null,null,null,null,null,null,null,null,null,null,null,null,18]
[null,"Total Drainage Area of Surface Water at SCM's DP:",null,null,null,null,null,null,null,null,null,null,null,null,null,null,null,null,null,null,null,null,"acres",null,null,null,null,null,null,19]
[null,null,null,null,null,null,null,null,null,null,null,null,null,null,null,null,null,null,null,null,null,null,null,null,null,null,null,null,null,20]
[null,"Ratio of SCM Drainage Area : Surface Water Drainage Area:",null,null,null,null,null,null,null,null,null,null,null,null,null,null,null,null,null,{"$f":"IF(AND(T17<>\"\",T19<>\"\"),(T17/T19)*100,\"\")","v":""},null,null,"%",null,null,null,null,null,null,21]
[null,null,null,null,null,null,null,null,null,null,null,null,null,null,null,null,null,null,null,null,null,null,null,null,null,null,null,null,null,22]
[null,{"$f":"CONCATENATE(\"A thermal analysis is\",IF(T21>10,\"\",\" not\"),\" required because the ratio\",IF(T21>10,\" exceeds\",\" is less than or equal to\"),\" 10%.\")","v":"A thermal analysis is required because the ratio exceeds 10%."},null,null,null,null,null,null,null,null,null,null,null,null,null,null,null,null,null,null,null,null,null,null,null,null,null,null,null,23]
[null,null,null,null,null,null,null,null,null,null,null,null,null,null,null,null,null,null,null,null,null,null,null,null,null,null,null,null,null,24]
[null,false,"SCM Information",null,null,null,null,null,null,null,null,null,null,null,null,null,null,null,null,null,null,null,null,null,null,null,null,null,null,25]
[null,null,null,null,null,null,null,null,null,null,null,null,null,null,null,null,null,null,null,null,null,null,null,null,null,null,null,null,null,26,27.9,23.4,{"$f":"AE26*(9/5)+32","v":82.22}]
[null,null,"2-Year/24-Hour Storm Precipitation Depth:",null,null,null,null,null,null,null,null,null,null,null,null,null,null,null,null,null,null,null,"inches",null,null,null,null,null,null,27,17.3,21.4,{"$f":"AE27*(9/5)+32","v":63.14}]
[null,null,null,null,null,null,null,null,null,null,null,null,null,null,null,null,null,null,null,null,null,null,null,null,null,null,null,null,null,28,19.399999999999999,22.5,66.92]
[null,null,"SCM Discharge Period:",null,null,null,null,null,null,null,null,null,null,null,null,null,null,null,null,null,null,null,"hours",null,null,null,{"$f":"IF(T29<>\"\",T29*3600,\"\")","v":""},"sec",{"$f":"IF(T29<>\"\",ROUND(T29*60,0),\"\")","v":""},29,14.6,17.7,58.28]
[null,null,null,null,null,null,null,null,null,null,null,null,null,null,null,null,null,null,null,null,null,null,null,null,null,null,null,null,null,30,16,20.2,60.8]
[null,null,"Total Volume Discharged During SCM Discharge Period:",null,null,null,null,null,null,null,null,null,null,null,null,null,null,null,null,null,null,null,"CF",null,null,null,null,null,null,31,18.5,21.6,65.300000000000011]
[null,null,null,null,null,null,null,null,null,null,null,null,null,null,null,null,null,null,null,null,null,null,null,null,null,null,null,null,null,32,18.2,25,64.759999999999991]
[null,null,"Average SCM Discharge Rate:",null,null,null,null,null,null,null,null,null,null,null,null,null,null,null,null,{"$f":"IF(AND(T29<>\"\",T31<>\"\"),T31/AA29,\"\")","v":""},null,null,"cfs",null,null,null,{"$f":"IF(T33<>\"\",T33/1.547,0)","v":0},"MGD",null,33,18.399999999999999,23.6,65.12]
[null,null,null,null,null,null,null,null,null,null,null,null,null,null,null,null,null,null,null,null,null,null,null,null,null,null,null,null,null,34,11.3,18.8,52.34]
[null,null,"Average SCM Discharge Temperature:",null,null,null,null,null,null,null,null,null,null,null,null,null,null,null,null,82,null,null,"°F",null,null,null,null,null,null,35,13.9,20.3,57.019999999999996]
[null,null,null,null,null,null,null,null,null,null,null,null,null,null,null,null,null,null,null,null,null,null,null,null,null,null,null,null,null,36,14.7,21.8,58.46]
[null,false,"Surface Water Information",null,null,null,null,null,null,null,null,null,null,null,null,null,null,null,null,null,null,null,null,null,null,null,null,null,null,37,13.9,23.3,57.019999999999996]
[null,null,null,null,null,null,null,null,null,null,null,null,null,null,null,null,null,null,null,null,null,null,null,null,null,null,null,null,null,38,18.8,24.1,65.84]
[null,null,"Surface Water Name:",null,null,null,null,null,null,null,null,null,null,null,null,null,null,null,null,null,null,null,null,null,null,null,null,null,null,39,16.5,21.8,61.7]
[null,null,null,null,null,null,null,null,null,null,null,null,null,null,null,null,null,null,null,null,null,null,null,null,null,null,null,null,null,40]
[null,null,"Chapter 93 Classification:",null,null,null,null,null,null,null,null,null,null,null,null,null,null,null,null,null,null,null,null,null,null,null,null,null,null,41]
[null,null,null,null,null,null,null,null,null,null,null,null,null,null,null,null,null,null,null,null,null,null,null,null,null,null,null,null,null,42]
[null,null,"Surface Water Q7-10 Flow:",null,null,null,null,null,null,null,null,null,null,null,null,null,null,null,null,null,null,null,"cfs",null,null,null,{"$f":"IF(T43<>\"\",T43/1.547,0)","v":0},"MGD",null,43]
[null,null,null,null,null,null,null,null,null,null,null,null,null,null,null,null,null,null,null,null,null,null,null,null,null,null,null,null,null,44]
[null,null,"Site-Specific Ambient Temperature Data are Available:",null,null,null,null,null,null,null,null,null,null,null,null,null,null,null,null,null,null,null,null,null,null,null,null,null,null,45]
[null,null,null,null,null,null,null,null,null,null,null,null,null,null,null,null,null,null,null,null,null,null,null,null,null,null,null,null,null,46]
[null,null,"Temperature Period",null,null,null,"Ambient Temperature (°F)",null,null,null,null,null,null,null,null,null,null,null,null,null,null,null,null,null,null,null,null,null,null,47]
[null,null,"Jun 1-15",null,null,null,null,null,null,null,null,{"$f":"IF(AND(OR($T$41=\"WWF\",$T$41=\"ORSANCO\"),G48>=Reference!C7),G48+1,IF(AND($T$41=\"CWF\",G48>=Reference!D7),G48+1,IF(AND($T$41=\"TSF\",G48>=Reference!E7),G48+1,\"\")))","v":""},{"$f":"IF(L48<>\"\",L48,IF(OR($T$41=\"WWF\",$T$41=\"ORSANCO\"),Reference!C7,IF($T$41=\"CWF\",Reference!D7,IF($T$41=\"TSF\",Reference!E7,\"\"))))","v":""},{"$f":"IF(OR($T$41=\"HQ-WWF\",$T$41=\"HQ-CWF\",$T$41=\"EV\",$T$41=\"HQ-TSF\"),IF(L48<>\"\",L48,IF($T$41=\"HQ-WWF\",Reference!H7+1,IF(OR($T$41=\"HQ-CWF\",$T$41=\"EV\"),Reference!I7+1,IF($T$41=\"HQ-TSF\",Reference!J7+1,\"\")))),\"\")","v":""},{"$f":"IF($T$41<>\"\",IF(G48<>\"\",G48,IF(OR($T$41=\"WWF\",$T$41=\"ORSANCO\",$T$41=\"HQ-WWF\"),Reference!H7,IF(OR($T$41=\"CWF\",$T$41=\"HQ-CWF\",$T$41=\"EV\"),Reference!I7,IF(OR($T$41=\"TSF\",$T$41=\"HQ-TSF\"),Reference!J7,\"\")))),\"\")","v":""},null,null,null,"L48-L54: Ambient comparison with Ch 93 criteria. If Ambient > criteria, use Ambient + 1.",null,null,null,null,null,null,null,null,null,null,48]
[null,null,"Jun 16-30",null,null,null,null,null,null,null,null,{"$f":"IF(AND(OR($T$41=\"WWF\",$T$41=\"ORSANCO\"),G49>=Reference!C8),G49+1,IF(AND($T$41=\"CWF\",G49>=Reference!D8),G49+1,IF(AND($T$41=\"TSF\",G49>=Reference!E8),G49+1,\"\")))","v":""},{"$f":"IF(L49<>\"\",L49,IF(OR($T$41=\"WWF\",$T$41=\"ORSANCO\"),Reference!C8,IF($T$41=\"CWF\",Reference!D8,IF($T$41=\"TSF\",Reference!E8,\"\"))))","v":""},{"$f":"IF(OR($T$41=\"HQ-WWF\",$T$41=\"HQ-CWF\",$T$41=\"EV\",$T$41=\"HQ-TSF\"),IF(L49<>\"\",L49,IF($T$41=\"HQ-WWF\",Reference!H8+1,IF(OR($T$41=\"HQ-CWF\",$T$41=\"EV\"),Reference!I8+1,IF($T$41=\"HQ-TSF\",Reference!J8+1,\"\")))),\"\")","v":""},{"$f":"IF($T$41<>\"\",IF(G49<>\"\",G49,IF(OR($T$41=\"WWF\",$T$41=\"ORSANCO\",$T$41=\"HQ-WWF\"),Reference!H8,IF(OR($T$41=\"CWF\",$T$41=\"HQ-CWF\",$T$41=\"EV\"),Reference!I8,IF(OR($T$41=\"TSF\",$T$41=\"HQ-TSF\"),Reference!J8,\"\")))),\"\")","v":""},null,null,null,"M48-M54: Use L48-L54 if present otherwise use Ch 93 criteria for WWF, CWF and TSF",null,null,null,null,null,null,null,null,null,null,49]
[null,null,"Jul 1-31",null,null,null,null,null,null,null,null,{"$f":"IF(AND(OR($T$41=\"WWF\",$T$41=\"ORSANCO\"),G50>=Reference!C9),G50+1,IF(AND($T$41=\"CWF\",G50>=Reference!D9),G50+1,IF(AND($T$41=\"TSF\",G50>=Reference!E9),G50+1,\"\")))","v":""},{"$f":"IF(L50<>\"\",L50,IF(OR($T$41=\"WWF\",$T$41=\"ORSANCO\"),Reference!C9,IF($T$41=\"CWF\",Reference!D9,IF($T$41=\"TSF\",Reference!E9,\"\"))))","v":""},{"$f":"IF(OR($T$41=\"HQ-WWF\",$T$41=\"HQ-CWF\",$T$41=\"EV\",$T$41=\"HQ-TSF\"),IF(L50<>\"\",L50,IF($T$41=\"HQ-WWF\",Reference!H9+1,IF(OR($T$41=\"HQ-CWF\",$T$41=\"EV\"),Reference!I9+1,IF($T$41=\"HQ-TSF\",Reference!J9+1,\"\")))),\"\")","v":""},{"$f":"IF($T$41<>\"\",IF(G50<>\"\",G50,IF(OR($T$41=\"WWF\",$T$41=\"ORSANCO\",$T$41=\"HQ-WWF\"),Reference!H9,IF(OR($T$41=\"CWF\",$T$41=\"HQ-CWF\",$T$41=\"EV\"),Reference!I9,IF(OR($T$41=\"TSF\",$T$41=\"HQ-TSF\"),Reference!J9,\"\")))),\"\")","v":""},null,null,null,"N48-N54: Use L48-L54 if present otherwise use Ambient + 1 for HQ and EV",null,null,null,null,null,null,null,null,null,null,50]
[null,null,"Aug 1-15",null,null,null,null,null,null,null,null,{"$f":"IF(AND(OR($T$41=\"WWF\",$T$41=\"ORSANCO\"),G51>=Reference!C10),G51+1,IF(AND($T$41=\"CWF\",G51>=Reference!D10),G51+1,IF(AND($T$41=\"TSF\",G51>=Reference!E10),G51+1,\"\")))","v":""},{"$f":"IF(L51<>\"\",L51,IF(OR($T$41=\"WWF\",$T$41=\"ORSANCO\"),Reference!C10,IF($T$41=\"CWF\",Reference!D10,IF($T$41=\"TSF\",Reference!E10,\"\"))))","v":""},{"$f":"IF(OR($T$41=\"HQ-WWF\",$T$41=\"HQ-CWF\",$T$41=\"EV\",$T$41=\"HQ-TSF\"),IF(L51<>\"\",L51,IF($T$41=\"HQ-WWF\",Reference!H10+1,IF(OR($T$41=\"HQ-CWF\",$T$41=\"EV\"),Reference!I10+1,IF($T$41=\"HQ-TSF\",Reference!J10+1,\"\")))),\"\")","v":""},{"$f":"IF($T$41<>\"\",IF(G51<>\"\",G51,IF(OR($T$41=\"WWF\",$T$41=\"ORSANCO\",$T$41=\"HQ-WWF\"),Reference!H10,IF(OR($T$41=\"CWF\",$T$41=\"HQ-CWF\",$T$41=\"EV\"),Reference!I10,IF(OR($T$41=\"TSF\",$T$41=\"HQ-TSF\"),Reference!J10,\"\")))),\"\")","v":""},null,null,null,"O48-O54: Show user-entered or default Ambient",null,null,null,null,null,null,null,null,null,null,51]
[null,null,"Aug 16-31",null,null,null,null,null,null,null,null,{"$f":"IF(AND(OR($T$41=\"WWF\",$T$41=\"ORSANCO\"),G52>=Reference!C11),G52+1,IF(AND($T$41=\"CWF\",G52>=Reference!D11),G52+1,IF(AND($T$41=\"TSF\",G52>=Reference!E11),G52+1,\"\")))","v":""},{"$f":"IF(L52<>\"\",L52,IF(OR($T$41=\"WWF\",$T$41=\"ORSANCO\"),Reference!C11,IF($T$41=\"CWF\",Reference!D11,IF($T$41=\"TSF\",Reference!E11,\"\"))))","v":""},{"$f":"IF(OR($T$41=\"HQ-WWF\",$T$41=\"HQ-CWF\",$T$41=\"EV\",$T$41=\"HQ-TSF\"),IF(L52<>\"\",L52,IF($T$41=\"HQ-WWF\",Reference!H11+1,IF(OR($T$41=\"HQ-CWF\",$T$41=\"EV\"),Reference!I11+1,IF($T$41=\"HQ-TSF\",Reference!J11+1,\"\")))),\"\")","v":""},{"$f":"IF($T$41<>\"\",IF(G52<>\"\",G52,IF(OR($T$41=\"WWF\",$T$41=\"ORSANCO\",$T$41=\"HQ-WWF\"),Reference!H11,IF(OR($T$41=\"CWF\",$T$41=\"HQ-CWF\",$T$41=\"EV\"),Reference!I11,IF(OR($T$41=\"TSF\",$T$41=\"HQ-TSF\"),Reference!J11,\"\")))),\"\")","v":""},null,null,null,null,null,null,null,null,null,null,null,null,null,null,52]
[null,null,"Sep 1-15",null,null,null,null,null,null,null,null,{"$f":"IF(AND(OR($T$41=\"WWF\",$T$41=\"ORSANCO\"),G53>=Reference!C12),G53+1,IF(AND($T$41=\"CWF\",G53>=Reference!D12),G53+1,IF(AND($T$41=\"TSF\",G53>=Reference!E12),G53+1,\"\")))","v":""},{"$f":"IF(L53<>\"\",L53,IF(OR($T$41=\"WWF\",$T$41=\"ORSANCO\"),Reference!C12,IF($T$41=\"CWF\",Reference!D12,IF($T$41=\"TSF\",Reference!E12,\"\"))))","v":""},{"$f":"IF(OR($T$41=\"HQ-WWF\",$T$41=\"HQ-CWF\",$T$41=\"EV\",$T$41=\"HQ-TSF\"),IF(L53<>\"\",L53,IF($T$41=\"HQ-WWF\",Reference!H12+1,IF(OR($T$41=\"HQ-CWF\",$T$41=\"EV\"),Reference!I12+1,IF($T$41=\"HQ-TSF\",Reference!J12+1,\"\")))),\"\")","v":""},{"$f":"IF($T$41<>\"\",IF(G53<>\"\",G53,IF(OR($T$41=\"WWF\",$T$41=\"ORSANCO\",$T$41=\"HQ-WWF\"),Reference!H12,IF(OR($T$41=\"CWF\",$T$41=\"HQ-CWF\",$T$41=\"EV\"),Reference!I12,IF(OR($T$41=\"TSF\",$T$41=\"HQ-TSF\"),Reference!J12,\"\")))),\"\")","v":""},null,null,null,null,null,null,null,null,null,null,null,null,null,null,53]
[null,null,"Sep 16-30",null,null,null,null,null,null,null,null,{"$f":"IF(AND(OR($T$41=\"WWF\",$T$41=\"ORSANCO\"),G54>=Reference!C13),G54+1,IF(AND($T$41=\"CWF\",G54>=Reference!D13),G54+1,IF(AND($T$41=\"TSF\",G54>=Reference!E13),G54+1,\"\")))","v":""},{"$f":"IF(L54<>\"\",L54,IF(OR($T$41=\"WWF\",$T$41=\"ORSANCO\"),Reference!C13,IF($T$41=\"CWF\",Reference!D13,IF($T$41=\"TSF\",Reference!E13,\"\"))))","v":""},{"$f":"IF(OR($T$41=\"HQ-WWF\",$T$41=\"HQ-CWF\",$T$41=\"EV\",$T$41=\"HQ-TSF\"),IF(L54<>\"\",L54,IF($T$41=\"HQ-WWF\",Reference!H13+1,IF(OR($T$41=\"HQ-CWF\",$T$41=\"EV\"),Reference!I13+1,IF($T$41=\"HQ-TSF\",Reference!J13+1,\"\")))),\"\")","v":""},{"$f":"IF($T$41<>\"\",IF(G54<>\"\",G54,IF(OR($T$41=\"WWF\",$T$41=\"ORSANCO\",$T$41=\"HQ-WWF\"),Reference!H13,IF(OR($T$41=\"CWF\",$T$41=\"HQ-CWF\",$T$41=\"EV\"),Reference!I13,IF(OR($T$41=\"TSF\",$T$41=\"HQ-TSF\"),Reference!J13,\"\")))),\"\")","v":""},null,null,null,null,null,null,null,null,null,null,null,null,null,null,54]
[null,null,null,null,null,null,null,null,null,null,null,null,null,null,null,null,null,null,null,null,null,null,null,null,null,null,null,null,null,55]
[null,false,"Contributing Flow from Watershed",null,null,null,null,null,null,null,null,null,null,null,null,null,null,null,null,null,null,null,null,null,null,null,null,null,null,56]
[null,null,null,null,null,null,null,null,null,null,null,null,null,null,null,null,null,null,null,null,null,null,null,null,null,null,"Flow from upstream watershed",null,null,57]
[null,null,"Watershed Area (Outside SCM Drainage Area):",null,null,null,null,null,null,null,null,null,null,null,null,null,null,null,null,null,null,null,"acres",null,null,null,null,null,null,58]
[null,null,null,null,null,null,null,null,null,null,null,null,null,null,null,null,null,null,null,null,null,null,null,null,null,null,"CN",null,{"$f":"IF(AND(T58<>\"\",T60<>\"\"),((T58*(0.01*T60)*98)+(T58*(0.01*(100-T60))*65))/T58,\"\")","v":""},59]
[null,null,"% Impervious in Watershed Area:",null,null,null,null,null,null,null,null,null,null,null,null,null,null,null,null,null,null,null,"%",null,null,null,"Rainfall depth inches",null,{"$f":"IF(T27<>\"\",T27,\"\")","v":""},60]
[null,null,null,null,null,null,null,null,null,null,null,null,null,null,null,null,null,null,null,null,null,null,null,null,null,null,"Ia",null,{"$f":"IF(AC59<>\"\",0.2*((1000/AC59)-10),\"\")","v":""},61]
[null,null,"Total Volume of Runoff During 2-Year/24-Hour Storm:",null,null,null,null,null,null,null,null,null,null,null,null,null,null,null,null,{"$f":"IF(AC63<>\"\",AC63,\"\")","v":""},null,null,"CF",null,null,null,"Runoff depth inches",null,{"$f":"IF(AND(AC61<>\"\",AC60<>\"\"),IF(AC60-AC61>0,((AC60-AC61)^2)/(AC60+0.8*((1000/AC59)-10)),0),\"\")","v":""},62]
[null,null,null,null,null,null,null,null,null,null,null,null,null,null,null,null,null,null,null,null,null,null,null,null,null,null,"Runoff volume",null,{"$f":"IF(AND(T58<>\"\",AC62<>\"\"),T58*43560*(AC62/12),\"\")","v":""},63]
[null,null,"Average Watershed Runoff Rate:",null,null,null,null,null,null,null,null,null,null,null,null,null,null,null,null,{"$f":"IF(T62<>\"\",T62/(3600*24),\"\")","v":""},null,null,"cfs",null,null,null,{"$f":"IF(T64<>\"\",T64/1.547,0)","v":0},"MGD",null,64]
[null,null,null,null,null,null,null,null,null,null,null,null,null,null,null,null,null,null,null,null,null,null,null,null,null,null,null,null,null,65]
[null,null,"Average Watershed Runoff Temperature:",null,null,null,null,null,null,null,null,null,null,null,null,null,null,null,null,{"$f":"IF(AND(T41<>\"\",T58<>\"\",T60<>\"\",AC29<>\"\"),((VLOOKUP(AC29,Pavement!V2:'Pavement'!AB1442,7)*T58*T60*0.01)+(O50*T58*(100-T60)*0.01))/T58,\"\")","v":""},null,null,"°F",null,null,null,null,null,null,66]
[null,null,null,null,null,null,null,null,null,null,null,null,null,null,null,null,null,null,null,null,null,null,null,null,null,null,{"$f":"VLOOKUP(AC29,Pavement!V2:'Pavement'!AB1442,7)","v":{"$error":"#N/A"}},null,null,67]
[null,false,"Downstream Results",null,null,null,null,null,null,null,null,null,null,null,null,null,null,null,null,null,null,null,null,null,null,null,null,null,null,68]
[null,null,null,null,null,null,null,null,null,null,null,null,null,null,null,null,null,null,null,null,null,null,null,null,null,null,null,null,null,69]
[null,null,"Temperature Period",null,null,null,"Allowable Temperature (°F)",null,null,null,null,"Projected Temperature (°F)",null,null,null,null,null,null,null,null,null,null,null,null,null,null,null,null,null,70]
[null,null,"Jun 1-15",null,null,null,{"$f":"IF($T$41<>\"\",IF(M48<>\"\",M48,IF(OR($T$41=\"HQ-WWF\",$T$41=\"HQ-CWF\",$T$41=\"HQ-TSF\",$T$41=\"EV\"),N48)),\"\")","v":""},null,null,null,null,{"$f":"IF(AND($AA$33<>\"\",$T$35<>\"\",$AA$43<>\"\",$T$41<>\"\",$AA$64<>\"\",$T$66<>\"\"),ROUND((($AA$33*($T$35-5.1))+($AA$43*O48)+($AA$64*$T$66))/($AA$43+$AA$33+$AA$64),0),\"\")","v":""},null,null,null,null,{"$f":"IF(AND(L71<>\"\",G71<>\"\"),IF(L71>G71,\"O\",\"P\"),\"\")","v":""},null,null,null,null,null,null,null,null,null,null,null,null,71]
[null,null,"Jun 16-30",null,null,null,{"$f":"IF($T$41<>\"\",IF(M49<>\"\",M49,IF(OR($T$41=\"HQ-WWF\",$T$41=\"HQ-CWF\",$T$41=\"HQ-TSF\",$T$41=\"EV\"),N49)),\"\")","v":""},null,null,null,null,{"$f":"IF(AND($AA$33<>\"\",$T$35<>\"\",$AA$43<>\"\",$T$41<>\"\",$AA$64<>\"\",$T$66<>\"\"),ROUND((($AA$33*($T$35-5.1))+($AA$43*O49)+($AA$64*$T$66))/($AA$43+$AA$33+$AA$64),0),\"\")","v":""},null,null,null,null,{"$f":"IF(AND(L72<>\"\",G72<>\"\"),IF(L72>G72,\"O\",\"P\"),\"\")","v":""},null,null,null,null,null,null,null,null,null,null,null,null,72]
[null,null,"Jul 1-31",null,null,null,"",null,null,null,null,{"$f":"IF(AND($AA$33<>\"\",$T$35<>\"\",$AA$43<>\"\",$T$41<>\"\",$AA$64<>\"\",$T$66<>\"\"),ROUND((($AA$33*$T$35)+($AA$43*O50)+($AA$64*$T$66))/($AA$43+$AA$33+$AA$64),0),\"\")","v":""},null,null,null,null,"",null,null,null,null,null,null,null,null,null,null,null,null,73]
[null,null,"Aug 1-15",null,null,null,"",null,null,null,null,{"$f":"IF(AND($AA$33<>\"\",$T$35<>\"\",$AA$43<>\"\",$T$41<>\"\",$AA$64<>\"\",$T$66<>\"\"),ROUND((($AA$33*($T$35-2.9))+($AA$43*O51)+($AA$64*$T$66))/($AA$43+$AA$33+$AA$64),0),\"\")","v":""},null,null,null,null,"",null,null,null,null,null,null,null,null,null,null,null,null,74]
[null,null,"Aug 16-31",null,null,null,"",null,null,null,null,{"$f":"IF(AND($AA$33<>\"\",$T$35<>\"\",$AA$43<>\"\",$T$41<>\"\",$AA$64<>\"\",$T$66<>\"\"),ROUND((($AA$33*($T$35-2.9))+($AA$43*O52)+($AA$64*$T$66))/($AA$43+$AA$33+$AA$64),0),\"\")","v":""},null,null,null,null,"",null,null,null,null,null,null,null,null,null,null,null,null,75]
[null,null,"Sep 1-15",null,null,null,"",null,null,null,null,{"$f":"IF(AND($AA$33<>\"\",$T$35<>\"\",$AA$43<>\"\",$T$41<>\"\",$AA$64<>\"\",$T$66<>\"\"),ROUND((($AA$33*($T$35-8.1))+($AA$43*O53)+($AA$64*$T$66))/($AA$43+$AA$33+$AA$64),0),\"\")","v":""},null,null,null,null,"",null,null,null,null,null,null,null,null,null,null,null,null,76]
[null,null,"Sep 16-30",null,null,null,"",null,null,null,null,{"$f":"IF(AND($AA$33<>\"\",$T$35<>\"\",$AA$43<>\"\",$T$41<>\"\",$AA$64<>\"\",$T$66<>\"\"),ROUND((($AA$33*($T$35-8.1))+($AA$43*O54)+($AA$64*$T$66))/($AA$43+$AA$33+$AA$64),0),\"\")","v":""},null,null,null,null,"",null,null,null,null,null,null,null,null,null,null,null,null,77]
[null,null,null,null,null,null,null,null,null,null,null,null,null,null,null,null,null,null,null,null,null,null,null,null,null,null,null,null,null,78]
[null,"Undetained Impervious Area:",null,null,null,null,null,null,null,null,null,null,null,null,null,null,null,null,null,null,null,null,"acres",null,null,null,{"$f":"IF(AND(T79<>\"\",T81<>\"\"),\"Y\",\"\")","v":""},null,null,79]
[null,null,null,null,null,null,null,null,null,null,null,null,null,null,null,null,null,null,null,null,null,null,null,null,null,null,null,null,null,80]
[null,"Total Drainage Area of Surface Water at Undetained Impervious:",null,null,null,null,null,null,null,null,null,null,null,null,null,null,null,null,null,null,null,null,"acres",null,null,null,{"$f":"IF(AND(T79<>\"\",T81<>\"\"),T81-T79,\"\")","v":""},null,null,81]
[null,null,null,null,null,null,null,null,null,null,null,null,null,null,null,null,null,null,null,null,null,null,null,null,null,null,null,null,null,82]
[null,"Ratio of Undetained Impervious Area : Surface Water Drainage Area:",null,null,null,null,null,null,null,null,null,null,null,null,null,null,null,null,null,{"$f":"IF(AND(T79<>\"\",T81<>\"\"),(T79/T81)*100,\"\")","v":""},null,null,"%",null,null,null,null,null,null,83]
[null,null,null,null,null,null,null,null,null,null,null,null,null,null,null,null,null,null,null,null,null,null,null,null,null,null,null,null,null,84]
[null,{"$f":"CONCATENATE(\"A thermal analysis is\",IF(T83>10,\"\",\" not\"),\" required because the ratio\",IF(T83>10,\" exceeds\",\" is less than or equal to\"),\" 10%.\")","v":"A thermal analysis is required because the ratio exceeds 10%."},null,null,null,null,null,null,null,null,null,null,null,null,null,null,null,null,null,null,null,null,null,null,null,null,null,null,null,85]
[null,null,null,null,null,null,null,null,null,null,null,null,null,null,null,null,null,null,null,null,null,null,null,null,null,null,null,null,null,86]
[null,false,"Impervious Information",null,null,null,null,null,null,null,null,null,null,null,null,null,null,null,null,null,null,null,null,null,null,null,null,null,null,87]
[null,null,null,null,null,null,null,null,null,null,null,null,null,null,null,null,null,null,null,null,null,null,null,null,null,null,null,null,null,88]
[null,null,"2-Year/24-Hour Storm Precipitation Depth:",null,null,null,null,null,null,null,null,null,null,null,null,null,null,null,null,null,null,null,"inches",null,null,null,"CN",null,98,89]
[null,null,null,null,null,null,null,null,null,null,null,null,null,null,null,null,null,null,null,null,null,null,null,null,null,null,"Rainfall depth inches",null,{"$f":"IF(T89<>\"\",T89,\"\")","v":""},90]
[null,null,"Total Volume of Runoff During 2-Year/24-Hour Storm:",null,null,null,null,null,null,null,null,null,null,null,null,null,null,null,null,{"$f":"IF(AC93<>\"\",AC93,\"\")","v":""},null,null,"CF",null,null,null,"Ia",null,{"$f":"IF(AC89<>\"\",0.2*((1000/AC89)-10),\"\")","v":4.0816326530612207E-2},91]
[null,null,null,null,null,null,null,null,null,null,null,null,null,null,null,null,null,null,null,null,null,null,null,null,null,null,"Runoff depth inches",null,{"$f":"IF(AND(AC91<>\"\",AC90<>\"\"),IF(AC90-AC91>0,((AC90-AC91)^2)/(AC90+0.8*((1000/AC89)-10)),0),\"\")","v":""},92]
[null,null,"Average Impervious Area Runoff Rate:",null,null,null,null,null,null,null,null,null,null,null,null,null,null,null,null,{"$f":"IF(T91<>\"\",T91/86400,\"\")","v":""},null,null,"cfs",null,null,null,"Runoff volume",null,{"$f":"IF(AND(T79<>\"\",AC92<>\"\"),T79*43560*(AC92/12),\"\")","v":""},93]
[null,null,null,null,null,null,null,null,null,null,null,null,null,null,null,null,null,null,null,null,null,null,null,null,null,null,{"$f":"IF(T93<>\"\",T93/1.547,0)","v":0},"MGD",null,94]
[null,null,"Average Impervious Runoff Temperature During Storm:",null,null,null,null,null,null,null,null,null,null,null,null,null,null,null,null,{"$f":"VLOOKUP(1440,Pavement!V2:'Pavement'!AB1442,7)","v":{"$error":"#VALUE!"}},null,null,"°F",null,null,null,null,null,null,95]
[null,null,null,null,null,null,null,null,null,null,null,null,null,null,null,null,null,null,null,null,null,null,null,null,null,null,null,null,null,96]
[null,false,"Surface Water Information",null,null,null,null,null,null,null,null,null,null,null,null,null,null,null,null,null,null,null,null,null,null,null,null,null,null,97]
[null,null,null,null,null,null,null,null,null,null,null,null,null,null,null,null,null,null,null,null,null,null,null,null,null,null,null,null,null,98]
[null,null,"Surface Water Name:",null,null,null,null,null,null,null,null,null,null,null,null,null,null,null,null,null,null,null,null,null,null,null,null,null,null,99]
[null,null,null,null,null,null,null,null,null,null,null,null,null,null,null,null,null,null,null,null,null,null,null,null,null,null,null,null,null,100]
[null,null,"Chapter 93 Classification:"]
[]
[null,null,"Surface Water Q7-10 Flow:",null,null,null,null,null,null,null,null,null,null,null,null,null,null,null,null,null,null,null,"cfs",null,null,null,{"$f":"IF(T103<>\"\",T103/1.547,0)","v":0},"MGD"]
[]
[null,null,"Site-Specific Ambient Temperature Data are Available:"]
[]
[null,null,"Temperature Period",null,null,null,"Ambient Temperature (°F)"]
[null,null,"Jun 1-15",null,null,null,null,null,null,null,null,{"$f":"IF(AND(OR($T$101=\"WWF\",$T$101=\"ORSANCO\"),G108>=Reference!C7),G108+1,IF(AND($T$101=\"CWF\",G108>=Reference!D7),G108+1,IF(AND($T$101=\"TSF\",G108>=Reference!E7),G108+1,\"\")))","v":""},{"$f":"IF(L108<>\"\",L108,IF(OR($T$101=\"WWF\",$T$101=\"ORSANCO\"),Reference!C7,IF($T$101=\"CWF\",Reference!D7,IF($T$101=\"TSF\",Reference!E7,\"\"))))","v":""},{"$f":"IF(OR($T$101=\"HQ-WWF\",$T$101=\"HQ-CWF\",$T$101=\"EV\",$T$101=\"HQ-TSF\"),IF(L108<>\"\",L108,IF($T$101=\"HQ-WWF\",Reference!H7+1,IF(OR($T$101=\"HQ-CWF\",$T$101=\"EV\"),Reference!I7+1,IF($T$101=\"HQ-TSF\",Reference!J7+1,\"\")))),\"\")","v":""},{"$f":"IF($T$101<>\"\",IF(G108<>\"\",G108,IF(OR($T$101=\"WWF\",$T$101=\"ORSANCO\",$T$101=\"HQ-WWF\"),Reference!H7,IF(OR($T$101=\"CWF\",$T$101=\"HQ-CWF\",$T$101=\"EV\"),Reference!I7,IF(OR($T$101=\"TSF\",$T$101=\"HQ-TSF\"),Reference!J7,\"\")))),\"\")","v":""}]
[null,null,"Jun 16-30",null,null,null,null,null,null,null,null,{"$f":"IF(AND(OR($T$101=\"WWF\",$T$101=\"ORSANCO\"),G109>=Reference!C8),G109+1,IF(AND($T$101=\"CWF\",G109>=Reference!D8),G109+1,IF(AND($T$101=\"TSF\",G109>=Reference!E8),G109+1,\"\")))","v":""},{"$f":"IF(L109<>\"\",L109,IF(OR($T$101=\"WWF\",$T$101=\"ORSANCO\"),Reference!C8,IF($T$101=\"CWF\",Reference!D8,IF($T$101=\"TSF\",Reference!E8,\"\"))))","v":""},{"$f":"IF(OR($T$101=\"HQ-WWF\",$T$101=\"HQ-CWF\",$T$101=\"EV\",$T$101=\"HQ-TSF\"),IF(L109<>\"\",L109,IF($T$101=\"HQ-WWF\",Reference!H8+1,IF(OR($T$101=\"HQ-CWF\",$T$101=\"EV\"),Reference!I8+1,IF($T$101=\"HQ-TSF\",Reference!J8+1,\"\")))),\"\")","v":""},{"$f":"IF($T$101<>\"\",IF(G109<>\"\",G109,IF(OR($T$101=\"WWF\",$T$101=\"ORSANCO\",$T$101=\"HQ-WWF\"),Reference!H8,IF(OR($T$101=\"CWF\",$T$101=\"HQ-CWF\",$T$101=\"EV\"),Reference!I8,IF(OR($T$101=\"TSF\",$T$101=\"HQ-TSF\"),Reference!J8,\"\")))),\"\")","v":""}]
[null,null,"Jul 1-31",null,null,null,null,null,null,null,null,{"$f":"IF(AND(OR($T$101=\"WWF\",$T$101=\"ORSANCO\"),G110>=Reference!C9),G110+1,IF(AND($T$101=\"CWF\",G110>=Reference!D9),G110+1,IF(AND($T$101=\"TSF\",G110>=Reference!E9),G110+1,\"\")))","v":""},{"$f":"IF(L110<>\"\",L110,IF(OR($T$101=\"WWF\",$T$101=\"ORSANCO\"),Reference!C9,IF($T$101=\"CWF\",Reference!D9,IF($T$101=\"TSF\",Reference!E9,\"\"))))","v":""},{"$f":"IF(OR($T$101=\"HQ-WWF\",$T$101=\"HQ-CWF\",$T$101=\"EV\",$T$101=\"HQ-TSF\"),IF(L110<>\"\",L110,IF($T$101=\"HQ-WWF\",Reference!H9+1,IF(OR($T$101=\"HQ-CWF\",$T$101=\"EV\"),Reference!I9+1,IF($T$101=\"HQ-TSF\",Reference!J9+1,\"\")))),\"\")","v":""},{"$f":"IF($T$101<>\"\",IF(G110<>\"\",G110,IF(OR($T$101=\"WWF\",$T$101=\"ORSANCO\",$T$101=\"HQ-WWF\"),Reference!H9,IF(OR($T$101=\"CWF\",$T$101=\"HQ-CWF\",$T$101=\"EV\"),Reference!I9,IF(OR($T$101=\"TSF\",$T$101=\"HQ-TSF\"),Reference!J9,\"\")))),\"\")","v":""}]
[null,null,"Aug 1-15",null,null,null,null,null,null,null,null,{"$f":"IF(AND(OR($T$101=\"WWF\",$T$101=\"ORSANCO\"),G111>=Reference!C10),G111+1,IF(AND($T$101=\"CWF\",G111>=Reference!D10),G111+1,IF(AND($T$101=\"TSF\",G111>=Reference!E10),G111+1,\"\")))","v":""},{"$f":"IF(L111<>\"\",L111,IF(OR($T$101=\"WWF\",$T$101=\"ORSANCO\"),Reference!C10,IF($T$101=\"CWF\",Reference!D10,IF($T$101=\"TSF\",Reference!E10,\"\"))))","v":""},{"$f":"IF(OR($T$101=\"HQ-WWF\",$T$101=\"HQ-CWF\",$T$101=\"EV\",$T$101=\"HQ-TSF\"),IF(L111<>\"\",L111,IF($T$101=\"HQ-WWF\",Reference!H10+1,IF(OR($T$101=\"HQ-CWF\",$T$101=\"EV\"),Reference!I10+1,IF($T$101=\"HQ-TSF\",Reference!J10+1,\"\")))),\"\")","v":""},{"$f":"IF($T$101<>\"\",IF(G111<>\"\",G111,IF(OR($T$101=\"WWF\",$T$101=\"ORSANCO\",$T$101=\"HQ-WWF\"),Reference!H10,IF(OR($T$101=\"CWF\",$T$101=\"HQ-CWF\",$T$101=\"EV\"),Reference!I10,IF(OR($T$101=\"TSF\",$T$101=\"HQ-TSF\"),Reference!J10,\"\")))),\"\")","v":""}]
[null,null,"Aug 16-31",null,null,null,null,null,null,null,null,{"$f":"IF(AND(OR($T$101=\"WWF\",$T$101=\"ORSANCO\"),G112>=Reference!C11),G112+1,IF(AND($T$101=\"CWF\",G112>=Reference!D11),G112+1,IF(AND($T$101=\"TSF\",G112>=Reference!E11),G112+1,\"\")))","v":""},{"$f":"IF(L112<>\"\",L112,IF(OR($T$101=\"WWF\",$T$101=\"ORSANCO\"),Reference!C11,IF($T$101=\"CWF\",Reference!D11,IF($T$101=\"TSF\",Reference!E11,\"\"))))","v":""},{"$f":"IF(OR($T$101=\"HQ-WWF\",$T$101=\"HQ-CWF\",$T$101=\"EV\",$T$101=\"HQ-TSF\"),IF(L112<>\"\",L112,IF($T$101=\"HQ-WWF\",Reference!H11+1,IF(OR($T$101=\"HQ-CWF\",$T$101=\"EV\"),Reference!I11+1,IF($T$101=\"HQ-TSF\",Reference!J11+1,\"\")))),\"\")","v":""},{"$f":"IF($T$101<>\"\",IF(G112<>\"\",G112,IF(OR($T$101=\"WWF\",$T$101=\"ORSANCO\",$T$101=\"HQ-WWF\"),Reference!H11,IF(OR($T$101=\"CWF\",$T$101=\"HQ-CWF\",$T$101=\"EV\"),Reference!I11,IF(OR($T$101=\"TSF\",$T$101=\"HQ-TSF\"),Reference!J11,\"\")))),\"\")","v":""}]
[null,null,"Sep 1-15",null,null,null,null,null,null,null,null,{"$f":"IF(AND(OR($T$101=\"WWF\",$T$101=\"ORSANCO\"),G113>=Reference!C12),G113+1,IF(AND($T$101=\"CWF\",G113>=Reference!D12),G113+1,IF(AND($T$101=\"TSF\",G113>=Reference!E12),G113+1,\"\")))","v":""},{"$f":"IF(L113<>\"\",L113,IF(OR($T$101=\"WWF\",$T$101=\"ORSANCO\"),Reference!C12,IF($T$101=\"CWF\",Reference!D12,IF($T$101=\"TSF\",Reference!E12,\"\"))))","v":""},{"$f":"IF(OR($T$101=\"HQ-WWF\",$T$101=\"HQ-CWF\",$T$101=\"EV\",$T$101=\"HQ-TSF\"),IF(L113<>\"\",L113,IF($T$101=\"HQ-WWF\",Reference!H12+1,IF(OR($T$101=\"HQ-CWF\",$T$101=\"EV\"),Reference!I12+1,IF($T$101=\"HQ-TSF\",Reference!J12+1,\"\")))),\"\")","v":""},{"$f":"IF($T$101<>\"\",IF(G113<>\"\",G113,IF(OR($T$101=\"WWF\",$T$101=\"ORSANCO\",$T$101=\"HQ-WWF\"),Reference!H12,IF(OR($T$101=\"CWF\",$T$101=\"HQ-CWF\",$T$101=\"EV\"),Reference!I12,IF(OR($T$101=\"TSF\",$T$101=\"HQ-TSF\"),Reference!J12,\"\")))),\"\")","v":""}]
[null,null,"Sep 16-30",null,null,null,null,null,null,null,null,{"$f":"IF(AND(OR($T$101=\"WWF\",$T$101=\"ORSANCO\"),G114>=Reference!C13),G114+1,IF(AND($T$101=\"CWF\",G114>=Reference!D13),G114+1,IF(AND($T$101=\"TSF\",G114>=Reference!E13),G114+1,\"\")))","v":""},{"$f":"IF(L114<>\"\",L114,IF(OR($T$101=\"WWF\",$T$101=\"ORSANCO\"),Reference!C13,IF($T$101=\"CWF\",Reference!D13,IF($T$101=\"TSF\",Reference!E13,\"\"))))","v":""},{"$f":"IF(OR($T$101=\"HQ-WWF\",$T$101=\"HQ-CWF\",$T$101=\"EV\",$T$101=\"HQ-TSF\"),IF(L114<>\"\",L114,IF($T$101=\"HQ-WWF\",Reference!H13+1,IF(OR($T$101=\"HQ-CWF\",$T$101=\"EV\"),Reference!I13+1,IF($T$101=\"HQ-TSF\",Reference!J13+1,\"\")))),\"\")","v":""},{"$f":"IF($T$101<>\"\",IF(G114<>\"\",G114,IF(OR($T$101=\"WWF\",$T$101=\"ORSANCO\",$T$101=\"HQ-WWF\"),Reference!H13,IF(OR($T$101=\"CWF\",$T$101=\"HQ-CWF\",$T$101=\"EV\"),Reference!I13,IF(OR($T$101=\"TSF\",$T$101=\"HQ-TSF\"),Reference!J13,\"\")))),\"\")","v":""}]
[]
[null,false,"Contributing Flow from Watershed"]
[]
[null,null,"% Impervious in Watershed Area:",null,null,null,null,null,null,null,null,null,null,null,null,null,null,null,null,null,null,null,"%",null,null,null,"Flow from upstream watershed"]
[]
[null,null,"Total Volume of Runoff During 2-Year/24-Hour Storm:",null,null,null,null,null,null,null,null,null,null,null,null,null,null,null,null,{"$f":"IF(AC124<>\"\",AC124,\"\")","v":""},null,null,"CF",null,null,null,"CN",null,{"$f":"IF(AND(AA81<>\"\",T118<>\"\"),((AA81*(0.01*T118)*98)+(AA81*(0.01*(100-T118))*65))/AA81,\"\")","v":""}]
[null,null,null,null,null,null,null,null,null,null,null,null,null,null,null,null,null,null,null,null,null,null,null,null,null,null,"Rainfall depth inches",null,{"$f":"IF(T89<>\"\",T89,\"\")","v":""}]
[null,null,"Average Watershed Runoff Rate:",null,null,null,null,null,null,null,null,null,null,null,null,null,null,null,null,{"$f":"IF(T120<>\"\",T120/(3600*24),\"\")","v":""},null,null,"cfs",null,null,null,"Ia",null,{"$f":"IF(AC120<>\"\",0.2*((1000/AC120)-10),\"\")","v":""}]
[null,null,null,null,null,null,null,null,null,null,null,null,null,null,null,null,null,null,null,null,null,null,null,null,null,null,"Runoff depth inches",null,{"$f":"IF(AND(AC122<>\"\",AC121<>\"\"),IF(AC121-AC122>0,((AC121-AC122)^2)/(AC121+0.8*((1000/AC120)-10)),0),\"\")","v":""}]
[null,null,"Average Runoff Temperature During Storm:",null,null,null,null,null,null,null,null,null,null,null,null,null,null,null,null,{"$f":"IF(AND(AA81<>\"\",T118<>\"\"),((VLOOKUP(1440,Pavement!V2:'Pavement'!AB1442,7)*AA81*T118*0.01)+(O110*AA81*(100-T118)*0.01))/AA81,\"\")","v":""},null,null,"°F",null,null,null,"Runoff volume",null,{"$f":"IF(AND(AA81<>\"\",AC123<>\"\"),AA81*43560*(AC123/12),\"\")","v":""}]
[null,null,null,null,null,null,null,null,null,null,null,null,null,null,null,null,null,null,null,null,null,null,null,null,null,null,{"$f":"IF(T122<>\"\",T122/1.547,0)","v":0},"MGD"]
[null,false,"Downstream Results"]
[]
[null,null,"Temperature Period",null,null,null,"Allowable Temperature (°F)",null,null,null,null,"Projected Temperature (°F)"]
[null,null,"Jun 1-15",null,null,null,{"$f":"IF($T$101<>\"\",IF(M108<>\"\",M108,IF(OR($T$101=\"HQ-WWF\",$T$101=\"HQ-CWF\",$T$101=\"HQ-TSF\",$T$101=\"EV\"),N108)),\"\")","v":""},null,null,null,null,{"$f":"IF(AND($AA$94<>\"\",$T$95<>\"\",$AA$103<>\"\",$T$101<>\"\",$AA$125<>\"\",$T$124<>\"\"),ROUND((($AA$94*$T$95)+($AA$103*O108)+($AA$125*$T$124))/($AA$103+$AA$94+$AA$125),0),\"\")","v":{"$error":"#VALUE!"}},null,null,null,null,{"$f":"IF(AND(L129<>\"\",G129<>\"\"),IF(L129>G129,\"O\",\"P\"),\"\")","v":{"$error":"#VALUE!"}}]
[null,null,"Jun 16-30",null,null,null,{"$f":"IF($T$101<>\"\",IF(M109<>\"\",M109,IF(OR($T$101=\"HQ-WWF\",$T$101=\"HQ-CWF\",$T$101=\"HQ-TSF\",$T$101=\"EV\"),N109)),\"\")","v":""},null,null,null,null,{"$f":"IF(AND($AA$94<>\"\",$T$95<>\"\",$AA$103<>\"\",$T$101<>\"\",$AA$125<>\"\",$T$124<>\"\"),ROUND((($AA$94*$T$95)+($AA$103*O109)+($AA$125*$T$124))/($AA$103+$AA$94+$AA$125),0),\"\")","v":{"$error":"#VALUE!"}},null,null,null,null,{"$f":"IF(AND(L130<>\"\",G130<>\"\"),IF(L130>G130,\"O\",\"P\"),\"\")","v":{"$error":"#VALUE!"}}]
[null,null,"Jul 1-31",null,null,null,"",null,null,null,null,{"$error":"#VALUE!"},null,null,null,null,{"$error":"#VALUE!"}]
[null,null,"Aug 1-15",null,null,null,"",null,null,null,null,{"$error":"#VALUE!"},null,null,null,null,{"$error":"#VALUE!"}]
[null,null,"Aug 16-31",null,null,null,"",null,null,null,null,{"$error":"#VALUE!"},null,null,null,null,{"$error":"#VALUE!"}]
[null,null,"Sep 1-15",null,null,null,"",null,null,null,null,{"$error":"#VALUE!"},null,null,null,null,{"$error":"#VALUE!"}]
[null,null,"Sep 16-30",null,null,null,"",null,null,null,null,{"$error":"#VALUE!"},null,null,null,null,{"$error":"#VALUE!"}]

{"sheet":"Pavement","index":1,"n_rows":1444,"n_cols":44,"rows_kept":1444,"cut":false,"hidden":true,"merged":[[27,9,27,11],[28,9,28,11],[29,9,29,11],[18,9,18,11],[19,9,19,11],[20,9,20,11],[25,9,25,11],[24,9,24,11],[1,12,1,14],[2,12,2,14],[3,12,3,14],[4,12,4,14],[6,12,6,14],[7,12,7,14],[14,9,14,11],[15,9,15,11],[13,9,13,11],[23,9,23,11],[16,9,16,11],[17,9,17,11]]}
["Reference: James and Verspagen, Thermal Enrichment of Stormwater by Urban Pavement, 1997, Journal of Water Management Modeling",null,null,null,null,null,null,null,null,null,null,null,null,null,null,null,null,null,null,null,null,"Surface Runoff Temperature °C by time increment (Tsr) = A*ln(t)+B+error",null,null,null,null,null,null,null,null,null,"Combined Temp in Stream by minute °F",null,null,null,null,null,null,null,"Does combined temp reach ambient temp in 24 hours",null,null,"Does combined temp reach criteria in 24 hours"]
["TRunoff °C (Tir)",null,null,null,null,null,null,null,null,null,null,null,26.7,null,null,null,null,null,null,null,null,"Time, min (t)","ΔTsr","Avg ΔTsr",null,"Final Runoff Temp °C","Final Runoff Temp °F","Rolling Avg","Peak Temperature °F",null,null," Jun  1-15"," Jun 16-30"," Jul  1-31"," Aug  1-15"," Aug 16-31"," Sep  1-15"," Sep 16-30",null,"Time period",null,null,"Time period"]
["TAsphalt °C (Tis)",null,null,null,null,null,null,null,null,null,null,null,60,null,null,null,null,null,null,null,null,1,{"$f":"IF(($M$7*LN(V3))+$M$8+$M$10>0,($M$7*LN(V3))+$M$8+$M$10,0)","v":{"$error":"#VALUE!"}},{"$f":"AVERAGE($W$3:W3)","v":{"$error":"#VALUE!"}},null,{"$f":"$M$2+W3","v":{"$error":"#VALUE!"}},{"$f":"(Z3*(9/5))+32","v":{"$error":"#VALUE!"}},{"$f":"AVERAGE($AA$3:AA3)","v":{"$error":"#VALUE!"}},{"$f":"MAX(AA3:AA1442)","v":{"$error":"#VALUE!"}},null,null,{"$f":"((AA3*#REF!)+(#REF!*#REF!)+(#REF!*#REF!))/(#REF!+#REF!+#REF!)","v":{"$error":"#VALUE!"}},{"$f":"((AA3*#REF!)+(#REF!*#REF!)+(#REF!*#REF!))/(#REF!+#REF!+#REF!)","v":{"$error":"#VALUE!"}},{"$f":"((AA3*#REF!)+(#REF!*#REF!)+(#REF!*#REF!))/(#REF!+#REF!+#REF!)","v":{"$error":"#VALUE!"}},{"$f":"((AA3*#REF!)+(#REF!*#REF!)+(#REF!*#REF!))/(#REF!+#REF!+#REF!)","v":{"$error":"#VALUE!"}},{"$f":"((AA3*#REF!)+(#REF!*#REF!)+(#REF!*#REF!))/(#REF!+#REF!+#REF!)","v":{"$error":"#VALUE!"}},{"$f":"((AA3*#REF!)+(#REF!*#REF!)+(#REF!*#REF!))/(#REF!+#REF!+#REF!)","v":{"$error":"#VALUE!"}},{"$f":"((AA3*#REF!)+(#REF!*#REF!)+(#REF!*#REF!))/(#REF!+#REF!+#REF!)","v":{"$error":"#VALUE!"}},null," Jun  1-15",{"$f":"IF(AF1442<=#REF!,\"Yes\",\"No\")","v":{"$error":"#VALUE!"}},null," Jun  1-15",{"$f":"IF(AF1442<=#REF!,\"Yes\",\"No\")","v":{"$error":"#VALUE!"}}]
["Thermal conductivity asphalt (kW/(m-°C)) (ks)",null,null,null,null,null,null,null,null,null,null,null,1.4499999999999999E-3,null,null,null,null,null,null,null,null,2,{"$f":"IF(($M$7*LN(V4))+$M$8+$M$10>0,($M$7*LN(V4))+$M$8+$M$10,0)","v":{"$error":"#VALUE!"}},{"$f":"AVERAGE($W$3:W4)","v":{"$error":"#VALUE!"}},null,{"$f":"$M$2+W4","v":{"$error":"#VALUE!"}},{"$f":"(Z4*(9/5))+32","v":{"$error":"#VALUE!"}},{"$f":"AVERAGE($AA$3:AA4)","v":{"$error":"#VALUE!"}},null,null,null,{"$f":"((AA4*#REF!)+(#REF!*#REF!)+(#REF!*#REF!))/(#REF!+#REF!+#REF!)","v":{"$error":"#VALUE!"}},{"$f":"((AA4*#REF!)+(#REF!*#REF!)+(#REF!*#REF!))/(#REF!+#REF!+#REF!)","v":{"$error":"#VALUE!"}},{"$f":"((AA4*#REF!)+(#REF!*#REF!)+(#REF!*#REF!))/(#REF!+#REF!+#REF!)","v":{"$error":"#VALUE!"}},{"$f":"((AA4*#REF!)+(#REF!*#REF!)+(#REF!*#REF!))/(#REF!+#REF!+#REF!)","v":{"$error":"#VALUE!"}},{"$f":"((AA4*#REF!)+(#REF!*#REF!)+(#REF!*#REF!))/(#REF!+#REF!+#REF!)","v":{"$error":"#VALUE!"}},{"$f":"((AA4*#REF!)+(#REF!*#REF!)+(#REF!*#REF!))/(#REF!+#REF!+#REF!)","v":{"$error":"#VALUE!"}},{"$f":"((AA4*#REF!)+(#REF!*#REF!)+(#REF!*#REF!))/(#REF!+#REF!+#REF!)","v":{"$error":"#VALUE!"}},null," Jun 16-30",{"$f":"IF(AG1442<=#REF!,\"Yes\",\"No\")","v":{"$error":"#VALUE!"}},null," Jun 16-30",{"$f":"IF(AG1442<=#REF!,\"Yes\",\"No\")","v":{"$error":"#VALUE!"}}]
["Rainfall intensity for 2-yr/24-hr storm (mm/hr) (i)",null,null,null,null,null,null,null,null,null,null,null,{"$f":"IF('Thermal Analysis'!AA13<>\"\",IF(OR('Thermal Analysis'!AA13=1,'Thermal Analysis'!AA13=2),('Thermal Analysis'!T27*25.4)/24,IF('Thermal Analysis'!AA13=3,('Thermal Analysis'!T89*25.4)/24)),\"\")","v":""},null,null,null,null,null,null,null,null,3,{"$f":"IF(($M$7*LN(V5))+$M$8+$M$10>0,($M$7*LN(V5))+$M$8+$M$10,0)","v":{"$error":"#VALUE!"}},{"$f":"AVERAGE($W$3:W5)","v":{"$error":"#VALUE!"}},null,{"$error":"#VALUE!"},{"$error":"#VALUE!"},{"$f":"AVERAGE($AA$3:AA5)","v":{"$error":"#VALUE!"}},"24-hour Average Temperature °F",null,null,{"$f":"((AA5*#REF!)+(#REF!*#REF!)+(#REF!*#REF!))/(#REF!+#REF!+#REF!)","v":{"$error":"#VALUE!"}},{"$f":"((AA5*#REF!)+(#REF!*#REF!)+(#REF!*#REF!))/(#REF!+#REF!+#REF!)","v":{"$error":"#VALUE!"}},{"$f":"((AA5*#REF!)+(#REF!*#REF!)+(#REF!*#REF!))/(#REF!+#REF!+#REF!)","v":{"$error":"#VALUE!"}},{"$f":"((AA5*#REF!)+(#REF!*#REF!)+(#REF!*#REF!))/(#REF!+#REF!+#REF!)","v":{"$error":"#VALUE!"}},{"$f":"((AA5*#REF!)+(#REF!*#REF!)+(#REF!*#REF!))/(#REF!+#REF!+#REF!)","v":{"$error":"#VALUE!"}},{"$f":"((AA5*#REF!)+(#REF!*#REF!)+(#REF!*#REF!))/(#REF!+#REF!+#REF!)","v":{"$error":"#VALUE!"}},{"$f":"((AA5*#REF!)+(#REF!*#REF!)+(#REF!*#REF!))/(#REF!+#REF!+#REF!)","v":{"$error":"#VALUE!"}},null," Jul  1-31",{"$f":"IF(AH1442<=#REF!,\"Yes\",\"No\")","v":{"$error":"#VALUE!"}},null," Jul  1-31",{"$f":"IF(AH1442<=#REF!,\"Yes\",\"No\")","v":{"$error":"#VALUE!"}}]
[null,null,null,null,null,null,null,null,null,null,null,null,null,null,null,null,null,null,null,null,null,4,{"$f":"IF(($M$7*LN(V6))+$M$8+$M$10>0,($M$7*LN(V6))+$M$8+$M$10,0)","v":{"$error":"#VALUE!"}},{"$f":"AVERAGE($W$3:W6)","v":{"$error":"#VALUE!"}},null,{"$error":"#VALUE!"},{"$error":"#VALUE!"},{"$f":"AVERAGE($AA$3:AA6)","v":{"$error":"#VALUE!"}},{"$f":"AVERAGE(AA3:AA1442)","v":{"$error":"#VALUE!"}},null,null,{"$f":"((AA6*#REF!)+(#REF!*#REF!)+(#REF!*#REF!))/(#REF!+#REF!+#REF!)","v":{"$error":"#VALUE!"}},{"$f":"((AA6*#REF!)+(#REF!*#REF!)+(#REF!*#REF!))/(#REF!+#REF!+#REF!)","v":{"$error":"#VALUE!"}},{"$f":"((AA6*#REF!)+(#REF!*#REF!)+(#REF!*#REF!))/(#REF!+#REF!+#REF!)","v":{"$error":"#VALUE!"}},{"$f":"((AA6*#REF!)+(#REF!*#REF!)+(#REF!*#REF!))/(#REF!+#REF!+#REF!)","v":{"$error":"#VALUE!"}},{"$f":"((AA6*#REF!)+(#REF!*#REF!)+(#REF!*#REF!))/(#REF!+#REF!+#REF!)","v":{"$error":"#VALUE!"}},{"$f":"((AA6*#REF!)+(#REF!*#REF!)+(#REF!*#REF!))/(#REF!+#REF!+#REF!)","v":{"$error":"#VALUE!"}},{"$f":"((AA6*#REF!)+(#REF!*#REF!)+(#REF!*#REF!))/(#REF!+#REF!+#REF!)","v":{"$error":"#VALUE!"}},null," Aug  1-15",{"$f":"IF(AI1442<=#REF!,\"Yes\",\"No\")","v":{"$error":"#VALUE!"}},null," Aug  1-15",{"$f":"IF(AI1442<=#REF!,\"Yes\",\"No\")","v":{"$error":"#VALUE!"}}]
["A = 0.0047i - 5.18ks - 0.13Tis + 0.15Tir - 1.55",null,null,null,null,null,null,null,null,null,null,null,{"$f":"(0.0047*M5)-(5.18*M4)-(0.13*M3)+(0.15*M2)-1.55","v":{"$error":"#VALUE!"}},null,null,null,null,null,null,null,null,5,{"$f":"IF(($M$7*LN(V7))+$M$8+$M$10>0,($M$7*LN(V7))+$M$8+$M$10,0)","v":{"$error":"#VALUE!"}},{"$f":"AVERAGE($W$3:W7)","v":{"$error":"#VALUE!"}},null,{"$error":"#VALUE!"},{"$error":"#VALUE!"},{"$f":"AVERAGE($AA$3:AA7)","v":{"$error":"#VALUE!"}},null,null,null,{"$f":"((AA7*#REF!)+(#REF!*#REF!)+(#REF!*#REF!))/(#REF!+#REF!+#REF!)","v":{"$error":"#VALUE!"}},{"$f":"((AA7*#REF!)+(#REF!*#REF!)+(#REF!*#REF!))/(#REF!+#REF!+#REF!)","v":{"$error":"#VALUE!"}},{"$f":"((AA7*#REF!)+(#REF!*#REF!)+(#REF!*#REF!))/(#REF!+#REF!+#REF!)","v":{"$error":"#VALUE!"}},{"$f":"((AA7*#REF!)+(#REF!*#REF!)+(#REF!*#REF!))/(#REF!+#REF!+#REF!)","v":{"$error":"#VALUE!"}},{"$f":"((AA7*#REF!)+(#REF!*#REF!)+(#REF!*#REF!))/(#REF!+#REF!+#REF!)","v":{"$error":"#VALUE!"}},{"$f":"((AA7*#REF!)+(#REF!*#REF!)+(#REF!*#REF!))/(#REF!+#REF!+#REF!)","v":{"$error":"#VALUE!"}},{"$f":"((AA7*#REF!)+(#REF!*#REF!)+(#REF!*#REF!))/(#REF!+#REF!+#REF!)","v":{"$error":"#VALUE!"}},null," Aug 16-31",{"$f":"IF(AJ1442<=#REF!,\"Yes\",\"No\")","v":{"$error":"#VALUE!"}},null," Aug 16-31",{"$f":"IF(AJ1442<=#REF!,\"Yes\",\"No\")","v":{"$error":"#VALUE!"}}]
["B = -0.0294i - 2.26Ks + 0.52Tis + 0.07Tir - 14.62",null,null,null,null,null,null,null,null,null,null,null,{"$f":"(-0.0294*M5)-(2.26*M4)+(0.52*M3)+(0.07*M2)-14.62","v":{"$error":"#VALUE!"}},null,null,null,null,null,null,null,null,6,{"$error":"#VALUE!"},{"$f":"AVERAGE($W$3:W8)","v":{"$error":"#VALUE!"}},null,{"$error":"#VALUE!"},{"$error":"#VALUE!"},{"$f":"AVERAGE($AA$3:AA8)","v":{"$error":"#VALUE!"}},"60-min Average Final Runoff Temperature °F",null,null,{"$f":"((AA8*#REF!)+(#REF!*#REF!)+(#REF!*#REF!))/(#REF!+#REF!+#REF!)","v":{"$error":"#VALUE!"}},{"$f":"((AA8*#REF!)+(#REF!*#REF!)+(#REF!*#REF!))/(#REF!+#REF!+#REF!)","v":{"$error":"#VALUE!"}},{"$f":"((AA8*#REF!)+(#REF!*#REF!)+(#REF!*#REF!))/(#REF!+#REF!+#REF!)","v":{"$error":"#VALUE!"}},{"$f":"((AA8*#REF!)+(#REF!*#REF!)+(#REF!*#REF!))/(#REF!+#REF!+#REF!)","v":{"$error":"#VALUE!"}},{"$f":"((AA8*#REF!)+(#REF!*#REF!)+(#REF!*#REF!))/(#REF!+#REF!+#REF!)","v":{"$error":"#VALUE!"}},{"$f":"((AA8*#REF!)+(#REF!*#REF!)+(#REF!*#REF!))/(#REF!+#REF!+#REF!)","v":{"$error":"#VALUE!"}},{"$f":"((AA8*#REF!)+(#REF!*#REF!)+(#REF!*#REF!))/(#REF!+#REF!+#REF!)","v":{"$error":"#VALUE!"}},null," Sep  1-15",{"$f":"IF(AK1442<=#REF!,\"Yes\",\"No\")","v":{"$error":"#VALUE!"}},null," Sep  1-15",{"$f":"IF(AK1442<=#REF!,\"Yes\",\"No\")","v":{"$error":"#VALUE!"}}]
[null,null,null,null,null,null,null,null,null,null,null,null,null,null,null,null,null,null,null,null,null,7,{"$error":"#VALUE!"},{"$f":"AVERAGE($W$3:W9)","v":{"$error":"#VALUE!"}},null,{"$error":"#VALUE!"},{"$error":"#VALUE!"},{"$f":"AVERAGE($AA$3:AA9)","v":{"$error":"#VALUE!"}},{"$f":"AVERAGE(AA3:AA62)","v":{"$error":"#VALUE!"}},null,null,{"$f":"((AA9*#REF!)+(#REF!*#REF!)+(#REF!*#REF!))/(#REF!+#REF!+#REF!)","v":{"$error":"#VALUE!"}},{"$f":"((AA9*#REF!)+(#REF!*#REF!)+(#REF!*#REF!))/(#REF!+#REF!+#REF!)","v":{"$error":"#VALUE!"}},{"$f":"((AA9*#REF!)+(#REF!*#REF!)+(#REF!*#REF!))/(#REF!+#REF!+#REF!)","v":{"$error":"#VALUE!"}},{"$f":"((AA9*#REF!)+(#REF!*#REF!)+(#REF!*#REF!))/(#REF!+#REF!+#REF!)","v":{"$error":"#VALUE!"}},{"$f":"((AA9*#REF!)+(#REF!*#REF!)+(#REF!*#REF!))/(#REF!+#REF!+#REF!)","v":{"$error":"#VALUE!"}},{"$f":"((AA9*#REF!)+(#REF!*#REF!)+(#REF!*#REF!))/(#REF!+#REF!+#REF!)","v":{"$error":"#VALUE!"}},{"$f":"((AA9*#REF!)+(#REF!*#REF!)+(#REF!*#REF!))/(#REF!+#REF!+#REF!)","v":{"$error":"#VALUE!"}},null," Sep 16-30",{"$f":"IF(AL1442<=#REF!,\"Yes\",\"No\")","v":{"$error":"#VALUE!"}},null," Sep 16-30",{"$f":"IF(AL1442<=#REF!,\"Yes\",\"No\")","v":{"$error":"#VALUE!"}}]
["Error in Experimental Data (°C)",null,null,null,null,null,null,null,null,null,null,null,0,null,null,null,null,null,null,null,null,8,{"$error":"#VALUE!"},{"$f":"AVERAGE($W$3:W10)","v":{"$error":"#VALUE!"}},null,{"$error":"#VALUE!"},{"$error":"#VALUE!"},{"$f":"AVERAGE($AA$3:AA10)","v":{"$error":"#VALUE!"}},null,null,null,{"$f":"((AA10*#REF!)+(#REF!*#REF!)+(#REF!*#REF!))/(#REF!+#REF!+#REF!)","v":{"$error":"#VALUE!"}},{"$f":"((AA10*#REF!)+(#REF!*#REF!)+(#REF!*#REF!))/(#REF!+#REF!+#REF!)","v":{"$error":"#VALUE!"}},{"$f":"((AA10*#REF!)+(#REF!*#REF!)+(#REF!*#REF!))/(#REF!+#REF!+#REF!)","v":{"$error":"#VALUE!"}},{"$f":"((AA10*#REF!)+(#REF!*#REF!)+(#REF!*#REF!))/(#REF!+#REF!+#REF!)","v":{"$error":"#VALUE!"}},{"$f":"((AA10*#REF!)+(#REF!*#REF!)+(#REF!*#REF!))/(#REF!+#REF!+#REF!)","v":{"$error":"#VALUE!"}},{"$f":"((AA10*#REF!)+(#REF!*#REF!)+(#REF!*#REF!))/(#REF!+#REF!+#REF!)","v":{"$error":"#VALUE!"}},{"$f":"((AA10*#REF!)+(#REF!*#REF!)+(#REF!*#REF!))/(#REF!+#REF!+#REF!)","v":{"$error":"#VALUE!"}}]
[null,null,null,null,null,null,null,null,null,null,null,null,null,null,null,null,null,null,null,null,null,9,{"$f":"IF(($M$7*LN(V11))+$M$8+$M$10>0,($M$7*LN(V11))+$M$8+$M$10,0)","v":{"$error":"#VALUE!"}},{"$f":"AVERAGE($W$3:W11)","v":{"$error":"#VALUE!"}},null,{"$error":"#VALUE!"},{"$error":"#VALUE!"},{"$f":"AVERAGE($AA$3:AA11)","v":{"$error":"#VALUE!"}},"Time to ΔTsr = 0",null,null,{"$f":"((AA11*#REF!)+(#REF!*#REF!)+(#REF!*#REF!))/(#REF!+#REF!+#REF!)","v":{"$error":"#VALUE!"}},{"$f":"((AA11*#REF!)+(#REF!*#REF!)+(#REF!*#REF!))/(#REF!+#REF!+#REF!)","v":{"$error":"#VALUE!"}},{"$f":"((AA11*#REF!)+(#REF!*#REF!)+(#REF!*#REF!))/(#REF!+#REF!+#REF!)","v":{"$error":"#VALUE!"}},{"$f":"((AA11*#REF!)+(#REF!*#REF!)+(#REF!*#REF!))/(#REF!+#REF!+#REF!)","v":{"$error":"#VALUE!"}},{"$f":"((AA11*#REF!)+(#REF!*#REF!)+(#REF!*#REF!))/(#REF!+#REF!+#REF!)","v":{"$error":"#VALUE!"}},{"$f":"((AA11*#REF!)+(#REF!*#REF!)+(#REF!*#REF!))/(#REF!+#REF!+#REF!)","v":{"$error":"#VALUE!"}},{"$f":"((AA11*#REF!)+(#REF!*#REF!)+(#REF!*#REF!))/(#REF!+#REF!+#REF!)","v":{"$error":"#VALUE!"}}]
["Use CN number for consistency with watershed runoff",null,null,null,null,null,null,null,null,null,null,null,null,null,null,null,null,null,null,null,null,10,{"$f":"IF(($M$7*LN(V12))+$M$8+$M$10>0,($M$7*LN(V12))+$M$8+$M$10,0)","v":{"$error":"#VALUE!"}},{"$f":"AVERAGE($W$3:W12)","v":{"$error":"#VALUE!"}},null,{"$error":"#VALUE!"},{"$error":"#VALUE!"},{"$f":"AVERAGE($AA$3:AA12)","v":{"$error":"#VALUE!"}},{"$f":"INDEX(V3:V1442,MATCH(0,W3:W1442,0))","v":{"$error":"#N/A"}},"minutes",null,{"$f":"((AA12*#REF!)+(#REF!*#REF!)+(#REF!*#REF!))/(#REF!+#REF!+#REF!)","v":{"$error":"#VALUE!"}},{"$f":"((AA12*#REF!)+(#REF!*#REF!)+(#REF!*#REF!))/(#REF!+#REF!+#REF!)","v":{"$error":"#VALUE!"}},{"$f":"((AA12*#REF!)+(#REF!*#REF!)+(#REF!*#REF!))/(#REF!+#REF!+#REF!)","v":{"$error":"#VALUE!"}},{"$f":"((AA12*#REF!)+(#REF!*#REF!)+(#REF!*#REF!))/(#REF!+#REF!+#REF!)","v":{"$error":"#VALUE!"}},{"$f":"((AA12*#REF!)+(#REF!*#REF!)+(#REF!*#REF!))/(#REF!+#REF!+#REF!)","v":{"$error":"#VALUE!"}},{"$f":"((AA12*#REF!)+(#REF!*#REF!)+(#REF!*#REF!))/(#REF!+#REF!+#REF!)","v":{"$error":"#VALUE!"}},{"$f":"((AA12*#REF!)+(#REF!*#REF!)+(#REF!*#REF!))/(#REF!+#REF!+#REF!)","v":{"$error":"#VALUE!"}},null,"60-min Average Combined Runoff Temperature °F"]
[null,null,null,null,null,null,null,null,null,null,null,null,null,null,null,null,null,null,null,null,null,11,{"$error":"#VALUE!"},{"$f":"AVERAGE($W$3:W13)","v":{"$error":"#VALUE!"}},null,{"$error":"#VALUE!"},{"$error":"#VALUE!"},{"$f":"AVERAGE($AA$3:AA13)","v":{"$error":"#VALUE!"}},{"$f":"VLOOKUP('Thermal Analysis'!AC29,AB3:AB1442,0)","v":{"$error":"#N/A"}},null,null,{"$f":"((AA13*#REF!)+(#REF!*#REF!)+(#REF!*#REF!))/(#REF!+#REF!+#REF!)","v":{"$error":"#VALUE!"}},{"$f":"((AA13*#REF!)+(#REF!*#REF!)+(#REF!*#REF!))/(#REF!+#REF!+#REF!)","v":{"$error":"#VALUE!"}},{"$f":"((AA13*#REF!)+(#REF!*#REF!)+(#REF!*#REF!))/(#REF!+#REF!+#REF!)","v":{"$error":"#VALUE!"}},{"$f":"((AA13*#REF!)+(#REF!*#REF!)+(#REF!*#REF!))/(#REF!+#REF!+#REF!)","v":{"$error":"#VALUE!"}},{"$f":"((AA13*#REF!)+(#REF!*#REF!)+(#REF!*#REF!))/(#REF!+#REF!+#REF!)","v":{"$error":"#VALUE!"}},{"$f":"((AA13*#REF!)+(#REF!*#REF!)+(#REF!*#REF!))/(#REF!+#REF!+#REF!)","v":{"$error":"#VALUE!"}},{"$f":"((AA13*#REF!)+(#REF!*#REF!)+(#REF!*#REF!))/(#REF!+#REF!+#REF!)","v":{"$error":"#VALUE!"}},null," Jun  1-15",{"$f":"AVERAGE(AF3:AF62)","v":{"$error":"#VALUE!"}}]
["CN project area (add to Inputs!)",null,null,null,null,null,null,null,null,{"$f":"IF(#REF!=\"\",98,#REF!)","v":{"$error":"#REF!"}},null,null,null,null,null,null,null,null,null,null,null,12,{"$error":"#VALUE!"},{"$f":"AVERAGE($W$3:W14)","v":{"$error":"#VALUE!"}},null,{"$error":"#VALUE!"},{"$error":"#VALUE!"},{"$f":"AVERAGE($AA$3:AA14)","v":{"$error":"#VALUE!"}},{"$f":"VLOOKUP('Thermal Analysis'!AC29,V2:AB1442,7)","v":{"$error":"#N/A"}},null,null,{"$f":"((AA14*#REF!)+(#REF!*#REF!)+(#REF!*#REF!))/(#REF!+#REF!+#REF!)","v":{"$error":"#VALUE!"}},{"$f":"((AA14*#REF!)+(#REF!*#REF!)+(#REF!*#REF!))/(#REF!+#REF!+#REF!)","v":{"$error":"#VALUE!"}},{"$f":"((AA14*#REF!)+(#REF!*#REF!)+(#REF!*#REF!))/(#REF!+#REF!+#REF!)","v":{"$error":"#VALUE!"}},{"$f":"((AA14*#REF!)+(#REF!*#REF!)+(#REF!*#REF!))/(#REF!+#REF!+#REF!)","v":{"$error":"#VALUE!"}},{"$f":"((AA14*#REF!)+(#REF!*#REF!)+(#REF!*#REF!))/(#REF!+#REF!+#REF!)","v":{"$error":"#VALUE!"}},{"$f":"((AA14*#REF!)+(#REF!*#REF!)+(#REF!*#REF!))/(#REF!+#REF!+#REF!)","v":{"$error":"#VALUE!"}},{"$f":"((AA14*#REF!)+(#REF!*#REF!)+(#REF!*#REF!))/(#REF!+#REF!+#REF!)","v":{"$error":"#VALUE!"}},null," Jun 16-30",{"$f":"AVERAGE(AG3:AG62)","v":{"$error":"#VALUE!"}}]
["Rainfall depth inches",null,null,null,null,null,null,null,null,{"$f":"'Thermal Analysis'!T27","v":0},null,null,null,null,null,null,null,null,null,null,null,13,{"$error":"#VALUE!"},{"$f":"AVERAGE($W$3:W15)","v":{"$error":"#VALUE!"}},null,{"$error":"#VALUE!"},{"$error":"#VALUE!"},{"$f":"AVERAGE($AA$3:AA15)","v":{"$error":"#VALUE!"}},null,null,null,{"$f":"((AA15*#REF!)+(#REF!*#REF!)+(#REF!*#REF!))/(#REF!+#REF!+#REF!)","v":{"$error":"#VALUE!"}},{"$f":"((AA15*#REF!)+(#REF!*#REF!)+(#REF!*#REF!))/(#REF!+#REF!+#REF!)","v":{"$error":"#VALUE!"}},{"$f":"((AA15*#REF!)+(#REF!*#REF!)+(#REF!*#REF!))/(#REF!+#REF!+#REF!)","v":{"$error":"#VALUE!"}},{"$f":"((AA15*#REF!)+(#REF!*#REF!)+(#REF!*#REF!))/(#REF!+#REF!+#REF!)","v":{"$error":"#VALUE!"}},{"$f":"((AA15*#REF!)+(#REF!*#REF!)+(#REF!*#REF!))/(#REF!+#REF!+#REF!)","v":{"$error":"#VALUE!"}},{"$f":"((AA15*#REF!)+(#REF!*#REF!)+(#REF!*#REF!))/(#REF!+#REF!+#REF!)","v":{"$error":"#VALUE!"}},{"$f":"((AA15*#REF!)+(#REF!*#REF!)+(#REF!*#REF!))/(#REF!+#REF!+#REF!)","v":{"$error":"#VALUE!"}},null," Jul  1-31",{"$f":"AVERAGE(AH3:AH62)","v":{"$error":"#VALUE!"}}]
["S",null,null,null,null,null,null,null,null,{"$f":"(1000/J14)-10","v":{"$error":"#REF!"}},null,null,null,null,null,null,null,null,null,null,null,14,{"$error":"#VALUE!"},{"$f":"AVERAGE($W$3:W16)","v":{"$error":"#VALUE!"}},null,{"$error":"#VALUE!"},{"$error":"#VALUE!"},{"$f":"AVERAGE($AA$3:AA16)","v":{"$error":"#VALUE!"}},null,null,null,{"$f":"((AA16*#REF!)+(#REF!*#REF!)+(#REF!*#REF!))/(#REF!+#REF!+#REF!)","v":{"$error":"#VALUE!"}},{"$f":"((AA16*#REF!)+(#REF!*#REF!)+(#REF!*#REF!))/(#REF!+#REF!+#REF!)","v":{"$error":"#VALUE!"}},{"$f":"((AA16*#REF!)+(#REF!*#REF!)+(#REF!*#REF!))/(#REF!+#REF!+#REF!)","v":{"$error":"#VALUE!"}},{"$f":"((AA16*#REF!)+(#REF!*#REF!)+(#REF!*#REF!))/(#REF!+#REF!+#REF!)","v":{"$error":"#VALUE!"}},{"$f":"((AA16*#REF!)+(#REF!*#REF!)+(#REF!*#REF!))/(#REF!+#REF!+#REF!)","v":{"$error":"#VALUE!"}},{"$f":"((AA16*#REF!)+(#REF!*#REF!)+(#REF!*#REF!))/(#REF!+#REF!+#REF!)","v":{"$error":"#VALUE!"}},{"$f":"((AA16*#REF!)+(#REF!*#REF!)+(#REF!*#REF!))/(#REF!+#REF!+#REF!)","v":{"$error":"#VALUE!"}},null," Aug  1-15",{"$f":"AVERAGE(AI3:AI62)","v":{"$error":"#VALUE!"}}]
["Runoff depth inches",null,null,null,null,null,null,null,null,{"$f":"IF(1.2-(0.2*J16)>0,((1.2-(0.2*J16))^2)/(1.2+0.8*J16),0)","v":{"$error":"#REF!"}},null,null,null,null,null,null,null,null,null,null,null,15,{"$error":"#VALUE!"},{"$f":"AVERAGE($W$3:W17)","v":{"$error":"#VALUE!"}},null,{"$error":"#VALUE!"},{"$error":"#VALUE!"},{"$f":"AVERAGE($AA$3:AA17)","v":{"$error":"#VALUE!"}},null,null,null,{"$f":"((AA17*#REF!)+(#REF!*#REF!)+(#REF!*#REF!))/(#REF!+#REF!+#REF!)","v":{"$error":"#VALUE!"}},{"$f":"((AA17*#REF!)+(#REF!*#REF!)+(#REF!*#REF!))/(#REF!+#REF!+#REF!)","v":{"$error":"#VALUE!"}},{"$f":"((AA17*#REF!)+(#REF!*#REF!)+(#REF!*#REF!))/(#REF!+#REF!+#REF!)","v":{"$error":"#VALUE!"}},{"$f":"((AA17*#REF!)+(#REF!*#REF!)+(#REF!*#REF!))/(#REF!+#REF!+#REF!)","v":{"$error":"#VALUE!"}},{"$f":"((AA17*#REF!)+(#REF!*#REF!)+(#REF!*#REF!))/(#REF!+#REF!+#REF!)","v":{"$error":"#VALUE!"}},{"$f":"((AA17*#REF!)+(#REF!*#REF!)+(#REF!*#REF!))/(#REF!+#REF!+#REF!)","v":{"$error":"#VALUE!"}},{"$f":"((AA17*#REF!)+(#REF!*#REF!)+(#REF!*#REF!))/(#REF!+#REF!+#REF!)","v":{"$error":"#VALUE!"}},null," Aug 16-31",{"$f":"AVERAGE(AJ3:AJ62)","v":{"$error":"#VALUE!"}}]
["First flush time, tc (min)",null,null,null,null,null,null,null,null,{"$f":"IF(#REF!=\"\",20,#REF!)","v":{"$error":"#REF!"}},null,null,null,null,null,null,null,null,null,null,null,16,{"$error":"#VALUE!"},{"$f":"AVERAGE($W$3:W18)","v":{"$error":"#VALUE!"}},null,{"$error":"#VALUE!"},{"$error":"#VALUE!"},{"$f":"AVERAGE($AA$3:AA18)","v":{"$error":"#VALUE!"}},null,null,null,{"$f":"((AA18*#REF!)+(#REF!*#REF!)+(#REF!*#REF!))/(#REF!+#REF!+#REF!)","v":{"$error":"#VALUE!"}},{"$f":"((AA18*#REF!)+(#REF!*#REF!)+(#REF!*#REF!))/(#REF!+#REF!+#REF!)","v":{"$error":"#VALUE!"}},{"$f":"((AA18*#REF!)+(#REF!*#REF!)+(#REF!*#REF!))/(#REF!+#REF!+#REF!)","v":{"$error":"#VALUE!"}},{"$f":"((AA18*#REF!)+(#REF!*#REF!)+(#REF!*#REF!))/(#REF!+#REF!+#REF!)","v":{"$error":"#VALUE!"}},{"$f":"((AA18*#REF!)+(#REF!*#REF!)+(#REF!*#REF!))/(#REF!+#REF!+#REF!)","v":{"$error":"#VALUE!"}},{"$f":"((AA18*#REF!)+(#REF!*#REF!)+(#REF!*#REF!))/(#REF!+#REF!+#REF!)","v":{"$error":"#VALUE!"}},{"$f":"((AA18*#REF!)+(#REF!*#REF!)+(#REF!*#REF!))/(#REF!+#REF!+#REF!)","v":{"$error":"#VALUE!"}},null," Sep  1-15",{"$f":"AVERAGE(AK3:AK62)","v":{"$error":"#VALUE!"}}]
["Volume increment",null,null,null,null,null,null,null,null,{"$f":"120/J18","v":{"$error":"#REF!"}},null,null,null,null,null,null,null,null,null,null,null,17,{"$error":"#VALUE!"},{"$f":"AVERAGE($W$3:W19)","v":{"$error":"#VALUE!"}},null,{"$error":"#VALUE!"},{"$error":"#VALUE!"},{"$f":"AVERAGE($AA$3:AA19)","v":{"$error":"#VALUE!"}},null,null,null,{"$f":"((AA19*#REF!)+(#REF!*#REF!)+(#REF!*#REF!))/(#REF!+#REF!+#REF!)","v":{"$error":"#VALUE!"}},{"$f":"((AA19*#REF!)+(#REF!*#REF!)+(#REF!*#REF!))/(#REF!+#REF!+#REF!)","v":{"$error":"#VALUE!"}},{"$f":"((AA19*#REF!)+(#REF!*#REF!)+(#REF!*#REF!))/(#REF!+#REF!+#REF!)","v":{"$error":"#VALUE!"}},{"$f":"((AA19*#REF!)+(#REF!*#REF!)+(#REF!*#REF!))/(#REF!+#REF!+#REF!)","v":{"$error":"#VALUE!"}},{"$f":"((AA19*#REF!)+(#REF!*#REF!)+(#REF!*#REF!))/(#REF!+#REF!+#REF!)","v":{"$error":"#VALUE!"}},{"$f":"((AA19*#REF!)+(#REF!*#REF!)+(#REF!*#REF!))/(#REF!+#REF!+#REF!)","v":{"$error":"#VALUE!"}},{"$f":"((AA19*#REF!)+(#REF!*#REF!)+(#REF!*#REF!))/(#REF!+#REF!+#REF!)","v":{"$error":"#VALUE!"}},null," Sep 16-30",{"$f":"AVERAGE(AL3:AL62)","v":{"$error":"#VALUE!"}}]
["Volume of first flush runoff, ft3",null,null,null,null,null,null,null,null,{"$f":"((#REF!*43560)*(J17/12))/J19","v":{"$error":"#REF!"}},null,null,null,null,null,null,null,null,null,null,null,18,{"$error":"#VALUE!"},{"$f":"AVERAGE($W$3:W20)","v":{"$error":"#VALUE!"}},null,{"$error":"#VALUE!"},{"$error":"#VALUE!"},{"$f":"AVERAGE($AA$3:AA20)","v":{"$error":"#VALUE!"}},null,null,null,{"$f":"((AA20*#REF!)+(#REF!*#REF!)+(#REF!*#REF!))/(#REF!+#REF!+#REF!)","v":{"$error":"#VALUE!"}},{"$f":"((AA20*#REF!)+(#REF!*#REF!)+(#REF!*#REF!))/(#REF!+#REF!+#REF!)","v":{"$error":"#VALUE!"}},{"$f":"((AA20*#REF!)+(#REF!*#REF!)+(#REF!*#REF!))/(#REF!+#REF!+#REF!)","v":{"$error":"#VALUE!"}},{"$f":"((AA20*#REF!)+(#REF!*#REF!)+(#REF!*#REF!))/(#REF!+#REF!+#REF!)","v":{"$error":"#VALUE!"}},{"$f":"((AA20*#REF!)+(#REF!*#REF!)+(#REF!*#REF!))/(#REF!+#REF!+#REF!)","v":{"$error":"#VALUE!"}},{"$f":"((AA20*#REF!)+(#REF!*#REF!)+(#REF!*#REF!))/(#REF!+#REF!+#REF!)","v":{"$error":"#VALUE!"}},{"$f":"((AA20*#REF!)+(#REF!*#REF!)+(#REF!*#REF!))/(#REF!+#REF!+#REF!)","v":{"$error":"#VALUE!"}}]
["Flow rate per min ft3/sec",null,null,null,null,null,null,null,null,{"$f":"J20/(J18*60)","v":{"$error":"#REF!"}},null,null,null,null,null,null,null,null,null,null,null,19,{"$error":"#VALUE!"},{"$f":"AVERAGE($W$3:W21)","v":{"$error":"#VALUE!"}},null,{"$error":"#VALUE!"},{"$error":"#VALUE!"},{"$f":"AVERAGE($AA$3:AA21)","v":{"$error":"#VALUE!"}},null,null,null,{"$f":"((AA21*#REF!)+(#REF!*#REF!)+(#REF!*#REF!))/(#REF!+#REF!+#REF!)","v":{"$error":"#VALUE!"}},{"$f":"((AA21*#REF!)+(#REF!*#REF!)+(#REF!*#REF!))/(#REF!+#REF!+#REF!)","v":{"$error":"#VALUE!"}},{"$f":"((AA21*#REF!)+(#REF!*#REF!)+(#REF!*#REF!))/(#REF!+#REF!+#REF!)","v":{"$error":"#VALUE!"}},{"$f":"((AA21*#REF!)+(#REF!*#REF!)+(#REF!*#REF!))/(#REF!+#REF!+#REF!)","v":{"$error":"#VALUE!"}},{"$f":"((AA21*#REF!)+(#REF!*#REF!)+(#REF!*#REF!))/(#REF!+#REF!+#REF!)","v":{"$error":"#VALUE!"}},{"$f":"((AA21*#REF!)+(#REF!*#REF!)+(#REF!*#REF!))/(#REF!+#REF!+#REF!)","v":{"$error":"#VALUE!"}},{"$f":"((AA21*#REF!)+(#REF!*#REF!)+(#REF!*#REF!))/(#REF!+#REF!+#REF!)","v":{"$error":"#VALUE!"}}]
[null,null,null,null,null,null,null,null,null,null,null,null,null,null,null,null,null,null,null,null,null,20,{"$error":"#VALUE!"},{"$f":"AVERAGE($W$3:W22)","v":{"$error":"#VALUE!"}},null,{"$error":"#VALUE!"},{"$error":"#VALUE!"},{"$f":"AVERAGE($AA$3:AA22)","v":{"$error":"#VALUE!"}},null,null,null,{"$f":"((AA22*#REF!)+(#REF!*#REF!)+(#REF!*#REF!))/(#REF!+#REF!+#REF!)","v":{"$error":"#VALUE!"}},{"$f":"((AA22*#REF!)+(#REF!*#REF!)+(#REF!*#REF!))/(#REF!+#REF!+#REF!)","v":{"$error":"#VALUE!"}},{"$f":"((AA22*#REF!)+(#REF!*#REF!)+(#REF!*#REF!))/(#REF!+#REF!+#REF!)","v":{"$error":"#VALUE!"}},{"$f":"((AA22*#REF!)+(#REF!*#REF!)+(#REF!*#REF!))/(#REF!+#REF!+#REF!)","v":{"$error":"#VALUE!"}},{"$f":"((AA22*#REF!)+(#REF!*#REF!)+(#REF!*#REF!))/(#REF!+#REF!+#REF!)","v":{"$error":"#VALUE!"}},{"$f":"((AA22*#REF!)+(#REF!*#REF!)+(#REF!*#REF!))/(#REF!+#REF!+#REF!)","v":{"$error":"#VALUE!"}},{"$f":"((AA22*#REF!)+(#REF!*#REF!)+(#REF!*#REF!))/(#REF!+#REF!+#REF!)","v":{"$error":"#VALUE!"}}]
[null,null,null,null,null,null,null,null,null,null,null,null,null,null,null,null,null,null,null,null,null,21,{"$error":"#VALUE!"},{"$f":"AVERAGE($W$3:W23)","v":{"$error":"#VALUE!"}},null,{"$error":"#VALUE!"},{"$error":"#VALUE!"},{"$f":"AVERAGE($AA$3:AA23)","v":{"$error":"#VALUE!"}},null,null,null,{"$f":"((AA23*#REF!)+(#REF!*#REF!)+(#REF!*#REF!))/(#REF!+#REF!+#REF!)","v":{"$error":"#VALUE!"}},{"$f":"((AA23*#REF!)+(#REF!*#REF!)+(#REF!*#REF!))/(#REF!+#REF!+#REF!)","v":{"$error":"#VALUE!"}},{"$f":"((AA23*#REF!)+(#REF!*#REF!)+(#REF!*#REF!))/(#REF!+#REF!+#REF!)","v":{"$error":"#VALUE!"}},{"$f":"((AA23*#REF!)+(#REF!*#REF!)+(#REF!*#REF!))/(#REF!+#REF!+#REF!)","v":{"$error":"#VALUE!"}},{"$f":"((AA23*#REF!)+(#REF!*#REF!)+(#REF!*#REF!))/(#REF!+#REF!+#REF!)","v":{"$error":"#VALUE!"}},{"$f":"((AA23*#REF!)+(#REF!*#REF!)+(#REF!*#REF!))/(#REF!+#REF!+#REF!)","v":{"$error":"#VALUE!"}},{"$f":"((AA23*#REF!)+(#REF!*#REF!)+(#REF!*#REF!))/(#REF!+#REF!+#REF!)","v":{"$error":"#VALUE!"}}]
["Average ΔTsr at time of first flush, °C",null,null,null,null,null,null,null,null,{"$f":"VLOOKUP(J18,V2:X122,3,FALSE)","v":{"$error":"#REF!"}},null,null,null,null,null,null,null,null,null,null,null,22,{"$error":"#VALUE!"},{"$f":"AVERAGE($W$3:W24)","v":{"$error":"#VALUE!"}},null,{"$error":"#VALUE!"},{"$error":"#VALUE!"},{"$f":"AVERAGE($AA$3:AA24)","v":{"$error":"#VALUE!"}},null,null,null,{"$f":"((AA24*#REF!)+(#REF!*#REF!)+(#REF!*#REF!))/(#REF!+#REF!+#REF!)","v":{"$error":"#VALUE!"}},{"$f":"((AA24*#REF!)+(#REF!*#REF!)+(#REF!*#REF!))/(#REF!+#REF!+#REF!)","v":{"$error":"#VALUE!"}},{"$f":"((AA24*#REF!)+(#REF!*#REF!)+(#REF!*#REF!))/(#REF!+#REF!+#REF!)","v":{"$error":"#VALUE!"}},{"$f":"((AA24*#REF!)+(#REF!*#REF!)+(#REF!*#REF!))/(#REF!+#REF!+#REF!)","v":{"$error":"#VALUE!"}},{"$f":"((AA24*#REF!)+(#REF!*#REF!)+(#REF!*#REF!))/(#REF!+#REF!+#REF!)","v":{"$error":"#VALUE!"}},{"$f":"((AA24*#REF!)+(#REF!*#REF!)+(#REF!*#REF!))/(#REF!+#REF!+#REF!)","v":{"$error":"#VALUE!"}},{"$f":"((AA24*#REF!)+(#REF!*#REF!)+(#REF!*#REF!))/(#REF!+#REF!+#REF!)","v":{"$error":"#VALUE!"}}]
["Final Runoff temperature at tc °C",null,null,null,null,null,null,null,null,{"$f":"M2+J24","v":{"$error":"#REF!"}},null,null,null,null,null,null,null,null,null,null,null,23,{"$error":"#VALUE!"},{"$f":"AVERAGE($W$3:W25)","v":{"$error":"#VALUE!"}},null,{"$error":"#VALUE!"},{"$error":"#VALUE!"},{"$f":"AVERAGE($AA$3:AA25)","v":{"$error":"#VALUE!"}},null,null,null,{"$f":"((AA25*#REF!)+(#REF!*#REF!)+(#REF!*#REF!))/(#REF!+#REF!+#REF!)","v":{"$error":"#VALUE!"}},{"$f":"((AA25*#REF!)+(#REF!*#REF!)+(#REF!*#REF!))/(#REF!+#REF!+#REF!)","v":{"$error":"#VALUE!"}},{"$f":"((AA25*#REF!)+(#REF!*#REF!)+(#REF!*#REF!))/(#REF!+#REF!+#REF!)","v":{"$error":"#VALUE!"}},{"$f":"((AA25*#REF!)+(#REF!*#REF!)+(#REF!*#REF!))/(#REF!+#REF!+#REF!)","v":{"$error":"#VALUE!"}},{"$f":"((AA25*#REF!)+(#REF!*#REF!)+(#REF!*#REF!))/(#REF!+#REF!+#REF!)","v":{"$error":"#VALUE!"}},{"$f":"((AA25*#REF!)+(#REF!*#REF!)+(#REF!*#REF!))/(#REF!+#REF!+#REF!)","v":{"$error":"#VALUE!"}},{"$f":"((AA25*#REF!)+(#REF!*#REF!)+(#REF!*#REF!))/(#REF!+#REF!+#REF!)","v":{"$error":"#VALUE!"}}]
["Final Runoff temperature at tc °F",null,null,null,null,null,null,null,null,{"$f":"(J25*(9/5))+32","v":{"$error":"#REF!"}},null,null,null,null,null,null,null,null,null,null,null,24,{"$error":"#VALUE!"},{"$f":"AVERAGE($W$3:W26)","v":{"$error":"#VALUE!"}},null,{"$error":"#VALUE!"},{"$error":"#VALUE!"},{"$f":"AVERAGE($AA$3:AA26)","v":{"$error":"#VALUE!"}},null,null,null,{"$f":"((AA26*#REF!)+(#REF!*#REF!)+(#REF!*#REF!))/(#REF!+#REF!+#REF!)","v":{"$error":"#VALUE!"}},{"$f":"((AA26*#REF!)+(#REF!*#REF!)+(#REF!*#REF!))/(#REF!+#REF!+#REF!)","v":{"$error":"#VALUE!"}},{"$f":"((AA26*#REF!)+(#REF!*#REF!)+(#REF!*#REF!))/(#REF!+#REF!+#REF!)","v":{"$error":"#VALUE!"}},{"$f":"((AA26*#REF!)+(#REF!*#REF!)+(#REF!*#REF!))/(#REF!+#REF!+#REF!)","v":{"$error":"#VALUE!"}},{"$f":"((AA26*#REF!)+(#REF!*#REF!)+(#REF!*#REF!))/(#REF!+#REF!+#REF!)","v":{"$error":"#VALUE!"}},{"$f":"((AA26*#REF!)+(#REF!*#REF!)+(#REF!*#REF!))/(#REF!+#REF!+#REF!)","v":{"$error":"#VALUE!"}},{"$f":"((AA26*#REF!)+(#REF!*#REF!)+(#REF!*#REF!))/(#REF!+#REF!+#REF!)","v":{"$error":"#VALUE!"}}]
[null,null,null,null,null,null,null,null,null,null,null,null,null,null,null,null,null,null,null,null,null,25,{"$error":"#VALUE!"},{"$f":"AVERAGE($W$3:W27)","v":{"$error":"#VALUE!"}},null,{"$error":"#VALUE!"},{"$error":"#VALUE!"},{"$f":"AVERAGE($AA$3:AA27)","v":{"$error":"#VALUE!"}},null,null,null,{"$f":"((AA27*#REF!)+(#REF!*#REF!)+(#REF!*#REF!))/(#REF!+#REF!+#REF!)","v":{"$error":"#VALUE!"}},{"$f":"((AA27*#REF!)+(#REF!*#REF!)+(#REF!*#REF!))/(#REF!+#REF!+#REF!)","v":{"$error":"#VALUE!"}},{"$f":"((AA27*#REF!)+(#REF!*#REF!)+(#REF!*#REF!))/(#REF!+#REF!+#REF!)","v":{"$error":"#VALUE!"}},{"$f":"((AA27*#REF!)+(#REF!*#REF!)+(#REF!*#REF!))/(#REF!+#REF!+#REF!)","v":{"$error":"#VALUE!"}},{"$f":"((AA27*#REF!)+(#REF!*#REF!)+(#REF!*#REF!))/(#REF!+#REF!+#REF!)","v":{"$error":"#VALUE!"}},{"$f":"((AA27*#REF!)+(#REF!*#REF!)+(#REF!*#REF!))/(#REF!+#REF!+#REF!)","v":{"$error":"#VALUE!"}},{"$f":"((AA27*#REF!)+(#REF!*#REF!)+(#REF!*#REF!))/(#REF!+#REF!+#REF!)","v":{"$error":"#VALUE!"}}]
["Average ΔTsr at 24 hrs, °C",null,null,null,null,null,null,null,null,{"$f":"X1442","v":{"$error":"#VALUE!"}},null,null,null,null,null,null,null,null,null,null,null,26,{"$error":"#VALUE!"},{"$f":"AVERAGE($W$3:W28)","v":{"$error":"#VALUE!"}},null,{"$error":"#VALUE!"},{"$error":"#VALUE!"},{"$f":"AVERAGE($AA$3:AA28)","v":{"$error":"#VALUE!"}},null,null,null,{"$f":"((AA28*#REF!)+(#REF!*#REF!)+(#REF!*#REF!))/(#REF!+#REF!+#REF!)","v":{"$error":"#VALUE!"}},{"$f":"((AA28*#REF!)+(#REF!*#REF!)+(#REF!*#REF!))/(#REF!+#REF!+#REF!)","v":{"$error":"#VALUE!"}},{"$f":"((AA28*#REF!)+(#REF!*#REF!)+(#REF!*#REF!))/(#REF!+#REF!+#REF!)","v":{"$error":"#VALUE!"}},{"$f":"((AA28*#REF!)+(#REF!*#REF!)+(#REF!*#REF!))/(#REF!+#REF!+#REF!)","v":{"$error":"#VALUE!"}},{"$f":"((AA28*#REF!)+(#REF!*#REF!)+(#REF!*#REF!))/(#REF!+#REF!+#REF!)","v":{"$error":"#VALUE!"}},{"$f":"((AA28*#REF!)+(#REF!*#REF!)+(#REF!*#REF!))/(#REF!+#REF!+#REF!)","v":{"$error":"#VALUE!"}},{"$f":"((AA28*#REF!)+(#REF!*#REF!)+(#REF!*#REF!))/(#REF!+#REF!+#REF!)","v":{"$error":"#VALUE!"}}]
["Final Runoff temperature at tc °C",null,null,null,null,null,null,null,null,{"$f":"M2+J28","v":{"$error":"#VALUE!"}},null,null,null,null,null,null,null,null,null,null,null,27,{"$error":"#VALUE!"},{"$f":"AVERAGE($W$3:W29)","v":{"$error":"#VALUE!"}},null,{"$error":"#VALUE!"},{"$error":"#VALUE!"},{"$f":"AVERAGE($AA$3:AA29)","v":{"$error":"#VALUE!"}},null,null,null,{"$f":"((AA29*#REF!)+(#REF!*#REF!)+(#REF!*#REF!))/(#REF!+#REF!+#REF!)","v":{"$error":"#VALUE!"}},{"$f":"((AA29*#REF!)+(#REF!*#REF!)+(#REF!*#REF!))/(#REF!+#REF!+#REF!)","v":{"$error":"#VALUE!"}},{"$f":"((AA29*#REF!)+(#REF!*#REF!)+(#REF!*#REF!))/(#REF!+#REF!+#REF!)","v":{"$error":"#VALUE!"}},{"$f":"((AA29*#REF!)+(#REF!*#REF!)+(#REF!*#REF!))/(#REF!+#REF!+#REF!)","v":{"$error":"#VALUE!"}},{"$f":"((AA29*#REF!)+(#REF!*#REF!)+(#REF!*#REF!))/(#REF!+#REF!+#REF!)","v":{"$error":"#VALUE!"}},{"$f":"((AA29*#REF!)+(#REF!*#REF!)+(#REF!*#REF!))/(#REF!+#REF!+#REF!)","v":{"$error":"#VALUE!"}},{"$f":"((AA29*#REF!)+(#REF!*#REF!)+(#REF!*#REF!))/(#REF!+#REF!+#REF!)","v":{"$error":"#VALUE!"}}]
["Final Runoff temperature at tc °F",null,null,null,null,null,null,null,null,{"$f":"(J29*(9/5))+32","v":{"$error":"#VALUE!"}},null,null,null,null,null,null,null,null,null,null,null,28,{"$error":"#VALUE!"},{"$f":"AVERAGE($W$3:W30)","v":{"$error":"#VALUE!"}},null,{"$error":"#VALUE!"},{"$error":"#VALUE!"},{"$f":"AVERAGE($AA$3:AA30)","v":{"$error":"#VALUE!"}},null,null,null,{"$f":"((AA30*#REF!)+(#REF!*#REF!)+(#REF!*#REF!))/(#REF!+#REF!+#REF!)","v":{"$error":"#VALUE!"}},{"$f":"((AA30*#REF!)+(#REF!*#REF!)+(#REF!*#REF!))/(#REF!+#REF!+#REF!)","v":{"$error":"#VALUE!"}},{"$f":"((AA30*#REF!)+(#REF!*#REF!)+(#REF!*#REF!))/(#REF!+#REF!+#REF!)","v":{"$error":"#VALUE!"}},{"$f":"((AA30*#REF!)+(#REF!*#REF!)+(#REF!*#REF!))/(#REF!+#REF!+#REF!)","v":{"$error":"#VALUE!"}},{"$f":"((AA30*#REF!)+(#REF!*#REF!)+(#REF!*#REF!))/(#REF!+#REF!+#REF!)","v":{"$error":"#VALUE!"}},{"$f":"((AA30*#REF!)+(#REF!*#REF!)+(#REF!*#REF!))/(#REF!+#REF!+#REF!)","v":{"$error":"#VALUE!"}},{"$f":"((AA30*#REF!)+(#REF!*#REF!)+(#REF!*#REF!))/(#REF!+#REF!+#REF!)","v":{"$error":"#VALUE!"}}]
[null,null,null,null,null,null,null,null,null,null,null,null,null,null,null,null,null,null,null,null,null,29,{"$error":"#VALUE!"},{"$f":"AVERAGE($W$3:W31)","v":{"$error":"#VALUE!"}},null,{"$error":"#VALUE!"},{"$error":"#VALUE!"},{"$f":"AVERAGE($AA$3:AA31)","v":{"$error":"#VALUE!"}},null,null,null,{"$f":"((AA31*#REF!)+(#REF!*#REF!)+(#REF!*#REF!))/(#REF!+#REF!+#REF!)","v":{"$error":"#VALUE!"}},{"$f":"((AA31*#REF!)+(#REF!*#REF!)+(#REF!*#REF!))/(#REF!+#REF!+#REF!)","v":{"$error":"#VALUE!"}},{"$f":"((AA31*#REF!)+(#REF!*#REF!)+(#REF!*#REF!))/(#REF!+#REF!+#REF!)","v":{"$error":"#VALUE!"}},{"$f":"((AA31*#REF!)+(#REF!*#REF!)+(#REF!*#REF!))/(#REF!+#REF!+#REF!)","v":{"$error":"#VALUE!"}},{"$f":"((AA31*#REF!)+(#REF!*#REF!)+(#REF!*#REF!))/(#REF!+#REF!+#REF!)","v":{"$error":"#VALUE!"}},{"$f":"((AA31*#REF!)+(#REF!*#REF!)+(#REF!*#REF!))/(#REF!+#REF!+#REF!)","v":{"$error":"#VALUE!"}},{"$f":"((AA31*#REF!)+(#REF!*#REF!)+(#REF!*#REF!))/(#REF!+#REF!+#REF!)","v":{"$error":"#VALUE!"}}]
[null,null,null,null,null,null,null,null,null,null,null,null,null,null,null,null,null,null,null,null,null,30,{"$error":"#VALUE!"},{"$f":"AVERAGE($W$3:W32)","v":{"$error":"#VALUE!"}},null,{"$error":"#VALUE!"},{"$error":"#VALUE!"},{"$f":"AVERAGE($AA$3:AA32)","v":{"$error":"#VALUE!"}},null,null,null,{"$f":"((AA32*#REF!)+(#REF!*#REF!)+(#REF!*#REF!))/(#REF!+#REF!+#REF!)","v":{"$error":"#VALUE!"}},{"$f":"((AA32*#REF!)+(#REF!*#REF!)+(#REF!*#REF!))/(#REF!+#REF!+#REF!)","v":{"$error":"#VALUE!"}},{"$f":"((AA32*#REF!)+(#REF!*#REF!)+(#REF!*#REF!))/(#REF!+#REF!+#REF!)","v":{"$error":"#VALUE!"}},{"$f":"((AA32*#REF!)+(#REF!*#REF!)+(#REF!*#REF!))/(#REF!+#REF!+#REF!)","v":{"$error":"#VALUE!"}},{"$f":"((AA32*#REF!)+(#REF!*#REF!)+(#REF!*#REF!))/(#REF!+#REF!+#REF!)","v":{"$error":"#VALUE!"}},{"$f":"((AA32*#REF!)+(#REF!*#REF!)+(#REF!*#REF!))/(#REF!+#REF!+#REF!)","v":{"$error":"#VALUE!"}},{"$f":"((AA32*#REF!)+(#REF!*#REF!)+(#REF!*#REF!))/(#REF!+#REF!+#REF!)","v":{"$error":"#VALUE!"}}]
["IF assume Rainfall intensity after 2 hours (60 minutes) = 0, then get negative ΔTsr, but the lowest needs to be 0",null,null,null,null,null,null,null,null,null,null,null,null,null,null,null,null,null,null,null,null,31,{"$error":"#VALUE!"},{"$f":"AVERAGE($W$3:W33)","v":{"$error":"#VALUE!"}},null,{"$error":"#VALUE!"},{"$error":"#VALUE!"},{"$f":"AVERAGE($AA$3:AA33)","v":{"$error":"#VALUE!"}},null,null,null,{"$f":"((AA33*#REF!)+(#REF!*#REF!)+(#REF!*#REF!))/(#REF!+#REF!+#REF!)","v":{"$error":"#VALUE!"}},{"$f":"((AA33*#REF!)+(#REF!*#REF!)+(#REF!*#REF!))/(#REF!+#REF!+#REF!)","v":{"$error":"#VALUE!"}},{"$f":"((AA33*#REF!)+(#REF!*#REF!)+(#REF!*#REF!))/(#REF!+#REF!+#REF!)","v":{"$error":"#VALUE!"}},{"$f":"((AA33*#REF!)+(#REF!*#REF!)+(#REF!*#REF!))/(#REF!+#REF!+#REF!)","v":{"$error":"#VALUE!"}},{"$f":"((AA33*#REF!)+(#REF!*#REF!)+(#REF!*#REF!))/(#REF!+#REF!+#REF!)","v":{"$error":"#VALUE!"}},{"$f":"((AA33*#REF!)+(#REF!*#REF!)+(#REF!*#REF!))/(#REF!+#REF!+#REF!)","v":{"$error":"#VALUE!"}},{"$f":"((AA33*#REF!)+(#REF!*#REF!)+(#REF!*#REF!))/(#REF!+#REF!+#REF!)","v":{"$error":"#VALUE!"}}]
[null,null,null,null,null,null,null,null,null,null,null,null,null,null,null,null,null,null,null,null,null,32,{"$error":"#VALUE!"},{"$f":"AVERAGE($W$3:W34)","v":{"$error":"#VALUE!"}},null,{"$error":"#VALUE!"},{"$error":"#VALUE!"},{"$f":"AVERAGE($AA$3:AA34)","v":{"$error":"#VALUE!"}},null,null,null,{"$f":"((AA34*#REF!)+(#REF!*#REF!)+(#REF!*#REF!))/(#REF!+#REF!+#REF!)","v":{"$error":"#VALUE!"}},{"$f":"((AA34*#REF!)+(#REF!*#REF!)+(#REF!*#REF!))/(#REF!+#REF!+#REF!)","v":{"$error":"#VALUE!"}},{"$f":"((AA34*#REF!)+(#REF!*#REF!)+(#REF!*#REF!))/(#REF!+#REF!+#REF!)","v":{"$error":"#VALUE!"}},{"$f":"((AA34*#REF!)+(#REF!*#REF!)+(#REF!*#REF!))/(#REF!+#REF!+#REF!)","v":{"$error":"#VALUE!"}},{"$f":"((AA34*#REF!)+(#REF!*#REF!)+(#REF!*#REF!))/(#REF!+#REF!+#REF!)","v":{"$error":"#VALUE!"}},{"$f":"((AA34*#REF!)+(#REF!*#REF!)+(#REF!*#REF!))/(#REF!+#REF!+#REF!)","v":{"$error":"#VALUE!"}},{"$f":"((AA34*#REF!)+(#REF!*#REF!)+(#REF!*#REF!))/(#REF!+#REF!+#REF!)","v":{"$error":"#VALUE!"}}]
[null,null,null,null,null,null,null,null,null,null,null,null,null,null,null,null,null,null,null,null,null,33,{"$error":"#VALUE!"},{"$f":"AVERAGE($W$3:W35)","v":{"$error":"#VALUE!"}},null,{"$error":"#VALUE!"},{"$error":"#VALUE!"},{"$f":"AVERAGE($AA$3:AA35)","v":{"$error":"#VALUE!"}},null,null,null,{"$f":"((AA35*#REF!)+(#REF!*#REF!)+(#REF!*#REF!))/(#REF!+#REF!+#REF!)","v":{"$error":"#VALUE!"}},{"$f":"((AA35*#REF!)+(#REF!*#REF!)+(#REF!*#REF!))/(#REF!+#REF!+#REF!)","v":{"$error":"#VALUE!"}},{"$f":"((AA35*#REF!)+(#REF!*#REF!)+(#REF!*#REF!))/(#REF!+#REF!+#REF!)","v":{"$error":"#VALUE!"}},{"$f":"((AA35*#REF!)+(#REF!*#REF!)+(#REF!*#REF!))/(#REF!+#REF!+#REF!)","v":{"$error":"#VALUE!"}},{"$f":"((AA35*#REF!)+(#REF!*#REF!)+(#REF!*#REF!))/(#REF!+#REF!+#REF!)","v":{"$error":"#VALUE!"}},{"$f":"((AA35*#REF!)+(#REF!*#REF!)+(#REF!*#REF!))/(#REF!+#REF!+#REF!)","v":{"$error":"#VALUE!"}},{"$f":"((AA35*#REF!)+(#REF!*#REF!)+(#REF!*#REF!))/(#REF!+#REF!+#REF!)","v":{"$error":"#VALUE!"}}]
[null,null,null,null,null,null,null,null,null,null,null,null,null,null,null,null,null,null,null,null,null,34,{"$error":"#VALUE!"},{"$f":"AVERAGE($W$3:W36)","v":{"$error":"#VALUE!"}},null,{"$error":"#VALUE!"},{"$error":"#VALUE!"},{"$f":"AVERAGE($AA$3:AA36)","v":{"$error":"#VALUE!"}},null,null,null,{"$f":"((AA36*#REF!)+(#REF!*#REF!)+(#REF!*#REF!))/(#REF!+#REF!+#REF!)","v":{"$error":"#VALUE!"}},{"$f":"((AA36*#REF!)+(#REF!*#REF!)+(#REF!*#REF!))/(#REF!+#REF!+#REF!)","v":{"$error":"#VALUE!"}},{"$f":"((AA36*#REF!)+(#REF!*#REF!)+(#REF!*#REF!))/(#REF!+#REF!+#REF!)","v":{"$error":"#VALUE!"}},{"$f":"((AA36*#REF!)+(#REF!*#REF!)+(#REF!*#REF!))/(#REF!+#REF!+#REF!)","v":{"$error":"#VALUE!"}},{"$f":"((AA36*#REF!)+(#REF!*#REF!)+(#REF!*#REF!))/(#REF!+#REF!+#REF!)","v":{"$error":"#VALUE!"}},{"$f":"((AA36*#REF!)+(#REF!*#REF!)+(#REF!*#REF!))/(#REF!+#REF!+#REF!)","v":{"$error":"#VALUE!"}},{"$f":"((AA36*#REF!)+(#REF!*#REF!)+(#REF!*#REF!))/(#REF!+#REF!+#REF!)","v":{"$error":"#VALUE!"}}]
[null,null,null,null,null,null,null,null,null,null,null,null,null,null,null,null,null,null,null,null,null,35,{"$error":"#VALUE!"},{"$f":"AVERAGE($W$3:W37)","v":{"$error":"#VALUE!"}},null,{"$error":"#VALUE!"},{"$error":"#VALUE!"},{"$f":"AVERAGE($AA$3:AA37)","v":{"$error":"#VALUE!"}},null,null,null,{"$f":"((AA37*#REF!)+(#REF!*#REF!)+(#REF!*#REF!))/(#REF!+#REF!+#REF!)","v":{"$error":"#VALUE!"}},{"$f":"((AA37*#REF!)+(#REF!*#REF!)+(#REF!*#REF!))/(#REF!+#REF!+#REF!)","v":{"$error":"#VALUE!"}},{"$f":"((AA37*#REF!)+(#REF!*#REF!)+(#REF!*#REF!))/(#REF!+#REF!+#REF!)","v":{"$error":"#VALUE!"}},{"$f":"((AA37*#REF!)+(#REF!*#REF!)+(#REF!*#REF!))/(#REF!+#REF!+#REF!)","v":{"$error":"#VALUE!"}},{"$f":"((AA37*#REF!)+(#REF!*#REF!)+(#REF!*#REF!))/(#REF!+#REF!+#REF!)","v":{"$error":"#VALUE!"}},{"$f":"((AA37*#REF!)+(#REF!*#REF!)+(#REF!*#REF!))/(#REF!+#REF!+#REF!)","v":{"$error":"#VALUE!"}},{"$f":"((AA37*#REF!)+(#REF!*#REF!)+(#REF!*#REF!))/(#REF!+#REF!+#REF!)","v":{"$error":"#VALUE!"}}]
[null,null,null,null,null,null,null,null,null,null,null,null,null,null,null,null,null,null,null,null,null,36,{"$error":"#VALUE!"},{"$f":"AVERAGE($W$3:W38)","v":{"$error":"#VALUE!"}},null,{"$error":"#VALUE!"},{"$error":"#VALUE!"},{"$f":"AVERAGE($AA$3:AA38)","v":{"$error":"#VALUE!"}},null,null,null,{"$f":"((AA38*#REF!)+(#REF!*#REF!)+(#REF!*#REF!))/(#REF!+#REF!+#REF!)","v":{"$error":"#VALUE!"}},{"$f":"((AA38*#REF!)+(#REF!*#REF!)+(#REF!*#REF!))/(#REF!+#REF!+#REF!)","v":{"$error":"#VALUE!"}},{"$f":"((AA38*#REF!)+(#REF!*#REF!)+(#REF!*#REF!))/(#REF!+#REF!+#REF!)","v":{"$error":"#VALUE!"}},{"$f":"((AA38*#REF!)+(#REF!*#REF!)+(#REF!*#REF!))/(#REF!+#REF!+#REF!)","v":{"$error":"#VALUE!"}},{"$f":"((AA38*#REF!)+(#REF!*#REF!)+(#REF!*#REF!))/(#REF!+#REF!+#REF!)","v":{"$error":"#VALUE!"}},{"$f":"((AA38*#REF!)+(#REF!*#REF!)+(#REF!*#REF!))/(#REF!+#REF!+#REF!)","v":{"$error":"#VALUE!"}},{"$f":"((AA38*#REF!)+(#REF!*#REF!)+(#REF!*#REF!))/(#REF!+#REF!+#REF!)","v":{"$error":"#VALUE!"}}]
[null,null,null,null,null,null,null,null,null,null,null,null,null,null,null,null,null,null,null,null,null,37,{"$error":"#VALUE!"},{"$f":"AVERAGE($W$3:W39)","v":{"$error":"#VALUE!"}},null,{"$error":"#VALUE!"},{"$error":"#VALUE!"},{"$f":"AVERAGE($AA$3:AA39)","v":{"$error":"#VALUE!"}},null,null,null,{"$f":"((AA39*#REF!)+(#REF!*#REF!)+(#REF!*#REF!))/(#REF!+#REF!+#REF!)","v":{"$error":"#VALUE!"}},{"$f":"((AA39*#REF!)+(#REF!*#REF!)+(#REF!*#REF!))/(#REF!+#REF!+#REF!)","v":{"$error":"#VALUE!"}},{"$f":"((AA39*#REF!)+(#REF!*#REF!)+(#REF!*#REF!))/(#REF!+#REF!+#REF!)","v":{"$error":"#VALUE!"}},{"$f":"((AA39*#REF!)+(#REF!*#REF!)+(#REF!*#REF!))/(#REF!+#REF!+#REF!)","v":{"$error":"#VALUE!"}},{"$f":"((AA39*#REF!)+(#REF!*#REF!)+(#REF!*#REF!))/(#REF!+#REF!+#REF!)","v":{"$error":"#VALUE!"}},{"$f":"((AA39*#REF!)+(#REF!*#REF!)+(#REF!*#REF!))/(#REF!+#REF!+#REF!)","v":{"$error":"#VALUE!"}},{"$f":"((AA39*#REF!)+(#REF!*#REF!)+(#REF!*#REF!))/(#REF!+#REF!+#REF!)","v":{"$error":"#VALUE!"}}]
[null,null,null,null,null,null,null,null,null,null,null,null,null,null,null,null,null,null,null,null,null,38,{"$error":"#VALUE!"},{"$f":"AVERAGE($W$3:W40)","v":{"$error":"#VALUE!"}},null,{"$error":"#VALUE!"},{"$error":"#VALUE!"},{"$f":"AVERAGE($AA$3:AA40)","v":{"$error":"#VALUE!"}},null,null,null,{"$f":"((AA40*#REF!)+(#REF!*#REF!)+(#REF!*#REF!))/(#REF!+#REF!+#REF!)","v":{"$error":"#VALUE!"}},{"$f":"((AA40*#REF!)+(#REF!*#REF!)+(#REF!*#REF!))/(#REF!+#REF!+#REF!)","v":{"$error":"#VALUE!"}},{"$f":"((AA40*#REF!)+(#REF!*#REF!)+(#REF!*#REF!))/(#REF!+#REF!+#REF!)","v":{"$error":"#VALUE!"}},{"$f":"((AA40*#REF!)+(#REF!*#REF!)+(#REF!*#REF!))/(#REF!+#REF!+#REF!)","v":{"$error":"#VALUE!"}},{"$f":"((AA40*#REF!)+(#REF!*#REF!)+(#REF!*#REF!))/(#REF!+#REF!+#REF!)","v":{"$error":"#VALUE!"}},{"$f":"((AA40*#REF!)+(#REF!*#REF!)+(#REF!*#REF!))/(#REF!+#REF!+#REF!)","v":{"$error":"#VALUE!"}},{"$f":"((AA40*#REF!)+(#REF!*#REF!)+(#REF!*#REF!))/(#REF!+#REF!+#REF!)","v":{"$error":"#VALUE!"}}]
[null,null,null,null,null,null,null,null,null,null,null,null,null,null,null,null,null,null,null,null,null,39,{"$error":"#VALUE!"},{"$f":"AVERAGE($W$3:W41)","v":{"$error":"#VALUE!"}},null,{"$error":"#VALUE!"},{"$error":"#VALUE!"},{"$f":"AVERAGE($AA$3:AA41)","v":{"$error":"#VALUE!"}},null,null,null,{"$f":"((AA41*#REF!)+(#REF!*#REF!)+(#REF!*#REF!))/(#REF!+#REF!+#REF!)","v":{"$error":"#VALUE!"}},{"$f":"((AA41*#REF!)+(#REF!*#REF!)+(#REF!*#REF!))/(#REF!+#REF!+#REF!)","v":{"$error":"#VALUE!"}},{"$f":"((AA41*#REF!)+(#REF!*#REF!)+(#REF!*#REF!))/(#REF!+#REF!+#REF!)","v":{"$error":"#VALUE!"}},{"$f":"((AA41*#REF!)+(#REF!*#REF!)+(#REF!*#REF!))/(#REF!+#REF!+#REF!)","v":{"$error":"#VALUE!"}},{"$f":"((AA41*#REF!)+(#REF!*#REF!)+(#REF!*#REF!))/(#REF!+#REF!+#REF!)","v":{"$error":"#VALUE!"}},{"$f":"((AA41*#REF!)+(#REF!*#REF!)+(#REF!*#REF!))/(#REF!+#REF!+#REF!)","v":{"$error":"#VALUE!"}},{"$f":"((AA41*#REF!)+(#REF!*#REF!)+(#REF!*#REF!))/(#REF!+#REF!+#REF!)","v":{"$error":"#VALUE!"}}]
[null,null,null,null,null,null,null,null,null,null,null,null,null,null,null,null,null,null,null,null,null,40,{"$error":"#VALUE!"},{"$f":"AVERAGE($W$3:W42)","v":{"$error":"#VALUE!"}},null,{"$error":"#VALUE!"},{"$error":"#VALUE!"},{"$f":"AVERAGE($AA$3:AA42)","v":{"$error":"#VALUE!"}},null,null,null,{"$f":"((AA42*#REF!)+(#REF!*#REF!)+(#REF!*#REF!))/(#REF!+#REF!+#REF!)","v":{"$error":"#VALUE!"}},{"$f":"((AA42*#REF!)+(#REF!*#REF!)+(#REF!*#REF!))/(#REF!+#REF!+#REF!)","v":{"$error":"#VALUE!"}},{"$f":"((AA42*#REF!)+(#REF!*#REF!)+(#REF!*#REF!))/(#REF!+#REF!+#REF!)","v":{"$error":"#VALUE!"}},{"$f":"((AA42*#REF!)+(#REF!*#REF!)+(#REF!*#REF!))/(#REF!+#REF!+#REF!)","v":{"$error":"#VALUE!"}},{"$f":"((AA42*#REF!)+(#REF!*#REF!)+(#REF!*#REF!))/(#REF!+#REF!+#REF!)","v":{"$error":"#VALUE!"}},{"$f":"((AA42*#REF!)+(#REF!*#REF!)+(#REF!*#REF!))/(#REF!+#REF!+#REF!)","v":{"$error":"#VALUE!"}},{"$f":"((AA42*#REF!)+(#REF!*#REF!)+(#REF!*#REF!))/(#REF!+#REF!+#REF!)","v":{"$error":"#VALUE!"}}]
[null,null,null,null,null,null,null,null,null,null,null,null,null,null,null,null,null,null,null,null,null,41,{"$error":"#VALUE!"},{"$f":"AVERAGE($W$3:W43)","v":{"$error":"#VALUE!"}},null,{"$error":"#VALUE!"},{"$error":"#VALUE!"},{"$f":"AVERAGE($AA$3:AA43)","v":{"$error":"#VALUE!"}},null,null,null,{"$f":"((AA43*#REF!)+(#REF!*#REF!)+(#REF!*#REF!))/(#REF!+#REF!+#REF!)","v":{"$error":"#VALUE!"}},{"$f":"((AA43*#REF!)+(#REF!*#REF!)+(#REF!*#REF!))/(#REF!+#REF!+#REF!)","v":{"$error":"#VALUE!"}},{"$f":"((AA43*#REF!)+(#REF!*#REF!)+(#REF!*#REF!))/(#REF!+#REF!+#REF!)","v":{"$error":"#VALUE!"}},{"$f":"((AA43*#REF!)+(#REF!*#REF!)+(#REF!*#REF!))/(#REF!+#REF!+#REF!)","v":{"$error":"#VALUE!"}},{"$f":"((AA43*#REF!)+(#REF!*#REF!)+(#REF!*#REF!))/(#REF!+#REF!+#REF!)","v":{"$error":"#VALUE!"}},{"$f":"((AA43*#REF!)+(#REF!*#REF!)+(#REF!*#REF!))/(#REF!+#REF!+#REF!)","v":{"$error":"#VALUE!"}},{"$f":"((AA43*#REF!)+(#REF!*#REF!)+(#REF!*#REF!))/(#REF!+#REF!+#REF!)","v":{"$error":"#VALUE!"}}]
[null,null,null,null,null,null,null,null,null,null,null,null,null,null,null,null,null,null,null,null,null,42,{"$error":"#VALUE!"},{"$f":"AVERAGE($W$3:W44)","v":{"$error":"#VALUE!"}},null,{"$error":"#VALUE!"},{"$error":"#VALUE!"},{"$f":"AVERAGE($AA$3:AA44)","v":{"$error":"#VALUE!"}},null,null,null,{"$f":"((AA44*#REF!)+(#REF!*#REF!)+(#REF!*#REF!))/(#REF!+#REF!+#REF!)","v":{"$error":"#VALUE!"}},{"$f":"((AA44*#REF!)+(#REF!*#REF!)+(#REF!*#REF!))/(#REF!+#REF!+#REF!)","v":{"$error":"#VALUE!"}},{"$f":"((AA44*#REF!)+(#REF!*#REF!)+(#REF!*#REF!))/(#REF!+#REF!+#REF!)","v":{"$error":"#VALUE!"}},{"$f":"((AA44*#REF!)+(#REF!*#REF!)+(#REF!*#REF!))/(#REF!+#REF!+#REF!)","v":{"$error":"#VALUE!"}},{"$f":"((AA44*#REF!)+(#REF!*#REF!)+(#REF!*#REF!))/(#REF!+#REF!+#REF!)","v":{"$error":"#VALUE!"}},{"$f":"((AA44*#REF!)+(#REF!*#REF!)+(#REF!*#REF!))/(#REF!+#REF!+#REF!)","v":{"$error":"#VALUE!"}},{"$f":"((AA44*#REF!)+(#REF!*#REF!)+(#REF!*#REF!))/(#REF!+#REF!+#REF!)","v":{"$error":"#VALUE!"}}]
[null,null,null,null,null,null,null,null,null,null,null,null,null,null,null,null,null,null,null,null,null,43,{"$error":"#VALUE!"},{"$f":"AVERAGE($W$3:W45)","v":{"$error":"#VALUE!"}},null,{"$error":"#VALUE!"},{"$error":"#VALUE!"},{"$f":"AVERAGE($AA$3:AA45)","v":{"$error":"#VALUE!"}},null,null,null,{"$f":"((AA45*#REF!)+(#REF!*#REF!)+(#REF!*#REF!))/(#REF!+#REF!+#REF!)","v":{"$error":"#VALUE!"}},{"$f":"((AA45*#REF!)+(#REF!*#REF!)+(#REF!*#REF!))/(#REF!+#REF!+#REF!)","v":{"$error":"#VALUE!"}},{"$f":"((AA45*#REF!)+(#REF!*#REF!)+(#REF!*#REF!))/(#REF!+#REF!+#REF!)","v":{"$error":"#VALUE!"}},{"$f":"((AA45*#REF!)+(#REF!*#REF!)+(#REF!*#REF!))/(#REF!+#REF!+#REF!)","v":{"$error":"#VALUE!"}},{"$f":"((AA45*#REF!)+(#REF!*#REF!)+(#REF!*#REF!))/(#REF!+#REF!+#REF!)","v":{"$error":"#VALUE!"}},{"$f":"((AA45*#REF!)+(#REF!*#REF!)+(#REF!*#REF!))/(#REF!+#REF!+#REF!)","v":{"$error":"#VALUE!"}},{"$f":"((AA45*#REF!)+(#REF!*#REF!)+(#REF!*#REF!))/(#REF!+#REF!+#REF!)","v":{"$error":"#VALUE!"}}]
[null,null,null,null,null,null,null,null,null,null,null,null,null,null,null,null,null,null,null,null,null,44,{"$error":"#VALUE!"},{"$f":"AVERAGE($W$3:W46)","v":{"$error":"#VALUE!"}},null,{"$error":"#VALUE!"},{"$error":"#VALUE!"},{"$f":"AVERAGE($AA$3:AA46)","v":{"$error":"#VALUE!"}},null,null,null,{"$f":"((AA46*#REF!)+(#REF!*#REF!)+(#REF!*#REF!))/(#REF!+#REF!+#REF!)","v":{"$error":"#VALUE!"}},{"$f":"((AA46*#REF!)+(#REF!*#REF!)+(#REF!*#REF!))/(#REF!+#REF!+#REF!)","v":{"$error":"#VALUE!"}},{"$f":"((AA46*#REF!)+(#REF!*#REF!)+(#REF!*#REF!))/(#REF!+#REF!+#REF!)","v":{"$error":"#VALUE!"}},{"$f":"((AA46*#REF!)+(#REF!*#REF!)+(#REF!*#REF!))/(#REF!+#REF!+#REF!)","v":{"$error":"#VALUE!"}},{"$f":"((AA46*#REF!)+(#REF!*#REF!)+(#REF!*#REF!))/(#REF!+#REF!+#REF!)","v":{"$error":"#VALUE!"}},{"$f":"((AA46*#REF!)+(#REF!*#REF!)+(#REF!*#REF!))/(#REF!+#REF!+#REF!)","v":{"$error":"#VALUE!"}},{"$f":"((AA46*#REF!)+(#REF!*#REF!)+(#REF!*#REF!))/(#REF!+#REF!+#REF!)","v":{"$error":"#VALUE!"}}]
[null,null,null,null,null,null,null,null,null,null,null,null,null,null,null,null,null,null,null,null,null,45,{"$error":"#VALUE!"},{"$f":"AVERAGE($W$3:W47)","v":{"$error":"#VALUE!"}},null,{"$error":"#VALUE!"},{"$error":"#VALUE!"},{"$f":"AVERAGE($AA$3:AA47)","v":{"$error":"#VALUE!"}},null,null,null,{"$f":"((AA47*#REF!)+(#REF!*#REF!)+(#REF!*#REF!))/(#REF!+#REF!+#REF!)","v":{"$error":"#VALUE!"}},{"$f":"((AA47*#REF!)+(#REF!*#REF!)+(#REF!*#REF!))/(#REF!+#REF!+#REF!)","v":{"$error":"#VALUE!"}},{"$f":"((AA47*#REF!)+(#REF!*#REF!)+(#REF!*#REF!))/(#REF!+#REF!+#REF!)","v":{"$error":"#VALUE!"}},{"$f":"((AA47*#REF!)+(#REF!*#REF!)+(#REF!*#REF!))/(#REF!+#REF!+#REF!)","v":{"$error":"#VALUE!"}},{"$f":"((AA47*#REF!)+(#REF!*#REF!)+(#REF!*#REF!))/(#REF!+#REF!+#REF!)","v":{"$error":"#VALUE!"}},{"$f":"((AA47*#REF!)+(#REF!*#REF!)+(#REF!*#REF!))/(#REF!+#REF!+#REF!)","v":{"$error":"#VALUE!"}},{"$f":"((AA47*#REF!)+(#REF!*#REF!)+(#REF!*#REF!))/(#REF!+#REF!+#REF!)","v":{"$error":"#VALUE!"}}]
[null,null,null,null,null,null,null,null,null,null,null,null,null,null,null,null,null,null,null,null,null,46,{"$error":"#VALUE!"},{"$f":"AVERAGE($W$3:W48)","v":{"$error":"#VALUE!"}},null,{"$error":"#VALUE!"},{"$error":"#VALUE!"},{"$f":"AVERAGE($AA$3:AA48)","v":{"$error":"#VALUE!"}},null,null,null,{"$f":"((AA48*#REF!)+(#REF!*#REF!)+(#REF!*#REF!))/(#REF!+#REF!+#REF!)","v":{"$error":"#VALUE!"}},{"$f":"((AA48*#REF!)+(#REF!*#REF!)+(#REF!*#REF!))/(#REF!+#REF!+#REF!)","v":{"$error":"#VALUE!"}},{"$f":"((AA48*#REF!)+(#REF!*#REF!)+(#REF!*#REF!))/(#REF!+#REF!+#REF!)","v":{"$error":"#VALUE!"}},{"$f":"((AA48*#REF!)+(#REF!*#REF!)+(#REF!*#REF!))/(#REF!+#REF!+#REF!)","v":{"$error":"#VALUE!"}},{"$f":"((AA48*#REF!)+(#REF!*#REF!)+(#REF!*#REF!))/(#REF!+#REF!+#REF!)","v":{"$error":"#VALUE!"}},{"$f":"((AA48*#REF!)+(#REF!*#REF!)+(#REF!*#REF!))/(#REF!+#REF!+#REF!)","v":{"$error":"#VALUE!"}},{"$f":"((AA48*#REF!)+(#REF!*#REF!)+(#REF!*#REF!))/(#REF!+#REF!+#REF!)","v":{"$error":"#VALUE!"}}]
[null,null,null,null,null,null,null,null,null,null,null,null,null,null,null,null,null,null,null,null,null,47,{"$error":"#VALUE!"},{"$f":"AVERAGE($W$3:W49)","v":{"$error":"#VALUE!"}},null,{"$error":"#VALUE!"},{"$error":"#VALUE!"},{"$f":"AVERAGE($AA$3:AA49)","v":{"$error":"#VALUE!"}},null,null,null,{"$f":"((AA49*#REF!)+(#REF!*#REF!)+(#REF!*#REF!))/(#REF!+#REF!+#REF!)","v":{"$error":"#VALUE!"}},{"$f":"((AA49*#REF!)+(#REF!*#REF!)+(#REF!*#REF!))/(#REF!+#REF!+#REF!)","v":{"$error":"#VALUE!"}},{"$f":"((AA49*#REF!)+(#REF!*#REF!)+(#REF!*#REF!))/(#REF!+#REF!+#REF!)","v":{"$error":"#VALUE!"}},{"$f":"((AA49*#REF!)+(#REF!*#REF!)+(#REF!*#REF!))/(#REF!+#REF!+#REF!)","v":{"$error":"#VALUE!"}},{"$f":"((AA49*#REF!)+(#REF!*#REF!)+(#REF!*#REF!))/(#REF!+#REF!+#REF!)","v":{"$error":"#VALUE!"}},{"$f":"((AA49*#REF!)+(#REF!*#REF!)+(#REF!*#REF!))/(#REF!+#REF!+#REF!)","v":{"$error":"#VALUE!"}},{"$f":"((AA49*#REF!)+(#REF!*#REF!)+(#REF!*#REF!))/(#REF!+#REF!+#REF!)","v":{"$error":"#VALUE!"}}]
[null,null,null,null,null,null,null,null,null,null,null,null,null,null,null,null,null,null,null,null,null,48,{"$error":"#VALUE!"},{"$f":"AVERAGE($W$3:W50)","v":{"$error":"#VALUE!"}},null,{"$error":"#VALUE!"},{"$error":"#VALUE!"},{"$f":"AVERAGE($AA$3:AA50)","v":{"$error":"#VALUE!"}},null,null,null,{"$f":"((AA50*#REF!)+(#REF!*#REF!)+(#REF!*#REF!))/(#REF!+#REF!+#REF!)","v":{"$error":"#VALUE!"}},{"$f":"((AA50*#REF!)+(#REF!*#REF!)+(#REF!*#REF!))/(#REF!+#REF!+#REF!)","v":{"$error":"#VALUE!"}},{"$f":"((AA50*#REF!)+(#REF!*#REF!)+(#REF!*#REF!))/(#REF!+#REF!+#REF!)","v":{"$error":"#VALUE!"}},{"$f":"((AA50*#REF!)+(#REF!*#REF!)+(#REF!*#REF!))/(#REF!+#REF!+#REF!)","v":{"$error":"#VALUE!"}},{"$f":"((AA50*#REF!)+(#REF!*#REF!)+(#REF!*#REF!))/(#REF!+#REF!+#REF!)","v":{"$error":"#VALUE!"}},{"$f":"((AA50*#REF!)+(#REF!*#REF!)+(#REF!*#REF!))/(#REF!+#REF!+#REF!)","v":{"$error":"#VALUE!"}},{"$f":"((AA50*#REF!)+(#REF!*#REF!)+(#REF!*#REF!))/(#REF!+#REF!+#REF!)","v":{"$error":"#VALUE!"}}]
[null,null,null,null,null,null,null,null,null,null,null,null,null,null,null,null,null,null,null,null,null,49,{"$error":"#VALUE!"},{"$f":"AVERAGE($W$3:W51)","v":{"$error":"#VALUE!"}},null,{"$error":"#VALUE!"},{"$error":"#VALUE!"},{"$f":"AVERAGE($AA$3:AA51)","v":{"$error":"#VALUE!"}},null,null,null,{"$f":"((AA51*#REF!)+(#REF!*#REF!)+(#REF!*#REF!))/(#REF!+#REF!+#REF!)","v":{"$error":"#VALUE!"}},{"$f":"((AA51*#REF!)+(#REF!*#REF!)+(#REF!*#REF!))/(#REF!+#REF!+#REF!)","v":{"$error":"#VALUE!"}},{"$f":"((AA51*#REF!)+(#REF!*#REF!)+(#REF!*#REF!))/(#REF!+#REF!+#REF!)","v":{"$error":"#VALUE!"}},{"$f":"((AA51*#REF!)+(#REF!*#REF!)+(#REF!*#REF!))/(#REF!+#REF!+#REF!)","v":{"$error":"#VALUE!"}},{"$f":"((AA51*#REF!)+(#REF!*#REF!)+(#REF!*#REF!))/(#REF!+#REF!+#REF!)","v":{"$error":"#VALUE!"}},{"$f":"((AA51*#REF!)+(#REF!*#REF!)+(#REF!*#REF!))/(#REF!+#REF!+#REF!)","v":{"$error":"#VALUE!"}},{"$f":"((AA51*#REF!)+(#REF!*#REF!)+(#REF!*#REF!))/(#REF!+#REF!+#REF!)","v":{"$error":"#VALUE!"}}]
[null,null,null,null,null,null,null,null,null,null,null,null,null,null,null,null,null,null,null,null,null,50,{"$error":"#VALUE!"},{"$f":"AVERAGE($W$3:W52)","v":{"$error":"#VALUE!"}},null,{"$error":"#VALUE!"},{"$error":"#VALUE!"},{"$f":"AVERAGE($AA$3:AA52)","v":{"$error":"#VALUE!"}},null,null,null,{"$f":"((AA52*#REF!)+(#REF!*#REF!)+(#REF!*#REF!))/(#REF!+#REF!+#REF!)","v":{"$error":"#VALUE!"}},{"$f":"((AA52*#REF!)+(#REF!*#REF!)+(#REF!*#REF!))/(#REF!+#REF!+#REF!)","v":{"$error":"#VALUE!"}},{"$f":"((AA52*#REF!)+(#REF!*#REF!)+(#REF!*#REF!))/(#REF!+#REF!+#REF!)","v":{"$error":"#VALUE!"}},{"$f":"((AA52*#REF!)+(#REF!*#REF!)+(#REF!*#REF!))/(#REF!+#REF!+#REF!)","v":{"$error":"#VALUE!"}},{"$f":"((AA52*#REF!)+(#REF!*#REF!)+(#REF!*#REF!))/(#REF!+#REF!+#REF!)","v":{"$error":"#VALUE!"}},{"$f":"((AA52*#REF!)+(#REF!*#REF!)+(#REF!*#REF!))/(#REF!+#REF!+#REF!)","v":{"$error":"#VALUE!"}},{"$f":"((AA52*#REF!)+(#REF!*#REF!)+(#REF!*#REF!))/(#REF!+#REF!+#REF!)","v":{"$error":"#VALUE!"}}]
[null,null,null,null,null,null,null,null,null,null,null,null,null,null,null,null,null,null,null,null,null,51,{"$error":"#VALUE!"},{"$f":"AVERAGE($W$3:W53)","v":{"$error":"#VALUE!"}},null,{"$error":"#VALUE!"},{"$error":"#VALUE!"},{"$f":"AVERAGE($AA$3:AA53)","v":{"$error":"#VALUE!"}},null,null,null,{"$f":"((AA53*#REF!)+(#REF!*#REF!)+(#REF!*#REF!))/(#REF!+#REF!+#REF!)","v":{"$error":"#VALUE!"}},{"$f":"((AA53*#REF!)+(#REF!*#REF!)+(#REF!*#REF!))/(#REF!+#REF!+#REF!)","v":{"$error":"#VALUE!"}},{"$f":"((AA53*#REF!)+(#REF!*#REF!)+(#REF!*#REF!))/(#REF!+#REF!+#REF!)","v":{"$error":"#VALUE!"}},{"$f":"((AA53*#REF!)+(#REF!*#REF!)+(#REF!*#REF!))/(#REF!+#REF!+#REF!)","v":{"$error":"#VALUE!"}},{"$f":"((AA53*#REF!)+(#REF!*#REF!)+(#REF!*#REF!))/(#REF!+#REF!+#REF!)","v":{"$error":"#VALUE!"}},{"$f":"((AA53*#REF!)+(#REF!*#REF!)+(#REF!*#REF!))/(#REF!+#REF!+#REF!)","v":{"$error":"#VALUE!"}},{"$f":"((AA53*#REF!)+(#REF!*#REF!)+(#REF!*#REF!))/(#REF!+#REF!+#REF!)","v":{"$error":"#VALUE!"}}]
[null,null,null,null,null,null,null,null,null,null,null,null,null,null,null,null,null,null,null,null,null,52,{"$error":"#VALUE!"},{"$f":"AVERAGE($W$3:W54)","v":{"$error":"#VALUE!"}},null,{"$error":"#VALUE!"},{"$error":"#VALUE!"},{"$f":"AVERAGE($AA$3:AA54)","v":{"$error":"#VALUE!"}},null,null,null,{"$f":"((AA54*#REF!)+(#REF!*#REF!)+(#REF!*#REF!))/(#REF!+#REF!+#REF!)","v":{"$error":"#VALUE!"}},{"$f":"((AA54*#REF!)+(#REF!*#REF!)+(#REF!*#REF!))/(#REF!+#REF!+#REF!)","v":{"$error":"#VALUE!"}},{"$f":"((AA54*#REF!)+(#REF!*#REF!)+(#REF!*#REF!))/(#REF!+#REF!+#REF!)","v":{"$error":"#VALUE!"}},{"$f":"((AA54*#REF!)+(#REF!*#REF!)+(#REF!*#REF!))/(#REF!+#REF!+#REF!)","v":{"$error":"#VALUE!"}},{"$f":"((AA54*#REF!)+(#REF!*#REF!)+(#REF!*#REF!))/(#REF!+#REF!+#REF!)","v":{"$error":"#VALUE!"}},{"$f":"((AA54*#REF!)+(#REF!*#REF!)+(#REF!*#REF!))/(#REF!+#REF!+#REF!)","v":{"$error":"#VALUE!"}},{"$f":"((AA54*#REF!)+(#REF!*#REF!)+(#REF!*#REF!))/(#REF!+#REF!+#REF!)","v":{"$error":"#VALUE!"}}]
[null,null,null,null,null,null,null,null,null,null,null,null,null,null,null,null,null,null,null,null,null,53,{"$error":"#VALUE!"},{"$f":"AVERAGE($W$3:W55)","v":{"$error":"#VALUE!"}},null,{"$error":"#VALUE!"},{"$error":"#VALUE!"},{"$f":"AVERAGE($AA$3:AA55)","v":{"$error":"#VALUE!"}},null,null,null,{"$f":"((AA55*#REF!)+(#REF!*#REF!)+(#REF!*#REF!))/(#REF!+#REF!+#REF!)","v":{"$error":"#VALUE!"}},{"$f":"((AA55*#REF!)+(#REF!*#REF!)+(#REF!*#REF!))/(#REF!+#REF!+#REF!)","v":{"$error":"#VALUE!"}},{"$f":"((AA55*#REF!)+(#REF!*#REF!)+(#REF!*#REF!))/(#REF!+#REF!+#REF!)","v":{"$error":"#VALUE!"}},{"$f":"((AA55*#REF!)+(#REF!*#REF!)+(#REF!*#REF!))/(#REF!+#REF!+#REF!)","v":{"$error":"#VALUE!"}},{"$f":"((AA55*#REF!)+(#REF!*#REF!)+(#REF!*#REF!))/(#REF!+#REF!+#REF!)","v":{"$error":"#VALUE!"}},{"$f":"((AA55*#REF!)+(#REF!*#REF!)+(#REF!*#REF!))/(#REF!+#REF!+#REF!)","v":{"$error":"#VALUE!"}},{"$f":"((AA55*#REF!)+(#REF!*#REF!)+(#REF!*#REF!))/(#REF!+#REF!+#REF!)","v":{"$error":"#VALUE!"}}]
[null,null,null,null,null,null,null,null,null,null,null,null,null,null,null,null,null,null,null,null,null,54,{"$error":"#VALUE!"},{"$f":"AVERAGE($W$3:W56)","v":{"$error":"#VALUE!"}},null,{"$error":"#VALUE!"},{"$error":"#VALUE!"},{"$f":"AVERAGE($AA$3:AA56)","v":{"$error":"#VALUE!"}},null,null,null,{"$f":"((AA56*#REF!)+(#REF!*#REF!)+(#REF!*#REF!))/(#REF!+#REF!+#REF!)","v":{"$error":"#VALUE!"}},{"$f":"((AA56*#REF!)+(#REF!*#REF!)+(#REF!*#REF!))/(#REF!+#REF!+#REF!)","v":{"$error":"#VALUE!"}},{"$f":"((AA56*#REF!)+(#REF!*#REF!)+(#REF!*#REF!))/(#REF!+#REF!+#REF!)","v":{"$error":"#VALUE!"}},{"$f":"((AA56*#REF!)+(#REF!*#REF!)+(#REF!*#REF!))/(#REF!+#REF!+#REF!)","v":{"$error":"#VALUE!"}},{"$f":"((AA56*#REF!)+(#REF!*#REF!)+(#REF!*#REF!))/(#REF!+#REF!+#REF!)","v":{"$error":"#VALUE!"}},{"$f":"((AA56*#REF!)+(#REF!*#REF!)+(#REF!*#REF!))/(#REF!+#REF!+#REF!)","v":{"$error":"#VALUE!"}},{"$f":"((AA56*#REF!)+(#REF!*#REF!)+(#REF!*#REF!))/(#REF!+#REF!+#REF!)","v":{"$error":"#VALUE!"}}]
[null,null,null,null,null,null,null,null,null,null,null,null,null,null,null,null,null,null,null,null,null,55,{"$error":"#VALUE!"},{"$f":"AVERAGE($W$3:W57)","v":{"$error":"#VALUE!"}},null,{"$error":"#VALUE!"},{"$error":"#VALUE!"},{"$f":"AVERAGE($AA$3:AA57)","v":{"$error":"#VALUE!"}},null,null,null,{"$f":"((AA57*#REF!)+(#REF!*#REF!)+(#REF!*#REF!))/(#REF!+#REF!+#REF!)","v":{"$error":"#VALUE!"}},{"$f":"((AA57*#REF!)+(#REF!*#REF!)+(#REF!*#REF!))/(#REF!+#REF!+#REF!)","v":{"$error":"#VALUE!"}},{"$f":"((AA57*#REF!)+(#REF!*#REF!)+(#REF!*#REF!))/(#REF!+#REF!+#REF!)","v":{"$error":"#VALUE!"}},{"$f":"((AA57*#REF!)+(#REF!*#REF!)+(#REF!*#REF!))/(#REF!+#REF!+#REF!)","v":{"$error":"#VALUE!"}},{"$f":"((AA57*#REF!)+(#REF!*#REF!)+(#REF!*#REF!))/(#REF!+#REF!+#REF!)","v":{"$error":"#VALUE!"}},{"$f":"((AA57*#REF!)+(#REF!*#REF!)+(#REF!*#REF!))/(#REF!+#REF!+#REF!)","v":{"$error":"#VALUE!"}},{"$f":"((AA57*#REF!)+(#REF!*#REF!)+(#REF!*#REF!))/(#REF!+#REF!+#REF!)","v":{"$error":"#VALUE!"}}]
[null,null,null,null,null,null,null,null,null,null,null,null,null,null,null,null,null,null,null,null,null,56,{"$error":"#VALUE!"},{"$f":"AVERAGE($W$3:W58)","v":{"$error":"#VALUE!"}},null,{"$error":"#VALUE!"},{"$error":"#VALUE!"},{"$f":"AVERAGE($AA$3:AA58)","v":{"$error":"#VALUE!"}},null,null,null,{"$f":"((AA58*#REF!)+(#REF!*#REF!)+(#REF!*#REF!))/(#REF!+#REF!+#REF!)","v":{"$error":"#VALUE!"}},{"$f":"((AA58*#REF!)+(#REF!*#REF!)+(#REF!*#REF!))/(#REF!+#REF!+#REF!)","v":{"$error":"#VALUE!"}},{"$f":"((AA58*#REF!)+(#REF!*#REF!)+(#REF!*#REF!))/(#REF!+#REF!+#REF!)","v":{"$error":"#VALUE!"}},{"$f":"((AA58*#REF!)+(#REF!*#REF!)+(#REF!*#REF!))/(#REF!+#REF!+#REF!)","v":{"$error":"#VALUE!"}},{"$f":"((AA58*#REF!)+(#REF!*#REF!)+(#REF!*#REF!))/(#REF!+#REF!+#REF!)","v":{"$error":"#VALUE!"}},{"$f":"((AA58*#REF!)+(#REF!*#REF!)+(#REF!*#REF!))/(#REF!+#REF!+#REF!)","v":{"$error":"#VALUE!"}},{"$f":"((AA58*#REF!)+(#REF!*#REF!)+(#REF!*#REF!))/(#REF!+#REF!+#REF!)","v":{"$error":"#VALUE!"}}]
[null,null,null,null,null,null,null,null,null,null,null,null,null,null,null,null,null,null,null,null,null,57,{"$error":"#VALUE!"},{"$f":"AVERAGE($W$3:W59)","v":{"$error":"#VALUE!"}},null,{"$error":"#VALUE!"},{"$error":"#VALUE!"},{"$f":"AVERAGE($AA$3:AA59)","v":{"$error":"#VALUE!"}},null,null,null,{"$f":"((AA59*#REF!)+(#REF!*#REF!)+(#REF!*#REF!))/(#REF!+#REF!+#REF!)","v":{"$error":"#VALUE!"}},{"$f":"((AA59*#REF!)+(#REF!*#REF!)+(#REF!*#REF!))/(#REF!+#REF!+#REF!)","v":{"$error":"#VALUE!"}},{"$f":"((AA59*#REF!)+(#REF!*#REF!)+(#REF!*#REF!))/(#REF!+#REF!+#REF!)","v":{"$error":"#VALUE!"}},{"$f":"((AA59*#REF!)+(#REF!*#REF!)+(#REF!*#REF!))/(#REF!+#REF!+#REF!)","v":{"$error":"#VALUE!"}},{"$f":"((AA59*#REF!)+(#REF!*#REF!)+(#REF!*#REF!))/(#REF!+#REF!+#REF!)","v":{"$error":"#VALUE!"}},{"$f":"((AA59*#REF!)+(#REF!*#REF!)+(#REF!*#REF!))/(#REF!+#REF!+#REF!)","v":{"$error":"#VALUE!"}},{"$f":"((AA59*#REF!)+(#REF!*#REF!)+(#REF!*#REF!))/(#REF!+#REF!+#REF!)","v":{"$error":"#VALUE!"}}]
[null,null,null,null,null,null,null,null,null,null,null,null,null,null,null,null,null,null,null,null,null,58,{"$error":"#VALUE!"},{"$f":"AVERAGE($W$3:W60)","v":{"$error":"#VALUE!"}},null,{"$error":"#VALUE!"},{"$error":"#VALUE!"},{"$f":"AVERAGE($AA$3:AA60)","v":{"$error":"#VALUE!"}},null,null,null,{"$f":"((AA60*#REF!)+(#REF!*#REF!)+(#REF!*#REF!))/(#REF!+#REF!+#REF!)","v":{"$error":"#VALUE!"}},{"$f":"((AA60*#REF!)+(#REF!*#REF!)+(#REF!*#REF!))/(#REF!+#REF!+#REF!)","v":{"$error":"#VALUE!"}},{"$f":"((AA60*#REF!)+(#REF!*#REF!)+(#REF!*#REF!))/(#REF!+#REF!+#REF!)","v":{"$error":"#VALUE!"}},{"$f":"((AA60*#REF!)+(#REF!*#REF!)+(#REF!*#REF!))/(#REF!+#REF!+#REF!)","v":{"$error":"#VALUE!"}},{"$f":"((AA60*#REF!)+(#REF!*#REF!)+(#REF!*#REF!))/(#REF!+#REF!+#REF!)","v":{"$error":"#VALUE!"}},{"$f":"((AA60*#REF!)+(#REF!*#REF!)+(#REF!*#REF!))/(#REF!+#REF!+#REF!)","v":{"$error":"#VALUE!"}},{"$f":"((AA60*#REF!)+(#REF!*#REF!)+(#REF!*#REF!))/(#REF!+#REF!+#REF!)","v":{"$error":"#VALUE!"}}]
[null,null,null,null,null,null,null,null,null,null,null,null,null,null,null,null,null,null,null,null,null,59,{"$error":"#VALUE!"},{"$f":"AVERAGE($W$3:W61)","v":{"$error":"#VALUE!"}},null,{"$error":"#VALUE!"},{"$error":"#VALUE!"},{"$f":"AVERAGE($AA$3:AA61)","v":{"$error":"#VALUE!"}},null,null,null,{"$f":"((AA61*#REF!)+(#REF!*#REF!)+(#REF!*#REF!))/(#REF!+#REF!+#REF!)","v":{"$error":"#VALUE!"}},{"$f":"((AA61*#REF!)+(#REF!*#REF!)+(#REF!*#REF!))/(#REF!+#REF!+#REF!)","v":{"$error":"#VALUE!"}},{"$f":"((AA61*#REF!)+(#REF!*#REF!)+(#REF!*#REF!))/(#REF!+#REF!+#REF!)","v":{"$error":"#VALUE!"}},{"$f":"((AA61*#REF!)+(#REF!*#REF!)+(#REF!*#REF!))/(#REF!+#REF!+#REF!)","v":{"$error":"#VALUE!"}},{"$f":"((AA61*#REF!)+(#REF!*#REF!)+(#REF!*#REF!))/(#REF!+#REF!+#REF!)","v":{"$error":"#VALUE!"}},{"$f":"((AA61*#REF!)+(#REF!*#REF!)+(#REF!*#REF!))/(#REF!+#REF!+#REF!)","v":{"$error":"#VALUE!"}},{"$f":"((AA61*#REF!)+(#REF!*#REF!)+(#REF!*#REF!))/(#REF!+#REF!+#REF!)","v":{"$error":"#VALUE!"}}]
[null,null,null,null,null,null,null,null,null,null,null,null,null,null,null,null,null,null,null,null,null,60,{"$error":"#VALUE!"},{"$f":"AVERAGE($W$3:W62)","v":{"$error":"#VALUE!"}},null,{"$error":"#VALUE!"},{"$error":"#VALUE!"},{"$f":"AVERAGE($AA$3:AA62)","v":{"$error":"#VALUE!"}},null,null,null,{"$f":"((AA62*#REF!)+(#REF!*#REF!)+(#REF!*#REF!))/(#REF!+#REF!+#REF!)","v":{"$error":"#VALUE!"}},{"$f":"((AA62*#REF!)+(#REF!*#REF!)+(#REF!*#REF!))/(#REF!+#REF!+#REF!)","v":{"$error":"#VALUE!"}},{"$f":"((AA62*#REF!)+(#REF!*#REF!)+(#REF!*#REF!))/(#REF!+#REF!+#REF!)","v":{"$error":"#VALUE!"}},{"$f":"((AA62*#REF!)+(#REF!*#REF!)+(#REF!*#REF!))/(#REF!+#REF!+#REF!)","v":{"$error":"#VALUE!"}},{"$f":"((AA62*#REF!)+(#REF!*#REF!)+(#REF!*#REF!))/(#REF!+#REF!+#REF!)","v":{"$error":"#VALUE!"}},{"$f":"((AA62*#REF!)+(#REF!*#REF!)+(#REF!*#REF!))/(#REF!+#REF!+#REF!)","v":{"$error":"#VALUE!"}},{"$f":"((AA62*#REF!)+(#REF!*#REF!)+(#REF!*#REF!))/(#REF!+#REF!+#REF!)","v":{"$error":"#VALUE!"}}]
[null,null,null,null,null,null,null,null,null,null,null,null,null,null,null,null,null,null,null,null,null,61,{"$error":"#VALUE!"},{"$f":"AVERAGE($W$3:W63)","v":{"$error":"#VALUE!"}},null,{"$error":"#VALUE!"},{"$error":"#VALUE!"},{"$f":"AVERAGE($AA$3:AA63)","v":{"$error":"#VALUE!"}},null,null,null,{"$f":"((AA63*#REF!)+(#REF!*#REF!)+(#REF!*#REF!))/(#REF!+#REF!+#REF!)","v":{"$error":"#VALUE!"}},{"$f":"((AA63*#REF!)+(#REF!*#REF!)+(#REF!*#REF!))/(#REF!+#REF!+#REF!)","v":{"$error":"#VALUE!"}},{"$f":"((AA63*#REF!)+(#REF!*#REF!)+(#REF!*#REF!))/(#REF!+#REF!+#REF!)","v":{"$error":"#VALUE!"}},{"$f":"((AA63*#REF!)+(#REF!*#REF!)+(#REF!*#REF!))/(#REF!+#REF!+#REF!)","v":{"$error":"#VALUE!"}},{"$f":"((AA63*#REF!)+(#REF!*#REF!)+(#REF!*#REF!))/(#REF!+#REF!+#REF!)","v":{"$error":"#VALUE!"}},{"$f":"((AA63*#REF!)+(#REF!*#REF!)+(#REF!*#REF!))/(#REF!+#REF!+#REF!)","v":{"$error":"#VALUE!"}},{"$f":"((AA63*#REF!)+(#REF!*#REF!)+(#REF!*#REF!))/(#REF!+#REF!+#REF!)","v":{"$error":"#VALUE!"}}]
[null,null,null,null,null,null,null,null,null,null,null,null,null,null,null,null,null,null,null,null,null,62,{"$error":"#VALUE!"},{"$f":"AVERAGE($W$3:W64)","v":{"$error":"#VALUE!"}},null,{"$error":"#VALUE!"},{"$error":"#VALUE!"},{"$f":"AVERAGE($AA$3:AA64)","v":{"$error":"#VALUE!"}},null,null,null,{"$f":"((AA64*#REF!)+(#REF!*#REF!)+(#REF!*#REF!))/(#REF!+#REF!+#REF!)","v":{"$error":"#VALUE!"}},{"$f":"((AA64*#REF!)+(#REF!*#REF!)+(#REF!*#REF!))/(#REF!+#REF!+#REF!)","v":{"$error":"#VALUE!"}},{"$f":"((AA64*#REF!)+(#REF!*#REF!)+(#REF!*#REF!))/(#REF!+#REF!+#REF!)","v":{"$error":"#VALUE!"}},{"$f":"((AA64*#REF!)+(#REF!*#REF!)+(#REF!*#REF!))/(#REF!+#REF!+#REF!)","v":{"$error":"#VALUE!"}},{"$f":"((AA64*#REF!)+(#REF!*#REF!)+(#REF!*#REF!))/(#REF!+#REF!+#REF!)","v":{"$error":"#VALUE!"}},{"$f":"((AA64*#REF!)+(#REF!*#REF!)+(#REF!*#REF!))/(#REF!+#REF!+#REF!)","v":{"$error":"#VALUE!"}},{"$f":"((AA64*#REF!)+(#REF!*#REF!)+(#REF!*#REF!))/(#REF!+#REF!+#REF!)","v":{"$error":"#VALUE!"}}]
[null,null,null,null,null,null,null,null,null,null,null,null,null,null,null,null,null,null,null,null,null,63,{"$error":"#VALUE!"},{"$f":"AVERAGE($W$3:W65)","v":{"$error":"#VALUE!"}},null,{"$error":"#VALUE!"},{"$error":"#VALUE!"},{"$f":"AVERAGE($AA$3:AA65)","v":{"$error":"#VALUE!"}},null,null,null,{"$f":"((AA65*#REF!)+(#REF!*#REF!)+(#REF!*#REF!))/(#REF!+#REF!+#REF!)","v":{"$error":"#VALUE!"}},{"$f":"((AA65*#REF!)+(#REF!*#REF!)+(#REF!*#REF!))/(#REF!+#REF!+#REF!)","v":{"$error":"#VALUE!"}},{"$f":"((AA65*#REF!)+(#REF!*#REF!)+(#REF!*#REF!))/(#REF!+#REF!+#REF!)","v":{"$error":"#VALUE!"}},{"$f":"((AA65*#REF!)+(#REF!*#REF!)+(#REF!*#REF!))/(#REF!+#REF!+#REF!)","v":{"$error":"#VALUE!"}},{"$f":"((AA65*#REF!)+(#REF!*#REF!)+(#REF!*#REF!))/(#REF!+#REF!+#REF!)","v":{"$error":"#VALUE!"}},{"$f":"((AA65*#REF!)+(#REF!*#REF!)+(#REF!*#REF!))/(#REF!+#REF!+#REF!)","v":{"$error":"#VALUE!"}},{"$f":"((AA65*#REF!)+(#REF!*#REF!)+(#REF!*#REF!))/(#REF!+#REF!+#REF!)","v":{"$error":"#VALUE!"}}]
[null,null,null,null,null,null,null,null,null,null,null,null,null,null,null,null,null,null,null,null,null,64,{"$error":"#VALUE!"},{"$f":"AVERAGE($W$3:W66)","v":{"$error":"#VALUE!"}},null,{"$error":"#VALUE!"},{"$error":"#VALUE!"},{"$f":"AVERAGE($AA$3:AA66)","v":{"$error":"#VALUE!"}},null,null,null,{"$f":"((AA66*#REF!)+(#REF!*#REF!)+(#REF!*#REF!))/(#REF!+#REF!+#REF!)","v":{"$error":"#VALUE!"}},{"$f":"((AA66*#REF!)+(#REF!*#REF!)+(#REF!*#REF!))/(#REF!+#REF!+#REF!)","v":{"$error":"#VALUE!"}},{"$f":"((AA66*#REF!)+(#REF!*#REF!)+(#REF!*#REF!))/(#REF!+#REF!+#REF!)","v":{"$error":"#VALUE!"}},{"$f":"((AA66*#REF!)+(#REF!*#REF!)+(#REF!*#REF!))/(#REF!+#REF!+#REF!)","v":{"$error":"#VALUE!"}},{"$f":"((AA66*#REF!)+(#REF!*#REF!)+(#REF!*#REF!))/(#REF!+#REF!+#REF!)","v":{"$error":"#VALUE!"}},{"$f":"((AA66*#REF!)+(#REF!*#REF!)+(#REF!*#REF!))/(#REF!+#REF!+#REF!)","v":{"$error":"#VALUE!"}},{"$f":"((AA66*#REF!)+(#REF!*#REF!)+(#REF!*#REF!))/(#REF!+#REF!+#REF!)","v":{"$error":"#VALUE!"}}]
[null,null,null,null,null,null,null,null,null,null,null,null,null,null,null,null,null,null,null,null,null,65,{"$error":"#VALUE!"},{"$f":"AVERAGE($W$3:W67)","v":{"$error":"#VALUE!"}},null,{"$error":"#VALUE!"},{"$error":"#VALUE!"},{"$f":"AVERAGE($AA$3:AA67)","v":{"$error":"#VALUE!"}},null,null,null,{"$f":"((AA67*#REF!)+(#REF!*#REF!)+(#REF!*#REF!))/(#REF!+#REF!+#REF!)","v":{"$error":"#VALUE!"}},{"$f":"((AA67*#REF!)+(#REF!*#REF!)+(#REF!*#REF!))/(#REF!+#REF!+#REF!)","v":{"$error":"#VALUE!"}},{"$f":"((AA67*#REF!)+(#REF!*#REF!)+(#REF!*#REF!))/(#REF!+#REF!+#REF!)","v":{"$error":"#VALUE!"}},{"$f":"((AA67*#REF!)+(#REF!*#REF!)+(#REF!*#REF!))/(#REF!+#REF!+#REF!)","v":{"$error":"#VALUE!"}},{"$f":"((AA67*#REF!)+(#REF!*#REF!)+(#REF!*#REF!))/(#REF!+#REF!+#REF!)","v":{"$error":"#VALUE!"}},{"$f":"((AA67*#REF!)+(#REF!*#REF!)+(#REF!*#REF!))/(#REF!+#REF!+#REF!)","v":{"$error":"#VALUE!"}},{"$f":"((AA67*#REF!)+(#REF!*#REF!)+(#REF!*#REF!))/(#REF!+#REF!+#REF!)","v":{"$error":"#VALUE!"}}]
[null,null,null,null,null,null,null,null,null,null,null,null,null,null,null,null,null,null,null,null,null,66,{"$error":"#VALUE!"},{"$f":"AVERAGE($W$3:W68)","v":{"$error":"#VALUE!"}},null,{"$f":"$M$2+W68","v":{"$error":"#VALUE!"}},{"$f":"(Z68*(9/5))+32","v":{"$error":"#VALUE!"}},{"$f":"AVERAGE($AA$3:AA68)","v":{"$error":"#VALUE!"}},null,null,null,{"$f":"((AA68*#REF!)+(#REF!*#REF!)+(#REF!*#REF!))/(#REF!+#REF!+#REF!)","v":{"$error":"#VALUE!"}},{"$f":"((AA68*#REF!)+(#REF!*#REF!)+(#REF!*#REF!))/(#REF!+#REF!+#REF!)","v":{"$error":"#VALUE!"}},{"$f":"((AA68*#REF!)+(#REF!*#REF!)+(#REF!*#REF!))/(#REF!+#REF!+#REF!)","v":{"$error":"#VALUE!"}},{"$f":"((AA68*#REF!)+(#REF!*#REF!)+(#REF!*#REF!))/(#REF!+#REF!+#REF!)","v":{"$error":"#VALUE!"}},{"$f":"((AA68*#REF!)+(#REF!*#REF!)+(#REF!*#REF!))/(#REF!+#REF!+#REF!)","v":{"$error":"#VALUE!"}},{"$f":"((AA68*#REF!)+(#REF!*#REF!)+(#REF!*#REF!))/(#REF!+#REF!+#REF!)","v":{"$error":"#VALUE!"}},{"$f":"((AA68*#REF!)+(#REF!*#REF!)+(#REF!*#REF!))/(#REF!+#REF!+#REF!)","v":{"$error":"#VALUE!"}}]
[null,null,null,null,null,null,null,null,null,null,null,null,null,null,null,null,null,null,null,null,null,67,{"$error":"#VALUE!"},{"$f":"AVERAGE($W$3:W69)","v":{"$error":"#VALUE!"}},null,{"$error":"#VALUE!"},{"$error":"#VALUE!"},{"$f":"AVERAGE($AA$3:AA69)","v":{"$error":"#VALUE!"}},null,null,null,{"$f":"((AA69*#REF!)+(#REF!*#REF!)+(#REF!*#REF!))/(#REF!+#REF!+#REF!)","v":{"$error":"#VALUE!"}},{"$f":"((AA69*#REF!)+(#REF!*#REF!)+(#REF!*#REF!))/(#REF!+#REF!+#REF!)","v":{"$error":"#VALUE!"}},{"$f":"((AA69*#REF!)+(#REF!*#REF!)+(#REF!*#REF!))/(#REF!+#REF!+#REF!)","v":{"$error":"#VALUE!"}},{"$f":"((AA69*#REF!)+(#REF!*#REF!)+(#REF!*#REF!))/(#REF!+#REF!+#REF!)","v":{"$error":"#VALUE!"}},{"$f":"((AA69*#REF!)+(#REF!*#REF!)+(#REF!*#REF!))/(#REF!+#REF!+#REF!)","v":{"$error":"#VALUE!"}},{"$f":"((AA69*#REF!)+(#REF!*#REF!)+(#REF!*#REF!))/(#REF!+#REF!+#REF!)","v":{"$error":"#VALUE!"}},{"$f":"((AA69*#REF!)+(#REF!*#REF!)+(#REF!*#REF!))/(#REF!+#REF!+#REF!)","v":{"$error":"#VALUE!"}}]
[null,null,null,null,null,null,null,null,null,null,null,null,null,null,null,null,null,null,null,null,null,68,{"$error":"#VALUE!"},{"$f":"AVERAGE($W$3:W70)","v":{"$error":"#VALUE!"}},null,{"$error":"#VALUE!"},{"$error":"#VALUE!"},{"$f":"AVERAGE($AA$3:AA70)","v":{"$error":"#VALUE!"}},null,null,null,{"$f":"((AA70*#REF!)+(#REF!*#REF!)+(#REF!*#REF!))/(#REF!+#REF!+#REF!)","v":{"$error":"#VALUE!"}},{"$f":"((AA70*#REF!)+(#REF!*#REF!)+(#REF!*#REF!))/(#REF!+#REF!+#REF!)","v":{"$error":"#VALUE!"}},{"$f":"((AA70*#REF!)+(#REF!*#REF!)+(#REF!*#REF!))/(#REF!+#REF!+#REF!)","v":{"$error":"#VALUE!"}},{"$f":"((AA70*#REF!)+(#REF!*#REF!)+(#REF!*#REF!))/(#REF!+#REF!+#REF!)","v":{"$error":"#VALUE!"}},{"$f":"((AA70*#REF!)+(#REF!*#REF!)+(#REF!*#REF!))/(#REF!+#REF!+#REF!)","v":{"$error":"#VALUE!"}},{"$f":"((AA70*#REF!)+(#REF!*#REF!)+(#REF!*#REF!))/(#REF!+#REF!+#REF!)","v":{"$error":"#VALUE!"}},{"$f":"((AA70*#REF!)+(#REF!*#REF!)+(#REF!*#REF!))/(#REF!+#REF!+#REF!)","v":{"$error":"#VALUE!"}}]
[null,null,null,null,null,null,null,null,null,null,null,null,null,null,null,null,null,null,null,null,null,69,{"$error":"#VALUE!"},{"$f":"AVERAGE($W$3:W71)","v":{"$error":"#VALUE!"}},null,{"$error":"#VALUE!"},{"$error":"#VALUE!"},{"$f":"AVERAGE($AA$3:AA71)","v":{"$error":"#VALUE!"}},null,null,null,{"$f":"((AA71*#REF!)+(#REF!*#REF!)+(#REF!*#REF!))/(#REF!+#REF!+#REF!)","v":{"$error":"#VALUE!"}},{"$f":"((AA71*#REF!)+(#REF!*#REF!)+(#REF!*#REF!))/(#REF!+#REF!+#REF!)","v":{"$error":"#VALUE!"}},{"$f":"((AA71*#REF!)+(#REF!*#REF!)+(#REF!*#REF!))/(#REF!+#REF!+#REF!)","v":{"$error":"#VALUE!"}},{"$f":"((AA71*#REF!)+(#REF!*#REF!)+(#REF!*#REF!))/(#REF!+#REF!+#REF!)","v":{"$error":"#VALUE!"}},{"$f":"((AA71*#REF!)+(#REF!*#REF!)+(#REF!*#REF!))/(#REF!+#REF!+#REF!)","v":{"$error":"#VALUE!"}},{"$f":"((AA71*#REF!)+(#REF!*#REF!)+(#REF!*#REF!))/(#REF!+#REF!+#REF!)","v":{"$error":"#VALUE!"}},{"$f":"((AA71*#REF!)+(#REF!*#REF!)+(#REF!*#REF!))/(#REF!+#REF!+#REF!)","v":{"$error":"#VALUE!"}}]
[null,null,null,null,null,null,null,null,null,null,null,null,null,null,null,null,null,null,null,null,null,70,{"$error":"#VALUE!"},{"$f":"AVERAGE($W$3:W72)","v":{"$error":"#VALUE!"}},null,{"$error":"#VALUE!"},{"$error":"#VALUE!"},{"$f":"AVERAGE($AA$3:AA72)","v":{"$error":"#VALUE!"}},null,null,null,{"$f":"((AA72*#REF!)+(#REF!*#REF!)+(#REF!*#REF!))/(#REF!+#REF!+#REF!)","v":{"$error":"#VALUE!"}},{"$f":"((AA72*#REF!)+(#REF!*#REF!)+(#REF!*#REF!))/(#REF!+#REF!+#REF!)","v":{"$error":"#VALUE!"}},{"$f":"((AA72*#REF!)+(#REF!*#REF!)+(#REF!*#REF!))/(#REF!+#REF!+#REF!)","v":{"$error":"#VALUE!"}},{"$f":"((AA72*#REF!)+(#REF!*#REF!)+(#REF!*#REF!))/(#REF!+#REF!+#REF!)","v":{"$error":"#VALUE!"}},{"$f":"((AA72*#REF!)+(#REF!*#REF!)+(#REF!*#REF!))/(#REF!+#REF!+#REF!)","v":{"$error":"#VALUE!"}},{"$f":"((AA72*#REF!)+(#REF!*#REF!)+(#REF!*#REF!))/(#REF!+#REF!+#REF!)","v":{"$error":"#VALUE!"}},{"$f":"((AA72*#REF!)+(#REF!*#REF!)+(#REF!*#REF!))/(#REF!+#REF!+#REF!)","v":{"$error":"#VALUE!"}}]
[null,null,null,null,null,null,null,null,null,null,null,null,null,null,null,null,null,null,null,null,null,71,{"$error":"#VALUE!"},{"$f":"AVERAGE($W$3:W73)","v":{"$error":"#VALUE!"}},null,{"$error":"#VALUE!"},{"$error":"#VALUE!"},{"$f":"AVERAGE($AA$3:AA73)","v":{"$error":"#VALUE!"}},null,null,null,{"$f":"((AA73*#REF!)+(#REF!*#REF!)+(#REF!*#REF!))/(#REF!+#REF!+#REF!)","v":{"$error":"#VALUE!"}},{"$f":"((AA73*#REF!)+(#REF!*#REF!)+(#REF!*#REF!))/(#REF!+#REF!+#REF!)","v":{"$error":"#VALUE!"}},{"$f":"((AA73*#REF!)+(#REF!*#REF!)+(#REF!*#REF!))/(#REF!+#REF!+#REF!)","v":{"$error":"#VALUE!"}},{"$f":"((AA73*#REF!)+(#REF!*#REF!)+(#REF!*#REF!))/(#REF!+#REF!+#REF!)","v":{"$error":"#VALUE!"}},{"$f":"((AA73*#REF!)+(#REF!*#REF!)+(#REF!*#REF!))/(#REF!+#REF!+#REF!)","v":{"$error":"#VALUE!"}},{"$f":"((AA73*#REF!)+(#REF!*#REF!)+(#REF!*#REF!))/(#REF!+#REF!+#REF!)","v":{"$error":"#VALUE!"}},{"$f":"((AA73*#REF!)+(#REF!*#REF!)+(#REF!*#REF!))/(#REF!+#REF!+#REF!)","v":{"$error":"#VALUE!"}}]
[null,null,null,null,null,null,null,null,null,null,null,null,null,null,null,null,null,null,null,null,null,72,{"$error":"#VALUE!"},{"$f":"AVERAGE($W$3:W74)","v":{"$error":"#VALUE!"}},null,{"$error":"#VALUE!"},{"$error":"#VALUE!"},{"$f":"AVERAGE($AA$3:AA74)","v":{"$error":"#VALUE!"}},null,null,null,{"$f":"((AA74*#REF!)+(#REF!*#REF!)+(#REF!*#REF!))/(#REF!+#REF!+#REF!)","v":{"$error":"#VALUE!"}},{"$f":"((AA74*#REF!)+(#REF!*#REF!)+(#REF!*#REF!))/(#REF!+#REF!+#REF!)","v":{"$error":"#VALUE!"}},{"$f":"((AA74*#REF!)+(#REF!*#REF!)+(#REF!*#REF!))/(#REF!+#REF!+#REF!)","v":{"$error":"#VALUE!"}},{"$f":"((AA74*#REF!)+(#REF!*#REF!)+(#REF!*#REF!))/(#REF!+#REF!+#REF!)","v":{"$error":"#VALUE!"}},{"$f":"((AA74*#REF!)+(#REF!*#REF!)+(#REF!*#REF!))/(#REF!+#REF!+#REF!)","v":{"$error":"#VALUE!"}},{"$f":"((AA74*#REF!)+(#REF!*#REF!)+(#REF!*#REF!))/(#REF!+#REF!+#REF!)","v":{"$error":"#VALUE!"}},{"$f":"((AA74*#REF!)+(#REF!*#REF!)+(#REF!*#REF!))/(#REF!+#REF!+#REF!)","v":{"$error":"#VALUE!"}}]
[null,null,null,null,null,null,null,null,null,null,null,null,null,null,null,null,null,null,null,null,null,73,{"$error":"#VALUE!"},{"$f":"AVERAGE($W$3:W75)","v":{"$error":"#VALUE!"}},null,{"$error":"#VALUE!"},{"$error":"#VALUE!"},{"$f":"AVERAGE($AA$3:AA75)","v":{"$error":"#VALUE!"}},null,null,null,{"$f":"((AA75*#REF!)+(#REF!*#REF!)+(#REF!*#REF!))/(#REF!+#REF!+#REF!)","v":{"$error":"#VALUE!"}},{"$f":"((AA75*#REF!)+(#REF!*#REF!)+(#REF!*#REF!))/(#REF!+#REF!+#REF!)","v":{"$error":"#VALUE!"}},{"$f":"((AA75*#REF!)+(#REF!*#REF!)+(#REF!*#REF!))/(#REF!+#REF!+#REF!)","v":{"$error":"#VALUE!"}},{"$f":"((AA75*#REF!)+(#REF!*#REF!)+(#REF!*#REF!))/(#REF!+#REF!+#REF!)","v":{"$error":"#VALUE!"}},{"$f":"((AA75*#REF!)+(#REF!*#REF!)+(#REF!*#REF!))/(#REF!+#REF!+#REF!)","v":{"$error":"#VALUE!"}},{"$f":"((AA75*#REF!)+(#REF!*#REF!)+(#REF!*#REF!))/(#REF!+#REF!+#REF!)","v":{"$error":"#VALUE!"}},{"$f":"((AA75*#REF!)+(#REF!*#REF!)+(#REF!*#REF!))/(#REF!+#REF!+#REF!)","v":{"$error":"#VALUE!"}}]
[null,null,null,null,null,null,null,null,null,null,null,null,null,null,null,null,null,null,null,null,null,74,{"$f":"IF(($M$7*LN(V76))+$M$8+$M$10>0,($M$7*LN(V76))+$M$8+$M$10,0)","v":{"$error":"#VALUE!"}},{"$f":"AVERAGE($W$3:W76)","v":{"$error":"#VALUE!"}},null,{"$error":"#VALUE!"},{"$error":"#VALUE!"},{"$f":"AVERAGE($AA$3:AA76)","v":{"$error":"#VALUE!"}},null,null,null,{"$f":"((AA76*#REF!)+(#REF!*#REF!)+(#REF!*#REF!))/(#REF!+#REF!+#REF!)","v":{"$error":"#VALUE!"}},{"$f":"((AA76*#REF!)+(#REF!*#REF!)+(#REF!*#REF!))/(#REF!+#REF!+#REF!)","v":{"$error":"#VALUE!"}},{"$f":"((AA76*#REF!)+(#REF!*#REF!)+(#REF!*#REF!))/(#REF!+#REF!+#REF!)","v":{"$error":"#VALUE!"}},{"$f":"((AA76*#REF!)+(#REF!*#REF!)+(#REF!*#REF!))/(#REF!+#REF!+#REF!)","v":{"$error":"#VALUE!"}},{"$f":"((AA76*#REF!)+(#REF!*#REF!)+(#REF!*#REF!))/(#REF!+#REF!+#REF!)","v":{"$error":"#VALUE!"}},{"$f":"((AA76*#REF!)+(#REF!*#REF!)+(#REF!*#REF!))/(#REF!+#REF!+#REF!)","v":{"$error":"#VALUE!"}},{"$f":"((AA76*#REF!)+(#REF!*#REF!)+(#REF!*#REF!))/(#REF!+#REF!+#REF!)","v":{"$error":"#VALUE!"}}]
[null,null,null,null,null,null,null,null,null,null,null,null,null,null,null,null,null,null,null,null,null,75,{"$error":"#VALUE!"},{"$f":"AVERAGE($W$3:W77)","v":{"$error":"#VALUE!"}},null,{"$error":"#VALUE!"},{"$error":"#VALUE!"},{"$f":"AVERAGE($AA$3:AA77)","v":{"$error":"#VALUE!"}},null,null,null,{"$f":"((AA77*#REF!)+(#REF!*#REF!)+(#REF!*#REF!))/(#REF!+#REF!+#REF!)","v":{"$error":"#VALUE!"}},{"$f":"((AA77*#REF!)+(#REF!*#REF!)+(#REF!*#REF!))/(#REF!+#REF!+#REF!)","v":{"$error":"#VALUE!"}},{"$f":"((AA77*#REF!)+(#REF!*#REF!)+(#REF!*#REF!))/(#REF!+#REF!+#REF!)","v":{"$error":"#VALUE!"}},{"$f":"((AA77*#REF!)+(#REF!*#REF!)+(#REF!*#REF!))/(#REF!+#REF!+#REF!)","v":{"$error":"#VALUE!"}},{"$f":"((AA77*#REF!)+(#REF!*#REF!)+(#REF!*#REF!))/(#REF!+#REF!+#REF!)","v":{"$error":"#VALUE!"}},{"$f":"((AA77*#REF!)+(#REF!*#REF!)+(#REF!*#REF!))/(#REF!+#REF!+#REF!)","v":{"$error":"#VALUE!"}},{"$f":"((AA77*#REF!)+(#REF!*#REF!)+(#REF!*#REF!))/(#REF!+#REF!+#REF!)","v":{"$error":"#VALUE!"}}]
[null,null,null,null,null,null,null,null,null,null,null,null,null,null,null,null,null,null,null,null,null,76,{"$error":"#VALUE!"},{"$f":"AVERAGE($W$3:W78)","v":{"$error":"#VALUE!"}},null,{"$error":"#VALUE!"},{"$error":"#VALUE!"},{"$f":"AVERAGE($AA$3:AA78)","v":{"$error":"#VALUE!"}},null,null,null,{"$f":"((AA78*#REF!)+(#REF!*#REF!)+(#REF!*#REF!))/(#REF!+#REF!+#REF!)","v":{"$error":"#VALUE!"}},{"$f":"((AA78*#REF!)+(#REF!*#REF!)+(#REF!*#REF!))/(#REF!+#REF!+#REF!)","v":{"$error":"#VALUE!"}},{"$f":"((AA78*#REF!)+(#REF!*#REF!)+(#REF!*#REF!))/(#REF!+#REF!+#REF!)","v":{"$error":"#VALUE!"}},{"$f":"((AA78*#REF!)+(#REF!*#REF!)+(#REF!*#REF!))/(#REF!+#REF!+#REF!)","v":{"$error":"#VALUE!"}},{"$f":"((AA78*#REF!)+(#REF!*#REF!)+(#REF!*#REF!))/(#REF!+#REF!+#REF!)","v":{"$error":"#VALUE!"}},{"$f":"((AA78*#REF!)+(#REF!*#REF!)+(#REF!*#REF!))/(#REF!+#REF!+#REF!)","v":{"$error":"#VALUE!"}},{"$f":"((AA78*#REF!)+(#REF!*#REF!)+(#REF!*#REF!))/(#REF!+#REF!+#REF!)","v":{"$error":"#VALUE!"}}]
[null,null,null,null,null,null,null,null,null,null,null,null,null,null,null,null,null,null,null,null,null,77,{"$error":"#VALUE!"},{"$f":"AVERAGE($W$3:W79)","v":{"$error":"#VALUE!"}},null,{"$error":"#VALUE!"},{"$error":"#VALUE!"},{"$f":"AVERAGE($AA$3:AA79)","v":{"$error":"#VALUE!"}},null,null,null,{"$f":"((AA79*#REF!)+(#REF!*#REF!)+(#REF!*#REF!))/(#REF!+#REF!+#REF!)","v":{"$error":"#VALUE!"}},{"$f":"((AA79*#REF!)+(#REF!*#REF!)+(#REF!*#REF!))/(#REF!+#REF!+#REF!)","v":{"$error":"#VALUE!"}},{"$f":"((AA79*#REF!)+(#REF!*#REF!)+(#REF!*#REF!))/(#REF!+#REF!+#REF!)","v":{"$error":"#VALUE!"}},{"$f":"((AA79*#REF!)+(#REF!*#REF!)+(#REF!*#REF!))/(#REF!+#REF!+#REF!)","v":{"$error":"#VALUE!"}},{"$f":"((AA79*#REF!)+(#REF!*#REF!)+(#REF!*#REF!))/(#REF!+#REF!+#REF!)","v":{"$error":"#VALUE!"}},{"$f":"((AA79*#REF!)+(#REF!*#REF!)+(#REF!*#REF!))/(#REF!+#REF!+#REF!)","v":{"$error":"#VALUE!"}},{"$f":"((AA79*#REF!)+(#REF!*#REF!)+(#REF!*#REF!))/(#REF!+#REF!+#REF!)","v":{"$error":"#VALUE!"}}]
[null,null,null,null,null,null,null,null,null,null,null,null,null,null,null,null,null,null,null,null,null,78,{"$error":"#VALUE!"},{"$f":"AVERAGE($W$3:W80)","v":{"$error":"#VALUE!"}},null,{"$error":"#VALUE!"},{"$error":"#VALUE!"},{"$f":"AVERAGE($AA$3:AA80)","v":{"$error":"#VALUE!"}},null,null,null,{"$f":"((AA80*#REF!)+(#REF!*#REF!)+(#REF!*#REF!))/(#REF!+#REF!+#REF!)","v":{"$error":"#VALUE!"}},{"$f":"((AA80*#REF!)+(#REF!*#REF!)+(#REF!*#REF!))/(#REF!+#REF!+#REF!)","v":{"$error":"#VALUE!"}},{"$f":"((AA80*#REF!)+(#REF!*#REF!)+(#REF!*#REF!))/(#REF!+#REF!+#REF!)","v":{"$error":"#VALUE!"}},{"$f":"((AA80*#REF!)+(#REF!*#REF!)+(#REF!*#REF!))/(#REF!+#REF!+#REF!)","v":{"$error":"#VALUE!"}},{"$f":"((AA80*#REF!)+(#REF!*#REF!)+(#REF!*#REF!))/(#REF!+#REF!+#REF!)","v":{"$error":"#VALUE!"}},{"$f":"((AA80*#REF!)+(#REF!*#REF!)+(#REF!*#REF!))/(#REF!+#REF!+#REF!)","v":{"$error":"#VALUE!"}},{"$f":"((AA80*#REF!)+(#REF!*#REF!)+(#REF!*#REF!))/(#REF!+#REF!+#REF!)","v":{"$error":"#VALUE!"}}]
[null,null,null,null,null,null,null,null,null,null,null,null,null,null,null,null,null,null,null,null,null,79,{"$error":"#VALUE!"},{"$f":"AVERAGE($W$3:W81)","v":{"$error":"#VALUE!"}},null,{"$error":"#VALUE!"},{"$error":"#VALUE!"},{"$f":"AVERAGE($AA$3:AA81)","v":{"$error":"#VALUE!"}},null,null,null,{"$f":"((AA81*#REF!)+(#REF!*#REF!)+(#REF!*#REF!))/(#REF!+#REF!+#REF!)","v":{"$error":"#VALUE!"}},{"$f":"((AA81*#REF!)+(#REF!*#REF!)+(#REF!*#REF!))/(#REF!+#REF!+#REF!)","v":{"$error":"#VALUE!"}},{"$f":"((AA81*#REF!)+(#REF!*#REF!)+(#REF!*#REF!))/(#REF!+#REF!+#REF!)","v":{"$error":"#VALUE!"}},{"$f":"((AA81*#REF!)+(#REF!*#REF!)+(#REF!*#REF!))/(#REF!+#REF!+#REF!)","v":{"$error":"#VALUE!"}},{"$f":"((AA81*#REF!)+(#REF!*#REF!)+(#REF!*#REF!))/(#REF!+#REF!+#REF!)","v":{"$error":"#VALUE!"}},{"$f":"((AA81*#REF!)+(#REF!*#REF!)+(#REF!*#REF!))/(#REF!+#REF!+#REF!)","v":{"$error":"#VALUE!"}},{"$f":"((AA81*#REF!)+(#REF!*#REF!)+(#REF!*#REF!))/(#REF!+#REF!+#REF!)","v":{"$error":"#VALUE!"}}]
[null,null,null,null,null,null,null,null,null,null,null,null,null,null,null,null,null,null,null,null,null,80,{"$error":"#VALUE!"},{"$f":"AVERAGE($W$3:W82)","v":{"$error":"#VALUE!"}},null,{"$error":"#VALUE!"},{"$error":"#VALUE!"},{"$f":"AVERAGE($AA$3:AA82)","v":{"$error":"#VALUE!"}},null,null,null,{"$f":"((AA82*#REF!)+(#REF!*#REF!)+(#REF!*#REF!))/(#REF!+#REF!+#REF!)","v":{"$error":"#VALUE!"}},{"$f":"((AA82*#REF!)+(#REF!*#REF!)+(#REF!*#REF!))/(#REF!+#REF!+#REF!)","v":{"$error":"#VALUE!"}},{"$f":"((AA82*#REF!)+(#REF!*#REF!)+(#REF!*#REF!))/(#REF!+#REF!+#REF!)","v":{"$error":"#VALUE!"}},{"$f":"((AA82*#REF!)+(#REF!*#REF!)+(#REF!*#REF!))/(#REF!+#REF!+#REF!)","v":{"$error":"#VALUE!"}},{"$f":"((AA82*#REF!)+(#REF!*#REF!)+(#REF!*#REF!))/(#REF!+#REF!+#REF!)","v":{"$error":"#VALUE!"}},{"$f":"((AA82*#REF!)+(#REF!*#REF!)+(#REF!*#REF!))/(#REF!+#REF!+#REF!)","v":{"$error":"#VALUE!"}},{"$f":"((AA82*#REF!)+(#REF!*#REF!)+(#REF!*#REF!))/(#REF!+#REF!+#REF!)","v":{"$error":"#VALUE!"}}]
[null,null,null,null,null,null,null,null,null,null,null,null,null,null,null,null,null,null,null,null,null,81,{"$error":"#VALUE!"},{"$f":"AVERAGE($W$3:W83)","v":{"$error":"#VALUE!"}},null,{"$error":"#VALUE!"},{"$error":"#VALUE!"},{"$f":"AVERAGE($AA$3:AA83)","v":{"$error":"#VALUE!"}},null,null,null,{"$f":"((AA83*#REF!)+(#REF!*#REF!)+(#REF!*#REF!))/(#REF!+#REF!+#REF!)","v":{"$error":"#VALUE!"}},{"$f":"((AA83*#REF!)+(#REF!*#REF!)+(#REF!*#REF!))/(#REF!+#REF!+#REF!)","v":{"$error":"#VALUE!"}},{"$f":"((AA83*#REF!)+(#REF!*#REF!)+(#REF!*#REF!))/(#REF!+#REF!+#REF!)","v":{"$error":"#VALUE!"}},{"$f":"((AA83*#REF!)+(#REF!*#REF!)+(#REF!*#REF!))/(#REF!+#REF!+#REF!)","v":{"$error":"#VALUE!"}},{"$f":"((AA83*#REF!)+(#REF!*#REF!)+(#REF!*#REF!))/(#REF!+#REF!+#REF!)","v":{"$error":"#VALUE!"}},{"$f":"((AA83*#REF!)+(#REF!*#REF!)+(#REF!*#REF!))/(#REF!+#REF!+#REF!)","v":{"$error":"#VALUE!"}},{"$f":"((AA83*#REF!)+(#REF!*#REF!)+(#REF!*#REF!))/(#REF!+#REF!+#REF!)","v":{"$error":"#VALUE!"}}]
[null,null,null,null,null,null,null,null,null,null,null,null,null,null,null,null,null,null,null,null,null,82,{"$error":"#VALUE!"},{"$f":"AVERAGE($W$3:W84)","v":{"$error":"#VALUE!"}},null,{"$error":"#VALUE!"},{"$error":"#VALUE!"},{"$f":"AVERAGE($AA$3:AA84)","v":{"$error":"#VALUE!"}},null,null,null,{"$f":"((AA84*#REF!)+(#REF!*#REF!)+(#REF!*#REF!))/(#REF!+#REF!+#REF!)","v":{"$error":"#VALUE!"}},{"$f":"((AA84*#REF!)+(#REF!*#REF!)+(#REF!*#REF!))/(#REF!+#REF!+#REF!)","v":{"$error":"#VALUE!"}},{"$f":"((AA84*#REF!)+(#REF!*#REF!)+(#REF!*#REF!))/(#REF!+#REF!+#REF!)","v":{"$error":"#VALUE!"}},{"$f":"((AA84*#REF!)+(#REF!*#REF!)+(#REF!*#REF!))/(#REF!+#REF!+#REF!)","v":{"$error":"#VALUE!"}},{"$f":"((AA84*#REF!)+(#REF!*#REF!)+(#REF!*#REF!))/(#REF!+#REF!+#REF!)","v":{"$error":"#VALUE!"}},{"$f":"((AA84*#REF!)+(#REF!*#REF!)+(#REF!*#REF!))/(#REF!+#REF!+#REF!)","v":{"$error":"#VALUE!"}},{"$f":"((AA84*#REF!)+(#REF!*#REF!)+(#REF!*#REF!))/(#REF!+#REF!+#REF!)","v":{"$error":"#VALUE!"}}]
[null,null,null,null,null,null,null,null,null,null,null,null,null,null,null,null,null,null,null,null,null,83,{"$error":"#VALUE!"},{"$f":"AVERAGE($W$3:W85)","v":{"$error":"#VALUE!"}},null,{"$error":"#VALUE!"},{"$error":"#VALUE!"},{"$f":"AVERAGE($AA$3:AA85)","v":{"$error":"#VALUE!"}},null,null,null,{"$f":"((AA85*#REF!)+(#REF!*#REF!)+(#REF!*#REF!))/(#REF!+#REF!+#REF!)","v":{"$error":"#VALUE!"}},{"$f":"((AA85*#REF!)+(#REF!*#REF!)+(#REF!*#REF!))/(#REF!+#REF!+#REF!)","v":{"$error":"#VALUE!"}},{"$f":"((AA85*#REF!)+(#REF!*#REF!)+(#REF!*#REF!))/(#REF!+#REF!+#REF!)","v":{"$error":"#VALUE!"}},{"$f":"((AA85*#REF!)+(#REF!*#REF!)+(#REF!*#REF!))/(#REF!+#REF!+#REF!)","v":{"$error":"#VALUE!"}},{"$f":"((AA85*#REF!)+(#REF!*#REF!)+(#REF!*#REF!))/(#REF!+#REF!+#REF!)","v":{"$error":"#VALUE!"}},{"$f":"((AA85*#REF!)+(#REF!*#REF!)+(#REF!*#REF!))/(#REF!+#REF!+#REF!)","v":{"$error":"#VALUE!"}},{"$f":"((AA85*#REF!)+(#REF!*#REF!)+(#REF!*#REF!))/(#REF!+#REF!+#REF!)","v":{"$error":"#VALUE!"}}]
[null,null,null,null,null,null,null,null,null,null,null,null,null,null,null,null,null,null,null,null,null,84,{"$error":"#VALUE!"},{"$f":"AVERAGE($W$3:W86)","v":{"$error":"#VALUE!"}},null,{"$error":"#VALUE!"},{"$error":"#VALUE!"},{"$f":"AVERAGE($AA$3:AA86)","v":{"$error":"#VALUE!"}},null,null,null,{"$f":"((AA86*#REF!)+(#REF!*#REF!)+(#REF!*#REF!))/(#REF!+#REF!+#REF!)","v":{"$error":"#VALUE!"}},{"$f":"((AA86*#REF!)+(#REF!*#REF!)+(#REF!*#REF!))/(#REF!+#REF!+#REF!)","v":{"$error":"#VALUE!"}},{"$f":"((AA86*#REF!)+(#REF!*#REF!)+(#REF!*#REF!))/(#REF!+#REF!+#REF!)","v":{"$error":"#VALUE!"}},{"$f":"((AA86*#REF!)+(#REF!*#REF!)+(#REF!*#REF!))/(#REF!+#REF!+#REF!)","v":{"$error":"#VALUE!"}},{"$f":"((AA86*#REF!)+(#REF!*#REF!)+(#REF!*#REF!))/(#REF!+#REF!+#REF!)","v":{"$error":"#VALUE!"}},{"$f":"((AA86*#REF!)+(#REF!*#REF!)+(#REF!*#REF!))/(#REF!+#REF!+#REF!)","v":{"$error":"#VALUE!"}},{"$f":"((AA86*#REF!)+(#REF!*#REF!)+(#REF!*#REF!))/(#REF!+#REF!+#REF!)","v":{"$error":"#VALUE!"}}]
[null,null,null,null,null,null,null,null,null,null,null,null,null,null,null,null,null,null,null,null,null,85,{"$error":"#VALUE!"},{"$f":"AVERAGE($W$3:W87)","v":{"$error":"#VALUE!"}},null,{"$error":"#VALUE!"},{"$error":"#VALUE!"},{"$f":"AVERAGE($AA$3:AA87)","v":{"$error":"#VALUE!"}},null,null,null,{"$f":"((AA87*#REF!)+(#REF!*#REF!)+(#REF!*#REF!))/(#REF!+#REF!+#REF!)","v":{"$error":"#VALUE!"}},{"$f":"((AA87*#REF!)+(#REF!*#REF!)+(#REF!*#REF!))/(#REF!+#REF!+#REF!)","v":{"$error":"#VALUE!"}},{"$f":"((AA87*#REF!)+(#REF!*#REF!)+(#REF!*#REF!))/(#REF!+#REF!+#REF!)","v":{"$error":"#VALUE!"}},{"$f":"((AA87*#REF!)+(#REF!*#REF!)+(#REF!*#REF!))/(#REF!+#REF!+#REF!)","v":{"$error":"#VALUE!"}},{"$f":"((AA87*#REF!)+(#REF!*#REF!)+(#REF!*#REF!))/(#REF!+#REF!+#REF!)","v":{"$error":"#VALUE!"}},{"$f":"((AA87*#REF!)+(#REF!*#REF!)+(#REF!*#REF!))/(#REF!+#REF!+#REF!)","v":{"$error":"#VALUE!"}},{"$f":"((AA87*#REF!)+(#REF!*#REF!)+(#REF!*#REF!))/(#REF!+#REF!+#REF!)","v":{"$error":"#VALUE!"}}]
[null,null,null,null,null,null,null,null,null,null,null,null,null,null,null,null,null,null,null,null,null,86,{"$error":"#VALUE!"},{"$f":"AVERAGE($W$3:W88)","v":{"$error":"#VALUE!"}},null,{"$error":"#VALUE!"},{"$error":"#VALUE!"},{"$f":"AVERAGE($AA$3:AA88)","v":{"$error":"#VALUE!"}},null,null,null,{"$f":"((AA88*#REF!)+(#REF!*#REF!)+(#REF!*#REF!))/(#REF!+#REF!+#REF!)","v":{"$error":"#VALUE!"}},{"$f":"((AA88*#REF!)+(#REF!*#REF!)+(#REF!*#REF!))/(#REF!+#REF!+#REF!)","v":{"$error":"#VALUE!"}},{"$f":"((AA88*#REF!)+(#REF!*#REF!)+(#REF!*#REF!))/(#REF!+#REF!+#REF!)","v":{"$error":"#VALUE!"}},{"$f":"((AA88*#REF!)+(#REF!*#REF!)+(#REF!*#REF!))/(#REF!+#REF!+#REF!)","v":{"$error":"#VALUE!"}},{"$f":"((AA88*#REF!)+(#REF!*#REF!)+(#REF!*#REF!))/(#REF!+#REF!+#REF!)","v":{"$error":"#VALUE!"}},{"$f":"((AA88*#REF!)+(#REF!*#REF!)+(#REF!*#REF!))/(#REF!+#REF!+#REF!)","v":{"$error":"#VALUE!"}},{"$f":"((AA88*#REF!)+(#REF!*#REF!)+(#REF!*#REF!))/(#REF!+#REF!+#REF!)","v":{"$error":"#VALUE!"}}]
[null,null,null,null,null,null,null,null,null,null,null,null,null,null,null,null,null,null,null,null,null,87,{"$error":"#VALUE!"},{"$f":"AVERAGE($W$3:W89)","v":{"$error":"#VALUE!"}},null,{"$error":"#VALUE!"},{"$error":"#VALUE!"},{"$f":"AVERAGE($AA$3:AA89)","v":{"$error":"#VALUE!"}},null,null,null,{"$f":"((AA89*#REF!)+(#REF!*#REF!)+(#REF!*#REF!))/(#REF!+#REF!+#REF!)","v":{"$error":"#VALUE!"}},{"$f":"((AA89*#REF!)+(#REF!*#REF!)+(#REF!*#REF!))/(#REF!+#REF!+#REF!)","v":{"$error":"#VALUE!"}},{"$f":"((AA89*#REF!)+(#REF!*#REF!)+(#REF!*#REF!))/(#REF!+#REF!+#REF!)","v":{"$error":"#VALUE!"}},{"$f":"((AA89*#REF!)+(#REF!*#REF!)+(#REF!*#REF!))/(#REF!+#REF!+#REF!)","v":{"$error":"#VALUE!"}},{"$f":"((AA89*#REF!)+(#REF!*#REF!)+(#REF!*#REF!))/(#REF!+#REF!+#REF!)","v":{"$error":"#VALUE!"}},{"$f":"((AA89*#REF!)+(#REF!*#REF!)+(#REF!*#REF!))/(#REF!+#REF!+#REF!)","v":{"$error":"#VALUE!"}},{"$f":"((AA89*#REF!)+(#REF!*#REF!)+(#REF!*#REF!))/(#REF!+#REF!+#REF!)","v":{"$error":"#VALUE!"}}]
[null,null,null,null,null,null,null,null,null,null,null,null,null,null,null,null,null,null,null,null,null,88,{"$error":"#VALUE!"},{"$f":"AVERAGE($W$3:W90)","v":{"$error":"#VALUE!"}},null,{"$error":"#VALUE!"},{"$error":"#VALUE!"},{"$f":"AVERAGE($AA$3:AA90)","v":{"$error":"#VALUE!"}},null,null,null,{"$f":"((AA90*#REF!)+(#REF!*#REF!)+(#REF!*#REF!))/(#REF!+#REF!+#REF!)","v":{"$error":"#VALUE!"}},{"$f":"((AA90*#REF!)+(#REF!*#REF!)+(#REF!*#REF!))/(#REF!+#REF!+#REF!)","v":{"$error":"#VALUE!"}},{"$f":"((AA90*#REF!)+(#REF!*#REF!)+(#REF!*#REF!))/(#REF!+#REF!+#REF!)","v":{"$error":"#VALUE!"}},{"$f":"((AA90*#REF!)+(#REF!*#REF!)+(#REF!*#REF!))/(#REF!+#REF!+#REF!)","v":{"$error":"#VALUE!"}},{"$f":"((AA90*#REF!)+(#REF!*#REF!)+(#REF!*#REF!))/(#REF!+#REF!+#REF!)","v":{"$error":"#VALUE!"}},{"$f":"((AA90*#REF!)+(#REF!*#REF!)+(#REF!*#REF!))/(#REF!+#REF!+#REF!)","v":{"$error":"#VALUE!"}},{"$f":"((AA90*#REF!)+(#REF!*#REF!)+(#REF!*#REF!))/(#REF!+#REF!+#REF!)","v":{"$error":"#VALUE!"}}]
[null,null,null,null,null,null,null,null,null,null,null,null,null,null,null,null,null,null,null,null,null,89,{"$error":"#VALUE!"},{"$f":"AVERAGE($W$3:W91)","v":{"$error":"#VALUE!"}},null,{"$error":"#VALUE!"},{"$error":"#VALUE!"},{"$f":"AVERAGE($AA$3:AA91)","v":{"$error":"#VALUE!"}},null,null,null,{"$f":"((AA91*#REF!)+(#REF!*#REF!)+(#REF!*#REF!))/(#REF!+#REF!+#REF!)","v":{"$error":"#VALUE!"}},{"$f":"((AA91*#REF!)+(#REF!*#REF!)+(#REF!*#REF!))/(#REF!+#REF!+#REF!)","v":{"$error":"#VALUE!"}},{"$f":"((AA91*#REF!)+(#REF!*#REF!)+(#REF!*#REF!))/(#REF!+#REF!+#REF!)","v":{"$error":"#VALUE!"}},{"$f":"((AA91*#REF!)+(#REF!*#REF!)+(#REF!*#REF!))/(#REF!+#REF!+#REF!)","v":{"$error":"#VALUE!"}},{"$f":"((AA91*#REF!)+(#REF!*#REF!)+(#REF!*#REF!))/(#REF!+#REF!+#REF!)","v":{"$error":"#VALUE!"}},{"$f":"((AA91*#REF!)+(#REF!*#REF!)+(#REF!*#REF!))/(#REF!+#REF!+#REF!)","v":{"$error":"#VALUE!"}},{"$f":"((AA91*#REF!)+(#REF!*#REF!)+(#REF!*#REF!))/(#REF!+#REF!+#REF!)","v":{"$error":"#VALUE!"}}]
[null,null,null,null,null,null,null,null,null,null,null,null,null,null,null,null,null,null,null,null,null,90,{"$error":"#VALUE!"},{"$f":"AVERAGE($W$3:W92)","v":{"$error":"#VALUE!"}},null,{"$error":"#VALUE!"},{"$error":"#VALUE!"},{"$f":"AVERAGE($AA$3:AA92)","v":{"$error":"#VALUE!"}},null,null,null,{"$f":"((AA92*#REF!)+(#REF!*#REF!)+(#REF!*#REF!))/(#REF!+#REF!+#REF!)","v":{"$error":"#VALUE!"}},{"$f":"((AA92*#REF!)+(#REF!*#REF!)+(#REF!*#REF!))/(#REF!+#REF!+#REF!)","v":{"$error":"#VALUE!"}},{"$f":"((AA92*#REF!)+(#REF!*#REF!)+(#REF!*#REF!))/(#REF!+#REF!+#REF!)","v":{"$error":"#VALUE!"}},{"$f":"((AA92*#REF!)+(#REF!*#REF!)+(#REF!*#REF!))/(#REF!+#REF!+#REF!)","v":{"$error":"#VALUE!"}},{"$f":"((AA92*#REF!)+(#REF!*#REF!)+(#REF!*#REF!))/(#REF!+#REF!+#REF!)","v":{"$error":"#VALUE!"}},{"$f":"((AA92*#REF!)+(#REF!*#REF!)+(#REF!*#REF!))/(#REF!+#REF!+#REF!)","v":{"$error":"#VALUE!"}},{"$f":"((AA92*#REF!)+(#REF!*#REF!)+(#REF!*#REF!))/(#REF!+#REF!+#REF!)","v":{"$error":"#VALUE!"}}]
[null,null,null,null,null,null,null,null,null,null,null,null,null,null,null,null,null,null,null,null,null,91,{"$error":"#VALUE!"},{"$f":"AVERAGE($W$3:W93)","v":{"$error":"#VALUE!"}},null,{"$error":"#VALUE!"},{"$error":"#VALUE!"},{"$f":"AVERAGE($AA$3:AA93)","v":{"$error":"#VALUE!"}},null,null,null,{"$f":"((AA93*#REF!)+(#REF!*#REF!)+(#REF!*#REF!))/(#REF!+#REF!+#REF!)","v":{"$error":"#VALUE!"}},{"$f":"((AA93*#REF!)+(#REF!*#REF!)+(#REF!*#REF!))/(#REF!+#REF!+#REF!)","v":{"$error":"#VALUE!"}},{"$f":"((AA93*#REF!)+(#REF!*#REF!)+(#REF!*#REF!))/(#REF!+#REF!+#REF!)","v":{"$error":"#VALUE!"}},{"$f":"((AA93*#REF!)+(#REF!*#REF!)+(#REF!*#REF!))/(#REF!+#REF!+#REF!)","v":{"$error":"#VALUE!"}},{"$f":"((AA93*#REF!)+(#REF!*#REF!)+(#REF!*#REF!))/(#REF!+#REF!+#REF!)","v":{"$error":"#VALUE!"}},{"$f":"((AA93*#REF!)+(#REF!*#REF!)+(#REF!*#REF!))/(#REF!+#REF!+#REF!)","v":{"$error":"#VALUE!"}},{"$f":"((AA93*#REF!)+(#REF!*#REF!)+(#REF!*#REF!))/(#REF!+#REF!+#REF!)","v":{"$error":"#VALUE!"}}]
[null,null,null,null,null,null,null,null,null,null,null,null,null,null,null,null,null,null,null,null,null,92,{"$error":"#VALUE!"},{"$f":"AVERAGE($W$3:W94)","v":{"$error":"#VALUE!"}},null,{"$error":"#VALUE!"},{"$error":"#VALUE!"},{"$f":"AVERAGE($AA$3:AA94)","v":{"$error":"#VALUE!"}},null,null,null,{"$f":"((AA94*#REF!)+(#REF!*#REF!)+(#REF!*#REF!))/(#REF!+#REF!+#REF!)","v":{"$error":"#VALUE!"}},{"$f":"((AA94*#REF!)+(#REF!*#REF!)+(#REF!*#REF!))/(#REF!+#REF!+#REF!)","v":{"$error":"#VALUE!"}},{"$f":"((AA94*#REF!)+(#REF!*#REF!)+(#REF!*#REF!))/(#REF!+#REF!+#REF!)","v":{"$error":"#VALUE!"}},{"$f":"((AA94*#REF!)+(#REF!*#REF!)+(#REF!*#REF!))/(#REF!+#REF!+#REF!)","v":{"$error":"#VALUE!"}},{"$f":"((AA94*#REF!)+(#REF!*#REF!)+(#REF!*#REF!))/(#REF!+#REF!+#REF!)","v":{"$error":"#VALUE!"}},{"$f":"((AA94*#REF!)+(#REF!*#REF!)+(#REF!*#REF!))/(#REF!+#REF!+#REF!)","v":{"$error":"#VALUE!"}},{"$f":"((AA94*#REF!)+(#REF!*#REF!)+(#REF!*#REF!))/(#REF!+#REF!+#REF!)","v":{"$error":"#VALUE!"}}]
[null,null,null,null,null,null,null,null,null,null,null,null,null,null,null,null,null,null,null,null,null,93,{"$error":"#VALUE!"},{"$f":"AVERAGE($W$3:W95)","v":{"$error":"#VALUE!"}},null,{"$error":"#VALUE!"},{"$error":"#VALUE!"},{"$f":"AVERAGE($AA$3:AA95)","v":{"$error":"#VALUE!"}},null,null,null,{"$f":"((AA95*#REF!)+(#REF!*#REF!)+(#REF!*#REF!))/(#REF!+#REF!+#REF!)","v":{"$error":"#VALUE!"}},{"$f":"((AA95*#REF!)+(#REF!*#REF!)+(#REF!*#REF!))/(#REF!+#REF!+#REF!)","v":{"$error":"#VALUE!"}},{"$f":"((AA95*#REF!)+(#REF!*#REF!)+(#REF!*#REF!))/(#REF!+#REF!+#REF!)","v":{"$error":"#VALUE!"}},{"$f":"((AA95*#REF!)+(#REF!*#REF!)+(#REF!*#REF!))/(#REF!+#REF!+#REF!)","v":{"$error":"#VALUE!"}},{"$f":"((AA95*#REF!)+(#REF!*#REF!)+(#REF!*#REF!))/(#REF!+#REF!+#REF!)","v":{"$error":"#VALUE!"}},{"$f":"((AA95*#REF!)+(#REF!*#REF!)+(#REF!*#REF!))/(#REF!+#REF!+#REF!)","v":{"$error":"#VALUE!"}},{"$f":"((AA95*#REF!)+(#REF!*#REF!)+(#REF!*#REF!))/(#REF!+#REF!+#REF!)","v":{"$error":"#VALUE!"}}]
[null,null,null,null,null,null,null,null,null,null,null,null,null,null,null,null,null,null,null,null,null,94,{"$error":"#VALUE!"},{"$f":"AVERAGE($W$3:W96)","v":{"$error":"#VALUE!"}},null,{"$error":"#VALUE!"},{"$error":"#VALUE!"},{"$f":"AVERAGE($AA$3:AA96)","v":{"$error":"#VALUE!"}},null,null,null,{"$f":"((AA96*#REF!)+(#REF!*#REF!)+(#REF!*#REF!))/(#REF!+#REF!+#REF!)","v":{"$error":"#VALUE!"}},{"$f":"((AA96*#REF!)+(#REF!*#REF!)+(#REF!*#REF!))/(#REF!+#REF!+#REF!)","v":{"$error":"#VALUE!"}},{"$f":"((AA96*#REF!)+(#REF!*#REF!)+(#REF!*#REF!))/(#REF!+#REF!+#REF!)","v":{"$error":"#VALUE!"}},{"$f":"((AA96*#REF!)+(#REF!*#REF!)+(#REF!*#REF!))/(#REF!+#REF!+#REF!)","v":{"$error":"#VALUE!"}},{"$f":"((AA96*#REF!)+(#REF!*#REF!)+(#REF!*#REF!))/(#REF!+#REF!+#REF!)","v":{"$error":"#VALUE!"}},{"$f":"((AA96*#REF!)+(#REF!*#REF!)+(#REF!*#REF!))/(#REF!+#REF!+#REF!)","v":{"$error":"#VALUE!"}},{"$f":"((AA96*#REF!)+(#REF!*#REF!)+(#REF!*#REF!))/(#REF!+#REF!+#REF!)","v":{"$error":"#VALUE!"}}]
[null,null,null,null,null,null,null,null,null,null,null,null,null,null,null,null,null,null,null,null,null,95,{"$error":"#VALUE!"},{"$f":"AVERAGE($W$3:W97)","v":{"$error":"#VALUE!"}},null,{"$error":"#VALUE!"},{"$error":"#VALUE!"},{"$f":"AVERAGE($AA$3:AA97)","v":{"$error":"#VALUE!"}},null,null,null,{"$f":"((AA97*#REF!)+(#REF!*#REF!)+(#REF!*#REF!))/(#REF!+#REF!+#REF!)","v":{"$error":"#VALUE!"}},{"$f":"((AA97*#REF!)+(#REF!*#REF!)+(#REF!*#REF!))/(#REF!+#REF!+#REF!)","v":{"$error":"#VALUE!"}},{"$f":"((AA97*#REF!)+(#REF!*#REF!)+(#REF!*#REF!))/(#REF!+#REF!+#REF!)","v":{"$error":"#VALUE!"}},{"$f":"((AA97*#REF!)+(#REF!*#REF!)+(#REF!*#REF!))/(#REF!+#REF!+#REF!)","v":{"$error":"#VALUE!"}},{"$f":"((AA97*#REF!)+(#REF!*#REF!)+(#REF!*#REF!))/(#REF!+#REF!+#REF!)","v":{"$error":"#VALUE!"}},{"$f":"((AA97*#REF!)+(#REF!*#REF!)+(#REF!*#REF!))/(#REF!+#REF!+#REF!)","v":{"$error":"#VALUE!"}},{"$f":"((AA97*#REF!)+(#REF!*#REF!)+(#REF!*#REF!))/(#REF!+#REF!+#REF!)","v":{"$error":"#VALUE!"}}]
[null,null,null,null,null,null,null,null,null,null,null,null,null,null,null,null,null,null,null,null,null,96,{"$error":"#VALUE!"},{"$f":"AVERAGE($W$3:W98)","v":{"$error":"#VALUE!"}},null,{"$error":"#VALUE!"},{"$error":"#VALUE!"},{"$f":"AVERAGE($AA$3:AA98)","v":{"$error":"#VALUE!"}},null,null,null,{"$f":"((AA98*#REF!)+(#REF!*#REF!)+(#REF!*#REF!))/(#REF!+#REF!+#REF!)","v":{"$error":"#VALUE!"}},{"$f":"((AA98*#REF!)+(#REF!*#REF!)+(#REF!*#REF!))/(#REF!+#REF!+#REF!)","v":{"$error":"#VALUE!"}},{"$f":"((AA98*#REF!)+(#REF!*#REF!)+(#REF!*#REF!))/(#REF!+#REF!+#REF!)","v":{"$error":"#VALUE!"}},{"$f":"((AA98*#REF!)+(#REF!*#REF!)+(#REF!*#REF!))/(#REF!+#REF!+#REF!)","v":{"$error":"#VALUE!"}},{"$f":"((AA98*#REF!)+(#REF!*#REF!)+(#REF!*#REF!))/(#REF!+#REF!+#REF!)","v":{"$error":"#VALUE!"}},{"$f":"((AA98*#REF!)+(#REF!*#REF!)+(#REF!*#REF!))/(#REF!+#REF!+#REF!)","v":{"$error":"#VALUE!"}},{"$f":"((AA98*#REF!)+(#REF!*#REF!)+(#REF!*#REF!))/(#REF!+#REF!+#REF!)","v":{"$error":"#VALUE!"}}]
[null,null,null,null,null,null,null,null,null,null,null,null,null,null,null,null,null,null,null,null,null,97,{"$error":"#VALUE!"},{"$f":"AVERAGE($W$3:W99)","v":{"$error":"#VALUE!"}},null,{"$error":"#VALUE!"},{"$error":"#VALUE!"},{"$f":"AVERAGE($AA$3:AA99)","v":{"$error":"#VALUE!"}},null,null,null,{"$f":"((AA99*#REF!)+(#REF!*#REF!)+(#REF!*#REF!))/(#REF!+#REF!+#REF!)","v":{"$error":"#VALUE!"}},{"$f":"((AA99*#REF!)+(#REF!*#REF!)+(#REF!*#REF!))/(#REF!+#REF!+#REF!)","v":{"$error":"#VALUE!"}},{"$f":"((AA99*#REF!)+(#REF!*#REF!)+(#REF!*#REF!))/(#REF!+#REF!+#REF!)","v":{"$error":"#VALUE!"}},{"$f":"((AA99*#REF!)+(#REF!*#REF!)+(#REF!*#REF!))/(#REF!+#REF!+#REF!)","v":{"$error":"#VALUE!"}},{"$f":"((AA99*#REF!)+(#REF!*#REF!)+(#REF!*#REF!))/(#REF!+#REF!+#REF!)","v":{"$error":"#VALUE!"}},{"$f":"((AA99*#REF!)+(#REF!*#REF!)+(#REF!*#REF!))/(#REF!+#REF!+#REF!)","v":{"$error":"#VALUE!"}},{"$f":"((AA99*#REF!)+(#REF!*#REF!)+(#REF!*#REF!))/(#REF!+#REF!+#REF!)","v":{"$error":"#VALUE!"}}]
[null,null,null,null,null,null,null,null,null,null,null,null,null,null,null,null,null,null,null,null,null,98,{"$error":"#VALUE!"},{"$f":"AVERAGE($W$3:W100)","v":{"$error":"#VALUE!"}},null,{"$error":"#VALUE!"},{"$error":"#VALUE!"},{"$f":"AVERAGE($AA$3:AA100)","v":{"$error":"#VALUE!"}},null,null,null,{"$f":"((AA100*#REF!)+(#REF!*#REF!)+(#REF!*#REF!))/(#REF!+#REF!+#REF!)","v":{"$error":"#VALUE!"}},{"$f":"((AA100*#REF!)+(#REF!*#REF!)+(#REF!*#REF!))/(#REF!+#REF!+#REF!)","v":{"$error":"#VALUE!"}},{"$f":"((AA100*#REF!)+(#REF!*#REF!)+(#REF!*#REF!))/(#REF!+#REF!+#REF!)","v":{"$error":"#VALUE!"}},{"$f":"((AA100*#REF!)+(#REF!*#REF!)+(#REF!*#REF!))/(#REF!+#REF!+#REF!)","v":{"$error":"#VALUE!"}},{"$f":"((AA100*#REF!)+(#REF!*#REF!)+(#REF!*#REF!))/(#REF!+#REF!+#REF!)","v":{"$error":"#VALUE!"}},{"$f":"((AA100*#REF!)+(#REF!*#REF!)+(#REF!*#REF!))/(#REF!+#REF!+#REF!)","v":{"$error":"#VALUE!"}},{"$f":"((AA100*#REF!)+(#REF!*#REF!)+(#REF!*#REF!))/(#REF!+#REF!+#REF!)","v":{"$error":"#VALUE!"}}]
[null,null,null,null,null,null,null,null,null,null,null,null,null,null,null,null,null,null,null,null,null,99,{"$error":"#VALUE!"},{"$f":"AVERAGE($W$3:W101)","v":{"$error":"#VALUE!"}},null,{"$error":"#VALUE!"},{"$error":"#VALUE!"},{"$f":"AVERAGE($AA$3:AA101)","v":{"$error":"#VALUE!"}},null,null,null,{"$f":"((AA101*#REF!)+(#REF!*#REF!)+(#REF!*#REF!))/(#REF!+#REF!+#REF!)","v":{"$error":"#VALUE!"}},{"$f":"((AA101*#REF!)+(#REF!*#REF!)+(#REF!*#REF!))/(#REF!+#REF!+#REF!)","v":{"$error":"#VALUE!"}},{"$f":"((AA101*#REF!)+(#REF!*#REF!)+(#REF!*#REF!))/(#REF!+#REF!+#REF!)","v":{"$error":"#VALUE!"}},{"$f":"((AA101*#REF!)+(#REF!*#REF!)+(#REF!*#REF!))/(#REF!+#REF!+#REF!)","v":{"$error":"#VALUE!"}},{"$f":"((AA101*#REF!)+(#REF!*#REF!)+(#REF!*#REF!))/(#REF!+#REF!+#REF!)","v":{"$error":"#VALUE!"}},{"$f":"((AA101*#REF!)+(#REF!*#REF!)+(#REF!*#REF!))/(#REF!+#REF!+#REF!)","v":{"$error":"#VALUE!"}},{"$f":"((AA101*#REF!)+(#REF!*#REF!)+(#REF!*#REF!))/(#REF!+#REF!+#REF!)","v":{"$error":"#VALUE!"}}]
[null,null,null,null,null,null,null,null,null,null,null,null,null,null,null,null,null,null,null,null,null,100,{"$error":"#VALUE!"},{"$f":"AVERAGE($W$3:W102)","v":{"$error":"#VALUE!"}},null,{"$error":"#VALUE!"},{"$error":"#VALUE!"},{"$f":"AVERAGE($AA$3:AA102)","v":{"$error":"#VALUE!"}},null,null,null,{"$f":"((AA102*#REF!)+(#REF!*#REF!)+(#REF!*#REF!))/(#REF!+#REF!+#REF!)","v":{"$error":"#VALUE!"}},{"$f":"((AA102*#REF!)+(#REF!*#REF!)+(#REF!*#REF!))/(#REF!+#REF!+#REF!)","v":{"$error":"#VALUE!"}},{"$f":"((AA102*#REF!)+(#REF!*#REF!)+(#REF!*#REF!))/(#REF!+#REF!+#REF!)","v":{"$error":"#VALUE!"}},{"$f":"((AA102*#REF!)+(#REF!*#REF!)+(#REF!*#REF!))/(#REF!+#REF!+#REF!)","v":{"$error":"#VALUE!"}},{"$f":"((AA102*#REF!)+(#REF!*#REF!)+(#REF!*#REF!))/(#REF!+#REF!+#REF!)","v":{"$error":"#VALUE!"}},{"$f":"((AA102*#REF!)+(#REF!*#REF!)+(#REF!*#REF!))/(#REF!+#REF!+#REF!)","v":{"$error":"#VALUE!"}},{"$f":"((AA102*#REF!)+(#REF!*#REF!)+(#REF!*#REF!))/(#REF!+#REF!+#REF!)","v":{"$error":"#VALUE!"}}]
[null,null,null,null,null,null,null,null,null,null,null,null,null,null,null,null,null,null,null,null,null,101,{"$error":"#VALUE!"},{"$f":"AVERAGE($W$3:W103)","v":{"$error":"#VALUE!"}},null,{"$error":"#VALUE!"},{"$error":"#VALUE!"},{"$f":"AVERAGE($AA$3:AA103)","v":{"$error":"#VALUE!"}},null,null,null,{"$f":"((AA103*#REF!)+(#REF!*#REF!)+(#REF!*#REF!))/(#REF!+#REF!+#REF!)","v":{"$error":"#VALUE!"}},{"$f":"((AA103*#REF!)+(#REF!*#REF!)+(#REF!*#REF!))/(#REF!+#REF!+#REF!)","v":{"$error":"#VALUE!"}},{"$f":"((AA103*#REF!)+(#REF!*#REF!)+(#REF!*#REF!))/(#REF!+#REF!+#REF!)","v":{"$error":"#VALUE!"}},{"$f":"((AA103*#REF!)+(#REF!*#REF!)+(#REF!*#REF!))/(#REF!+#REF!+#REF!)","v":{"$error":"#VALUE!"}},{"$f":"((AA103*#REF!)+(#REF!*#REF!)+(#REF!*#REF!))/(#REF!+#REF!+#REF!)","v":{"$error":"#VALUE!"}},{"$f":"((AA103*#REF!)+(#REF!*#REF!)+(#REF!*#REF!))/(#REF!+#REF!+#REF!)","v":{"$error":"#VALUE!"}},{"$f":"((AA103*#REF!)+(#REF!*#REF!)+(#REF!*#REF!))/(#REF!+#REF!+#REF!)","v":{"$error":"#VALUE!"}}]
[null,null,null,null,null,null,null,null,null,null,null,null,null,null,null,null,null,null,null,null,null,102,{"$error":"#VALUE!"},{"$f":"AVERAGE($W$3:W104)","v":{"$error":"#VALUE!"}},null,{"$error":"#VALUE!"},{"$error":"#VALUE!"},{"$f":"AVERAGE($AA$3:AA104)","v":{"$error":"#VALUE!"}},null,null,null,{"$f":"((AA104*#REF!)+(#REF!*#REF!)+(#REF!*#REF!))/(#REF!+#REF!+#REF!)","v":{"$error":"#VALUE!"}},{"$f":"((AA104*#REF!)+(#REF!*#REF!)+(#REF!*#REF!))/(#REF!+#REF!+#REF!)","v":{"$error":"#VALUE!"}},{"$f":"((AA104*#REF!)+(#REF!*#REF!)+(#REF!*#REF!))/(#REF!+#REF!+#REF!)","v":{"$error":"#VALUE!"}},{"$f":"((AA104*#REF!)+(#REF!*#REF!)+(#REF!*#REF!))/(#REF!+#REF!+#REF!)","v":{"$error":"#VALUE!"}},{"$f":"((AA104*#REF!)+(#REF!*#REF!)+(#REF!*#REF!))/(#REF!+#REF!+#REF!)","v":{"$error":"#VALUE!"}},{"$f":"((AA104*#REF!)+(#REF!*#REF!)+(#REF!*#REF!))/(#REF!+#REF!+#REF!)","v":{"$error":"#VALUE!"}},{"$f":"((AA104*#REF!)+(#REF!*#REF!)+(#REF!*#REF!))/(#REF!+#REF!+#REF!)","v":{"$error":"#VALUE!"}}]
[null,null,null,null,null,null,null,null,null,null,null,null,null,null,null,null,null,null,null,null,null,103,{"$error":"#VALUE!"},{"$f":"AVERAGE($W$3:W105)","v":{"$error":"#VALUE!"}},null,{"$error":"#VALUE!"},{"$error":"#VALUE!"},{"$f":"AVERAGE($AA$3:AA105)","v":{"$error":"#VALUE!"}},null,null,null,{"$f":"((AA105*#REF!)+(#REF!*#REF!)+(#REF!*#REF!))/(#REF!+#REF!+#REF!)","v":{"$error":"#VALUE!"}},{"$f":"((AA105*#REF!)+(#REF!*#REF!)+(#REF!*#REF!))/(#REF!+#REF!+#REF!)","v":{"$error":"#VALUE!"}},{"$f":"((AA105*#REF!)+(#REF!*#REF!)+(#REF!*#REF!))/(#REF!+#REF!+#REF!)","v":{"$error":"#VALUE!"}},{"$f":"((AA105*#REF!)+(#REF!*#REF!)+(#REF!*#REF!))/(#REF!+#REF!+#REF!)","v":{"$error":"#VALUE!"}},{"$f":"((AA105*#REF!)+(#REF!*#REF!)+(#REF!*#REF!))/(#REF!+#REF!+#REF!)","v":{"$error":"#VALUE!"}},{"$f":"((AA105*#REF!)+(#REF!*#REF!)+(#REF!*#REF!))/(#REF!+#REF!+#REF!)","v":{"$error":"#VALUE!"}},{"$f":"((AA105*#REF!)+(#REF!*#REF!)+(#REF!*#REF!))/(#REF!+#REF!+#REF!)","v":{"$error":"#VALUE!"}}]
[null,null,null,null,null,null,null,null,null,null,null,null,null,null,null,null,null,null,null,null,null,104,{"$error":"#VALUE!"},{"$f":"AVERAGE($W$3:W106)","v":{"$error":"#VALUE!"}},null,{"$error":"#VALUE!"},{"$error":"#VALUE!"},{"$f":"AVERAGE($AA$3:AA106)","v":{"$error":"#VALUE!"}},null,null,null,{"$f":"((AA106*#REF!)+(#REF!*#REF!)+(#REF!*#REF!))/(#REF!+#REF!+#REF!)","v":{"$error":"#VALUE!"}},{"$f":"((AA106*#REF!)+(#REF!*#REF!)+(#REF!*#REF!))/(#REF!+#REF!+#REF!)","v":{"$error":"#VALUE!"}},{"$f":"((AA106*#REF!)+(#REF!*#REF!)+(#REF!*#REF!))/(#REF!+#REF!+#REF!)","v":{"$error":"#VALUE!"}},{"$f":"((AA106*#REF!)+(#REF!*#REF!)+(#REF!*#REF!))/(#REF!+#REF!+#REF!)","v":{"$error":"#VALUE!"}},{"$f":"((AA106*#REF!)+(#REF!*#REF!)+(#REF!*#REF!))/(#REF!+#REF!+#REF!)","v":{"$error":"#VALUE!"}},{"$f":"((AA106*#REF!)+(#REF!*#REF!)+(#REF!*#REF!))/(#REF!+#REF!+#REF!)","v":{"$error":"#VALUE!"}},{"$f":"((AA106*#REF!)+(#REF!*#REF!)+(#REF!*#REF!))/(#REF!+#REF!+#REF!)","v":{"$error":"#VALUE!"}}]
[null,null,null,null,null,null,null,null,null,null,null,null,null,null,null,null,null,null,null,null,null,105,{"$error":"#VALUE!"},{"$f":"AVERAGE($W$3:W107)","v":{"$error":"#VALUE!"}},null,{"$error":"#VALUE!"},{"$error":"#VALUE!"},{"$f":"AVERAGE($AA$3:AA107)","v":{"$error":"#VALUE!"}},null,null,null,{"$f":"((AA107*#REF!)+(#REF!*#REF!)+(#REF!*#REF!))/(#REF!+#REF!+#REF!)","v":{"$error":"#VALUE!"}},{"$f":"((AA107*#REF!)+(#REF!*#REF!)+(#REF!*#REF!))/(#REF!+#REF!+#REF!)","v":{"$error":"#VALUE!"}},{"$f":"((AA107*#REF!)+(#REF!*#REF!)+(#REF!*#REF!))/(#REF!+#REF!+#REF!)","v":{"$error":"#VALUE!"}},{"$f":"((AA107*#REF!)+(#REF!*#REF!)+(#REF!*#REF!))/(#REF!+#REF!+#REF!)","v":{"$error":"#VALUE!"}},{"$f":"((AA107*#REF!)+(#REF!*#REF!)+(#REF!*#REF!))/(#REF!+#REF!+#REF!)","v":{"$error":"#VALUE!"}},{"$f":"((AA107*#REF!)+(#REF!*#REF!)+(#REF!*#REF!))/(#REF!+#REF!+#REF!)","v":{"$error":"#VALUE!"}},{"$f":"((AA107*#REF!)+(#REF!*#REF!)+(#REF!*#REF!))/(#REF!+#REF!+#REF!)","v":{"$error":"#VALUE!"}}]
[null,null,null,null,null,null,null,null,null,null,null,null,null,null,null,null,null,null,null,null,null,106,{"$error":"#VALUE!"},{"$f":"AVERAGE($W$3:W108)","v":{"$error":"#VALUE!"}},null,{"$error":"#VALUE!"},{"$error":"#VALUE!"},{"$f":"AVERAGE($AA$3:AA108)","v":{"$error":"#VALUE!"}},null,null,null,{"$f":"((AA108*#REF!)+(#REF!*#REF!)+(#REF!*#REF!))/(#REF!+#REF!+#REF!)","v":{"$error":"#VALUE!"}},{"$f":"((AA108*#REF!)+(#REF!*#REF!)+(#REF!*#REF!))/(#REF!+#REF!+#REF!)","v":{"$error":"#VALUE!"}},{"$f":"((AA108*#REF!)+(#REF!*#REF!)+(#REF!*#REF!))/(#REF!+#REF!+#REF!)","v":{"$error":"#VALUE!"}},{"$f":"((AA108*#REF!)+(#REF!*#REF!)+(#REF!*#REF!))/(#REF!+#REF!+#REF!)","v":{"$error":"#VALUE!"}},{"$f":"((AA108*#REF!)+(#REF!*#REF!)+(#REF!*#REF!))/(#REF!+#REF!+#REF!)","v":{"$error":"#VALUE!"}},{"$f":"((AA108*#REF!)+(#REF!*#REF!)+(#REF!*#REF!))/(#REF!+#REF!+#REF!)","v":{"$error":"#VALUE!"}},{"$f":"((AA108*#REF!)+(#REF!*#REF!)+(#REF!*#REF!))/(#REF!+#REF!+#REF!)","v":{"$error":"#VALUE!"}}]
[null,null,null,null,null,null,null,null,null,null,null,null,null,null,null,null,null,null,null,null,null,107,{"$error":"#VALUE!"},{"$f":"AVERAGE($W$3:W109)","v":{"$error":"#VALUE!"}},null,{"$error":"#VALUE!"},{"$error":"#VALUE!"},{"$f":"AVERAGE($AA$3:AA109)","v":{"$error":"#VALUE!"}},null,null,null,{"$f":"((AA109*#REF!)+(#REF!*#REF!)+(#REF!*#REF!))/(#REF!+#REF!+#REF!)","v":{"$error":"#VALUE!"}},{"$f":"((AA109*#REF!)+(#REF!*#REF!)+(#REF!*#REF!))/(#REF!+#REF!+#REF!)","v":{"$error":"#VALUE!"}},{"$f":"((AA109*#REF!)+(#REF!*#REF!)+(#REF!*#REF!))/(#REF!+#REF!+#REF!)","v":{"$error":"#VALUE!"}},{"$f":"((AA109*#REF!)+(#REF!*#REF!)+(#REF!*#REF!))/(#REF!+#REF!+#REF!)","v":{"$error":"#VALUE!"}},{"$f":"((AA109*#REF!)+(#REF!*#REF!)+(#REF!*#REF!))/(#REF!+#REF!+#REF!)","v":{"$error":"#VALUE!"}},{"$f":"((AA109*#REF!)+(#REF!*#REF!)+(#REF!*#REF!))/(#REF!+#REF!+#REF!)","v":{"$error":"#VALUE!"}},{"$f":"((AA109*#REF!)+(#REF!*#REF!)+(#REF!*#REF!))/(#REF!+#REF!+#REF!)","v":{"$error":"#VALUE!"}}]
[null,null,null,null,null,null,null,null,null,null,null,null,null,null,null,null,null,null,null,null,null,108,{"$error":"#VALUE!"},{"$f":"AVERAGE($W$3:W110)","v":{"$error":"#VALUE!"}},null,{"$error":"#VALUE!"},{"$error":"#VALUE!"},{"$f":"AVERAGE($AA$3:AA110)","v":{"$error":"#VALUE!"}},null,null,null,{"$f":"((AA110*#REF!)+(#REF!*#REF!)+(#REF!*#REF!))/(#REF!+#REF!+#REF!)","v":{"$error":"#VALUE!"}},{"$f":"((AA110*#REF!)+(#REF!*#REF!)+(#REF!*#REF!))/(#REF!+#REF!+#REF!)","v":{"$error":"#VALUE!"}},{"$f":"((AA110*#REF!)+(#REF!*#REF!)+(#REF!*#REF!))/(#REF!+#REF!+#REF!)","v":{"$error":"#VALUE!"}},{"$f":"((AA110*#REF!)+(#REF!*#REF!)+(#REF!*#REF!))/(#REF!+#REF!+#REF!)","v":{"$error":"#VALUE!"}},{"$f":"((AA110*#REF!)+(#REF!*#REF!)+(#REF!*#REF!))/(#REF!+#REF!+#REF!)","v":{"$error":"#VALUE!"}},{"$f":"((AA110*#REF!)+(#REF!*#REF!)+(#REF!*#REF!))/(#REF!+#REF!+#REF!)","v":{"$error":"#VALUE!"}},{"$f":"((AA110*#REF!)+(#REF!*#REF!)+(#REF!*#REF!))/(#REF!+#REF!+#REF!)","v":{"$error":"#VALUE!"}}]
[null,null,null,null,null,null,null,null,null,null,null,null,null,null,null,null,null,null,null,null,null,109,{"$error":"#VALUE!"},{"$f":"AVERAGE($W$3:W111)","v":{"$error":"#VALUE!"}},null,{"$error":"#VALUE!"},{"$error":"#VALUE!"},{"$f":"AVERAGE($AA$3:AA111)","v":{"$error":"#VALUE!"}},null,null,null,{"$f":"((AA111*#REF!)+(#REF!*#REF!)+(#REF!*#REF!))/(#REF!+#REF!+#REF!)","v":{"$error":"#VALUE!"}},{"$f":"((AA111*#REF!)+(#REF!*#REF!)+(#REF!*#REF!))/(#REF!+#REF!+#REF!)","v":{"$error":"#VALUE!"}},{"$f":"((AA111*#REF!)+(#REF!*#REF!)+(#REF!*#REF!))/(#REF!+#REF!+#REF!)","v":{"$error":"#VALUE!"}},{"$f":"((AA111*#REF!)+(#REF!*#REF!)+(#REF!*#REF!))/(#REF!+#REF!+#REF!)","v":{"$error":"#VALUE!"}},{"$f":"((AA111*#REF!)+(#REF!*#REF!)+(#REF!*#REF!))/(#REF!+#REF!+#REF!)","v":{"$error":"#VALUE!"}},{"$f":"((AA111*#REF!)+(#REF!*#REF!)+(#REF!*#REF!))/(#REF!+#REF!+#REF!)","v":{"$error":"#VALUE!"}},{"$f":"((AA111*#REF!)+(#REF!*#REF!)+(#REF!*#REF!))/(#REF!+#REF!+#REF!)","v":{"$error":"#VALUE!"}}]
[null,null,null,null,null,null,null,null,null,null,null,null,null,null,null,null,null,null,null,null,null,110,{"$error":"#VALUE!"},{"$f":"AVERAGE($W$3:W112)","v":{"$error":"#VALUE!"}},null,{"$error":"#VALUE!"},{"$error":"#VALUE!"},{"$f":"AVERAGE($AA$3:AA112)","v":{"$error":"#VALUE!"}},null,null,null,{"$f":"((AA112*#REF!)+(#REF!*#REF!)+(#REF!*#REF!))/(#REF!+#REF!+#REF!)","v":{"$error":"#VALUE!"}},{"$f":"((AA112*#REF!)+(#REF!*#REF!)+(#REF!*#REF!))/(#REF!+#REF!+#REF!)","v":{"$error":"#VALUE!"}},{"$f":"((AA112*#REF!)+(#REF!*#REF!)+(#REF!*#REF!))/(#REF!+#REF!+#REF!)","v":{"$error":"#VALUE!"}},{"$f":"((AA112*#REF!)+(#REF!*#REF!)+(#REF!*#REF!))/(#REF!+#REF!+#REF!)","v":{"$error":"#VALUE!"}},{"$f":"((AA112*#REF!)+(#REF!*#REF!)+(#REF!*#REF!))/(#REF!+#REF!+#REF!)","v":{"$error":"#VALUE!"}},{"$f":"((AA112*#REF!)+(#REF!*#REF!)+(#REF!*#REF!))/(#REF!+#REF!+#REF!)","v":{"$error":"#VALUE!"}},{"$f":"((AA112*#REF!)+(#REF!*#REF!)+(#REF!*#REF!))/(#REF!+#REF!+#REF!)","v":{"$error":"#VALUE!"}}]
[null,null,null,null,null,null,null,null,null,null,null,null,null,null,null,null,null,null,null,null,null,111,{"$error":"#VALUE!"},{"$f":"AVERAGE($W$3:W113)","v":{"$error":"#VALUE!"}},null,{"$error":"#VALUE!"},{"$error":"#VALUE!"},{"$f":"AVERAGE($AA$3:AA113)","v":{"$error":"#VALUE!"}},null,null,null,{"$f":"((AA113*#REF!)+(#REF!*#REF!)+(#REF!*#REF!))/(#REF!+#REF!+#REF!)","v":{"$error":"#VALUE!"}},{"$f":"((AA113*#REF!)+(#REF!*#REF!)+(#REF!*#REF!))/(#REF!+#REF!+#REF!)","v":{"$error":"#VALUE!"}},{"$f":"((AA113*#REF!)+(#REF!*#REF!)+(#REF!*#REF!))/(#REF!+#REF!+#REF!)","v":{"$error":"#VALUE!"}},{"$f":"((AA113*#REF!)+(#REF!*#REF!)+(#REF!*#REF!))/(#REF!+#REF!+#REF!)","v":{"$error":"#VALUE!"}},{"$f":"((AA113*#REF!)+(#REF!*#REF!)+(#REF!*#REF!))/(#REF!+#REF!+#REF!)","v":{"$error":"#VALUE!"}},{"$f":"((AA113*#REF!)+(#REF!*#REF!)+(#REF!*#REF!))/(#REF!+#REF!+#REF!)","v":{"$error":"#VALUE!"}},{"$f":"((AA113*#REF!)+(#REF!*#REF!)+(#REF!*#REF!))/(#REF!+#REF!+#REF!)","v":{"$error":"#VALUE!"}}]
[null,null,null,null,null,null,null,null,null,null,null,null,null,null,null,null,null,null,null,null,null,112,{"$error":"#VALUE!"},{"$f":"AVERAGE($W$3:W114)","v":{"$error":"#VALUE!"}},null,{"$error":"#VALUE!"},{"$error":"#VALUE!"},{"$f":"AVERAGE($AA$3:AA114)","v":{"$error":"#VALUE!"}},null,null,null,{"$f":"((AA114*#REF!)+(#REF!*#REF!)+(#REF!*#REF!))/(#REF!+#REF!+#REF!)","v":{"$error":"#VALUE!"}},{"$f":"((AA114*#REF!)+(#REF!*#REF!)+(#REF!*#REF!))/(#REF!+#REF!+#REF!)","v":{"$error":"#VALUE!"}},{"$f":"((AA114*#REF!)+(#REF!*#REF!)+(#REF!*#REF!))/(#REF!+#REF!+#REF!)","v":{"$error":"#VALUE!"}},{"$f":"((AA114*#REF!)+(#REF!*#REF!)+(#REF!*#REF!))/(#REF!+#REF!+#REF!)","v":{"$error":"#VALUE!"}},{"$f":"((AA114*#REF!)+(#REF!*#REF!)+(#REF!*#REF!))/(#REF!+#REF!+#REF!)","v":{"$error":"#VALUE!"}},{"$f":"((AA114*#REF!)+(#REF!*#REF!)+(#REF!*#REF!))/(#REF!+#REF!+#REF!)","v":{"$error":"#VALUE!"}},{"$f":"((AA114*#REF!)+(#REF!*#REF!)+(#REF!*#REF!))/(#REF!+#REF!+#REF!)","v":{"$error":"#VALUE!"}}]
[null,null,null,null,null,null,null,null,null,null,null,null,null,null,null,null,null,null,null,null,null,113,{"$error":"#VALUE!"},{"$f":"AVERAGE($W$3:W115)","v":{"$error":"#VALUE!"}},null,{"$error":"#VALUE!"},{"$error":"#VALUE!"},{"$f":"AVERAGE($AA$3:AA115)","v":{"$error":"#VALUE!"}},null,null,null,{"$f":"((AA115*#REF!)+(#REF!*#REF!)+(#REF!*#REF!))/(#REF!+#REF!+#REF!)","v":{"$error":"#VALUE!"}},{"$f":"((AA115*#REF!)+(#REF!*#REF!)+(#REF!*#REF!))/(#REF!+#REF!+#REF!)","v":{"$error":"#VALUE!"}},{"$f":"((AA115*#REF!)+(#REF!*#REF!)+(#REF!*#REF!))/(#REF!+#REF!+#REF!)","v":{"$error":"#VALUE!"}},{"$f":"((AA115*#REF!)+(#REF!*#REF!)+(#REF!*#REF!))/(#REF!+#REF!+#REF!)","v":{"$error":"#VALUE!"}},{"$f":"((AA115*#REF!)+(#REF!*#REF!)+(#REF!*#REF!))/(#REF!+#REF!+#REF!)","v":{"$error":"#VALUE!"}},{"$f":"((AA115*#REF!)+(#REF!*#REF!)+(#REF!*#REF!))/(#REF!+#REF!+#REF!)","v":{"$error":"#VALUE!"}},{"$f":"((AA115*#REF!)+(#REF!*#REF!)+(#REF!*#REF!))/(#REF!+#REF!+#REF!)","v":{"$error":"#VALUE!"}}]
[null,null,null,null,null,null,null,null,null,null,null,null,null,null,null,null,null,null,null,null,null,114,{"$error":"#VALUE!"},{"$f":"AVERAGE($W$3:W116)","v":{"$error":"#VALUE!"}},null,{"$error":"#VALUE!"},{"$error":"#VALUE!"},{"$f":"AVERAGE($AA$3:AA116)","v":{"$error":"#VALUE!"}},null,null,null,{"$f":"((AA116*#REF!)+(#REF!*#REF!)+(#REF!*#REF!))/(#REF!+#REF!+#REF!)","v":{"$error":"#VALUE!"}},{"$f":"((AA116*#REF!)+(#REF!*#REF!)+(#REF!*#REF!))/(#REF!+#REF!+#REF!)","v":{"$error":"#VALUE!"}},{"$f":"((AA116*#REF!)+(#REF!*#REF!)+(#REF!*#REF!))/(#REF!+#REF!+#REF!)","v":{"$error":"#VALUE!"}},{"$f":"((AA116*#REF!)+(#REF!*#REF!)+(#REF!*#REF!))/(#REF!+#REF!+#REF!)","v":{"$error":"#VALUE!"}},{"$f":"((AA116*#REF!)+(#REF!*#REF!)+(#REF!*#REF!))/(#REF!+#REF!+#REF!)","v":{"$error":"#VALUE!"}},{"$f":"((AA116*#REF!)+(#REF!*#REF!)+(#REF!*#REF!))/(#REF!+#REF!+#REF!)","v":{"$error":"#VALUE!"}},{"$f":"((AA116*#REF!)+(#REF!*#REF!)+(#REF!*#REF!))/(#REF!+#REF!+#REF!)","v":{"$error":"#VALUE!"}}]
[null,null,null,null,null,null,null,null,null,null,null,null,null,null,null,null,null,null,null,null,null,115,{"$error":"#VALUE!"},{"$f":"AVERAGE($W$3:W117)","v":{"$error":"#VALUE!"}},null,{"$error":"#VALUE!"},{"$error":"#VALUE!"},{"$f":"AVERAGE($AA$3:AA117)","v":{"$error":"#VALUE!"}},null,null,null,{"$f":"((AA117*#REF!)+(#REF!*#REF!)+(#REF!*#REF!))/(#REF!+#REF!+#REF!)","v":{"$error":"#VALUE!"}},{"$f":"((AA117*#REF!)+(#REF!*#REF!)+(#REF!*#REF!))/(#REF!+#REF!+#REF!)","v":{"$error":"#VALUE!"}},{"$f":"((AA117*#REF!)+(#REF!*#REF!)+(#REF!*#REF!))/(#REF!+#REF!+#REF!)","v":{"$error":"#VALUE!"}},{"$f":"((AA117*#REF!)+(#REF!*#REF!)+(#REF!*#REF!))/(#REF!+#REF!+#REF!)","v":{"$error":"#VALUE!"}},{"$f":"((AA117*#REF!)+(#REF!*#REF!)+(#REF!*#REF!))/(#REF!+#REF!+#REF!)","v":{"$error":"#VALUE!"}},{"$f":"((AA117*#REF!)+(#REF!*#REF!)+(#REF!*#REF!))/(#REF!+#REF!+#REF!)","v":{"$error":"#VALUE!"}},{"$f":"((AA117*#REF!)+(#REF!*#REF!)+(#REF!*#REF!))/(#REF!+#REF!+#REF!)","v":{"$error":"#VALUE!"}}]
[null,null,null,null,null,null,null,null,null,null,null,null,null,null,null,null,null,null,null,null,null,116,{"$error":"#VALUE!"},{"$f":"AVERAGE($W$3:W118)","v":{"$error":"#VALUE!"}},null,{"$error":"#VALUE!"},{"$error":"#VALUE!"},{"$f":"AVERAGE($AA$3:AA118)","v":{"$error":"#VALUE!"}},null,null,null,{"$f":"((AA118*#REF!)+(#REF!*#REF!)+(#REF!*#REF!))/(#REF!+#REF!+#REF!)","v":{"$error":"#VALUE!"}},{"$f":"((AA118*#REF!)+(#REF!*#REF!)+(#REF!*#REF!))/(#REF!+#REF!+#REF!)","v":{"$error":"#VALUE!"}},{"$f":"((AA118*#REF!)+(#REF!*#REF!)+(#REF!*#REF!))/(#REF!+#REF!+#REF!)","v":{"$error":"#VALUE!"}},{"$f":"((AA118*#REF!)+(#REF!*#REF!)+(#REF!*#REF!))/(#REF!+#REF!+#REF!)","v":{"$error":"#VALUE!"}},{"$f":"((AA118*#REF!)+(#REF!*#REF!)+(#REF!*#REF!))/(#REF!+#REF!+#REF!)","v":{"$error":"#VALUE!"}},{"$f":"((AA118*#REF!)+(#REF!*#REF!)+(#REF!*#REF!))/(#REF!+#REF!+#REF!)","v":{"$error":"#VALUE!"}},{"$f":"((AA118*#REF!)+(#REF!*#REF!)+(#REF!*#REF!))/(#REF!+#REF!+#REF!)","v":{"$error":"#VALUE!"}}]
[null,null,null,null,null,null,null,null,null,null,null,null,null,null,null,null,null,null,null,null,null,117,{"$error":"#VALUE!"},{"$f":"AVERAGE($W$3:W119)","v":{"$error":"#VALUE!"}},null,{"$error":"#VALUE!"},{"$error":"#VALUE!"},{"$f":"AVERAGE($AA$3:AA119)","v":{"$error":"#VALUE!"}},null,null,null,{"$f":"((AA119*#REF!)+(#REF!*#REF!)+(#REF!*#REF!))/(#REF!+#REF!+#REF!)","v":{"$error":"#VALUE!"}},{"$f":"((AA119*#REF!)+(#REF!*#REF!)+(#REF!*#REF!))/(#REF!+#REF!+#REF!)","v":{"$error":"#VALUE!"}},{"$f":"((AA119*#REF!)+(#REF!*#REF!)+(#REF!*#REF!))/(#REF!+#REF!+#REF!)","v":{"$error":"#VALUE!"}},{"$f":"((AA119*#REF!)+(#REF!*#REF!)+(#REF!*#REF!))/(#REF!+#REF!+#REF!)","v":{"$error":"#VALUE!"}},{"$f":"((AA119*#REF!)+(#REF!*#REF!)+(#REF!*#REF!))/(#REF!+#REF!+#REF!)","v":{"$error":"#VALUE!"}},{"$f":"((AA119*#REF!)+(#REF!*#REF!)+(#REF!*#REF!))/(#REF!+#REF!+#REF!)","v":{"$error":"#VALUE!"}},{"$f":"((AA119*#REF!)+(#REF!*#REF!)+(#REF!*#REF!))/(#REF!+#REF!+#REF!)","v":{"$error":"#VALUE!"}}]
[null,null,null,null,null,null,null,null,null,null,null,null,null,null,null,null,null,null,null,null,null,118,{"$error":"#VALUE!"},{"$f":"AVERAGE($W$3:W120)","v":{"$error":"#VALUE!"}},null,{"$error":"#VALUE!"},{"$error":"#VALUE!"},{"$f":"AVERAGE($AA$3:AA120)","v":{"$error":"#VALUE!"}},null,null,null,{"$f":"((AA120*#REF!)+(#REF!*#REF!)+(#REF!*#REF!))/(#REF!+#REF!+#REF!)","v":{"$error":"#VALUE!"}},{"$f":"((AA120*#REF!)+(#REF!*#REF!)+(#REF!*#REF!))/(#REF!+#REF!+#REF!)","v":{"$error":"#VALUE!"}},{"$f":"((AA120*#REF!)+(#REF!*#REF!)+(#REF!*#REF!))/(#REF!+#REF!+#REF!)","v":{"$error":"#VALUE!"}},{"$f":"((AA120*#REF!)+(#REF!*#REF!)+(#REF!*#REF!))/(#REF!+#REF!+#REF!)","v":{"$error":"#VALUE!"}},{"$f":"((AA120*#REF!)+(#REF!*#REF!)+(#REF!*#REF!))/(#REF!+#REF!+#REF!)","v":{"$error":"#VALUE!"}},{"$f":"((AA120*#REF!)+(#REF!*#REF!)+(#REF!*#REF!))/(#REF!+#REF!+#REF!)","v":{"$error":"#VALUE!"}},{"$f":"((AA120*#REF!)+(#REF!*#REF!)+(#REF!*#REF!))/(#REF!+#REF!+#REF!)","v":{"$error":"#VALUE!"}}]
[null,null,null,null,null,null,null,null,null,null,null,null,null,null,null,null,null,null,null,null,null,119,{"$error":"#VALUE!"},{"$f":"AVERAGE($W$3:W121)","v":{"$error":"#VALUE!"}},null,{"$error":"#VALUE!"},{"$error":"#VALUE!"},{"$f":"AVERAGE($AA$3:AA121)","v":{"$error":"#VALUE!"}},null,null,null,{"$f":"((AA121*#REF!)+(#REF!*#REF!)+(#REF!*#REF!))/(#REF!+#REF!+#REF!)","v":{"$error":"#VALUE!"}},{"$f":"((AA121*#REF!)+(#REF!*#REF!)+(#REF!*#REF!))/(#REF!+#REF!+#REF!)","v":{"$error":"#VALUE!"}},{"$f":"((AA121*#REF!)+(#REF!*#REF!)+(#REF!*#REF!))/(#REF!+#REF!+#REF!)","v":{"$error":"#VALUE!"}},{"$f":"((AA121*#REF!)+(#REF!*#REF!)+(#REF!*#REF!))/(#REF!+#REF!+#REF!)","v":{"$error":"#VALUE!"}},{"$f":"((AA121*#REF!)+(#REF!*#REF!)+(#REF!*#REF!))/(#REF!+#REF!+#REF!)","v":{"$error":"#VALUE!"}},{"$f":"((AA121*#REF!)+(#REF!*#REF!)+(#REF!*#REF!))/(#REF!+#REF!+#REF!)","v":{"$error":"#VALUE!"}},{"$f":"((AA121*#REF!)+(#REF!*#REF!)+(#REF!*#REF!))/(#REF!+#REF!+#REF!)","v":{"$error":"#VALUE!"}}]
[null,null,null,null,null,null,null,null,null,null,null,null,null,null,null,null,null,null,null,null,null,120,{"$f":"IF(($M$7*LN(V122))+$M$8+$M$10>0,($M$7*LN(V122))+$M$8+$M$10,0)","v":{"$error":"#VALUE!"}},{"$f":"AVERAGE($W$3:W122)","v":{"$error":"#VALUE!"}},null,{"$error":"#VALUE!"},{"$error":"#VALUE!"},{"$f":"AVERAGE($AA$3:AA122)","v":{"$error":"#VALUE!"}},null,null,null,{"$f":"((AA122*#REF!)+(#REF!*#REF!)+(#REF!*#REF!))/(#REF!+#REF!+#REF!)","v":{"$error":"#VALUE!"}},{"$f":"((AA122*#REF!)+(#REF!*#REF!)+(#REF!*#REF!))/(#REF!+#REF!+#REF!)","v":{"$error":"#VALUE!"}},{"$f":"((AA122*#REF!)+(#REF!*#REF!)+(#REF!*#REF!))/(#REF!+#REF!+#REF!)","v":{"$error":"#VALUE!"}},{"$f":"((AA122*#REF!)+(#REF!*#REF!)+(#REF!*#REF!))/(#REF!+#REF!+#REF!)","v":{"$error":"#VALUE!"}},{"$f":"((AA122*#REF!)+(#REF!*#REF!)+(#REF!*#REF!))/(#REF!+#REF!+#REF!)","v":{"$error":"#VALUE!"}},{"$f":"((AA122*#REF!)+(#REF!*#REF!)+(#REF!*#REF!))/(#REF!+#REF!+#REF!)","v":{"$error":"#VALUE!"}},{"$f":"((AA122*#REF!)+(#REF!*#REF!)+(#REF!*#REF!))/(#REF!+#REF!+#REF!)","v":{"$error":"#VALUE!"}}]
[null,null,null,null,null,null,null,null,null,null,null,null,null,null,null,null,null,null,null,null,null,121,{"$f":"IF(($M$7*LN(V123))+$M$8+$M$10>0,($M$7*LN(V123))+$M$8+$M$10,0)","v":{"$error":"#VALUE!"}},{"$f":"AVERAGE($W$3:W123)","v":{"$error":"#VALUE!"}},null,{"$error":"#VALUE!"},{"$error":"#VALUE!"},{"$f":"AVERAGE($AA$3:AA123)","v":{"$error":"#VALUE!"}},null,null,null,{"$f":"((AA123*#REF!)+(#REF!*#REF!)+(#REF!*#REF!))/(#REF!+#REF!+#REF!)","v":{"$error":"#VALUE!"}},{"$f":"((AA123*#REF!)+(#REF!*#REF!)+(#REF!*#REF!))/(#REF!+#REF!+#REF!)","v":{"$error":"#VALUE!"}},{"$f":"((AA123*#REF!)+(#REF!*#REF!)+(#REF!*#REF!))/(#REF!+#REF!+#REF!)","v":{"$error":"#VALUE!"}},{"$f":"((AA123*#REF!)+(#REF!*#REF!)+(#REF!*#REF!))/(#REF!+#REF!+#REF!)","v":{"$error":"#VALUE!"}},{"$f":"((AA123*#REF!)+(#REF!*#REF!)+(#REF!*#REF!))/(#REF!+#REF!+#REF!)","v":{"$error":"#VALUE!"}},{"$f":"((AA123*#REF!)+(#REF!*#REF!)+(#REF!*#REF!))/(#REF!+#REF!+#REF!)","v":{"$error":"#VALUE!"}},{"$f":"((AA123*#REF!)+(#REF!*#REF!)+(#REF!*#REF!))/(#REF!+#REF!+#REF!)","v":{"$error":"#VALUE!"}}]
[null,null,null,null,null,null,null,null,null,null,null,null,null,null,null,null,null,null,null,null,null,122,{"$error":"#VALUE!"},{"$f":"AVERAGE($W$3:W124)","v":{"$error":"#VALUE!"}},null,{"$error":"#VALUE!"},{"$error":"#VALUE!"},{"$f":"AVERAGE($AA$3:AA124)","v":{"$error":"#VALUE!"}},null,null,null,{"$f":"((AA124*#REF!)+(#REF!*#REF!)+(#REF!*#REF!))/(#REF!+#REF!+#REF!)","v":{"$error":"#VALUE!"}},{"$f":"((AA124*#REF!)+(#REF!*#REF!)+(#REF!*#REF!))/(#REF!+#REF!+#REF!)","v":{"$error":"#VALUE!"}},{"$f":"((AA124*#REF!)+(#REF!*#REF!)+(#REF!*#REF!))/(#REF!+#REF!+#REF!)","v":{"$error":"#VALUE!"}},{"$f":"((AA124*#REF!)+(#REF!*#REF!)+(#REF!*#REF!))/(#REF!+#REF!+#REF!)","v":{"$error":"#VALUE!"}},{"$f":"((AA124*#REF!)+(#REF!*#REF!)+(#REF!*#REF!))/(#REF!+#REF!+#REF!)","v":{"$error":"#VALUE!"}},{"$f":"((AA124*#REF!)+(#REF!*#REF!)+(#REF!*#REF!))/(#REF!+#REF!+#REF!)","v":{"$error":"#VALUE!"}},{"$f":"((AA124*#REF!)+(#REF!*#REF!)+(#REF!*#REF!))/(#REF!+#REF!+#REF!)","v":{"$error":"#VALUE!"}}]
[null,null,null,null,null,null,null,null,null,null,null,null,null,null,null,null,null,null,null,null,null,123,{"$f":"IF(($M$7*LN(V125))+$M$8+$M$10>0,($M$7*LN(V125))+$M$8+$M$10,0)","v":{"$error":"#VALUE!"}},{"$f":"AVERAGE($W$3:W125)","v":{"$error":"#VALUE!"}},null,{"$error":"#VALUE!"},{"$error":"#VALUE!"},{"$f":"AVERAGE($AA$3:AA125)","v":{"$error":"#VALUE!"}},null,null,null,{"$f":"((AA125*#REF!)+(#REF!*#REF!)+(#REF!*#REF!))/(#REF!+#REF!+#REF!)","v":{"$error":"#VALUE!"}},{"$f":"((AA125*#REF!)+(#REF!*#REF!)+(#REF!*#REF!))/(#REF!+#REF!+#REF!)","v":{"$error":"#VALUE!"}},{"$f":"((AA125*#REF!)+(#REF!*#REF!)+(#REF!*#REF!))/(#REF!+#REF!+#REF!)","v":{"$error":"#VALUE!"}},{"$f":"((AA125*#REF!)+(#REF!*#REF!)+(#REF!*#REF!))/(#REF!+#REF!+#REF!)","v":{"$error":"#VALUE!"}},{"$f":"((AA125*#REF!)+(#REF!*#REF!)+(#REF!*#REF!))/(#REF!+#REF!+#REF!)","v":{"$error":"#VALUE!"}},{"$f":"((AA125*#REF!)+(#REF!*#REF!)+(#REF!*#REF!))/(#REF!+#REF!+#REF!)","v":{"$error":"#VALUE!"}},{"$f":"((AA125*#REF!)+(#REF!*#REF!)+(#REF!*#REF!))/(#REF!+#REF!+#REF!)","v":{"$error":"#VALUE!"}}]
[null,null,null,null,null,null,null,null,null,null,null,null,null,null,null,null,null,null,null,null,null,124,{"$f":"IF(($M$7*LN(V126))+$M$8+$M$10>0,($M$7*LN(V126))+$M$8+$M$10,0)","v":{"$error":"#VALUE!"}},{"$f":"AVERAGE($W$3:W126)","v":{"$error":"#VALUE!"}},null,{"$error":"#VALUE!"},{"$error":"#VALUE!"},{"$f":"AVERAGE($AA$3:AA126)","v":{"$error":"#VALUE!"}},null,null,null,{"$f":"((AA126*#REF!)+(#REF!*#REF!)+(#REF!*#REF!))/(#REF!+#REF!+#REF!)","v":{"$error":"#VALUE!"}},{"$f":"((AA126*#REF!)+(#REF!*#REF!)+(#REF!*#REF!))/(#REF!+#REF!+#REF!)","v":{"$error":"#VALUE!"}},{"$f":"((AA126*#REF!)+(#REF!*#REF!)+(#REF!*#REF!))/(#REF!+#REF!+#REF!)","v":{"$error":"#VALUE!"}},{"$f":"((AA126*#REF!)+(#REF!*#REF!)+(#REF!*#REF!))/(#REF!+#REF!+#REF!)","v":{"$error":"#VALUE!"}},{"$f":"((AA126*#REF!)+(#REF!*#REF!)+(#REF!*#REF!))/(#REF!+#REF!+#REF!)","v":{"$error":"#VALUE!"}},{"$f":"((AA126*#REF!)+(#REF!*#REF!)+(#REF!*#REF!))/(#REF!+#REF!+#REF!)","v":{"$error":"#VALUE!"}},{"$f":"((AA126*#REF!)+(#REF!*#REF!)+(#REF!*#REF!))/(#REF!+#REF!+#REF!)","v":{"$error":"#VALUE!"}}]
[null,null,null,null,null,null,null,null,null,null,null,null,null,null,null,null,null,null,null,null,null,125,{"$error":"#VALUE!"},{"$f":"AVERAGE($W$3:W127)","v":{"$error":"#VALUE!"}},null,{"$error":"#VALUE!"},{"$error":"#VALUE!"},{"$f":"AVERAGE($AA$3:AA127)","v":{"$error":"#VALUE!"}},null,null,null,{"$f":"((AA127*#REF!)+(#REF!*#REF!)+(#REF!*#REF!))/(#REF!+#REF!+#REF!)","v":{"$error":"#VALUE!"}},{"$f":"((AA127*#REF!)+(#REF!*#REF!)+(#REF!*#REF!))/(#REF!+#REF!+#REF!)","v":{"$error":"#VALUE!"}},{"$f":"((AA127*#REF!)+(#REF!*#REF!)+(#REF!*#REF!))/(#REF!+#REF!+#REF!)","v":{"$error":"#VALUE!"}},{"$f":"((AA127*#REF!)+(#REF!*#REF!)+(#REF!*#REF!))/(#REF!+#REF!+#REF!)","v":{"$error":"#VALUE!"}},{"$f":"((AA127*#REF!)+(#REF!*#REF!)+(#REF!*#REF!))/(#REF!+#REF!+#REF!)","v":{"$error":"#VALUE!"}},{"$f":"((AA127*#REF!)+(#REF!*#REF!)+(#REF!*#REF!))/(#REF!+#REF!+#REF!)","v":{"$error":"#VALUE!"}},{"$f":"((AA127*#REF!)+(#REF!*#REF!)+(#REF!*#REF!))/(#REF!+#REF!+#REF!)","v":{"$error":"#VALUE!"}}]
[null,null,null,null,null,null,null,null,null,null,null,null,null,null,null,null,null,null,null,null,null,126,{"$error":"#VALUE!"},{"$f":"AVERAGE($W$3:W128)","v":{"$error":"#VALUE!"}},null,{"$error":"#VALUE!"},{"$error":"#VALUE!"},{"$f":"AVERAGE($AA$3:AA128)","v":{"$error":"#VALUE!"}},null,null,null,{"$f":"((AA128*#REF!)+(#REF!*#REF!)+(#REF!*#REF!))/(#REF!+#REF!+#REF!)","v":{"$error":"#VALUE!"}},{"$f":"((AA128*#REF!)+(#REF!*#REF!)+(#REF!*#REF!))/(#REF!+#REF!+#REF!)","v":{"$error":"#VALUE!"}},{"$f":"((AA128*#REF!)+(#REF!*#REF!)+(#REF!*#REF!))/(#REF!+#REF!+#REF!)","v":{"$error":"#VALUE!"}},{"$f":"((AA128*#REF!)+(#REF!*#REF!)+(#REF!*#REF!))/(#REF!+#REF!+#REF!)","v":{"$error":"#VALUE!"}},{"$f":"((AA128*#REF!)+(#REF!*#REF!)+(#REF!*#REF!))/(#REF!+#REF!+#REF!)","v":{"$error":"#VALUE!"}},{"$f":"((AA128*#REF!)+(#REF!*#REF!)+(#REF!*#REF!))/(#REF!+#REF!+#REF!)","v":{"$error":"#VALUE!"}},{"$f":"((AA128*#REF!)+(#REF!*#REF!)+(#REF!*#REF!))/(#REF!+#REF!+#REF!)","v":{"$error":"#VALUE!"}}]
[null,null,null,null,null,null,null,null,null,null,null,null,null,null,null,null,null,null,null,null,null,127,{"$error":"#VALUE!"},{"$f":"AVERAGE($W$3:W129)","v":{"$error":"#VALUE!"}},null,{"$error":"#VALUE!"},{"$error":"#VALUE!"},{"$f":"AVERAGE($AA$3:AA129)","v":{"$error":"#VALUE!"}},null,null,null,{"$f":"((AA129*#REF!)+(#REF!*#REF!)+(#REF!*#REF!))/(#REF!+#REF!+#REF!)","v":{"$error":"#VALUE!"}},{"$f":"((AA129*#REF!)+(#REF!*#REF!)+(#REF!*#REF!))/(#REF!+#REF!+#REF!)","v":{"$error":"#VALUE!"}},{"$f":"((AA129*#REF!)+(#REF!*#REF!)+(#REF!*#REF!))/(#REF!+#REF!+#REF!)","v":{"$error":"#VALUE!"}},{"$f":"((AA129*#REF!)+(#REF!*#REF!)+(#REF!*#REF!))/(#REF!+#REF!+#REF!)","v":{"$error":"#VALUE!"}},{"$f":"((AA129*#REF!)+(#REF!*#REF!)+(#REF!*#REF!))/(#REF!+#REF!+#REF!)","v":{"$error":"#VALUE!"}},{"$f":"((AA129*#REF!)+(#REF!*#REF!)+(#REF!*#REF!))/(#REF!+#REF!+#REF!)","v":{"$error":"#VALUE!"}},{"$f":"((AA129*#REF!)+(#REF!*#REF!)+(#REF!*#REF!))/(#REF!+#REF!+#REF!)","v":{"$error":"#VALUE!"}}]
[null,null,null,null,null,null,null,null,null,null,null,null,null,null,null,null,null,null,null,null,null,128,{"$error":"#VALUE!"},{"$f":"AVERAGE($W$3:W130)","v":{"$error":"#VALUE!"}},null,{"$error":"#VALUE!"},{"$error":"#VALUE!"},{"$f":"AVERAGE($AA$3:AA130)","v":{"$error":"#VALUE!"}},null,null,null,{"$f":"((AA130*#REF!)+(#REF!*#REF!)+(#REF!*#REF!))/(#REF!+#REF!+#REF!)","v":{"$error":"#VALUE!"}},{"$f":"((AA130*#REF!)+(#REF!*#REF!)+(#REF!*#REF!))/(#REF!+#REF!+#REF!)","v":{"$error":"#VALUE!"}},{"$f":"((AA130*#REF!)+(#REF!*#REF!)+(#REF!*#REF!))/(#REF!+#REF!+#REF!)","v":{"$error":"#VALUE!"}},{"$f":"((AA130*#REF!)+(#REF!*#REF!)+(#REF!*#REF!))/(#REF!+#REF!+#REF!)","v":{"$error":"#VALUE!"}},{"$f":"((AA130*#REF!)+(#REF!*#REF!)+(#REF!*#REF!))/(#REF!+#REF!+#REF!)","v":{"$error":"#VALUE!"}},{"$f":"((AA130*#REF!)+(#REF!*#REF!)+(#REF!*#REF!))/(#REF!+#REF!+#REF!)","v":{"$error":"#VALUE!"}},{"$f":"((AA130*#REF!)+(#REF!*#REF!)+(#REF!*#REF!))/(#REF!+#REF!+#REF!)","v":{"$error":"#VALUE!"}}]
[null,null,null,null,null,null,null,null,null,null,null,null,null,null,null,null,null,null,null,null,null,129,{"$error":"#VALUE!"},{"$f":"AVERAGE($W$3:W131)","v":{"$error":"#VALUE!"}},null,{"$error":"#VALUE!"},{"$error":"#VALUE!"},{"$f":"AVERAGE($AA$3:AA131)","v":{"$error":"#VALUE!"}},null,null,null,{"$f":"((AA131*#REF!)+(#REF!*#REF!)+(#REF!*#REF!))/(#REF!+#REF!+#REF!)","v":{"$error":"#VALUE!"}},{"$f":"((AA131*#REF!)+(#REF!*#REF!)+(#REF!*#REF!))/(#REF!+#REF!+#REF!)","v":{"$error":"#VALUE!"}},{"$f":"((AA131*#REF!)+(#REF!*#REF!)+(#REF!*#REF!))/(#REF!+#REF!+#REF!)","v":{"$error":"#VALUE!"}},{"$f":"((AA131*#REF!)+(#REF!*#REF!)+(#REF!*#REF!))/(#REF!+#REF!+#REF!)","v":{"$error":"#VALUE!"}},{"$f":"((AA131*#REF!)+(#REF!*#REF!)+(#REF!*#REF!))/(#REF!+#REF!+#REF!)","v":{"$error":"#VALUE!"}},{"$f":"((AA131*#REF!)+(#REF!*#REF!)+(#REF!*#REF!))/(#REF!+#REF!+#REF!)","v":{"$error":"#VALUE!"}},{"$f":"((AA131*#REF!)+(#REF!*#REF!)+(#REF!*#REF!))/(#REF!+#REF!+#REF!)","v":{"$error":"#VALUE!"}}]
[null,null,null,null,null,null,null,null,null,null,null,null,null,null,null,null,null,null,null,null,null,130,{"$error":"#VALUE!"},{"$f":"AVERAGE($W$3:W132)","v":{"$error":"#VALUE!"}},null,{"$f":"$M$2+W132","v":{"$error":"#VALUE!"}},{"$f":"(Z132*(9/5))+32","v":{"$error":"#VALUE!"}},{"$f":"AVERAGE($AA$3:AA132)","v":{"$error":"#VALUE!"}},null,null,null,{"$f":"((AA132*#REF!)+(#REF!*#REF!)+(#REF!*#REF!))/(#REF!+#REF!+#REF!)","v":{"$error":"#VALUE!"}},{"$f":"((AA132*#REF!)+(#REF!*#REF!)+(#REF!*#REF!))/(#REF!+#REF!+#REF!)","v":{"$error":"#VALUE!"}},{"$f":"((AA132*#REF!)+(#REF!*#REF!)+(#REF!*#REF!))/(#REF!+#REF!+#REF!)","v":{"$error":"#VALUE!"}},{"$f":"((AA132*#REF!)+(#REF!*#REF!)+(#REF!*#REF!))/(#REF!+#REF!+#REF!)","v":{"$error":"#VALUE!"}},{"$f":"((AA132*#REF!)+(#REF!*#REF!)+(#REF!*#REF!))/(#REF!+#REF!+#REF!)","v":{"$error":"#VALUE!"}},{"$f":"((AA132*#REF!)+(#REF!*#REF!)+(#REF!*#REF!))/(#REF!+#REF!+#REF!)","v":{"$error":"#VALUE!"}},{"$f":"((AA132*#REF!)+(#REF!*#REF!)+(#REF!*#REF!))/(#REF!+#REF!+#REF!)","v":{"$error":"#VALUE!"}}]
[null,null,null,null,null,null,null,null,null,null,null,null,null,null,null,null,null,null,null,null,null,131,{"$error":"#VALUE!"},{"$f":"AVERAGE($W$3:W133)","v":{"$error":"#VALUE!"}},null,{"$error":"#VALUE!"},{"$error":"#VALUE!"},{"$f":"AVERAGE($AA$3:AA133)","v":{"$error":"#VALUE!"}},null,null,null,{"$f":"((AA133*#REF!)+(#REF!*#REF!)+(#REF!*#REF!))/(#REF!+#REF!+#REF!)","v":{"$error":"#VALUE!"}},{"$f":"((AA133*#REF!)+(#REF!*#REF!)+(#REF!*#REF!))/(#REF!+#REF!+#REF!)","v":{"$error":"#VALUE!"}},{"$f":"((AA133*#REF!)+(#REF!*#REF!)+(#REF!*#REF!))/(#REF!+#REF!+#REF!)","v":{"$error":"#VALUE!"}},{"$f":"((AA133*#REF!)+(#REF!*#REF!)+(#REF!*#REF!))/(#REF!+#REF!+#REF!)","v":{"$error":"#VALUE!"}},{"$f":"((AA133*#REF!)+(#REF!*#REF!)+(#REF!*#REF!))/(#REF!+#REF!+#REF!)","v":{"$error":"#VALUE!"}},{"$f":"((AA133*#REF!)+(#REF!*#REF!)+(#REF!*#REF!))/(#REF!+#REF!+#REF!)","v":{"$error":"#VALUE!"}},{"$f":"((AA133*#REF!)+(#REF!*#REF!)+(#REF!*#REF!))/(#REF!+#REF!+#REF!)","v":{"$error":"#VALUE!"}}]
[null,null,null,null,null,null,null,null,null,null,null,null,null,null,null,null,null,null,null,null,null,132,{"$error":"#VALUE!"},{"$f":"AVERAGE($W$3:W134)","v":{"$error":"#VALUE!"}},null,{"$error":"#VALUE!"},{"$error":"#VALUE!"},{"$f":"AVERAGE($AA$3:AA134)","v":{"$error":"#VALUE!"}},null,null,null,{"$f":"((AA134*#REF!)+(#REF!*#REF!)+(#REF!*#REF!))/(#REF!+#REF!+#REF!)","v":{"$error":"#VALUE!"}},{"$f":"((AA134*#REF!)+(#REF!*#REF!)+(#REF!*#REF!))/(#REF!+#REF!+#REF!)","v":{"$error":"#VALUE!"}},{"$f":"((AA134*#REF!)+(#REF!*#REF!)+(#REF!*#REF!))/(#REF!+#REF!+#REF!)","v":{"$error":"#VALUE!"}},{"$f":"((AA134*#REF!)+(#REF!*#REF!)+(#REF!*#REF!))/(#REF!+#REF!+#REF!)","v":{"$error":"#VALUE!"}},{"$f":"((AA134*#REF!)+(#REF!*#REF!)+(#REF!*#REF!))/(#REF!+#REF!+#REF!)","v":{"$error":"#VALUE!"}},{"$f":"((AA134*#REF!)+(#REF!*#REF!)+(#REF!*#REF!))/(#REF!+#REF!+#REF!)","v":{"$error":"#VALUE!"}},{"$f":"((AA134*#REF!)+(#REF!*#REF!)+(#REF!*#REF!))/(#REF!+#REF!+#REF!)","v":{"$error":"#VALUE!"}}]
[null,null,null,null,null,null,null,null,null,null,null,null,null,null,null,null,null,null,null,null,null,133,{"$error":"#VALUE!"},{"$f":"AVERAGE($W$3:W135)","v":{"$error":"#VALUE!"}},null,{"$error":"#VALUE!"},{"$error":"#VALUE!"},{"$f":"AVERAGE($AA$3:AA135)","v":{"$error":"#VALUE!"}},null,null,null,{"$f":"((AA135*#REF!)+(#REF!*#REF!)+(#REF!*#REF!))/(#REF!+#REF!+#REF!)","v":{"$error":"#VALUE!"}},{"$f":"((AA135*#REF!)+(#REF!*#REF!)+(#REF!*#REF!))/(#REF!+#REF!+#REF!)","v":{"$error":"#VALUE!"}},{"$f":"((AA135*#REF!)+(#REF!*#REF!)+(#REF!*#REF!))/(#REF!+#REF!+#REF!)","v":{"$error":"#VALUE!"}},{"$f":"((AA135*#REF!)+(#REF!*#REF!)+(#REF!*#REF!))/(#REF!+#REF!+#REF!)","v":{"$error":"#VALUE!"}},{"$f":"((AA135*#REF!)+(#REF!*#REF!)+(#REF!*#REF!))/(#REF!+#REF!+#REF!)","v":{"$error":"#VALUE!"}},{"$f":"((AA135*#REF!)+(#REF!*#REF!)+(#REF!*#REF!))/(#REF!+#REF!+#REF!)","v":{"$error":"#VALUE!"}},{"$f":"((AA135*#REF!)+(#REF!*#REF!)+(#REF!*#REF!))/(#REF!+#REF!+#REF!)","v":{"$error":"#VALUE!"}}]
[null,null,null,null,null,null,null,null,null,null,null,null,null,null,null,null,null,null,null,null,null,134,{"$error":"#VALUE!"},{"$f":"AVERAGE($W$3:W136)","v":{"$error":"#VALUE!"}},null,{"$error":"#VALUE!"},{"$error":"#VALUE!"},{"$f":"AVERAGE($AA$3:AA136)","v":{"$error":"#VALUE!"}},null,null,null,{"$f":"((AA136*#REF!)+(#REF!*#REF!)+(#REF!*#REF!))/(#REF!+#REF!+#REF!)","v":{"$error":"#VALUE!"}},{"$f":"((AA136*#REF!)+(#REF!*#REF!)+(#REF!*#REF!))/(#REF!+#REF!+#REF!)","v":{"$error":"#VALUE!"}},{"$f":"((AA136*#REF!)+(#REF!*#REF!)+(#REF!*#REF!))/(#REF!+#REF!+#REF!)","v":{"$error":"#VALUE!"}},{"$f":"((AA136*#REF!)+(#REF!*#REF!)+(#REF!*#REF!))/(#REF!+#REF!+#REF!)","v":{"$error":"#VALUE!"}},{"$f":"((AA136*#REF!)+(#REF!*#REF!)+(#REF!*#REF!))/(#REF!+#REF!+#REF!)","v":{"$error":"#VALUE!"}},{"$f":"((AA136*#REF!)+(#REF!*#REF!)+(#REF!*#REF!))/(#REF!+#REF!+#REF!)","v":{"$error":"#VALUE!"}},{"$f":"((AA136*#REF!)+(#REF!*#REF!)+(#REF!*#REF!))/(#REF!+#REF!+#REF!)","v":{"$error":"#VALUE!"}}]
[null,null,null,null,null,null,null,null,null,null,null,null,null,null,null,null,null,null,null,null,null,135,{"$error":"#VALUE!"},{"$f":"AVERAGE($W$3:W137)","v":{"$error":"#VALUE!"}},null,{"$error":"#VALUE!"},{"$error":"#VALUE!"},{"$f":"AVERAGE($AA$3:AA137)","v":{"$error":"#VALUE!"}},null,null,null,{"$f":"((AA137*#REF!)+(#REF!*#REF!)+(#REF!*#REF!))/(#REF!+#REF!+#REF!)","v":{"$error":"#VALUE!"}},{"$f":"((AA137*#REF!)+(#REF!*#REF!)+(#REF!*#REF!))/(#REF!+#REF!+#REF!)","v":{"$error":"#VALUE!"}},{"$f":"((AA137*#REF!)+(#REF!*#REF!)+(#REF!*#REF!))/(#REF!+#REF!+#REF!)","v":{"$error":"#VALUE!"}},{"$f":"((AA137*#REF!)+(#REF!*#REF!)+(#REF!*#REF!))/(#REF!+#REF!+#REF!)","v":{"$error":"#VALUE!"}},{"$f":"((AA137*#REF!)+(#REF!*#REF!)+(#REF!*#REF!))/(#REF!+#REF!+#REF!)","v":{"$error":"#VALUE!"}},{"$f":"((AA137*#REF!)+(#REF!*#REF!)+(#REF!*#REF!))/(#REF!+#REF!+#REF!)","v":{"$error":"#VALUE!"}},{"$f":"((AA137*#REF!)+(#REF!*#REF!)+(#REF!*#REF!))/(#REF!+#REF!+#REF!)","v":{"$error":"#VALUE!"}}]
[null,null,null,null,null,null,null,null,null,null,null,null,null,null,null,null,null,null,null,null,null,136,{"$error":"#VALUE!"},{"$f":"AVERAGE($W$3:W138)","v":{"$error":"#VALUE!"}},null,{"$error":"#VALUE!"},{"$error":"#VALUE!"},{"$f":"AVERAGE($AA$3:AA138)","v":{"$error":"#VALUE!"}},null,null,null,{"$f":"((AA138*#REF!)+(#REF!*#REF!)+(#REF!*#REF!))/(#REF!+#REF!+#REF!)","v":{"$error":"#VALUE!"}},{"$f":"((AA138*#REF!)+(#REF!*#REF!)+(#REF!*#REF!))/(#REF!+#REF!+#REF!)","v":{"$error":"#VALUE!"}},{"$f":"((AA138*#REF!)+(#REF!*#REF!)+(#REF!*#REF!))/(#REF!+#REF!+#REF!)","v":{"$error":"#VALUE!"}},{"$f":"((AA138*#REF!)+(#REF!*#REF!)+(#REF!*#REF!))/(#REF!+#REF!+#REF!)","v":{"$error":"#VALUE!"}},{"$f":"((AA138*#REF!)+(#REF!*#REF!)+(#REF!*#REF!))/(#REF!+#REF!+#REF!)","v":{"$error":"#VALUE!"}},{"$f":"((AA138*#REF!)+(#REF!*#REF!)+(#REF!*#REF!))/(#REF!+#REF!+#REF!)","v":{"$error":"#VALUE!"}},{"$f":"((AA138*#REF!)+(#REF!*#REF!)+(#REF!*#REF!))/(#REF!+#REF!+#REF!)","v":{"$error":"#VALUE!"}}]
[null,null,null,null,null,null,null,null,null,null,null,null,null,null,null,null,null,null,null,null,null,137,{"$error":"#VALUE!"},{"$f":"AVERAGE($W$3:W139)","v":{"$error":"#VALUE!"}},null,{"$error":"#VALUE!"},{"$error":"#VALUE!"},{"$f":"AVERAGE($AA$3:AA139)","v":{"$error":"#VALUE!"}},null,null,null,{"$f":"((AA139*#REF!)+(#REF!*#REF!)+(#REF!*#REF!))/(#REF!+#REF!+#REF!)","v":{"$error":"#VALUE!"}},{"$f":"((AA139*#REF!)+(#REF!*#REF!)+(#REF!*#REF!))/(#REF!+#REF!+#REF!)","v":{"$error":"#VALUE!"}},{"$f":"((AA139*#REF!)+(#REF!*#REF!)+(#REF!*#REF!))/(#REF!+#REF!+#REF!)","v":{"$error":"#VALUE!"}},{"$f":"((AA139*#REF!)+(#REF!*#REF!)+(#REF!*#REF!))/(#REF!+#REF!+#REF!)","v":{"$error":"#VALUE!"}},{"$f":"((AA139*#REF!)+(#REF!*#REF!)+(#REF!*#REF!))/(#REF!+#REF!+#REF!)","v":{"$error":"#VALUE!"}},{"$f":"((AA139*#REF!)+(#REF!*#REF!)+(#REF!*#REF!))/(#REF!+#REF!+#REF!)","v":{"$error":"#VALUE!"}},{"$f":"((AA139*#REF!)+(#REF!*#REF!)+(#REF!*#REF!))/(#REF!+#REF!+#REF!)","v":{"$error":"#VALUE!"}}]
[null,null,null,null,null,null,null,null,null,null,null,null,null,null,null,null,null,null,null,null,null,138,{"$error":"#VALUE!"},{"$f":"AVERAGE($W$3:W140)","v":{"$error":"#VALUE!"}},null,{"$error":"#VALUE!"},{"$error":"#VALUE!"},{"$f":"AVERAGE($AA$3:AA140)","v":{"$error":"#VALUE!"}},null,null,null,{"$f":"((AA140*#REF!)+(#REF!*#REF!)+(#REF!*#REF!))/(#REF!+#REF!+#REF!)","v":{"$error":"#VALUE!"}},{"$f":"((AA140*#REF!)+(#REF!*#REF!)+(#REF!*#REF!))/(#REF!+#REF!+#REF!)","v":{"$error":"#VALUE!"}},{"$f":"((AA140*#REF!)+(#REF!*#REF!)+(#REF!*#REF!))/(#REF!+#REF!+#REF!)","v":{"$error":"#VALUE!"}},{"$f":"((AA140*#REF!)+(#REF!*#REF!)+(#REF!*#REF!))/(#REF!+#REF!+#REF!)","v":{"$error":"#VALUE!"}},{"$f":"((AA140*#REF!)+(#REF!*#REF!)+(#REF!*#REF!))/(#REF!+#REF!+#REF!)","v":{"$error":"#VALUE!"}},{"$f":"((AA140*#REF!)+(#REF!*#REF!)+(#REF!*#REF!))/(#REF!+#REF!+#REF!)","v":{"$error":"#VALUE!"}},{"$f":"((AA140*#REF!)+(#REF!*#REF!)+(#REF!*#REF!))/(#REF!+#REF!+#REF!)","v":{"$error":"#VALUE!"}}]
[null,null,null,null,null,null,null,null,null,null,null,null,null,null,null,null,null,null,null,null,null,139,{"$error":"#VALUE!"},{"$f":"AVERAGE($W$3:W141)","v":{"$error":"#VALUE!"}},null,{"$error":"#VALUE!"},{"$error":"#VALUE!"},{"$f":"AVERAGE($AA$3:AA141)","v":{"$error":"#VALUE!"}},null,null,null,{"$f":"((AA141*#REF!)+(#REF!*#REF!)+(#REF!*#REF!))/(#REF!+#REF!+#REF!)","v":{"$error":"#VALUE!"}},{"$f":"((AA141*#REF!)+(#REF!*#REF!)+(#REF!*#REF!))/(#REF!+#REF!+#REF!)","v":{"$error":"#VALUE!"}},{"$f":"((AA141*#REF!)+(#REF!*#REF!)+(#REF!*#REF!))/(#REF!+#REF!+#REF!)","v":{"$error":"#VALUE!"}},{"$f":"((AA141*#REF!)+(#REF!*#REF!)+(#REF!*#REF!))/(#REF!+#REF!+#REF!)","v":{"$error":"#VALUE!"}},{"$f":"((AA141*#REF!)+(#REF!*#REF!)+(#REF!*#REF!))/(#REF!+#REF!+#REF!)","v":{"$error":"#VALUE!"}},{"$f":"((AA141*#REF!)+(#REF!*#REF!)+(#REF!*#REF!))/(#REF!+#REF!+#REF!)","v":{"$error":"#VALUE!"}},{"$f":"((AA141*#REF!)+(#REF!*#REF!)+(#REF!*#REF!))/(#REF!+#REF!+#REF!)","v":{"$error":"#VALUE!"}}]
[null,null,null,null,null,null,null,null,null,null,null,null,null,null,null,null,null,null,null,null,null,140,{"$error":"#VALUE!"},{"$f":"AVERAGE($W$3:W142)","v":{"$error":"#VALUE!"}},null,{"$error":"#VALUE!"},{"$error":"#VALUE!"},{"$f":"AVERAGE($AA$3:AA142)","v":{"$error":"#VALUE!"}},null,null,null,{"$f":"((AA142*#REF!)+(#REF!*#REF!)+(#REF!*#REF!))/(#REF!+#REF!+#REF!)","v":{"$error":"#VALUE!"}},{"$f":"((AA142*#REF!)+(#REF!*#REF!)+(#REF!*#REF!))/(#REF!+#REF!+#REF!)","v":{"$error":"#VALUE!"}},{"$f":"((AA142*#REF!)+(#REF!*#REF!)+(#REF!*#REF!))/(#REF!+#REF!+#REF!)","v":{"$error":"#VALUE!"}},{"$f":"((AA142*#REF!)+(#REF!*#REF!)+(#REF!*#REF!))/(#REF!+#REF!+#REF!)","v":{"$error":"#VALUE!"}},{"$f":"((AA142*#REF!)+(#REF!*#REF!)+(#REF!*#REF!))/(#REF!+#REF!+#REF!)","v":{"$error":"#VALUE!"}},{"$f":"((AA142*#REF!)+(#REF!*#REF!)+(#REF!*#REF!))/(#REF!+#REF!+#REF!)","v":{"$error":"#VALUE!"}},{"$f":"((AA142*#REF!)+(#REF!*#REF!)+(#REF!*#REF!))/(#REF!+#REF!+#REF!)","v":{"$error":"#VALUE!"}}]
[null,null,null,null,null,null,null,null,null,null,null,null,null,null,null,null,null,null,null,null,null,141,{"$error":"#VALUE!"},{"$f":"AVERAGE($W$3:W143)","v":{"$error":"#VALUE!"}},null,{"$error":"#VALUE!"},{"$error":"#VALUE!"},{"$f":"AVERAGE($AA$3:AA143)","v":{"$error":"#VALUE!"}},null,null,null,{"$f":"((AA143*#REF!)+(#REF!*#REF!)+(#REF!*#REF!))/(#REF!+#REF!+#REF!)","v":{"$error":"#VALUE!"}},{"$f":"((AA143*#REF!)+(#REF!*#REF!)+(#REF!*#REF!))/(#REF!+#REF!+#REF!)","v":{"$error":"#VALUE!"}},{"$f":"((AA143*#REF!)+(#REF!*#REF!)+(#REF!*#REF!))/(#REF!+#REF!+#REF!)","v":{"$error":"#VALUE!"}},{"$f":"((AA143*#REF!)+(#REF!*#REF!)+(#REF!*#REF!))/(#REF!+#REF!+#REF!)","v":{"$error":"#VALUE!"}},{"$f":"((AA143*#REF!)+(#REF!*#REF!)+(#REF!*#REF!))/(#REF!+#REF!+#REF!)","v":{"$error":"#VALUE!"}},{"$f":"((AA143*#REF!)+(#REF!*#REF!)+(#REF!*#REF!))/(#REF!+#REF!+#REF!)","v":{"$error":"#VALUE!"}},{"$f":"((AA143*#REF!)+(#REF!*#REF!)+(#REF!*#REF!))/(#REF!+#REF!+#REF!)","v":{"$error":"#VALUE!"}}]
[null,null,null,null,null,null,null,null,null,null,null,null,null,null,null,null,null,null,null,null,null,142,{"$error":"#VALUE!"},{"$f":"AVERAGE($W$3:W144)","v":{"$error":"#VALUE!"}},null,{"$error":"#VALUE!"},{"$error":"#VALUE!"},{"$f":"AVERAGE($AA$3:AA144)","v":{"$error":"#VALUE!"}},null,null,null,{"$f":"((AA144*#REF!)+(#REF!*#REF!)+(#REF!*#REF!))/(#REF!+#REF!+#REF!)","v":{"$error":"#VALUE!"}},{"$f":"((AA144*#REF!)+(#REF!*#REF!)+(#REF!*#REF!))/(#REF!+#REF!+#REF!)","v":{"$error":"#VALUE!"}},{"$f":"((AA144*#REF!)+(#REF!*#REF!)+(#REF!*#REF!))/(#REF!+#REF!+#REF!)","v":{"$error":"#VALUE!"}},{"$f":"((AA144*#REF!)+(#REF!*#REF!)+(#REF!*#REF!))/(#REF!+#REF!+#REF!)","v":{"$error":"#VALUE!"}},{"$f":"((AA144*#REF!)+(#REF!*#REF!)+(#REF!*#REF!))/(#REF!+#REF!+#REF!)","v":{"$error":"#VALUE!"}},{"$f":"((AA144*#REF!)+(#REF!*#REF!)+(#REF!*#REF!))/(#REF!+#REF!+#REF!)","v":{"$error":"#VALUE!"}},{"$f":"((AA144*#REF!)+(#REF!*#REF!)+(#REF!*#REF!))/(#REF!+#REF!+#REF!)","v":{"$error":"#VALUE!"}}]
[null,null,null,null,null,null,null,null,null,null,null,null,null,null,null,null,null,null,null,null,null,143,{"$error":"#VALUE!"},{"$f":"AVERAGE($W$3:W145)","v":{"$error":"#VALUE!"}},null,{"$error":"#VALUE!"},{"$error":"#VALUE!"},{"$f":"AVERAGE($AA$3:AA145)","v":{"$error":"#VALUE!"}},null,null,null,{"$f":"((AA145*#REF!)+(#REF!*#REF!)+(#REF!*#REF!))/(#REF!+#REF!+#REF!)","v":{"$error":"#VALUE!"}},{"$f":"((AA145*#REF!)+(#REF!*#REF!)+(#REF!*#REF!))/(#REF!+#REF!+#REF!)","v":{"$error":"#VALUE!"}},{"$f":"((AA145*#REF!)+(#REF!*#REF!)+(#REF!*#REF!))/(#REF!+#REF!+#REF!)","v":{"$error":"#VALUE!"}},{"$f":"((AA145*#REF!)+(#REF!*#REF!)+(#REF!*#REF!))/(#REF!+#REF!+#REF!)","v":{"$error":"#VALUE!"}},{"$f":"((AA145*#REF!)+(#REF!*#REF!)+(#REF!*#REF!))/(#REF!+#REF!+#REF!)","v":{"$error":"#VALUE!"}},{"$f":"((AA145*#REF!)+(#REF!*#REF!)+(#REF!*#REF!))/(#REF!+#REF!+#REF!)","v":{"$error":"#VALUE!"}},{"$f":"((AA145*#REF!)+(#REF!*#REF!)+(#REF!*#REF!))/(#REF!+#REF!+#REF!)","v":{"$error":"#VALUE!"}}]
[null,null,null,null,null,null,null,null,null,null,null,null,null,null,null,null,null,null,null,null,null,144,{"$error":"#VALUE!"},{"$f":"AVERAGE($W$3:W146)","v":{"$error":"#VALUE!"}},null,{"$error":"#VALUE!"},{"$error":"#VALUE!"},{"$f":"AVERAGE($AA$3:AA146)","v":{"$error":"#VALUE!"}},null,null,null,{"$f":"((AA146*#REF!)+(#REF!*#REF!)+(#REF!*#REF!))/(#REF!+#REF!+#REF!)","v":{"$error":"#VALUE!"}},{"$f":"((AA146*#REF!)+(#REF!*#REF!)+(#REF!*#REF!))/(#REF!+#REF!+#REF!)","v":{"$error":"#VALUE!"}},{"$f":"((AA146*#REF!)+(#REF!*#REF!)+(#REF!*#REF!))/(#REF!+#REF!+#REF!)","v":{"$error":"#VALUE!"}},{"$f":"((AA146*#REF!)+(#REF!*#REF!)+(#REF!*#REF!))/(#REF!+#REF!+#REF!)","v":{"$error":"#VALUE!"}},{"$f":"((AA146*#REF!)+(#REF!*#REF!)+(#REF!*#REF!))/(#REF!+#REF!+#REF!)","v":{"$error":"#VALUE!"}},{"$f":"((AA146*#REF!)+(#REF!*#REF!)+(#REF!*#REF!))/(#REF!+#REF!+#REF!)","v":{"$error":"#VALUE!"}},{"$f":"((AA146*#REF!)+(#REF!*#REF!)+(#REF!*#REF!))/(#REF!+#REF!+#REF!)","v":{"$error":"#VALUE!"}}]
[null,null,null,null,null,null,null,null,null,null,null,null,null,null,null,null,null,null,null,null,null,145,{"$error":"#VALUE!"},{"$f":"AVERAGE($W$3:W147)","v":{"$error":"#VALUE!"}},null,{"$error":"#VALUE!"},{"$error":"#VALUE!"},{"$f":"AVERAGE($AA$3:AA147)","v":{"$error":"#VALUE!"}},null,null,null,{"$f":"((AA147*#REF!)+(#REF!*#REF!)+(#REF!*#REF!))/(#REF!+#REF!+#REF!)","v":{"$error":"#VALUE!"}},{"$f":"((AA147*#REF!)+(#REF!*#REF!)+(#REF!*#REF!))/(#REF!+#REF!+#REF!)","v":{"$error":"#VALUE!"}},{"$f":"((AA147*#REF!)+(#REF!*#REF!)+(#REF!*#REF!))/(#REF!+#REF!+#REF!)","v":{"$error":"#VALUE!"}},{"$f":"((AA147*#REF!)+(#REF!*#REF!)+(#REF!*#REF!))/(#REF!+#REF!+#REF!)","v":{"$error":"#VALUE!"}},{"$f":"((AA147*#REF!)+(#REF!*#REF!)+(#REF!*#REF!))/(#REF!+#REF!+#REF!)","v":{"$error":"#VALUE!"}},{"$f":"((AA147*#REF!)+(#REF!*#REF!)+(#REF!*#REF!))/(#REF!+#REF!+#REF!)","v":{"$error":"#VALUE!"}},{"$f":"((AA147*#REF!)+(#REF!*#REF!)+(#REF!*#REF!))/(#REF!+#REF!+#REF!)","v":{"$error":"#VALUE!"}}]
[null,null,null,null,null,null,null,null,null,null,null,null,null,null,null,null,null,null,null,null,null,146,{"$error":"#VALUE!"},{"$f":"AVERAGE($W$3:W148)","v":{"$error":"#VALUE!"}},null,{"$error":"#VALUE!"},{"$error":"#VALUE!"},{"$f":"AVERAGE($AA$3:AA148)","v":{"$error":"#VALUE!"}},null,null,null,{"$f":"((AA148*#REF!)+(#REF!*#REF!)+(#REF!*#REF!))/(#REF!+#REF!+#REF!)","v":{"$error":"#VALUE!"}},{"$f":"((AA148*#REF!)+(#REF!*#REF!)+(#REF!*#REF!))/(#REF!+#REF!+#REF!)","v":{"$error":"#VALUE!"}},{"$f":"((AA148*#REF!)+(#REF!*#REF!)+(#REF!*#REF!))/(#REF!+#REF!+#REF!)","v":{"$error":"#VALUE!"}},{"$f":"((AA148*#REF!)+(#REF!*#REF!)+(#REF!*#REF!))/(#REF!+#REF!+#REF!)","v":{"$error":"#VALUE!"}},{"$f":"((AA148*#REF!)+(#REF!*#REF!)+(#REF!*#REF!))/(#REF!+#REF!+#REF!)","v":{"$error":"#VALUE!"}},{"$f":"((AA148*#REF!)+(#REF!*#REF!)+(#REF!*#REF!))/(#REF!+#REF!+#REF!)","v":{"$error":"#VALUE!"}},{"$f":"((AA148*#REF!)+(#REF!*#REF!)+(#REF!*#REF!))/(#REF!+#REF!+#REF!)","v":{"$error":"#VALUE!"}}]
[null,null,null,null,null,null,null,null,null,null,null,null,null,null,null,null,null,null,null,null,null,147,{"$error":"#VALUE!"},{"$f":"AVERAGE($W$3:W149)","v":{"$error":"#VALUE!"}},null,{"$error":"#VALUE!"},{"$error":"#VALUE!"},{"$f":"AVERAGE($AA$3:AA149)","v":{"$error":"#VALUE!"}},null,null,null,{"$f":"((AA149*#REF!)+(#REF!*#REF!)+(#REF!*#REF!))/(#REF!+#REF!+#REF!)","v":{"$error":"#VALUE!"}},{"$f":"((AA149*#REF!)+(#REF!*#REF!)+(#REF!*#REF!))/(#REF!+#REF!+#REF!)","v":{"$error":"#VALUE!"}},{"$f":"((AA149*#REF!)+(#REF!*#REF!)+(#REF!*#REF!))/(#REF!+#REF!+#REF!)","v":{"$error":"#VALUE!"}},{"$f":"((AA149*#REF!)+(#REF!*#REF!)+(#REF!*#REF!))/(#REF!+#REF!+#REF!)","v":{"$error":"#VALUE!"}},{"$f":"((AA149*#REF!)+(#REF!*#REF!)+(#REF!*#REF!))/(#REF!+#REF!+#REF!)","v":{"$error":"#VALUE!"}},{"$f":"((AA149*#REF!)+(#REF!*#REF!)+(#REF!*#REF!))/(#REF!+#REF!+#REF!)","v":{"$error":"#VALUE!"}},{"$f":"((AA149*#REF!)+(#REF!*#REF!)+(#REF!*#REF!))/(#REF!+#REF!+#REF!)","v":{"$error":"#VALUE!"}}]
[null,null,null,null,null,null,null,null,null,null,null,null,null,null,null,null,null,null,null,null,null,148,{"$error":"#VALUE!"},{"$f":"AVERAGE($W$3:W150)","v":{"$error":"#VALUE!"}},null,{"$error":"#VALUE!"},{"$error":"#VALUE!"},{"$f":"AVERAGE($AA$3:AA150)","v":{"$error":"#VALUE!"}},null,null,null,{"$f":"((AA150*#REF!)+(#REF!*#REF!)+(#REF!*#REF!))/(#REF!+#REF!+#REF!)","v":{"$error":"#VALUE!"}},{"$f":"((AA150*#REF!)+(#REF!*#REF!)+(#REF!*#REF!))/(#REF!+#REF!+#REF!)","v":{"$error":"#VALUE!"}},{"$f":"((AA150*#REF!)+(#REF!*#REF!)+(#REF!*#REF!))/(#REF!+#REF!+#REF!)","v":{"$error":"#VALUE!"}},{"$f":"((AA150*#REF!)+(#REF!*#REF!)+(#REF!*#REF!))/(#REF!+#REF!+#REF!)","v":{"$error":"#VALUE!"}},{"$f":"((AA150*#REF!)+(#REF!*#REF!)+(#REF!*#REF!))/(#REF!+#REF!+#REF!)","v":{"$error":"#VALUE!"}},{"$f":"((AA150*#REF!)+(#REF!*#REF!)+(#REF!*#REF!))/(#REF!+#REF!+#REF!)","v":{"$error":"#VALUE!"}},{"$f":"((AA150*#REF!)+(#REF!*#REF!)+(#REF!*#REF!))/(#REF!+#REF!+#REF!)","v":{"$error":"#VALUE!"}}]
[null,null,null,null,null,null,null,null,null,null,null,null,null,null,null,null,null,null,null,null,null,149,{"$error":"#VALUE!"},{"$f":"AVERAGE($W$3:W151)","v":{"$error":"#VALUE!"}},null,{"$error":"#VALUE!"},{"$error":"#VALUE!"},{"$f":"AVERAGE($AA$3:AA151)","v":{"$error":"#VALUE!"}},null,null,null,{"$f":"((AA151*#REF!)+(#REF!*#REF!)+(#REF!*#REF!))/(#REF!+#REF!+#REF!)","v":{"$error":"#VALUE!"}},{"$f":"((AA151*#REF!)+(#REF!*#REF!)+(#REF!*#REF!))/(#REF!+#REF!+#REF!)","v":{"$error":"#VALUE!"}},{"$f":"((AA151*#REF!)+(#REF!*#REF!)+(#REF!*#REF!))/(#REF!+#REF!+#REF!)","v":{"$error":"#VALUE!"}},{"$f":"((AA151*#REF!)+(#REF!*#REF!)+(#REF!*#REF!))/(#REF!+#REF!+#REF!)","v":{"$error":"#VALUE!"}},{"$f":"((AA151*#REF!)+(#REF!*#REF!)+(#REF!*#REF!))/(#REF!+#REF!+#REF!)","v":{"$error":"#VALUE!"}},{"$f":"((AA151*#REF!)+(#REF!*#REF!)+(#REF!*#REF!))/(#REF!+#REF!+#REF!)","v":{"$error":"#VALUE!"}},{"$f":"((AA151*#REF!)+(#REF!*#REF!)+(#REF!*#REF!))/(#REF!+#REF!+#REF!)","v":{"$error":"#VALUE!"}}]
[null,null,null,null,null,null,null,null,null,null,null,null,null,null,null,null,null,null,null,null,null,150,{"$error":"#VALUE!"},{"$f":"AVERAGE($W$3:W152)","v":{"$error":"#VALUE!"}},null,{"$error":"#VALUE!"},{"$error":"#VALUE!"},{"$f":"AVERAGE($AA$3:AA152)","v":{"$error":"#VALUE!"}},null,null,null,{"$f":"((AA152*#REF!)+(#REF!*#REF!)+(#REF!*#REF!))/(#REF!+#REF!+#REF!)","v":{"$error":"#VALUE!"}},{"$f":"((AA152*#REF!)+(#REF!*#REF!)+(#REF!*#REF!))/(#REF!+#REF!+#REF!)","v":{"$error":"#VALUE!"}},{"$f":"((AA152*#REF!)+(#REF!*#REF!)+(#REF!*#REF!))/(#REF!+#REF!+#REF!)","v":{"$error":"#VALUE!"}},{"$f":"((AA152*#REF!)+(#REF!*#REF!)+(#REF!*#REF!))/(#REF!+#REF!+#REF!)","v":{"$error":"#VALUE!"}},{"$f":"((AA152*#REF!)+(#REF!*#REF!)+(#REF!*#REF!))/(#REF!+#REF!+#REF!)","v":{"$error":"#VALUE!"}},{"$f":"((AA152*#REF!)+(#REF!*#REF!)+(#REF!*#REF!))/(#REF!+#REF!+#REF!)","v":{"$error":"#VALUE!"}},{"$f":"((AA152*#REF!)+(#REF!*#REF!)+(#REF!*#REF!))/(#REF!+#REF!+#REF!)","v":{"$error":"#VALUE!"}}]
[null,null,null,null,null,null,null,null,null,null,null,null,null,null,null,null,null,null,null,null,null,151,{"$error":"#VALUE!"},{"$f":"AVERAGE($W$3:W153)","v":{"$error":"#VALUE!"}},null,{"$error":"#VALUE!"},{"$error":"#VALUE!"},{"$f":"AVERAGE($AA$3:AA153)","v":{"$error":"#VALUE!"}},null,null,null,{"$f":"((AA153*#REF!)+(#REF!*#REF!)+(#REF!*#REF!))/(#REF!+#REF!+#REF!)","v":{"$error":"#VALUE!"}},{"$f":"((AA153*#REF!)+(#REF!*#REF!)+(#REF!*#REF!))/(#REF!+#REF!+#REF!)","v":{"$error":"#VALUE!"}},{"$f":"((AA153*#REF!)+(#REF!*#REF!)+(#REF!*#REF!))/(#REF!+#REF!+#REF!)","v":{"$error":"#VALUE!"}},{"$f":"((AA153*#REF!)+(#REF!*#REF!)+(#REF!*#REF!))/(#REF!+#REF!+#REF!)","v":{"$error":"#VALUE!"}},{"$f":"((AA153*#REF!)+(#REF!*#REF!)+(#REF!*#REF!))/(#REF!+#REF!+#REF!)","v":{"$error":"#VALUE!"}},{"$f":"((AA153*#REF!)+(#REF!*#REF!)+(#REF!*#REF!))/(#REF!+#REF!+#REF!)","v":{"$error":"#VALUE!"}},{"$f":"((AA153*#REF!)+(#REF!*#REF!)+(#REF!*#REF!))/(#REF!+#REF!+#REF!)","v":{"$error":"#VALUE!"}}]
[null,null,null,null,null,null,null,null,null,null,null,null,null,null,null,null,null,null,null,null,null,152,{"$error":"#VALUE!"},{"$f":"AVERAGE($W$3:W154)","v":{"$error":"#VALUE!"}},null,{"$error":"#VALUE!"},{"$error":"#VALUE!"},{"$f":"AVERAGE($AA$3:AA154)","v":{"$error":"#VALUE!"}},null,null,null,{"$f":"((AA154*#REF!)+(#REF!*#REF!)+(#REF!*#REF!))/(#REF!+#REF!+#REF!)","v":{"$error":"#VALUE!"}},{"$f":"((AA154*#REF!)+(#REF!*#REF!)+(#REF!*#REF!))/(#REF!+#REF!+#REF!)","v":{"$error":"#VALUE!"}},{"$f":"((AA154*#REF!)+(#REF!*#REF!)+(#REF!*#REF!))/(#REF!+#REF!+#REF!)","v":{"$error":"#VALUE!"}},{"$f":"((AA154*#REF!)+(#REF!*#REF!)+(#REF!*#REF!))/(#REF!+#REF!+#REF!)","v":{"$error":"#VALUE!"}},{"$f":"((AA154*#REF!)+(#REF!*#REF!)+(#REF!*#REF!))/(#REF!+#REF!+#REF!)","v":{"$error":"#VALUE!"}},{"$f":"((AA154*#REF!)+(#REF!*#REF!)+(#REF!*#REF!))/(#REF!+#REF!+#REF!)","v":{"$error":"#VALUE!"}},{"$f":"((AA154*#REF!)+(#REF!*#REF!)+(#REF!*#REF!))/(#REF!+#REF!+#REF!)","v":{"$error":"#VALUE!"}}]
[null,null,null,null,null,null,null,null,null,null,null,null,null,null,null,null,null,null,null,null,null,153,{"$error":"#VALUE!"},{"$f":"AVERAGE($W$3:W155)","v":{"$error":"#VALUE!"}},null,{"$error":"#VALUE!"},{"$error":"#VALUE!"},{"$f":"AVERAGE($AA$3:AA155)","v":{"$error":"#VALUE!"}},null,null,null,{"$f":"((AA155*#REF!)+(#REF!*#REF!)+(#REF!*#REF!))/(#REF!+#REF!+#REF!)","v":{"$error":"#VALUE!"}},{"$f":"((AA155*#REF!)+(#REF!*#REF!)+(#REF!*#REF!))/(#REF!+#REF!+#REF!)","v":{"$error":"#VALUE!"}},{"$f":"((AA155*#REF!)+(#REF!*#REF!)+(#REF!*#REF!))/(#REF!+#REF!+#REF!)","v":{"$error":"#VALUE!"}},{"$f":"((AA155*#REF!)+(#REF!*#REF!)+(#REF!*#REF!))/(#REF!+#REF!+#REF!)","v":{"$error":"#VALUE!"}},{"$f":"((AA155*#REF!)+(#REF!*#REF!)+(#REF!*#REF!))/(#REF!+#REF!+#REF!)","v":{"$error":"#VALUE!"}},{"$f":"((AA155*#REF!)+(#REF!*#REF!)+(#REF!*#REF!))/(#REF!+#REF!+#REF!)","v":{"$error":"#VALUE!"}},{"$f":"((AA155*#REF!)+(#REF!*#REF!)+(#REF!*#REF!))/(#REF!+#REF!+#REF!)","v":{"$error":"#VALUE!"}}]
[null,null,null,null,null,null,null,null,null,null,null,null,null,null,null,null,null,null,null,null,null,154,{"$error":"#VALUE!"},{"$f":"AVERAGE($W$3:W156)","v":{"$error":"#VALUE!"}},null,{"$error":"#VALUE!"},{"$error":"#VALUE!"},{"$f":"AVERAGE($AA$3:AA156)","v":{"$error":"#VALUE!"}},null,null,null,{"$f":"((AA156*#REF!)+(#REF!*#REF!)+(#REF!*#REF!))/(#REF!+#REF!+#REF!)","v":{"$error":"#VALUE!"}},{"$f":"((AA156*#REF!)+(#REF!*#REF!)+(#REF!*#REF!))/(#REF!+#REF!+#REF!)","v":{"$error":"#VALUE!"}},{"$f":"((AA156*#REF!)+(#REF!*#REF!)+(#REF!*#REF!))/(#REF!+#REF!+#REF!)","v":{"$error":"#VALUE!"}},{"$f":"((AA156*#REF!)+(#REF!*#REF!)+(#REF!*#REF!))/(#REF!+#REF!+#REF!)","v":{"$error":"#VALUE!"}},{"$f":"((AA156*#REF!)+(#REF!*#REF!)+(#REF!*#REF!))/(#REF!+#REF!+#REF!)","v":{"$error":"#VALUE!"}},{"$f":"((AA156*#REF!)+(#REF!*#REF!)+(#REF!*#REF!))/(#REF!+#REF!+#REF!)","v":{"$error":"#VALUE!"}},{"$f":"((AA156*#REF!)+(#REF!*#REF!)+(#REF!*#REF!))/(#REF!+#REF!+#REF!)","v":{"$error":"#VALUE!"}}]
[null,null,null,null,null,null,null,null,null,null,null,null,null,null,null,null,null,null,null,null,null,155,{"$error":"#VALUE!"},{"$f":"AVERAGE($W$3:W157)","v":{"$error":"#VALUE!"}},null,{"$error":"#VALUE!"},{"$error":"#VALUE!"},{"$f":"AVERAGE($AA$3:AA157)","v":{"$error":"#VALUE!"}},null,null,null,{"$f":"((AA157*#REF!)+(#REF!*#REF!)+(#REF!*#REF!))/(#REF!+#REF!+#REF!)","v":{"$error":"#VALUE!"}},{"$f":"((AA157*#REF!)+(#REF!*#REF!)+(#REF!*#REF!))/(#REF!+#REF!+#REF!)","v":{"$error":"#VALUE!"}},{"$f":"((AA157*#REF!)+(#REF!*#REF!)+(#REF!*#REF!))/(#REF!+#REF!+#REF!)","v":{"$error":"#VALUE!"}},{"$f":"((AA157*#REF!)+(#REF!*#REF!)+(#REF!*#REF!))/(#REF!+#REF!+#REF!)","v":{"$error":"#VALUE!"}},{"$f":"((AA157*#REF!)+(#REF!*#REF!)+(#REF!*#REF!))/(#REF!+#REF!+#REF!)","v":{"$error":"#VALUE!"}},{"$f":"((AA157*#REF!)+(#REF!*#REF!)+(#REF!*#REF!))/(#REF!+#REF!+#REF!)","v":{"$error":"#VALUE!"}},{"$f":"((AA157*#REF!)+(#REF!*#REF!)+(#REF!*#REF!))/(#REF!+#REF!+#REF!)","v":{"$error":"#VALUE!"}}]
[null,null,null,null,null,null,null,null,null,null,null,null,null,null,null,null,null,null,null,null,null,156,{"$error":"#VALUE!"},{"$f":"AVERAGE($W$3:W158)","v":{"$error":"#VALUE!"}},null,{"$error":"#VALUE!"},{"$error":"#VALUE!"},{"$f":"AVERAGE($AA$3:AA158)","v":{"$error":"#VALUE!"}},null,null,null,{"$f":"((AA158*#REF!)+(#REF!*#REF!)+(#REF!*#REF!))/(#REF!+#REF!+#REF!)","v":{"$error":"#VALUE!"}},{"$f":"((AA158*#REF!)+(#REF!*#REF!)+(#REF!*#REF!))/(#REF!+#REF!+#REF!)","v":{"$error":"#VALUE!"}},{"$f":"((AA158*#REF!)+(#REF!*#REF!)+(#REF!*#REF!))/(#REF!+#REF!+#REF!)","v":{"$error":"#VALUE!"}},{"$f":"((AA158*#REF!)+(#REF!*#REF!)+(#REF!*#REF!))/(#REF!+#REF!+#REF!)","v":{"$error":"#VALUE!"}},{"$f":"((AA158*#REF!)+(#REF!*#REF!)+(#REF!*#REF!))/(#REF!+#REF!+#REF!)","v":{"$error":"#VALUE!"}},{"$f":"((AA158*#REF!)+(#REF!*#REF!)+(#REF!*#REF!))/(#REF!+#REF!+#REF!)","v":{"$error":"#VALUE!"}},{"$f":"((AA158*#REF!)+(#REF!*#REF!)+(#REF!*#REF!))/(#REF!+#REF!+#REF!)","v":{"$error":"#VALUE!"}}]
[null,null,null,null,null,null,null,null,null,null,null,null,null,null,null,null,null,null,null,null,null,157,{"$error":"#VALUE!"},{"$f":"AVERAGE($W$3:W159)","v":{"$error":"#VALUE!"}},null,{"$error":"#VALUE!"},{"$error":"#VALUE!"},{"$f":"AVERAGE($AA$3:AA159)","v":{"$error":"#VALUE!"}},null,null,null,{"$f":"((AA159*#REF!)+(#REF!*#REF!)+(#REF!*#REF!))/(#REF!+#REF!+#REF!)","v":{"$error":"#VALUE!"}},{"$f":"((AA159*#REF!)+(#REF!*#REF!)+(#REF!*#REF!))/(#REF!+#REF!+#REF!)","v":{"$error":"#VALUE!"}},{"$f":"((AA159*#REF!)+(#REF!*#REF!)+(#REF!*#REF!))/(#REF!+#REF!+#REF!)","v":{"$error":"#VALUE!"}},{"$f":"((AA159*#REF!)+(#REF!*#REF!)+(#REF!*#REF!))/(#REF!+#REF!+#REF!)","v":{"$error":"#VALUE!"}},{"$f":"((AA159*#REF!)+(#REF!*#REF!)+(#REF!*#REF!))/(#REF!+#REF!+#REF!)","v":{"$error":"#VALUE!"}},{"$f":"((AA159*#REF!)+(#REF!*#REF!)+(#REF!*#REF!))/(#REF!+#REF!+#REF!)","v":{"$error":"#VALUE!"}},{"$f":"((AA159*#REF!)+(#REF!*#REF!)+(#REF!*#REF!))/(#REF!+#REF!+#REF!)","v":{"$error":"#VALUE!"}}]
[null,null,null,null,null,null,null,null,null,null,null,null,null,null,null,null,null,null,null,null,null,158,{"$error":"#VALUE!"},{"$f":"AVERAGE($W$3:W160)","v":{"$error":"#VALUE!"}},null,{"$error":"#VALUE!"},{"$error":"#VALUE!"},{"$f":"AVERAGE($AA$3:AA160)","v":{"$error":"#VALUE!"}},null,null,null,{"$f":"((AA160*#REF!)+(#REF!*#REF!)+(#REF!*#REF!))/(#REF!+#REF!+#REF!)","v":{"$error":"#VALUE!"}},{"$f":"((AA160*#REF!)+(#REF!*#REF!)+(#REF!*#REF!))/(#REF!+#REF!+#REF!)","v":{"$error":"#VALUE!"}},{"$f":"((AA160*#REF!)+(#REF!*#REF!)+(#REF!*#REF!))/(#REF!+#REF!+#REF!)","v":{"$error":"#VALUE!"}},{"$f":"((AA160*#REF!)+(#REF!*#REF!)+(#REF!*#REF!))/(#REF!+#REF!+#REF!)","v":{"$error":"#VALUE!"}},{"$f":"((AA160*#REF!)+(#REF!*#REF!)+(#REF!*#REF!))/(#REF!+#REF!+#REF!)","v":{"$error":"#VALUE!"}},{"$f":"((AA160*#REF!)+(#REF!*#REF!)+(#REF!*#REF!))/(#REF!+#REF!+#REF!)","v":{"$error":"#VALUE!"}},{"$f":"((AA160*#REF!)+(#REF!*#REF!)+(#REF!*#REF!))/(#REF!+#REF!+#REF!)","v":{"$error":"#VALUE!"}}]
[null,null,null,null,null,null,null,null,null,null,null,null,null,null,null,null,null,null,null,null,null,159,{"$error":"#VALUE!"},{"$f":"AVERAGE($W$3:W161)","v":{"$error":"#VALUE!"}},null,{"$error":"#VALUE!"},{"$error":"#VALUE!"},{"$f":"AVERAGE($AA$3:AA161)","v":{"$error":"#VALUE!"}},null,null,null,{"$f":"((AA161*#REF!)+(#REF!*#REF!)+(#REF!*#REF!))/(#REF!+#REF!+#REF!)","v":{"$error":"#VALUE!"}},{"$f":"((AA161*#REF!)+(#REF!*#REF!)+(#REF!*#REF!))/(#REF!+#REF!+#REF!)","v":{"$error":"#VALUE!"}},{"$f":"((AA161*#REF!)+(#REF!*#REF!)+(#REF!*#REF!))/(#REF!+#REF!+#REF!)","v":{"$error":"#VALUE!"}},{"$f":"((AA161*#REF!)+(#REF!*#REF!)+(#REF!*#REF!))/(#REF!+#REF!+#REF!)","v":{"$error":"#VALUE!"}},{"$f":"((AA161*#REF!)+(#REF!*#REF!)+(#REF!*#REF!))/(#REF!+#REF!+#REF!)","v":{"$error":"#VALUE!"}},{"$f":"((AA161*#REF!)+(#REF!*#REF!)+(#REF!*#REF!))/(#REF!+#REF!+#REF!)","v":{"$error":"#VALUE!"}},{"$f":"((AA161*#REF!)+(#REF!*#REF!)+(#REF!*#REF!))/(#REF!+#REF!+#REF!)","v":{"$error":"#VALUE!"}}]
[null,null,null,null,null,null,null,null,null,null,null,null,null,null,null,null,null,null,null,null,null,160,{"$error":"#VALUE!"},{"$f":"AVERAGE($W$3:W162)","v":{"$error":"#VALUE!"}},null,{"$error":"#VALUE!"},{"$error":"#VALUE!"},{"$f":"AVERAGE($AA$3:AA162)","v":{"$error":"#VALUE!"}},null,null,null,{"$f":"((AA162*#REF!)+(#REF!*#REF!)+(#REF!*#REF!))/(#REF!+#REF!+#REF!)","v":{"$error":"#VALUE!"}},{"$f":"((AA162*#REF!)+(#REF!*#REF!)+(#REF!*#REF!))/(#REF!+#REF!+#REF!)","v":{"$error":"#VALUE!"}},{"$f":"((AA162*#REF!)+(#REF!*#REF!)+(#REF!*#REF!))/(#REF!+#REF!+#REF!)","v":{"$error":"#VALUE!"}},{"$f":"((AA162*#REF!)+(#REF!*#REF!)+(#REF!*#REF!))/(#REF!+#REF!+#REF!)","v":{"$error":"#VALUE!"}},{"$f":"((AA162*#REF!)+(#REF!*#REF!)+(#REF!*#REF!))/(#REF!+#REF!+#REF!)","v":{"$error":"#VALUE!"}},{"$f":"((AA162*#REF!)+(#REF!*#REF!)+(#REF!*#REF!))/(#REF!+#REF!+#REF!)","v":{"$error":"#VALUE!"}},{"$f":"((AA162*#REF!)+(#REF!*#REF!)+(#REF!*#REF!))/(#REF!+#REF!+#REF!)","v":{"$error":"#VALUE!"}}]
[null,null,null,null,null,null,null,null,null,null,null,null,null,null,null,null,null,null,null,null,null,161,{"$error":"#VALUE!"},{"$f":"AVERAGE($W$3:W163)","v":{"$error":"#VALUE!"}},null,{"$error":"#VALUE!"},{"$error":"#VALUE!"},{"$f":"AVERAGE($AA$3:AA163)","v":{"$error":"#VALUE!"}},null,null,null,{"$f":"((AA163*#REF!)+(#REF!*#REF!)+(#REF!*#REF!))/(#REF!+#REF!+#REF!)","v":{"$error":"#VALUE!"}},{"$f":"((AA163*#REF!)+(#REF!*#REF!)+(#REF!*#REF!))/(#REF!+#REF!+#REF!)","v":{"$error":"#VALUE!"}},{"$f":"((AA163*#REF!)+(#REF!*#REF!)+(#REF!*#REF!))/(#REF!+#REF!+#REF!)","v":{"$error":"#VALUE!"}},{"$f":"((AA163*#REF!)+(#REF!*#REF!)+(#REF!*#REF!))/(#REF!+#REF!+#REF!)","v":{"$error":"#VALUE!"}},{"$f":"((AA163*#REF!)+(#REF!*#REF!)+(#REF!*#REF!))/(#REF!+#REF!+#REF!)","v":{"$error":"#VALUE!"}},{"$f":"((AA163*#REF!)+(#REF!*#REF!)+(#REF!*#REF!))/(#REF!+#REF!+#REF!)","v":{"$error":"#VALUE!"}},{"$f":"((AA163*#REF!)+(#REF!*#REF!)+(#REF!*#REF!))/(#REF!+#REF!+#REF!)","v":{"$error":"#VALUE!"}}]
[null,null,null,null,null,null,null,null,null,null,null,null,null,null,null,null,null,null,null,null,null,162,{"$error":"#VALUE!"},{"$f":"AVERAGE($W$3:W164)","v":{"$error":"#VALUE!"}},null,{"$error":"#VALUE!"},{"$error":"#VALUE!"},{"$f":"AVERAGE($AA$3:AA164)","v":{"$error":"#VALUE!"}},null,null,null,{"$f":"((AA164*#REF!)+(#REF!*#REF!)+(#REF!*#REF!))/(#REF!+#REF!+#REF!)","v":{"$error":"#VALUE!"}},{"$f":"((AA164*#REF!)+(#REF!*#REF!)+(#REF!*#REF!))/(#REF!+#REF!+#REF!)","v":{"$error":"#VALUE!"}},{"$f":"((AA164*#REF!)+(#REF!*#REF!)+(#REF!*#REF!))/(#REF!+#REF!+#REF!)","v":{"$error":"#VALUE!"}},{"$f":"((AA164*#REF!)+(#REF!*#REF!)+(#REF!*#REF!))/(#REF!+#REF!+#REF!)","v":{"$error":"#VALUE!"}},{"$f":"((AA164*#REF!)+(#REF!*#REF!)+(#REF!*#REF!))/(#REF!+#REF!+#REF!)","v":{"$error":"#VALUE!"}},{"$f":"((AA164*#REF!)+(#REF!*#REF!)+(#REF!*#REF!))/(#REF!+#REF!+#REF!)","v":{"$error":"#VALUE!"}},{"$f":"((AA164*#REF!)+(#REF!*#REF!)+(#REF!*#REF!))/(#REF!+#REF!+#REF!)","v":{"$error":"#VALUE!"}}]
[null,null,null,null,null,null,null,null,null,null,null,null,null,null,null,null,null,null,null,null,null,163,{"$error":"#VALUE!"},{"$f":"AVERAGE($W$3:W165)","v":{"$error":"#VALUE!"}},null,{"$error":"#VALUE!"},{"$error":"#VALUE!"},{"$f":"AVERAGE($AA$3:AA165)","v":{"$error":"#VALUE!"}},null,null,null,{"$f":"((AA165*#REF!)+(#REF!*#REF!)+(#REF!*#REF!))/(#REF!+#REF!+#REF!)","v":{"$error":"#VALUE!"}},{"$f":"((AA165*#REF!)+(#REF!*#REF!)+(#REF!*#REF!))/(#REF!+#REF!+#REF!)","v":{"$error":"#VALUE!"}},{"$f":"((AA165*#REF!)+(#REF!*#REF!)+(#REF!*#REF!))/(#REF!+#REF!+#REF!)","v":{"$error":"#VALUE!"}},{"$f":"((AA165*#REF!)+(#REF!*#REF!)+(#REF!*#REF!))/(#REF!+#REF!+#REF!)","v":{"$error":"#VALUE!"}},{"$f":"((AA165*#REF!)+(#REF!*#REF!)+(#REF!*#REF!))/(#REF!+#REF!+#REF!)","v":{"$error":"#VALUE!"}},{"$f":"((AA165*#REF!)+(#REF!*#REF!)+(#REF!*#REF!))/(#REF!+#REF!+#REF!)","v":{"$error":"#VALUE!"}},{"$f":"((AA165*#REF!)+(#REF!*#REF!)+(#REF!*#REF!))/(#REF!+#REF!+#REF!)","v":{"$error":"#VALUE!"}}]
[null,null,null,null,null,null,null,null,null,null,null,null,null,null,null,null,null,null,null,null,null,164,{"$error":"#VALUE!"},{"$f":"AVERAGE($W$3:W166)","v":{"$error":"#VALUE!"}},null,{"$error":"#VALUE!"},{"$error":"#VALUE!"},{"$f":"AVERAGE($AA$3:AA166)","v":{"$error":"#VALUE!"}},null,null,null,{"$f":"((AA166*#REF!)+(#REF!*#REF!)+(#REF!*#REF!))/(#REF!+#REF!+#REF!)","v":{"$error":"#VALUE!"}},{"$f":"((AA166*#REF!)+(#REF!*#REF!)+(#REF!*#REF!))/(#REF!+#REF!+#REF!)","v":{"$error":"#VALUE!"}},{"$f":"((AA166*#REF!)+(#REF!*#REF!)+(#REF!*#REF!))/(#REF!+#REF!+#REF!)","v":{"$error":"#VALUE!"}},{"$f":"((AA166*#REF!)+(#REF!*#REF!)+(#REF!*#REF!))/(#REF!+#REF!+#REF!)","v":{"$error":"#VALUE!"}},{"$f":"((AA166*#REF!)+(#REF!*#REF!)+(#REF!*#REF!))/(#REF!+#REF!+#REF!)","v":{"$error":"#VALUE!"}},{"$f":"((AA166*#REF!)+(#REF!*#REF!)+(#REF!*#REF!))/(#REF!+#REF!+#REF!)","v":{"$error":"#VALUE!"}},{"$f":"((AA166*#REF!)+(#REF!*#REF!)+(#REF!*#REF!))/(#REF!+#REF!+#REF!)","v":{"$error":"#VALUE!"}}]
[null,null,null,null,null,null,null,null,null,null,null,null,null,null,null,null,null,null,null,null,null,165,{"$error":"#VALUE!"},{"$f":"AVERAGE($W$3:W167)","v":{"$error":"#VALUE!"}},null,{"$error":"#VALUE!"},{"$error":"#VALUE!"},{"$f":"AVERAGE($AA$3:AA167)","v":{"$error":"#VALUE!"}},null,null,null,{"$f":"((AA167*#REF!)+(#REF!*#REF!)+(#REF!*#REF!))/(#REF!+#REF!+#REF!)","v":{"$error":"#VALUE!"}},{"$f":"((AA167*#REF!)+(#REF!*#REF!)+(#REF!*#REF!))/(#REF!+#REF!+#REF!)","v":{"$error":"#VALUE!"}},{"$f":"((AA167*#REF!)+(#REF!*#REF!)+(#REF!*#REF!))/(#REF!+#REF!+#REF!)","v":{"$error":"#VALUE!"}},{"$f":"((AA167*#REF!)+(#REF!*#REF!)+(#REF!*#REF!))/(#REF!+#REF!+#REF!)","v":{"$error":"#VALUE!"}},{"$f":"((AA167*#REF!)+(#REF!*#REF!)+(#REF!*#REF!))/(#REF!+#REF!+#REF!)","v":{"$error":"#VALUE!"}},{"$f":"((AA167*#REF!)+(#REF!*#REF!)+(#REF!*#REF!))/(#REF!+#REF!+#REF!)","v":{"$error":"#VALUE!"}},{"$f":"((AA167*#REF!)+(#REF!*#REF!)+(#REF!*#REF!))/(#REF!+#REF!+#REF!)","v":{"$error":"#VALUE!"}}]
[null,null,null,null,null,null,null,null,null,null,null,null,null,null,null,null,null,null,null,null,null,166,{"$error":"#VALUE!"},{"$f":"AVERAGE($W$3:W168)","v":{"$error":"#VALUE!"}},null,{"$error":"#VALUE!"},{"$error":"#VALUE!"},{"$f":"AVERAGE($AA$3:AA168)","v":{"$error":"#VALUE!"}},null,null,null,{"$f":"((AA168*#REF!)+(#REF!*#REF!)+(#REF!*#REF!))/(#REF!+#REF!+#REF!)","v":{"$error":"#VALUE!"}},{"$f":"((AA168*#REF!)+(#REF!*#REF!)+(#REF!*#REF!))/(#REF!+#REF!+#REF!)","v":{"$error":"#VALUE!"}},{"$f":"((AA168*#REF!)+(#REF!*#REF!)+(#REF!*#REF!))/(#REF!+#REF!+#REF!)","v":{"$error":"#VALUE!"}},{"$f":"((AA168*#REF!)+(#REF!*#REF!)+(#REF!*#REF!))/(#REF!+#REF!+#REF!)","v":{"$error":"#VALUE!"}},{"$f":"((AA168*#REF!)+(#REF!*#REF!)+(#REF!*#REF!))/(#REF!+#REF!+#REF!)","v":{"$error":"#VALUE!"}},{"$f":"((AA168*#REF!)+(#REF!*#REF!)+(#REF!*#REF!))/(#REF!+#REF!+#REF!)","v":{"$error":"#VALUE!"}},{"$f":"((AA168*#REF!)+(#REF!*#REF!)+(#REF!*#REF!))/(#REF!+#REF!+#REF!)","v":{"$error":"#VALUE!"}}]
[null,null,null,null,null,null,null,null,null,null,null,null,null,null,null,null,null,null,null,null,null,167,{"$error":"#VALUE!"},{"$f":"AVERAGE($W$3:W169)","v":{"$error":"#VALUE!"}},null,{"$error":"#VALUE!"},{"$error":"#VALUE!"},{"$f":"AVERAGE($AA$3:AA169)","v":{"$error":"#VALUE!"}},null,null,null,{"$f":"((AA169*#REF!)+(#REF!*#REF!)+(#REF!*#REF!))/(#REF!+#REF!+#REF!)","v":{"$error":"#VALUE!"}},{"$f":"((AA169*#REF!)+(#REF!*#REF!)+(#REF!*#REF!))/(#REF!+#REF!+#REF!)","v":{"$error":"#VALUE!"}},{"$f":"((AA169*#REF!)+(#REF!*#REF!)+(#REF!*#REF!))/(#REF!+#REF!+#REF!)","v":{"$error":"#VALUE!"}},{"$f":"((AA169*#REF!)+(#REF!*#REF!)+(#REF!*#REF!))/(#REF!+#REF!+#REF!)","v":{"$error":"#VALUE!"}},{"$f":"((AA169*#REF!)+(#REF!*#REF!)+(#REF!*#REF!))/(#REF!+#REF!+#REF!)","v":{"$error":"#VALUE!"}},{"$f":"((AA169*#REF!)+(#REF!*#REF!)+(#REF!*#REF!))/(#REF!+#REF!+#REF!)","v":{"$error":"#VALUE!"}},{"$f":"((AA169*#REF!)+(#REF!*#REF!)+(#REF!*#REF!))/(#REF!+#REF!+#REF!)","v":{"$error":"#VALUE!"}}]
[null,null,null,null,null,null,null,null,null,null,null,null,null,null,null,null,null,null,null,null,null,168,{"$error":"#VALUE!"},{"$f":"AVERAGE($W$3:W170)","v":{"$error":"#VALUE!"}},null,{"$error":"#VALUE!"},{"$error":"#VALUE!"},{"$f":"AVERAGE($AA$3:AA170)","v":{"$error":"#VALUE!"}},null,null,null,{"$f":"((AA170*#REF!)+(#REF!*#REF!)+(#REF!*#REF!))/(#REF!+#REF!+#REF!)","v":{"$error":"#VALUE!"}},{"$f":"((AA170*#REF!)+(#REF!*#REF!)+(#REF!*#REF!))/(#REF!+#REF!+#REF!)","v":{"$error":"#VALUE!"}},{"$f":"((AA170*#REF!)+(#REF!*#REF!)+(#REF!*#REF!))/(#REF!+#REF!+#REF!)","v":{"$error":"#VALUE!"}},{"$f":"((AA170*#REF!)+(#REF!*#REF!)+(#REF!*#REF!))/(#REF!+#REF!+#REF!)","v":{"$error":"#VALUE!"}},{"$f":"((AA170*#REF!)+(#REF!*#REF!)+(#REF!*#REF!))/(#REF!+#REF!+#REF!)","v":{"$error":"#VALUE!"}},{"$f":"((AA170*#REF!)+(#REF!*#REF!)+(#REF!*#REF!))/(#REF!+#REF!+#REF!)","v":{"$error":"#VALUE!"}},{"$f":"((AA170*#REF!)+(#REF!*#REF!)+(#REF!*#REF!))/(#REF!+#REF!+#REF!)","v":{"$error":"#VALUE!"}}]
[null,null,null,null,null,null,null,null,null,null,null,null,null,null,null,null,null,null,null,null,null,169,{"$error":"#VALUE!"},{"$f":"AVERAGE($W$3:W171)","v":{"$error":"#VALUE!"}},null,{"$error":"#VALUE!"},{"$error":"#VALUE!"},{"$f":"AVERAGE($AA$3:AA171)","v":{"$error":"#VALUE!"}},null,null,null,{"$f":"((AA171*#REF!)+(#REF!*#REF!)+(#REF!*#REF!))/(#REF!+#REF!+#REF!)","v":{"$error":"#VALUE!"}},{"$f":"((AA171*#REF!)+(#REF!*#REF!)+(#REF!*#REF!))/(#REF!+#REF!+#REF!)","v":{"$error":"#VALUE!"}},{"$f":"((AA171*#REF!)+(#REF!*#REF!)+(#REF!*#REF!))/(#REF!+#REF!+#REF!)","v":{"$error":"#VALUE!"}},{"$f":"((AA171*#REF!)+(#REF!*#REF!)+(#REF!*#REF!))/(#REF!+#REF!+#REF!)","v":{"$error":"#VALUE!"}},{"$f":"((AA171*#REF!)+(#REF!*#REF!)+(#REF!*#REF!))/(#REF!+#REF!+#REF!)","v":{"$error":"#VALUE!"}},{"$f":"((AA171*#REF!)+(#REF!*#REF!)+(#REF!*#REF!))/(#REF!+#REF!+#REF!)","v":{"$error":"#VALUE!"}},{"$f":"((AA171*#REF!)+(#REF!*#REF!)+(#REF!*#REF!))/(#REF!+#REF!+#REF!)","v":{"$error":"#VALUE!"}}]
[null,null,null,null,null,null,null,null,null,null,null,null,null,null,null,null,null,null,null,null,null,170,{"$error":"#VALUE!"},{"$f":"AVERAGE($W$3:W172)","v":{"$error":"#VALUE!"}},null,{"$error":"#VALUE!"},{"$error":"#VALUE!"},{"$f":"AVERAGE($AA$3:AA172)","v":{"$error":"#VALUE!"}},null,null,null,{"$f":"((AA172*#REF!)+(#REF!*#REF!)+(#REF!*#REF!))/(#REF!+#REF!+#REF!)","v":{"$error":"#VALUE!"}},{"$f":"((AA172*#REF!)+(#REF!*#REF!)+(#REF!*#REF!))/(#REF!+#REF!+#REF!)","v":{"$error":"#VALUE!"}},{"$f":"((AA172*#REF!)+(#REF!*#REF!)+(#REF!*#REF!))/(#REF!+#REF!+#REF!)","v":{"$error":"#VALUE!"}},{"$f":"((AA172*#REF!)+(#REF!*#REF!)+(#REF!*#REF!))/(#REF!+#REF!+#REF!)","v":{"$error":"#VALUE!"}},{"$f":"((AA172*#REF!)+(#REF!*#REF!)+(#REF!*#REF!))/(#REF!+#REF!+#REF!)","v":{"$error":"#VALUE!"}},{"$f":"((AA172*#REF!)+(#REF!*#REF!)+(#REF!*#REF!))/(#REF!+#REF!+#REF!)","v":{"$error":"#VALUE!"}},{"$f":"((AA172*#REF!)+(#REF!*#REF!)+(#REF!*#REF!))/(#REF!+#REF!+#REF!)","v":{"$error":"#VALUE!"}}]
[null,null,null,null,null,null,null,null,null,null,null,null,null,null,null,null,null,null,null,null,null,171,{"$error":"#VALUE!"},{"$f":"AVERAGE($W$3:W173)","v":{"$error":"#VALUE!"}},null,{"$error":"#VALUE!"},{"$error":"#VALUE!"},{"$f":"AVERAGE($AA$3:AA173)","v":{"$error":"#VALUE!"}},null,null,null,{"$f":"((AA173*#REF!)+(#REF!*#REF!)+(#REF!*#REF!))/(#REF!+#REF!+#REF!)","v":{"$error":"#VALUE!"}},{"$f":"((AA173*#REF!)+(#REF!*#REF!)+(#REF!*#REF!))/(#REF!+#REF!+#REF!)","v":{"$error":"#VALUE!"}},{"$f":"((AA173*#REF!)+(#REF!*#REF!)+(#REF!*#REF!))/(#REF!+#REF!+#REF!)","v":{"$error":"#VALUE!"}},{"$f":"((AA173*#REF!)+(#REF!*#REF!)+(#REF!*#REF!))/(#REF!+#REF!+#REF!)","v":{"$error":"#VALUE!"}},{"$f":"((AA173*#REF!)+(#REF!*#REF!)+(#REF!*#REF!))/(#REF!+#REF!+#REF!)","v":{"$error":"#VALUE!"}},{"$f":"((AA173*#REF!)+(#REF!*#REF!)+(#REF!*#REF!))/(#REF!+#REF!+#REF!)","v":{"$error":"#VALUE!"}},{"$f":"((AA173*#REF!)+(#REF!*#REF!)+(#REF!*#REF!))/(#REF!+#REF!+#REF!)","v":{"$error":"#VALUE!"}}]
[null,null,null,null,null,null,null,null,null,null,null,null,null,null,null,null,null,null,null,null,null,172,{"$error":"#VALUE!"},{"$f":"AVERAGE($W$3:W174)","v":{"$error":"#VALUE!"}},null,{"$error":"#VALUE!"},{"$error":"#VALUE!"},{"$f":"AVERAGE($AA$3:AA174)","v":{"$error":"#VALUE!"}},null,null,null,{"$f":"((AA174*#REF!)+(#REF!*#REF!)+(#REF!*#REF!))/(#REF!+#REF!+#REF!)","v":{"$error":"#VALUE!"}},{"$f":"((AA174*#REF!)+(#REF!*#REF!)+(#REF!*#REF!))/(#REF!+#REF!+#REF!)","v":{"$error":"#VALUE!"}},{"$f":"((AA174*#REF!)+(#REF!*#REF!)+(#REF!*#REF!))/(#REF!+#REF!+#REF!)","v":{"$error":"#VALUE!"}},{"$f":"((AA174*#REF!)+(#REF!*#REF!)+(#REF!*#REF!))/(#REF!+#REF!+#REF!)","v":{"$error":"#VALUE!"}},{"$f":"((AA174*#REF!)+(#REF!*#REF!)+(#REF!*#REF!))/(#REF!+#REF!+#REF!)","v":{"$error":"#VALUE!"}},{"$f":"((AA174*#REF!)+(#REF!*#REF!)+(#REF!*#REF!))/(#REF!+#REF!+#REF!)","v":{"$error":"#VALUE!"}},{"$f":"((AA174*#REF!)+(#REF!*#REF!)+(#REF!*#REF!))/(#REF!+#REF!+#REF!)","v":{"$error":"#VALUE!"}}]
[null,null,null,null,null,null,null,null,null,null,null,null,null,null,null,null,null,null,null,null,null,173,{"$error":"#VALUE!"},{"$f":"AVERAGE($W$3:W175)","v":{"$error":"#VALUE!"}},null,{"$error":"#VALUE!"},{"$error":"#VALUE!"},{"$f":"AVERAGE($AA$3:AA175)","v":{"$error":"#VALUE!"}},null,null,null,{"$f":"((AA175*#REF!)+(#REF!*#REF!)+(#REF!*#REF!))/(#REF!+#REF!+#REF!)","v":{"$error":"#VALUE!"}},{"$f":"((AA175*#REF!)+(#REF!*#REF!)+(#REF!*#REF!))/(#REF!+#REF!+#REF!)","v":{"$error":"#VALUE!"}},{"$f":"((AA175*#REF!)+(#REF!*#REF!)+(#REF!*#REF!))/(#REF!+#REF!+#REF!)","v":{"$error":"#VALUE!"}},{"$f":"((AA175*#REF!)+(#REF!*#REF!)+(#REF!*#REF!))/(#REF!+#REF!+#REF!)","v":{"$error":"#VALUE!"}},{"$f":"((AA175*#REF!)+(#REF!*#REF!)+(#REF!*#REF!))/(#REF!+#REF!+#REF!)","v":{"$error":"#VALUE!"}},{"$f":"((AA175*#REF!)+(#REF!*#REF!)+(#REF!*#REF!))/(#REF!+#REF!+#REF!)","v":{"$error":"#VALUE!"}},{"$f":"((AA175*#REF!)+(#REF!*#REF!)+(#REF!*#REF!))/(#REF!+#REF!+#REF!)","v":{"$error":"#VALUE!"}}]
[null,null,null,null,null,null,null,null,null,null,null,null,null,null,null,null,null,null,null,null,null,174,{"$error":"#VALUE!"},{"$f":"AVERAGE($W$3:W176)","v":{"$error":"#VALUE!"}},null,{"$error":"#VALUE!"},{"$error":"#VALUE!"},{"$f":"AVERAGE($AA$3:AA176)","v":{"$error":"#VALUE!"}},null,null,null,{"$f":"((AA176*#REF!)+(#REF!*#REF!)+(#REF!*#REF!))/(#REF!+#REF!+#REF!)","v":{"$error":"#VALUE!"}},{"$f":"((AA176*#REF!)+(#REF!*#REF!)+(#REF!*#REF!))/(#REF!+#REF!+#REF!)","v":{"$error":"#VALUE!"}},{"$f":"((AA176*#REF!)+(#REF!*#REF!)+(#REF!*#REF!))/(#REF!+#REF!+#REF!)","v":{"$error":"#VALUE!"}},{"$f":"((AA176*#REF!)+(#REF!*#REF!)+(#REF!*#REF!))/(#REF!+#REF!+#REF!)","v":{"$error":"#VALUE!"}},{"$f":"((AA176*#REF!)+(#REF!*#REF!)+(#REF!*#REF!))/(#REF!+#REF!+#REF!)","v":{"$error":"#VALUE!"}},{"$f":"((AA176*#REF!)+(#REF!*#REF!)+(#REF!*#REF!))/(#REF!+#REF!+#REF!)","v":{"$error":"#VALUE!"}},{"$f":"((AA176*#REF!)+(#REF!*#REF!)+(#REF!*#REF!))/(#REF!+#REF!+#REF!)","v":{"$error":"#VALUE!"}}]
[null,null,null,null,null,null,null,null,null,null,null,null,null,null,null,null,null,null,null,null,null,175,{"$error":"#VALUE!"},{"$f":"AVERAGE($W$3:W177)","v":{"$error":"#VALUE!"}},null,{"$error":"#VALUE!"},{"$error":"#VALUE!"},{"$f":"AVERAGE($AA$3:AA177)","v":{"$error":"#VALUE!"}},null,null,null,{"$f":"((AA177*#REF!)+(#REF!*#REF!)+(#REF!*#REF!))/(#REF!+#REF!+#REF!)","v":{"$error":"#VALUE!"}},{"$f":"((AA177*#REF!)+(#REF!*#REF!)+(#REF!*#REF!))/(#REF!+#REF!+#REF!)","v":{"$error":"#VALUE!"}},{"$f":"((AA177*#REF!)+(#REF!*#REF!)+(#REF!*#REF!))/(#REF!+#REF!+#REF!)","v":{"$error":"#VALUE!"}},{"$f":"((AA177*#REF!)+(#REF!*#REF!)+(#REF!*#REF!))/(#REF!+#REF!+#REF!)","v":{"$error":"#VALUE!"}},{"$f":"((AA177*#REF!)+(#REF!*#REF!)+(#REF!*#REF!))/(#REF!+#REF!+#REF!)","v":{"$error":"#VALUE!"}},{"$f":"((AA177*#REF!)+(#REF!*#REF!)+(#REF!*#REF!))/(#REF!+#REF!+#REF!)","v":{"$error":"#VALUE!"}},{"$f":"((AA177*#REF!)+(#REF!*#REF!)+(#REF!*#REF!))/(#REF!+#REF!+#REF!)","v":{"$error":"#VALUE!"}}]
[null,null,null,null,null,null,null,null,null,null,null,null,null,null,null,null,null,null,null,null,null,176,{"$error":"#VALUE!"},{"$f":"AVERAGE($W$3:W178)","v":{"$error":"#VALUE!"}},null,{"$error":"#VALUE!"},{"$error":"#VALUE!"},{"$f":"AVERAGE($AA$3:AA178)","v":{"$error":"#VALUE!"}},null,null,null,{"$f":"((AA178*#REF!)+(#REF!*#REF!)+(#REF!*#REF!))/(#REF!+#REF!+#REF!)","v":{"$error":"#VALUE!"}},{"$f":"((AA178*#REF!)+(#REF!*#REF!)+(#REF!*#REF!))/(#REF!+#REF!+#REF!)","v":{"$error":"#VALUE!"}},{"$f":"((AA178*#REF!)+(#REF!*#REF!)+(#REF!*#REF!))/(#REF!+#REF!+#REF!)","v":{"$error":"#VALUE!"}},{"$f":"((AA178*#REF!)+(#REF!*#REF!)+(#REF!*#REF!))/(#REF!+#REF!+#REF!)","v":{"$error":"#VALUE!"}},{"$f":"((AA178*#REF!)+(#REF!*#REF!)+(#REF!*#REF!))/(#REF!+#REF!+#REF!)","v":{"$error":"#VALUE!"}},{"$f":"((AA178*#REF!)+(#REF!*#REF!)+(#REF!*#REF!))/(#REF!+#REF!+#REF!)","v":{"$error":"#VALUE!"}},{"$f":"((AA178*#REF!)+(#REF!*#REF!)+(#REF!*#REF!))/(#REF!+#REF!+#REF!)","v":{"$error":"#VALUE!"}}]
[null,null,null,null,null,null,null,null,null,null,null,null,null,null,null,null,null,null,null,null,null,177,{"$error":"#VALUE!"},{"$f":"AVERAGE($W$3:W179)","v":{"$error":"#VALUE!"}},null,{"$error":"#VALUE!"},{"$error":"#VALUE!"},{"$f":"AVERAGE($AA$3:AA179)","v":{"$error":"#VALUE!"}},null,null,null,{"$f":"((AA179*#REF!)+(#REF!*#REF!)+(#REF!*#REF!))/(#REF!+#REF!+#REF!)","v":{"$error":"#VALUE!"}},{"$f":"((AA179*#REF!)+(#REF!*#REF!)+(#REF!*#REF!))/(#REF!+#REF!+#REF!)","v":{"$error":"#VALUE!"}},{"$f":"((AA179*#REF!)+(#REF!*#REF!)+(#REF!*#REF!))/(#REF!+#REF!+#REF!)","v":{"$error":"#VALUE!"}},{"$f":"((AA179*#REF!)+(#REF!*#REF!)+(#REF!*#REF!))/(#REF!+#REF!+#REF!)","v":{"$error":"#VALUE!"}},{"$f":"((AA179*#REF!)+(#REF!*#REF!)+(#REF!*#REF!))/(#REF!+#REF!+#REF!)","v":{"$error":"#VALUE!"}},{"$f":"((AA179*#REF!)+(#REF!*#REF!)+(#REF!*#REF!))/(#REF!+#REF!+#REF!)","v":{"$error":"#VALUE!"}},{"$f":"((AA179*#REF!)+(#REF!*#REF!)+(#REF!*#REF!))/(#REF!+#REF!+#REF!)","v":{"$error":"#VALUE!"}}]
[null,null,null,null,null,null,null,null,null,null,null,null,null,null,null,null,null,null,null,null,null,178,{"$error":"#VALUE!"},{"$f":"AVERAGE($W$3:W180)","v":{"$error":"#VALUE!"}},null,{"$error":"#VALUE!"},{"$error":"#VALUE!"},{"$f":"AVERAGE($AA$3:AA180)","v":{"$error":"#VALUE!"}},null,null,null,{"$f":"((AA180*#REF!)+(#REF!*#REF!)+(#REF!*#REF!))/(#REF!+#REF!+#REF!)","v":{"$error":"#VALUE!"}},{"$f":"((AA180*#REF!)+(#REF!*#REF!)+(#REF!*#REF!))/(#REF!+#REF!+#REF!)","v":{"$error":"#VALUE!"}},{"$f":"((AA180*#REF!)+(#REF!*#REF!)+(#REF!*#REF!))/(#REF!+#REF!+#REF!)","v":{"$error":"#VALUE!"}},{"$f":"((AA180*#REF!)+(#REF!*#REF!)+(#REF!*#REF!))/(#REF!+#REF!+#REF!)","v":{"$error":"#VALUE!"}},{"$f":"((AA180*#REF!)+(#REF!*#REF!)+(#REF!*#REF!))/(#REF!+#REF!+#REF!)","v":{"$error":"#VALUE!"}},{"$f":"((AA180*#REF!)+(#REF!*#REF!)+(#REF!*#REF!))/(#REF!+#REF!+#REF!)","v":{"$error":"#VALUE!"}},{"$f":"((AA180*#REF!)+(#REF!*#REF!)+(#REF!*#REF!))/(#REF!+#REF!+#REF!)","v":{"$error":"#VALUE!"}}]
[null,null,null,null,null,null,null,null,null,null,null,null,null,null,null,null,null,null,null,null,null,179,{"$error":"#VALUE!"},{"$f":"AVERAGE($W$3:W181)","v":{"$error":"#VALUE!"}},null,{"$error":"#VALUE!"},{"$error":"#VALUE!"},{"$f":"AVERAGE($AA$3:AA181)","v":{"$error":"#VALUE!"}},null,null,null,{"$f":"((AA181*#REF!)+(#REF!*#REF!)+(#REF!*#REF!))/(#REF!+#REF!+#REF!)","v":{"$error":"#VALUE!"}},{"$f":"((AA181*#REF!)+(#REF!*#REF!)+(#REF!*#REF!))/(#REF!+#REF!+#REF!)","v":{"$error":"#VALUE!"}},{"$f":"((AA181*#REF!)+(#REF!*#REF!)+(#REF!*#REF!))/(#REF!+#REF!+#REF!)","v":{"$error":"#VALUE!"}},{"$f":"((AA181*#REF!)+(#REF!*#REF!)+(#REF!*#REF!))/(#REF!+#REF!+#REF!)","v":{"$error":"#VALUE!"}},{"$f":"((AA181*#REF!)+(#REF!*#REF!)+(#REF!*#REF!))/(#REF!+#REF!+#REF!)","v":{"$error":"#VALUE!"}},{"$f":"((AA181*#REF!)+(#REF!*#REF!)+(#REF!*#REF!))/(#REF!+#REF!+#REF!)","v":{"$error":"#VALUE!"}},{"$f":"((AA181*#REF!)+(#REF!*#REF!)+(#REF!*#REF!))/(#REF!+#REF!+#REF!)","v":{"$error":"#VALUE!"}}]
[null,null,null,null,null,null,null,null,null,null,null,null,null,null,null,null,null,null,null,null,null,180,{"$error":"#VALUE!"},{"$f":"AVERAGE($W$3:W182)","v":{"$error":"#VALUE!"}},null,{"$error":"#VALUE!"},{"$error":"#VALUE!"},{"$f":"AVERAGE($AA$3:AA182)","v":{"$error":"#VALUE!"}},null,null,null,{"$f":"((AA182*#REF!)+(#REF!*#REF!)+(#REF!*#REF!))/(#REF!+#REF!+#REF!)","v":{"$error":"#VALUE!"}},{"$f":"((AA182*#REF!)+(#REF!*#REF!)+(#REF!*#REF!))/(#REF!+#REF!+#REF!)","v":{"$error":"#VALUE!"}},{"$f":"((AA182*#REF!)+(#REF!*#REF!)+(#REF!*#REF!))/(#REF!+#REF!+#REF!)","v":{"$error":"#VALUE!"}},{"$f":"((AA182*#REF!)+(#REF!*#REF!)+(#REF!*#REF!))/(#REF!+#REF!+#REF!)","v":{"$error":"#VALUE!"}},{"$f":"((AA182*#REF!)+(#REF!*#REF!)+(#REF!*#REF!))/(#REF!+#REF!+#REF!)","v":{"$error":"#VALUE!"}},{"$f":"((AA182*#REF!)+(#REF!*#REF!)+(#REF!*#REF!))/(#REF!+#REF!+#REF!)","v":{"$error":"#VALUE!"}},{"$f":"((AA182*#REF!)+(#REF!*#REF!)+(#REF!*#REF!))/(#REF!+#REF!+#REF!)","v":{"$error":"#VALUE!"}}]
[null,null,null,null,null,null,null,null,null,null,null,null,null,null,null,null,null,null,null,null,null,181,{"$error":"#VALUE!"},{"$f":"AVERAGE($W$3:W183)","v":{"$error":"#VALUE!"}},null,{"$error":"#VALUE!"},{"$error":"#VALUE!"},{"$f":"AVERAGE($AA$3:AA183)","v":{"$error":"#VALUE!"}},null,null,null,{"$f":"((AA183*#REF!)+(#REF!*#REF!)+(#REF!*#REF!))/(#REF!+#REF!+#REF!)","v":{"$error":"#VALUE!"}},{"$f":"((AA183*#REF!)+(#REF!*#REF!)+(#REF!*#REF!))/(#REF!+#REF!+#REF!)","v":{"$error":"#VALUE!"}},{"$f":"((AA183*#REF!)+(#REF!*#REF!)+(#REF!*#REF!))/(#REF!+#REF!+#REF!)","v":{"$error":"#VALUE!"}},{"$f":"((AA183*#REF!)+(#REF!*#REF!)+(#REF!*#REF!))/(#REF!+#REF!+#REF!)","v":{"$error":"#VALUE!"}},{"$f":"((AA183*#REF!)+(#REF!*#REF!)+(#REF!*#REF!))/(#REF!+#REF!+#REF!)","v":{"$error":"#VALUE!"}},{"$f":"((AA183*#REF!)+(#REF!*#REF!)+(#REF!*#REF!))/(#REF!+#REF!+#REF!)","v":{"$error":"#VALUE!"}},{"$f":"((AA183*#REF!)+(#REF!*#REF!)+(#REF!*#REF!))/(#REF!+#REF!+#REF!)","v":{"$error":"#VALUE!"}}]
[null,null,null,null,null,null,null,null,null,null,null,null,null,null,null,null,null,null,null,null,null,182,{"$error":"#VALUE!"},{"$f":"AVERAGE($W$3:W184)","v":{"$error":"#VALUE!"}},null,{"$error":"#VALUE!"},{"$error":"#VALUE!"},{"$f":"AVERAGE($AA$3:AA184)","v":{"$error":"#VALUE!"}},null,null,null,{"$f":"((AA184*#REF!)+(#REF!*#REF!)+(#REF!*#REF!))/(#REF!+#REF!+#REF!)","v":{"$error":"#VALUE!"}},{"$f":"((AA184*#REF!)+(#REF!*#REF!)+(#REF!*#REF!))/(#REF!+#REF!+#REF!)","v":{"$error":"#VALUE!"}},{"$f":"((AA184*#REF!)+(#REF!*#REF!)+(#REF!*#REF!))/(#REF!+#REF!+#REF!)","v":{"$error":"#VALUE!"}},{"$f":"((AA184*#REF!)+(#REF!*#REF!)+(#REF!*#REF!))/(#REF!+#REF!+#REF!)","v":{"$error":"#VALUE!"}},{"$f":"((AA184*#REF!)+(#REF!*#REF!)+(#REF!*#REF!))/(#REF!+#REF!+#REF!)","v":{"$error":"#VALUE!"}},{"$f":"((AA184*#REF!)+(#REF!*#REF!)+(#REF!*#REF!))/(#REF!+#REF!+#REF!)","v":{"$error":"#VALUE!"}},{"$f":"((AA184*#REF!)+(#REF!*#REF!)+(#REF!*#REF!))/(#REF!+#REF!+#REF!)","v":{"$error":"#VALUE!"}}]
[null,null,null,null,null,null,null,null,null,null,null,null,null,null,null,null,null,null,null,null,null,183,{"$error":"#VALUE!"},{"$f":"AVERAGE($W$3:W185)","v":{"$error":"#VALUE!"}},null,{"$error":"#VALUE!"},{"$error":"#VALUE!"},{"$f":"AVERAGE($AA$3:AA185)","v":{"$error":"#VALUE!"}},null,null,null,{"$f":"((AA185*#REF!)+(#REF!*#REF!)+(#REF!*#REF!))/(#REF!+#REF!+#REF!)","v":{"$error":"#VALUE!"}},{"$f":"((AA185*#REF!)+(#REF!*#REF!)+(#REF!*#REF!))/(#REF!+#REF!+#REF!)","v":{"$error":"#VALUE!"}},{"$f":"((AA185*#REF!)+(#REF!*#REF!)+(#REF!*#REF!))/(#REF!+#REF!+#REF!)","v":{"$error":"#VALUE!"}},{"$f":"((AA185*#REF!)+(#REF!*#REF!)+(#REF!*#REF!))/(#REF!+#REF!+#REF!)","v":{"$error":"#VALUE!"}},{"$f":"((AA185*#REF!)+(#REF!*#REF!)+(#REF!*#REF!))/(#REF!+#REF!+#REF!)","v":{"$error":"#VALUE!"}},{"$f":"((AA185*#REF!)+(#REF!*#REF!)+(#REF!*#REF!))/(#REF!+#REF!+#REF!)","v":{"$error":"#VALUE!"}},{"$f":"((AA185*#REF!)+(#REF!*#REF!)+(#REF!*#REF!))/(#REF!+#REF!+#REF!)","v":{"$error":"#VALUE!"}}]
[null,null,null,null,null,null,null,null,null,null,null,null,null,null,null,null,null,null,null,null,null,184,{"$error":"#VALUE!"},{"$f":"AVERAGE($W$3:W186)","v":{"$error":"#VALUE!"}},null,{"$error":"#VALUE!"},{"$error":"#VALUE!"},{"$f":"AVERAGE($AA$3:AA186)","v":{"$error":"#VALUE!"}},null,null,null,{"$f":"((AA186*#REF!)+(#REF!*#REF!)+(#REF!*#REF!))/(#REF!+#REF!+#REF!)","v":{"$error":"#VALUE!"}},{"$f":"((AA186*#REF!)+(#REF!*#REF!)+(#REF!*#REF!))/(#REF!+#REF!+#REF!)","v":{"$error":"#VALUE!"}},{"$f":"((AA186*#REF!)+(#REF!*#REF!)+(#REF!*#REF!))/(#REF!+#REF!+#REF!)","v":{"$error":"#VALUE!"}},{"$f":"((AA186*#REF!)+(#REF!*#REF!)+(#REF!*#REF!))/(#REF!+#REF!+#REF!)","v":{"$error":"#VALUE!"}},{"$f":"((AA186*#REF!)+(#REF!*#REF!)+(#REF!*#REF!))/(#REF!+#REF!+#REF!)","v":{"$error":"#VALUE!"}},{"$f":"((AA186*#REF!)+(#REF!*#REF!)+(#REF!*#REF!))/(#REF!+#REF!+#REF!)","v":{"$error":"#VALUE!"}},{"$f":"((AA186*#REF!)+(#REF!*#REF!)+(#REF!*#REF!))/(#REF!+#REF!+#REF!)","v":{"$error":"#VALUE!"}}]
[null,null,null,null,null,null,null,null,null,null,null,null,null,null,null,null,null,null,null,null,null,185,{"$error":"#VALUE!"},{"$f":"AVERAGE($W$3:W187)","v":{"$error":"#VALUE!"}},null,{"$error":"#VALUE!"},{"$error":"#VALUE!"},{"$f":"AVERAGE($AA$3:AA187)","v":{"$error":"#VALUE!"}},null,null,null,{"$f":"((AA187*#REF!)+(#REF!*#REF!)+(#REF!*#REF!))/(#REF!+#REF!+#REF!)","v":{"$error":"#VALUE!"}},{"$f":"((AA187*#REF!)+(#REF!*#REF!)+(#REF!*#REF!))/(#REF!+#REF!+#REF!)","v":{"$error":"#VALUE!"}},{"$f":"((AA187*#REF!)+(#REF!*#REF!)+(#REF!*#REF!))/(#REF!+#REF!+#REF!)","v":{"$error":"#VALUE!"}},{"$f":"((AA187*#REF!)+(#REF!*#REF!)+(#REF!*#REF!))/(#REF!+#REF!+#REF!)","v":{"$error":"#VALUE!"}},{"$f":"((AA187*#REF!)+(#REF!*#REF!)+(#REF!*#REF!))/(#REF!+#REF!+#REF!)","v":{"$error":"#VALUE!"}},{"$f":"((AA187*#REF!)+(#REF!*#REF!)+(#REF!*#REF!))/(#REF!+#REF!+#REF!)","v":{"$error":"#VALUE!"}},{"$f":"((AA187*#REF!)+(#REF!*#REF!)+(#REF!*#REF!))/(#REF!+#REF!+#REF!)","v":{"$error":"#VALUE!"}}]
[null,null,null,null,null,null,null,null,null,null,null,null,null,null,null,null,null,null,null,null,null,186,{"$error":"#VALUE!"},{"$f":"AVERAGE($W$3:W188)","v":{"$error":"#VALUE!"}},null,{"$error":"#VALUE!"},{"$error":"#VALUE!"},{"$f":"AVERAGE($AA$3:AA188)","v":{"$error":"#VALUE!"}},null,null,null,{"$f":"((AA188*#REF!)+(#REF!*#REF!)+(#REF!*#REF!))/(#REF!+#REF!+#REF!)","v":{"$error":"#VALUE!"}},{"$f":"((AA188*#REF!)+(#REF!*#REF!)+(#REF!*#REF!))/(#REF!+#REF!+#REF!)","v":{"$error":"#VALUE!"}},{"$f":"((AA188*#REF!)+(#REF!*#REF!)+(#REF!*#REF!))/(#REF!+#REF!+#REF!)","v":{"$error":"#VALUE!"}},{"$f":"((AA188*#REF!)+(#REF!*#REF!)+(#REF!*#REF!))/(#REF!+#REF!+#REF!)","v":{"$error":"#VALUE!"}},{"$f":"((AA188*#REF!)+(#REF!*#REF!)+(#REF!*#REF!))/(#REF!+#REF!+#REF!)","v":{"$error":"#VALUE!"}},{"$f":"((AA188*#REF!)+(#REF!*#REF!)+(#REF!*#REF!))/(#REF!+#REF!+#REF!)","v":{"$error":"#VALUE!"}},{"$f":"((AA188*#REF!)+(#REF!*#REF!)+(#REF!*#REF!))/(#REF!+#REF!+#REF!)","v":{"$error":"#VALUE!"}}]
[null,null,null,null,null,null,null,null,null,null,null,null,null,null,null,null,null,null,null,null,null,187,{"$error":"#VALUE!"},{"$f":"AVERAGE($W$3:W189)","v":{"$error":"#VALUE!"}},null,{"$error":"#VALUE!"},{"$error":"#VALUE!"},{"$f":"AVERAGE($AA$3:AA189)","v":{"$error":"#VALUE!"}},null,null,null,{"$f":"((AA189*#REF!)+(#REF!*#REF!)+(#REF!*#REF!))/(#REF!+#REF!+#REF!)","v":{"$error":"#VALUE!"}},{"$f":"((AA189*#REF!)+(#REF!*#REF!)+(#REF!*#REF!))/(#REF!+#REF!+#REF!)","v":{"$error":"#VALUE!"}},{"$f":"((AA189*#REF!)+(#REF!*#REF!)+(#REF!*#REF!))/(#REF!+#REF!+#REF!)","v":{"$error":"#VALUE!"}},{"$f":"((AA189*#REF!)+(#REF!*#REF!)+(#REF!*#REF!))/(#REF!+#REF!+#REF!)","v":{"$error":"#VALUE!"}},{"$f":"((AA189*#REF!)+(#REF!*#REF!)+(#REF!*#REF!))/(#REF!+#REF!+#REF!)","v":{"$error":"#VALUE!"}},{"$f":"((AA189*#REF!)+(#REF!*#REF!)+(#REF!*#REF!))/(#REF!+#REF!+#REF!)","v":{"$error":"#VALUE!"}},{"$f":"((AA189*#REF!)+(#REF!*#REF!)+(#REF!*#REF!))/(#REF!+#REF!+#REF!)","v":{"$error":"#VALUE!"}}]
[null,null,null,null,null,null,null,null,null,null,null,null,null,null,null,null,null,null,null,null,null,188,{"$f":"IF(($M$7*LN(V190))+$M$8+$M$10>0,($M$7*LN(V190))+$M$8+$M$10,0)","v":{"$error":"#VALUE!"}},{"$f":"AVERAGE($W$3:W190)","v":{"$error":"#VALUE!"}},null,{"$error":"#VALUE!"},{"$error":"#VALUE!"},{"$f":"AVERAGE($AA$3:AA190)","v":{"$error":"#VALUE!"}},null,null,null,{"$f":"((AA190*#REF!)+(#REF!*#REF!)+(#REF!*#REF!))/(#REF!+#REF!+#REF!)","v":{"$error":"#VALUE!"}},{"$f":"((AA190*#REF!)+(#REF!*#REF!)+(#REF!*#REF!))/(#REF!+#REF!+#REF!)","v":{"$error":"#VALUE!"}},{"$f":"((AA190*#REF!)+(#REF!*#REF!)+(#REF!*#REF!))/(#REF!+#REF!+#REF!)","v":{"$error":"#VALUE!"}},{"$f":"((AA190*#REF!)+(#REF!*#REF!)+(#REF!*#REF!))/(#REF!+#REF!+#REF!)","v":{"$error":"#VALUE!"}},{"$f":"((AA190*#REF!)+(#REF!*#REF!)+(#REF!*#REF!))/(#REF!+#REF!+#REF!)","v":{"$error":"#VALUE!"}},{"$f":"((AA190*#REF!)+(#REF!*#REF!)+(#REF!*#REF!))/(#REF!+#REF!+#REF!)","v":{"$error":"#VALUE!"}},{"$f":"((AA190*#REF!)+(#REF!*#REF!)+(#REF!*#REF!))/(#REF!+#REF!+#REF!)","v":{"$error":"#VALUE!"}}]
[null,null,null,null,null,null,null,null,null,null,null,null,null,null,null,null,null,null,null,null,null,189,{"$error":"#VALUE!"},{"$f":"AVERAGE($W$3:W191)","v":{"$error":"#VALUE!"}},null,{"$error":"#VALUE!"},{"$error":"#VALUE!"},{"$f":"AVERAGE($AA$3:AA191)","v":{"$error":"#VALUE!"}},null,null,null,{"$f":"((AA191*#REF!)+(#REF!*#REF!)+(#REF!*#REF!))/(#REF!+#REF!+#REF!)","v":{"$error":"#VALUE!"}},{"$f":"((AA191*#REF!)+(#REF!*#REF!)+(#REF!*#REF!))/(#REF!+#REF!+#REF!)","v":{"$error":"#VALUE!"}},{"$f":"((AA191*#REF!)+(#REF!*#REF!)+(#REF!*#REF!))/(#REF!+#REF!+#REF!)","v":{"$error":"#VALUE!"}},{"$f":"((AA191*#REF!)+(#REF!*#REF!)+(#REF!*#REF!))/(#REF!+#REF!+#REF!)","v":{"$error":"#VALUE!"}},{"$f":"((AA191*#REF!)+(#REF!*#REF!)+(#REF!*#REF!))/(#REF!+#REF!+#REF!)","v":{"$error":"#VALUE!"}},{"$f":"((AA191*#REF!)+(#REF!*#REF!)+(#REF!*#REF!))/(#REF!+#REF!+#REF!)","v":{"$error":"#VALUE!"}},{"$f":"((AA191*#REF!)+(#REF!*#REF!)+(#REF!*#REF!))/(#REF!+#REF!+#REF!)","v":{"$error":"#VALUE!"}}]
[null,null,null,null,null,null,null,null,null,null,null,null,null,null,null,null,null,null,null,null,null,190,{"$error":"#VALUE!"},{"$f":"AVERAGE($W$3:W192)","v":{"$error":"#VALUE!"}},null,{"$error":"#VALUE!"},{"$error":"#VALUE!"},{"$f":"AVERAGE($AA$3:AA192)","v":{"$error":"#VALUE!"}},null,null,null,{"$f":"((AA192*#REF!)+(#REF!*#REF!)+(#REF!*#REF!))/(#REF!+#REF!+#REF!)","v":{"$error":"#VALUE!"}},{"$f":"((AA192*#REF!)+(#REF!*#REF!)+(#REF!*#REF!))/(#REF!+#REF!+#REF!)","v":{"$error":"#VALUE!"}},{"$f":"((AA192*#REF!)+(#REF!*#REF!)+(#REF!*#REF!))/(#REF!+#REF!+#REF!)","v":{"$error":"#VALUE!"}},{"$f":"((AA192*#REF!)+(#REF!*#REF!)+(#REF!*#REF!))/(#REF!+#REF!+#REF!)","v":{"$error":"#VALUE!"}},{"$f":"((AA192*#REF!)+(#REF!*#REF!)+(#REF!*#REF!))/(#REF!+#REF!+#REF!)","v":{"$error":"#VALUE!"}},{"$f":"((AA192*#REF!)+(#REF!*#REF!)+(#REF!*#REF!))/(#REF!+#REF!+#REF!)","v":{"$error":"#VALUE!"}},{"$f":"((AA192*#REF!)+(#REF!*#REF!)+(#REF!*#REF!))/(#REF!+#REF!+#REF!)","v":{"$error":"#VALUE!"}}]
[null,null,null,null,null,null,null,null,null,null,null,null,null,null,null,null,null,null,null,null,null,191,{"$error":"#VALUE!"},{"$f":"AVERAGE($W$3:W193)","v":{"$error":"#VALUE!"}},null,{"$error":"#VALUE!"},{"$error":"#VALUE!"},{"$f":"AVERAGE($AA$3:AA193)","v":{"$error":"#VALUE!"}},null,null,null,{"$f":"((AA193*#REF!)+(#REF!*#REF!)+(#REF!*#REF!))/(#REF!+#REF!+#REF!)","v":{"$error":"#VALUE!"}},{"$f":"((AA193*#REF!)+(#REF!*#REF!)+(#REF!*#REF!))/(#REF!+#REF!+#REF!)","v":{"$error":"#VALUE!"}},{"$f":"((AA193*#REF!)+(#REF!*#REF!)+(#REF!*#REF!))/(#REF!+#REF!+#REF!)","v":{"$error":"#VALUE!"}},{"$f":"((AA193*#REF!)+(#REF!*#REF!)+(#REF!*#REF!))/(#REF!+#REF!+#REF!)","v":{"$error":"#VALUE!"}},{"$f":"((AA193*#REF!)+(#REF!*#REF!)+(#REF!*#REF!))/(#REF!+#REF!+#REF!)","v":{"$error":"#VALUE!"}},{"$f":"((AA193*#REF!)+(#REF!*#REF!)+(#REF!*#REF!))/(#REF!+#REF!+#REF!)","v":{"$error":"#VALUE!"}},{"$f":"((AA193*#REF!)+(#REF!*#REF!)+(#REF!*#REF!))/(#REF!+#REF!+#REF!)","v":{"$error":"#VALUE!"}}]
[null,null,null,null,null,null,null,null,null,null,null,null,null,null,null,null,null,null,null,null,null,192,{"$error":"#VALUE!"},{"$f":"AVERAGE($W$3:W194)","v":{"$error":"#VALUE!"}},null,{"$error":"#VALUE!"},{"$error":"#VALUE!"},{"$f":"AVERAGE($AA$3:AA194)","v":{"$error":"#VALUE!"}},null,null,null,{"$f":"((AA194*#REF!)+(#REF!*#REF!)+(#REF!*#REF!))/(#REF!+#REF!+#REF!)","v":{"$error":"#VALUE!"}},{"$f":"((AA194*#REF!)+(#REF!*#REF!)+(#REF!*#REF!))/(#REF!+#REF!+#REF!)","v":{"$error":"#VALUE!"}},{"$f":"((AA194*#REF!)+(#REF!*#REF!)+(#REF!*#REF!))/(#REF!+#REF!+#REF!)","v":{"$error":"#VALUE!"}},{"$f":"((AA194*#REF!)+(#REF!*#REF!)+(#REF!*#REF!))/(#REF!+#REF!+#REF!)","v":{"$error":"#VALUE!"}},{"$f":"((AA194*#REF!)+(#REF!*#REF!)+(#REF!*#REF!))/(#REF!+#REF!+#REF!)","v":{"$error":"#VALUE!"}},{"$f":"((AA194*#REF!)+(#REF!*#REF!)+(#REF!*#REF!))/(#REF!+#REF!+#REF!)","v":{"$error":"#VALUE!"}},{"$f":"((AA194*#REF!)+(#REF!*#REF!)+(#REF!*#REF!))/(#REF!+#REF!+#REF!)","v":{"$error":"#VALUE!"}}]
[null,null,null,null,null,null,null,null,null,null,null,null,null,null,null,null,null,null,null,null,null,193,{"$error":"#VALUE!"},{"$f":"AVERAGE($W$3:W195)","v":{"$error":"#VALUE!"}},null,{"$error":"#VALUE!"},{"$error":"#VALUE!"},{"$f":"AVERAGE($AA$3:AA195)","v":{"$error":"#VALUE!"}},null,null,null,{"$f":"((AA195*#REF!)+(#REF!*#REF!)+(#REF!*#REF!))/(#REF!+#REF!+#REF!)","v":{"$error":"#VALUE!"}},{"$f":"((AA195*#REF!)+(#REF!*#REF!)+(#REF!*#REF!))/(#REF!+#REF!+#REF!)","v":{"$error":"#VALUE!"}},{"$f":"((AA195*#REF!)+(#REF!*#REF!)+(#REF!*#REF!))/(#REF!+#REF!+#REF!)","v":{"$error":"#VALUE!"}},{"$f":"((AA195*#REF!)+(#REF!*#REF!)+(#REF!*#REF!))/(#REF!+#REF!+#REF!)","v":{"$error":"#VALUE!"}},{"$f":"((AA195*#REF!)+(#REF!*#REF!)+(#REF!*#REF!))/(#REF!+#REF!+#REF!)","v":{"$error":"#VALUE!"}},{"$f":"((AA195*#REF!)+(#REF!*#REF!)+(#REF!*#REF!))/(#REF!+#REF!+#REF!)","v":{"$error":"#VALUE!"}},{"$f":"((AA195*#REF!)+(#REF!*#REF!)+(#REF!*#REF!))/(#REF!+#REF!+#REF!)","v":{"$error":"#VALUE!"}}]
[null,null,null,null,null,null,null,null,null,null,null,null,null,null,null,null,null,null,null,null,null,194,{"$error":"#VALUE!"},{"$f":"AVERAGE($W$3:W196)","v":{"$error":"#VALUE!"}},null,{"$f":"$M$2+W196","v":{"$error":"#VALUE!"}},{"$f":"(Z196*(9/5))+32","v":{"$error":"#VALUE!"}},{"$f":"AVERAGE($AA$3:AA196)","v":{"$error":"#VALUE!"}},null,null,null,{"$f":"((AA196*#REF!)+(#REF!*#REF!)+(#REF!*#REF!))/(#REF!+#REF!+#REF!)","v":{"$error":"#VALUE!"}},{"$f":"((AA196*#REF!)+(#REF!*#REF!)+(#REF!*#REF!))/(#REF!+#REF!+#REF!)","v":{"$error":"#VALUE!"}},{"$f":"((AA196*#REF!)+(#REF!*#REF!)+(#REF!*#REF!))/(#REF!+#REF!+#REF!)","v":{"$error":"#VALUE!"}},{"$f":"((AA196*#REF!)+(#REF!*#REF!)+(#REF!*#REF!))/(#REF!+#REF!+#REF!)","v":{"$error":"#VALUE!"}},{"$f":"((AA196*#REF!)+(#REF!*#REF!)+(#REF!*#REF!))/(#REF!+#REF!+#REF!)","v":{"$error":"#VALUE!"}},{"$f":"((AA196*#REF!)+(#REF!*#REF!)+(#REF!*#REF!))/(#REF!+#REF!+#REF!)","v":{"$error":"#VALUE!"}},{"$f":"((AA196*#REF!)+(#REF!*#REF!)+(#REF!*#REF!))/(#REF!+#REF!+#REF!)","v":{"$error":"#VALUE!"}}]
[null,null,null,null,null,null,null,null,null,null,null,null,null,null,null,null,null,null,null,null,null,195,{"$error":"#VALUE!"},{"$f":"AVERAGE($W$3:W197)","v":{"$error":"#VALUE!"}},null,{"$error":"#VALUE!"},{"$error":"#VALUE!"},{"$f":"AVERAGE($AA$3:AA197)","v":{"$error":"#VALUE!"}},null,null,null,{"$f":"((AA197*#REF!)+(#REF!*#REF!)+(#REF!*#REF!))/(#REF!+#REF!+#REF!)","v":{"$error":"#VALUE!"}},{"$f":"((AA197*#REF!)+(#REF!*#REF!)+(#REF!*#REF!))/(#REF!+#REF!+#REF!)","v":{"$error":"#VALUE!"}},{"$f":"((AA197*#REF!)+(#REF!*#REF!)+(#REF!*#REF!))/(#REF!+#REF!+#REF!)","v":{"$error":"#VALUE!"}},{"$f":"((AA197*#REF!)+(#REF!*#REF!)+(#REF!*#REF!))/(#REF!+#REF!+#REF!)","v":{"$error":"#VALUE!"}},{"$f":"((AA197*#REF!)+(#REF!*#REF!)+(#REF!*#REF!))/(#REF!+#REF!+#REF!)","v":{"$error":"#VALUE!"}},{"$f":"((AA197*#REF!)+(#REF!*#REF!)+(#REF!*#REF!))/(#REF!+#REF!+#REF!)","v":{"$error":"#VALUE!"}},{"$f":"((AA197*#REF!)+(#REF!*#REF!)+(#REF!*#REF!))/(#REF!+#REF!+#REF!)","v":{"$error":"#VALUE!"}}]
[null,null,null,null,null,null,null,null,null,null,null,null,null,null,null,null,null,null,null,null,null,196,{"$error":"#VALUE!"},{"$f":"AVERAGE($W$3:W198)","v":{"$error":"#VALUE!"}},null,{"$error":"#VALUE!"},{"$error":"#VALUE!"},{"$f":"AVERAGE($AA$3:AA198)","v":{"$error":"#VALUE!"}},null,null,null,{"$f":"((AA198*#REF!)+(#REF!*#REF!)+(#REF!*#REF!))/(#REF!+#REF!+#REF!)","v":{"$error":"#VALUE!"}},{"$f":"((AA198*#REF!)+(#REF!*#REF!)+(#REF!*#REF!))/(#REF!+#REF!+#REF!)","v":{"$error":"#VALUE!"}},{"$f":"((AA198*#REF!)+(#REF!*#REF!)+(#REF!*#REF!))/(#REF!+#REF!+#REF!)","v":{"$error":"#VALUE!"}},{"$f":"((AA198*#REF!)+(#REF!*#REF!)+(#REF!*#REF!))/(#REF!+#REF!+#REF!)","v":{"$error":"#VALUE!"}},{"$f":"((AA198*#REF!)+(#REF!*#REF!)+(#REF!*#REF!))/(#REF!+#REF!+#REF!)","v":{"$error":"#VALUE!"}},{"$f":"((AA198*#REF!)+(#REF!*#REF!)+(#REF!*#REF!))/(#REF!+#REF!+#REF!)","v":{"$error":"#VALUE!"}},{"$f":"((AA198*#REF!)+(#REF!*#REF!)+(#REF!*#REF!))/(#REF!+#REF!+#REF!)","v":{"$error":"#VALUE!"}}]
[null,null,null,null,null,null,null,null,null,null,null,null,null,null,null,null,null,null,null,null,null,197,{"$error":"#VALUE!"},{"$f":"AVERAGE($W$3:W199)","v":{"$error":"#VALUE!"}},null,{"$error":"#VALUE!"},{"$error":"#VALUE!"},{"$f":"AVERAGE($AA$3:AA199)","v":{"$error":"#VALUE!"}},null,null,null,{"$f":"((AA199*#REF!)+(#REF!*#REF!)+(#REF!*#REF!))/(#REF!+#REF!+#REF!)","v":{"$error":"#VALUE!"}},{"$f":"((AA199*#REF!)+(#REF!*#REF!)+(#REF!*#REF!))/(#REF!+#REF!+#REF!)","v":{"$error":"#VALUE!"}},{"$f":"((AA199*#REF!)+(#REF!*#REF!)+(#REF!*#REF!))/(#REF!+#REF!+#REF!)","v":{"$error":"#VALUE!"}},{"$f":"((AA199*#REF!)+(#REF!*#REF!)+(#REF!*#REF!))/(#REF!+#REF!+#REF!)","v":{"$error":"#VALUE!"}},{"$f":"((AA199*#REF!)+(#REF!*#REF!)+(#REF!*#REF!))/(#REF!+#REF!+#REF!)","v":{"$error":"#VALUE!"}},{"$f":"((AA199*#REF!)+(#REF!*#REF!)+(#REF!*#REF!))/(#REF!+#REF!+#REF!)","v":{"$error":"#VALUE!"}},{"$f":"((AA199*#REF!)+(#REF!*#REF!)+(#REF!*#REF!))/(#REF!+#REF!+#REF!)","v":{"$error":"#VALUE!"}}]
[null,null,null,null,null,null,null,null,null,null,null,null,null,null,null,null,null,null,null,null,null,198,{"$error":"#VALUE!"},{"$f":"AVERAGE($W$3:W200)","v":{"$error":"#VALUE!"}},null,{"$error":"#VALUE!"},{"$error":"#VALUE!"},{"$f":"AVERAGE($AA$3:AA200)","v":{"$error":"#VALUE!"}},null,null,null,{"$f":"((AA200*#REF!)+(#REF!*#REF!)+(#REF!*#REF!))/(#REF!+#REF!+#REF!)","v":{"$error":"#VALUE!"}},{"$f":"((AA200*#REF!)+(#REF!*#REF!)+(#REF!*#REF!))/(#REF!+#REF!+#REF!)","v":{"$error":"#VALUE!"}},{"$f":"((AA200*#REF!)+(#REF!*#REF!)+(#REF!*#REF!))/(#REF!+#REF!+#REF!)","v":{"$error":"#VALUE!"}},{"$f":"((AA200*#REF!)+(#REF!*#REF!)+(#REF!*#REF!))/(#REF!+#REF!+#REF!)","v":{"$error":"#VALUE!"}},{"$f":"((AA200*#REF!)+(#REF!*#REF!)+(#REF!*#REF!))/(#REF!+#REF!+#REF!)","v":{"$error":"#VALUE!"}},{"$f":"((AA200*#REF!)+(#REF!*#REF!)+(#REF!*#REF!))/(#REF!+#REF!+#REF!)","v":{"$error":"#VALUE!"}},{"$f":"((AA200*#REF!)+(#REF!*#REF!)+(#REF!*#REF!))/(#REF!+#REF!+#REF!)","v":{"$error":"#VALUE!"}}]
[null,null,null,null,null,null,null,null,null,null,null,null,null,null,null,null,null,null,null,null,null,199,{"$error":"#VALUE!"},{"$f":"AVERAGE($W$3:W201)","v":{"$error":"#VALUE!"}},null,{"$error":"#VALUE!"},{"$error":"#VALUE!"},{"$f":"AVERAGE($AA$3:AA201)","v":{"$error":"#VALUE!"}},null,null,null,{"$f":"((AA201*#REF!)+(#REF!*#REF!)+(#REF!*#REF!))/(#REF!+#REF!+#REF!)","v":{"$error":"#VALUE!"}},{"$f":"((AA201*#REF!)+(#REF!*#REF!)+(#REF!*#REF!))/(#REF!+#REF!+#REF!)","v":{"$error":"#VALUE!"}},{"$f":"((AA201*#REF!)+(#REF!*#REF!)+(#REF!*#REF!))/(#REF!+#REF!+#REF!)","v":{"$error":"#VALUE!"}},{"$f":"((AA201*#REF!)+(#REF!*#REF!)+(#REF!*#REF!))/(#REF!+#REF!+#REF!)","v":{"$error":"#VALUE!"}},{"$f":"((AA201*#REF!)+(#REF!*#REF!)+(#REF!*#REF!))/(#REF!+#REF!+#REF!)","v":{"$error":"#VALUE!"}},{"$f":"((AA201*#REF!)+(#REF!*#REF!)+(#REF!*#REF!))/(#REF!+#REF!+#REF!)","v":{"$error":"#VALUE!"}},{"$f":"((AA201*#REF!)+(#REF!*#REF!)+(#REF!*#REF!))/(#REF!+#REF!+#REF!)","v":{"$error":"#VALUE!"}}]
[null,null,null,null,null,null,null,null,null,null,null,null,null,null,null,null,null,null,null,null,null,200,{"$error":"#VALUE!"},{"$f":"AVERAGE($W$3:W202)","v":{"$error":"#VALUE!"}},null,{"$error":"#VALUE!"},{"$error":"#VALUE!"},{"$f":"AVERAGE($AA$3:AA202)","v":{"$error":"#VALUE!"}},null,null,null,{"$f":"((AA202*#REF!)+(#REF!*#REF!)+(#REF!*#REF!))/(#REF!+#REF!+#REF!)","v":{"$error":"#VALUE!"}},{"$f":"((AA202*#REF!)+(#REF!*#REF!)+(#REF!*#REF!))/(#REF!+#REF!+#REF!)","v":{"$error":"#VALUE!"}},{"$f":"((AA202*#REF!)+(#REF!*#REF!)+(#REF!*#REF!))/(#REF!+#REF!+#REF!)","v":{"$error":"#VALUE!"}},{"$f":"((AA202*#REF!)+(#REF!*#REF!)+(#REF!*#REF!))/(#REF!+#REF!+#REF!)","v":{"$error":"#VALUE!"}},{"$f":"((AA202*#REF!)+(#REF!*#REF!)+(#REF!*#REF!))/(#REF!+#REF!+#REF!)","v":{"$error":"#VALUE!"}},{"$f":"((AA202*#REF!)+(#REF!*#REF!)+(#REF!*#REF!))/(#REF!+#REF!+#REF!)","v":{"$error":"#VALUE!"}},{"$f":"((AA202*#REF!)+(#REF!*#REF!)+(#REF!*#REF!))/(#REF!+#REF!+#REF!)","v":{"$error":"#VALUE!"}}]
[null,null,null,null,null,null,null,null,null,null,null,null,null,null,null,null,null,null,null,null,null,201,{"$error":"#VALUE!"},{"$f":"AVERAGE($W$3:W203)","v":{"$error":"#VALUE!"}},null,{"$error":"#VALUE!"},{"$error":"#VALUE!"},{"$f":"AVERAGE($AA$3:AA203)","v":{"$error":"#VALUE!"}},null,null,null,{"$f":"((AA203*#REF!)+(#REF!*#REF!)+(#REF!*#REF!))/(#REF!+#REF!+#REF!)","v":{"$error":"#VALUE!"}},{"$f":"((AA203*#REF!)+(#REF!*#REF!)+(#REF!*#REF!))/(#REF!+#REF!+#REF!)","v":{"$error":"#VALUE!"}},{"$f":"((AA203*#REF!)+(#REF!*#REF!)+(#REF!*#REF!))/(#REF!+#REF!+#REF!)","v":{"$error":"#VALUE!"}},{"$f":"((AA203*#REF!)+(#REF!*#REF!)+(#REF!*#REF!))/(#REF!+#REF!+#REF!)","v":{"$error":"#VALUE!"}},{"$f":"((AA203*#REF!)+(#REF!*#REF!)+(#REF!*#REF!))/(#REF!+#REF!+#REF!)","v":{"$error":"#VALUE!"}},{"$f":"((AA203*#REF!)+(#REF!*#REF!)+(#REF!*#REF!))/(#REF!+#REF!+#REF!)","v":{"$error":"#VALUE!"}},{"$f":"((AA203*#REF!)+(#REF!*#REF!)+(#REF!*#REF!))/(#REF!+#REF!+#REF!)","v":{"$error":"#VALUE!"}}]
[null,null,null,null,null,null,null,null,null,null,null,null,null,null,null,null,null,null,null,null,null,202,{"$error":"#VALUE!"},{"$f":"AVERAGE($W$3:W204)","v":{"$error":"#VALUE!"}},null,{"$error":"#VALUE!"},{"$error":"#VALUE!"},{"$f":"AVERAGE($AA$3:AA204)","v":{"$error":"#VALUE!"}},null,null,null,{"$f":"((AA204*#REF!)+(#REF!*#REF!)+(#REF!*#REF!))/(#REF!+#REF!+#REF!)","v":{"$error":"#VALUE!"}},{"$f":"((AA204*#REF!)+(#REF!*#REF!)+(#REF!*#REF!))/(#REF!+#REF!+#REF!)","v":{"$error":"#VALUE!"}},{"$f":"((AA204*#REF!)+(#REF!*#REF!)+(#REF!*#REF!))/(#REF!+#REF!+#REF!)","v":{"$error":"#VALUE!"}},{"$f":"((AA204*#REF!)+(#REF!*#REF!)+(#REF!*#REF!))/(#REF!+#REF!+#REF!)","v":{"$error":"#VALUE!"}},{"$f":"((AA204*#REF!)+(#REF!*#REF!)+(#REF!*#REF!))/(#REF!+#REF!+#REF!)","v":{"$error":"#VALUE!"}},{"$f":"((AA204*#REF!)+(#REF!*#REF!)+(#REF!*#REF!))/(#REF!+#REF!+#REF!)","v":{"$error":"#VALUE!"}},{"$f":"((AA204*#REF!)+(#REF!*#REF!)+(#REF!*#REF!))/(#REF!+#REF!+#REF!)","v":{"$error":"#VALUE!"}}]
[null,null,null,null,null,null,null,null,null,null,null,null,null,null,null,null,null,null,null,null,null,203,{"$error":"#VALUE!"},{"$f":"AVERAGE($W$3:W205)","v":{"$error":"#VALUE!"}},null,{"$error":"#VALUE!"},{"$error":"#VALUE!"},{"$f":"AVERAGE($AA$3:AA205)","v":{"$error":"#VALUE!"}},null,null,null,{"$f":"((AA205*#REF!)+(#REF!*#REF!)+(#REF!*#REF!))/(#REF!+#REF!+#REF!)","v":{"$error":"#VALUE!"}},{"$f":"((AA205*#REF!)+(#REF!*#REF!)+(#REF!*#REF!))/(#REF!+#REF!+#REF!)","v":{"$error":"#VALUE!"}},{"$f":"((AA205*#REF!)+(#REF!*#REF!)+(#REF!*#REF!))/(#REF!+#REF!+#REF!)","v":{"$error":"#VALUE!"}},{"$f":"((AA205*#REF!)+(#REF!*#REF!)+(#REF!*#REF!))/(#REF!+#REF!+#REF!)","v":{"$error":"#VALUE!"}},{"$f":"((AA205*#REF!)+(#REF!*#REF!)+(#REF!*#REF!))/(#REF!+#REF!+#REF!)","v":{"$error":"#VALUE!"}},{"$f":"((AA205*#REF!)+(#REF!*#REF!)+(#REF!*#REF!))/(#REF!+#REF!+#REF!)","v":{"$error":"#VALUE!"}},{"$f":"((AA205*#REF!)+(#REF!*#REF!)+(#REF!*#REF!))/(#REF!+#REF!+#REF!)","v":{"$error":"#VALUE!"}}]
[null,null,null,null,null,null,null,null,null,null,null,null,null,null,null,null,null,null,null,null,null,204,{"$error":"#VALUE!"},{"$f":"AVERAGE($W$3:W206)","v":{"$error":"#VALUE!"}},null,{"$error":"#VALUE!"},{"$error":"#VALUE!"},{"$f":"AVERAGE($AA$3:AA206)","v":{"$error":"#VALUE!"}},null,null,null,{"$f":"((AA206*#REF!)+(#REF!*#REF!)+(#REF!*#REF!))/(#REF!+#REF!+#REF!)","v":{"$error":"#VALUE!"}},{"$f":"((AA206*#REF!)+(#REF!*#REF!)+(#REF!*#REF!))/(#REF!+#REF!+#REF!)","v":{"$error":"#VALUE!"}},{"$f":"((AA206*#REF!)+(#REF!*#REF!)+(#REF!*#REF!))/(#REF!+#REF!+#REF!)","v":{"$error":"#VALUE!"}},{"$f":"((AA206*#REF!)+(#REF!*#REF!)+(#REF!*#REF!))/(#REF!+#REF!+#REF!)","v":{"$error":"#VALUE!"}},{"$f":"((AA206*#REF!)+(#REF!*#REF!)+(#REF!*#REF!))/(#REF!+#REF!+#REF!)","v":{"$error":"#VALUE!"}},{"$f":"((AA206*#REF!)+(#REF!*#REF!)+(#REF!*#REF!))/(#REF!+#REF!+#REF!)","v":{"$error":"#VALUE!"}},{"$f":"((AA206*#REF!)+(#REF!*#REF!)+(#REF!*#REF!))/(#REF!+#REF!+#REF!)","v":{"$error":"#VALUE!"}}]
[null,null,null,null,null,null,null,null,null,null,null,null,null,null,null,null,null,null,null,null,null,205,{"$error":"#VALUE!"},{"$f":"AVERAGE($W$3:W207)","v":{"$error":"#VALUE!"}},null,{"$error":"#VALUE!"},{"$error":"#VALUE!"},{"$f":"AVERAGE($AA$3:AA207)","v":{"$error":"#VALUE!"}},null,null,null,{"$f":"((AA207*#REF!)+(#REF!*#REF!)+(#REF!*#REF!))/(#REF!+#REF!+#REF!)","v":{"$error":"#VALUE!"}},{"$f":"((AA207*#REF!)+(#REF!*#REF!)+(#REF!*#REF!))/(#REF!+#REF!+#REF!)","v":{"$error":"#VALUE!"}},{"$f":"((AA207*#REF!)+(#REF!*#REF!)+(#REF!*#REF!))/(#REF!+#REF!+#REF!)","v":{"$error":"#VALUE!"}},{"$f":"((AA207*#REF!)+(#REF!*#REF!)+(#REF!*#REF!))/(#REF!+#REF!+#REF!)","v":{"$error":"#VALUE!"}},{"$f":"((AA207*#REF!)+(#REF!*#REF!)+(#REF!*#REF!))/(#REF!+#REF!+#REF!)","v":{"$error":"#VALUE!"}},{"$f":"((AA207*#REF!)+(#REF!*#REF!)+(#REF!*#REF!))/(#REF!+#REF!+#REF!)","v":{"$error":"#VALUE!"}},{"$f":"((AA207*#REF!)+(#REF!*#REF!)+(#REF!*#REF!))/(#REF!+#REF!+#REF!)","v":{"$error":"#VALUE!"}}]
[null,null,null,null,null,null,null,null,null,null,null,null,null,null,null,null,null,null,null,null,null,206,{"$error":"#VALUE!"},{"$f":"AVERAGE($W$3:W208)","v":{"$error":"#VALUE!"}},null,{"$error":"#VALUE!"},{"$error":"#VALUE!"},{"$f":"AVERAGE($AA$3:AA208)","v":{"$error":"#VALUE!"}},null,null,null,{"$f":"((AA208*#REF!)+(#REF!*#REF!)+(#REF!*#REF!))/(#REF!+#REF!+#REF!)","v":{"$error":"#VALUE!"}},{"$f":"((AA208*#REF!)+(#REF!*#REF!)+(#REF!*#REF!))/(#REF!+#REF!+#REF!)","v":{"$error":"#VALUE!"}},{"$f":"((AA208*#REF!)+(#REF!*#REF!)+(#REF!*#REF!))/(#REF!+#REF!+#REF!)","v":{"$error":"#VALUE!"}},{"$f":"((AA208*#REF!)+(#REF!*#REF!)+(#REF!*#REF!))/(#REF!+#REF!+#REF!)","v":{"$error":"#VALUE!"}},{"$f":"((AA208*#REF!)+(#REF!*#REF!)+(#REF!*#REF!))/(#REF!+#REF!+#REF!)","v":{"$error":"#VALUE!"}},{"$f":"((AA208*#REF!)+(#REF!*#REF!)+(#REF!*#REF!))/(#REF!+#REF!+#REF!)","v":{"$error":"#VALUE!"}},{"$f":"((AA208*#REF!)+(#REF!*#REF!)+(#REF!*#REF!))/(#REF!+#REF!+#REF!)","v":{"$error":"#VALUE!"}}]
[null,null,null,null,null,null,null,null,null,null,null,null,null,null,null,null,null,null,null,null,null,207,{"$error":"#VALUE!"},{"$f":"AVERAGE($W$3:W209)","v":{"$error":"#VALUE!"}},null,{"$error":"#VALUE!"},{"$error":"#VALUE!"},{"$f":"AVERAGE($AA$3:AA209)","v":{"$error":"#VALUE!"}},null,null,null,{"$f":"((AA209*#REF!)+(#REF!*#REF!)+(#REF!*#REF!))/(#REF!+#REF!+#REF!)","v":{"$error":"#VALUE!"}},{"$f":"((AA209*#REF!)+(#REF!*#REF!)+(#REF!*#REF!))/(#REF!+#REF!+#REF!)","v":{"$error":"#VALUE!"}},{"$f":"((AA209*#REF!)+(#REF!*#REF!)+(#REF!*#REF!))/(#REF!+#REF!+#REF!)","v":{"$error":"#VALUE!"}},{"$f":"((AA209*#REF!)+(#REF!*#REF!)+(#REF!*#REF!))/(#REF!+#REF!+#REF!)","v":{"$error":"#VALUE!"}},{"$f":"((AA209*#REF!)+(#REF!*#REF!)+(#REF!*#REF!))/(#REF!+#REF!+#REF!)","v":{"$error":"#VALUE!"}},{"$f":"((AA209*#REF!)+(#REF!*#REF!)+(#REF!*#REF!))/(#REF!+#REF!+#REF!)","v":{"$error":"#VALUE!"}},{"$f":"((AA209*#REF!)+(#REF!*#REF!)+(#REF!*#REF!))/(#REF!+#REF!+#REF!)","v":{"$error":"#VALUE!"}}]
[null,null,null,null,null,null,null,null,null,null,null,null,null,null,null,null,null,null,null,null,null,208,{"$error":"#VALUE!"},{"$f":"AVERAGE($W$3:W210)","v":{"$error":"#VALUE!"}},null,{"$error":"#VALUE!"},{"$error":"#VALUE!"},{"$f":"AVERAGE($AA$3:AA210)","v":{"$error":"#VALUE!"}},null,null,null,{"$f":"((AA210*#REF!)+(#REF!*#REF!)+(#REF!*#REF!))/(#REF!+#REF!+#REF!)","v":{"$error":"#VALUE!"}},{"$f":"((AA210*#REF!)+(#REF!*#REF!)+(#REF!*#REF!))/(#REF!+#REF!+#REF!)","v":{"$error":"#VALUE!"}},{"$f":"((AA210*#REF!)+(#REF!*#REF!)+(#REF!*#REF!))/(#REF!+#REF!+#REF!)","v":{"$error":"#VALUE!"}},{"$f":"((AA210*#REF!)+(#REF!*#REF!)+(#REF!*#REF!))/(#REF!+#REF!+#REF!)","v":{"$error":"#VALUE!"}},{"$f":"((AA210*#REF!)+(#REF!*#REF!)+(#REF!*#REF!))/(#REF!+#REF!+#REF!)","v":{"$error":"#VALUE!"}},{"$f":"((AA210*#REF!)+(#REF!*#REF!)+(#REF!*#REF!))/(#REF!+#REF!+#REF!)","v":{"$error":"#VALUE!"}},{"$f":"((AA210*#REF!)+(#REF!*#REF!)+(#REF!*#REF!))/(#REF!+#REF!+#REF!)","v":{"$error":"#VALUE!"}}]
[null,null,null,null,null,null,null,null,null,null,null,null,null,null,null,null,null,null,null,null,null,209,{"$error":"#VALUE!"},{"$f":"AVERAGE($W$3:W211)","v":{"$error":"#VALUE!"}},null,{"$error":"#VALUE!"},{"$error":"#VALUE!"},{"$f":"AVERAGE($AA$3:AA211)","v":{"$error":"#VALUE!"}},null,null,null,{"$f":"((AA211*#REF!)+(#REF!*#REF!)+(#REF!*#REF!))/(#REF!+#REF!+#REF!)","v":{"$error":"#VALUE!"}},{"$f":"((AA211*#REF!)+(#REF!*#REF!)+(#REF!*#REF!))/(#REF!+#REF!+#REF!)","v":{"$error":"#VALUE!"}},{"$f":"((AA211*#REF!)+(#REF!*#REF!)+(#REF!*#REF!))/(#REF!+#REF!+#REF!)","v":{"$error":"#VALUE!"}},{"$f":"((AA211*#REF!)+(#REF!*#REF!)+(#REF!*#REF!))/(#REF!+#REF!+#REF!)","v":{"$error":"#VALUE!"}},{"$f":"((AA211*#REF!)+(#REF!*#REF!)+(#REF!*#REF!))/(#REF!+#REF!+#REF!)","v":{"$error":"#VALUE!"}},{"$f":"((AA211*#REF!)+(#REF!*#REF!)+(#REF!*#REF!))/(#REF!+#REF!+#REF!)","v":{"$error":"#VALUE!"}},{"$f":"((AA211*#REF!)+(#REF!*#REF!)+(#REF!*#REF!))/(#REF!+#REF!+#REF!)","v":{"$error":"#VALUE!"}}]
[null,null,null,null,null,null,null,null,null,null,null,null,null,null,null,null,null,null,null,null,null,210,{"$error":"#VALUE!"},{"$f":"AVERAGE($W$3:W212)","v":{"$error":"#VALUE!"}},null,{"$error":"#VALUE!"},{"$error":"#VALUE!"},{"$f":"AVERAGE($AA$3:AA212)","v":{"$error":"#VALUE!"}},null,null,null,{"$f":"((AA212*#REF!)+(#REF!*#REF!)+(#REF!*#REF!))/(#REF!+#REF!+#REF!)","v":{"$error":"#VALUE!"}},{"$f":"((AA212*#REF!)+(#REF!*#REF!)+(#REF!*#REF!))/(#REF!+#REF!+#REF!)","v":{"$error":"#VALUE!"}},{"$f":"((AA212*#REF!)+(#REF!*#REF!)+(#REF!*#REF!))/(#REF!+#REF!+#REF!)","v":{"$error":"#VALUE!"}},{"$f":"((AA212*#REF!)+(#REF!*#REF!)+(#REF!*#REF!))/(#REF!+#REF!+#REF!)","v":{"$error":"#VALUE!"}},{"$f":"((AA212*#REF!)+(#REF!*#REF!)+(#REF!*#REF!))/(#REF!+#REF!+#REF!)","v":{"$error":"#VALUE!"}},{"$f":"((AA212*#REF!)+(#REF!*#REF!)+(#REF!*#REF!))/(#REF!+#REF!+#REF!)","v":{"$error":"#VALUE!"}},{"$f":"((AA212*#REF!)+(#REF!*#REF!)+(#REF!*#REF!))/(#REF!+#REF!+#REF!)","v":{"$error":"#VALUE!"}}]
[null,null,null,null,null,null,null,null,null,null,null,null,null,null,null,null,null,null,null,null,null,211,{"$error":"#VALUE!"},{"$f":"AVERAGE($W$3:W213)","v":{"$error":"#VALUE!"}},null,{"$error":"#VALUE!"},{"$error":"#VALUE!"},{"$f":"AVERAGE($AA$3:AA213)","v":{"$error":"#VALUE!"}},null,null,null,{"$f":"((AA213*#REF!)+(#REF!*#REF!)+(#REF!*#REF!))/(#REF!+#REF!+#REF!)","v":{"$error":"#VALUE!"}},{"$f":"((AA213*#REF!)+(#REF!*#REF!)+(#REF!*#REF!))/(#REF!+#REF!+#REF!)","v":{"$error":"#VALUE!"}},{"$f":"((AA213*#REF!)+(#REF!*#REF!)+(#REF!*#REF!))/(#REF!+#REF!+#REF!)","v":{"$error":"#VALUE!"}},{"$f":"((AA213*#REF!)+(#REF!*#REF!)+(#REF!*#REF!))/(#REF!+#REF!+#REF!)","v":{"$error":"#VALUE!"}},{"$f":"((AA213*#REF!)+(#REF!*#REF!)+(#REF!*#REF!))/(#REF!+#REF!+#REF!)","v":{"$error":"#VALUE!"}},{"$f":"((AA213*#REF!)+(#REF!*#REF!)+(#REF!*#REF!))/(#REF!+#REF!+#REF!)","v":{"$error":"#VALUE!"}},{"$f":"((AA213*#REF!)+(#REF!*#REF!)+(#REF!*#REF!))/(#REF!+#REF!+#REF!)","v":{"$error":"#VALUE!"}}]
[null,null,null,null,null,null,null,null,null,null,null,null,null,null,null,null,null,null,null,null,null,212,{"$error":"#VALUE!"},{"$f":"AVERAGE($W$3:W214)","v":{"$error":"#VALUE!"}},null,{"$error":"#VALUE!"},{"$error":"#VALUE!"},{"$f":"AVERAGE($AA$3:AA214)","v":{"$error":"#VALUE!"}},null,null,null,{"$f":"((AA214*#REF!)+(#REF!*#REF!)+(#REF!*#REF!))/(#REF!+#REF!+#REF!)","v":{"$error":"#VALUE!"}},{"$f":"((AA214*#REF!)+(#REF!*#REF!)+(#REF!*#REF!))/(#REF!+#REF!+#REF!)","v":{"$error":"#VALUE!"}},{"$f":"((AA214*#REF!)+(#REF!*#REF!)+(#REF!*#REF!))/(#REF!+#REF!+#REF!)","v":{"$error":"#VALUE!"}},{"$f":"((AA214*#REF!)+(#REF!*#REF!)+(#REF!*#REF!))/(#REF!+#REF!+#REF!)","v":{"$error":"#VALUE!"}},{"$f":"((AA214*#REF!)+(#REF!*#REF!)+(#REF!*#REF!))/(#REF!+#REF!+#REF!)","v":{"$error":"#VALUE!"}},{"$f":"((AA214*#REF!)+(#REF!*#REF!)+(#REF!*#REF!))/(#REF!+#REF!+#REF!)","v":{"$error":"#VALUE!"}},{"$f":"((AA214*#REF!)+(#REF!*#REF!)+(#REF!*#REF!))/(#REF!+#REF!+#REF!)","v":{"$error":"#VALUE!"}}]
[null,null,null,null,null,null,null,null,null,null,null,null,null,null,null,null,null,null,null,null,null,213,{"$error":"#VALUE!"},{"$f":"AVERAGE($W$3:W215)","v":{"$error":"#VALUE!"}},null,{"$error":"#VALUE!"},{"$error":"#VALUE!"},{"$f":"AVERAGE($AA$3:AA215)","v":{"$error":"#VALUE!"}},null,null,null,{"$f":"((AA215*#REF!)+(#REF!*#REF!)+(#REF!*#REF!))/(#REF!+#REF!+#REF!)","v":{"$error":"#VALUE!"}},{"$f":"((AA215*#REF!)+(#REF!*#REF!)+(#REF!*#REF!))/(#REF!+#REF!+#REF!)","v":{"$error":"#VALUE!"}},{"$f":"((AA215*#REF!)+(#REF!*#REF!)+(#REF!*#REF!))/(#REF!+#REF!+#REF!)","v":{"$error":"#VALUE!"}},{"$f":"((AA215*#REF!)+(#REF!*#REF!)+(#REF!*#REF!))/(#REF!+#REF!+#REF!)","v":{"$error":"#VALUE!"}},{"$f":"((AA215*#REF!)+(#REF!*#REF!)+(#REF!*#REF!))/(#REF!+#REF!+#REF!)","v":{"$error":"#VALUE!"}},{"$f":"((AA215*#REF!)+(#REF!*#REF!)+(#REF!*#REF!))/(#REF!+#REF!+#REF!)","v":{"$error":"#VALUE!"}},{"$f":"((AA215*#REF!)+(#REF!*#REF!)+(#REF!*#REF!))/(#REF!+#REF!+#REF!)","v":{"$error":"#VALUE!"}}]
[null,null,null,null,null,null,null,null,null,null,null,null,null,null,null,null,null,null,null,null,null,214,{"$error":"#VALUE!"},{"$f":"AVERAGE($W$3:W216)","v":{"$error":"#VALUE!"}},null,{"$error":"#VALUE!"},{"$error":"#VALUE!"},{"$f":"AVERAGE($AA$3:AA216)","v":{"$error":"#VALUE!"}},null,null,null,{"$f":"((AA216*#REF!)+(#REF!*#REF!)+(#REF!*#REF!))/(#REF!+#REF!+#REF!)","v":{"$error":"#VALUE!"}},{"$f":"((AA216*#REF!)+(#REF!*#REF!)+(#REF!*#REF!))/(#REF!+#REF!+#REF!)","v":{"$error":"#VALUE!"}},{"$f":"((AA216*#REF!)+(#REF!*#REF!)+(#REF!*#REF!))/(#REF!+#REF!+#REF!)","v":{"$error":"#VALUE!"}},{"$f":"((AA216*#REF!)+(#REF!*#REF!)+(#REF!*#REF!))/(#REF!+#REF!+#REF!)","v":{"$error":"#VALUE!"}},{"$f":"((AA216*#REF!)+(#REF!*#REF!)+(#REF!*#REF!))/(#REF!+#REF!+#REF!)","v":{"$error":"#VALUE!"}},{"$f":"((AA216*#REF!)+(#REF!*#REF!)+(#REF!*#REF!))/(#REF!+#REF!+#REF!)","v":{"$error":"#VALUE!"}},{"$f":"((AA216*#REF!)+(#REF!*#REF!)+(#REF!*#REF!))/(#REF!+#REF!+#REF!)","v":{"$error":"#VALUE!"}}]
[null,null,null,null,null,null,null,null,null,null,null,null,null,null,null,null,null,null,null,null,null,215,{"$error":"#VALUE!"},{"$f":"AVERAGE($W$3:W217)","v":{"$error":"#VALUE!"}},null,{"$error":"#VALUE!"},{"$error":"#VALUE!"},{"$f":"AVERAGE($AA$3:AA217)","v":{"$error":"#VALUE!"}},null,null,null,{"$f":"((AA217*#REF!)+(#REF!*#REF!)+(#REF!*#REF!))/(#REF!+#REF!+#REF!)","v":{"$error":"#VALUE!"}},{"$f":"((AA217*#REF!)+(#REF!*#REF!)+(#REF!*#REF!))/(#REF!+#REF!+#REF!)","v":{"$error":"#VALUE!"}},{"$f":"((AA217*#REF!)+(#REF!*#REF!)+(#REF!*#REF!))/(#REF!+#REF!+#REF!)","v":{"$error":"#VALUE!"}},{"$f":"((AA217*#REF!)+(#REF!*#REF!)+(#REF!*#REF!))/(#REF!+#REF!+#REF!)","v":{"$error":"#VALUE!"}},{"$f":"((AA217*#REF!)+(#REF!*#REF!)+(#REF!*#REF!))/(#REF!+#REF!+#REF!)","v":{"$error":"#VALUE!"}},{"$f":"((AA217*#REF!)+(#REF!*#REF!)+(#REF!*#REF!))/(#REF!+#REF!+#REF!)","v":{"$error":"#VALUE!"}},{"$f":"((AA217*#REF!)+(#REF!*#REF!)+(#REF!*#REF!))/(#REF!+#REF!+#REF!)","v":{"$error":"#VALUE!"}}]
[null,null,null,null,null,null,null,null,null,null,null,null,null,null,null,null,null,null,null,null,null,216,{"$error":"#VALUE!"},{"$f":"AVERAGE($W$3:W218)","v":{"$error":"#VALUE!"}},null,{"$error":"#VALUE!"},{"$error":"#VALUE!"},{"$f":"AVERAGE($AA$3:AA218)","v":{"$error":"#VALUE!"}},null,null,null,{"$f":"((AA218*#REF!)+(#REF!*#REF!)+(#REF!*#REF!))/(#REF!+#REF!+#REF!)","v":{"$error":"#VALUE!"}},{"$f":"((AA218*#REF!)+(#REF!*#REF!)+(#REF!*#REF!))/(#REF!+#REF!+#REF!)","v":{"$error":"#VALUE!"}},{"$f":"((AA218*#REF!)+(#REF!*#REF!)+(#REF!*#REF!))/(#REF!+#REF!+#REF!)","v":{"$error":"#VALUE!"}},{"$f":"((AA218*#REF!)+(#REF!*#REF!)+(#REF!*#REF!))/(#REF!+#REF!+#REF!)","v":{"$error":"#VALUE!"}},{"$f":"((AA218*#REF!)+(#REF!*#REF!)+(#REF!*#REF!))/(#REF!+#REF!+#REF!)","v":{"$error":"#VALUE!"}},{"$f":"((AA218*#REF!)+(#REF!*#REF!)+(#REF!*#REF!))/(#REF!+#REF!+#REF!)","v":{"$error":"#VALUE!"}},{"$f":"((AA218*#REF!)+(#REF!*#REF!)+(#REF!*#REF!))/(#REF!+#REF!+#REF!)","v":{"$error":"#VALUE!"}}]
[null,null,null,null,null,null,null,null,null,null,null,null,null,null,null,null,null,null,null,null,null,217,{"$error":"#VALUE!"},{"$f":"AVERAGE($W$3:W219)","v":{"$error":"#VALUE!"}},null,{"$error":"#VALUE!"},{"$error":"#VALUE!"},{"$f":"AVERAGE($AA$3:AA219)","v":{"$error":"#VALUE!"}},null,null,null,{"$f":"((AA219*#REF!)+(#REF!*#REF!)+(#REF!*#REF!))/(#REF!+#REF!+#REF!)","v":{"$error":"#VALUE!"}},{"$f":"((AA219*#REF!)+(#REF!*#REF!)+(#REF!*#REF!))/(#REF!+#REF!+#REF!)","v":{"$error":"#VALUE!"}},{"$f":"((AA219*#REF!)+(#REF!*#REF!)+(#REF!*#REF!))/(#REF!+#REF!+#REF!)","v":{"$error":"#VALUE!"}},{"$f":"((AA219*#REF!)+(#REF!*#REF!)+(#REF!*#REF!))/(#REF!+#REF!+#REF!)","v":{"$error":"#VALUE!"}},{"$f":"((AA219*#REF!)+(#REF!*#REF!)+(#REF!*#REF!))/(#REF!+#REF!+#REF!)","v":{"$error":"#VALUE!"}},{"$f":"((AA219*#REF!)+(#REF!*#REF!)+(#REF!*#REF!))/(#REF!+#REF!+#REF!)","v":{"$error":"#VALUE!"}},{"$f":"((AA219*#REF!)+(#REF!*#REF!)+(#REF!*#REF!))/(#REF!+#REF!+#REF!)","v":{"$error":"#VALUE!"}}]
[null,null,null,null,null,null,null,null,null,null,null,null,null,null,null,null,null,null,null,null,null,218,{"$error":"#VALUE!"},{"$f":"AVERAGE($W$3:W220)","v":{"$error":"#VALUE!"}},null,{"$error":"#VALUE!"},{"$error":"#VALUE!"},{"$f":"AVERAGE($AA$3:AA220)","v":{"$error":"#VALUE!"}},null,null,null,{"$f":"((AA220*#REF!)+(#REF!*#REF!)+(#REF!*#REF!))/(#REF!+#REF!+#REF!)","v":{"$error":"#VALUE!"}},{"$f":"((AA220*#REF!)+(#REF!*#REF!)+(#REF!*#REF!))/(#REF!+#REF!+#REF!)","v":{"$error":"#VALUE!"}},{"$f":"((AA220*#REF!)+(#REF!*#REF!)+(#REF!*#REF!))/(#REF!+#REF!+#REF!)","v":{"$error":"#VALUE!"}},{"$f":"((AA220*#REF!)+(#REF!*#REF!)+(#REF!*#REF!))/(#REF!+#REF!+#REF!)","v":{"$error":"#VALUE!"}},{"$f":"((AA220*#REF!)+(#REF!*#REF!)+(#REF!*#REF!))/(#REF!+#REF!+#REF!)","v":{"$error":"#VALUE!"}},{"$f":"((AA220*#REF!)+(#REF!*#REF!)+(#REF!*#REF!))/(#REF!+#REF!+#REF!)","v":{"$error":"#VALUE!"}},{"$f":"((AA220*#REF!)+(#REF!*#REF!)+(#REF!*#REF!))/(#REF!+#REF!+#REF!)","v":{"$error":"#VALUE!"}}]
[null,null,null,null,null,null,null,null,null,null,null,null,null,null,null,null,null,null,null,null,null,219,{"$error":"#VALUE!"},{"$f":"AVERAGE($W$3:W221)","v":{"$error":"#VALUE!"}},null,{"$error":"#VALUE!"},{"$error":"#VALUE!"},{"$f":"AVERAGE($AA$3:AA221)","v":{"$error":"#VALUE!"}},null,null,null,{"$f":"((AA221*#REF!)+(#REF!*#REF!)+(#REF!*#REF!))/(#REF!+#REF!+#REF!)","v":{"$error":"#VALUE!"}},{"$f":"((AA221*#REF!)+(#REF!*#REF!)+(#REF!*#REF!))/(#REF!+#REF!+#REF!)","v":{"$error":"#VALUE!"}},{"$f":"((AA221*#REF!)+(#REF!*#REF!)+(#REF!*#REF!))/(#REF!+#REF!+#REF!)","v":{"$error":"#VALUE!"}},{"$f":"((AA221*#REF!)+(#REF!*#REF!)+(#REF!*#REF!))/(#REF!+#REF!+#REF!)","v":{"$error":"#VALUE!"}},{"$f":"((AA221*#REF!)+(#REF!*#REF!)+(#REF!*#REF!))/(#REF!+#REF!+#REF!)","v":{"$error":"#VALUE!"}},{"$f":"((AA221*#REF!)+(#REF!*#REF!)+(#REF!*#REF!))/(#REF!+#REF!+#REF!)","v":{"$error":"#VALUE!"}},{"$f":"((AA221*#REF!)+(#REF!*#REF!)+(#REF!*#REF!))/(#REF!+#REF!+#REF!)","v":{"$error":"#VALUE!"}}]
[null,null,null,null,null,null,null,null,null,null,null,null,null,null,null,null,null,null,null,null,null,220,{"$error":"#VALUE!"},{"$f":"AVERAGE($W$3:W222)","v":{"$error":"#VALUE!"}},null,{"$error":"#VALUE!"},{"$error":"#VALUE!"},{"$f":"AVERAGE($AA$3:AA222)","v":{"$error":"#VALUE!"}},null,null,null,{"$f":"((AA222*#REF!)+(#REF!*#REF!)+(#REF!*#REF!))/(#REF!+#REF!+#REF!)","v":{"$error":"#VALUE!"}},{"$f":"((AA222*#REF!)+(#REF!*#REF!)+(#REF!*#REF!))/(#REF!+#REF!+#REF!)","v":{"$error":"#VALUE!"}},{"$f":"((AA222*#REF!)+(#REF!*#REF!)+(#REF!*#REF!))/(#REF!+#REF!+#REF!)","v":{"$error":"#VALUE!"}},{"$f":"((AA222*#REF!)+(#REF!*#REF!)+(#REF!*#REF!))/(#REF!+#REF!+#REF!)","v":{"$error":"#VALUE!"}},{"$f":"((AA222*#REF!)+(#REF!*#REF!)+(#REF!*#REF!))/(#REF!+#REF!+#REF!)","v":{"$error":"#VALUE!"}},{"$f":"((AA222*#REF!)+(#REF!*#REF!)+(#REF!*#REF!))/(#REF!+#REF!+#REF!)","v":{"$error":"#VALUE!"}},{"$f":"((AA222*#REF!)+(#REF!*#REF!)+(#REF!*#REF!))/(#REF!+#REF!+#REF!)","v":{"$error":"#VALUE!"}}]
[null,null,null,null,null,null,null,null,null,null,null,null,null,null,null,null,null,null,null,null,null,221,{"$error":"#VALUE!"},{"$f":"AVERAGE($W$3:W223)","v":{"$error":"#VALUE!"}},null,{"$error":"#VALUE!"},{"$error":"#VALUE!"},{"$f":"AVERAGE($AA$3:AA223)","v":{"$error":"#VALUE!"}},null,null,null,{"$f":"((AA223*#REF!)+(#REF!*#REF!)+(#REF!*#REF!))/(#REF!+#REF!+#REF!)","v":{"$error":"#VALUE!"}},{"$f":"((AA223*#REF!)+(#REF!*#REF!)+(#REF!*#REF!))/(#REF!+#REF!+#REF!)","v":{"$error":"#VALUE!"}},{"$f":"((AA223*#REF!)+(#REF!*#REF!)+(#REF!*#REF!))/(#REF!+#REF!+#REF!)","v":{"$error":"#VALUE!"}},{"$f":"((AA223*#REF!)+(#REF!*#REF!)+(#REF!*#REF!))/(#REF!+#REF!+#REF!)","v":{"$error":"#VALUE!"}},{"$f":"((AA223*#REF!)+(#REF!*#REF!)+(#REF!*#REF!))/(#REF!+#REF!+#REF!)","v":{"$error":"#VALUE!"}},{"$f":"((AA223*#REF!)+(#REF!*#REF!)+(#REF!*#REF!))/(#REF!+#REF!+#REF!)","v":{"$error":"#VALUE!"}},{"$f":"((AA223*#REF!)+(#REF!*#REF!)+(#REF!*#REF!))/(#REF!+#REF!+#REF!)","v":{"$error":"#VALUE!"}}]
[null,null,null,null,null,null,null,null,null,null,null,null,null,null,null,null,null,null,null,null,null,222,{"$error":"#VALUE!"},{"$f":"AVERAGE($W$3:W224)","v":{"$error":"#VALUE!"}},null,{"$error":"#VALUE!"},{"$error":"#VALUE!"},{"$f":"AVERAGE($AA$3:AA224)","v":{"$error":"#VALUE!"}},null,null,null,{"$f":"((AA224*#REF!)+(#REF!*#REF!)+(#REF!*#REF!))/(#REF!+#REF!+#REF!)","v":{"$error":"#VALUE!"}},{"$f":"((AA224*#REF!)+(#REF!*#REF!)+(#REF!*#REF!))/(#REF!+#REF!+#REF!)","v":{"$error":"#VALUE!"}},{"$f":"((AA224*#REF!)+(#REF!*#REF!)+(#REF!*#REF!))/(#REF!+#REF!+#REF!)","v":{"$error":"#VALUE!"}},{"$f":"((AA224*#REF!)+(#REF!*#REF!)+(#REF!*#REF!))/(#REF!+#REF!+#REF!)","v":{"$error":"#VALUE!"}},{"$f":"((AA224*#REF!)+(#REF!*#REF!)+(#REF!*#REF!))/(#REF!+#REF!+#REF!)","v":{"$error":"#VALUE!"}},{"$f":"((AA224*#REF!)+(#REF!*#REF!)+(#REF!*#REF!))/(#REF!+#REF!+#REF!)","v":{"$error":"#VALUE!"}},{"$f":"((AA224*#REF!)+(#REF!*#REF!)+(#REF!*#REF!))/(#REF!+#REF!+#REF!)","v":{"$error":"#VALUE!"}}]
[null,null,null,null,null,null,null,null,null,null,null,null,null,null,null,null,null,null,null,null,null,223,{"$error":"#VALUE!"},{"$f":"AVERAGE($W$3:W225)","v":{"$error":"#VALUE!"}},null,{"$error":"#VALUE!"},{"$error":"#VALUE!"},{"$f":"AVERAGE($AA$3:AA225)","v":{"$error":"#VALUE!"}},null,null,null,{"$f":"((AA225*#REF!)+(#REF!*#REF!)+(#REF!*#REF!))/(#REF!+#REF!+#REF!)","v":{"$error":"#VALUE!"}},{"$f":"((AA225*#REF!)+(#REF!*#REF!)+(#REF!*#REF!))/(#REF!+#REF!+#REF!)","v":{"$error":"#VALUE!"}},{"$f":"((AA225*#REF!)+(#REF!*#REF!)+(#REF!*#REF!))/(#REF!+#REF!+#REF!)","v":{"$error":"#VALUE!"}},{"$f":"((AA225*#REF!)+(#REF!*#REF!)+(#REF!*#REF!))/(#REF!+#REF!+#REF!)","v":{"$error":"#VALUE!"}},{"$f":"((AA225*#REF!)+(#REF!*#REF!)+(#REF!*#REF!))/(#REF!+#REF!+#REF!)","v":{"$error":"#VALUE!"}},{"$f":"((AA225*#REF!)+(#REF!*#REF!)+(#REF!*#REF!))/(#REF!+#REF!+#REF!)","v":{"$error":"#VALUE!"}},{"$f":"((AA225*#REF!)+(#REF!*#REF!)+(#REF!*#REF!))/(#REF!+#REF!+#REF!)","v":{"$error":"#VALUE!"}}]
[null,null,null,null,null,null,null,null,null,null,null,null,null,null,null,null,null,null,null,null,null,224,{"$error":"#VALUE!"},{"$f":"AVERAGE($W$3:W226)","v":{"$error":"#VALUE!"}},null,{"$error":"#VALUE!"},{"$error":"#VALUE!"},{"$f":"AVERAGE($AA$3:AA226)","v":{"$error":"#VALUE!"}},null,null,null,{"$f":"((AA226*#REF!)+(#REF!*#REF!)+(#REF!*#REF!))/(#REF!+#REF!+#REF!)","v":{"$error":"#VALUE!"}},{"$f":"((AA226*#REF!)+(#REF!*#REF!)+(#REF!*#REF!))/(#REF!+#REF!+#REF!)","v":{"$error":"#VALUE!"}},{"$f":"((AA226*#REF!)+(#REF!*#REF!)+(#REF!*#REF!))/(#REF!+#REF!+#REF!)","v":{"$error":"#VALUE!"}},{"$f":"((AA226*#REF!)+(#REF!*#REF!)+(#REF!*#REF!))/(#REF!+#REF!+#REF!)","v":{"$error":"#VALUE!"}},{"$f":"((AA226*#REF!)+(#REF!*#REF!)+(#REF!*#REF!))/(#REF!+#REF!+#REF!)","v":{"$error":"#VALUE!"}},{"$f":"((AA226*#REF!)+(#REF!*#REF!)+(#REF!*#REF!))/(#REF!+#REF!+#REF!)","v":{"$error":"#VALUE!"}},{"$f":"((AA226*#REF!)+(#REF!*#REF!)+(#REF!*#REF!))/(#REF!+#REF!+#REF!)","v":{"$error":"#VALUE!"}}]
[null,null,null,null,null,null,null,null,null,null,null,null,null,null,null,null,null,null,null,null,null,225,{"$error":"#VALUE!"},{"$f":"AVERAGE($W$3:W227)","v":{"$error":"#VALUE!"}},null,{"$error":"#VALUE!"},{"$error":"#VALUE!"},{"$f":"AVERAGE($AA$3:AA227)","v":{"$error":"#VALUE!"}},null,null,null,{"$f":"((AA227*#REF!)+(#REF!*#REF!)+(#REF!*#REF!))/(#REF!+#REF!+#REF!)","v":{"$error":"#VALUE!"}},{"$f":"((AA227*#REF!)+(#REF!*#REF!)+(#REF!*#REF!))/(#REF!+#REF!+#REF!)","v":{"$error":"#VALUE!"}},{"$f":"((AA227*#REF!)+(#REF!*#REF!)+(#REF!*#REF!))/(#REF!+#REF!+#REF!)","v":{"$error":"#VALUE!"}},{"$f":"((AA227*#REF!)+(#REF!*#REF!)+(#REF!*#REF!))/(#REF!+#REF!+#REF!)","v":{"$error":"#VALUE!"}},{"$f":"((AA227*#REF!)+(#REF!*#REF!)+(#REF!*#REF!))/(#REF!+#REF!+#REF!)","v":{"$error":"#VALUE!"}},{"$f":"((AA227*#REF!)+(#REF!*#REF!)+(#REF!*#REF!))/(#REF!+#REF!+#REF!)","v":{"$error":"#VALUE!"}},{"$f":"((AA227*#REF!)+(#REF!*#REF!)+(#REF!*#REF!))/(#REF!+#REF!+#REF!)","v":{"$error":"#VALUE!"}}]
[null,null,null,null,null,null,null,null,null,null,null,null,null,null,null,null,null,null,null,null,null,226,{"$error":"#VALUE!"},{"$f":"AVERAGE($W$3:W228)","v":{"$error":"#VALUE!"}},null,{"$error":"#VALUE!"},{"$error":"#VALUE!"},{"$f":"AVERAGE($AA$3:AA228)","v":{"$error":"#VALUE!"}},null,null,null,{"$f":"((AA228*#REF!)+(#REF!*#REF!)+(#REF!*#REF!))/(#REF!+#REF!+#REF!)","v":{"$error":"#VALUE!"}},{"$f":"((AA228*#REF!)+(#REF!*#REF!)+(#REF!*#REF!))/(#REF!+#REF!+#REF!)","v":{"$error":"#VALUE!"}},{"$f":"((AA228*#REF!)+(#REF!*#REF!)+(#REF!*#REF!))/(#REF!+#REF!+#REF!)","v":{"$error":"#VALUE!"}},{"$f":"((AA228*#REF!)+(#REF!*#REF!)+(#REF!*#REF!))/(#REF!+#REF!+#REF!)","v":{"$error":"#VALUE!"}},{"$f":"((AA228*#REF!)+(#REF!*#REF!)+(#REF!*#REF!))/(#REF!+#REF!+#REF!)","v":{"$error":"#VALUE!"}},{"$f":"((AA228*#REF!)+(#REF!*#REF!)+(#REF!*#REF!))/(#REF!+#REF!+#REF!)","v":{"$error":"#VALUE!"}},{"$f":"((AA228*#REF!)+(#REF!*#REF!)+(#REF!*#REF!))/(#REF!+#REF!+#REF!)","v":{"$error":"#VALUE!"}}]
[null,null,null,null,null,null,null,null,null,null,null,null,null,null,null,null,null,null,null,null,null,227,{"$error":"#VALUE!"},{"$f":"AVERAGE($W$3:W229)","v":{"$error":"#VALUE!"}},null,{"$error":"#VALUE!"},{"$error":"#VALUE!"},{"$f":"AVERAGE($AA$3:AA229)","v":{"$error":"#VALUE!"}},null,null,null,{"$f":"((AA229*#REF!)+(#REF!*#REF!)+(#REF!*#REF!))/(#REF!+#REF!+#REF!)","v":{"$error":"#VALUE!"}},{"$f":"((AA229*#REF!)+(#REF!*#REF!)+(#REF!*#REF!))/(#REF!+#REF!+#REF!)","v":{"$error":"#VALUE!"}},{"$f":"((AA229*#REF!)+(#REF!*#REF!)+(#REF!*#REF!))/(#REF!+#REF!+#REF!)","v":{"$error":"#VALUE!"}},{"$f":"((AA229*#REF!)+(#REF!*#REF!)+(#REF!*#REF!))/(#REF!+#REF!+#REF!)","v":{"$error":"#VALUE!"}},{"$f":"((AA229*#REF!)+(#REF!*#REF!)+(#REF!*#REF!))/(#REF!+#REF!+#REF!)","v":{"$error":"#VALUE!"}},{"$f":"((AA229*#REF!)+(#REF!*#REF!)+(#REF!*#REF!))/(#REF!+#REF!+#REF!)","v":{"$error":"#VALUE!"}},{"$f":"((AA229*#REF!)+(#REF!*#REF!)+(#REF!*#REF!))/(#REF!+#REF!+#REF!)","v":{"$error":"#VALUE!"}}]
[null,null,null,null,null,null,null,null,null,null,null,null,null,null,null,null,null,null,null,null,null,228,{"$error":"#VALUE!"},{"$f":"AVERAGE($W$3:W230)","v":{"$error":"#VALUE!"}},null,{"$error":"#VALUE!"},{"$error":"#VALUE!"},{"$f":"AVERAGE($AA$3:AA230)","v":{"$error":"#VALUE!"}},null,null,null,{"$f":"((AA230*#REF!)+(#REF!*#REF!)+(#REF!*#REF!))/(#REF!+#REF!+#REF!)","v":{"$error":"#VALUE!"}},{"$f":"((AA230*#REF!)+(#REF!*#REF!)+(#REF!*#REF!))/(#REF!+#REF!+#REF!)","v":{"$error":"#VALUE!"}},{"$f":"((AA230*#REF!)+(#REF!*#REF!)+(#REF!*#REF!))/(#REF!+#REF!+#REF!)","v":{"$error":"#VALUE!"}},{"$f":"((AA230*#REF!)+(#REF!*#REF!)+(#REF!*#REF!))/(#REF!+#REF!+#REF!)","v":{"$error":"#VALUE!"}},{"$f":"((AA230*#REF!)+(#REF!*#REF!)+(#REF!*#REF!))/(#REF!+#REF!+#REF!)","v":{"$error":"#VALUE!"}},{"$f":"((AA230*#REF!)+(#REF!*#REF!)+(#REF!*#REF!))/(#REF!+#REF!+#REF!)","v":{"$error":"#VALUE!"}},{"$f":"((AA230*#REF!)+(#REF!*#REF!)+(#REF!*#REF!))/(#REF!+#REF!+#REF!)","v":{"$error":"#VALUE!"}}]
[null,null,null,null,null,null,null,null,null,null,null,null,null,null,null,null,null,null,null,null,null,229,{"$error":"#VALUE!"},{"$f":"AVERAGE($W$3:W231)","v":{"$error":"#VALUE!"}},null,{"$error":"#VALUE!"},{"$error":"#VALUE!"},{"$f":"AVERAGE($AA$3:AA231)","v":{"$error":"#VALUE!"}},null,null,null,{"$f":"((AA231*#REF!)+(#REF!*#REF!)+(#REF!*#REF!))/(#REF!+#REF!+#REF!)","v":{"$error":"#VALUE!"}},{"$f":"((AA231*#REF!)+(#REF!*#REF!)+(#REF!*#REF!))/(#REF!+#REF!+#REF!)","v":{"$error":"#VALUE!"}},{"$f":"((AA231*#REF!)+(#REF!*#REF!)+(#REF!*#REF!))/(#REF!+#REF!+#REF!)","v":{"$error":"#VALUE!"}},{"$f":"((AA231*#REF!)+(#REF!*#REF!)+(#REF!*#REF!))/(#REF!+#REF!+#REF!)","v":{"$error":"#VALUE!"}},{"$f":"((AA231*#REF!)+(#REF!*#REF!)+(#REF!*#REF!))/(#REF!+#REF!+#REF!)","v":{"$error":"#VALUE!"}},{"$f":"((AA231*#REF!)+(#REF!*#REF!)+(#REF!*#REF!))/(#REF!+#REF!+#REF!)","v":{"$error":"#VALUE!"}},{"$f":"((AA231*#REF!)+(#REF!*#REF!)+(#REF!*#REF!))/(#REF!+#REF!+#REF!)","v":{"$error":"#VALUE!"}}]
[null,null,null,null,null,null,null,null,null,null,null,null,null,null,null,null,null,null,null,null,null,230,{"$error":"#VALUE!"},{"$f":"AVERAGE($W$3:W232)","v":{"$error":"#VALUE!"}},null,{"$error":"#VALUE!"},{"$error":"#VALUE!"},{"$f":"AVERAGE($AA$3:AA232)","v":{"$error":"#VALUE!"}},null,null,null,{"$f":"((AA232*#REF!)+(#REF!*#REF!)+(#REF!*#REF!))/(#REF!+#REF!+#REF!)","v":{"$error":"#VALUE!"}},{"$f":"((AA232*#REF!)+(#REF!*#REF!)+(#REF!*#REF!))/(#REF!+#REF!+#REF!)","v":{"$error":"#VALUE!"}},{"$f":"((AA232*#REF!)+(#REF!*#REF!)+(#REF!*#REF!))/(#REF!+#REF!+#REF!)","v":{"$error":"#VALUE!"}},{"$f":"((AA232*#REF!)+(#REF!*#REF!)+(#REF!*#REF!))/(#REF!+#REF!+#REF!)","v":{"$error":"#VALUE!"}},{"$f":"((AA232*#REF!)+(#REF!*#REF!)+(#REF!*#REF!))/(#REF!+#REF!+#REF!)","v":{"$error":"#VALUE!"}},{"$f":"((AA232*#REF!)+(#REF!*#REF!)+(#REF!*#REF!))/(#REF!+#REF!+#REF!)","v":{"$error":"#VALUE!"}},{"$f":"((AA232*#REF!)+(#REF!*#REF!)+(#REF!*#REF!))/(#REF!+#REF!+#REF!)","v":{"$error":"#VALUE!"}}]
[null,null,null,null,null,null,null,null,null,null,null,null,null,null,null,null,null,null,null,null,null,231,{"$error":"#VALUE!"},{"$f":"AVERAGE($W$3:W233)","v":{"$error":"#VALUE!"}},null,{"$error":"#VALUE!"},{"$error":"#VALUE!"},{"$f":"AVERAGE($AA$3:AA233)","v":{"$error":"#VALUE!"}},null,null,null,{"$f":"((AA233*#REF!)+(#REF!*#REF!)+(#REF!*#REF!))/(#REF!+#REF!+#REF!)","v":{"$error":"#VALUE!"}},{"$f":"((AA233*#REF!)+(#REF!*#REF!)+(#REF!*#REF!))/(#REF!+#REF!+#REF!)","v":{"$error":"#VALUE!"}},{"$f":"((AA233*#REF!)+(#REF!*#REF!)+(#REF!*#REF!))/(#REF!+#REF!+#REF!)","v":{"$error":"#VALUE!"}},{"$f":"((AA233*#REF!)+(#REF!*#REF!)+(#REF!*#REF!))/(#REF!+#REF!+#REF!)","v":{"$error":"#VALUE!"}},{"$f":"((AA233*#REF!)+(#REF!*#REF!)+(#REF!*#REF!))/(#REF!+#REF!+#REF!)","v":{"$error":"#VALUE!"}},{"$f":"((AA233*#REF!)+(#REF!*#REF!)+(#REF!*#REF!))/(#REF!+#REF!+#REF!)","v":{"$error":"#VALUE!"}},{"$f":"((AA233*#REF!)+(#REF!*#REF!)+(#REF!*#REF!))/(#REF!+#REF!+#REF!)","v":{"$error":"#VALUE!"}}]
[null,null,null,null,null,null,null,null,null,null,null,null,null,null,null,null,null,null,null,null,null,232,{"$error":"#VALUE!"},{"$f":"AVERAGE($W$3:W234)","v":{"$error":"#VALUE!"}},null,{"$error":"#VALUE!"},{"$error":"#VALUE!"},{"$f":"AVERAGE($AA$3:AA234)","v":{"$error":"#VALUE!"}},null,null,null,{"$f":"((AA234*#REF!)+(#REF!*#REF!)+(#REF!*#REF!))/(#REF!+#REF!+#REF!)","v":{"$error":"#VALUE!"}},{"$f":"((AA234*#REF!)+(#REF!*#REF!)+(#REF!*#REF!))/(#REF!+#REF!+#REF!)","v":{"$error":"#VALUE!"}},{"$f":"((AA234*#REF!)+(#REF!*#REF!)+(#REF!*#REF!))/(#REF!+#REF!+#REF!)","v":{"$error":"#VALUE!"}},{"$f":"((AA234*#REF!)+(#REF!*#REF!)+(#REF!*#REF!))/(#REF!+#REF!+#REF!)","v":{"$error":"#VALUE!"}},{"$f":"((AA234*#REF!)+(#REF!*#REF!)+(#REF!*#REF!))/(#REF!+#REF!+#REF!)","v":{"$error":"#VALUE!"}},{"$f":"((AA234*#REF!)+(#REF!*#REF!)+(#REF!*#REF!))/(#REF!+#REF!+#REF!)","v":{"$error":"#VALUE!"}},{"$f":"((AA234*#REF!)+(#REF!*#REF!)+(#REF!*#REF!))/(#REF!+#REF!+#REF!)","v":{"$error":"#VALUE!"}}]
[null,null,null,null,null,null,null,null,null,null,null,null,null,null,null,null,null,null,null,null,null,233,{"$error":"#VALUE!"},{"$f":"AVERAGE($W$3:W235)","v":{"$error":"#VALUE!"}},null,{"$error":"#VALUE!"},{"$error":"#VALUE!"},{"$f":"AVERAGE($AA$3:AA235)","v":{"$error":"#VALUE!"}},null,null,null,{"$f":"((AA235*#REF!)+(#REF!*#REF!)+(#REF!*#REF!))/(#REF!+#REF!+#REF!)","v":{"$error":"#VALUE!"}},{"$f":"((AA235*#REF!)+(#REF!*#REF!)+(#REF!*#REF!))/(#REF!+#REF!+#REF!)","v":{"$error":"#VALUE!"}},{"$f":"((AA235*#REF!)+(#REF!*#REF!)+(#REF!*#REF!))/(#REF!+#REF!+#REF!)","v":{"$error":"#VALUE!"}},{"$f":"((AA235*#REF!)+(#REF!*#REF!)+(#REF!*#REF!))/(#REF!+#REF!+#REF!)","v":{"$error":"#VALUE!"}},{"$f":"((AA235*#REF!)+(#REF!*#REF!)+(#REF!*#REF!))/(#REF!+#REF!+#REF!)","v":{"$error":"#VALUE!"}},{"$f":"((AA235*#REF!)+(#REF!*#REF!)+(#REF!*#REF!))/(#REF!+#REF!+#REF!)","v":{"$error":"#VALUE!"}},{"$f":"((AA235*#REF!)+(#REF!*#REF!)+(#REF!*#REF!))/(#REF!+#REF!+#REF!)","v":{"$error":"#VALUE!"}}]
[null,null,null,null,null,null,null,null,null,null,null,null,null,null,null,null,null,null,null,null,null,234,{"$error":"#VALUE!"},{"$f":"AVERAGE($W$3:W236)","v":{"$error":"#VALUE!"}},null,{"$error":"#VALUE!"},{"$error":"#VALUE!"},{"$f":"AVERAGE($AA$3:AA236)","v":{"$error":"#VALUE!"}},null,null,null,{"$f":"((AA236*#REF!)+(#REF!*#REF!)+(#REF!*#REF!))/(#REF!+#REF!+#REF!)","v":{"$error":"#VALUE!"}},{"$f":"((AA236*#REF!)+(#REF!*#REF!)+(#REF!*#REF!))/(#REF!+#REF!+#REF!)","v":{"$error":"#VALUE!"}},{"$f":"((AA236*#REF!)+(#REF!*#REF!)+(#REF!*#REF!))/(#REF!+#REF!+#REF!)","v":{"$error":"#VALUE!"}},{"$f":"((AA236*#REF!)+(#REF!*#REF!)+(#REF!*#REF!))/(#REF!+#REF!+#REF!)","v":{"$error":"#VALUE!"}},{"$f":"((AA236*#REF!)+(#REF!*#REF!)+(#REF!*#REF!))/(#REF!+#REF!+#REF!)","v":{"$error":"#VALUE!"}},{"$f":"((AA236*#REF!)+(#REF!*#REF!)+(#REF!*#REF!))/(#REF!+#REF!+#REF!)","v":{"$error":"#VALUE!"}},{"$f":"((AA236*#REF!)+(#REF!*#REF!)+(#REF!*#REF!))/(#REF!+#REF!+#REF!)","v":{"$error":"#VALUE!"}}]
[null,null,null,null,null,null,null,null,null,null,null,null,null,null,null,null,null,null,null,null,null,235,{"$error":"#VALUE!"},{"$f":"AVERAGE($W$3:W237)","v":{"$error":"#VALUE!"}},null,{"$error":"#VALUE!"},{"$error":"#VALUE!"},{"$f":"AVERAGE($AA$3:AA237)","v":{"$error":"#VALUE!"}},null,null,null,{"$f":"((AA237*#REF!)+(#REF!*#REF!)+(#REF!*#REF!))/(#REF!+#REF!+#REF!)","v":{"$error":"#VALUE!"}},{"$f":"((AA237*#REF!)+(#REF!*#REF!)+(#REF!*#REF!))/(#REF!+#REF!+#REF!)","v":{"$error":"#VALUE!"}},{"$f":"((AA237*#REF!)+(#REF!*#REF!)+(#REF!*#REF!))/(#REF!+#REF!+#REF!)","v":{"$error":"#VALUE!"}},{"$f":"((AA237*#REF!)+(#REF!*#REF!)+(#REF!*#REF!))/(#REF!+#REF!+#REF!)","v":{"$error":"#VALUE!"}},{"$f":"((AA237*#REF!)+(#REF!*#REF!)+(#REF!*#REF!))/(#REF!+#REF!+#REF!)","v":{"$error":"#VALUE!"}},{"$f":"((AA237*#REF!)+(#REF!*#REF!)+(#REF!*#REF!))/(#REF!+#REF!+#REF!)","v":{"$error":"#VALUE!"}},{"$f":"((AA237*#REF!)+(#REF!*#REF!)+(#REF!*#REF!))/(#REF!+#REF!+#REF!)","v":{"$error":"#VALUE!"}}]
[null,null,null,null,null,null,null,null,null,null,null,null,null,null,null,null,null,null,null,null,null,236,{"$error":"#VALUE!"},{"$f":"AVERAGE($W$3:W238)","v":{"$error":"#VALUE!"}},null,{"$error":"#VALUE!"},{"$error":"#VALUE!"},{"$f":"AVERAGE($AA$3:AA238)","v":{"$error":"#VALUE!"}},null,null,null,{"$f":"((AA238*#REF!)+(#REF!*#REF!)+(#REF!*#REF!))/(#REF!+#REF!+#REF!)","v":{"$error":"#VALUE!"}},{"$f":"((AA238*#REF!)+(#REF!*#REF!)+(#REF!*#REF!))/(#REF!+#REF!+#REF!)","v":{"$error":"#VALUE!"}},{"$f":"((AA238*#REF!)+(#REF!*#REF!)+(#REF!*#REF!))/(#REF!+#REF!+#REF!)","v":{"$error":"#VALUE!"}},{"$f":"((AA238*#REF!)+(#REF!*#REF!)+(#REF!*#REF!))/(#REF!+#REF!+#REF!)","v":{"$error":"#VALUE!"}},{"$f":"((AA238*#REF!)+(#REF!*#REF!)+(#REF!*#REF!))/(#REF!+#REF!+#REF!)","v":{"$error":"#VALUE!"}},{"$f":"((AA238*#REF!)+(#REF!*#REF!)+(#REF!*#REF!))/(#REF!+#REF!+#REF!)","v":{"$error":"#VALUE!"}},{"$f":"((AA238*#REF!)+(#REF!*#REF!)+(#REF!*#REF!))/(#REF!+#REF!+#REF!)","v":{"$error":"#VALUE!"}}]
[null,null,null,null,null,null,null,null,null,null,null,null,null,null,null,null,null,null,null,null,null,237,{"$error":"#VALUE!"},{"$f":"AVERAGE($W$3:W239)","v":{"$error":"#VALUE!"}},null,{"$error":"#VALUE!"},{"$error":"#VALUE!"},{"$f":"AVERAGE($AA$3:AA239)","v":{"$error":"#VALUE!"}},null,null,null,{"$f":"((AA239*#REF!)+(#REF!*#REF!)+(#REF!*#REF!))/(#REF!+#REF!+#REF!)","v":{"$error":"#VALUE!"}},{"$f":"((AA239*#REF!)+(#REF!*#REF!)+(#REF!*#REF!))/(#REF!+#REF!+#REF!)","v":{"$error":"#VALUE!"}},{"$f":"((AA239*#REF!)+(#REF!*#REF!)+(#REF!*#REF!))/(#REF!+#REF!+#REF!)","v":{"$error":"#VALUE!"}},{"$f":"((AA239*#REF!)+(#REF!*#REF!)+(#REF!*#REF!))/(#REF!+#REF!+#REF!)","v":{"$error":"#VALUE!"}},{"$f":"((AA239*#REF!)+(#REF!*#REF!)+(#REF!*#REF!))/(#REF!+#REF!+#REF!)","v":{"$error":"#VALUE!"}},{"$f":"((AA239*#REF!)+(#REF!*#REF!)+(#REF!*#REF!))/(#REF!+#REF!+#REF!)","v":{"$error":"#VALUE!"}},{"$f":"((AA239*#REF!)+(#REF!*#REF!)+(#REF!*#REF!))/(#REF!+#REF!+#REF!)","v":{"$error":"#VALUE!"}}]
[null,null,null,null,null,null,null,null,null,null,null,null,null,null,null,null,null,null,null,null,null,238,{"$error":"#VALUE!"},{"$f":"AVERAGE($W$3:W240)","v":{"$error":"#VALUE!"}},null,{"$error":"#VALUE!"},{"$error":"#VALUE!"},{"$f":"AVERAGE($AA$3:AA240)","v":{"$error":"#VALUE!"}},null,null,null,{"$f":"((AA240*#REF!)+(#REF!*#REF!)+(#REF!*#REF!))/(#REF!+#REF!+#REF!)","v":{"$error":"#VALUE!"}},{"$f":"((AA240*#REF!)+(#REF!*#REF!)+(#REF!*#REF!))/(#REF!+#REF!+#REF!)","v":{"$error":"#VALUE!"}},{"$f":"((AA240*#REF!)+(#REF!*#REF!)+(#REF!*#REF!))/(#REF!+#REF!+#REF!)","v":{"$error":"#VALUE!"}},{"$f":"((AA240*#REF!)+(#REF!*#REF!)+(#REF!*#REF!))/(#REF!+#REF!+#REF!)","v":{"$error":"#VALUE!"}},{"$f":"((AA240*#REF!)+(#REF!*#REF!)+(#REF!*#REF!))/(#REF!+#REF!+#REF!)","v":{"$error":"#VALUE!"}},{"$f":"((AA240*#REF!)+(#REF!*#REF!)+(#REF!*#REF!))/(#REF!+#REF!+#REF!)","v":{"$error":"#VALUE!"}},{"$f":"((AA240*#REF!)+(#REF!*#REF!)+(#REF!*#REF!))/(#REF!+#REF!+#REF!)","v":{"$error":"#VALUE!"}}]
[null,null,null,null,null,null,null,null,null,null,null,null,null,null,null,null,null,null,null,null,null,239,{"$error":"#VALUE!"},{"$f":"AVERAGE($W$3:W241)","v":{"$error":"#VALUE!"}},null,{"$error":"#VALUE!"},{"$error":"#VALUE!"},{"$f":"AVERAGE($AA$3:AA241)","v":{"$error":"#VALUE!"}},null,null,null,{"$f":"((AA241*#REF!)+(#REF!*#REF!)+(#REF!*#REF!))/(#REF!+#REF!+#REF!)","v":{"$error":"#VALUE!"}},{"$f":"((AA241*#REF!)+(#REF!*#REF!)+(#REF!*#REF!))/(#REF!+#REF!+#REF!)","v":{"$error":"#VALUE!"}},{"$f":"((AA241*#REF!)+(#REF!*#REF!)+(#REF!*#REF!))/(#REF!+#REF!+#REF!)","v":{"$error":"#VALUE!"}},{"$f":"((AA241*#REF!)+(#REF!*#REF!)+(#REF!*#REF!))/(#REF!+#REF!+#REF!)","v":{"$error":"#VALUE!"}},{"$f":"((AA241*#REF!)+(#REF!*#REF!)+(#REF!*#REF!))/(#REF!+#REF!+#REF!)","v":{"$error":"#VALUE!"}},{"$f":"((AA241*#REF!)+(#REF!*#REF!)+(#REF!*#REF!))/(#REF!+#REF!+#REF!)","v":{"$error":"#VALUE!"}},{"$f":"((AA241*#REF!)+(#REF!*#REF!)+(#REF!*#REF!))/(#REF!+#REF!+#REF!)","v":{"$error":"#VALUE!"}}]
[null,null,null,null,null,null,null,null,null,null,null,null,null,null,null,null,null,null,null,null,null,240,{"$error":"#VALUE!"},{"$f":"AVERAGE($W$3:W242)","v":{"$error":"#VALUE!"}},null,{"$error":"#VALUE!"},{"$error":"#VALUE!"},{"$f":"AVERAGE($AA$3:AA242)","v":{"$error":"#VALUE!"}},null,null,null,{"$f":"((AA242*#REF!)+(#REF!*#REF!)+(#REF!*#REF!))/(#REF!+#REF!+#REF!)","v":{"$error":"#VALUE!"}},{"$f":"((AA242*#REF!)+(#REF!*#REF!)+(#REF!*#REF!))/(#REF!+#REF!+#REF!)","v":{"$error":"#VALUE!"}},{"$f":"((AA242*#REF!)+(#REF!*#REF!)+(#REF!*#REF!))/(#REF!+#REF!+#REF!)","v":{"$error":"#VALUE!"}},{"$f":"((AA242*#REF!)+(#REF!*#REF!)+(#REF!*#REF!))/(#REF!+#REF!+#REF!)","v":{"$error":"#VALUE!"}},{"$f":"((AA242*#REF!)+(#REF!*#REF!)+(#REF!*#REF!))/(#REF!+#REF!+#REF!)","v":{"$error":"#VALUE!"}},{"$f":"((AA242*#REF!)+(#REF!*#REF!)+(#REF!*#REF!))/(#REF!+#REF!+#REF!)","v":{"$error":"#VALUE!"}},{"$f":"((AA242*#REF!)+(#REF!*#REF!)+(#REF!*#REF!))/(#REF!+#REF!+#REF!)","v":{"$error":"#VALUE!"}}]
[null,null,null,null,null,null,null,null,null,null,null,null,null,null,null,null,null,null,null,null,null,241,{"$error":"#VALUE!"},{"$f":"AVERAGE($W$3:W243)","v":{"$error":"#VALUE!"}},null,{"$error":"#VALUE!"},{"$error":"#VALUE!"},{"$f":"AVERAGE($AA$3:AA243)","v":{"$error":"#VALUE!"}},null,null,null,{"$f":"((AA243*#REF!)+(#REF!*#REF!)+(#REF!*#REF!))/(#REF!+#REF!+#REF!)","v":{"$error":"#VALUE!"}},{"$f":"((AA243*#REF!)+(#REF!*#REF!)+(#REF!*#REF!))/(#REF!+#REF!+#REF!)","v":{"$error":"#VALUE!"}},{"$f":"((AA243*#REF!)+(#REF!*#REF!)+(#REF!*#REF!))/(#REF!+#REF!+#REF!)","v":{"$error":"#VALUE!"}},{"$f":"((AA243*#REF!)+(#REF!*#REF!)+(#REF!*#REF!))/(#REF!+#REF!+#REF!)","v":{"$error":"#VALUE!"}},{"$f":"((AA243*#REF!)+(#REF!*#REF!)+(#REF!*#REF!))/(#REF!+#REF!+#REF!)","v":{"$error":"#VALUE!"}},{"$f":"((AA243*#REF!)+(#REF!*#REF!)+(#REF!*#REF!))/(#REF!+#REF!+#REF!)","v":{"$error":"#VALUE!"}},{"$f":"((AA243*#REF!)+(#REF!*#REF!)+(#REF!*#REF!))/(#REF!+#REF!+#REF!)","v":{"$error":"#VALUE!"}}]
[null,null,null,null,null,null,null,null,null,null,null,null,null,null,null,null,null,null,null,null,null,242,{"$error":"#VALUE!"},{"$f":"AVERAGE($W$3:W244)","v":{"$error":"#VALUE!"}},null,{"$error":"#VALUE!"},{"$error":"#VALUE!"},{"$f":"AVERAGE($AA$3:AA244)","v":{"$error":"#VALUE!"}},null,null,null,{"$f":"((AA244*#REF!)+(#REF!*#REF!)+(#REF!*#REF!))/(#REF!+#REF!+#REF!)","v":{"$error":"#VALUE!"}},{"$f":"((AA244*#REF!)+(#REF!*#REF!)+(#REF!*#REF!))/(#REF!+#REF!+#REF!)","v":{"$error":"#VALUE!"}},{"$f":"((AA244*#REF!)+(#REF!*#REF!)+(#REF!*#REF!))/(#REF!+#REF!+#REF!)","v":{"$error":"#VALUE!"}},{"$f":"((AA244*#REF!)+(#REF!*#REF!)+(#REF!*#REF!))/(#REF!+#REF!+#REF!)","v":{"$error":"#VALUE!"}},{"$f":"((AA244*#REF!)+(#REF!*#REF!)+(#REF!*#REF!))/(#REF!+#REF!+#REF!)","v":{"$error":"#VALUE!"}},{"$f":"((AA244*#REF!)+(#REF!*#REF!)+(#REF!*#REF!))/(#REF!+#REF!+#REF!)","v":{"$error":"#VALUE!"}},{"$f":"((AA244*#REF!)+(#REF!*#REF!)+(#REF!*#REF!))/(#REF!+#REF!+#REF!)","v":{"$error":"#VALUE!"}}]
[null,null,null,null,null,null,null,null,null,null,null,null,null,null,null,null,null,null,null,null,null,243,{"$error":"#VALUE!"},{"$f":"AVERAGE($W$3:W245)","v":{"$error":"#VALUE!"}},null,{"$error":"#VALUE!"},{"$error":"#VALUE!"},{"$f":"AVERAGE($AA$3:AA245)","v":{"$error":"#VALUE!"}},null,null,null,{"$f":"((AA245*#REF!)+(#REF!*#REF!)+(#REF!*#REF!))/(#REF!+#REF!+#REF!)","v":{"$error":"#VALUE!"}},{"$f":"((AA245*#REF!)+(#REF!*#REF!)+(#REF!*#REF!))/(#REF!+#REF!+#REF!)","v":{"$error":"#VALUE!"}},{"$f":"((AA245*#REF!)+(#REF!*#REF!)+(#REF!*#REF!))/(#REF!+#REF!+#REF!)","v":{"$error":"#VALUE!"}},{"$f":"((AA245*#REF!)+(#REF!*#REF!)+(#REF!*#REF!))/(#REF!+#REF!+#REF!)","v":{"$error":"#VALUE!"}},{"$f":"((AA245*#REF!)+(#REF!*#REF!)+(#REF!*#REF!))/(#REF!+#REF!+#REF!)","v":{"$error":"#VALUE!"}},{"$f":"((AA245*#REF!)+(#REF!*#REF!)+(#REF!*#REF!))/(#REF!+#REF!+#REF!)","v":{"$error":"#VALUE!"}},{"$f":"((AA245*#REF!)+(#REF!*#REF!)+(#REF!*#REF!))/(#REF!+#REF!+#REF!)","v":{"$error":"#VALUE!"}}]
[null,null,null,null,null,null,null,null,null,null,null,null,null,null,null,null,null,null,null,null,null,244,{"$error":"#VALUE!"},{"$f":"AVERAGE($W$3:W246)","v":{"$error":"#VALUE!"}},null,{"$error":"#VALUE!"},{"$error":"#VALUE!"},{"$f":"AVERAGE($AA$3:AA246)","v":{"$error":"#VALUE!"}},null,null,null,{"$f":"((AA246*#REF!)+(#REF!*#REF!)+(#REF!*#REF!))/(#REF!+#REF!+#REF!)","v":{"$error":"#VALUE!"}},{"$f":"((AA246*#REF!)+(#REF!*#REF!)+(#REF!*#REF!))/(#REF!+#REF!+#REF!)","v":{"$error":"#VALUE!"}},{"$f":"((AA246*#REF!)+(#REF!*#REF!)+(#REF!*#REF!))/(#REF!+#REF!+#REF!)","v":{"$error":"#VALUE!"}},{"$f":"((AA246*#REF!)+(#REF!*#REF!)+(#REF!*#REF!))/(#REF!+#REF!+#REF!)","v":{"$error":"#VALUE!"}},{"$f":"((AA246*#REF!)+(#REF!*#REF!)+(#REF!*#REF!))/(#REF!+#REF!+#REF!)","v":{"$error":"#VALUE!"}},{"$f":"((AA246*#REF!)+(#REF!*#REF!)+(#REF!*#REF!))/(#REF!+#REF!+#REF!)","v":{"$error":"#VALUE!"}},{"$f":"((AA246*#REF!)+(#REF!*#REF!)+(#REF!*#REF!))/(#REF!+#REF!+#REF!)","v":{"$error":"#VALUE!"}}]
[null,null,null,null,null,null,null,null,null,null,null,null,null,null,null,null,null,null,null,null,null,245,{"$error":"#VALUE!"},{"$f":"AVERAGE($W$3:W247)","v":{"$error":"#VALUE!"}},null,{"$error":"#VALUE!"},{"$error":"#VALUE!"},{"$f":"AVERAGE($AA$3:AA247)","v":{"$error":"#VALUE!"}},null,null,null,{"$f":"((AA247*#REF!)+(#REF!*#REF!)+(#REF!*#REF!))/(#REF!+#REF!+#REF!)","v":{"$error":"#VALUE!"}},{"$f":"((AA247*#REF!)+(#REF!*#REF!)+(#REF!*#REF!))/(#REF!+#REF!+#REF!)","v":{"$error":"#VALUE!"}},{"$f":"((AA247*#REF!)+(#REF!*#REF!)+(#REF!*#REF!))/(#REF!+#REF!+#REF!)","v":{"$error":"#VALUE!"}},{"$f":"((AA247*#REF!)+(#REF!*#REF!)+(#REF!*#REF!))/(#REF!+#REF!+#REF!)","v":{"$error":"#VALUE!"}},{"$f":"((AA247*#REF!)+(#REF!*#REF!)+(#REF!*#REF!))/(#REF!+#REF!+#REF!)","v":{"$error":"#VALUE!"}},{"$f":"((AA247*#REF!)+(#REF!*#REF!)+(#REF!*#REF!))/(#REF!+#REF!+#REF!)","v":{"$error":"#VALUE!"}},{"$f":"((AA247*#REF!)+(#REF!*#REF!)+(#REF!*#REF!))/(#REF!+#REF!+#REF!)","v":{"$error":"#VALUE!"}}]
[null,null,null,null,null,null,null,null,null,null,null,null,null,null,null,null,null,null,null,null,null,246,{"$error":"#VALUE!"},{"$f":"AVERAGE($W$3:W248)","v":{"$error":"#VALUE!"}},null,{"$error":"#VALUE!"},{"$error":"#VALUE!"},{"$f":"AVERAGE($AA$3:AA248)","v":{"$error":"#VALUE!"}},null,null,null,{"$f":"((AA248*#REF!)+(#REF!*#REF!)+(#REF!*#REF!))/(#REF!+#REF!+#REF!)","v":{"$error":"#VALUE!"}},{"$f":"((AA248*#REF!)+(#REF!*#REF!)+(#REF!*#REF!))/(#REF!+#REF!+#REF!)","v":{"$error":"#VALUE!"}},{"$f":"((AA248*#REF!)+(#REF!*#REF!)+(#REF!*#REF!))/(#REF!+#REF!+#REF!)","v":{"$error":"#VALUE!"}},{"$f":"((AA248*#REF!)+(#REF!*#REF!)+(#REF!*#REF!))/(#REF!+#REF!+#REF!)","v":{"$error":"#VALUE!"}},{"$f":"((AA248*#REF!)+(#REF!*#REF!)+(#REF!*#REF!))/(#REF!+#REF!+#REF!)","v":{"$error":"#VALUE!"}},{"$f":"((AA248*#REF!)+(#REF!*#REF!)+(#REF!*#REF!))/(#REF!+#REF!+#REF!)","v":{"$error":"#VALUE!"}},{"$f":"((AA248*#REF!)+(#REF!*#REF!)+(#REF!*#REF!))/(#REF!+#REF!+#REF!)","v":{"$error":"#VALUE!"}}]
[null,null,null,null,null,null,null,null,null,null,null,null,null,null,null,null,null,null,null,null,null,247,{"$error":"#VALUE!"},{"$f":"AVERAGE($W$3:W249)","v":{"$error":"#VALUE!"}},null,{"$error":"#VALUE!"},{"$error":"#VALUE!"},{"$f":"AVERAGE($AA$3:AA249)","v":{"$error":"#VALUE!"}},null,null,null,{"$f":"((AA249*#REF!)+(#REF!*#REF!)+(#REF!*#REF!))/(#REF!+#REF!+#REF!)","v":{"$error":"#VALUE!"}},{"$f":"((AA249*#REF!)+(#REF!*#REF!)+(#REF!*#REF!))/(#REF!+#REF!+#REF!)","v":{"$error":"#VALUE!"}},{"$f":"((AA249*#REF!)+(#REF!*#REF!)+(#REF!*#REF!))/(#REF!+#REF!+#REF!)","v":{"$error":"#VALUE!"}},{"$f":"((AA249*#REF!)+(#REF!*#REF!)+(#REF!*#REF!))/(#REF!+#REF!+#REF!)","v":{"$error":"#VALUE!"}},{"$f":"((AA249*#REF!)+(#REF!*#REF!)+(#REF!*#REF!))/(#REF!+#REF!+#REF!)","v":{"$error":"#VALUE!"}},{"$f":"((AA249*#REF!)+(#REF!*#REF!)+(#REF!*#REF!))/(#REF!+#REF!+#REF!)","v":{"$error":"#VALUE!"}},{"$f":"((AA249*#REF!)+(#REF!*#REF!)+(#REF!*#REF!))/(#REF!+#REF!+#REF!)","v":{"$error":"#VALUE!"}}]
[null,null,null,null,null,null,null,null,null,null,null,null,null,null,null,null,null,null,null,null,null,248,{"$error":"#VALUE!"},{"$f":"AVERAGE($W$3:W250)","v":{"$error":"#VALUE!"}},null,{"$error":"#VALUE!"},{"$error":"#VALUE!"},{"$f":"AVERAGE($AA$3:AA250)","v":{"$error":"#VALUE!"}},null,null,null,{"$f":"((AA250*#REF!)+(#REF!*#REF!)+(#REF!*#REF!))/(#REF!+#REF!+#REF!)","v":{"$error":"#VALUE!"}},{"$f":"((AA250*#REF!)+(#REF!*#REF!)+(#REF!*#REF!))/(#REF!+#REF!+#REF!)","v":{"$error":"#VALUE!"}},{"$f":"((AA250*#REF!)+(#REF!*#REF!)+(#REF!*#REF!))/(#REF!+#REF!+#REF!)","v":{"$error":"#VALUE!"}},{"$f":"((AA250*#REF!)+(#REF!*#REF!)+(#REF!*#REF!))/(#REF!+#REF!+#REF!)","v":{"$error":"#VALUE!"}},{"$f":"((AA250*#REF!)+(#REF!*#REF!)+(#REF!*#REF!))/(#REF!+#REF!+#REF!)","v":{"$error":"#VALUE!"}},{"$f":"((AA250*#REF!)+(#REF!*#REF!)+(#REF!*#REF!))/(#REF!+#REF!+#REF!)","v":{"$error":"#VALUE!"}},{"$f":"((AA250*#REF!)+(#REF!*#REF!)+(#REF!*#REF!))/(#REF!+#REF!+#REF!)","v":{"$error":"#VALUE!"}}]
[null,null,null,null,null,null,null,null,null,null,null,null,null,null,null,null,null,null,null,null,null,249,{"$error":"#VALUE!"},{"$f":"AVERAGE($W$3:W251)","v":{"$error":"#VALUE!"}},null,{"$error":"#VALUE!"},{"$error":"#VALUE!"},{"$f":"AVERAGE($AA$3:AA251)","v":{"$error":"#VALUE!"}},null,null,null,{"$f":"((AA251*#REF!)+(#REF!*#REF!)+(#REF!*#REF!))/(#REF!+#REF!+#REF!)","v":{"$error":"#VALUE!"}},{"$f":"((AA251*#REF!)+(#REF!*#REF!)+(#REF!*#REF!))/(#REF!+#REF!+#REF!)","v":{"$error":"#VALUE!"}},{"$f":"((AA251*#REF!)+(#REF!*#REF!)+(#REF!*#REF!))/(#REF!+#REF!+#REF!)","v":{"$error":"#VALUE!"}},{"$f":"((AA251*#REF!)+(#REF!*#REF!)+(#REF!*#REF!))/(#REF!+#REF!+#REF!)","v":{"$error":"#VALUE!"}},{"$f":"((AA251*#REF!)+(#REF!*#REF!)+(#REF!*#REF!))/(#REF!+#REF!+#REF!)","v":{"$error":"#VALUE!"}},{"$f":"((AA251*#REF!)+(#REF!*#REF!)+(#REF!*#REF!))/(#REF!+#REF!+#REF!)","v":{"$error":"#VALUE!"}},{"$f":"((AA251*#REF!)+(#REF!*#REF!)+(#REF!*#REF!))/(#REF!+#REF!+#REF!)","v":{"$error":"#VALUE!"}}]
[null,null,null,null,null,null,null,null,null,null,null,null,null,null,null,null,null,null,null,null,null,250,{"$error":"#VALUE!"},{"$f":"AVERAGE($W$3:W252)","v":{"$error":"#VALUE!"}},null,{"$error":"#VALUE!"},{"$error":"#VALUE!"},{"$f":"AVERAGE($AA$3:AA252)","v":{"$error":"#VALUE!"}},null,null,null,{"$f":"((AA252*#REF!)+(#REF!*#REF!)+(#REF!*#REF!))/(#REF!+#REF!+#REF!)","v":{"$error":"#VALUE!"}},{"$f":"((AA252*#REF!)+(#REF!*#REF!)+(#REF!*#REF!))/(#REF!+#REF!+#REF!)","v":{"$error":"#VALUE!"}},{"$f":"((AA252*#REF!)+(#REF!*#REF!)+(#REF!*#REF!))/(#REF!+#REF!+#REF!)","v":{"$error":"#VALUE!"}},{"$f":"((AA252*#REF!)+(#REF!*#REF!)+(#REF!*#REF!))/(#REF!+#REF!+#REF!)","v":{"$error":"#VALUE!"}},{"$f":"((AA252*#REF!)+(#REF!*#REF!)+(#REF!*#REF!))/(#REF!+#REF!+#REF!)","v":{"$error":"#VALUE!"}},{"$f":"((AA252*#REF!)+(#REF!*#REF!)+(#REF!*#REF!))/(#REF!+#REF!+#REF!)","v":{"$error":"#VALUE!"}},{"$f":"((AA252*#REF!)+(#REF!*#REF!)+(#REF!*#REF!))/(#REF!+#REF!+#REF!)","v":{"$error":"#VALUE!"}}]
[null,null,null,null,null,null,null,null,null,null,null,null,null,null,null,null,null,null,null,null,null,251,{"$error":"#VALUE!"},{"$f":"AVERAGE($W$3:W253)","v":{"$error":"#VALUE!"}},null,{"$error":"#VALUE!"},{"$error":"#VALUE!"},{"$f":"AVERAGE($AA$3:AA253)","v":{"$error":"#VALUE!"}},null,null,null,{"$f":"((AA253*#REF!)+(#REF!*#REF!)+(#REF!*#REF!))/(#REF!+#REF!+#REF!)","v":{"$error":"#VALUE!"}},{"$f":"((AA253*#REF!)+(#REF!*#REF!)+(#REF!*#REF!))/(#REF!+#REF!+#REF!)","v":{"$error":"#VALUE!"}},{"$f":"((AA253*#REF!)+(#REF!*#REF!)+(#REF!*#REF!))/(#REF!+#REF!+#REF!)","v":{"$error":"#VALUE!"}},{"$f":"((AA253*#REF!)+(#REF!*#REF!)+(#REF!*#REF!))/(#REF!+#REF!+#REF!)","v":{"$error":"#VALUE!"}},{"$f":"((AA253*#REF!)+(#REF!*#REF!)+(#REF!*#REF!))/(#REF!+#REF!+#REF!)","v":{"$error":"#VALUE!"}},{"$f":"((AA253*#REF!)+(#REF!*#REF!)+(#REF!*#REF!))/(#REF!+#REF!+#REF!)","v":{"$error":"#VALUE!"}},{"$f":"((AA253*#REF!)+(#REF!*#REF!)+(#REF!*#REF!))/(#REF!+#REF!+#REF!)","v":{"$error":"#VALUE!"}}]
[null,null,null,null,null,null,null,null,null,null,null,null,null,null,null,null,null,null,null,null,null,252,{"$f":"IF(($M$7*LN(V254))+$M$8+$M$10>0,($M$7*LN(V254))+$M$8+$M$10,0)","v":{"$error":"#VALUE!"}},{"$f":"AVERAGE($W$3:W254)","v":{"$error":"#VALUE!"}},null,{"$error":"#VALUE!"},{"$error":"#VALUE!"},{"$f":"AVERAGE($AA$3:AA254)","v":{"$error":"#VALUE!"}},null,null,null,{"$f":"((AA254*#REF!)+(#REF!*#REF!)+(#REF!*#REF!))/(#REF!+#REF!+#REF!)","v":{"$error":"#VALUE!"}},{"$f":"((AA254*#REF!)+(#REF!*#REF!)+(#REF!*#REF!))/(#REF!+#REF!+#REF!)","v":{"$error":"#VALUE!"}},{"$f":"((AA254*#REF!)+(#REF!*#REF!)+(#REF!*#REF!))/(#REF!+#REF!+#REF!)","v":{"$error":"#VALUE!"}},{"$f":"((AA254*#REF!)+(#REF!*#REF!)+(#REF!*#REF!))/(#REF!+#REF!+#REF!)","v":{"$error":"#VALUE!"}},{"$f":"((AA254*#REF!)+(#REF!*#REF!)+(#REF!*#REF!))/(#REF!+#REF!+#REF!)","v":{"$error":"#VALUE!"}},{"$f":"((AA254*#REF!)+(#REF!*#REF!)+(#REF!*#REF!))/(#REF!+#REF!+#REF!)","v":{"$error":"#VALUE!"}},{"$f":"((AA254*#REF!)+(#REF!*#REF!)+(#REF!*#REF!))/(#REF!+#REF!+#REF!)","v":{"$error":"#VALUE!"}}]
[null,null,null,null,null,null,null,null,null,null,null,null,null,null,null,null,null,null,null,null,null,253,{"$error":"#VALUE!"},{"$f":"AVERAGE($W$3:W255)","v":{"$error":"#VALUE!"}},null,{"$error":"#VALUE!"},{"$error":"#VALUE!"},{"$f":"AVERAGE($AA$3:AA255)","v":{"$error":"#VALUE!"}},null,null,null,{"$f":"((AA255*#REF!)+(#REF!*#REF!)+(#REF!*#REF!))/(#REF!+#REF!+#REF!)","v":{"$error":"#VALUE!"}},{"$f":"((AA255*#REF!)+(#REF!*#REF!)+(#REF!*#REF!))/(#REF!+#REF!+#REF!)","v":{"$error":"#VALUE!"}},{"$f":"((AA255*#REF!)+(#REF!*#REF!)+(#REF!*#REF!))/(#REF!+#REF!+#REF!)","v":{"$error":"#VALUE!"}},{"$f":"((AA255*#REF!)+(#REF!*#REF!)+(#REF!*#REF!))/(#REF!+#REF!+#REF!)","v":{"$error":"#VALUE!"}},{"$f":"((AA255*#REF!)+(#REF!*#REF!)+(#REF!*#REF!))/(#REF!+#REF!+#REF!)","v":{"$error":"#VALUE!"}},{"$f":"((AA255*#REF!)+(#REF!*#REF!)+(#REF!*#REF!))/(#REF!+#REF!+#REF!)","v":{"$error":"#VALUE!"}},{"$f":"((AA255*#REF!)+(#REF!*#REF!)+(#REF!*#REF!))/(#REF!+#REF!+#REF!)","v":{"$error":"#VALUE!"}}]
[null,null,null,null,null,null,null,null,null,null,null,null,null,null,null,null,null,null,null,null,null,254,{"$error":"#VALUE!"},{"$f":"AVERAGE($W$3:W256)","v":{"$error":"#VALUE!"}},null,{"$error":"#VALUE!"},{"$error":"#VALUE!"},{"$f":"AVERAGE($AA$3:AA256)","v":{"$error":"#VALUE!"}},null,null,null,{"$f":"((AA256*#REF!)+(#REF!*#REF!)+(#REF!*#REF!))/(#REF!+#REF!+#REF!)","v":{"$error":"#VALUE!"}},{"$f":"((AA256*#REF!)+(#REF!*#REF!)+(#REF!*#REF!))/(#REF!+#REF!+#REF!)","v":{"$error":"#VALUE!"}},{"$f":"((AA256*#REF!)+(#REF!*#REF!)+(#REF!*#REF!))/(#REF!+#REF!+#REF!)","v":{"$error":"#VALUE!"}},{"$f":"((AA256*#REF!)+(#REF!*#REF!)+(#REF!*#REF!))/(#REF!+#REF!+#REF!)","v":{"$error":"#VALUE!"}},{"$f":"((AA256*#REF!)+(#REF!*#REF!)+(#REF!*#REF!))/(#REF!+#REF!+#REF!)","v":{"$error":"#VALUE!"}},{"$f":"((AA256*#REF!)+(#REF!*#REF!)+(#REF!*#REF!))/(#REF!+#REF!+#REF!)","v":{"$error":"#VALUE!"}},{"$f":"((AA256*#REF!)+(#REF!*#REF!)+(#REF!*#REF!))/(#REF!+#REF!+#REF!)","v":{"$error":"#VALUE!"}}]
[null,null,null,null,null,null,null,null,null,null,null,null,null,null,null,null,null,null,null,null,null,255,{"$error":"#VALUE!"},{"$f":"AVERAGE($W$3:W257)","v":{"$error":"#VALUE!"}},null,{"$error":"#VALUE!"},{"$error":"#VALUE!"},{"$f":"AVERAGE($AA$3:AA257)","v":{"$error":"#VALUE!"}},null,null,null,{"$f":"((AA257*#REF!)+(#REF!*#REF!)+(#REF!*#REF!))/(#REF!+#REF!+#REF!)","v":{"$error":"#VALUE!"}},{"$f":"((AA257*#REF!)+(#REF!*#REF!)+(#REF!*#REF!))/(#REF!+#REF!+#REF!)","v":{"$error":"#VALUE!"}},{"$f":"((AA257*#REF!)+(#REF!*#REF!)+(#REF!*#REF!))/(#REF!+#REF!+#REF!)","v":{"$error":"#VALUE!"}},{"$f":"((AA257*#REF!)+(#REF!*#REF!)+(#REF!*#REF!))/(#REF!+#REF!+#REF!)","v":{"$error":"#VALUE!"}},{"$f":"((AA257*#REF!)+(#REF!*#REF!)+(#REF!*#REF!))/(#REF!+#REF!+#REF!)","v":{"$error":"#VALUE!"}},{"$f":"((AA257*#REF!)+(#REF!*#REF!)+(#REF!*#REF!))/(#REF!+#REF!+#REF!)","v":{"$error":"#VALUE!"}},{"$f":"((AA257*#REF!)+(#REF!*#REF!)+(#REF!*#REF!))/(#REF!+#REF!+#REF!)","v":{"$error":"#VALUE!"}}]
[null,null,null,null,null,null,null,null,null,null,null,null,null,null,null,null,null,null,null,null,null,256,{"$error":"#VALUE!"},{"$f":"AVERAGE($W$3:W258)","v":{"$error":"#VALUE!"}},null,{"$error":"#VALUE!"},{"$error":"#VALUE!"},{"$f":"AVERAGE($AA$3:AA258)","v":{"$error":"#VALUE!"}},null,null,null,{"$f":"((AA258*#REF!)+(#REF!*#REF!)+(#REF!*#REF!))/(#REF!+#REF!+#REF!)","v":{"$error":"#VALUE!"}},{"$f":"((AA258*#REF!)+(#REF!*#REF!)+(#REF!*#REF!))/(#REF!+#REF!+#REF!)","v":{"$error":"#VALUE!"}},{"$f":"((AA258*#REF!)+(#REF!*#REF!)+(#REF!*#REF!))/(#REF!+#REF!+#REF!)","v":{"$error":"#VALUE!"}},{"$f":"((AA258*#REF!)+(#REF!*#REF!)+(#REF!*#REF!))/(#REF!+#REF!+#REF!)","v":{"$error":"#VALUE!"}},{"$f":"((AA258*#REF!)+(#REF!*#REF!)+(#REF!*#REF!))/(#REF!+#REF!+#REF!)","v":{"$error":"#VALUE!"}},{"$f":"((AA258*#REF!)+(#REF!*#REF!)+(#REF!*#REF!))/(#REF!+#REF!+#REF!)","v":{"$error":"#VALUE!"}},{"$f":"((AA258*#REF!)+(#REF!*#REF!)+(#REF!*#REF!))/(#REF!+#REF!+#REF!)","v":{"$error":"#VALUE!"}}]
[null,null,null,null,null,null,null,null,null,null,null,null,null,null,null,null,null,null,null,null,null,257,{"$error":"#VALUE!"},{"$f":"AVERAGE($W$3:W259)","v":{"$error":"#VALUE!"}},null,{"$error":"#VALUE!"},{"$error":"#VALUE!"},{"$f":"AVERAGE($AA$3:AA259)","v":{"$error":"#VALUE!"}},null,null,null,{"$f":"((AA259*#REF!)+(#REF!*#REF!)+(#REF!*#REF!))/(#REF!+#REF!+#REF!)","v":{"$error":"#VALUE!"}},{"$f":"((AA259*#REF!)+(#REF!*#REF!)+(#REF!*#REF!))/(#REF!+#REF!+#REF!)","v":{"$error":"#VALUE!"}},{"$f":"((AA259*#REF!)+(#REF!*#REF!)+(#REF!*#REF!))/(#REF!+#REF!+#REF!)","v":{"$error":"#VALUE!"}},{"$f":"((AA259*#REF!)+(#REF!*#REF!)+(#REF!*#REF!))/(#REF!+#REF!+#REF!)","v":{"$error":"#VALUE!"}},{"$f":"((AA259*#REF!)+(#REF!*#REF!)+(#REF!*#REF!))/(#REF!+#REF!+#REF!)","v":{"$error":"#VALUE!"}},{"$f":"((AA259*#REF!)+(#REF!*#REF!)+(#REF!*#REF!))/(#REF!+#REF!+#REF!)","v":{"$error":"#VALUE!"}},{"$f":"((AA259*#REF!)+(#REF!*#REF!)+(#REF!*#REF!))/(#REF!+#REF!+#REF!)","v":{"$error":"#VALUE!"}}]
[null,null,null,null,null,null,null,null,null,null,null,null,null,null,null,null,null,null,null,null,null,258,{"$error":"#VALUE!"},{"$f":"AVERAGE($W$3:W260)","v":{"$error":"#VALUE!"}},null,{"$f":"$M$2+W260","v":{"$error":"#VALUE!"}},{"$f":"(Z260*(9/5))+32","v":{"$error":"#VALUE!"}},{"$f":"AVERAGE($AA$3:AA260)","v":{"$error":"#VALUE!"}},null,null,null,{"$f":"((AA260*#REF!)+(#REF!*#REF!)+(#REF!*#REF!))/(#REF!+#REF!+#REF!)","v":{"$error":"#VALUE!"}},{"$f":"((AA260*#REF!)+(#REF!*#REF!)+(#REF!*#REF!))/(#REF!+#REF!+#REF!)","v":{"$error":"#VALUE!"}},{"$f":"((AA260*#REF!)+(#REF!*#REF!)+(#REF!*#REF!))/(#REF!+#REF!+#REF!)","v":{"$error":"#VALUE!"}},{"$f":"((AA260*#REF!)+(#REF!*#REF!)+(#REF!*#REF!))/(#REF!+#REF!+#REF!)","v":{"$error":"#VALUE!"}},{"$f":"((AA260*#REF!)+(#REF!*#REF!)+(#REF!*#REF!))/(#REF!+#REF!+#REF!)","v":{"$error":"#VALUE!"}},{"$f":"((AA260*#REF!)+(#REF!*#REF!)+(#REF!*#REF!))/(#REF!+#REF!+#REF!)","v":{"$error":"#VALUE!"}},{"$f":"((AA260*#REF!)+(#REF!*#REF!)+(#REF!*#REF!))/(#REF!+#REF!+#REF!)","v":{"$error":"#VALUE!"}}]
[null,null,null,null,null,null,null,null,null,null,null,null,null,null,null,null,null,null,null,null,null,259,{"$error":"#VALUE!"},{"$f":"AVERAGE($W$3:W261)","v":{"$error":"#VALUE!"}},null,{"$error":"#VALUE!"},{"$error":"#VALUE!"},{"$f":"AVERAGE($AA$3:AA261)","v":{"$error":"#VALUE!"}},null,null,null,{"$f":"((AA261*#REF!)+(#REF!*#REF!)+(#REF!*#REF!))/(#REF!+#REF!+#REF!)","v":{"$error":"#VALUE!"}},{"$f":"((AA261*#REF!)+(#REF!*#REF!)+(#REF!*#REF!))/(#REF!+#REF!+#REF!)","v":{"$error":"#VALUE!"}},{"$f":"((AA261*#REF!)+(#REF!*#REF!)+(#REF!*#REF!))/(#REF!+#REF!+#REF!)","v":{"$error":"#VALUE!"}},{"$f":"((AA261*#REF!)+(#REF!*#REF!)+(#REF!*#REF!))/(#REF!+#REF!+#REF!)","v":{"$error":"#VALUE!"}},{"$f":"((AA261*#REF!)+(#REF!*#REF!)+(#REF!*#REF!))/(#REF!+#REF!+#REF!)","v":{"$error":"#VALUE!"}},{"$f":"((AA261*#REF!)+(#REF!*#REF!)+(#REF!*#REF!))/(#REF!+#REF!+#REF!)","v":{"$error":"#VALUE!"}},{"$f":"((AA261*#REF!)+(#REF!*#REF!)+(#REF!*#REF!))/(#REF!+#REF!+#REF!)","v":{"$error":"#VALUE!"}}]
[null,null,null,null,null,null,null,null,null,null,null,null,null,null,null,null,null,null,null,null,null,260,{"$error":"#VALUE!"},{"$f":"AVERAGE($W$3:W262)","v":{"$error":"#VALUE!"}},null,{"$error":"#VALUE!"},{"$error":"#VALUE!"},{"$f":"AVERAGE($AA$3:AA262)","v":{"$error":"#VALUE!"}},null,null,null,{"$f":"((AA262*#REF!)+(#REF!*#REF!)+(#REF!*#REF!))/(#REF!+#REF!+#REF!)","v":{"$error":"#VALUE!"}},{"$f":"((AA262*#REF!)+(#REF!*#REF!)+(#REF!*#REF!))/(#REF!+#REF!+#REF!)","v":{"$error":"#VALUE!"}},{"$f":"((AA262*#REF!)+(#REF!*#REF!)+(#REF!*#REF!))/(#REF!+#REF!+#REF!)","v":{"$error":"#VALUE!"}},{"$f":"((AA262*#REF!)+(#REF!*#REF!)+(#REF!*#REF!))/(#REF!+#REF!+#REF!)","v":{"$error":"#VALUE!"}},{"$f":"((AA262*#REF!)+(#REF!*#REF!)+(#REF!*#REF!))/(#REF!+#REF!+#REF!)","v":{"$error":"#VALUE!"}},{"$f":"((AA262*#REF!)+(#REF!*#REF!)+(#REF!*#REF!))/(#REF!+#REF!+#REF!)","v":{"$error":"#VALUE!"}},{"$f":"((AA262*#REF!)+(#REF!*#REF!)+(#REF!*#REF!))/(#REF!+#REF!+#REF!)","v":{"$error":"#VALUE!"}}]
[null,null,null,null,null,null,null,null,null,null,null,null,null,null,null,null,null,null,null,null,null,261,{"$error":"#VALUE!"},{"$f":"AVERAGE($W$3:W263)","v":{"$error":"#VALUE!"}},null,{"$error":"#VALUE!"},{"$error":"#VALUE!"},{"$f":"AVERAGE($AA$3:AA263)","v":{"$error":"#VALUE!"}},null,null,null,{"$f":"((AA263*#REF!)+(#REF!*#REF!)+(#REF!*#REF!))/(#REF!+#REF!+#REF!)","v":{"$error":"#VALUE!"}},{"$f":"((AA263*#REF!)+(#REF!*#REF!)+(#REF!*#REF!))/(#REF!+#REF!+#REF!)","v":{"$error":"#VALUE!"}},{"$f":"((AA263*#REF!)+(#REF!*#REF!)+(#REF!*#REF!))/(#REF!+#REF!+#REF!)","v":{"$error":"#VALUE!"}},{"$f":"((AA263*#REF!)+(#REF!*#REF!)+(#REF!*#REF!))/(#REF!+#REF!+#REF!)","v":{"$error":"#VALUE!"}},{"$f":"((AA263*#REF!)+(#REF!*#REF!)+(#REF!*#REF!))/(#REF!+#REF!+#REF!)","v":{"$error":"#VALUE!"}},{"$f":"((AA263*#REF!)+(#REF!*#REF!)+(#REF!*#REF!))/(#REF!+#REF!+#REF!)","v":{"$error":"#VALUE!"}},{"$f":"((AA263*#REF!)+(#REF!*#REF!)+(#REF!*#REF!))/(#REF!+#REF!+#REF!)","v":{"$error":"#VALUE!"}}]
[null,null,null,null,null,null,null,null,null,null,null,null,null,null,null,null,null,null,null,null,null,262,{"$error":"#VALUE!"},{"$f":"AVERAGE($W$3:W264)","v":{"$error":"#VALUE!"}},null,{"$error":"#VALUE!"},{"$error":"#VALUE!"},{"$f":"AVERAGE($AA$3:AA264)","v":{"$error":"#VALUE!"}},null,null,null,{"$f":"((AA264*#REF!)+(#REF!*#REF!)+(#REF!*#REF!))/(#REF!+#REF!+#REF!)","v":{"$error":"#VALUE!"}},{"$f":"((AA264*#REF!)+(#REF!*#REF!)+(#REF!*#REF!))/(#REF!+#REF!+#REF!)","v":{"$error":"#VALUE!"}},{"$f":"((AA264*#REF!)+(#REF!*#REF!)+(#REF!*#REF!))/(#REF!+#REF!+#REF!)","v":{"$error":"#VALUE!"}},{"$f":"((AA264*#REF!)+(#REF!*#REF!)+(#REF!*#REF!))/(#REF!+#REF!+#REF!)","v":{"$error":"#VALUE!"}},{"$f":"((AA264*#REF!)+(#REF!*#REF!)+(#REF!*#REF!))/(#REF!+#REF!+#REF!)","v":{"$error":"#VALUE!"}},{"$f":"((AA264*#REF!)+(#REF!*#REF!)+(#REF!*#REF!))/(#REF!+#REF!+#REF!)","v":{"$error":"#VALUE!"}},{"$f":"((AA264*#REF!)+(#REF!*#REF!)+(#REF!*#REF!))/(#REF!+#REF!+#REF!)","v":{"$error":"#VALUE!"}}]
[null,null,null,null,null,null,null,null,null,null,null,null,null,null,null,null,null,null,null,null,null,263,{"$error":"#VALUE!"},{"$f":"AVERAGE($W$3:W265)","v":{"$error":"#VALUE!"}},null,{"$error":"#VALUE!"},{"$error":"#VALUE!"},{"$f":"AVERAGE($AA$3:AA265)","v":{"$error":"#VALUE!"}},null,null,null,{"$f":"((AA265*#REF!)+(#REF!*#REF!)+(#REF!*#REF!))/(#REF!+#REF!+#REF!)","v":{"$error":"#VALUE!"}},{"$f":"((AA265*#REF!)+(#REF!*#REF!)+(#REF!*#REF!))/(#REF!+#REF!+#REF!)","v":{"$error":"#VALUE!"}},{"$f":"((AA265*#REF!)+(#REF!*#REF!)+(#REF!*#REF!))/(#REF!+#REF!+#REF!)","v":{"$error":"#VALUE!"}},{"$f":"((AA265*#REF!)+(#REF!*#REF!)+(#REF!*#REF!))/(#REF!+#REF!+#REF!)","v":{"$error":"#VALUE!"}},{"$f":"((AA265*#REF!)+(#REF!*#REF!)+(#REF!*#REF!))/(#REF!+#REF!+#REF!)","v":{"$error":"#VALUE!"}},{"$f":"((AA265*#REF!)+(#REF!*#REF!)+(#REF!*#REF!))/(#REF!+#REF!+#REF!)","v":{"$error":"#VALUE!"}},{"$f":"((AA265*#REF!)+(#REF!*#REF!)+(#REF!*#REF!))/(#REF!+#REF!+#REF!)","v":{"$error":"#VALUE!"}}]
[null,null,null,null,null,null,null,null,null,null,null,null,null,null,null,null,null,null,null,null,null,264,{"$error":"#VALUE!"},{"$f":"AVERAGE($W$3:W266)","v":{"$error":"#VALUE!"}},null,{"$error":"#VALUE!"},{"$error":"#VALUE!"},{"$f":"AVERAGE($AA$3:AA266)","v":{"$error":"#VALUE!"}},null,null,null,{"$f":"((AA266*#REF!)+(#REF!*#REF!)+(#REF!*#REF!))/(#REF!+#REF!+#REF!)","v":{"$error":"#VALUE!"}},{"$f":"((AA266*#REF!)+(#REF!*#REF!)+(#REF!*#REF!))/(#REF!+#REF!+#REF!)","v":{"$error":"#VALUE!"}},{"$f":"((AA266*#REF!)+(#REF!*#REF!)+(#REF!*#REF!))/(#REF!+#REF!+#REF!)","v":{"$error":"#VALUE!"}},{"$f":"((AA266*#REF!)+(#REF!*#REF!)+(#REF!*#REF!))/(#REF!+#REF!+#REF!)","v":{"$error":"#VALUE!"}},{"$f":"((AA266*#REF!)+(#REF!*#REF!)+(#REF!*#REF!))/(#REF!+#REF!+#REF!)","v":{"$error":"#VALUE!"}},{"$f":"((AA266*#REF!)+(#REF!*#REF!)+(#REF!*#REF!))/(#REF!+#REF!+#REF!)","v":{"$error":"#VALUE!"}},{"$f":"((AA266*#REF!)+(#REF!*#REF!)+(#REF!*#REF!))/(#REF!+#REF!+#REF!)","v":{"$error":"#VALUE!"}}]
[null,null,null,null,null,null,null,null,null,null,null,null,null,null,null,null,null,null,null,null,null,265,{"$error":"#VALUE!"},{"$f":"AVERAGE($W$3:W267)","v":{"$error":"#VALUE!"}},null,{"$error":"#VALUE!"},{"$error":"#VALUE!"},{"$f":"AVERAGE($AA$3:AA267)","v":{"$error":"#VALUE!"}},null,null,null,{"$f":"((AA267*#REF!)+(#REF!*#REF!)+(#REF!*#REF!))/(#REF!+#REF!+#REF!)","v":{"$error":"#VALUE!"}},{"$f":"((AA267*#REF!)+(#REF!*#REF!)+(#REF!*#REF!))/(#REF!+#REF!+#REF!)","v":{"$error":"#VALUE!"}},{"$f":"((AA267*#REF!)+(#REF!*#REF!)+(#REF!*#REF!))/(#REF!+#REF!+#REF!)","v":{"$error":"#VALUE!"}},{"$f":"((AA267*#REF!)+(#REF!*#REF!)+(#REF!*#REF!))/(#REF!+#REF!+#REF!)","v":{"$error":"#VALUE!"}},{"$f":"((AA267*#REF!)+(#REF!*#REF!)+(#REF!*#REF!))/(#REF!+#REF!+#REF!)","v":{"$error":"#VALUE!"}},{"$f":"((AA267*#REF!)+(#REF!*#REF!)+(#REF!*#REF!))/(#REF!+#REF!+#REF!)","v":{"$error":"#VALUE!"}},{"$f":"((AA267*#REF!)+(#REF!*#REF!)+(#REF!*#REF!))/(#REF!+#REF!+#REF!)","v":{"$error":"#VALUE!"}}]
[null,null,null,null,null,null,null,null,null,null,null,null,null,null,null,null,null,null,null,null,null,266,{"$error":"#VALUE!"},{"$f":"AVERAGE($W$3:W268)","v":{"$error":"#VALUE!"}},null,{"$error":"#VALUE!"},{"$error":"#VALUE!"},{"$f":"AVERAGE($AA$3:AA268)","v":{"$error":"#VALUE!"}},null,null,null,{"$f":"((AA268*#REF!)+(#REF!*#REF!)+(#REF!*#REF!))/(#REF!+#REF!+#REF!)","v":{"$error":"#VALUE!"}},{"$f":"((AA268*#REF!)+(#REF!*#REF!)+(#REF!*#REF!))/(#REF!+#REF!+#REF!)","v":{"$error":"#VALUE!"}},{"$f":"((AA268*#REF!)+(#REF!*#REF!)+(#REF!*#REF!))/(#REF!+#REF!+#REF!)","v":{"$error":"#VALUE!"}},{"$f":"((AA268*#REF!)+(#REF!*#REF!)+(#REF!*#REF!))/(#REF!+#REF!+#REF!)","v":{"$error":"#VALUE!"}},{"$f":"((AA268*#REF!)+(#REF!*#REF!)+(#REF!*#REF!))/(#REF!+#REF!+#REF!)","v":{"$error":"#VALUE!"}},{"$f":"((AA268*#REF!)+(#REF!*#REF!)+(#REF!*#REF!))/(#REF!+#REF!+#REF!)","v":{"$error":"#VALUE!"}},{"$f":"((AA268*#REF!)+(#REF!*#REF!)+(#REF!*#REF!))/(#REF!+#REF!+#REF!)","v":{"$error":"#VALUE!"}}]
[null,null,null,null,null,null,null,null,null,null,null,null,null,null,null,null,null,null,null,null,null,267,{"$error":"#VALUE!"},{"$f":"AVERAGE($W$3:W269)","v":{"$error":"#VALUE!"}},null,{"$error":"#VALUE!"},{"$error":"#VALUE!"},{"$f":"AVERAGE($AA$3:AA269)","v":{"$error":"#VALUE!"}},null,null,null,{"$f":"((AA269*#REF!)+(#REF!*#REF!)+(#REF!*#REF!))/(#REF!+#REF!+#REF!)","v":{"$error":"#VALUE!"}},{"$f":"((AA269*#REF!)+(#REF!*#REF!)+(#REF!*#REF!))/(#REF!+#REF!+#REF!)","v":{"$error":"#VALUE!"}},{"$f":"((AA269*#REF!)+(#REF!*#REF!)+(#REF!*#REF!))/(#REF!+#REF!+#REF!)","v":{"$error":"#VALUE!"}},{"$f":"((AA269*#REF!)+(#REF!*#REF!)+(#REF!*#REF!))/(#REF!+#REF!+#REF!)","v":{"$error":"#VALUE!"}},{"$f":"((AA269*#REF!)+(#REF!*#REF!)+(#REF!*#REF!))/(#REF!+#REF!+#REF!)","v":{"$error":"#VALUE!"}},{"$f":"((AA269*#REF!)+(#REF!*#REF!)+(#REF!*#REF!))/(#REF!+#REF!+#REF!)","v":{"$error":"#VALUE!"}},{"$f":"((AA269*#REF!)+(#REF!*#REF!)+(#REF!*#REF!))/(#REF!+#REF!+#REF!)","v":{"$error":"#VALUE!"}}]
[null,null,null,null,null,null,null,null,null,null,null,null,null,null,null,null,null,null,null,null,null,268,{"$error":"#VALUE!"},{"$f":"AVERAGE($W$3:W270)","v":{"$error":"#VALUE!"}},null,{"$error":"#VALUE!"},{"$error":"#VALUE!"},{"$f":"AVERAGE($AA$3:AA270)","v":{"$error":"#VALUE!"}},null,null,null,{"$f":"((AA270*#REF!)+(#REF!*#REF!)+(#REF!*#REF!))/(#REF!+#REF!+#REF!)","v":{"$error":"#VALUE!"}},{"$f":"((AA270*#REF!)+(#REF!*#REF!)+(#REF!*#REF!))/(#REF!+#REF!+#REF!)","v":{"$error":"#VALUE!"}},{"$f":"((AA270*#REF!)+(#REF!*#REF!)+(#REF!*#REF!))/(#REF!+#REF!+#REF!)","v":{"$error":"#VALUE!"}},{"$f":"((AA270*#REF!)+(#REF!*#REF!)+(#REF!*#REF!))/(#REF!+#REF!+#REF!)","v":{"$error":"#VALUE!"}},{"$f":"((AA270*#REF!)+(#REF!*#REF!)+(#REF!*#REF!))/(#REF!+#REF!+#REF!)","v":{"$error":"#VALUE!"}},{"$f":"((AA270*#REF!)+(#REF!*#REF!)+(#REF!*#REF!))/(#REF!+#REF!+#REF!)","v":{"$error":"#VALUE!"}},{"$f":"((AA270*#REF!)+(#REF!*#REF!)+(#REF!*#REF!))/(#REF!+#REF!+#REF!)","v":{"$error":"#VALUE!"}}]
[null,null,null,null,null,null,null,null,null,null,null,null,null,null,null,null,null,null,null,null,null,269,{"$error":"#VALUE!"},{"$f":"AVERAGE($W$3:W271)","v":{"$error":"#VALUE!"}},null,{"$error":"#VALUE!"},{"$error":"#VALUE!"},{"$f":"AVERAGE($AA$3:AA271)","v":{"$error":"#VALUE!"}},null,null,null,{"$f":"((AA271*#REF!)+(#REF!*#REF!)+(#REF!*#REF!))/(#REF!+#REF!+#REF!)","v":{"$error":"#VALUE!"}},{"$f":"((AA271*#REF!)+(#REF!*#REF!)+(#REF!*#REF!))/(#REF!+#REF!+#REF!)","v":{"$error":"#VALUE!"}},{"$f":"((AA271*#REF!)+(#REF!*#REF!)+(#REF!*#REF!))/(#REF!+#REF!+#REF!)","v":{"$error":"#VALUE!"}},{"$f":"((AA271*#REF!)+(#REF!*#REF!)+(#REF!*#REF!))/(#REF!+#REF!+#REF!)","v":{"$error":"#VALUE!"}},{"$f":"((AA271*#REF!)+(#REF!*#REF!)+(#REF!*#REF!))/(#REF!+#REF!+#REF!)","v":{"$error":"#VALUE!"}},{"$f":"((AA271*#REF!)+(#REF!*#REF!)+(#REF!*#REF!))/(#REF!+#REF!+#REF!)","v":{"$error":"#VALUE!"}},{"$f":"((AA271*#REF!)+(#REF!*#REF!)+(#REF!*#REF!))/(#REF!+#REF!+#REF!)","v":{"$error":"#VALUE!"}}]
[null,null,null,null,null,null,null,null,null,null,null,null,null,null,null,null,null,null,null,null,null,270,{"$error":"#VALUE!"},{"$f":"AVERAGE($W$3:W272)","v":{"$error":"#VALUE!"}},null,{"$error":"#VALUE!"},{"$error":"#VALUE!"},{"$f":"AVERAGE($AA$3:AA272)","v":{"$error":"#VALUE!"}},null,null,null,{"$f":"((AA272*#REF!)+(#REF!*#REF!)+(#REF!*#REF!))/(#REF!+#REF!+#REF!)","v":{"$error":"#VALUE!"}},{"$f":"((AA272*#REF!)+(#REF!*#REF!)+(#REF!*#REF!))/(#REF!+#REF!+#REF!)","v":{"$error":"#VALUE!"}},{"$f":"((AA272*#REF!)+(#REF!*#REF!)+(#REF!*#REF!))/(#REF!+#REF!+#REF!)","v":{"$error":"#VALUE!"}},{"$f":"((AA272*#REF!)+(#REF!*#REF!)+(#REF!*#REF!))/(#REF!+#REF!+#REF!)","v":{"$error":"#VALUE!"}},{"$f":"((AA272*#REF!)+(#REF!*#REF!)+(#REF!*#REF!))/(#REF!+#REF!+#REF!)","v":{"$error":"#VALUE!"}},{"$f":"((AA272*#REF!)+(#REF!*#REF!)+(#REF!*#REF!))/(#REF!+#REF!+#REF!)","v":{"$error":"#VALUE!"}},{"$f":"((AA272*#REF!)+(#REF!*#REF!)+(#REF!*#REF!))/(#REF!+#REF!+#REF!)","v":{"$error":"#VALUE!"}}]
[null,null,null,null,null,null,null,null,null,null,null,null,null,null,null,null,null,null,null,null,null,271,{"$error":"#VALUE!"},{"$f":"AVERAGE($W$3:W273)","v":{"$error":"#VALUE!"}},null,{"$error":"#VALUE!"},{"$error":"#VALUE!"},{"$f":"AVERAGE($AA$3:AA273)","v":{"$error":"#VALUE!"}},null,null,null,{"$f":"((AA273*#REF!)+(#REF!*#REF!)+(#REF!*#REF!))/(#REF!+#REF!+#REF!)","v":{"$error":"#VALUE!"}},{"$f":"((AA273*#REF!)+(#REF!*#REF!)+(#REF!*#REF!))/(#REF!+#REF!+#REF!)","v":{"$error":"#VALUE!"}},{"$f":"((AA273*#REF!)+(#REF!*#REF!)+(#REF!*#REF!))/(#REF!+#REF!+#REF!)","v":{"$error":"#VALUE!"}},{"$f":"((AA273*#REF!)+(#REF!*#REF!)+(#REF!*#REF!))/(#REF!+#REF!+#REF!)","v":{"$error":"#VALUE!"}},{"$f":"((AA273*#REF!)+(#REF!*#REF!)+(#REF!*#REF!))/(#REF!+#REF!+#REF!)","v":{"$error":"#VALUE!"}},{"$f":"((AA273*#REF!)+(#REF!*#REF!)+(#REF!*#REF!))/(#REF!+#REF!+#REF!)","v":{"$error":"#VALUE!"}},{"$f":"((AA273*#REF!)+(#REF!*#REF!)+(#REF!*#REF!))/(#REF!+#REF!+#REF!)","v":{"$error":"#VALUE!"}}]
[null,null,null,null,null,null,null,null,null,null,null,null,null,null,null,null,null,null,null,null,null,272,{"$error":"#VALUE!"},{"$f":"AVERAGE($W$3:W274)","v":{"$error":"#VALUE!"}},null,{"$error":"#VALUE!"},{"$error":"#VALUE!"},{"$f":"AVERAGE($AA$3:AA274)","v":{"$error":"#VALUE!"}},null,null,null,{"$f":"((AA274*#REF!)+(#REF!*#REF!)+(#REF!*#REF!))/(#REF!+#REF!+#REF!)","v":{"$error":"#VALUE!"}},{"$f":"((AA274*#REF!)+(#REF!*#REF!)+(#REF!*#REF!))/(#REF!+#REF!+#REF!)","v":{"$error":"#VALUE!"}},{"$f":"((AA274*#REF!)+(#REF!*#REF!)+(#REF!*#REF!))/(#REF!+#REF!+#REF!)","v":{"$error":"#VALUE!"}},{"$f":"((AA274*#REF!)+(#REF!*#REF!)+(#REF!*#REF!))/(#REF!+#REF!+#REF!)","v":{"$error":"#VALUE!"}},{"$f":"((AA274*#REF!)+(#REF!*#REF!)+(#REF!*#REF!))/(#REF!+#REF!+#REF!)","v":{"$error":"#VALUE!"}},{"$f":"((AA274*#REF!)+(#REF!*#REF!)+(#REF!*#REF!))/(#REF!+#REF!+#REF!)","v":{"$error":"#VALUE!"}},{"$f":"((AA274*#REF!)+(#REF!*#REF!)+(#REF!*#REF!))/(#REF!+#REF!+#REF!)","v":{"$error":"#VALUE!"}}]
[null,null,null,null,null,null,null,null,null,null,null,null,null,null,null,null,null,null,null,null,null,273,{"$error":"#VALUE!"},{"$f":"AVERAGE($W$3:W275)","v":{"$error":"#VALUE!"}},null,{"$error":"#VALUE!"},{"$error":"#VALUE!"},{"$f":"AVERAGE($AA$3:AA275)","v":{"$error":"#VALUE!"}},null,null,null,{"$f":"((AA275*#REF!)+(#REF!*#REF!)+(#REF!*#REF!))/(#REF!+#REF!+#REF!)","v":{"$error":"#VALUE!"}},{"$f":"((AA275*#REF!)+(#REF!*#REF!)+(#REF!*#REF!))/(#REF!+#REF!+#REF!)","v":{"$error":"#VALUE!"}},{"$f":"((AA275*#REF!)+(#REF!*#REF!)+(#REF!*#REF!))/(#REF!+#REF!+#REF!)","v":{"$error":"#VALUE!"}},{"$f":"((AA275*#REF!)+(#REF!*#REF!)+(#REF!*#REF!))/(#REF!+#REF!+#REF!)","v":{"$error":"#VALUE!"}},{"$f":"((AA275*#REF!)+(#REF!*#REF!)+(#REF!*#REF!))/(#REF!+#REF!+#REF!)","v":{"$error":"#VALUE!"}},{"$f":"((AA275*#REF!)+(#REF!*#REF!)+(#REF!*#REF!))/(#REF!+#REF!+#REF!)","v":{"$error":"#VALUE!"}},{"$f":"((AA275*#REF!)+(#REF!*#REF!)+(#REF!*#REF!))/(#REF!+#REF!+#REF!)","v":{"$error":"#VALUE!"}}]
[null,null,null,null,null,null,null,null,null,null,null,null,null,null,null,null,null,null,null,null,null,274,{"$error":"#VALUE!"},{"$f":"AVERAGE($W$3:W276)","v":{"$error":"#VALUE!"}},null,{"$error":"#VALUE!"},{"$error":"#VALUE!"},{"$f":"AVERAGE($AA$3:AA276)","v":{"$error":"#VALUE!"}},null,null,null,{"$f":"((AA276*#REF!)+(#REF!*#REF!)+(#REF!*#REF!))/(#REF!+#REF!+#REF!)","v":{"$error":"#VALUE!"}},{"$f":"((AA276*#REF!)+(#REF!*#REF!)+(#REF!*#REF!))/(#REF!+#REF!+#REF!)","v":{"$error":"#VALUE!"}},{"$f":"((AA276*#REF!)+(#REF!*#REF!)+(#REF!*#REF!))/(#REF!+#REF!+#REF!)","v":{"$error":"#VALUE!"}},{"$f":"((AA276*#REF!)+(#REF!*#REF!)+(#REF!*#REF!))/(#REF!+#REF!+#REF!)","v":{"$error":"#VALUE!"}},{"$f":"((AA276*#REF!)+(#REF!*#REF!)+(#REF!*#REF!))/(#REF!+#REF!+#REF!)","v":{"$error":"#VALUE!"}},{"$f":"((AA276*#REF!)+(#REF!*#REF!)+(#REF!*#REF!))/(#REF!+#REF!+#REF!)","v":{"$error":"#VALUE!"}},{"$f":"((AA276*#REF!)+(#REF!*#REF!)+(#REF!*#REF!))/(#REF!+#REF!+#REF!)","v":{"$error":"#VALUE!"}}]
[null,null,null,null,null,null,null,null,null,null,null,null,null,null,null,null,null,null,null,null,null,275,{"$error":"#VALUE!"},{"$f":"AVERAGE($W$3:W277)","v":{"$error":"#VALUE!"}},null,{"$error":"#VALUE!"},{"$error":"#VALUE!"},{"$f":"AVERAGE($AA$3:AA277)","v":{"$error":"#VALUE!"}},null,null,null,{"$f":"((AA277*#REF!)+(#REF!*#REF!)+(#REF!*#REF!))/(#REF!+#REF!+#REF!)","v":{"$error":"#VALUE!"}},{"$f":"((AA277*#REF!)+(#REF!*#REF!)+(#REF!*#REF!))/(#REF!+#REF!+#REF!)","v":{"$error":"#VALUE!"}},{"$f":"((AA277*#REF!)+(#REF!*#REF!)+(#REF!*#REF!))/(#REF!+#REF!+#REF!)","v":{"$error":"#VALUE!"}},{"$f":"((AA277*#REF!)+(#REF!*#REF!)+(#REF!*#REF!))/(#REF!+#REF!+#REF!)","v":{"$error":"#VALUE!"}},{"$f":"((AA277*#REF!)+(#REF!*#REF!)+(#REF!*#REF!))/(#REF!+#REF!+#REF!)","v":{"$error":"#VALUE!"}},{"$f":"((AA277*#REF!)+(#REF!*#REF!)+(#REF!*#REF!))/(#REF!+#REF!+#REF!)","v":{"$error":"#VALUE!"}},{"$f":"((AA277*#REF!)+(#REF!*#REF!)+(#REF!*#REF!))/(#REF!+#REF!+#REF!)","v":{"$error":"#VALUE!"}}]
[null,null,null,null,null,null,null,null,null,null,null,null,null,null,null,null,null,null,null,null,null,276,{"$error":"#VALUE!"},{"$f":"AVERAGE($W$3:W278)","v":{"$error":"#VALUE!"}},null,{"$error":"#VALUE!"},{"$error":"#VALUE!"},{"$f":"AVERAGE($AA$3:AA278)","v":{"$error":"#VALUE!"}},null,null,null,{"$f":"((AA278*#REF!)+(#REF!*#REF!)+(#REF!*#REF!))/(#REF!+#REF!+#REF!)","v":{"$error":"#VALUE!"}},{"$f":"((AA278*#REF!)+(#REF!*#REF!)+(#REF!*#REF!))/(#REF!+#REF!+#REF!)","v":{"$error":"#VALUE!"}},{"$f":"((AA278*#REF!)+(#REF!*#REF!)+(#REF!*#REF!))/(#REF!+#REF!+#REF!)","v":{"$error":"#VALUE!"}},{"$f":"((AA278*#REF!)+(#REF!*#REF!)+(#REF!*#REF!))/(#REF!+#REF!+#REF!)","v":{"$error":"#VALUE!"}},{"$f":"((AA278*#REF!)+(#REF!*#REF!)+(#REF!*#REF!))/(#REF!+#REF!+#REF!)","v":{"$error":"#VALUE!"}},{"$f":"((AA278*#REF!)+(#REF!*#REF!)+(#REF!*#REF!))/(#REF!+#REF!+#REF!)","v":{"$error":"#VALUE!"}},{"$f":"((AA278*#REF!)+(#REF!*#REF!)+(#REF!*#REF!))/(#REF!+#REF!+#REF!)","v":{"$error":"#VALUE!"}}]
[null,null,null,null,null,null,null,null,null,null,null,null,null,null,null,null,null,null,null,null,null,277,{"$error":"#VALUE!"},{"$f":"AVERAGE($W$3:W279)","v":{"$error":"#VALUE!"}},null,{"$error":"#VALUE!"},{"$error":"#VALUE!"},{"$f":"AVERAGE($AA$3:AA279)","v":{"$error":"#VALUE!"}},null,null,null,{"$f":"((AA279*#REF!)+(#REF!*#REF!)+(#REF!*#REF!))/(#REF!+#REF!+#REF!)","v":{"$error":"#VALUE!"}},{"$f":"((AA279*#REF!)+(#REF!*#REF!)+(#REF!*#REF!))/(#REF!+#REF!+#REF!)","v":{"$error":"#VALUE!"}},{"$f":"((AA279*#REF!)+(#REF!*#REF!)+(#REF!*#REF!))/(#REF!+#REF!+#REF!)","v":{"$error":"#VALUE!"}},{"$f":"((AA279*#REF!)+(#REF!*#REF!)+(#REF!*#REF!))/(#REF!+#REF!+#REF!)","v":{"$error":"#VALUE!"}},{"$f":"((AA279*#REF!)+(#REF!*#REF!)+(#REF!*#REF!))/(#REF!+#REF!+#REF!)","v":{"$error":"#VALUE!"}},{"$f":"((AA279*#REF!)+(#REF!*#REF!)+(#REF!*#REF!))/(#REF!+#REF!+#REF!)","v":{"$error":"#VALUE!"}},{"$f":"((AA279*#REF!)+(#REF!*#REF!)+(#REF!*#REF!))/(#REF!+#REF!+#REF!)","v":{"$error":"#VALUE!"}}]
[null,null,null,null,null,null,null,null,null,null,null,null,null,null,null,null,null,null,null,null,null,278,{"$error":"#VALUE!"},{"$f":"AVERAGE($W$3:W280)","v":{"$error":"#VALUE!"}},null,{"$error":"#VALUE!"},{"$error":"#VALUE!"},{"$f":"AVERAGE($AA$3:AA280)","v":{"$error":"#VALUE!"}},null,null,null,{"$f":"((AA280*#REF!)+(#REF!*#REF!)+(#REF!*#REF!))/(#REF!+#REF!+#REF!)","v":{"$error":"#VALUE!"}},{"$f":"((AA280*#REF!)+(#REF!*#REF!)+(#REF!*#REF!))/(#REF!+#REF!+#REF!)","v":{"$error":"#VALUE!"}},{"$f":"((AA280*#REF!)+(#REF!*#REF!)+(#REF!*#REF!))/(#REF!+#REF!+#REF!)","v":{"$error":"#VALUE!"}},{"$f":"((AA280*#REF!)+(#REF!*#REF!)+(#REF!*#REF!))/(#REF!+#REF!+#REF!)","v":{"$error":"#VALUE!"}},{"$f":"((AA280*#REF!)+(#REF!*#REF!)+(#REF!*#REF!))/(#REF!+#REF!+#REF!)","v":{"$error":"#VALUE!"}},{"$f":"((AA280*#REF!)+(#REF!*#REF!)+(#REF!*#REF!))/(#REF!+#REF!+#REF!)","v":{"$error":"#VALUE!"}},{"$f":"((AA280*#REF!)+(#REF!*#REF!)+(#REF!*#REF!))/(#REF!+#REF!+#REF!)","v":{"$error":"#VALUE!"}}]
[null,null,null,null,null,null,null,null,null,null,null,null,null,null,null,null,null,null,null,null,null,279,{"$error":"#VALUE!"},{"$f":"AVERAGE($W$3:W281)","v":{"$error":"#VALUE!"}},null,{"$error":"#VALUE!"},{"$error":"#VALUE!"},{"$f":"AVERAGE($AA$3:AA281)","v":{"$error":"#VALUE!"}},null,null,null,{"$f":"((AA281*#REF!)+(#REF!*#REF!)+(#REF!*#REF!))/(#REF!+#REF!+#REF!)","v":{"$error":"#VALUE!"}},{"$f":"((AA281*#REF!)+(#REF!*#REF!)+(#REF!*#REF!))/(#REF!+#REF!+#REF!)","v":{"$error":"#VALUE!"}},{"$f":"((AA281*#REF!)+(#REF!*#REF!)+(#REF!*#REF!))/(#REF!+#REF!+#REF!)","v":{"$error":"#VALUE!"}},{"$f":"((AA281*#REF!)+(#REF!*#REF!)+(#REF!*#REF!))/(#REF!+#REF!+#REF!)","v":{"$error":"#VALUE!"}},{"$f":"((AA281*#REF!)+(#REF!*#REF!)+(#REF!*#REF!))/(#REF!+#REF!+#REF!)","v":{"$error":"#VALUE!"}},{"$f":"((AA281*#REF!)+(#REF!*#REF!)+(#REF!*#REF!))/(#REF!+#REF!+#REF!)","v":{"$error":"#VALUE!"}},{"$f":"((AA281*#REF!)+(#REF!*#REF!)+(#REF!*#REF!))/(#REF!+#REF!+#REF!)","v":{"$error":"#VALUE!"}}]
[null,null,null,null,null,null,null,null,null,null,null,null,null,null,null,null,null,null,null,null,null,280,{"$error":"#VALUE!"},{"$f":"AVERAGE($W$3:W282)","v":{"$error":"#VALUE!"}},null,{"$error":"#VALUE!"},{"$error":"#VALUE!"},{"$f":"AVERAGE($AA$3:AA282)","v":{"$error":"#VALUE!"}},null,null,null,{"$f":"((AA282*#REF!)+(#REF!*#REF!)+(#REF!*#REF!))/(#REF!+#REF!+#REF!)","v":{"$error":"#VALUE!"}},{"$f":"((AA282*#REF!)+(#REF!*#REF!)+(#REF!*#REF!))/(#REF!+#REF!+#REF!)","v":{"$error":"#VALUE!"}},{"$f":"((AA282*#REF!)+(#REF!*#REF!)+(#REF!*#REF!))/(#REF!+#REF!+#REF!)","v":{"$error":"#VALUE!"}},{"$f":"((AA282*#REF!)+(#REF!*#REF!)+(#REF!*#REF!))/(#REF!+#REF!+#REF!)","v":{"$error":"#VALUE!"}},{"$f":"((AA282*#REF!)+(#REF!*#REF!)+(#REF!*#REF!))/(#REF!+#REF!+#REF!)","v":{"$error":"#VALUE!"}},{"$f":"((AA282*#REF!)+(#REF!*#REF!)+(#REF!*#REF!))/(#REF!+#REF!+#REF!)","v":{"$error":"#VALUE!"}},{"$f":"((AA282*#REF!)+(#REF!*#REF!)+(#REF!*#REF!))/(#REF!+#REF!+#REF!)","v":{"$error":"#VALUE!"}}]
[null,null,null,null,null,null,null,null,null,null,null,null,null,null,null,null,null,null,null,null,null,281,{"$error":"#VALUE!"},{"$f":"AVERAGE($W$3:W283)","v":{"$error":"#VALUE!"}},null,{"$error":"#VALUE!"},{"$error":"#VALUE!"},{"$f":"AVERAGE($AA$3:AA283)","v":{"$error":"#VALUE!"}},null,null,null,{"$f":"((AA283*#REF!)+(#REF!*#REF!)+(#REF!*#REF!))/(#REF!+#REF!+#REF!)","v":{"$error":"#VALUE!"}},{"$f":"((AA283*#REF!)+(#REF!*#REF!)+(#REF!*#REF!))/(#REF!+#REF!+#REF!)","v":{"$error":"#VALUE!"}},{"$f":"((AA283*#REF!)+(#REF!*#REF!)+(#REF!*#REF!))/(#REF!+#REF!+#REF!)","v":{"$error":"#VALUE!"}},{"$f":"((AA283*#REF!)+(#REF!*#REF!)+(#REF!*#REF!))/(#REF!+#REF!+#REF!)","v":{"$error":"#VALUE!"}},{"$f":"((AA283*#REF!)+(#REF!*#REF!)+(#REF!*#REF!))/(#REF!+#REF!+#REF!)","v":{"$error":"#VALUE!"}},{"$f":"((AA283*#REF!)+(#REF!*#REF!)+(#REF!*#REF!))/(#REF!+#REF!+#REF!)","v":{"$error":"#VALUE!"}},{"$f":"((AA283*#REF!)+(#REF!*#REF!)+(#REF!*#REF!))/(#REF!+#REF!+#REF!)","v":{"$error":"#VALUE!"}}]
[null,null,null,null,null,null,null,null,null,null,null,null,null,null,null,null,null,null,null,null,null,282,{"$error":"#VALUE!"},{"$f":"AVERAGE($W$3:W284)","v":{"$error":"#VALUE!"}},null,{"$error":"#VALUE!"},{"$error":"#VALUE!"},{"$f":"AVERAGE($AA$3:AA284)","v":{"$error":"#VALUE!"}},null,null,null,{"$f":"((AA284*#REF!)+(#REF!*#REF!)+(#REF!*#REF!))/(#REF!+#REF!+#REF!)","v":{"$error":"#VALUE!"}},{"$f":"((AA284*#REF!)+(#REF!*#REF!)+(#REF!*#REF!))/(#REF!+#REF!+#REF!)","v":{"$error":"#VALUE!"}},{"$f":"((AA284*#REF!)+(#REF!*#REF!)+(#REF!*#REF!))/(#REF!+#REF!+#REF!)","v":{"$error":"#VALUE!"}},{"$f":"((AA284*#REF!)+(#REF!*#REF!)+(#REF!*#REF!))/(#REF!+#REF!+#REF!)","v":{"$error":"#VALUE!"}},{"$f":"((AA284*#REF!)+(#REF!*#REF!)+(#REF!*#REF!))/(#REF!+#REF!+#REF!)","v":{"$error":"#VALUE!"}},{"$f":"((AA284*#REF!)+(#REF!*#REF!)+(#REF!*#REF!))/(#REF!+#REF!+#REF!)","v":{"$error":"#VALUE!"}},{"$f":"((AA284*#REF!)+(#REF!*#REF!)+(#REF!*#REF!))/(#REF!+#REF!+#REF!)","v":{"$error":"#VALUE!"}}]
[null,null,null,null,null,null,null,null,null,null,null,null,null,null,null,null,null,null,null,null,null,283,{"$error":"#VALUE!"},{"$f":"AVERAGE($W$3:W285)","v":{"$error":"#VALUE!"}},null,{"$error":"#VALUE!"},{"$error":"#VALUE!"},{"$f":"AVERAGE($AA$3:AA285)","v":{"$error":"#VALUE!"}},null,null,null,{"$f":"((AA285*#REF!)+(#REF!*#REF!)+(#REF!*#REF!))/(#REF!+#REF!+#REF!)","v":{"$error":"#VALUE!"}},{"$f":"((AA285*#REF!)+(#REF!*#REF!)+(#REF!*#REF!))/(#REF!+#REF!+#REF!)","v":{"$error":"#VALUE!"}},{"$f":"((AA285*#REF!)+(#REF!*#REF!)+(#REF!*#REF!))/(#REF!+#REF!+#REF!)","v":{"$error":"#VALUE!"}},{"$f":"((AA285*#REF!)+(#REF!*#REF!)+(#REF!*#REF!))/(#REF!+#REF!+#REF!)","v":{"$error":"#VALUE!"}},{"$f":"((AA285*#REF!)+(#REF!*#REF!)+(#REF!*#REF!))/(#REF!+#REF!+#REF!)","v":{"$error":"#VALUE!"}},{"$f":"((AA285*#REF!)+(#REF!*#REF!)+(#REF!*#REF!))/(#REF!+#REF!+#REF!)","v":{"$error":"#VALUE!"}},{"$f":"((AA285*#REF!)+(#REF!*#REF!)+(#REF!*#REF!))/(#REF!+#REF!+#REF!)","v":{"$error":"#VALUE!"}}]
[null,null,null,null,null,null,null,null,null,null,null,null,null,null,null,null,null,null,null,null,null,284,{"$error":"#VALUE!"},{"$f":"AVERAGE($W$3:W286)","v":{"$error":"#VALUE!"}},null,{"$error":"#VALUE!"},{"$error":"#VALUE!"},{"$f":"AVERAGE($AA$3:AA286)","v":{"$error":"#VALUE!"}},null,null,null,{"$f":"((AA286*#REF!)+(#REF!*#REF!)+(#REF!*#REF!))/(#REF!+#REF!+#REF!)","v":{"$error":"#VALUE!"}},{"$f":"((AA286*#REF!)+(#REF!*#REF!)+(#REF!*#REF!))/(#REF!+#REF!+#REF!)","v":{"$error":"#VALUE!"}},{"$f":"((AA286*#REF!)+(#REF!*#REF!)+(#REF!*#REF!))/(#REF!+#REF!+#REF!)","v":{"$error":"#VALUE!"}},{"$f":"((AA286*#REF!)+(#REF!*#REF!)+(#REF!*#REF!))/(#REF!+#REF!+#REF!)","v":{"$error":"#VALUE!"}},{"$f":"((AA286*#REF!)+(#REF!*#REF!)+(#REF!*#REF!))/(#REF!+#REF!+#REF!)","v":{"$error":"#VALUE!"}},{"$f":"((AA286*#REF!)+(#REF!*#REF!)+(#REF!*#REF!))/(#REF!+#REF!+#REF!)","v":{"$error":"#VALUE!"}},{"$f":"((AA286*#REF!)+(#REF!*#REF!)+(#REF!*#REF!))/(#REF!+#REF!+#REF!)","v":{"$error":"#VALUE!"}}]
[null,null,null,null,null,null,null,null,null,null,null,null,null,null,null,null,null,null,null,null,null,285,{"$error":"#VALUE!"},{"$f":"AVERAGE($W$3:W287)","v":{"$error":"#VALUE!"}},null,{"$error":"#VALUE!"},{"$error":"#VALUE!"},{"$f":"AVERAGE($AA$3:AA287)","v":{"$error":"#VALUE!"}},null,null,null,{"$f":"((AA287*#REF!)+(#REF!*#REF!)+(#REF!*#REF!))/(#REF!+#REF!+#REF!)","v":{"$error":"#VALUE!"}},{"$f":"((AA287*#REF!)+(#REF!*#REF!)+(#REF!*#REF!))/(#REF!+#REF!+#REF!)","v":{"$error":"#VALUE!"}},{"$f":"((AA287*#REF!)+(#REF!*#REF!)+(#REF!*#REF!))/(#REF!+#REF!+#REF!)","v":{"$error":"#VALUE!"}},{"$f":"((AA287*#REF!)+(#REF!*#REF!)+(#REF!*#REF!))/(#REF!+#REF!+#REF!)","v":{"$error":"#VALUE!"}},{"$f":"((AA287*#REF!)+(#REF!*#REF!)+(#REF!*#REF!))/(#REF!+#REF!+#REF!)","v":{"$error":"#VALUE!"}},{"$f":"((AA287*#REF!)+(#REF!*#REF!)+(#REF!*#REF!))/(#REF!+#REF!+#REF!)","v":{"$error":"#VALUE!"}},{"$f":"((AA287*#REF!)+(#REF!*#REF!)+(#REF!*#REF!))/(#REF!+#REF!+#REF!)","v":{"$error":"#VALUE!"}}]
[null,null,null,null,null,null,null,null,null,null,null,null,null,null,null,null,null,null,null,null,null,286,{"$error":"#VALUE!"},{"$f":"AVERAGE($W$3:W288)","v":{"$error":"#VALUE!"}},null,{"$error":"#VALUE!"},{"$error":"#VALUE!"},{"$f":"AVERAGE($AA$3:AA288)","v":{"$error":"#VALUE!"}},null,null,null,{"$f":"((AA288*#REF!)+(#REF!*#REF!)+(#REF!*#REF!))/(#REF!+#REF!+#REF!)","v":{"$error":"#VALUE!"}},{"$f":"((AA288*#REF!)+(#REF!*#REF!)+(#REF!*#REF!))/(#REF!+#REF!+#REF!)","v":{"$error":"#VALUE!"}},{"$f":"((AA288*#REF!)+(#REF!*#REF!)+(#REF!*#REF!))/(#REF!+#REF!+#REF!)","v":{"$error":"#VALUE!"}},{"$f":"((AA288*#REF!)+(#REF!*#REF!)+(#REF!*#REF!))/(#REF!+#REF!+#REF!)","v":{"$error":"#VALUE!"}},{"$f":"((AA288*#REF!)+(#REF!*#REF!)+(#REF!*#REF!))/(#REF!+#REF!+#REF!)","v":{"$error":"#VALUE!"}},{"$f":"((AA288*#REF!)+(#REF!*#REF!)+(#REF!*#REF!))/(#REF!+#REF!+#REF!)","v":{"$error":"#VALUE!"}},{"$f":"((AA288*#REF!)+(#REF!*#REF!)+(#REF!*#REF!))/(#REF!+#REF!+#REF!)","v":{"$error":"#VALUE!"}}]
[null,null,null,null,null,null,null,null,null,null,null,null,null,null,null,null,null,null,null,null,null,287,{"$error":"#VALUE!"},{"$f":"AVERAGE($W$3:W289)","v":{"$error":"#VALUE!"}},null,{"$error":"#VALUE!"},{"$error":"#VALUE!"},{"$f":"AVERAGE($AA$3:AA289)","v":{"$error":"#VALUE!"}},null,null,null,{"$f":"((AA289*#REF!)+(#REF!*#REF!)+(#REF!*#REF!))/(#REF!+#REF!+#REF!)","v":{"$error":"#VALUE!"}},{"$f":"((AA289*#REF!)+(#REF!*#REF!)+(#REF!*#REF!))/(#REF!+#REF!+#REF!)","v":{"$error":"#VALUE!"}},{"$f":"((AA289*#REF!)+(#REF!*#REF!)+(#REF!*#REF!))/(#REF!+#REF!+#REF!)","v":{"$error":"#VALUE!"}},{"$f":"((AA289*#REF!)+(#REF!*#REF!)+(#REF!*#REF!))/(#REF!+#REF!+#REF!)","v":{"$error":"#VALUE!"}},{"$f":"((AA289*#REF!)+(#REF!*#REF!)+(#REF!*#REF!))/(#REF!+#REF!+#REF!)","v":{"$error":"#VALUE!"}},{"$f":"((AA289*#REF!)+(#REF!*#REF!)+(#REF!*#REF!))/(#REF!+#REF!+#REF!)","v":{"$error":"#VALUE!"}},{"$f":"((AA289*#REF!)+(#REF!*#REF!)+(#REF!*#REF!))/(#REF!+#REF!+#REF!)","v":{"$error":"#VALUE!"}}]
[null,null,null,null,null,null,null,null,null,null,null,null,null,null,null,null,null,null,null,null,null,288,{"$error":"#VALUE!"},{"$f":"AVERAGE($W$3:W290)","v":{"$error":"#VALUE!"}},null,{"$error":"#VALUE!"},{"$error":"#VALUE!"},{"$f":"AVERAGE($AA$3:AA290)","v":{"$error":"#VALUE!"}},null,null,null,{"$f":"((AA290*#REF!)+(#REF!*#REF!)+(#REF!*#REF!))/(#REF!+#REF!+#REF!)","v":{"$error":"#VALUE!"}},{"$f":"((AA290*#REF!)+(#REF!*#REF!)+(#REF!*#REF!))/(#REF!+#REF!+#REF!)","v":{"$error":"#VALUE!"}},{"$f":"((AA290*#REF!)+(#REF!*#REF!)+(#REF!*#REF!))/(#REF!+#REF!+#REF!)","v":{"$error":"#VALUE!"}},{"$f":"((AA290*#REF!)+(#REF!*#REF!)+(#REF!*#REF!))/(#REF!+#REF!+#REF!)","v":{"$error":"#VALUE!"}},{"$f":"((AA290*#REF!)+(#REF!*#REF!)+(#REF!*#REF!))/(#REF!+#REF!+#REF!)","v":{"$error":"#VALUE!"}},{"$f":"((AA290*#REF!)+(#REF!*#REF!)+(#REF!*#REF!))/(#REF!+#REF!+#REF!)","v":{"$error":"#VALUE!"}},{"$f":"((AA290*#REF!)+(#REF!*#REF!)+(#REF!*#REF!))/(#REF!+#REF!+#REF!)","v":{"$error":"#VALUE!"}}]
[null,null,null,null,null,null,null,null,null,null,null,null,null,null,null,null,null,null,null,null,null,289,{"$error":"#VALUE!"},{"$f":"AVERAGE($W$3:W291)","v":{"$error":"#VALUE!"}},null,{"$error":"#VALUE!"},{"$error":"#VALUE!"},{"$f":"AVERAGE($AA$3:AA291)","v":{"$error":"#VALUE!"}},null,null,null,{"$f":"((AA291*#REF!)+(#REF!*#REF!)+(#REF!*#REF!))/(#REF!+#REF!+#REF!)","v":{"$error":"#VALUE!"}},{"$f":"((AA291*#REF!)+(#REF!*#REF!)+(#REF!*#REF!))/(#REF!+#REF!+#REF!)","v":{"$error":"#VALUE!"}},{"$f":"((AA291*#REF!)+(#REF!*#REF!)+(#REF!*#REF!))/(#REF!+#REF!+#REF!)","v":{"$error":"#VALUE!"}},{"$f":"((AA291*#REF!)+(#REF!*#REF!)+(#REF!*#REF!))/(#REF!+#REF!+#REF!)","v":{"$error":"#VALUE!"}},{"$f":"((AA291*#REF!)+(#REF!*#REF!)+(#REF!*#REF!))/(#REF!+#REF!+#REF!)","v":{"$error":"#VALUE!"}},{"$f":"((AA291*#REF!)+(#REF!*#REF!)+(#REF!*#REF!))/(#REF!+#REF!+#REF!)","v":{"$error":"#VALUE!"}},{"$f":"((AA291*#REF!)+(#REF!*#REF!)+(#REF!*#REF!))/(#REF!+#REF!+#REF!)","v":{"$error":"#VALUE!"}}]
[null,null,null,null,null,null,null,null,null,null,null,null,null,null,null,null,null,null,null,null,null,290,{"$error":"#VALUE!"},{"$f":"AVERAGE($W$3:W292)","v":{"$error":"#VALUE!"}},null,{"$error":"#VALUE!"},{"$error":"#VALUE!"},{"$f":"AVERAGE($AA$3:AA292)","v":{"$error":"#VALUE!"}},null,null,null,{"$f":"((AA292*#REF!)+(#REF!*#REF!)+(#REF!*#REF!))/(#REF!+#REF!+#REF!)","v":{"$error":"#VALUE!"}},{"$f":"((AA292*#REF!)+(#REF!*#REF!)+(#REF!*#REF!))/(#REF!+#REF!+#REF!)","v":{"$error":"#VALUE!"}},{"$f":"((AA292*#REF!)+(#REF!*#REF!)+(#REF!*#REF!))/(#REF!+#REF!+#REF!)","v":{"$error":"#VALUE!"}},{"$f":"((AA292*#REF!)+(#REF!*#REF!)+(#REF!*#REF!))/(#REF!+#REF!+#REF!)","v":{"$error":"#VALUE!"}},{"$f":"((AA292*#REF!)+(#REF!*#REF!)+(#REF!*#REF!))/(#REF!+#REF!+#REF!)","v":{"$error":"#VALUE!"}},{"$f":"((AA292*#REF!)+(#REF!*#REF!)+(#REF!*#REF!))/(#REF!+#REF!+#REF!)","v":{"$error":"#VALUE!"}},{"$f":"((AA292*#REF!)+(#REF!*#REF!)+(#REF!*#REF!))/(#REF!+#REF!+#REF!)","v":{"$error":"#VALUE!"}}]
[null,null,null,null,null,null,null,null,null,null,null,null,null,null,null,null,null,null,null,null,null,291,{"$error":"#VALUE!"},{"$f":"AVERAGE($W$3:W293)","v":{"$error":"#VALUE!"}},null,{"$error":"#VALUE!"},{"$error":"#VALUE!"},{"$f":"AVERAGE($AA$3:AA293)","v":{"$error":"#VALUE!"}},null,null,null,{"$f":"((AA293*#REF!)+(#REF!*#REF!)+(#REF!*#REF!))/(#REF!+#REF!+#REF!)","v":{"$error":"#VALUE!"}},{"$f":"((AA293*#REF!)+(#REF!*#REF!)+(#REF!*#REF!))/(#REF!+#REF!+#REF!)","v":{"$error":"#VALUE!"}},{"$f":"((AA293*#REF!)+(#REF!*#REF!)+(#REF!*#REF!))/(#REF!+#REF!+#REF!)","v":{"$error":"#VALUE!"}},{"$f":"((AA293*#REF!)+(#REF!*#REF!)+(#REF!*#REF!))/(#REF!+#REF!+#REF!)","v":{"$error":"#VALUE!"}},{"$f":"((AA293*#REF!)+(#REF!*#REF!)+(#REF!*#REF!))/(#REF!+#REF!+#REF!)","v":{"$error":"#VALUE!"}},{"$f":"((AA293*#REF!)+(#REF!*#REF!)+(#REF!*#REF!))/(#REF!+#REF!+#REF!)","v":{"$error":"#VALUE!"}},{"$f":"((AA293*#REF!)+(#REF!*#REF!)+(#REF!*#REF!))/(#REF!+#REF!+#REF!)","v":{"$error":"#VALUE!"}}]
[null,null,null,null,null,null,null,null,null,null,null,null,null,null,null,null,null,null,null,null,null,292,{"$error":"#VALUE!"},{"$f":"AVERAGE($W$3:W294)","v":{"$error":"#VALUE!"}},null,{"$error":"#VALUE!"},{"$error":"#VALUE!"},{"$f":"AVERAGE($AA$3:AA294)","v":{"$error":"#VALUE!"}},null,null,null,{"$f":"((AA294*#REF!)+(#REF!*#REF!)+(#REF!*#REF!))/(#REF!+#REF!+#REF!)","v":{"$error":"#VALUE!"}},{"$f":"((AA294*#REF!)+(#REF!*#REF!)+(#REF!*#REF!))/(#REF!+#REF!+#REF!)","v":{"$error":"#VALUE!"}},{"$f":"((AA294*#REF!)+(#REF!*#REF!)+(#REF!*#REF!))/(#REF!+#REF!+#REF!)","v":{"$error":"#VALUE!"}},{"$f":"((AA294*#REF!)+(#REF!*#REF!)+(#REF!*#REF!))/(#REF!+#REF!+#REF!)","v":{"$error":"#VALUE!"}},{"$f":"((AA294*#REF!)+(#REF!*#REF!)+(#REF!*#REF!))/(#REF!+#REF!+#REF!)","v":{"$error":"#VALUE!"}},{"$f":"((AA294*#REF!)+(#REF!*#REF!)+(#REF!*#REF!))/(#REF!+#REF!+#REF!)","v":{"$error":"#VALUE!"}},{"$f":"((AA294*#REF!)+(#REF!*#REF!)+(#REF!*#REF!))/(#REF!+#REF!+#REF!)","v":{"$error":"#VALUE!"}}]
[null,null,null,null,null,null,null,null,null,null,null,null,null,null,null,null,null,null,null,null,null,293,{"$error":"#VALUE!"},{"$f":"AVERAGE($W$3:W295)","v":{"$error":"#VALUE!"}},null,{"$error":"#VALUE!"},{"$error":"#VALUE!"},{"$f":"AVERAGE($AA$3:AA295)","v":{"$error":"#VALUE!"}},null,null,null,{"$f":"((AA295*#REF!)+(#REF!*#REF!)+(#REF!*#REF!))/(#REF!+#REF!+#REF!)","v":{"$error":"#VALUE!"}},{"$f":"((AA295*#REF!)+(#REF!*#REF!)+(#REF!*#REF!))/(#REF!+#REF!+#REF!)","v":{"$error":"#VALUE!"}},{"$f":"((AA295*#REF!)+(#REF!*#REF!)+(#REF!*#REF!))/(#REF!+#REF!+#REF!)","v":{"$error":"#VALUE!"}},{"$f":"((AA295*#REF!)+(#REF!*#REF!)+(#REF!*#REF!))/(#REF!+#REF!+#REF!)","v":{"$error":"#VALUE!"}},{"$f":"((AA295*#REF!)+(#REF!*#REF!)+(#REF!*#REF!))/(#REF!+#REF!+#REF!)","v":{"$error":"#VALUE!"}},{"$f":"((AA295*#REF!)+(#REF!*#REF!)+(#REF!*#REF!))/(#REF!+#REF!+#REF!)","v":{"$error":"#VALUE!"}},{"$f":"((AA295*#REF!)+(#REF!*#REF!)+(#REF!*#REF!))/(#REF!+#REF!+#REF!)","v":{"$error":"#VALUE!"}}]
[null,null,null,null,null,null,null,null,null,null,null,null,null,null,null,null,null,null,null,null,null,294,{"$error":"#VALUE!"},{"$f":"AVERAGE($W$3:W296)","v":{"$error":"#VALUE!"}},null,{"$error":"#VALUE!"},{"$error":"#VALUE!"},{"$f":"AVERAGE($AA$3:AA296)","v":{"$error":"#VALUE!"}},null,null,null,{"$f":"((AA296*#REF!)+(#REF!*#REF!)+(#REF!*#REF!))/(#REF!+#REF!+#REF!)","v":{"$error":"#VALUE!"}},{"$f":"((AA296*#REF!)+(#REF!*#REF!)+(#REF!*#REF!))/(#REF!+#REF!+#REF!)","v":{"$error":"#VALUE!"}},{"$f":"((AA296*#REF!)+(#REF!*#REF!)+(#REF!*#REF!))/(#REF!+#REF!+#REF!)","v":{"$error":"#VALUE!"}},{"$f":"((AA296*#REF!)+(#REF!*#REF!)+(#REF!*#REF!))/(#REF!+#REF!+#REF!)","v":{"$error":"#VALUE!"}},{"$f":"((AA296*#REF!)+(#REF!*#REF!)+(#REF!*#REF!))/(#REF!+#REF!+#REF!)","v":{"$error":"#VALUE!"}},{"$f":"((AA296*#REF!)+(#REF!*#REF!)+(#REF!*#REF!))/(#REF!+#REF!+#REF!)","v":{"$error":"#VALUE!"}},{"$f":"((AA296*#REF!)+(#REF!*#REF!)+(#REF!*#REF!))/(#REF!+#REF!+#REF!)","v":{"$error":"#VALUE!"}}]
[null,null,null,null,null,null,null,null,null,null,null,null,null,null,null,null,null,null,null,null,null,295,{"$error":"#VALUE!"},{"$f":"AVERAGE($W$3:W297)","v":{"$error":"#VALUE!"}},null,{"$error":"#VALUE!"},{"$error":"#VALUE!"},{"$f":"AVERAGE($AA$3:AA297)","v":{"$error":"#VALUE!"}},null,null,null,{"$f":"((AA297*#REF!)+(#REF!*#REF!)+(#REF!*#REF!))/(#REF!+#REF!+#REF!)","v":{"$error":"#VALUE!"}},{"$f":"((AA297*#REF!)+(#REF!*#REF!)+(#REF!*#REF!))/(#REF!+#REF!+#REF!)","v":{"$error":"#VALUE!"}},{"$f":"((AA297*#REF!)+(#REF!*#REF!)+(#REF!*#REF!))/(#REF!+#REF!+#REF!)","v":{"$error":"#VALUE!"}},{"$f":"((AA297*#REF!)+(#REF!*#REF!)+(#REF!*#REF!))/(#REF!+#REF!+#REF!)","v":{"$error":"#VALUE!"}},{"$f":"((AA297*#REF!)+(#REF!*#REF!)+(#REF!*#REF!))/(#REF!+#REF!+#REF!)","v":{"$error":"#VALUE!"}},{"$f":"((AA297*#REF!)+(#REF!*#REF!)+(#REF!*#REF!))/(#REF!+#REF!+#REF!)","v":{"$error":"#VALUE!"}},{"$f":"((AA297*#REF!)+(#REF!*#REF!)+(#REF!*#REF!))/(#REF!+#REF!+#REF!)","v":{"$error":"#VALUE!"}}]
[null,null,null,null,null,null,null,null,null,null,null,null,null,null,null,null,null,null,null,null,null,296,{"$error":"#VALUE!"},{"$f":"AVERAGE($W$3:W298)","v":{"$error":"#VALUE!"}},null,{"$error":"#VALUE!"},{"$error":"#VALUE!"},{"$f":"AVERAGE($AA$3:AA298)","v":{"$error":"#VALUE!"}},null,null,null,{"$f":"((AA298*#REF!)+(#REF!*#REF!)+(#REF!*#REF!))/(#REF!+#REF!+#REF!)","v":{"$error":"#VALUE!"}},{"$f":"((AA298*#REF!)+(#REF!*#REF!)+(#REF!*#REF!))/(#REF!+#REF!+#REF!)","v":{"$error":"#VALUE!"}},{"$f":"((AA298*#REF!)+(#REF!*#REF!)+(#REF!*#REF!))/(#REF!+#REF!+#REF!)","v":{"$error":"#VALUE!"}},{"$f":"((AA298*#REF!)+(#REF!*#REF!)+(#REF!*#REF!))/(#REF!+#REF!+#REF!)","v":{"$error":"#VALUE!"}},{"$f":"((AA298*#REF!)+(#REF!*#REF!)+(#REF!*#REF!))/(#REF!+#REF!+#REF!)","v":{"$error":"#VALUE!"}},{"$f":"((AA298*#REF!)+(#REF!*#REF!)+(#REF!*#REF!))/(#REF!+#REF!+#REF!)","v":{"$error":"#VALUE!"}},{"$f":"((AA298*#REF!)+(#REF!*#REF!)+(#REF!*#REF!))/(#REF!+#REF!+#REF!)","v":{"$error":"#VALUE!"}}]
[null,null,null,null,null,null,null,null,null,null,null,null,null,null,null,null,null,null,null,null,null,297,{"$error":"#VALUE!"},{"$f":"AVERAGE($W$3:W299)","v":{"$error":"#VALUE!"}},null,{"$error":"#VALUE!"},{"$error":"#VALUE!"},{"$f":"AVERAGE($AA$3:AA299)","v":{"$error":"#VALUE!"}},null,null,null,{"$f":"((AA299*#REF!)+(#REF!*#REF!)+(#REF!*#REF!))/(#REF!+#REF!+#REF!)","v":{"$error":"#VALUE!"}},{"$f":"((AA299*#REF!)+(#REF!*#REF!)+(#REF!*#REF!))/(#REF!+#REF!+#REF!)","v":{"$error":"#VALUE!"}},{"$f":"((AA299*#REF!)+(#REF!*#REF!)+(#REF!*#REF!))/(#REF!+#REF!+#REF!)","v":{"$error":"#VALUE!"}},{"$f":"((AA299*#REF!)+(#REF!*#REF!)+(#REF!*#REF!))/(#REF!+#REF!+#REF!)","v":{"$error":"#VALUE!"}},{"$f":"((AA299*#REF!)+(#REF!*#REF!)+(#REF!*#REF!))/(#REF!+#REF!+#REF!)","v":{"$error":"#VALUE!"}},{"$f":"((AA299*#REF!)+(#REF!*#REF!)+(#REF!*#REF!))/(#REF!+#REF!+#REF!)","v":{"$error":"#VALUE!"}},{"$f":"((AA299*#REF!)+(#REF!*#REF!)+(#REF!*#REF!))/(#REF!+#REF!+#REF!)","v":{"$error":"#VALUE!"}}]
[null,null,null,null,null,null,null,null,null,null,null,null,null,null,null,null,null,null,null,null,null,298,{"$error":"#VALUE!"},{"$f":"AVERAGE($W$3:W300)","v":{"$error":"#VALUE!"}},null,{"$error":"#VALUE!"},{"$error":"#VALUE!"},{"$f":"AVERAGE($AA$3:AA300)","v":{"$error":"#VALUE!"}},null,null,null,{"$f":"((AA300*#REF!)+(#REF!*#REF!)+(#REF!*#REF!))/(#REF!+#REF!+#REF!)","v":{"$error":"#VALUE!"}},{"$f":"((AA300*#REF!)+(#REF!*#REF!)+(#REF!*#REF!))/(#REF!+#REF!+#REF!)","v":{"$error":"#VALUE!"}},{"$f":"((AA300*#REF!)+(#REF!*#REF!)+(#REF!*#REF!))/(#REF!+#REF!+#REF!)","v":{"$error":"#VALUE!"}},{"$f":"((AA300*#REF!)+(#REF!*#REF!)+(#REF!*#REF!))/(#REF!+#REF!+#REF!)","v":{"$error":"#VALUE!"}},{"$f":"((AA300*#REF!)+(#REF!*#REF!)+(#REF!*#REF!))/(#REF!+#REF!+#REF!)","v":{"$error":"#VALUE!"}},{"$f":"((AA300*#REF!)+(#REF!*#REF!)+(#REF!*#REF!))/(#REF!+#REF!+#REF!)","v":{"$error":"#VALUE!"}},{"$f":"((AA300*#REF!)+(#REF!*#REF!)+(#REF!*#REF!))/(#REF!+#REF!+#REF!)","v":{"$error":"#VALUE!"}}]
[null,null,null,null,null,null,null,null,null,null,null,null,null,null,null,null,null,null,null,null,null,299,{"$error":"#VALUE!"},{"$f":"AVERAGE($W$3:W301)","v":{"$error":"#VALUE!"}},null,{"$error":"#VALUE!"},{"$error":"#VALUE!"},{"$f":"AVERAGE($AA$3:AA301)","v":{"$error":"#VALUE!"}},null,null,null,{"$f":"((AA301*#REF!)+(#REF!*#REF!)+(#REF!*#REF!))/(#REF!+#REF!+#REF!)","v":{"$error":"#VALUE!"}},{"$f":"((AA301*#REF!)+(#REF!*#REF!)+(#REF!*#REF!))/(#REF!+#REF!+#REF!)","v":{"$error":"#VALUE!"}},{"$f":"((AA301*#REF!)+(#REF!*#REF!)+(#REF!*#REF!))/(#REF!+#REF!+#REF!)","v":{"$error":"#VALUE!"}},{"$f":"((AA301*#REF!)+(#REF!*#REF!)+(#REF!*#REF!))/(#REF!+#REF!+#REF!)","v":{"$error":"#VALUE!"}},{"$f":"((AA301*#REF!)+(#REF!*#REF!)+(#REF!*#REF!))/(#REF!+#REF!+#REF!)","v":{"$error":"#VALUE!"}},{"$f":"((AA301*#REF!)+(#REF!*#REF!)+(#REF!*#REF!))/(#REF!+#REF!+#REF!)","v":{"$error":"#VALUE!"}},{"$f":"((AA301*#REF!)+(#REF!*#REF!)+(#REF!*#REF!))/(#REF!+#REF!+#REF!)","v":{"$error":"#VALUE!"}}]
[null,null,null,null,null,null,null,null,null,null,null,null,null,null,null,null,null,null,null,null,null,300,{"$error":"#VALUE!"},{"$f":"AVERAGE($W$3:W302)","v":{"$error":"#VALUE!"}},null,{"$error":"#VALUE!"},{"$error":"#VALUE!"},{"$f":"AVERAGE($AA$3:AA302)","v":{"$error":"#VALUE!"}},null,null,null,{"$f":"((AA302*#REF!)+(#REF!*#REF!)+(#REF!*#REF!))/(#REF!+#REF!+#REF!)","v":{"$error":"#VALUE!"}},{"$f":"((AA302*#REF!)+(#REF!*#REF!)+(#REF!*#REF!))/(#REF!+#REF!+#REF!)","v":{"$error":"#VALUE!"}},{"$f":"((AA302*#REF!)+(#REF!*#REF!)+(#REF!*#REF!))/(#REF!+#REF!+#REF!)","v":{"$error":"#VALUE!"}},{"$f":"((AA302*#REF!)+(#REF!*#REF!)+(#REF!*#REF!))/(#REF!+#REF!+#REF!)","v":{"$error":"#VALUE!"}},{"$f":"((AA302*#REF!)+(#REF!*#REF!)+(#REF!*#REF!))/(#REF!+#REF!+#REF!)","v":{"$error":"#VALUE!"}},{"$f":"((AA302*#REF!)+(#REF!*#REF!)+(#REF!*#REF!))/(#REF!+#REF!+#REF!)","v":{"$error":"#VALUE!"}},{"$f":"((AA302*#REF!)+(#REF!*#REF!)+(#REF!*#REF!))/(#REF!+#REF!+#REF!)","v":{"$error":"#VALUE!"}}]
[null,null,null,null,null,null,null,null,null,null,null,null,null,null,null,null,null,null,null,null,null,301,{"$error":"#VALUE!"},{"$f":"AVERAGE($W$3:W303)","v":{"$error":"#VALUE!"}},null,{"$error":"#VALUE!"},{"$error":"#VALUE!"},{"$f":"AVERAGE($AA$3:AA303)","v":{"$error":"#VALUE!"}},null,null,null,{"$f":"((AA303*#REF!)+(#REF!*#REF!)+(#REF!*#REF!))/(#REF!+#REF!+#REF!)","v":{"$error":"#VALUE!"}},{"$f":"((AA303*#REF!)+(#REF!*#REF!)+(#REF!*#REF!))/(#REF!+#REF!+#REF!)","v":{"$error":"#VALUE!"}},{"$f":"((AA303*#REF!)+(#REF!*#REF!)+(#REF!*#REF!))/(#REF!+#REF!+#REF!)","v":{"$error":"#VALUE!"}},{"$f":"((AA303*#REF!)+(#REF!*#REF!)+(#REF!*#REF!))/(#REF!+#REF!+#REF!)","v":{"$error":"#VALUE!"}},{"$f":"((AA303*#REF!)+(#REF!*#REF!)+(#REF!*#REF!))/(#REF!+#REF!+#REF!)","v":{"$error":"#VALUE!"}},{"$f":"((AA303*#REF!)+(#REF!*#REF!)+(#REF!*#REF!))/(#REF!+#REF!+#REF!)","v":{"$error":"#VALUE!"}},{"$f":"((AA303*#REF!)+(#REF!*#REF!)+(#REF!*#REF!))/(#REF!+#REF!+#REF!)","v":{"$error":"#VALUE!"}}]
[null,null,null,null,null,null,null,null,null,null,null,null,null,null,null,null,null,null,null,null,null,302,{"$error":"#VALUE!"},{"$f":"AVERAGE($W$3:W304)","v":{"$error":"#VALUE!"}},null,{"$error":"#VALUE!"},{"$error":"#VALUE!"},{"$f":"AVERAGE($AA$3:AA304)","v":{"$error":"#VALUE!"}},null,null,null,{"$f":"((AA304*#REF!)+(#REF!*#REF!)+(#REF!*#REF!))/(#REF!+#REF!+#REF!)","v":{"$error":"#VALUE!"}},{"$f":"((AA304*#REF!)+(#REF!*#REF!)+(#REF!*#REF!))/(#REF!+#REF!+#REF!)","v":{"$error":"#VALUE!"}},{"$f":"((AA304*#REF!)+(#REF!*#REF!)+(#REF!*#REF!))/(#REF!+#REF!+#REF!)","v":{"$error":"#VALUE!"}},{"$f":"((AA304*#REF!)+(#REF!*#REF!)+(#REF!*#REF!))/(#REF!+#REF!+#REF!)","v":{"$error":"#VALUE!"}},{"$f":"((AA304*#REF!)+(#REF!*#REF!)+(#REF!*#REF!))/(#REF!+#REF!+#REF!)","v":{"$error":"#VALUE!"}},{"$f":"((AA304*#REF!)+(#REF!*#REF!)+(#REF!*#REF!))/(#REF!+#REF!+#REF!)","v":{"$error":"#VALUE!"}},{"$f":"((AA304*#REF!)+(#REF!*#REF!)+(#REF!*#REF!))/(#REF!+#REF!+#REF!)","v":{"$error":"#VALUE!"}}]
[null,null,null,null,null,null,null,null,null,null,null,null,null,null,null,null,null,null,null,null,null,303,{"$error":"#VALUE!"},{"$f":"AVERAGE($W$3:W305)","v":{"$error":"#VALUE!"}},null,{"$error":"#VALUE!"},{"$error":"#VALUE!"},{"$f":"AVERAGE($AA$3:AA305)","v":{"$error":"#VALUE!"}},null,null,null,{"$f":"((AA305*#REF!)+(#REF!*#REF!)+(#REF!*#REF!))/(#REF!+#REF!+#REF!)","v":{"$error":"#VALUE!"}},{"$f":"((AA305*#REF!)+(#REF!*#REF!)+(#REF!*#REF!))/(#REF!+#REF!+#REF!)","v":{"$error":"#VALUE!"}},{"$f":"((AA305*#REF!)+(#REF!*#REF!)+(#REF!*#REF!))/(#REF!+#REF!+#REF!)","v":{"$error":"#VALUE!"}},{"$f":"((AA305*#REF!)+(#REF!*#REF!)+(#REF!*#REF!))/(#REF!+#REF!+#REF!)","v":{"$error":"#VALUE!"}},{"$f":"((AA305*#REF!)+(#REF!*#REF!)+(#REF!*#REF!))/(#REF!+#REF!+#REF!)","v":{"$error":"#VALUE!"}},{"$f":"((AA305*#REF!)+(#REF!*#REF!)+(#REF!*#REF!))/(#REF!+#REF!+#REF!)","v":{"$error":"#VALUE!"}},{"$f":"((AA305*#REF!)+(#REF!*#REF!)+(#REF!*#REF!))/(#REF!+#REF!+#REF!)","v":{"$error":"#VALUE!"}}]
[null,null,null,null,null,null,null,null,null,null,null,null,null,null,null,null,null,null,null,null,null,304,{"$error":"#VALUE!"},{"$f":"AVERAGE($W$3:W306)","v":{"$error":"#VALUE!"}},null,{"$error":"#VALUE!"},{"$error":"#VALUE!"},{"$f":"AVERAGE($AA$3:AA306)","v":{"$error":"#VALUE!"}},null,null,null,{"$f":"((AA306*#REF!)+(#REF!*#REF!)+(#REF!*#REF!))/(#REF!+#REF!+#REF!)","v":{"$error":"#VALUE!"}},{"$f":"((AA306*#REF!)+(#REF!*#REF!)+(#REF!*#REF!))/(#REF!+#REF!+#REF!)","v":{"$error":"#VALUE!"}},{"$f":"((AA306*#REF!)+(#REF!*#REF!)+(#REF!*#REF!))/(#REF!+#REF!+#REF!)","v":{"$error":"#VALUE!"}},{"$f":"((AA306*#REF!)+(#REF!*#REF!)+(#REF!*#REF!))/(#REF!+#REF!+#REF!)","v":{"$error":"#VALUE!"}},{"$f":"((AA306*#REF!)+(#REF!*#REF!)+(#REF!*#REF!))/(#REF!+#REF!+#REF!)","v":{"$error":"#VALUE!"}},{"$f":"((AA306*#REF!)+(#REF!*#REF!)+(#REF!*#REF!))/(#REF!+#REF!+#REF!)","v":{"$error":"#VALUE!"}},{"$f":"((AA306*#REF!)+(#REF!*#REF!)+(#REF!*#REF!))/(#REF!+#REF!+#REF!)","v":{"$error":"#VALUE!"}}]
[null,null,null,null,null,null,null,null,null,null,null,null,null,null,null,null,null,null,null,null,null,305,{"$error":"#VALUE!"},{"$f":"AVERAGE($W$3:W307)","v":{"$error":"#VALUE!"}},null,{"$error":"#VALUE!"},{"$error":"#VALUE!"},{"$f":"AVERAGE($AA$3:AA307)","v":{"$error":"#VALUE!"}},null,null,null,{"$f":"((AA307*#REF!)+(#REF!*#REF!)+(#REF!*#REF!))/(#REF!+#REF!+#REF!)","v":{"$error":"#VALUE!"}},{"$f":"((AA307*#REF!)+(#REF!*#REF!)+(#REF!*#REF!))/(#REF!+#REF!+#REF!)","v":{"$error":"#VALUE!"}},{"$f":"((AA307*#REF!)+(#REF!*#REF!)+(#REF!*#REF!))/(#REF!+#REF!+#REF!)","v":{"$error":"#VALUE!"}},{"$f":"((AA307*#REF!)+(#REF!*#REF!)+(#REF!*#REF!))/(#REF!+#REF!+#REF!)","v":{"$error":"#VALUE!"}},{"$f":"((AA307*#REF!)+(#REF!*#REF!)+(#REF!*#REF!))/(#REF!+#REF!+#REF!)","v":{"$error":"#VALUE!"}},{"$f":"((AA307*#REF!)+(#REF!*#REF!)+(#REF!*#REF!))/(#REF!+#REF!+#REF!)","v":{"$error":"#VALUE!"}},{"$f":"((AA307*#REF!)+(#REF!*#REF!)+(#REF!*#REF!))/(#REF!+#REF!+#REF!)","v":{"$error":"#VALUE!"}}]
[null,null,null,null,null,null,null,null,null,null,null,null,null,null,null,null,null,null,null,null,null,306,{"$error":"#VALUE!"},{"$f":"AVERAGE($W$3:W308)","v":{"$error":"#VALUE!"}},null,{"$error":"#VALUE!"},{"$error":"#VALUE!"},{"$f":"AVERAGE($AA$3:AA308)","v":{"$error":"#VALUE!"}},null,null,null,{"$f":"((AA308*#REF!)+(#REF!*#REF!)+(#REF!*#REF!))/(#REF!+#REF!+#REF!)","v":{"$error":"#VALUE!"}},{"$f":"((AA308*#REF!)+(#REF!*#REF!)+(#REF!*#REF!))/(#REF!+#REF!+#REF!)","v":{"$error":"#VALUE!"}},{"$f":"((AA308*#REF!)+(#REF!*#REF!)+(#REF!*#REF!))/(#REF!+#REF!+#REF!)","v":{"$error":"#VALUE!"}},{"$f":"((AA308*#REF!)+(#REF!*#REF!)+(#REF!*#REF!))/(#REF!+#REF!+#REF!)","v":{"$error":"#VALUE!"}},{"$f":"((AA308*#REF!)+(#REF!*#REF!)+(#REF!*#REF!))/(#REF!+#REF!+#REF!)","v":{"$error":"#VALUE!"}},{"$f":"((AA308*#REF!)+(#REF!*#REF!)+(#REF!*#REF!))/(#REF!+#REF!+#REF!)","v":{"$error":"#VALUE!"}},{"$f":"((AA308*#REF!)+(#REF!*#REF!)+(#REF!*#REF!))/(#REF!+#REF!+#REF!)","v":{"$error":"#VALUE!"}}]
[null,null,null,null,null,null,null,null,null,null,null,null,null,null,null,null,null,null,null,null,null,307,{"$error":"#VALUE!"},{"$f":"AVERAGE($W$3:W309)","v":{"$error":"#VALUE!"}},null,{"$error":"#VALUE!"},{"$error":"#VALUE!"},{"$f":"AVERAGE($AA$3:AA309)","v":{"$error":"#VALUE!"}},null,null,null,{"$f":"((AA309*#REF!)+(#REF!*#REF!)+(#REF!*#REF!))/(#REF!+#REF!+#REF!)","v":{"$error":"#VALUE!"}},{"$f":"((AA309*#REF!)+(#REF!*#REF!)+(#REF!*#REF!))/(#REF!+#REF!+#REF!)","v":{"$error":"#VALUE!"}},{"$f":"((AA309*#REF!)+(#REF!*#REF!)+(#REF!*#REF!))/(#REF!+#REF!+#REF!)","v":{"$error":"#VALUE!"}},{"$f":"((AA309*#REF!)+(#REF!*#REF!)+(#REF!*#REF!))/(#REF!+#REF!+#REF!)","v":{"$error":"#VALUE!"}},{"$f":"((AA309*#REF!)+(#REF!*#REF!)+(#REF!*#REF!))/(#REF!+#REF!+#REF!)","v":{"$error":"#VALUE!"}},{"$f":"((AA309*#REF!)+(#REF!*#REF!)+(#REF!*#REF!))/(#REF!+#REF!+#REF!)","v":{"$error":"#VALUE!"}},{"$f":"((AA309*#REF!)+(#REF!*#REF!)+(#REF!*#REF!))/(#REF!+#REF!+#REF!)","v":{"$error":"#VALUE!"}}]
[null,null,null,null,null,null,null,null,null,null,null,null,null,null,null,null,null,null,null,null,null,308,{"$error":"#VALUE!"},{"$f":"AVERAGE($W$3:W310)","v":{"$error":"#VALUE!"}},null,{"$error":"#VALUE!"},{"$error":"#VALUE!"},{"$f":"AVERAGE($AA$3:AA310)","v":{"$error":"#VALUE!"}},null,null,null,{"$f":"((AA310*#REF!)+(#REF!*#REF!)+(#REF!*#REF!))/(#REF!+#REF!+#REF!)","v":{"$error":"#VALUE!"}},{"$f":"((AA310*#REF!)+(#REF!*#REF!)+(#REF!*#REF!))/(#REF!+#REF!+#REF!)","v":{"$error":"#VALUE!"}},{"$f":"((AA310*#REF!)+(#REF!*#REF!)+(#REF!*#REF!))/(#REF!+#REF!+#REF!)","v":{"$error":"#VALUE!"}},{"$f":"((AA310*#REF!)+(#REF!*#REF!)+(#REF!*#REF!))/(#REF!+#REF!+#REF!)","v":{"$error":"#VALUE!"}},{"$f":"((AA310*#REF!)+(#REF!*#REF!)+(#REF!*#REF!))/(#REF!+#REF!+#REF!)","v":{"$error":"#VALUE!"}},{"$f":"((AA310*#REF!)+(#REF!*#REF!)+(#REF!*#REF!))/(#REF!+#REF!+#REF!)","v":{"$error":"#VALUE!"}},{"$f":"((AA310*#REF!)+(#REF!*#REF!)+(#REF!*#REF!))/(#REF!+#REF!+#REF!)","v":{"$error":"#VALUE!"}}]
[null,null,null,null,null,null,null,null,null,null,null,null,null,null,null,null,null,null,null,null,null,309,{"$error":"#VALUE!"},{"$f":"AVERAGE($W$3:W311)","v":{"$error":"#VALUE!"}},null,{"$error":"#VALUE!"},{"$error":"#VALUE!"},{"$f":"AVERAGE($AA$3:AA311)","v":{"$error":"#VALUE!"}},null,null,null,{"$f":"((AA311*#REF!)+(#REF!*#REF!)+(#REF!*#REF!))/(#REF!+#REF!+#REF!)","v":{"$error":"#VALUE!"}},{"$f":"((AA311*#REF!)+(#REF!*#REF!)+(#REF!*#REF!))/(#REF!+#REF!+#REF!)","v":{"$error":"#VALUE!"}},{"$f":"((AA311*#REF!)+(#REF!*#REF!)+(#REF!*#REF!))/(#REF!+#REF!+#REF!)","v":{"$error":"#VALUE!"}},{"$f":"((AA311*#REF!)+(#REF!*#REF!)+(#REF!*#REF!))/(#REF!+#REF!+#REF!)","v":{"$error":"#VALUE!"}},{"$f":"((AA311*#REF!)+(#REF!*#REF!)+(#REF!*#REF!))/(#REF!+#REF!+#REF!)","v":{"$error":"#VALUE!"}},{"$f":"((AA311*#REF!)+(#REF!*#REF!)+(#REF!*#REF!))/(#REF!+#REF!+#REF!)","v":{"$error":"#VALUE!"}},{"$f":"((AA311*#REF!)+(#REF!*#REF!)+(#REF!*#REF!))/(#REF!+#REF!+#REF!)","v":{"$error":"#VALUE!"}}]
[null,null,null,null,null,null,null,null,null,null,null,null,null,null,null,null,null,null,null,null,null,310,{"$error":"#VALUE!"},{"$f":"AVERAGE($W$3:W312)","v":{"$error":"#VALUE!"}},null,{"$error":"#VALUE!"},{"$error":"#VALUE!"},{"$f":"AVERAGE($AA$3:AA312)","v":{"$error":"#VALUE!"}},null,null,null,{"$f":"((AA312*#REF!)+(#REF!*#REF!)+(#REF!*#REF!))/(#REF!+#REF!+#REF!)","v":{"$error":"#VALUE!"}},{"$f":"((AA312*#REF!)+(#REF!*#REF!)+(#REF!*#REF!))/(#REF!+#REF!+#REF!)","v":{"$error":"#VALUE!"}},{"$f":"((AA312*#REF!)+(#REF!*#REF!)+(#REF!*#REF!))/(#REF!+#REF!+#REF!)","v":{"$error":"#VALUE!"}},{"$f":"((AA312*#REF!)+(#REF!*#REF!)+(#REF!*#REF!))/(#REF!+#REF!+#REF!)","v":{"$error":"#VALUE!"}},{"$f":"((AA312*#REF!)+(#REF!*#REF!)+(#REF!*#REF!))/(#REF!+#REF!+#REF!)","v":{"$error":"#VALUE!"}},{"$f":"((AA312*#REF!)+(#REF!*#REF!)+(#REF!*#REF!))/(#REF!+#REF!+#REF!)","v":{"$error":"#VALUE!"}},{"$f":"((AA312*#REF!)+(#REF!*#REF!)+(#REF!*#REF!))/(#REF!+#REF!+#REF!)","v":{"$error":"#VALUE!"}}]
[null,null,null,null,null,null,null,null,null,null,null,null,null,null,null,null,null,null,null,null,null,311,{"$error":"#VALUE!"},{"$f":"AVERAGE($W$3:W313)","v":{"$error":"#VALUE!"}},null,{"$error":"#VALUE!"},{"$error":"#VALUE!"},{"$f":"AVERAGE($AA$3:AA313)","v":{"$error":"#VALUE!"}},null,null,null,{"$f":"((AA313*#REF!)+(#REF!*#REF!)+(#REF!*#REF!))/(#REF!+#REF!+#REF!)","v":{"$error":"#VALUE!"}},{"$f":"((AA313*#REF!)+(#REF!*#REF!)+(#REF!*#REF!))/(#REF!+#REF!+#REF!)","v":{"$error":"#VALUE!"}},{"$f":"((AA313*#REF!)+(#REF!*#REF!)+(#REF!*#REF!))/(#REF!+#REF!+#REF!)","v":{"$error":"#VALUE!"}},{"$f":"((AA313*#REF!)+(#REF!*#REF!)+(#REF!*#REF!))/(#REF!+#REF!+#REF!)","v":{"$error":"#VALUE!"}},{"$f":"((AA313*#REF!)+(#REF!*#REF!)+(#REF!*#REF!))/(#REF!+#REF!+#REF!)","v":{"$error":"#VALUE!"}},{"$f":"((AA313*#REF!)+(#REF!*#REF!)+(#REF!*#REF!))/(#REF!+#REF!+#REF!)","v":{"$error":"#VALUE!"}},{"$f":"((AA313*#REF!)+(#REF!*#REF!)+(#REF!*#REF!))/(#REF!+#REF!+#REF!)","v":{"$error":"#VALUE!"}}]
[null,null,null,null,null,null,null,null,null,null,null,null,null,null,null,null,null,null,null,null,null,312,{"$error":"#VALUE!"},{"$f":"AVERAGE($W$3:W314)","v":{"$error":"#VALUE!"}},null,{"$error":"#VALUE!"},{"$error":"#VALUE!"},{"$f":"AVERAGE($AA$3:AA314)","v":{"$error":"#VALUE!"}},null,null,null,{"$f":"((AA314*#REF!)+(#REF!*#REF!)+(#REF!*#REF!))/(#REF!+#REF!+#REF!)","v":{"$error":"#VALUE!"}},{"$f":"((AA314*#REF!)+(#REF!*#REF!)+(#REF!*#REF!))/(#REF!+#REF!+#REF!)","v":{"$error":"#VALUE!"}},{"$f":"((AA314*#REF!)+(#REF!*#REF!)+(#REF!*#REF!))/(#REF!+#REF!+#REF!)","v":{"$error":"#VALUE!"}},{"$f":"((AA314*#REF!)+(#REF!*#REF!)+(#REF!*#REF!))/(#REF!+#REF!+#REF!)","v":{"$error":"#VALUE!"}},{"$f":"((AA314*#REF!)+(#REF!*#REF!)+(#REF!*#REF!))/(#REF!+#REF!+#REF!)","v":{"$error":"#VALUE!"}},{"$f":"((AA314*#REF!)+(#REF!*#REF!)+(#REF!*#REF!))/(#REF!+#REF!+#REF!)","v":{"$error":"#VALUE!"}},{"$f":"((AA314*#REF!)+(#REF!*#REF!)+(#REF!*#REF!))/(#REF!+#REF!+#REF!)","v":{"$error":"#VALUE!"}}]
[null,null,null,null,null,null,null,null,null,null,null,null,null,null,null,null,null,null,null,null,null,313,{"$error":"#VALUE!"},{"$f":"AVERAGE($W$3:W315)","v":{"$error":"#VALUE!"}},null,{"$error":"#VALUE!"},{"$error":"#VALUE!"},{"$f":"AVERAGE($AA$3:AA315)","v":{"$error":"#VALUE!"}},null,null,null,{"$f":"((AA315*#REF!)+(#REF!*#REF!)+(#REF!*#REF!))/(#REF!+#REF!+#REF!)","v":{"$error":"#VALUE!"}},{"$f":"((AA315*#REF!)+(#REF!*#REF!)+(#REF!*#REF!))/(#REF!+#REF!+#REF!)","v":{"$error":"#VALUE!"}},{"$f":"((AA315*#REF!)+(#REF!*#REF!)+(#REF!*#REF!))/(#REF!+#REF!+#REF!)","v":{"$error":"#VALUE!"}},{"$f":"((AA315*#REF!)+(#REF!*#REF!)+(#REF!*#REF!))/(#REF!+#REF!+#REF!)","v":{"$error":"#VALUE!"}},{"$f":"((AA315*#REF!)+(#REF!*#REF!)+(#REF!*#REF!))/(#REF!+#REF!+#REF!)","v":{"$error":"#VALUE!"}},{"$f":"((AA315*#REF!)+(#REF!*#REF!)+(#REF!*#REF!))/(#REF!+#REF!+#REF!)","v":{"$error":"#VALUE!"}},{"$f":"((AA315*#REF!)+(#REF!*#REF!)+(#REF!*#REF!))/(#REF!+#REF!+#REF!)","v":{"$error":"#VALUE!"}}]
[null,null,null,null,null,null,null,null,null,null,null,null,null,null,null,null,null,null,null,null,null,314,{"$error":"#VALUE!"},{"$f":"AVERAGE($W$3:W316)","v":{"$error":"#VALUE!"}},null,{"$error":"#VALUE!"},{"$error":"#VALUE!"},{"$f":"AVERAGE($AA$3:AA316)","v":{"$error":"#VALUE!"}},null,null,null,{"$f":"((AA316*#REF!)+(#REF!*#REF!)+(#REF!*#REF!))/(#REF!+#REF!+#REF!)","v":{"$error":"#VALUE!"}},{"$f":"((AA316*#REF!)+(#REF!*#REF!)+(#REF!*#REF!))/(#REF!+#REF!+#REF!)","v":{"$error":"#VALUE!"}},{"$f":"((AA316*#REF!)+(#REF!*#REF!)+(#REF!*#REF!))/(#REF!+#REF!+#REF!)","v":{"$error":"#VALUE!"}},{"$f":"((AA316*#REF!)+(#REF!*#REF!)+(#REF!*#REF!))/(#REF!+#REF!+#REF!)","v":{"$error":"#VALUE!"}},{"$f":"((AA316*#REF!)+(#REF!*#REF!)+(#REF!*#REF!))/(#REF!+#REF!+#REF!)","v":{"$error":"#VALUE!"}},{"$f":"((AA316*#REF!)+(#REF!*#REF!)+(#REF!*#REF!))/(#REF!+#REF!+#REF!)","v":{"$error":"#VALUE!"}},{"$f":"((AA316*#REF!)+(#REF!*#REF!)+(#REF!*#REF!))/(#REF!+#REF!+#REF!)","v":{"$error":"#VALUE!"}}]
[null,null,null,null,null,null,null,null,null,null,null,null,null,null,null,null,null,null,null,null,null,315,{"$error":"#VALUE!"},{"$f":"AVERAGE($W$3:W317)","v":{"$error":"#VALUE!"}},null,{"$error":"#VALUE!"},{"$error":"#VALUE!"},{"$f":"AVERAGE($AA$3:AA317)","v":{"$error":"#VALUE!"}},null,null,null,{"$f":"((AA317*#REF!)+(#REF!*#REF!)+(#REF!*#REF!))/(#REF!+#REF!+#REF!)","v":{"$error":"#VALUE!"}},{"$f":"((AA317*#REF!)+(#REF!*#REF!)+(#REF!*#REF!))/(#REF!+#REF!+#REF!)","v":{"$error":"#VALUE!"}},{"$f":"((AA317*#REF!)+(#REF!*#REF!)+(#REF!*#REF!))/(#REF!+#REF!+#REF!)","v":{"$error":"#VALUE!"}},{"$f":"((AA317*#REF!)+(#REF!*#REF!)+(#REF!*#REF!))/(#REF!+#REF!+#REF!)","v":{"$error":"#VALUE!"}},{"$f":"((AA317*#REF!)+(#REF!*#REF!)+(#REF!*#REF!))/(#REF!+#REF!+#REF!)","v":{"$error":"#VALUE!"}},{"$f":"((AA317*#REF!)+(#REF!*#REF!)+(#REF!*#REF!))/(#REF!+#REF!+#REF!)","v":{"$error":"#VALUE!"}},{"$f":"((AA317*#REF!)+(#REF!*#REF!)+(#REF!*#REF!))/(#REF!+#REF!+#REF!)","v":{"$error":"#VALUE!"}}]
[null,null,null,null,null,null,null,null,null,null,null,null,null,null,null,null,null,null,null,null,null,316,{"$f":"IF(($M$7*LN(V318))+$M$8+$M$10>0,($M$7*LN(V318))+$M$8+$M$10,0)","v":{"$error":"#VALUE!"}},{"$f":"AVERAGE($W$3:W318)","v":{"$error":"#VALUE!"}},null,{"$error":"#VALUE!"},{"$error":"#VALUE!"},{"$f":"AVERAGE($AA$3:AA318)","v":{"$error":"#VALUE!"}},null,null,null,{"$f":"((AA318*#REF!)+(#REF!*#REF!)+(#REF!*#REF!))/(#REF!+#REF!+#REF!)","v":{"$error":"#VALUE!"}},{"$f":"((AA318*#REF!)+(#REF!*#REF!)+(#REF!*#REF!))/(#REF!+#REF!+#REF!)","v":{"$error":"#VALUE!"}},{"$f":"((AA318*#REF!)+(#REF!*#REF!)+(#REF!*#REF!))/(#REF!+#REF!+#REF!)","v":{"$error":"#VALUE!"}},{"$f":"((AA318*#REF!)+(#REF!*#REF!)+(#REF!*#REF!))/(#REF!+#REF!+#REF!)","v":{"$error":"#VALUE!"}},{"$f":"((AA318*#REF!)+(#REF!*#REF!)+(#REF!*#REF!))/(#REF!+#REF!+#REF!)","v":{"$error":"#VALUE!"}},{"$f":"((AA318*#REF!)+(#REF!*#REF!)+(#REF!*#REF!))/(#REF!+#REF!+#REF!)","v":{"$error":"#VALUE!"}},{"$f":"((AA318*#REF!)+(#REF!*#REF!)+(#REF!*#REF!))/(#REF!+#REF!+#REF!)","v":{"$error":"#VALUE!"}}]
[null,null,null,null,null,null,null,null,null,null,null,null,null,null,null,null,null,null,null,null,null,317,{"$error":"#VALUE!"},{"$f":"AVERAGE($W$3:W319)","v":{"$error":"#VALUE!"}},null,{"$error":"#VALUE!"},{"$error":"#VALUE!"},{"$f":"AVERAGE($AA$3:AA319)","v":{"$error":"#VALUE!"}},null,null,null,{"$f":"((AA319*#REF!)+(#REF!*#REF!)+(#REF!*#REF!))/(#REF!+#REF!+#REF!)","v":{"$error":"#VALUE!"}},{"$f":"((AA319*#REF!)+(#REF!*#REF!)+(#REF!*#REF!))/(#REF!+#REF!+#REF!)","v":{"$error":"#VALUE!"}},{"$f":"((AA319*#REF!)+(#REF!*#REF!)+(#REF!*#REF!))/(#REF!+#REF!+#REF!)","v":{"$error":"#VALUE!"}},{"$f":"((AA319*#REF!)+(#REF!*#REF!)+(#REF!*#REF!))/(#REF!+#REF!+#REF!)","v":{"$error":"#VALUE!"}},{"$f":"((AA319*#REF!)+(#REF!*#REF!)+(#REF!*#REF!))/(#REF!+#REF!+#REF!)","v":{"$error":"#VALUE!"}},{"$f":"((AA319*#REF!)+(#REF!*#REF!)+(#REF!*#REF!))/(#REF!+#REF!+#REF!)","v":{"$error":"#VALUE!"}},{"$f":"((AA319*#REF!)+(#REF!*#REF!)+(#REF!*#REF!))/(#REF!+#REF!+#REF!)","v":{"$error":"#VALUE!"}}]
[null,null,null,null,null,null,null,null,null,null,null,null,null,null,null,null,null,null,null,null,null,318,{"$error":"#VALUE!"},{"$f":"AVERAGE($W$3:W320)","v":{"$error":"#VALUE!"}},null,{"$error":"#VALUE!"},{"$error":"#VALUE!"},{"$f":"AVERAGE($AA$3:AA320)","v":{"$error":"#VALUE!"}},null,null,null,{"$f":"((AA320*#REF!)+(#REF!*#REF!)+(#REF!*#REF!))/(#REF!+#REF!+#REF!)","v":{"$error":"#VALUE!"}},{"$f":"((AA320*#REF!)+(#REF!*#REF!)+(#REF!*#REF!))/(#REF!+#REF!+#REF!)","v":{"$error":"#VALUE!"}},{"$f":"((AA320*#REF!)+(#REF!*#REF!)+(#REF!*#REF!))/(#REF!+#REF!+#REF!)","v":{"$error":"#VALUE!"}},{"$f":"((AA320*#REF!)+(#REF!*#REF!)+(#REF!*#REF!))/(#REF!+#REF!+#REF!)","v":{"$error":"#VALUE!"}},{"$f":"((AA320*#REF!)+(#REF!*#REF!)+(#REF!*#REF!))/(#REF!+#REF!+#REF!)","v":{"$error":"#VALUE!"}},{"$f":"((AA320*#REF!)+(#REF!*#REF!)+(#REF!*#REF!))/(#REF!+#REF!+#REF!)","v":{"$error":"#VALUE!"}},{"$f":"((AA320*#REF!)+(#REF!*#REF!)+(#REF!*#REF!))/(#REF!+#REF!+#REF!)","v":{"$error":"#VALUE!"}}]
[null,null,null,null,null,null,null,null,null,null,null,null,null,null,null,null,null,null,null,null,null,319,{"$error":"#VALUE!"},{"$f":"AVERAGE($W$3:W321)","v":{"$error":"#VALUE!"}},null,{"$error":"#VALUE!"},{"$error":"#VALUE!"},{"$f":"AVERAGE($AA$3:AA321)","v":{"$error":"#VALUE!"}},null,null,null,{"$f":"((AA321*#REF!)+(#REF!*#REF!)+(#REF!*#REF!))/(#REF!+#REF!+#REF!)","v":{"$error":"#VALUE!"}},{"$f":"((AA321*#REF!)+(#REF!*#REF!)+(#REF!*#REF!))/(#REF!+#REF!+#REF!)","v":{"$error":"#VALUE!"}},{"$f":"((AA321*#REF!)+(#REF!*#REF!)+(#REF!*#REF!))/(#REF!+#REF!+#REF!)","v":{"$error":"#VALUE!"}},{"$f":"((AA321*#REF!)+(#REF!*#REF!)+(#REF!*#REF!))/(#REF!+#REF!+#REF!)","v":{"$error":"#VALUE!"}},{"$f":"((AA321*#REF!)+(#REF!*#REF!)+(#REF!*#REF!))/(#REF!+#REF!+#REF!)","v":{"$error":"#VALUE!"}},{"$f":"((AA321*#REF!)+(#REF!*#REF!)+(#REF!*#REF!))/(#REF!+#REF!+#REF!)","v":{"$error":"#VALUE!"}},{"$f":"((AA321*#REF!)+(#REF!*#REF!)+(#REF!*#REF!))/(#REF!+#REF!+#REF!)","v":{"$error":"#VALUE!"}}]
[null,null,null,null,null,null,null,null,null,null,null,null,null,null,null,null,null,null,null,null,null,320,{"$error":"#VALUE!"},{"$f":"AVERAGE($W$3:W322)","v":{"$error":"#VALUE!"}},null,{"$error":"#VALUE!"},{"$error":"#VALUE!"},{"$f":"AVERAGE($AA$3:AA322)","v":{"$error":"#VALUE!"}},null,null,null,{"$f":"((AA322*#REF!)+(#REF!*#REF!)+(#REF!*#REF!))/(#REF!+#REF!+#REF!)","v":{"$error":"#VALUE!"}},{"$f":"((AA322*#REF!)+(#REF!*#REF!)+(#REF!*#REF!))/(#REF!+#REF!+#REF!)","v":{"$error":"#VALUE!"}},{"$f":"((AA322*#REF!)+(#REF!*#REF!)+(#REF!*#REF!))/(#REF!+#REF!+#REF!)","v":{"$error":"#VALUE!"}},{"$f":"((AA322*#REF!)+(#REF!*#REF!)+(#REF!*#REF!))/(#REF!+#REF!+#REF!)","v":{"$error":"#VALUE!"}},{"$f":"((AA322*#REF!)+(#REF!*#REF!)+(#REF!*#REF!))/(#REF!+#REF!+#REF!)","v":{"$error":"#VALUE!"}},{"$f":"((AA322*#REF!)+(#REF!*#REF!)+(#REF!*#REF!))/(#REF!+#REF!+#REF!)","v":{"$error":"#VALUE!"}},{"$f":"((AA322*#REF!)+(#REF!*#REF!)+(#REF!*#REF!))/(#REF!+#REF!+#REF!)","v":{"$error":"#VALUE!"}}]
[null,null,null,null,null,null,null,null,null,null,null,null,null,null,null,null,null,null,null,null,null,321,{"$error":"#VALUE!"},{"$f":"AVERAGE($W$3:W323)","v":{"$error":"#VALUE!"}},null,{"$error":"#VALUE!"},{"$error":"#VALUE!"},{"$f":"AVERAGE($AA$3:AA323)","v":{"$error":"#VALUE!"}},null,null,null,{"$f":"((AA323*#REF!)+(#REF!*#REF!)+(#REF!*#REF!))/(#REF!+#REF!+#REF!)","v":{"$error":"#VALUE!"}},{"$f":"((AA323*#REF!)+(#REF!*#REF!)+(#REF!*#REF!))/(#REF!+#REF!+#REF!)","v":{"$error":"#VALUE!"}},{"$f":"((AA323*#REF!)+(#REF!*#REF!)+(#REF!*#REF!))/(#REF!+#REF!+#REF!)","v":{"$error":"#VALUE!"}},{"$f":"((AA323*#REF!)+(#REF!*#REF!)+(#REF!*#REF!))/(#REF!+#REF!+#REF!)","v":{"$error":"#VALUE!"}},{"$f":"((AA323*#REF!)+(#REF!*#REF!)+(#REF!*#REF!))/(#REF!+#REF!+#REF!)","v":{"$error":"#VALUE!"}},{"$f":"((AA323*#REF!)+(#REF!*#REF!)+(#REF!*#REF!))/(#REF!+#REF!+#REF!)","v":{"$error":"#VALUE!"}},{"$f":"((AA323*#REF!)+(#REF!*#REF!)+(#REF!*#REF!))/(#REF!+#REF!+#REF!)","v":{"$error":"#VALUE!"}}]
[null,null,null,null,null,null,null,null,null,null,null,null,null,null,null,null,null,null,null,null,null,322,{"$error":"#VALUE!"},{"$f":"AVERAGE($W$3:W324)","v":{"$error":"#VALUE!"}},null,{"$f":"$M$2+W324","v":{"$error":"#VALUE!"}},{"$f":"(Z324*(9/5))+32","v":{"$error":"#VALUE!"}},{"$f":"AVERAGE($AA$3:AA324)","v":{"$error":"#VALUE!"}},null,null,null,{"$f":"((AA324*#REF!)+(#REF!*#REF!)+(#REF!*#REF!))/(#REF!+#REF!+#REF!)","v":{"$error":"#VALUE!"}},{"$f":"((AA324*#REF!)+(#REF!*#REF!)+(#REF!*#REF!))/(#REF!+#REF!+#REF!)","v":{"$error":"#VALUE!"}},{"$f":"((AA324*#REF!)+(#REF!*#REF!)+(#REF!*#REF!))/(#REF!+#REF!+#REF!)","v":{"$error":"#VALUE!"}},{"$f":"((AA324*#REF!)+(#REF!*#REF!)+(#REF!*#REF!))/(#REF!+#REF!+#REF!)","v":{"$error":"#VALUE!"}},{"$f":"((AA324*#REF!)+(#REF!*#REF!)+(#REF!*#REF!))/(#REF!+#REF!+#REF!)","v":{"$error":"#VALUE!"}},{"$f":"((AA324*#REF!)+(#REF!*#REF!)+(#REF!*#REF!))/(#REF!+#REF!+#REF!)","v":{"$error":"#VALUE!"}},{"$f":"((AA324*#REF!)+(#REF!*#REF!)+(#REF!*#REF!))/(#REF!+#REF!+#REF!)","v":{"$error":"#VALUE!"}}]
[null,null,null,null,null,null,null,null,null,null,null,null,null,null,null,null,null,null,null,null,null,323,{"$error":"#VALUE!"},{"$f":"AVERAGE($W$3:W325)","v":{"$error":"#VALUE!"}},null,{"$error":"#VALUE!"},{"$error":"#VALUE!"},{"$f":"AVERAGE($AA$3:AA325)","v":{"$error":"#VALUE!"}},null,null,null,{"$f":"((AA325*#REF!)+(#REF!*#REF!)+(#REF!*#REF!))/(#REF!+#REF!+#REF!)","v":{"$error":"#VALUE!"}},{"$f":"((AA325*#REF!)+(#REF!*#REF!)+(#REF!*#REF!))/(#REF!+#REF!+#REF!)","v":{"$error":"#VALUE!"}},{"$f":"((AA325*#REF!)+(#REF!*#REF!)+(#REF!*#REF!))/(#REF!+#REF!+#REF!)","v":{"$error":"#VALUE!"}},{"$f":"((AA325*#REF!)+(#REF!*#REF!)+(#REF!*#REF!))/(#REF!+#REF!+#REF!)","v":{"$error":"#VALUE!"}},{"$f":"((AA325*#REF!)+(#REF!*#REF!)+(#REF!*#REF!))/(#REF!+#REF!+#REF!)","v":{"$error":"#VALUE!"}},{"$f":"((AA325*#REF!)+(#REF!*#REF!)+(#REF!*#REF!))/(#REF!+#REF!+#REF!)","v":{"$error":"#VALUE!"}},{"$f":"((AA325*#REF!)+(#REF!*#REF!)+(#REF!*#REF!))/(#REF!+#REF!+#REF!)","v":{"$error":"#VALUE!"}}]
[null,null,null,null,null,null,null,null,null,null,null,null,null,null,null,null,null,null,null,null,null,324,{"$error":"#VALUE!"},{"$f":"AVERAGE($W$3:W326)","v":{"$error":"#VALUE!"}},null,{"$error":"#VALUE!"},{"$error":"#VALUE!"},{"$f":"AVERAGE($AA$3:AA326)","v":{"$error":"#VALUE!"}},null,null,null,{"$f":"((AA326*#REF!)+(#REF!*#REF!)+(#REF!*#REF!))/(#REF!+#REF!+#REF!)","v":{"$error":"#VALUE!"}},{"$f":"((AA326*#REF!)+(#REF!*#REF!)+(#REF!*#REF!))/(#REF!+#REF!+#REF!)","v":{"$error":"#VALUE!"}},{"$f":"((AA326*#REF!)+(#REF!*#REF!)+(#REF!*#REF!))/(#REF!+#REF!+#REF!)","v":{"$error":"#VALUE!"}},{"$f":"((AA326*#REF!)+(#REF!*#REF!)+(#REF!*#REF!))/(#REF!+#REF!+#REF!)","v":{"$error":"#VALUE!"}},{"$f":"((AA326*#REF!)+(#REF!*#REF!)+(#REF!*#REF!))/(#REF!+#REF!+#REF!)","v":{"$error":"#VALUE!"}},{"$f":"((AA326*#REF!)+(#REF!*#REF!)+(#REF!*#REF!))/(#REF!+#REF!+#REF!)","v":{"$error":"#VALUE!"}},{"$f":"((AA326*#REF!)+(#REF!*#REF!)+(#REF!*#REF!))/(#REF!+#REF!+#REF!)","v":{"$error":"#VALUE!"}}]
[null,null,null,null,null,null,null,null,null,null,null,null,null,null,null,null,null,null,null,null,null,325,{"$error":"#VALUE!"},{"$f":"AVERAGE($W$3:W327)","v":{"$error":"#VALUE!"}},null,{"$error":"#VALUE!"},{"$error":"#VALUE!"},{"$f":"AVERAGE($AA$3:AA327)","v":{"$error":"#VALUE!"}},null,null,null,{"$f":"((AA327*#REF!)+(#REF!*#REF!)+(#REF!*#REF!))/(#REF!+#REF!+#REF!)","v":{"$error":"#VALUE!"}},{"$f":"((AA327*#REF!)+(#REF!*#REF!)+(#REF!*#REF!))/(#REF!+#REF!+#REF!)","v":{"$error":"#VALUE!"}},{"$f":"((AA327*#REF!)+(#REF!*#REF!)+(#REF!*#REF!))/(#REF!+#REF!+#REF!)","v":{"$error":"#VALUE!"}},{"$f":"((AA327*#REF!)+(#REF!*#REF!)+(#REF!*#REF!))/(#REF!+#REF!+#REF!)","v":{"$error":"#VALUE!"}},{"$f":"((AA327*#REF!)+(#REF!*#REF!)+(#REF!*#REF!))/(#REF!+#REF!+#REF!)","v":{"$error":"#VALUE!"}},{"$f":"((AA327*#REF!)+(#REF!*#REF!)+(#REF!*#REF!))/(#REF!+#REF!+#REF!)","v":{"$error":"#VALUE!"}},{"$f":"((AA327*#REF!)+(#REF!*#REF!)+(#REF!*#REF!))/(#REF!+#REF!+#REF!)","v":{"$error":"#VALUE!"}}]
[null,null,null,null,null,null,null,null,null,null,null,null,null,null,null,null,null,null,null,null,null,326,{"$error":"#VALUE!"},{"$f":"AVERAGE($W$3:W328)","v":{"$error":"#VALUE!"}},null,{"$error":"#VALUE!"},{"$error":"#VALUE!"},{"$f":"AVERAGE($AA$3:AA328)","v":{"$error":"#VALUE!"}},null,null,null,{"$f":"((AA328*#REF!)+(#REF!*#REF!)+(#REF!*#REF!))/(#REF!+#REF!+#REF!)","v":{"$error":"#VALUE!"}},{"$f":"((AA328*#REF!)+(#REF!*#REF!)+(#REF!*#REF!))/(#REF!+#REF!+#REF!)","v":{"$error":"#VALUE!"}},{"$f":"((AA328*#REF!)+(#REF!*#REF!)+(#REF!*#REF!))/(#REF!+#REF!+#REF!)","v":{"$error":"#VALUE!"}},{"$f":"((AA328*#REF!)+(#REF!*#REF!)+(#REF!*#REF!))/(#REF!+#REF!+#REF!)","v":{"$error":"#VALUE!"}},{"$f":"((AA328*#REF!)+(#REF!*#REF!)+(#REF!*#REF!))/(#REF!+#REF!+#REF!)","v":{"$error":"#VALUE!"}},{"$f":"((AA328*#REF!)+(#REF!*#REF!)+(#REF!*#REF!))/(#REF!+#REF!+#REF!)","v":{"$error":"#VALUE!"}},{"$f":"((AA328*#REF!)+(#REF!*#REF!)+(#REF!*#REF!))/(#REF!+#REF!+#REF!)","v":{"$error":"#VALUE!"}}]
[null,null,null,null,null,null,null,null,null,null,null,null,null,null,null,null,null,null,null,null,null,327,{"$error":"#VALUE!"},{"$f":"AVERAGE($W$3:W329)","v":{"$error":"#VALUE!"}},null,{"$error":"#VALUE!"},{"$error":"#VALUE!"},{"$f":"AVERAGE($AA$3:AA329)","v":{"$error":"#VALUE!"}},null,null,null,{"$f":"((AA329*#REF!)+(#REF!*#REF!)+(#REF!*#REF!))/(#REF!+#REF!+#REF!)","v":{"$error":"#VALUE!"}},{"$f":"((AA329*#REF!)+(#REF!*#REF!)+(#REF!*#REF!))/(#REF!+#REF!+#REF!)","v":{"$error":"#VALUE!"}},{"$f":"((AA329*#REF!)+(#REF!*#REF!)+(#REF!*#REF!))/(#REF!+#REF!+#REF!)","v":{"$error":"#VALUE!"}},{"$f":"((AA329*#REF!)+(#REF!*#REF!)+(#REF!*#REF!))/(#REF!+#REF!+#REF!)","v":{"$error":"#VALUE!"}},{"$f":"((AA329*#REF!)+(#REF!*#REF!)+(#REF!*#REF!))/(#REF!+#REF!+#REF!)","v":{"$error":"#VALUE!"}},{"$f":"((AA329*#REF!)+(#REF!*#REF!)+(#REF!*#REF!))/(#REF!+#REF!+#REF!)","v":{"$error":"#VALUE!"}},{"$f":"((AA329*#REF!)+(#REF!*#REF!)+(#REF!*#REF!))/(#REF!+#REF!+#REF!)","v":{"$error":"#VALUE!"}}]
[null,null,null,null,null,null,null,null,null,null,null,null,null,null,null,null,null,null,null,null,null,328,{"$error":"#VALUE!"},{"$f":"AVERAGE($W$3:W330)","v":{"$error":"#VALUE!"}},null,{"$error":"#VALUE!"},{"$error":"#VALUE!"},{"$f":"AVERAGE($AA$3:AA330)","v":{"$error":"#VALUE!"}},null,null,null,{"$f":"((AA330*#REF!)+(#REF!*#REF!)+(#REF!*#REF!))/(#REF!+#REF!+#REF!)","v":{"$error":"#VALUE!"}},{"$f":"((AA330*#REF!)+(#REF!*#REF!)+(#REF!*#REF!))/(#REF!+#REF!+#REF!)","v":{"$error":"#VALUE!"}},{"$f":"((AA330*#REF!)+(#REF!*#REF!)+(#REF!*#REF!))/(#REF!+#REF!+#REF!)","v":{"$error":"#VALUE!"}},{"$f":"((AA330*#REF!)+(#REF!*#REF!)+(#REF!*#REF!))/(#REF!+#REF!+#REF!)","v":{"$error":"#VALUE!"}},{"$f":"((AA330*#REF!)+(#REF!*#REF!)+(#REF!*#REF!))/(#REF!+#REF!+#REF!)","v":{"$error":"#VALUE!"}},{"$f":"((AA330*#REF!)+(#REF!*#REF!)+(#REF!*#REF!))/(#REF!+#REF!+#REF!)","v":{"$error":"#VALUE!"}},{"$f":"((AA330*#REF!)+(#REF!*#REF!)+(#REF!*#REF!))/(#REF!+#REF!+#REF!)","v":{"$error":"#VALUE!"}}]
[null,null,null,null,null,null,null,null,null,null,null,null,null,null,null,null,null,null,null,null,null,329,{"$error":"#VALUE!"},{"$f":"AVERAGE($W$3:W331)","v":{"$error":"#VALUE!"}},null,{"$error":"#VALUE!"},{"$error":"#VALUE!"},{"$f":"AVERAGE($AA$3:AA331)","v":{"$error":"#VALUE!"}},null,null,null,{"$f":"((AA331*#REF!)+(#REF!*#REF!)+(#REF!*#REF!))/(#REF!+#REF!+#REF!)","v":{"$error":"#VALUE!"}},{"$f":"((AA331*#REF!)+(#REF!*#REF!)+(#REF!*#REF!))/(#REF!+#REF!+#REF!)","v":{"$error":"#VALUE!"}},{"$f":"((AA331*#REF!)+(#REF!*#REF!)+(#REF!*#REF!))/(#REF!+#REF!+#REF!)","v":{"$error":"#VALUE!"}},{"$f":"((AA331*#REF!)+(#REF!*#REF!)+(#REF!*#REF!))/(#REF!+#REF!+#REF!)","v":{"$error":"#VALUE!"}},{"$f":"((AA331*#REF!)+(#REF!*#REF!)+(#REF!*#REF!))/(#REF!+#REF!+#REF!)","v":{"$error":"#VALUE!"}},{"$f":"((AA331*#REF!)+(#REF!*#REF!)+(#REF!*#REF!))/(#REF!+#REF!+#REF!)","v":{"$error":"#VALUE!"}},{"$f":"((AA331*#REF!)+(#REF!*#REF!)+(#REF!*#REF!))/(#REF!+#REF!+#REF!)","v":{"$error":"#VALUE!"}}]
[null,null,null,null,null,null,null,null,null,null,null,null,null,null,null,null,null,null,null,null,null,330,{"$error":"#VALUE!"},{"$f":"AVERAGE($W$3:W332)","v":{"$error":"#VALUE!"}},null,{"$error":"#VALUE!"},{"$error":"#VALUE!"},{"$f":"AVERAGE($AA$3:AA332)","v":{"$error":"#VALUE!"}},null,null,null,{"$f":"((AA332*#REF!)+(#REF!*#REF!)+(#REF!*#REF!))/(#REF!+#REF!+#REF!)","v":{"$error":"#VALUE!"}},{"$f":"((AA332*#REF!)+(#REF!*#REF!)+(#REF!*#REF!))/(#REF!+#REF!+#REF!)","v":{"$error":"#VALUE!"}},{"$f":"((AA332*#REF!)+(#REF!*#REF!)+(#REF!*#REF!))/(#REF!+#REF!+#REF!)","v":{"$error":"#VALUE!"}},{"$f":"((AA332*#REF!)+(#REF!*#REF!)+(#REF!*#REF!))/(#REF!+#REF!+#REF!)","v":{"$error":"#VALUE!"}},{"$f":"((AA332*#REF!)+(#REF!*#REF!)+(#REF!*#REF!))/(#REF!+#REF!+#REF!)","v":{"$error":"#VALUE!"}},{"$f":"((AA332*#REF!)+(#REF!*#REF!)+(#REF!*#REF!))/(#REF!+#REF!+#REF!)","v":{"$error":"#VALUE!"}},{"$f":"((AA332*#REF!)+(#REF!*#REF!)+(#REF!*#REF!))/(#REF!+#REF!+#REF!)","v":{"$error":"#VALUE!"}}]
[null,null,null,null,null,null,null,null,null,null,null,null,null,null,null,null,null,null,null,null,null,331,{"$error":"#VALUE!"},{"$f":"AVERAGE($W$3:W333)","v":{"$error":"#VALUE!"}},null,{"$error":"#VALUE!"},{"$error":"#VALUE!"},{"$f":"AVERAGE($AA$3:AA333)","v":{"$error":"#VALUE!"}},null,null,null,{"$f":"((AA333*#REF!)+(#REF!*#REF!)+(#REF!*#REF!))/(#REF!+#REF!+#REF!)","v":{"$error":"#VALUE!"}},{"$f":"((AA333*#REF!)+(#REF!*#REF!)+(#REF!*#REF!))/(#REF!+#REF!+#REF!)","v":{"$error":"#VALUE!"}},{"$f":"((AA333*#REF!)+(#REF!*#REF!)+(#REF!*#REF!))/(#REF!+#REF!+#REF!)","v":{"$error":"#VALUE!"}},{"$f":"((AA333*#REF!)+(#REF!*#REF!)+(#REF!*#REF!))/(#REF!+#REF!+#REF!)","v":{"$error":"#VALUE!"}},{"$f":"((AA333*#REF!)+(#REF!*#REF!)+(#REF!*#REF!))/(#REF!+#REF!+#REF!)","v":{"$error":"#VALUE!"}},{"$f":"((AA333*#REF!)+(#REF!*#REF!)+(#REF!*#REF!))/(#REF!+#REF!+#REF!)","v":{"$error":"#VALUE!"}},{"$f":"((AA333*#REF!)+(#REF!*#REF!)+(#REF!*#REF!))/(#REF!+#REF!+#REF!)","v":{"$error":"#VALUE!"}}]
[null,null,null,null,null,null,null,null,null,null,null,null,null,null,null,null,null,null,null,null,null,332,{"$error":"#VALUE!"},{"$f":"AVERAGE($W$3:W334)","v":{"$error":"#VALUE!"}},null,{"$error":"#VALUE!"},{"$error":"#VALUE!"},{"$f":"AVERAGE($AA$3:AA334)","v":{"$error":"#VALUE!"}},null,null,null,{"$f":"((AA334*#REF!)+(#REF!*#REF!)+(#REF!*#REF!))/(#REF!+#REF!+#REF!)","v":{"$error":"#VALUE!"}},{"$f":"((AA334*#REF!)+(#REF!*#REF!)+(#REF!*#REF!))/(#REF!+#REF!+#REF!)","v":{"$error":"#VALUE!"}},{"$f":"((AA334*#REF!)+(#REF!*#REF!)+(#REF!*#REF!))/(#REF!+#REF!+#REF!)","v":{"$error":"#VALUE!"}},{"$f":"((AA334*#REF!)+(#REF!*#REF!)+(#REF!*#REF!))/(#REF!+#REF!+#REF!)","v":{"$error":"#VALUE!"}},{"$f":"((AA334*#REF!)+(#REF!*#REF!)+(#REF!*#REF!))/(#REF!+#REF!+#REF!)","v":{"$error":"#VALUE!"}},{"$f":"((AA334*#REF!)+(#REF!*#REF!)+(#REF!*#REF!))/(#REF!+#REF!+#REF!)","v":{"$error":"#VALUE!"}},{"$f":"((AA334*#REF!)+(#REF!*#REF!)+(#REF!*#REF!))/(#REF!+#REF!+#REF!)","v":{"$error":"#VALUE!"}}]
[null,null,null,null,null,null,null,null,null,null,null,null,null,null,null,null,null,null,null,null,null,333,{"$error":"#VALUE!"},{"$f":"AVERAGE($W$3:W335)","v":{"$error":"#VALUE!"}},null,{"$error":"#VALUE!"},{"$error":"#VALUE!"},{"$f":"AVERAGE($AA$3:AA335)","v":{"$error":"#VALUE!"}},null,null,null,{"$f":"((AA335*#REF!)+(#REF!*#REF!)+(#REF!*#REF!))/(#REF!+#REF!+#REF!)","v":{"$error":"#VALUE!"}},{"$f":"((AA335*#REF!)+(#REF!*#REF!)+(#REF!*#REF!))/(#REF!+#REF!+#REF!)","v":{"$error":"#VALUE!"}},{"$f":"((AA335*#REF!)+(#REF!*#REF!)+(#REF!*#REF!))/(#REF!+#REF!+#REF!)","v":{"$error":"#VALUE!"}},{"$f":"((AA335*#REF!)+(#REF!*#REF!)+(#REF!*#REF!))/(#REF!+#REF!+#REF!)","v":{"$error":"#VALUE!"}},{"$f":"((AA335*#REF!)+(#REF!*#REF!)+(#REF!*#REF!))/(#REF!+#REF!+#REF!)","v":{"$error":"#VALUE!"}},{"$f":"((AA335*#REF!)+(#REF!*#REF!)+(#REF!*#REF!))/(#REF!+#REF!+#REF!)","v":{"$error":"#VALUE!"}},{"$f":"((AA335*#REF!)+(#REF!*#REF!)+(#REF!*#REF!))/(#REF!+#REF!+#REF!)","v":{"$error":"#VALUE!"}}]
[null,null,null,null,null,null,null,null,null,null,null,null,null,null,null,null,null,null,null,null,null,334,{"$error":"#VALUE!"},{"$f":"AVERAGE($W$3:W336)","v":{"$error":"#VALUE!"}},null,{"$error":"#VALUE!"},{"$error":"#VALUE!"},{"$f":"AVERAGE($AA$3:AA336)","v":{"$error":"#VALUE!"}},null,null,null,{"$f":"((AA336*#REF!)+(#REF!*#REF!)+(#REF!*#REF!))/(#REF!+#REF!+#REF!)","v":{"$error":"#VALUE!"}},{"$f":"((AA336*#REF!)+(#REF!*#REF!)+(#REF!*#REF!))/(#REF!+#REF!+#REF!)","v":{"$error":"#VALUE!"}},{"$f":"((AA336*#REF!)+(#REF!*#REF!)+(#REF!*#REF!))/(#REF!+#REF!+#REF!)","v":{"$error":"#VALUE!"}},{"$f":"((AA336*#REF!)+(#REF!*#REF!)+(#REF!*#REF!))/(#REF!+#REF!+#REF!)","v":{"$error":"#VALUE!"}},{"$f":"((AA336*#REF!)+(#REF!*#REF!)+(#REF!*#REF!))/(#REF!+#REF!+#REF!)","v":{"$error":"#VALUE!"}},{"$f":"((AA336*#REF!)+(#REF!*#REF!)+(#REF!*#REF!))/(#REF!+#REF!+#REF!)","v":{"$error":"#VALUE!"}},{"$f":"((AA336*#REF!)+(#REF!*#REF!)+(#REF!*#REF!))/(#REF!+#REF!+#REF!)","v":{"$error":"#VALUE!"}}]
[null,null,null,null,null,null,null,null,null,null,null,null,null,null,null,null,null,null,null,null,null,335,{"$error":"#VALUE!"},{"$f":"AVERAGE($W$3:W337)","v":{"$error":"#VALUE!"}},null,{"$error":"#VALUE!"},{"$error":"#VALUE!"},{"$f":"AVERAGE($AA$3:AA337)","v":{"$error":"#VALUE!"}},null,null,null,{"$f":"((AA337*#REF!)+(#REF!*#REF!)+(#REF!*#REF!))/(#REF!+#REF!+#REF!)","v":{"$error":"#VALUE!"}},{"$f":"((AA337*#REF!)+(#REF!*#REF!)+(#REF!*#REF!))/(#REF!+#REF!+#REF!)","v":{"$error":"#VALUE!"}},{"$f":"((AA337*#REF!)+(#REF!*#REF!)+(#REF!*#REF!))/(#REF!+#REF!+#REF!)","v":{"$error":"#VALUE!"}},{"$f":"((AA337*#REF!)+(#REF!*#REF!)+(#REF!*#REF!))/(#REF!+#REF!+#REF!)","v":{"$error":"#VALUE!"}},{"$f":"((AA337*#REF!)+(#REF!*#REF!)+(#REF!*#REF!))/(#REF!+#REF!+#REF!)","v":{"$error":"#VALUE!"}},{"$f":"((AA337*#REF!)+(#REF!*#REF!)+(#REF!*#REF!))/(#REF!+#REF!+#REF!)","v":{"$error":"#VALUE!"}},{"$f":"((AA337*#REF!)+(#REF!*#REF!)+(#REF!*#REF!))/(#REF!+#REF!+#REF!)","v":{"$error":"#VALUE!"}}]
[null,null,null,null,null,null,null,null,null,null,null,null,null,null,null,null,null,null,null,null,null,336,{"$error":"#VALUE!"},{"$f":"AVERAGE($W$3:W338)","v":{"$error":"#VALUE!"}},null,{"$error":"#VALUE!"},{"$error":"#VALUE!"},{"$f":"AVERAGE($AA$3:AA338)","v":{"$error":"#VALUE!"}},null,null,null,{"$f":"((AA338*#REF!)+(#REF!*#REF!)+(#REF!*#REF!))/(#REF!+#REF!+#REF!)","v":{"$error":"#VALUE!"}},{"$f":"((AA338*#REF!)+(#REF!*#REF!)+(#REF!*#REF!))/(#REF!+#REF!+#REF!)","v":{"$error":"#VALUE!"}},{"$f":"((AA338*#REF!)+(#REF!*#REF!)+(#REF!*#REF!))/(#REF!+#REF!+#REF!)","v":{"$error":"#VALUE!"}},{"$f":"((AA338*#REF!)+(#REF!*#REF!)+(#REF!*#REF!))/(#REF!+#REF!+#REF!)","v":{"$error":"#VALUE!"}},{"$f":"((AA338*#REF!)+(#REF!*#REF!)+(#REF!*#REF!))/(#REF!+#REF!+#REF!)","v":{"$error":"#VALUE!"}},{"$f":"((AA338*#REF!)+(#REF!*#REF!)+(#REF!*#REF!))/(#REF!+#REF!+#REF!)","v":{"$error":"#VALUE!"}},{"$f":"((AA338*#REF!)+(#REF!*#REF!)+(#REF!*#REF!))/(#REF!+#REF!+#REF!)","v":{"$error":"#VALUE!"}}]
[null,null,null,null,null,null,null,null,null,null,null,null,null,null,null,null,null,null,null,null,null,337,{"$error":"#VALUE!"},{"$f":"AVERAGE($W$3:W339)","v":{"$error":"#VALUE!"}},null,{"$error":"#VALUE!"},{"$error":"#VALUE!"},{"$f":"AVERAGE($AA$3:AA339)","v":{"$error":"#VALUE!"}},null,null,null,{"$f":"((AA339*#REF!)+(#REF!*#REF!)+(#REF!*#REF!))/(#REF!+#REF!+#REF!)","v":{"$error":"#VALUE!"}},{"$f":"((AA339*#REF!)+(#REF!*#REF!)+(#REF!*#REF!))/(#REF!+#REF!+#REF!)","v":{"$error":"#VALUE!"}},{"$f":"((AA339*#REF!)+(#REF!*#REF!)+(#REF!*#REF!))/(#REF!+#REF!+#REF!)","v":{"$error":"#VALUE!"}},{"$f":"((AA339*#REF!)+(#REF!*#REF!)+(#REF!*#REF!))/(#REF!+#REF!+#REF!)","v":{"$error":"#VALUE!"}},{"$f":"((AA339*#REF!)+(#REF!*#REF!)+(#REF!*#REF!))/(#REF!+#REF!+#REF!)","v":{"$error":"#VALUE!"}},{"$f":"((AA339*#REF!)+(#REF!*#REF!)+(#REF!*#REF!))/(#REF!+#REF!+#REF!)","v":{"$error":"#VALUE!"}},{"$f":"((AA339*#REF!)+(#REF!*#REF!)+(#REF!*#REF!))/(#REF!+#REF!+#REF!)","v":{"$error":"#VALUE!"}}]
[null,null,null,null,null,null,null,null,null,null,null,null,null,null,null,null,null,null,null,null,null,338,{"$error":"#VALUE!"},{"$f":"AVERAGE($W$3:W340)","v":{"$error":"#VALUE!"}},null,{"$error":"#VALUE!"},{"$error":"#VALUE!"},{"$f":"AVERAGE($AA$3:AA340)","v":{"$error":"#VALUE!"}},null,null,null,{"$f":"((AA340*#REF!)+(#REF!*#REF!)+(#REF!*#REF!))/(#REF!+#REF!+#REF!)","v":{"$error":"#VALUE!"}},{"$f":"((AA340*#REF!)+(#REF!*#REF!)+(#REF!*#REF!))/(#REF!+#REF!+#REF!)","v":{"$error":"#VALUE!"}},{"$f":"((AA340*#REF!)+(#REF!*#REF!)+(#REF!*#REF!))/(#REF!+#REF!+#REF!)","v":{"$error":"#VALUE!"}},{"$f":"((AA340*#REF!)+(#REF!*#REF!)+(#REF!*#REF!))/(#REF!+#REF!+#REF!)","v":{"$error":"#VALUE!"}},{"$f":"((AA340*#REF!)+(#REF!*#REF!)+(#REF!*#REF!))/(#REF!+#REF!+#REF!)","v":{"$error":"#VALUE!"}},{"$f":"((AA340*#REF!)+(#REF!*#REF!)+(#REF!*#REF!))/(#REF!+#REF!+#REF!)","v":{"$error":"#VALUE!"}},{"$f":"((AA340*#REF!)+(#REF!*#REF!)+(#REF!*#REF!))/(#REF!+#REF!+#REF!)","v":{"$error":"#VALUE!"}}]
[null,null,null,null,null,null,null,null,null,null,null,null,null,null,null,null,null,null,null,null,null,339,{"$error":"#VALUE!"},{"$f":"AVERAGE($W$3:W341)","v":{"$error":"#VALUE!"}},null,{"$error":"#VALUE!"},{"$error":"#VALUE!"},{"$f":"AVERAGE($AA$3:AA341)","v":{"$error":"#VALUE!"}},null,null,null,{"$f":"((AA341*#REF!)+(#REF!*#REF!)+(#REF!*#REF!))/(#REF!+#REF!+#REF!)","v":{"$error":"#VALUE!"}},{"$f":"((AA341*#REF!)+(#REF!*#REF!)+(#REF!*#REF!))/(#REF!+#REF!+#REF!)","v":{"$error":"#VALUE!"}},{"$f":"((AA341*#REF!)+(#REF!*#REF!)+(#REF!*#REF!))/(#REF!+#REF!+#REF!)","v":{"$error":"#VALUE!"}},{"$f":"((AA341*#REF!)+(#REF!*#REF!)+(#REF!*#REF!))/(#REF!+#REF!+#REF!)","v":{"$error":"#VALUE!"}},{"$f":"((AA341*#REF!)+(#REF!*#REF!)+(#REF!*#REF!))/(#REF!+#REF!+#REF!)","v":{"$error":"#VALUE!"}},{"$f":"((AA341*#REF!)+(#REF!*#REF!)+(#REF!*#REF!))/(#REF!+#REF!+#REF!)","v":{"$error":"#VALUE!"}},{"$f":"((AA341*#REF!)+(#REF!*#REF!)+(#REF!*#REF!))/(#REF!+#REF!+#REF!)","v":{"$error":"#VALUE!"}}]
[null,null,null,null,null,null,null,null,null,null,null,null,null,null,null,null,null,null,null,null,null,340,{"$error":"#VALUE!"},{"$f":"AVERAGE($W$3:W342)","v":{"$error":"#VALUE!"}},null,{"$error":"#VALUE!"},{"$error":"#VALUE!"},{"$f":"AVERAGE($AA$3:AA342)","v":{"$error":"#VALUE!"}},null,null,null,{"$f":"((AA342*#REF!)+(#REF!*#REF!)+(#REF!*#REF!))/(#REF!+#REF!+#REF!)","v":{"$error":"#VALUE!"}},{"$f":"((AA342*#REF!)+(#REF!*#REF!)+(#REF!*#REF!))/(#REF!+#REF!+#REF!)","v":{"$error":"#VALUE!"}},{"$f":"((AA342*#REF!)+(#REF!*#REF!)+(#REF!*#REF!))/(#REF!+#REF!+#REF!)","v":{"$error":"#VALUE!"}},{"$f":"((AA342*#REF!)+(#REF!*#REF!)+(#REF!*#REF!))/(#REF!+#REF!+#REF!)","v":{"$error":"#VALUE!"}},{"$f":"((AA342*#REF!)+(#REF!*#REF!)+(#REF!*#REF!))/(#REF!+#REF!+#REF!)","v":{"$error":"#VALUE!"}},{"$f":"((AA342*#REF!)+(#REF!*#REF!)+(#REF!*#REF!))/(#REF!+#REF!+#REF!)","v":{"$error":"#VALUE!"}},{"$f":"((AA342*#REF!)+(#REF!*#REF!)+(#REF!*#REF!))/(#REF!+#REF!+#REF!)","v":{"$error":"#VALUE!"}}]
[null,null,null,null,null,null,null,null,null,null,null,null,null,null,null,null,null,null,null,null,null,341,{"$error":"#VALUE!"},{"$f":"AVERAGE($W$3:W343)","v":{"$error":"#VALUE!"}},null,{"$error":"#VALUE!"},{"$error":"#VALUE!"},{"$f":"AVERAGE($AA$3:AA343)","v":{"$error":"#VALUE!"}},null,null,null,{"$f":"((AA343*#REF!)+(#REF!*#REF!)+(#REF!*#REF!))/(#REF!+#REF!+#REF!)","v":{"$error":"#VALUE!"}},{"$f":"((AA343*#REF!)+(#REF!*#REF!)+(#REF!*#REF!))/(#REF!+#REF!+#REF!)","v":{"$error":"#VALUE!"}},{"$f":"((AA343*#REF!)+(#REF!*#REF!)+(#REF!*#REF!))/(#REF!+#REF!+#REF!)","v":{"$error":"#VALUE!"}},{"$f":"((AA343*#REF!)+(#REF!*#REF!)+(#REF!*#REF!))/(#REF!+#REF!+#REF!)","v":{"$error":"#VALUE!"}},{"$f":"((AA343*#REF!)+(#REF!*#REF!)+(#REF!*#REF!))/(#REF!+#REF!+#REF!)","v":{"$error":"#VALUE!"}},{"$f":"((AA343*#REF!)+(#REF!*#REF!)+(#REF!*#REF!))/(#REF!+#REF!+#REF!)","v":{"$error":"#VALUE!"}},{"$f":"((AA343*#REF!)+(#REF!*#REF!)+(#REF!*#REF!))/(#REF!+#REF!+#REF!)","v":{"$error":"#VALUE!"}}]
[null,null,null,null,null,null,null,null,null,null,null,null,null,null,null,null,null,null,null,null,null,342,{"$error":"#VALUE!"},{"$f":"AVERAGE($W$3:W344)","v":{"$error":"#VALUE!"}},null,{"$error":"#VALUE!"},{"$error":"#VALUE!"},{"$f":"AVERAGE($AA$3:AA344)","v":{"$error":"#VALUE!"}},null,null,null,{"$f":"((AA344*#REF!)+(#REF!*#REF!)+(#REF!*#REF!))/(#REF!+#REF!+#REF!)","v":{"$error":"#VALUE!"}},{"$f":"((AA344*#REF!)+(#REF!*#REF!)+(#REF!*#REF!))/(#REF!+#REF!+#REF!)","v":{"$error":"#VALUE!"}},{"$f":"((AA344*#REF!)+(#REF!*#REF!)+(#REF!*#REF!))/(#REF!+#REF!+#REF!)","v":{"$error":"#VALUE!"}},{"$f":"((AA344*#REF!)+(#REF!*#REF!)+(#REF!*#REF!))/(#REF!+#REF!+#REF!)","v":{"$error":"#VALUE!"}},{"$f":"((AA344*#REF!)+(#REF!*#REF!)+(#REF!*#REF!))/(#REF!+#REF!+#REF!)","v":{"$error":"#VALUE!"}},{"$f":"((AA344*#REF!)+(#REF!*#REF!)+(#REF!*#REF!))/(#REF!+#REF!+#REF!)","v":{"$error":"#VALUE!"}},{"$f":"((AA344*#REF!)+(#REF!*#REF!)+(#REF!*#REF!))/(#REF!+#REF!+#REF!)","v":{"$error":"#VALUE!"}}]
[null,null,null,null,null,null,null,null,null,null,null,null,null,null,null,null,null,null,null,null,null,343,{"$error":"#VALUE!"},{"$f":"AVERAGE($W$3:W345)","v":{"$error":"#VALUE!"}},null,{"$error":"#VALUE!"},{"$error":"#VALUE!"},{"$f":"AVERAGE($AA$3:AA345)","v":{"$error":"#VALUE!"}},null,null,null,{"$f":"((AA345*#REF!)+(#REF!*#REF!)+(#REF!*#REF!))/(#REF!+#REF!+#REF!)","v":{"$error":"#VALUE!"}},{"$f":"((AA345*#REF!)+(#REF!*#REF!)+(#REF!*#REF!))/(#REF!+#REF!+#REF!)","v":{"$error":"#VALUE!"}},{"$f":"((AA345*#REF!)+(#REF!*#REF!)+(#REF!*#REF!))/(#REF!+#REF!+#REF!)","v":{"$error":"#VALUE!"}},{"$f":"((AA345*#REF!)+(#REF!*#REF!)+(#REF!*#REF!))/(#REF!+#REF!+#REF!)","v":{"$error":"#VALUE!"}},{"$f":"((AA345*#REF!)+(#REF!*#REF!)+(#REF!*#REF!))/(#REF!+#REF!+#REF!)","v":{"$error":"#VALUE!"}},{"$f":"((AA345*#REF!)+(#REF!*#REF!)+(#REF!*#REF!))/(#REF!+#REF!+#REF!)","v":{"$error":"#VALUE!"}},{"$f":"((AA345*#REF!)+(#REF!*#REF!)+(#REF!*#REF!))/(#REF!+#REF!+#REF!)","v":{"$error":"#VALUE!"}}]
[null,null,null,null,null,null,null,null,null,null,null,null,null,null,null,null,null,null,null,null,null,344,{"$error":"#VALUE!"},{"$f":"AVERAGE($W$3:W346)","v":{"$error":"#VALUE!"}},null,{"$error":"#VALUE!"},{"$error":"#VALUE!"},{"$f":"AVERAGE($AA$3:AA346)","v":{"$error":"#VALUE!"}},null,null,null,{"$f":"((AA346*#REF!)+(#REF!*#REF!)+(#REF!*#REF!))/(#REF!+#REF!+#REF!)","v":{"$error":"#VALUE!"}},{"$f":"((AA346*#REF!)+(#REF!*#REF!)+(#REF!*#REF!))/(#REF!+#REF!+#REF!)","v":{"$error":"#VALUE!"}},{"$f":"((AA346*#REF!)+(#REF!*#REF!)+(#REF!*#REF!))/(#REF!+#REF!+#REF!)","v":{"$error":"#VALUE!"}},{"$f":"((AA346*#REF!)+(#REF!*#REF!)+(#REF!*#REF!))/(#REF!+#REF!+#REF!)","v":{"$error":"#VALUE!"}},{"$f":"((AA346*#REF!)+(#REF!*#REF!)+(#REF!*#REF!))/(#REF!+#REF!+#REF!)","v":{"$error":"#VALUE!"}},{"$f":"((AA346*#REF!)+(#REF!*#REF!)+(#REF!*#REF!))/(#REF!+#REF!+#REF!)","v":{"$error":"#VALUE!"}},{"$f":"((AA346*#REF!)+(#REF!*#REF!)+(#REF!*#REF!))/(#REF!+#REF!+#REF!)","v":{"$error":"#VALUE!"}}]
[null,null,null,null,null,null,null,null,null,null,null,null,null,null,null,null,null,null,null,null,null,345,{"$error":"#VALUE!"},{"$f":"AVERAGE($W$3:W347)","v":{"$error":"#VALUE!"}},null,{"$error":"#VALUE!"},{"$error":"#VALUE!"},{"$f":"AVERAGE($AA$3:AA347)","v":{"$error":"#VALUE!"}},null,null,null,{"$f":"((AA347*#REF!)+(#REF!*#REF!)+(#REF!*#REF!))/(#REF!+#REF!+#REF!)","v":{"$error":"#VALUE!"}},{"$f":"((AA347*#REF!)+(#REF!*#REF!)+(#REF!*#REF!))/(#REF!+#REF!+#REF!)","v":{"$error":"#VALUE!"}},{"$f":"((AA347*#REF!)+(#REF!*#REF!)+(#REF!*#REF!))/(#REF!+#REF!+#REF!)","v":{"$error":"#VALUE!"}},{"$f":"((AA347*#REF!)+(#REF!*#REF!)+(#REF!*#REF!))/(#REF!+#REF!+#REF!)","v":{"$error":"#VALUE!"}},{"$f":"((AA347*#REF!)+(#REF!*#REF!)+(#REF!*#REF!))/(#REF!+#REF!+#REF!)","v":{"$error":"#VALUE!"}},{"$f":"((AA347*#REF!)+(#REF!*#REF!)+(#REF!*#REF!))/(#REF!+#REF!+#REF!)","v":{"$error":"#VALUE!"}},{"$f":"((AA347*#REF!)+(#REF!*#REF!)+(#REF!*#REF!))/(#REF!+#REF!+#REF!)","v":{"$error":"#VALUE!"}}]
[null,null,null,null,null,null,null,null,null,null,null,null,null,null,null,null,null,null,null,null,null,346,{"$error":"#VALUE!"},{"$f":"AVERAGE($W$3:W348)","v":{"$error":"#VALUE!"}},null,{"$error":"#VALUE!"},{"$error":"#VALUE!"},{"$f":"AVERAGE($AA$3:AA348)","v":{"$error":"#VALUE!"}},null,null,null,{"$f":"((AA348*#REF!)+(#REF!*#REF!)+(#REF!*#REF!))/(#REF!+#REF!+#REF!)","v":{"$error":"#VALUE!"}},{"$f":"((AA348*#REF!)+(#REF!*#REF!)+(#REF!*#REF!))/(#REF!+#REF!+#REF!)","v":{"$error":"#VALUE!"}},{"$f":"((AA348*#REF!)+(#REF!*#REF!)+(#REF!*#REF!))/(#REF!+#REF!+#REF!)","v":{"$error":"#VALUE!"}},{"$f":"((AA348*#REF!)+(#REF!*#REF!)+(#REF!*#REF!))/(#REF!+#REF!+#REF!)","v":{"$error":"#VALUE!"}},{"$f":"((AA348*#REF!)+(#REF!*#REF!)+(#REF!*#REF!))/(#REF!+#REF!+#REF!)","v":{"$error":"#VALUE!"}},{"$f":"((AA348*#REF!)+(#REF!*#REF!)+(#REF!*#REF!))/(#REF!+#REF!+#REF!)","v":{"$error":"#VALUE!"}},{"$f":"((AA348*#REF!)+(#REF!*#REF!)+(#REF!*#REF!))/(#REF!+#REF!+#REF!)","v":{"$error":"#VALUE!"}}]
[null,null,null,null,null,null,null,null,null,null,null,null,null,null,null,null,null,null,null,null,null,347,{"$error":"#VALUE!"},{"$f":"AVERAGE($W$3:W349)","v":{"$error":"#VALUE!"}},null,{"$error":"#VALUE!"},{"$error":"#VALUE!"},{"$f":"AVERAGE($AA$3:AA349)","v":{"$error":"#VALUE!"}},null,null,null,{"$f":"((AA349*#REF!)+(#REF!*#REF!)+(#REF!*#REF!))/(#REF!+#REF!+#REF!)","v":{"$error":"#VALUE!"}},{"$f":"((AA349*#REF!)+(#REF!*#REF!)+(#REF!*#REF!))/(#REF!+#REF!+#REF!)","v":{"$error":"#VALUE!"}},{"$f":"((AA349*#REF!)+(#REF!*#REF!)+(#REF!*#REF!))/(#REF!+#REF!+#REF!)","v":{"$error":"#VALUE!"}},{"$f":"((AA349*#REF!)+(#REF!*#REF!)+(#REF!*#REF!))/(#REF!+#REF!+#REF!)","v":{"$error":"#VALUE!"}},{"$f":"((AA349*#REF!)+(#REF!*#REF!)+(#REF!*#REF!))/(#REF!+#REF!+#REF!)","v":{"$error":"#VALUE!"}},{"$f":"((AA349*#REF!)+(#REF!*#REF!)+(#REF!*#REF!))/(#REF!+#REF!+#REF!)","v":{"$error":"#VALUE!"}},{"$f":"((AA349*#REF!)+(#REF!*#REF!)+(#REF!*#REF!))/(#REF!+#REF!+#REF!)","v":{"$error":"#VALUE!"}}]
[null,null,null,null,null,null,null,null,null,null,null,null,null,null,null,null,null,null,null,null,null,348,{"$error":"#VALUE!"},{"$f":"AVERAGE($W$3:W350)","v":{"$error":"#VALUE!"}},null,{"$error":"#VALUE!"},{"$error":"#VALUE!"},{"$f":"AVERAGE($AA$3:AA350)","v":{"$error":"#VALUE!"}},null,null,null,{"$f":"((AA350*#REF!)+(#REF!*#REF!)+(#REF!*#REF!))/(#REF!+#REF!+#REF!)","v":{"$error":"#VALUE!"}},{"$f":"((AA350*#REF!)+(#REF!*#REF!)+(#REF!*#REF!))/(#REF!+#REF!+#REF!)","v":{"$error":"#VALUE!"}},{"$f":"((AA350*#REF!)+(#REF!*#REF!)+(#REF!*#REF!))/(#REF!+#REF!+#REF!)","v":{"$error":"#VALUE!"}},{"$f":"((AA350*#REF!)+(#REF!*#REF!)+(#REF!*#REF!))/(#REF!+#REF!+#REF!)","v":{"$error":"#VALUE!"}},{"$f":"((AA350*#REF!)+(#REF!*#REF!)+(#REF!*#REF!))/(#REF!+#REF!+#REF!)","v":{"$error":"#VALUE!"}},{"$f":"((AA350*#REF!)+(#REF!*#REF!)+(#REF!*#REF!))/(#REF!+#REF!+#REF!)","v":{"$error":"#VALUE!"}},{"$f":"((AA350*#REF!)+(#REF!*#REF!)+(#REF!*#REF!))/(#REF!+#REF!+#REF!)","v":{"$error":"#VALUE!"}}]
[null,null,null,null,null,null,null,null,null,null,null,null,null,null,null,null,null,null,null,null,null,349,{"$error":"#VALUE!"},{"$f":"AVERAGE($W$3:W351)","v":{"$error":"#VALUE!"}},null,{"$error":"#VALUE!"},{"$error":"#VALUE!"},{"$f":"AVERAGE($AA$3:AA351)","v":{"$error":"#VALUE!"}},null,null,null,{"$f":"((AA351*#REF!)+(#REF!*#REF!)+(#REF!*#REF!))/(#REF!+#REF!+#REF!)","v":{"$error":"#VALUE!"}},{"$f":"((AA351*#REF!)+(#REF!*#REF!)+(#REF!*#REF!))/(#REF!+#REF!+#REF!)","v":{"$error":"#VALUE!"}},{"$f":"((AA351*#REF!)+(#REF!*#REF!)+(#REF!*#REF!))/(#REF!+#REF!+#REF!)","v":{"$error":"#VALUE!"}},{"$f":"((AA351*#REF!)+(#REF!*#REF!)+(#REF!*#REF!))/(#REF!+#REF!+#REF!)","v":{"$error":"#VALUE!"}},{"$f":"((AA351*#REF!)+(#REF!*#REF!)+(#REF!*#REF!))/(#REF!+#REF!+#REF!)","v":{"$error":"#VALUE!"}},{"$f":"((AA351*#REF!)+(#REF!*#REF!)+(#REF!*#REF!))/(#REF!+#REF!+#REF!)","v":{"$error":"#VALUE!"}},{"$f":"((AA351*#REF!)+(#REF!*#REF!)+(#REF!*#REF!))/(#REF!+#REF!+#REF!)","v":{"$error":"#VALUE!"}}]
[null,null,null,null,null,null,null,null,null,null,null,null,null,null,null,null,null,null,null,null,null,350,{"$error":"#VALUE!"},{"$f":"AVERAGE($W$3:W352)","v":{"$error":"#VALUE!"}},null,{"$error":"#VALUE!"},{"$error":"#VALUE!"},{"$f":"AVERAGE($AA$3:AA352)","v":{"$error":"#VALUE!"}},null,null,null,{"$f":"((AA352*#REF!)+(#REF!*#REF!)+(#REF!*#REF!))/(#REF!+#REF!+#REF!)","v":{"$error":"#VALUE!"}},{"$f":"((AA352*#REF!)+(#REF!*#REF!)+(#REF!*#REF!))/(#REF!+#REF!+#REF!)","v":{"$error":"#VALUE!"}},{"$f":"((AA352*#REF!)+(#REF!*#REF!)+(#REF!*#REF!))/(#REF!+#REF!+#REF!)","v":{"$error":"#VALUE!"}},{"$f":"((AA352*#REF!)+(#REF!*#REF!)+(#REF!*#REF!))/(#REF!+#REF!+#REF!)","v":{"$error":"#VALUE!"}},{"$f":"((AA352*#REF!)+(#REF!*#REF!)+(#REF!*#REF!))/(#REF!+#REF!+#REF!)","v":{"$error":"#VALUE!"}},{"$f":"((AA352*#REF!)+(#REF!*#REF!)+(#REF!*#REF!))/(#REF!+#REF!+#REF!)","v":{"$error":"#VALUE!"}},{"$f":"((AA352*#REF!)+(#REF!*#REF!)+(#REF!*#REF!))/(#REF!+#REF!+#REF!)","v":{"$error":"#VALUE!"}}]
[null,null,null,null,null,null,null,null,null,null,null,null,null,null,null,null,null,null,null,null,null,351,{"$error":"#VALUE!"},{"$f":"AVERAGE($W$3:W353)","v":{"$error":"#VALUE!"}},null,{"$error":"#VALUE!"},{"$error":"#VALUE!"},{"$f":"AVERAGE($AA$3:AA353)","v":{"$error":"#VALUE!"}},null,null,null,{"$f":"((AA353*#REF!)+(#REF!*#REF!)+(#REF!*#REF!))/(#REF!+#REF!+#REF!)","v":{"$error":"#VALUE!"}},{"$f":"((AA353*#REF!)+(#REF!*#REF!)+(#REF!*#REF!))/(#REF!+#REF!+#REF!)","v":{"$error":"#VALUE!"}},{"$f":"((AA353*#REF!)+(#REF!*#REF!)+(#REF!*#REF!))/(#REF!+#REF!+#REF!)","v":{"$error":"#VALUE!"}},{"$f":"((AA353*#REF!)+(#REF!*#REF!)+(#REF!*#REF!))/(#REF!+#REF!+#REF!)","v":{"$error":"#VALUE!"}},{"$f":"((AA353*#REF!)+(#REF!*#REF!)+(#REF!*#REF!))/(#REF!+#REF!+#REF!)","v":{"$error":"#VALUE!"}},{"$f":"((AA353*#REF!)+(#REF!*#REF!)+(#REF!*#REF!))/(#REF!+#REF!+#REF!)","v":{"$error":"#VALUE!"}},{"$f":"((AA353*#REF!)+(#REF!*#REF!)+(#REF!*#REF!))/(#REF!+#REF!+#REF!)","v":{"$error":"#VALUE!"}}]
[null,null,null,null,null,null,null,null,null,null,null,null,null,null,null,null,null,null,null,null,null,352,{"$error":"#VALUE!"},{"$f":"AVERAGE($W$3:W354)","v":{"$error":"#VALUE!"}},null,{"$error":"#VALUE!"},{"$error":"#VALUE!"},{"$f":"AVERAGE($AA$3:AA354)","v":{"$error":"#VALUE!"}},null,null,null,{"$f":"((AA354*#REF!)+(#REF!*#REF!)+(#REF!*#REF!))/(#REF!+#REF!+#REF!)","v":{"$error":"#VALUE!"}},{"$f":"((AA354*#REF!)+(#REF!*#REF!)+(#REF!*#REF!))/(#REF!+#REF!+#REF!)","v":{"$error":"#VALUE!"}},{"$f":"((AA354*#REF!)+(#REF!*#REF!)+(#REF!*#REF!))/(#REF!+#REF!+#REF!)","v":{"$error":"#VALUE!"}},{"$f":"((AA354*#REF!)+(#REF!*#REF!)+(#REF!*#REF!))/(#REF!+#REF!+#REF!)","v":{"$error":"#VALUE!"}},{"$f":"((AA354*#REF!)+(#REF!*#REF!)+(#REF!*#REF!))/(#REF!+#REF!+#REF!)","v":{"$error":"#VALUE!"}},{"$f":"((AA354*#REF!)+(#REF!*#REF!)+(#REF!*#REF!))/(#REF!+#REF!+#REF!)","v":{"$error":"#VALUE!"}},{"$f":"((AA354*#REF!)+(#REF!*#REF!)+(#REF!*#REF!))/(#REF!+#REF!+#REF!)","v":{"$error":"#VALUE!"}}]
[null,null,null,null,null,null,null,null,null,null,null,null,null,null,null,null,null,null,null,null,null,353,{"$error":"#VALUE!"},{"$f":"AVERAGE($W$3:W355)","v":{"$error":"#VALUE!"}},null,{"$error":"#VALUE!"},{"$error":"#VALUE!"},{"$f":"AVERAGE($AA$3:AA355)","v":{"$error":"#VALUE!"}},null,null,null,{"$f":"((AA355*#REF!)+(#REF!*#REF!)+(#REF!*#REF!))/(#REF!+#REF!+#REF!)","v":{"$error":"#VALUE!"}},{"$f":"((AA355*#REF!)+(#REF!*#REF!)+(#REF!*#REF!))/(#REF!+#REF!+#REF!)","v":{"$error":"#VALUE!"}},{"$f":"((AA355*#REF!)+(#REF!*#REF!)+(#REF!*#REF!))/(#REF!+#REF!+#REF!)","v":{"$error":"#VALUE!"}},{"$f":"((AA355*#REF!)+(#REF!*#REF!)+(#REF!*#REF!))/(#REF!+#REF!+#REF!)","v":{"$error":"#VALUE!"}},{"$f":"((AA355*#REF!)+(#REF!*#REF!)+(#REF!*#REF!))/(#REF!+#REF!+#REF!)","v":{"$error":"#VALUE!"}},{"$f":"((AA355*#REF!)+(#REF!*#REF!)+(#REF!*#REF!))/(#REF!+#REF!+#REF!)","v":{"$error":"#VALUE!"}},{"$f":"((AA355*#REF!)+(#REF!*#REF!)+(#REF!*#REF!))/(#REF!+#REF!+#REF!)","v":{"$error":"#VALUE!"}}]
[null,null,null,null,null,null,null,null,null,null,null,null,null,null,null,null,null,null,null,null,null,354,{"$error":"#VALUE!"},{"$f":"AVERAGE($W$3:W356)","v":{"$error":"#VALUE!"}},null,{"$error":"#VALUE!"},{"$error":"#VALUE!"},{"$f":"AVERAGE($AA$3:AA356)","v":{"$error":"#VALUE!"}},null,null,null,{"$f":"((AA356*#REF!)+(#REF!*#REF!)+(#REF!*#REF!))/(#REF!+#REF!+#REF!)","v":{"$error":"#VALUE!"}},{"$f":"((AA356*#REF!)+(#REF!*#REF!)+(#REF!*#REF!))/(#REF!+#REF!+#REF!)","v":{"$error":"#VALUE!"}},{"$f":"((AA356*#REF!)+(#REF!*#REF!)+(#REF!*#REF!))/(#REF!+#REF!+#REF!)","v":{"$error":"#VALUE!"}},{"$f":"((AA356*#REF!)+(#REF!*#REF!)+(#REF!*#REF!))/(#REF!+#REF!+#REF!)","v":{"$error":"#VALUE!"}},{"$f":"((AA356*#REF!)+(#REF!*#REF!)+(#REF!*#REF!))/(#REF!+#REF!+#REF!)","v":{"$error":"#VALUE!"}},{"$f":"((AA356*#REF!)+(#REF!*#REF!)+(#REF!*#REF!))/(#REF!+#REF!+#REF!)","v":{"$error":"#VALUE!"}},{"$f":"((AA356*#REF!)+(#REF!*#REF!)+(#REF!*#REF!))/(#REF!+#REF!+#REF!)","v":{"$error":"#VALUE!"}}]
[null,null,null,null,null,null,null,null,null,null,null,null,null,null,null,null,null,null,null,null,null,355,{"$error":"#VALUE!"},{"$f":"AVERAGE($W$3:W357)","v":{"$error":"#VALUE!"}},null,{"$error":"#VALUE!"},{"$error":"#VALUE!"},{"$f":"AVERAGE($AA$3:AA357)","v":{"$error":"#VALUE!"}},null,null,null,{"$f":"((AA357*#REF!)+(#REF!*#REF!)+(#REF!*#REF!))/(#REF!+#REF!+#REF!)","v":{"$error":"#VALUE!"}},{"$f":"((AA357*#REF!)+(#REF!*#REF!)+(#REF!*#REF!))/(#REF!+#REF!+#REF!)","v":{"$error":"#VALUE!"}},{"$f":"((AA357*#REF!)+(#REF!*#REF!)+(#REF!*#REF!))/(#REF!+#REF!+#REF!)","v":{"$error":"#VALUE!"}},{"$f":"((AA357*#REF!)+(#REF!*#REF!)+(#REF!*#REF!))/(#REF!+#REF!+#REF!)","v":{"$error":"#VALUE!"}},{"$f":"((AA357*#REF!)+(#REF!*#REF!)+(#REF!*#REF!))/(#REF!+#REF!+#REF!)","v":{"$error":"#VALUE!"}},{"$f":"((AA357*#REF!)+(#REF!*#REF!)+(#REF!*#REF!))/(#REF!+#REF!+#REF!)","v":{"$error":"#VALUE!"}},{"$f":"((AA357*#REF!)+(#REF!*#REF!)+(#REF!*#REF!))/(#REF!+#REF!+#REF!)","v":{"$error":"#VALUE!"}}]
[null,null,null,null,null,null,null,null,null,null,null,null,null,null,null,null,null,null,null,null,null,356,{"$error":"#VALUE!"},{"$f":"AVERAGE($W$3:W358)","v":{"$error":"#VALUE!"}},null,{"$error":"#VALUE!"},{"$error":"#VALUE!"},{"$f":"AVERAGE($AA$3:AA358)","v":{"$error":"#VALUE!"}},null,null,null,{"$f":"((AA358*#REF!)+(#REF!*#REF!)+(#REF!*#REF!))/(#REF!+#REF!+#REF!)","v":{"$error":"#VALUE!"}},{"$f":"((AA358*#REF!)+(#REF!*#REF!)+(#REF!*#REF!))/(#REF!+#REF!+#REF!)","v":{"$error":"#VALUE!"}},{"$f":"((AA358*#REF!)+(#REF!*#REF!)+(#REF!*#REF!))/(#REF!+#REF!+#REF!)","v":{"$error":"#VALUE!"}},{"$f":"((AA358*#REF!)+(#REF!*#REF!)+(#REF!*#REF!))/(#REF!+#REF!+#REF!)","v":{"$error":"#VALUE!"}},{"$f":"((AA358*#REF!)+(#REF!*#REF!)+(#REF!*#REF!))/(#REF!+#REF!+#REF!)","v":{"$error":"#VALUE!"}},{"$f":"((AA358*#REF!)+(#REF!*#REF!)+(#REF!*#REF!))/(#REF!+#REF!+#REF!)","v":{"$error":"#VALUE!"}},{"$f":"((AA358*#REF!)+(#REF!*#REF!)+(#REF!*#REF!))/(#REF!+#REF!+#REF!)","v":{"$error":"#VALUE!"}}]
[null,null,null,null,null,null,null,null,null,null,null,null,null,null,null,null,null,null,null,null,null,357,{"$error":"#VALUE!"},{"$f":"AVERAGE($W$3:W359)","v":{"$error":"#VALUE!"}},null,{"$error":"#VALUE!"},{"$error":"#VALUE!"},{"$f":"AVERAGE($AA$3:AA359)","v":{"$error":"#VALUE!"}},null,null,null,{"$f":"((AA359*#REF!)+(#REF!*#REF!)+(#REF!*#REF!))/(#REF!+#REF!+#REF!)","v":{"$error":"#VALUE!"}},{"$f":"((AA359*#REF!)+(#REF!*#REF!)+(#REF!*#REF!))/(#REF!+#REF!+#REF!)","v":{"$error":"#VALUE!"}},{"$f":"((AA359*#REF!)+(#REF!*#REF!)+(#REF!*#REF!))/(#REF!+#REF!+#REF!)","v":{"$error":"#VALUE!"}},{"$f":"((AA359*#REF!)+(#REF!*#REF!)+(#REF!*#REF!))/(#REF!+#REF!+#REF!)","v":{"$error":"#VALUE!"}},{"$f":"((AA359*#REF!)+(#REF!*#REF!)+(#REF!*#REF!))/(#REF!+#REF!+#REF!)","v":{"$error":"#VALUE!"}},{"$f":"((AA359*#REF!)+(#REF!*#REF!)+(#REF!*#REF!))/(#REF!+#REF!+#REF!)","v":{"$error":"#VALUE!"}},{"$f":"((AA359*#REF!)+(#REF!*#REF!)+(#REF!*#REF!))/(#REF!+#REF!+#REF!)","v":{"$error":"#VALUE!"}}]
[null,null,null,null,null,null,null,null,null,null,null,null,null,null,null,null,null,null,null,null,null,358,{"$error":"#VALUE!"},{"$f":"AVERAGE($W$3:W360)","v":{"$error":"#VALUE!"}},null,{"$error":"#VALUE!"},{"$error":"#VALUE!"},{"$f":"AVERAGE($AA$3:AA360)","v":{"$error":"#VALUE!"}},null,null,null,{"$f":"((AA360*#REF!)+(#REF!*#REF!)+(#REF!*#REF!))/(#REF!+#REF!+#REF!)","v":{"$error":"#VALUE!"}},{"$f":"((AA360*#REF!)+(#REF!*#REF!)+(#REF!*#REF!))/(#REF!+#REF!+#REF!)","v":{"$error":"#VALUE!"}},{"$f":"((AA360*#REF!)+(#REF!*#REF!)+(#REF!*#REF!))/(#REF!+#REF!+#REF!)","v":{"$error":"#VALUE!"}},{"$f":"((AA360*#REF!)+(#REF!*#REF!)+(#REF!*#REF!))/(#REF!+#REF!+#REF!)","v":{"$error":"#VALUE!"}},{"$f":"((AA360*#REF!)+(#REF!*#REF!)+(#REF!*#REF!))/(#REF!+#REF!+#REF!)","v":{"$error":"#VALUE!"}},{"$f":"((AA360*#REF!)+(#REF!*#REF!)+(#REF!*#REF!))/(#REF!+#REF!+#REF!)","v":{"$error":"#VALUE!"}},{"$f":"((AA360*#REF!)+(#REF!*#REF!)+(#REF!*#REF!))/(#REF!+#REF!+#REF!)","v":{"$error":"#VALUE!"}}]
[null,null,null,null,null,null,null,null,null,null,null,null,null,null,null,null,null,null,null,null,null,359,{"$error":"#VALUE!"},{"$f":"AVERAGE($W$3:W361)","v":{"$error":"#VALUE!"}},null,{"$error":"#VALUE!"},{"$error":"#VALUE!"},{"$f":"AVERAGE($AA$3:AA361)","v":{"$error":"#VALUE!"}},null,null,null,{"$f":"((AA361*#REF!)+(#REF!*#REF!)+(#REF!*#REF!))/(#REF!+#REF!+#REF!)","v":{"$error":"#VALUE!"}},{"$f":"((AA361*#REF!)+(#REF!*#REF!)+(#REF!*#REF!))/(#REF!+#REF!+#REF!)","v":{"$error":"#VALUE!"}},{"$f":"((AA361*#REF!)+(#REF!*#REF!)+(#REF!*#REF!))/(#REF!+#REF!+#REF!)","v":{"$error":"#VALUE!"}},{"$f":"((AA361*#REF!)+(#REF!*#REF!)+(#REF!*#REF!))/(#REF!+#REF!+#REF!)","v":{"$error":"#VALUE!"}},{"$f":"((AA361*#REF!)+(#REF!*#REF!)+(#REF!*#REF!))/(#REF!+#REF!+#REF!)","v":{"$error":"#VALUE!"}},{"$f":"((AA361*#REF!)+(#REF!*#REF!)+(#REF!*#REF!))/(#REF!+#REF!+#REF!)","v":{"$error":"#VALUE!"}},{"$f":"((AA361*#REF!)+(#REF!*#REF!)+(#REF!*#REF!))/(#REF!+#REF!+#REF!)","v":{"$error":"#VALUE!"}}]
[null,null,null,null,null,null,null,null,null,null,null,null,null,null,null,null,null,null,null,null,null,360,{"$error":"#VALUE!"},{"$f":"AVERAGE($W$3:W362)","v":{"$error":"#VALUE!"}},null,{"$error":"#VALUE!"},{"$error":"#VALUE!"},{"$f":"AVERAGE($AA$3:AA362)","v":{"$error":"#VALUE!"}},null,null,null,{"$f":"((AA362*#REF!)+(#REF!*#REF!)+(#REF!*#REF!))/(#REF!+#REF!+#REF!)","v":{"$error":"#VALUE!"}},{"$f":"((AA362*#REF!)+(#REF!*#REF!)+(#REF!*#REF!))/(#REF!+#REF!+#REF!)","v":{"$error":"#VALUE!"}},{"$f":"((AA362*#REF!)+(#REF!*#REF!)+(#REF!*#REF!))/(#REF!+#REF!+#REF!)","v":{"$error":"#VALUE!"}},{"$f":"((AA362*#REF!)+(#REF!*#REF!)+(#REF!*#REF!))/(#REF!+#REF!+#REF!)","v":{"$error":"#VALUE!"}},{"$f":"((AA362*#REF!)+(#REF!*#REF!)+(#REF!*#REF!))/(#REF!+#REF!+#REF!)","v":{"$error":"#VALUE!"}},{"$f":"((AA362*#REF!)+(#REF!*#REF!)+(#REF!*#REF!))/(#REF!+#REF!+#REF!)","v":{"$error":"#VALUE!"}},{"$f":"((AA362*#REF!)+(#REF!*#REF!)+(#REF!*#REF!))/(#REF!+#REF!+#REF!)","v":{"$error":"#VALUE!"}}]
[null,null,null,null,null,null,null,null,null,null,null,null,null,null,null,null,null,null,null,null,null,361,{"$error":"#VALUE!"},{"$f":"AVERAGE($W$3:W363)","v":{"$error":"#VALUE!"}},null,{"$error":"#VALUE!"},{"$error":"#VALUE!"},{"$f":"AVERAGE($AA$3:AA363)","v":{"$error":"#VALUE!"}},null,null,null,{"$f":"((AA363*#REF!)+(#REF!*#REF!)+(#REF!*#REF!))/(#REF!+#REF!+#REF!)","v":{"$error":"#VALUE!"}},{"$f":"((AA363*#REF!)+(#REF!*#REF!)+(#REF!*#REF!))/(#REF!+#REF!+#REF!)","v":{"$error":"#VALUE!"}},{"$f":"((AA363*#REF!)+(#REF!*#REF!)+(#REF!*#REF!))/(#REF!+#REF!+#REF!)","v":{"$error":"#VALUE!"}},{"$f":"((AA363*#REF!)+(#REF!*#REF!)+(#REF!*#REF!))/(#REF!+#REF!+#REF!)","v":{"$error":"#VALUE!"}},{"$f":"((AA363*#REF!)+(#REF!*#REF!)+(#REF!*#REF!))/(#REF!+#REF!+#REF!)","v":{"$error":"#VALUE!"}},{"$f":"((AA363*#REF!)+(#REF!*#REF!)+(#REF!*#REF!))/(#REF!+#REF!+#REF!)","v":{"$error":"#VALUE!"}},{"$f":"((AA363*#REF!)+(#REF!*#REF!)+(#REF!*#REF!))/(#REF!+#REF!+#REF!)","v":{"$error":"#VALUE!"}}]
[null,null,null,null,null,null,null,null,null,null,null,null,null,null,null,null,null,null,null,null,null,362,{"$error":"#VALUE!"},{"$f":"AVERAGE($W$3:W364)","v":{"$error":"#VALUE!"}},null,{"$error":"#VALUE!"},{"$error":"#VALUE!"},{"$f":"AVERAGE($AA$3:AA364)","v":{"$error":"#VALUE!"}},null,null,null,{"$f":"((AA364*#REF!)+(#REF!*#REF!)+(#REF!*#REF!))/(#REF!+#REF!+#REF!)","v":{"$error":"#VALUE!"}},{"$f":"((AA364*#REF!)+(#REF!*#REF!)+(#REF!*#REF!))/(#REF!+#REF!+#REF!)","v":{"$error":"#VALUE!"}},{"$f":"((AA364*#REF!)+(#REF!*#REF!)+(#REF!*#REF!))/(#REF!+#REF!+#REF!)","v":{"$error":"#VALUE!"}},{"$f":"((AA364*#REF!)+(#REF!*#REF!)+(#REF!*#REF!))/(#REF!+#REF!+#REF!)","v":{"$error":"#VALUE!"}},{"$f":"((AA364*#REF!)+(#REF!*#REF!)+(#REF!*#REF!))/(#REF!+#REF!+#REF!)","v":{"$error":"#VALUE!"}},{"$f":"((AA364*#REF!)+(#REF!*#REF!)+(#REF!*#REF!))/(#REF!+#REF!+#REF!)","v":{"$error":"#VALUE!"}},{"$f":"((AA364*#REF!)+(#REF!*#REF!)+(#REF!*#REF!))/(#REF!+#REF!+#REF!)","v":{"$error":"#VALUE!"}}]
[null,null,null,null,null,null,null,null,null,null,null,null,null,null,null,null,null,null,null,null,null,363,{"$error":"#VALUE!"},{"$f":"AVERAGE($W$3:W365)","v":{"$error":"#VALUE!"}},null,{"$error":"#VALUE!"},{"$error":"#VALUE!"},{"$f":"AVERAGE($AA$3:AA365)","v":{"$error":"#VALUE!"}},null,null,null,{"$f":"((AA365*#REF!)+(#REF!*#REF!)+(#REF!*#REF!))/(#REF!+#REF!+#REF!)","v":{"$error":"#VALUE!"}},{"$f":"((AA365*#REF!)+(#REF!*#REF!)+(#REF!*#REF!))/(#REF!+#REF!+#REF!)","v":{"$error":"#VALUE!"}},{"$f":"((AA365*#REF!)+(#REF!*#REF!)+(#REF!*#REF!))/(#REF!+#REF!+#REF!)","v":{"$error":"#VALUE!"}},{"$f":"((AA365*#REF!)+(#REF!*#REF!)+(#REF!*#REF!))/(#REF!+#REF!+#REF!)","v":{"$error":"#VALUE!"}},{"$f":"((AA365*#REF!)+(#REF!*#REF!)+(#REF!*#REF!))/(#REF!+#REF!+#REF!)","v":{"$error":"#VALUE!"}},{"$f":"((AA365*#REF!)+(#REF!*#REF!)+(#REF!*#REF!))/(#REF!+#REF!+#REF!)","v":{"$error":"#VALUE!"}},{"$f":"((AA365*#REF!)+(#REF!*#REF!)+(#REF!*#REF!))/(#REF!+#REF!+#REF!)","v":{"$error":"#VALUE!"}}]
[null,null,null,null,null,null,null,null,null,null,null,null,null,null,null,null,null,null,null,null,null,364,{"$error":"#VALUE!"},{"$f":"AVERAGE($W$3:W366)","v":{"$error":"#VALUE!"}},null,{"$error":"#VALUE!"},{"$error":"#VALUE!"},{"$f":"AVERAGE($AA$3:AA366)","v":{"$error":"#VALUE!"}},null,null,null,{"$f":"((AA366*#REF!)+(#REF!*#REF!)+(#REF!*#REF!))/(#REF!+#REF!+#REF!)","v":{"$error":"#VALUE!"}},{"$f":"((AA366*#REF!)+(#REF!*#REF!)+(#REF!*#REF!))/(#REF!+#REF!+#REF!)","v":{"$error":"#VALUE!"}},{"$f":"((AA366*#REF!)+(#REF!*#REF!)+(#REF!*#REF!))/(#REF!+#REF!+#REF!)","v":{"$error":"#VALUE!"}},{"$f":"((AA366*#REF!)+(#REF!*#REF!)+(#REF!*#REF!))/(#REF!+#REF!+#REF!)","v":{"$error":"#VALUE!"}},{"$f":"((AA366*#REF!)+(#REF!*#REF!)+(#REF!*#REF!))/(#REF!+#REF!+#REF!)","v":{"$error":"#VALUE!"}},{"$f":"((AA366*#REF!)+(#REF!*#REF!)+(#REF!*#REF!))/(#REF!+#REF!+#REF!)","v":{"$error":"#VALUE!"}},{"$f":"((AA366*#REF!)+(#REF!*#REF!)+(#REF!*#REF!))/(#REF!+#REF!+#REF!)","v":{"$error":"#VALUE!"}}]
[null,null,null,null,null,null,null,null,null,null,null,null,null,null,null,null,null,null,null,null,null,365,{"$error":"#VALUE!"},{"$f":"AVERAGE($W$3:W367)","v":{"$error":"#VALUE!"}},null,{"$error":"#VALUE!"},{"$error":"#VALUE!"},{"$f":"AVERAGE($AA$3:AA367)","v":{"$error":"#VALUE!"}},null,null,null,{"$f":"((AA367*#REF!)+(#REF!*#REF!)+(#REF!*#REF!))/(#REF!+#REF!+#REF!)","v":{"$error":"#VALUE!"}},{"$f":"((AA367*#REF!)+(#REF!*#REF!)+(#REF!*#REF!))/(#REF!+#REF!+#REF!)","v":{"$error":"#VALUE!"}},{"$f":"((AA367*#REF!)+(#REF!*#REF!)+(#REF!*#REF!))/(#REF!+#REF!+#REF!)","v":{"$error":"#VALUE!"}},{"$f":"((AA367*#REF!)+(#REF!*#REF!)+(#REF!*#REF!))/(#REF!+#REF!+#REF!)","v":{"$error":"#VALUE!"}},{"$f":"((AA367*#REF!)+(#REF!*#REF!)+(#REF!*#REF!))/(#REF!+#REF!+#REF!)","v":{"$error":"#VALUE!"}},{"$f":"((AA367*#REF!)+(#REF!*#REF!)+(#REF!*#REF!))/(#REF!+#REF!+#REF!)","v":{"$error":"#VALUE!"}},{"$f":"((AA367*#REF!)+(#REF!*#REF!)+(#REF!*#REF!))/(#REF!+#REF!+#REF!)","v":{"$error":"#VALUE!"}}]
[null,null,null,null,null,null,null,null,null,null,null,null,null,null,null,null,null,null,null,null,null,366,{"$error":"#VALUE!"},{"$f":"AVERAGE($W$3:W368)","v":{"$error":"#VALUE!"}},null,{"$error":"#VALUE!"},{"$error":"#VALUE!"},{"$f":"AVERAGE($AA$3:AA368)","v":{"$error":"#VALUE!"}},null,null,null,{"$f":"((AA368*#REF!)+(#REF!*#REF!)+(#REF!*#REF!))/(#REF!+#REF!+#REF!)","v":{"$error":"#VALUE!"}},{"$f":"((AA368*#REF!)+(#REF!*#REF!)+(#REF!*#REF!))/(#REF!+#REF!+#REF!)","v":{"$error":"#VALUE!"}},{"$f":"((AA368*#REF!)+(#REF!*#REF!)+(#REF!*#REF!))/(#REF!+#REF!+#REF!)","v":{"$error":"#VALUE!"}},{"$f":"((AA368*#REF!)+(#REF!*#REF!)+(#REF!*#REF!))/(#REF!+#REF!+#REF!)","v":{"$error":"#VALUE!"}},{"$f":"((AA368*#REF!)+(#REF!*#REF!)+(#REF!*#REF!))/(#REF!+#REF!+#REF!)","v":{"$error":"#VALUE!"}},{"$f":"((AA368*#REF!)+(#REF!*#REF!)+(#REF!*#REF!))/(#REF!+#REF!+#REF!)","v":{"$error":"#VALUE!"}},{"$f":"((AA368*#REF!)+(#REF!*#REF!)+(#REF!*#REF!))/(#REF!+#REF!+#REF!)","v":{"$error":"#VALUE!"}}]
[null,null,null,null,null,null,null,null,null,null,null,null,null,null,null,null,null,null,null,null,null,367,{"$error":"#VALUE!"},{"$f":"AVERAGE($W$3:W369)","v":{"$error":"#VALUE!"}},null,{"$error":"#VALUE!"},{"$error":"#VALUE!"},{"$f":"AVERAGE($AA$3:AA369)","v":{"$error":"#VALUE!"}},null,null,null,{"$f":"((AA369*#REF!)+(#REF!*#REF!)+(#REF!*#REF!))/(#REF!+#REF!+#REF!)","v":{"$error":"#VALUE!"}},{"$f":"((AA369*#REF!)+(#REF!*#REF!)+(#REF!*#REF!))/(#REF!+#REF!+#REF!)","v":{"$error":"#VALUE!"}},{"$f":"((AA369*#REF!)+(#REF!*#REF!)+(#REF!*#REF!))/(#REF!+#REF!+#REF!)","v":{"$error":"#VALUE!"}},{"$f":"((AA369*#REF!)+(#REF!*#REF!)+(#REF!*#REF!))/(#REF!+#REF!+#REF!)","v":{"$error":"#VALUE!"}},{"$f":"((AA369*#REF!)+(#REF!*#REF!)+(#REF!*#REF!))/(#REF!+#REF!+#REF!)","v":{"$error":"#VALUE!"}},{"$f":"((AA369*#REF!)+(#REF!*#REF!)+(#REF!*#REF!))/(#REF!+#REF!+#REF!)","v":{"$error":"#VALUE!"}},{"$f":"((AA369*#REF!)+(#REF!*#REF!)+(#REF!*#REF!))/(#REF!+#REF!+#REF!)","v":{"$error":"#VALUE!"}}]
[null,null,null,null,null,null,null,null,null,null,null,null,null,null,null,null,null,null,null,null,null,368,{"$error":"#VALUE!"},{"$f":"AVERAGE($W$3:W370)","v":{"$error":"#VALUE!"}},null,{"$error":"#VALUE!"},{"$error":"#VALUE!"},{"$f":"AVERAGE($AA$3:AA370)","v":{"$error":"#VALUE!"}},null,null,null,{"$f":"((AA370*#REF!)+(#REF!*#REF!)+(#REF!*#REF!))/(#REF!+#REF!+#REF!)","v":{"$error":"#VALUE!"}},{"$f":"((AA370*#REF!)+(#REF!*#REF!)+(#REF!*#REF!))/(#REF!+#REF!+#REF!)","v":{"$error":"#VALUE!"}},{"$f":"((AA370*#REF!)+(#REF!*#REF!)+(#REF!*#REF!))/(#REF!+#REF!+#REF!)","v":{"$error":"#VALUE!"}},{"$f":"((AA370*#REF!)+(#REF!*#REF!)+(#REF!*#REF!))/(#REF!+#REF!+#REF!)","v":{"$error":"#VALUE!"}},{"$f":"((AA370*#REF!)+(#REF!*#REF!)+(#REF!*#REF!))/(#REF!+#REF!+#REF!)","v":{"$error":"#VALUE!"}},{"$f":"((AA370*#REF!)+(#REF!*#REF!)+(#REF!*#REF!))/(#REF!+#REF!+#REF!)","v":{"$error":"#VALUE!"}},{"$f":"((AA370*#REF!)+(#REF!*#REF!)+(#REF!*#REF!))/(#REF!+#REF!+#REF!)","v":{"$error":"#VALUE!"}}]
[null,null,null,null,null,null,null,null,null,null,null,null,null,null,null,null,null,null,null,null,null,369,{"$error":"#VALUE!"},{"$f":"AVERAGE($W$3:W371)","v":{"$error":"#VALUE!"}},null,{"$error":"#VALUE!"},{"$error":"#VALUE!"},{"$f":"AVERAGE($AA$3:AA371)","v":{"$error":"#VALUE!"}},null,null,null,{"$f":"((AA371*#REF!)+(#REF!*#REF!)+(#REF!*#REF!))/(#REF!+#REF!+#REF!)","v":{"$error":"#VALUE!"}},{"$f":"((AA371*#REF!)+(#REF!*#REF!)+(#REF!*#REF!))/(#REF!+#REF!+#REF!)","v":{"$error":"#VALUE!"}},{"$f":"((AA371*#REF!)+(#REF!*#REF!)+(#REF!*#REF!))/(#REF!+#REF!+#REF!)","v":{"$error":"#VALUE!"}},{"$f":"((AA371*#REF!)+(#REF!*#REF!)+(#REF!*#REF!))/(#REF!+#REF!+#REF!)","v":{"$error":"#VALUE!"}},{"$f":"((AA371*#REF!)+(#REF!*#REF!)+(#REF!*#REF!))/(#REF!+#REF!+#REF!)","v":{"$error":"#VALUE!"}},{"$f":"((AA371*#REF!)+(#REF!*#REF!)+(#REF!*#REF!))/(#REF!+#REF!+#REF!)","v":{"$error":"#VALUE!"}},{"$f":"((AA371*#REF!)+(#REF!*#REF!)+(#REF!*#REF!))/(#REF!+#REF!+#REF!)","v":{"$error":"#VALUE!"}}]
[null,null,null,null,null,null,null,null,null,null,null,null,null,null,null,null,null,null,null,null,null,370,{"$error":"#VALUE!"},{"$f":"AVERAGE($W$3:W372)","v":{"$error":"#VALUE!"}},null,{"$error":"#VALUE!"},{"$error":"#VALUE!"},{"$f":"AVERAGE($AA$3:AA372)","v":{"$error":"#VALUE!"}},null,null,null,{"$f":"((AA372*#REF!)+(#REF!*#REF!)+(#REF!*#REF!))/(#REF!+#REF!+#REF!)","v":{"$error":"#VALUE!"}},{"$f":"((AA372*#REF!)+(#REF!*#REF!)+(#REF!*#REF!))/(#REF!+#REF!+#REF!)","v":{"$error":"#VALUE!"}},{"$f":"((AA372*#REF!)+(#REF!*#REF!)+(#REF!*#REF!))/(#REF!+#REF!+#REF!)","v":{"$error":"#VALUE!"}},{"$f":"((AA372*#REF!)+(#REF!*#REF!)+(#REF!*#REF!))/(#REF!+#REF!+#REF!)","v":{"$error":"#VALUE!"}},{"$f":"((AA372*#REF!)+(#REF!*#REF!)+(#REF!*#REF!))/(#REF!+#REF!+#REF!)","v":{"$error":"#VALUE!"}},{"$f":"((AA372*#REF!)+(#REF!*#REF!)+(#REF!*#REF!))/(#REF!+#REF!+#REF!)","v":{"$error":"#VALUE!"}},{"$f":"((AA372*#REF!)+(#REF!*#REF!)+(#REF!*#REF!))/(#REF!+#REF!+#REF!)","v":{"$error":"#VALUE!"}}]
[null,null,null,null,null,null,null,null,null,null,null,null,null,null,null,null,null,null,null,null,null,371,{"$error":"#VALUE!"},{"$f":"AVERAGE($W$3:W373)","v":{"$error":"#VALUE!"}},null,{"$error":"#VALUE!"},{"$error":"#VALUE!"},{"$f":"AVERAGE($AA$3:AA373)","v":{"$error":"#VALUE!"}},null,null,null,{"$f":"((AA373*#REF!)+(#REF!*#REF!)+(#REF!*#REF!))/(#REF!+#REF!+#REF!)","v":{"$error":"#VALUE!"}},{"$f":"((AA373*#REF!)+(#REF!*#REF!)+(#REF!*#REF!))/(#REF!+#REF!+#REF!)","v":{"$error":"#VALUE!"}},{"$f":"((AA373*#REF!)+(#REF!*#REF!)+(#REF!*#REF!))/(#REF!+#REF!+#REF!)","v":{"$error":"#VALUE!"}},{"$f":"((AA373*#REF!)+(#REF!*#REF!)+(#REF!*#REF!))/(#REF!+#REF!+#REF!)","v":{"$error":"#VALUE!"}},{"$f":"((AA373*#REF!)+(#REF!*#REF!)+(#REF!*#REF!))/(#REF!+#REF!+#REF!)","v":{"$error":"#VALUE!"}},{"$f":"((AA373*#REF!)+(#REF!*#REF!)+(#REF!*#REF!))/(#REF!+#REF!+#REF!)","v":{"$error":"#VALUE!"}},{"$f":"((AA373*#REF!)+(#REF!*#REF!)+(#REF!*#REF!))/(#REF!+#REF!+#REF!)","v":{"$error":"#VALUE!"}}]
[null,null,null,null,null,null,null,null,null,null,null,null,null,null,null,null,null,null,null,null,null,372,{"$error":"#VALUE!"},{"$f":"AVERAGE($W$3:W374)","v":{"$error":"#VALUE!"}},null,{"$error":"#VALUE!"},{"$error":"#VALUE!"},{"$f":"AVERAGE($AA$3:AA374)","v":{"$error":"#VALUE!"}},null,null,null,{"$f":"((AA374*#REF!)+(#REF!*#REF!)+(#REF!*#REF!))/(#REF!+#REF!+#REF!)","v":{"$error":"#VALUE!"}},{"$f":"((AA374*#REF!)+(#REF!*#REF!)+(#REF!*#REF!))/(#REF!+#REF!+#REF!)","v":{"$error":"#VALUE!"}},{"$f":"((AA374*#REF!)+(#REF!*#REF!)+(#REF!*#REF!))/(#REF!+#REF!+#REF!)","v":{"$error":"#VALUE!"}},{"$f":"((AA374*#REF!)+(#REF!*#REF!)+(#REF!*#REF!))/(#REF!+#REF!+#REF!)","v":{"$error":"#VALUE!"}},{"$f":"((AA374*#REF!)+(#REF!*#REF!)+(#REF!*#REF!))/(#REF!+#REF!+#REF!)","v":{"$error":"#VALUE!"}},{"$f":"((AA374*#REF!)+(#REF!*#REF!)+(#REF!*#REF!))/(#REF!+#REF!+#REF!)","v":{"$error":"#VALUE!"}},{"$f":"((AA374*#REF!)+(#REF!*#REF!)+(#REF!*#REF!))/(#REF!+#REF!+#REF!)","v":{"$error":"#VALUE!"}}]
[null,null,null,null,null,null,null,null,null,null,null,null,null,null,null,null,null,null,null,null,null,373,{"$error":"#VALUE!"},{"$f":"AVERAGE($W$3:W375)","v":{"$error":"#VALUE!"}},null,{"$error":"#VALUE!"},{"$error":"#VALUE!"},{"$f":"AVERAGE($AA$3:AA375)","v":{"$error":"#VALUE!"}},null,null,null,{"$f":"((AA375*#REF!)+(#REF!*#REF!)+(#REF!*#REF!))/(#REF!+#REF!+#REF!)","v":{"$error":"#VALUE!"}},{"$f":"((AA375*#REF!)+(#REF!*#REF!)+(#REF!*#REF!))/(#REF!+#REF!+#REF!)","v":{"$error":"#VALUE!"}},{"$f":"((AA375*#REF!)+(#REF!*#REF!)+(#REF!*#REF!))/(#REF!+#REF!+#REF!)","v":{"$error":"#VALUE!"}},{"$f":"((AA375*#REF!)+(#REF!*#REF!)+(#REF!*#REF!))/(#REF!+#REF!+#REF!)","v":{"$error":"#VALUE!"}},{"$f":"((AA375*#REF!)+(#REF!*#REF!)+(#REF!*#REF!))/(#REF!+#REF!+#REF!)","v":{"$error":"#VALUE!"}},{"$f":"((AA375*#REF!)+(#REF!*#REF!)+(#REF!*#REF!))/(#REF!+#REF!+#REF!)","v":{"$error":"#VALUE!"}},{"$f":"((AA375*#REF!)+(#REF!*#REF!)+(#REF!*#REF!))/(#REF!+#REF!+#REF!)","v":{"$error":"#VALUE!"}}]
[null,null,null,null,null,null,null,null,null,null,null,null,null,null,null,null,null,null,null,null,null,374,{"$error":"#VALUE!"},{"$f":"AVERAGE($W$3:W376)","v":{"$error":"#VALUE!"}},null,{"$error":"#VALUE!"},{"$error":"#VALUE!"},{"$f":"AVERAGE($AA$3:AA376)","v":{"$error":"#VALUE!"}},null,null,null,{"$f":"((AA376*#REF!)+(#REF!*#REF!)+(#REF!*#REF!))/(#REF!+#REF!+#REF!)","v":{"$error":"#VALUE!"}},{"$f":"((AA376*#REF!)+(#REF!*#REF!)+(#REF!*#REF!))/(#REF!+#REF!+#REF!)","v":{"$error":"#VALUE!"}},{"$f":"((AA376*#REF!)+(#REF!*#REF!)+(#REF!*#REF!))/(#REF!+#REF!+#REF!)","v":{"$error":"#VALUE!"}},{"$f":"((AA376*#REF!)+(#REF!*#REF!)+(#REF!*#REF!))/(#REF!+#REF!+#REF!)","v":{"$error":"#VALUE!"}},{"$f":"((AA376*#REF!)+(#REF!*#REF!)+(#REF!*#REF!))/(#REF!+#REF!+#REF!)","v":{"$error":"#VALUE!"}},{"$f":"((AA376*#REF!)+(#REF!*#REF!)+(#REF!*#REF!))/(#REF!+#REF!+#REF!)","v":{"$error":"#VALUE!"}},{"$f":"((AA376*#REF!)+(#REF!*#REF!)+(#REF!*#REF!))/(#REF!+#REF!+#REF!)","v":{"$error":"#VALUE!"}}]
[null,null,null,null,null,null,null,null,null,null,null,null,null,null,null,null,null,null,null,null,null,375,{"$error":"#VALUE!"},{"$f":"AVERAGE($W$3:W377)","v":{"$error":"#VALUE!"}},null,{"$error":"#VALUE!"},{"$error":"#VALUE!"},{"$f":"AVERAGE($AA$3:AA377)","v":{"$error":"#VALUE!"}},null,null,null,{"$f":"((AA377*#REF!)+(#REF!*#REF!)+(#REF!*#REF!))/(#REF!+#REF!+#REF!)","v":{"$error":"#VALUE!"}},{"$f":"((AA377*#REF!)+(#REF!*#REF!)+(#REF!*#REF!))/(#REF!+#REF!+#REF!)","v":{"$error":"#VALUE!"}},{"$f":"((AA377*#REF!)+(#REF!*#REF!)+(#REF!*#REF!))/(#REF!+#REF!+#REF!)","v":{"$error":"#VALUE!"}},{"$f":"((AA377*#REF!)+(#REF!*#REF!)+(#REF!*#REF!))/(#REF!+#REF!+#REF!)","v":{"$error":"#VALUE!"}},{"$f":"((AA377*#REF!)+(#REF!*#REF!)+(#REF!*#REF!))/(#REF!+#REF!+#REF!)","v":{"$error":"#VALUE!"}},{"$f":"((AA377*#REF!)+(#REF!*#REF!)+(#REF!*#REF!))/(#REF!+#REF!+#REF!)","v":{"$error":"#VALUE!"}},{"$f":"((AA377*#REF!)+(#REF!*#REF!)+(#REF!*#REF!))/(#REF!+#REF!+#REF!)","v":{"$error":"#VALUE!"}}]
[null,null,null,null,null,null,null,null,null,null,null,null,null,null,null,null,null,null,null,null,null,376,{"$error":"#VALUE!"},{"$f":"AVERAGE($W$3:W378)","v":{"$error":"#VALUE!"}},null,{"$error":"#VALUE!"},{"$error":"#VALUE!"},{"$f":"AVERAGE($AA$3:AA378)","v":{"$error":"#VALUE!"}},null,null,null,{"$f":"((AA378*#REF!)+(#REF!*#REF!)+(#REF!*#REF!))/(#REF!+#REF!+#REF!)","v":{"$error":"#VALUE!"}},{"$f":"((AA378*#REF!)+(#REF!*#REF!)+(#REF!*#REF!))/(#REF!+#REF!+#REF!)","v":{"$error":"#VALUE!"}},{"$f":"((AA378*#REF!)+(#REF!*#REF!)+(#REF!*#REF!))/(#REF!+#REF!+#REF!)","v":{"$error":"#VALUE!"}},{"$f":"((AA378*#REF!)+(#REF!*#REF!)+(#REF!*#REF!))/(#REF!+#REF!+#REF!)","v":{"$error":"#VALUE!"}},{"$f":"((AA378*#REF!)+(#REF!*#REF!)+(#REF!*#REF!))/(#REF!+#REF!+#REF!)","v":{"$error":"#VALUE!"}},{"$f":"((AA378*#REF!)+(#REF!*#REF!)+(#REF!*#REF!))/(#REF!+#REF!+#REF!)","v":{"$error":"#VALUE!"}},{"$f":"((AA378*#REF!)+(#REF!*#REF!)+(#REF!*#REF!))/(#REF!+#REF!+#REF!)","v":{"$error":"#VALUE!"}}]
[null,null,null,null,null,null,null,null,null,null,null,null,null,null,null,null,null,null,null,null,null,377,{"$error":"#VALUE!"},{"$f":"AVERAGE($W$3:W379)","v":{"$error":"#VALUE!"}},null,{"$error":"#VALUE!"},{"$error":"#VALUE!"},{"$f":"AVERAGE($AA$3:AA379)","v":{"$error":"#VALUE!"}},null,null,null,{"$f":"((AA379*#REF!)+(#REF!*#REF!)+(#REF!*#REF!))/(#REF!+#REF!+#REF!)","v":{"$error":"#VALUE!"}},{"$f":"((AA379*#REF!)+(#REF!*#REF!)+(#REF!*#REF!))/(#REF!+#REF!+#REF!)","v":{"$error":"#VALUE!"}},{"$f":"((AA379*#REF!)+(#REF!*#REF!)+(#REF!*#REF!))/(#REF!+#REF!+#REF!)","v":{"$error":"#VALUE!"}},{"$f":"((AA379*#REF!)+(#REF!*#REF!)+(#REF!*#REF!))/(#REF!+#REF!+#REF!)","v":{"$error":"#VALUE!"}},{"$f":"((AA379*#REF!)+(#REF!*#REF!)+(#REF!*#REF!))/(#REF!+#REF!+#REF!)","v":{"$error":"#VALUE!"}},{"$f":"((AA379*#REF!)+(#REF!*#REF!)+(#REF!*#REF!))/(#REF!+#REF!+#REF!)","v":{"$error":"#VALUE!"}},{"$f":"((AA379*#REF!)+(#REF!*#REF!)+(#REF!*#REF!))/(#REF!+#REF!+#REF!)","v":{"$error":"#VALUE!"}}]
[null,null,null,null,null,null,null,null,null,null,null,null,null,null,null,null,null,null,null,null,null,378,{"$error":"#VALUE!"},{"$f":"AVERAGE($W$3:W380)","v":{"$error":"#VALUE!"}},null,{"$error":"#VALUE!"},{"$error":"#VALUE!"},{"$f":"AVERAGE($AA$3:AA380)","v":{"$error":"#VALUE!"}},null,null,null,{"$f":"((AA380*#REF!)+(#REF!*#REF!)+(#REF!*#REF!))/(#REF!+#REF!+#REF!)","v":{"$error":"#VALUE!"}},{"$f":"((AA380*#REF!)+(#REF!*#REF!)+(#REF!*#REF!))/(#REF!+#REF!+#REF!)","v":{"$error":"#VALUE!"}},{"$f":"((AA380*#REF!)+(#REF!*#REF!)+(#REF!*#REF!))/(#REF!+#REF!+#REF!)","v":{"$error":"#VALUE!"}},{"$f":"((AA380*#REF!)+(#REF!*#REF!)+(#REF!*#REF!))/(#REF!+#REF!+#REF!)","v":{"$error":"#VALUE!"}},{"$f":"((AA380*#REF!)+(#REF!*#REF!)+(#REF!*#REF!))/(#REF!+#REF!+#REF!)","v":{"$error":"#VALUE!"}},{"$f":"((AA380*#REF!)+(#REF!*#REF!)+(#REF!*#REF!))/(#REF!+#REF!+#REF!)","v":{"$error":"#VALUE!"}},{"$f":"((AA380*#REF!)+(#REF!*#REF!)+(#REF!*#REF!))/(#REF!+#REF!+#REF!)","v":{"$error":"#VALUE!"}}]
[null,null,null,null,null,null,null,null,null,null,null,null,null,null,null,null,null,null,null,null,null,379,{"$error":"#VALUE!"},{"$f":"AVERAGE($W$3:W381)","v":{"$error":"#VALUE!"}},null,{"$error":"#VALUE!"},{"$error":"#VALUE!"},{"$f":"AVERAGE($AA$3:AA381)","v":{"$error":"#VALUE!"}},null,null,null,{"$f":"((AA381*#REF!)+(#REF!*#REF!)+(#REF!*#REF!))/(#REF!+#REF!+#REF!)","v":{"$error":"#VALUE!"}},{"$f":"((AA381*#REF!)+(#REF!*#REF!)+(#REF!*#REF!))/(#REF!+#REF!+#REF!)","v":{"$error":"#VALUE!"}},{"$f":"((AA381*#REF!)+(#REF!*#REF!)+(#REF!*#REF!))/(#REF!+#REF!+#REF!)","v":{"$error":"#VALUE!"}},{"$f":"((AA381*#REF!)+(#REF!*#REF!)+(#REF!*#REF!))/(#REF!+#REF!+#REF!)","v":{"$error":"#VALUE!"}},{"$f":"((AA381*#REF!)+(#REF!*#REF!)+(#REF!*#REF!))/(#REF!+#REF!+#REF!)","v":{"$error":"#VALUE!"}},{"$f":"((AA381*#REF!)+(#REF!*#REF!)+(#REF!*#REF!))/(#REF!+#REF!+#REF!)","v":{"$error":"#VALUE!"}},{"$f":"((AA381*#REF!)+(#REF!*#REF!)+(#REF!*#REF!))/(#REF!+#REF!+#REF!)","v":{"$error":"#VALUE!"}}]
[null,null,null,null,null,null,null,null,null,null,null,null,null,null,null,null,null,null,null,null,null,380,{"$f":"IF(($M$7*LN(V382))+$M$8+$M$10>0,($M$7*LN(V382))+$M$8+$M$10,0)","v":{"$error":"#VALUE!"}},{"$f":"AVERAGE($W$3:W382)","v":{"$error":"#VALUE!"}},null,{"$error":"#VALUE!"},{"$error":"#VALUE!"},{"$f":"AVERAGE($AA$3:AA382)","v":{"$error":"#VALUE!"}},null,null,null,{"$f":"((AA382*#REF!)+(#REF!*#REF!)+(#REF!*#REF!))/(#REF!+#REF!+#REF!)","v":{"$error":"#VALUE!"}},{"$f":"((AA382*#REF!)+(#REF!*#REF!)+(#REF!*#REF!))/(#REF!+#REF!+#REF!)","v":{"$error":"#VALUE!"}},{"$f":"((AA382*#REF!)+(#REF!*#REF!)+(#REF!*#REF!))/(#REF!+#REF!+#REF!)","v":{"$error":"#VALUE!"}},{"$f":"((AA382*#REF!)+(#REF!*#REF!)+(#REF!*#REF!))/(#REF!+#REF!+#REF!)","v":{"$error":"#VALUE!"}},{"$f":"((AA382*#REF!)+(#REF!*#REF!)+(#REF!*#REF!))/(#REF!+#REF!+#REF!)","v":{"$error":"#VALUE!"}},{"$f":"((AA382*#REF!)+(#REF!*#REF!)+(#REF!*#REF!))/(#REF!+#REF!+#REF!)","v":{"$error":"#VALUE!"}},{"$f":"((AA382*#REF!)+(#REF!*#REF!)+(#REF!*#REF!))/(#REF!+#REF!+#REF!)","v":{"$error":"#VALUE!"}}]
[null,null,null,null,null,null,null,null,null,null,null,null,null,null,null,null,null,null,null,null,null,381,{"$error":"#VALUE!"},{"$f":"AVERAGE($W$3:W383)","v":{"$error":"#VALUE!"}},null,{"$error":"#VALUE!"},{"$error":"#VALUE!"},{"$f":"AVERAGE($AA$3:AA383)","v":{"$error":"#VALUE!"}},null,null,null,{"$f":"((AA383*#REF!)+(#REF!*#REF!)+(#REF!*#REF!))/(#REF!+#REF!+#REF!)","v":{"$error":"#VALUE!"}},{"$f":"((AA383*#REF!)+(#REF!*#REF!)+(#REF!*#REF!))/(#REF!+#REF!+#REF!)","v":{"$error":"#VALUE!"}},{"$f":"((AA383*#REF!)+(#REF!*#REF!)+(#REF!*#REF!))/(#REF!+#REF!+#REF!)","v":{"$error":"#VALUE!"}},{"$f":"((AA383*#REF!)+(#REF!*#REF!)+(#REF!*#REF!))/(#REF!+#REF!+#REF!)","v":{"$error":"#VALUE!"}},{"$f":"((AA383*#REF!)+(#REF!*#REF!)+(#REF!*#REF!))/(#REF!+#REF!+#REF!)","v":{"$error":"#VALUE!"}},{"$f":"((AA383*#REF!)+(#REF!*#REF!)+(#REF!*#REF!))/(#REF!+#REF!+#REF!)","v":{"$error":"#VALUE!"}},{"$f":"((AA383*#REF!)+(#REF!*#REF!)+(#REF!*#REF!))/(#REF!+#REF!+#REF!)","v":{"$error":"#VALUE!"}}]
[null,null,null,null,null,null,null,null,null,null,null,null,null,null,null,null,null,null,null,null,null,382,{"$error":"#VALUE!"},{"$f":"AVERAGE($W$3:W384)","v":{"$error":"#VALUE!"}},null,{"$error":"#VALUE!"},{"$error":"#VALUE!"},{"$f":"AVERAGE($AA$3:AA384)","v":{"$error":"#VALUE!"}},null,null,null,{"$f":"((AA384*#REF!)+(#REF!*#REF!)+(#REF!*#REF!))/(#REF!+#REF!+#REF!)","v":{"$error":"#VALUE!"}},{"$f":"((AA384*#REF!)+(#REF!*#REF!)+(#REF!*#REF!))/(#REF!+#REF!+#REF!)","v":{"$error":"#VALUE!"}},{"$f":"((AA384*#REF!)+(#REF!*#REF!)+(#REF!*#REF!))/(#REF!+#REF!+#REF!)","v":{"$error":"#VALUE!"}},{"$f":"((AA384*#REF!)+(#REF!*#REF!)+(#REF!*#REF!))/(#REF!+#REF!+#REF!)","v":{"$error":"#VALUE!"}},{"$f":"((AA384*#REF!)+(#REF!*#REF!)+(#REF!*#REF!))/(#REF!+#REF!+#REF!)","v":{"$error":"#VALUE!"}},{"$f":"((AA384*#REF!)+(#REF!*#REF!)+(#REF!*#REF!))/(#REF!+#REF!+#REF!)","v":{"$error":"#VALUE!"}},{"$f":"((AA384*#REF!)+(#REF!*#REF!)+(#REF!*#REF!))/(#REF!+#REF!+#REF!)","v":{"$error":"#VALUE!"}}]
[null,null,null,null,null,null,null,null,null,null,null,null,null,null,null,null,null,null,null,null,null,383,{"$error":"#VALUE!"},{"$f":"AVERAGE($W$3:W385)","v":{"$error":"#VALUE!"}},null,{"$error":"#VALUE!"},{"$error":"#VALUE!"},{"$f":"AVERAGE($AA$3:AA385)","v":{"$error":"#VALUE!"}},null,null,null,{"$f":"((AA385*#REF!)+(#REF!*#REF!)+(#REF!*#REF!))/(#REF!+#REF!+#REF!)","v":{"$error":"#VALUE!"}},{"$f":"((AA385*#REF!)+(#REF!*#REF!)+(#REF!*#REF!))/(#REF!+#REF!+#REF!)","v":{"$error":"#VALUE!"}},{"$f":"((AA385*#REF!)+(#REF!*#REF!)+(#REF!*#REF!))/(#REF!+#REF!+#REF!)","v":{"$error":"#VALUE!"}},{"$f":"((AA385*#REF!)+(#REF!*#REF!)+(#REF!*#REF!))/(#REF!+#REF!+#REF!)","v":{"$error":"#VALUE!"}},{"$f":"((AA385*#REF!)+(#REF!*#REF!)+(#REF!*#REF!))/(#REF!+#REF!+#REF!)","v":{"$error":"#VALUE!"}},{"$f":"((AA385*#REF!)+(#REF!*#REF!)+(#REF!*#REF!))/(#REF!+#REF!+#REF!)","v":{"$error":"#VALUE!"}},{"$f":"((AA385*#REF!)+(#REF!*#REF!)+(#REF!*#REF!))/(#REF!+#REF!+#REF!)","v":{"$error":"#VALUE!"}}]
[null,null,null,null,null,null,null,null,null,null,null,null,null,null,null,null,null,null,null,null,null,384,{"$error":"#VALUE!"},{"$f":"AVERAGE($W$3:W386)","v":{"$error":"#VALUE!"}},null,{"$error":"#VALUE!"},{"$error":"#VALUE!"},{"$f":"AVERAGE($AA$3:AA386)","v":{"$error":"#VALUE!"}},null,null,null,{"$f":"((AA386*#REF!)+(#REF!*#REF!)+(#REF!*#REF!))/(#REF!+#REF!+#REF!)","v":{"$error":"#VALUE!"}},{"$f":"((AA386*#REF!)+(#REF!*#REF!)+(#REF!*#REF!))/(#REF!+#REF!+#REF!)","v":{"$error":"#VALUE!"}},{"$f":"((AA386*#REF!)+(#REF!*#REF!)+(#REF!*#REF!))/(#REF!+#REF!+#REF!)","v":{"$error":"#VALUE!"}},{"$f":"((AA386*#REF!)+(#REF!*#REF!)+(#REF!*#REF!))/(#REF!+#REF!+#REF!)","v":{"$error":"#VALUE!"}},{"$f":"((AA386*#REF!)+(#REF!*#REF!)+(#REF!*#REF!))/(#REF!+#REF!+#REF!)","v":{"$error":"#VALUE!"}},{"$f":"((AA386*#REF!)+(#REF!*#REF!)+(#REF!*#REF!))/(#REF!+#REF!+#REF!)","v":{"$error":"#VALUE!"}},{"$f":"((AA386*#REF!)+(#REF!*#REF!)+(#REF!*#REF!))/(#REF!+#REF!+#REF!)","v":{"$error":"#VALUE!"}}]
[null,null,null,null,null,null,null,null,null,null,null,null,null,null,null,null,null,null,null,null,null,385,{"$error":"#VALUE!"},{"$f":"AVERAGE($W$3:W387)","v":{"$error":"#VALUE!"}},null,{"$error":"#VALUE!"},{"$error":"#VALUE!"},{"$f":"AVERAGE($AA$3:AA387)","v":{"$error":"#VALUE!"}},null,null,null,{"$f":"((AA387*#REF!)+(#REF!*#REF!)+(#REF!*#REF!))/(#REF!+#REF!+#REF!)","v":{"$error":"#VALUE!"}},{"$f":"((AA387*#REF!)+(#REF!*#REF!)+(#REF!*#REF!))/(#REF!+#REF!+#REF!)","v":{"$error":"#VALUE!"}},{"$f":"((AA387*#REF!)+(#REF!*#REF!)+(#REF!*#REF!))/(#REF!+#REF!+#REF!)","v":{"$error":"#VALUE!"}},{"$f":"((AA387*#REF!)+(#REF!*#REF!)+(#REF!*#REF!))/(#REF!+#REF!+#REF!)","v":{"$error":"#VALUE!"}},{"$f":"((AA387*#REF!)+(#REF!*#REF!)+(#REF!*#REF!))/(#REF!+#REF!+#REF!)","v":{"$error":"#VALUE!"}},{"$f":"((AA387*#REF!)+(#REF!*#REF!)+(#REF!*#REF!))/(#REF!+#REF!+#REF!)","v":{"$error":"#VALUE!"}},{"$f":"((AA387*#REF!)+(#REF!*#REF!)+(#REF!*#REF!))/(#REF!+#REF!+#REF!)","v":{"$error":"#VALUE!"}}]
[null,null,null,null,null,null,null,null,null,null,null,null,null,null,null,null,null,null,null,null,null,386,{"$error":"#VALUE!"},{"$f":"AVERAGE($W$3:W388)","v":{"$error":"#VALUE!"}},null,{"$f":"$M$2+W388","v":{"$error":"#VALUE!"}},{"$f":"(Z388*(9/5))+32","v":{"$error":"#VALUE!"}},{"$f":"AVERAGE($AA$3:AA388)","v":{"$error":"#VALUE!"}},null,null,null,{"$f":"((AA388*#REF!)+(#REF!*#REF!)+(#REF!*#REF!))/(#REF!+#REF!+#REF!)","v":{"$error":"#VALUE!"}},{"$f":"((AA388*#REF!)+(#REF!*#REF!)+(#REF!*#REF!))/(#REF!+#REF!+#REF!)","v":{"$error":"#VALUE!"}},{"$f":"((AA388*#REF!)+(#REF!*#REF!)+(#REF!*#REF!))/(#REF!+#REF!+#REF!)","v":{"$error":"#VALUE!"}},{"$f":"((AA388*#REF!)+(#REF!*#REF!)+(#REF!*#REF!))/(#REF!+#REF!+#REF!)","v":{"$error":"#VALUE!"}},{"$f":"((AA388*#REF!)+(#REF!*#REF!)+(#REF!*#REF!))/(#REF!+#REF!+#REF!)","v":{"$error":"#VALUE!"}},{"$f":"((AA388*#REF!)+(#REF!*#REF!)+(#REF!*#REF!))/(#REF!+#REF!+#REF!)","v":{"$error":"#VALUE!"}},{"$f":"((AA388*#REF!)+(#REF!*#REF!)+(#REF!*#REF!))/(#REF!+#REF!+#REF!)","v":{"$error":"#VALUE!"}}]
[null,null,null,null,null,null,null,null,null,null,null,null,null,null,null,null,null,null,null,null,null,387,{"$error":"#VALUE!"},{"$f":"AVERAGE($W$3:W389)","v":{"$error":"#VALUE!"}},null,{"$error":"#VALUE!"},{"$error":"#VALUE!"},{"$f":"AVERAGE($AA$3:AA389)","v":{"$error":"#VALUE!"}},null,null,null,{"$f":"((AA389*#REF!)+(#REF!*#REF!)+(#REF!*#REF!))/(#REF!+#REF!+#REF!)","v":{"$error":"#VALUE!"}},{"$f":"((AA389*#REF!)+(#REF!*#REF!)+(#REF!*#REF!))/(#REF!+#REF!+#REF!)","v":{"$error":"#VALUE!"}},{"$f":"((AA389*#REF!)+(#REF!*#REF!)+(#REF!*#REF!))/(#REF!+#REF!+#REF!)","v":{"$error":"#VALUE!"}},{"$f":"((AA389*#REF!)+(#REF!*#REF!)+(#REF!*#REF!))/(#REF!+#REF!+#REF!)","v":{"$error":"#VALUE!"}},{"$f":"((AA389*#REF!)+(#REF!*#REF!)+(#REF!*#REF!))/(#REF!+#REF!+#REF!)","v":{"$error":"#VALUE!"}},{"$f":"((AA389*#REF!)+(#REF!*#REF!)+(#REF!*#REF!))/(#REF!+#REF!+#REF!)","v":{"$error":"#VALUE!"}},{"$f":"((AA389*#REF!)+(#REF!*#REF!)+(#REF!*#REF!))/(#REF!+#REF!+#REF!)","v":{"$error":"#VALUE!"}}]
[null,null,null,null,null,null,null,null,null,null,null,null,null,null,null,null,null,null,null,null,null,388,{"$error":"#VALUE!"},{"$f":"AVERAGE($W$3:W390)","v":{"$error":"#VALUE!"}},null,{"$error":"#VALUE!"},{"$error":"#VALUE!"},{"$f":"AVERAGE($AA$3:AA390)","v":{"$error":"#VALUE!"}},null,null,null,{"$f":"((AA390*#REF!)+(#REF!*#REF!)+(#REF!*#REF!))/(#REF!+#REF!+#REF!)","v":{"$error":"#VALUE!"}},{"$f":"((AA390*#REF!)+(#REF!*#REF!)+(#REF!*#REF!))/(#REF!+#REF!+#REF!)","v":{"$error":"#VALUE!"}},{"$f":"((AA390*#REF!)+(#REF!*#REF!)+(#REF!*#REF!))/(#REF!+#REF!+#REF!)","v":{"$error":"#VALUE!"}},{"$f":"((AA390*#REF!)+(#REF!*#REF!)+(#REF!*#REF!))/(#REF!+#REF!+#REF!)","v":{"$error":"#VALUE!"}},{"$f":"((AA390*#REF!)+(#REF!*#REF!)+(#REF!*#REF!))/(#REF!+#REF!+#REF!)","v":{"$error":"#VALUE!"}},{"$f":"((AA390*#REF!)+(#REF!*#REF!)+(#REF!*#REF!))/(#REF!+#REF!+#REF!)","v":{"$error":"#VALUE!"}},{"$f":"((AA390*#REF!)+(#REF!*#REF!)+(#REF!*#REF!))/(#REF!+#REF!+#REF!)","v":{"$error":"#VALUE!"}}]
[null,null,null,null,null,null,null,null,null,null,null,null,null,null,null,null,null,null,null,null,null,389,{"$error":"#VALUE!"},{"$f":"AVERAGE($W$3:W391)","v":{"$error":"#VALUE!"}},null,{"$error":"#VALUE!"},{"$error":"#VALUE!"},{"$f":"AVERAGE($AA$3:AA391)","v":{"$error":"#VALUE!"}},null,null,null,{"$f":"((AA391*#REF!)+(#REF!*#REF!)+(#REF!*#REF!))/(#REF!+#REF!+#REF!)","v":{"$error":"#VALUE!"}},{"$f":"((AA391*#REF!)+(#REF!*#REF!)+(#REF!*#REF!))/(#REF!+#REF!+#REF!)","v":{"$error":"#VALUE!"}},{"$f":"((AA391*#REF!)+(#REF!*#REF!)+(#REF!*#REF!))/(#REF!+#REF!+#REF!)","v":{"$error":"#VALUE!"}},{"$f":"((AA391*#REF!)+(#REF!*#REF!)+(#REF!*#REF!))/(#REF!+#REF!+#REF!)","v":{"$error":"#VALUE!"}},{"$f":"((AA391*#REF!)+(#REF!*#REF!)+(#REF!*#REF!))/(#REF!+#REF!+#REF!)","v":{"$error":"#VALUE!"}},{"$f":"((AA391*#REF!)+(#REF!*#REF!)+(#REF!*#REF!))/(#REF!+#REF!+#REF!)","v":{"$error":"#VALUE!"}},{"$f":"((AA391*#REF!)+(#REF!*#REF!)+(#REF!*#REF!))/(#REF!+#REF!+#REF!)","v":{"$error":"#VALUE!"}}]
[null,null,null,null,null,null,null,null,null,null,null,null,null,null,null,null,null,null,null,null,null,390,{"$error":"#VALUE!"},{"$f":"AVERAGE($W$3:W392)","v":{"$error":"#VALUE!"}},null,{"$error":"#VALUE!"},{"$error":"#VALUE!"},{"$f":"AVERAGE($AA$3:AA392)","v":{"$error":"#VALUE!"}},null,null,null,{"$f":"((AA392*#REF!)+(#REF!*#REF!)+(#REF!*#REF!))/(#REF!+#REF!+#REF!)","v":{"$error":"#VALUE!"}},{"$f":"((AA392*#REF!)+(#REF!*#REF!)+(#REF!*#REF!))/(#REF!+#REF!+#REF!)","v":{"$error":"#VALUE!"}},{"$f":"((AA392*#REF!)+(#REF!*#REF!)+(#REF!*#REF!))/(#REF!+#REF!+#REF!)","v":{"$error":"#VALUE!"}},{"$f":"((AA392*#REF!)+(#REF!*#REF!)+(#REF!*#REF!))/(#REF!+#REF!+#REF!)","v":{"$error":"#VALUE!"}},{"$f":"((AA392*#REF!)+(#REF!*#REF!)+(#REF!*#REF!))/(#REF!+#REF!+#REF!)","v":{"$error":"#VALUE!"}},{"$f":"((AA392*#REF!)+(#REF!*#REF!)+(#REF!*#REF!))/(#REF!+#REF!+#REF!)","v":{"$error":"#VALUE!"}},{"$f":"((AA392*#REF!)+(#REF!*#REF!)+(#REF!*#REF!))/(#REF!+#REF!+#REF!)","v":{"$error":"#VALUE!"}}]
[null,null,null,null,null,null,null,null,null,null,null,null,null,null,null,null,null,null,null,null,null,391,{"$error":"#VALUE!"},{"$f":"AVERAGE($W$3:W393)","v":{"$error":"#VALUE!"}},null,{"$error":"#VALUE!"},{"$error":"#VALUE!"},{"$f":"AVERAGE($AA$3:AA393)","v":{"$error":"#VALUE!"}},null,null,null,{"$f":"((AA393*#REF!)+(#REF!*#REF!)+(#REF!*#REF!))/(#REF!+#REF!+#REF!)","v":{"$error":"#VALUE!"}},{"$f":"((AA393*#REF!)+(#REF!*#REF!)+(#REF!*#REF!))/(#REF!+#REF!+#REF!)","v":{"$error":"#VALUE!"}},{"$f":"((AA393*#REF!)+(#REF!*#REF!)+(#REF!*#REF!))/(#REF!+#REF!+#REF!)","v":{"$error":"#VALUE!"}},{"$f":"((AA393*#REF!)+(#REF!*#REF!)+(#REF!*#REF!))/(#REF!+#REF!+#REF!)","v":{"$error":"#VALUE!"}},{"$f":"((AA393*#REF!)+(#REF!*#REF!)+(#REF!*#REF!))/(#REF!+#REF!+#REF!)","v":{"$error":"#VALUE!"}},{"$f":"((AA393*#REF!)+(#REF!*#REF!)+(#REF!*#REF!))/(#REF!+#REF!+#REF!)","v":{"$error":"#VALUE!"}},{"$f":"((AA393*#REF!)+(#REF!*#REF!)+(#REF!*#REF!))/(#REF!+#REF!+#REF!)","v":{"$error":"#VALUE!"}}]
[null,null,null,null,null,null,null,null,null,null,null,null,null,null,null,null,null,null,null,null,null,392,{"$error":"#VALUE!"},{"$f":"AVERAGE($W$3:W394)","v":{"$error":"#VALUE!"}},null,{"$error":"#VALUE!"},{"$error":"#VALUE!"},{"$f":"AVERAGE($AA$3:AA394)","v":{"$error":"#VALUE!"}},null,null,null,{"$f":"((AA394*#REF!)+(#REF!*#REF!)+(#REF!*#REF!))/(#REF!+#REF!+#REF!)","v":{"$error":"#VALUE!"}},{"$f":"((AA394*#REF!)+(#REF!*#REF!)+(#REF!*#REF!))/(#REF!+#REF!+#REF!)","v":{"$error":"#VALUE!"}},{"$f":"((AA394*#REF!)+(#REF!*#REF!)+(#REF!*#REF!))/(#REF!+#REF!+#REF!)","v":{"$error":"#VALUE!"}},{"$f":"((AA394*#REF!)+(#REF!*#REF!)+(#REF!*#REF!))/(#REF!+#REF!+#REF!)","v":{"$error":"#VALUE!"}},{"$f":"((AA394*#REF!)+(#REF!*#REF!)+(#REF!*#REF!))/(#REF!+#REF!+#REF!)","v":{"$error":"#VALUE!"}},{"$f":"((AA394*#REF!)+(#REF!*#REF!)+(#REF!*#REF!))/(#REF!+#REF!+#REF!)","v":{"$error":"#VALUE!"}},{"$f":"((AA394*#REF!)+(#REF!*#REF!)+(#REF!*#REF!))/(#REF!+#REF!+#REF!)","v":{"$error":"#VALUE!"}}]
[null,null,null,null,null,null,null,null,null,null,null,null,null,null,null,null,null,null,null,null,null,393,{"$error":"#VALUE!"},{"$f":"AVERAGE($W$3:W395)","v":{"$error":"#VALUE!"}},null,{"$error":"#VALUE!"},{"$error":"#VALUE!"},{"$f":"AVERAGE($AA$3:AA395)","v":{"$error":"#VALUE!"}},null,null,null,{"$f":"((AA395*#REF!)+(#REF!*#REF!)+(#REF!*#REF!))/(#REF!+#REF!+#REF!)","v":{"$error":"#VALUE!"}},{"$f":"((AA395*#REF!)+(#REF!*#REF!)+(#REF!*#REF!))/(#REF!+#REF!+#REF!)","v":{"$error":"#VALUE!"}},{"$f":"((AA395*#REF!)+(#REF!*#REF!)+(#REF!*#REF!))/(#REF!+#REF!+#REF!)","v":{"$error":"#VALUE!"}},{"$f":"((AA395*#REF!)+(#REF!*#REF!)+(#REF!*#REF!))/(#REF!+#REF!+#REF!)","v":{"$error":"#VALUE!"}},{"$f":"((AA395*#REF!)+(#REF!*#REF!)+(#REF!*#REF!))/(#REF!+#REF!+#REF!)","v":{"$error":"#VALUE!"}},{"$f":"((AA395*#REF!)+(#REF!*#REF!)+(#REF!*#REF!))/(#REF!+#REF!+#REF!)","v":{"$error":"#VALUE!"}},{"$f":"((AA395*#REF!)+(#REF!*#REF!)+(#REF!*#REF!))/(#REF!+#REF!+#REF!)","v":{"$error":"#VALUE!"}}]
[null,null,null,null,null,null,null,null,null,null,null,null,null,null,null,null,null,null,null,null,null,394,{"$error":"#VALUE!"},{"$f":"AVERAGE($W$3:W396)","v":{"$error":"#VALUE!"}},null,{"$error":"#VALUE!"},{"$error":"#VALUE!"},{"$f":"AVERAGE($AA$3:AA396)","v":{"$error":"#VALUE!"}},null,null,null,{"$f":"((AA396*#REF!)+(#REF!*#REF!)+(#REF!*#REF!))/(#REF!+#REF!+#REF!)","v":{"$error":"#VALUE!"}},{"$f":"((AA396*#REF!)+(#REF!*#REF!)+(#REF!*#REF!))/(#REF!+#REF!+#REF!)","v":{"$error":"#VALUE!"}},{"$f":"((AA396*#REF!)+(#REF!*#REF!)+(#REF!*#REF!))/(#REF!+#REF!+#REF!)","v":{"$error":"#VALUE!"}},{"$f":"((AA396*#REF!)+(#REF!*#REF!)+(#REF!*#REF!))/(#REF!+#REF!+#REF!)","v":{"$error":"#VALUE!"}},{"$f":"((AA396*#REF!)+(#REF!*#REF!)+(#REF!*#REF!))/(#REF!+#REF!+#REF!)","v":{"$error":"#VALUE!"}},{"$f":"((AA396*#REF!)+(#REF!*#REF!)+(#REF!*#REF!))/(#REF!+#REF!+#REF!)","v":{"$error":"#VALUE!"}},{"$f":"((AA396*#REF!)+(#REF!*#REF!)+(#REF!*#REF!))/(#REF!+#REF!+#REF!)","v":{"$error":"#VALUE!"}}]
[null,null,null,null,null,null,null,null,null,null,null,null,null,null,null,null,null,null,null,null,null,395,{"$error":"#VALUE!"},{"$f":"AVERAGE($W$3:W397)","v":{"$error":"#VALUE!"}},null,{"$error":"#VALUE!"},{"$error":"#VALUE!"},{"$f":"AVERAGE($AA$3:AA397)","v":{"$error":"#VALUE!"}},null,null,null,{"$f":"((AA397*#REF!)+(#REF!*#REF!)+(#REF!*#REF!))/(#REF!+#REF!+#REF!)","v":{"$error":"#VALUE!"}},{"$f":"((AA397*#REF!)+(#REF!*#REF!)+(#REF!*#REF!))/(#REF!+#REF!+#REF!)","v":{"$error":"#VALUE!"}},{"$f":"((AA397*#REF!)+(#REF!*#REF!)+(#REF!*#REF!))/(#REF!+#REF!+#REF!)","v":{"$error":"#VALUE!"}},{"$f":"((AA397*#REF!)+(#REF!*#REF!)+(#REF!*#REF!))/(#REF!+#REF!+#REF!)","v":{"$error":"#VALUE!"}},{"$f":"((AA397*#REF!)+(#REF!*#REF!)+(#REF!*#REF!))/(#REF!+#REF!+#REF!)","v":{"$error":"#VALUE!"}},{"$f":"((AA397*#REF!)+(#REF!*#REF!)+(#REF!*#REF!))/(#REF!+#REF!+#REF!)","v":{"$error":"#VALUE!"}},{"$f":"((AA397*#REF!)+(#REF!*#REF!)+(#REF!*#REF!))/(#REF!+#REF!+#REF!)","v":{"$error":"#VALUE!"}}]
[null,null,null,null,null,null,null,null,null,null,null,null,null,null,null,null,null,null,null,null,null,396,{"$error":"#VALUE!"},{"$f":"AVERAGE($W$3:W398)","v":{"$error":"#VALUE!"}},null,{"$error":"#VALUE!"},{"$error":"#VALUE!"},{"$f":"AVERAGE($AA$3:AA398)","v":{"$error":"#VALUE!"}},null,null,null,{"$f":"((AA398*#REF!)+(#REF!*#REF!)+(#REF!*#REF!))/(#REF!+#REF!+#REF!)","v":{"$error":"#VALUE!"}},{"$f":"((AA398*#REF!)+(#REF!*#REF!)+(#REF!*#REF!))/(#REF!+#REF!+#REF!)","v":{"$error":"#VALUE!"}},{"$f":"((AA398*#REF!)+(#REF!*#REF!)+(#REF!*#REF!))/(#REF!+#REF!+#REF!)","v":{"$error":"#VALUE!"}},{"$f":"((AA398*#REF!)+(#REF!*#REF!)+(#REF!*#REF!))/(#REF!+#REF!+#REF!)","v":{"$error":"#VALUE!"}},{"$f":"((AA398*#REF!)+(#REF!*#REF!)+(#REF!*#REF!))/(#REF!+#REF!+#REF!)","v":{"$error":"#VALUE!"}},{"$f":"((AA398*#REF!)+(#REF!*#REF!)+(#REF!*#REF!))/(#REF!+#REF!+#REF!)","v":{"$error":"#VALUE!"}},{"$f":"((AA398*#REF!)+(#REF!*#REF!)+(#REF!*#REF!))/(#REF!+#REF!+#REF!)","v":{"$error":"#VALUE!"}}]
[null,null,null,null,null,null,null,null,null,null,null,null,null,null,null,null,null,null,null,null,null,397,{"$error":"#VALUE!"},{"$f":"AVERAGE($W$3:W399)","v":{"$error":"#VALUE!"}},null,{"$error":"#VALUE!"},{"$error":"#VALUE!"},{"$f":"AVERAGE($AA$3:AA399)","v":{"$error":"#VALUE!"}},null,null,null,{"$f":"((AA399*#REF!)+(#REF!*#REF!)+(#REF!*#REF!))/(#REF!+#REF!+#REF!)","v":{"$error":"#VALUE!"}},{"$f":"((AA399*#REF!)+(#REF!*#REF!)+(#REF!*#REF!))/(#REF!+#REF!+#REF!)","v":{"$error":"#VALUE!"}},{"$f":"((AA399*#REF!)+(#REF!*#REF!)+(#REF!*#REF!))/(#REF!+#REF!+#REF!)","v":{"$error":"#VALUE!"}},{"$f":"((AA399*#REF!)+(#REF!*#REF!)+(#REF!*#REF!))/(#REF!+#REF!+#REF!)","v":{"$error":"#VALUE!"}},{"$f":"((AA399*#REF!)+(#REF!*#REF!)+(#REF!*#REF!))/(#REF!+#REF!+#REF!)","v":{"$error":"#VALUE!"}},{"$f":"((AA399*#REF!)+(#REF!*#REF!)+(#REF!*#REF!))/(#REF!+#REF!+#REF!)","v":{"$error":"#VALUE!"}},{"$f":"((AA399*#REF!)+(#REF!*#REF!)+(#REF!*#REF!))/(#REF!+#REF!+#REF!)","v":{"$error":"#VALUE!"}}]
[null,null,null,null,null,null,null,null,null,null,null,null,null,null,null,null,null,null,null,null,null,398,{"$error":"#VALUE!"},{"$f":"AVERAGE($W$3:W400)","v":{"$error":"#VALUE!"}},null,{"$error":"#VALUE!"},{"$error":"#VALUE!"},{"$f":"AVERAGE($AA$3:AA400)","v":{"$error":"#VALUE!"}},null,null,null,{"$f":"((AA400*#REF!)+(#REF!*#REF!)+(#REF!*#REF!))/(#REF!+#REF!+#REF!)","v":{"$error":"#VALUE!"}},{"$f":"((AA400*#REF!)+(#REF!*#REF!)+(#REF!*#REF!))/(#REF!+#REF!+#REF!)","v":{"$error":"#VALUE!"}},{"$f":"((AA400*#REF!)+(#REF!*#REF!)+(#REF!*#REF!))/(#REF!+#REF!+#REF!)","v":{"$error":"#VALUE!"}},{"$f":"((AA400*#REF!)+(#REF!*#REF!)+(#REF!*#REF!))/(#REF!+#REF!+#REF!)","v":{"$error":"#VALUE!"}},{"$f":"((AA400*#REF!)+(#REF!*#REF!)+(#REF!*#REF!))/(#REF!+#REF!+#REF!)","v":{"$error":"#VALUE!"}},{"$f":"((AA400*#REF!)+(#REF!*#REF!)+(#REF!*#REF!))/(#REF!+#REF!+#REF!)","v":{"$error":"#VALUE!"}},{"$f":"((AA400*#REF!)+(#REF!*#REF!)+(#REF!*#REF!))/(#REF!+#REF!+#REF!)","v":{"$error":"#VALUE!"}}]
[null,null,null,null,null,null,null,null,null,null,null,null,null,null,null,null,null,null,null,null,null,399,{"$error":"#VALUE!"},{"$f":"AVERAGE($W$3:W401)","v":{"$error":"#VALUE!"}},null,{"$error":"#VALUE!"},{"$error":"#VALUE!"},{"$f":"AVERAGE($AA$3:AA401)","v":{"$error":"#VALUE!"}},null,null,null,{"$f":"((AA401*#REF!)+(#REF!*#REF!)+(#REF!*#REF!))/(#REF!+#REF!+#REF!)","v":{"$error":"#VALUE!"}},{"$f":"((AA401*#REF!)+(#REF!*#REF!)+(#REF!*#REF!))/(#REF!+#REF!+#REF!)","v":{"$error":"#VALUE!"}},{"$f":"((AA401*#REF!)+(#REF!*#REF!)+(#REF!*#REF!))/(#REF!+#REF!+#REF!)","v":{"$error":"#VALUE!"}},{"$f":"((AA401*#REF!)+(#REF!*#REF!)+(#REF!*#REF!))/(#REF!+#REF!+#REF!)","v":{"$error":"#VALUE!"}},{"$f":"((AA401*#REF!)+(#REF!*#REF!)+(#REF!*#REF!))/(#REF!+#REF!+#REF!)","v":{"$error":"#VALUE!"}},{"$f":"((AA401*#REF!)+(#REF!*#REF!)+(#REF!*#REF!))/(#REF!+#REF!+#REF!)","v":{"$error":"#VALUE!"}},{"$f":"((AA401*#REF!)+(#REF!*#REF!)+(#REF!*#REF!))/(#REF!+#REF!+#REF!)","v":{"$error":"#VALUE!"}}]
[null,null,null,null,null,null,null,null,null,null,null,null,null,null,null,null,null,null,null,null,null,400,{"$error":"#VALUE!"},{"$f":"AVERAGE($W$3:W402)","v":{"$error":"#VALUE!"}},null,{"$error":"#VALUE!"},{"$error":"#VALUE!"},{"$f":"AVERAGE($AA$3:AA402)","v":{"$error":"#VALUE!"}},null,null,null,{"$f":"((AA402*#REF!)+(#REF!*#REF!)+(#REF!*#REF!))/(#REF!+#REF!+#REF!)","v":{"$error":"#VALUE!"}},{"$f":"((AA402*#REF!)+(#REF!*#REF!)+(#REF!*#REF!))/(#REF!+#REF!+#REF!)","v":{"$error":"#VALUE!"}},{"$f":"((AA402*#REF!)+(#REF!*#REF!)+(#REF!*#REF!))/(#REF!+#REF!+#REF!)","v":{"$error":"#VALUE!"}},{"$f":"((AA402*#REF!)+(#REF!*#REF!)+(#REF!*#REF!))/(#REF!+#REF!+#REF!)","v":{"$error":"#VALUE!"}},{"$f":"((AA402*#REF!)+(#REF!*#REF!)+(#REF!*#REF!))/(#REF!+#REF!+#REF!)","v":{"$error":"#VALUE!"}},{"$f":"((AA402*#REF!)+(#REF!*#REF!)+(#REF!*#REF!))/(#REF!+#REF!+#REF!)","v":{"$error":"#VALUE!"}},{"$f":"((AA402*#REF!)+(#REF!*#REF!)+(#REF!*#REF!))/(#REF!+#REF!+#REF!)","v":{"$error":"#VALUE!"}}]
[null,null,null,null,null,null,null,null,null,null,null,null,null,null,null,null,null,null,null,null,null,401,{"$error":"#VALUE!"},{"$f":"AVERAGE($W$3:W403)","v":{"$error":"#VALUE!"}},null,{"$error":"#VALUE!"},{"$error":"#VALUE!"},{"$f":"AVERAGE($AA$3:AA403)","v":{"$error":"#VALUE!"}},null,null,null,{"$f":"((AA403*#REF!)+(#REF!*#REF!)+(#REF!*#REF!))/(#REF!+#REF!+#REF!)","v":{"$error":"#VALUE!"}},{"$f":"((AA403*#REF!)+(#REF!*#REF!)+(#REF!*#REF!))/(#REF!+#REF!+#REF!)","v":{"$error":"#VALUE!"}},{"$f":"((AA403*#REF!)+(#REF!*#REF!)+(#REF!*#REF!))/(#REF!+#REF!+#REF!)","v":{"$error":"#VALUE!"}},{"$f":"((AA403*#REF!)+(#REF!*#REF!)+(#REF!*#REF!))/(#REF!+#REF!+#REF!)","v":{"$error":"#VALUE!"}},{"$f":"((AA403*#REF!)+(#REF!*#REF!)+(#REF!*#REF!))/(#REF!+#REF!+#REF!)","v":{"$error":"#VALUE!"}},{"$f":"((AA403*#REF!)+(#REF!*#REF!)+(#REF!*#REF!))/(#REF!+#REF!+#REF!)","v":{"$error":"#VALUE!"}},{"$f":"((AA403*#REF!)+(#REF!*#REF!)+(#REF!*#REF!))/(#REF!+#REF!+#REF!)","v":{"$error":"#VALUE!"}}]
[null,null,null,null,null,null,null,null,null,null,null,null,null,null,null,null,null,null,null,null,null,402,{"$error":"#VALUE!"},{"$f":"AVERAGE($W$3:W404)","v":{"$error":"#VALUE!"}},null,{"$error":"#VALUE!"},{"$error":"#VALUE!"},{"$f":"AVERAGE($AA$3:AA404)","v":{"$error":"#VALUE!"}},null,null,null,{"$f":"((AA404*#REF!)+(#REF!*#REF!)+(#REF!*#REF!))/(#REF!+#REF!+#REF!)","v":{"$error":"#VALUE!"}},{"$f":"((AA404*#REF!)+(#REF!*#REF!)+(#REF!*#REF!))/(#REF!+#REF!+#REF!)","v":{"$error":"#VALUE!"}},{"$f":"((AA404*#REF!)+(#REF!*#REF!)+(#REF!*#REF!))/(#REF!+#REF!+#REF!)","v":{"$error":"#VALUE!"}},{"$f":"((AA404*#REF!)+(#REF!*#REF!)+(#REF!*#REF!))/(#REF!+#REF!+#REF!)","v":{"$error":"#VALUE!"}},{"$f":"((AA404*#REF!)+(#REF!*#REF!)+(#REF!*#REF!))/(#REF!+#REF!+#REF!)","v":{"$error":"#VALUE!"}},{"$f":"((AA404*#REF!)+(#REF!*#REF!)+(#REF!*#REF!))/(#REF!+#REF!+#REF!)","v":{"$error":"#VALUE!"}},{"$f":"((AA404*#REF!)+(#REF!*#REF!)+(#REF!*#REF!))/(#REF!+#REF!+#REF!)","v":{"$error":"#VALUE!"}}]
[null,null,null,null,null,null,null,null,null,null,null,null,null,null,null,null,null,null,null,null,null,403,{"$error":"#VALUE!"},{"$f":"AVERAGE($W$3:W405)","v":{"$error":"#VALUE!"}},null,{"$error":"#VALUE!"},{"$error":"#VALUE!"},{"$f":"AVERAGE($AA$3:AA405)","v":{"$error":"#VALUE!"}},null,null,null,{"$f":"((AA405*#REF!)+(#REF!*#REF!)+(#REF!*#REF!))/(#REF!+#REF!+#REF!)","v":{"$error":"#VALUE!"}},{"$f":"((AA405*#REF!)+(#REF!*#REF!)+(#REF!*#REF!))/(#REF!+#REF!+#REF!)","v":{"$error":"#VALUE!"}},{"$f":"((AA405*#REF!)+(#REF!*#REF!)+(#REF!*#REF!))/(#REF!+#REF!+#REF!)","v":{"$error":"#VALUE!"}},{"$f":"((AA405*#REF!)+(#REF!*#REF!)+(#REF!*#REF!))/(#REF!+#REF!+#REF!)","v":{"$error":"#VALUE!"}},{"$f":"((AA405*#REF!)+(#REF!*#REF!)+(#REF!*#REF!))/(#REF!+#REF!+#REF!)","v":{"$error":"#VALUE!"}},{"$f":"((AA405*#REF!)+(#REF!*#REF!)+(#REF!*#REF!))/(#REF!+#REF!+#REF!)","v":{"$error":"#VALUE!"}},{"$f":"((AA405*#REF!)+(#REF!*#REF!)+(#REF!*#REF!))/(#REF!+#REF!+#REF!)","v":{"$error":"#VALUE!"}}]
[null,null,null,null,null,null,null,null,null,null,null,null,null,null,null,null,null,null,null,null,null,404,{"$error":"#VALUE!"},{"$f":"AVERAGE($W$3:W406)","v":{"$error":"#VALUE!"}},null,{"$error":"#VALUE!"},{"$error":"#VALUE!"},{"$f":"AVERAGE($AA$3:AA406)","v":{"$error":"#VALUE!"}},null,null,null,{"$f":"((AA406*#REF!)+(#REF!*#REF!)+(#REF!*#REF!))/(#REF!+#REF!+#REF!)","v":{"$error":"#VALUE!"}},{"$f":"((AA406*#REF!)+(#REF!*#REF!)+(#REF!*#REF!))/(#REF!+#REF!+#REF!)","v":{"$error":"#VALUE!"}},{"$f":"((AA406*#REF!)+(#REF!*#REF!)+(#REF!*#REF!))/(#REF!+#REF!+#REF!)","v":{"$error":"#VALUE!"}},{"$f":"((AA406*#REF!)+(#REF!*#REF!)+(#REF!*#REF!))/(#REF!+#REF!+#REF!)","v":{"$error":"#VALUE!"}},{"$f":"((AA406*#REF!)+(#REF!*#REF!)+(#REF!*#REF!))/(#REF!+#REF!+#REF!)","v":{"$error":"#VALUE!"}},{"$f":"((AA406*#REF!)+(#REF!*#REF!)+(#REF!*#REF!))/(#REF!+#REF!+#REF!)","v":{"$error":"#VALUE!"}},{"$f":"((AA406*#REF!)+(#REF!*#REF!)+(#REF!*#REF!))/(#REF!+#REF!+#REF!)","v":{"$error":"#VALUE!"}}]
[null,null,null,null,null,null,null,null,null,null,null,null,null,null,null,null,null,null,null,null,null,405,{"$error":"#VALUE!"},{"$f":"AVERAGE($W$3:W407)","v":{"$error":"#VALUE!"}},null,{"$error":"#VALUE!"},{"$error":"#VALUE!"},{"$f":"AVERAGE($AA$3:AA407)","v":{"$error":"#VALUE!"}},null,null,null,{"$f":"((AA407*#REF!)+(#REF!*#REF!)+(#REF!*#REF!))/(#REF!+#REF!+#REF!)","v":{"$error":"#VALUE!"}},{"$f":"((AA407*#REF!)+(#REF!*#REF!)+(#REF!*#REF!))/(#REF!+#REF!+#REF!)","v":{"$error":"#VALUE!"}},{"$f":"((AA407*#REF!)+(#REF!*#REF!)+(#REF!*#REF!))/(#REF!+#REF!+#REF!)","v":{"$error":"#VALUE!"}},{"$f":"((AA407*#REF!)+(#REF!*#REF!)+(#REF!*#REF!))/(#REF!+#REF!+#REF!)","v":{"$error":"#VALUE!"}},{"$f":"((AA407*#REF!)+(#REF!*#REF!)+(#REF!*#REF!))/(#REF!+#REF!+#REF!)","v":{"$error":"#VALUE!"}},{"$f":"((AA407*#REF!)+(#REF!*#REF!)+(#REF!*#REF!))/(#REF!+#REF!+#REF!)","v":{"$error":"#VALUE!"}},{"$f":"((AA407*#REF!)+(#REF!*#REF!)+(#REF!*#REF!))/(#REF!+#REF!+#REF!)","v":{"$error":"#VALUE!"}}]
[null,null,null,null,null,null,null,null,null,null,null,null,null,null,null,null,null,null,null,null,null,406,{"$error":"#VALUE!"},{"$f":"AVERAGE($W$3:W408)","v":{"$error":"#VALUE!"}},null,{"$error":"#VALUE!"},{"$error":"#VALUE!"},{"$f":"AVERAGE($AA$3:AA408)","v":{"$error":"#VALUE!"}},null,null,null,{"$f":"((AA408*#REF!)+(#REF!*#REF!)+(#REF!*#REF!))/(#REF!+#REF!+#REF!)","v":{"$error":"#VALUE!"}},{"$f":"((AA408*#REF!)+(#REF!*#REF!)+(#REF!*#REF!))/(#REF!+#REF!+#REF!)","v":{"$error":"#VALUE!"}},{"$f":"((AA408*#REF!)+(#REF!*#REF!)+(#REF!*#REF!))/(#REF!+#REF!+#REF!)","v":{"$error":"#VALUE!"}},{"$f":"((AA408*#REF!)+(#REF!*#REF!)+(#REF!*#REF!))/(#REF!+#REF!+#REF!)","v":{"$error":"#VALUE!"}},{"$f":"((AA408*#REF!)+(#REF!*#REF!)+(#REF!*#REF!))/(#REF!+#REF!+#REF!)","v":{"$error":"#VALUE!"}},{"$f":"((AA408*#REF!)+(#REF!*#REF!)+(#REF!*#REF!))/(#REF!+#REF!+#REF!)","v":{"$error":"#VALUE!"}},{"$f":"((AA408*#REF!)+(#REF!*#REF!)+(#REF!*#REF!))/(#REF!+#REF!+#REF!)","v":{"$error":"#VALUE!"}}]
[null,null,null,null,null,null,null,null,null,null,null,null,null,null,null,null,null,null,null,null,null,407,{"$error":"#VALUE!"},{"$f":"AVERAGE($W$3:W409)","v":{"$error":"#VALUE!"}},null,{"$error":"#VALUE!"},{"$error":"#VALUE!"},{"$f":"AVERAGE($AA$3:AA409)","v":{"$error":"#VALUE!"}},null,null,null,{"$f":"((AA409*#REF!)+(#REF!*#REF!)+(#REF!*#REF!))/(#REF!+#REF!+#REF!)","v":{"$error":"#VALUE!"}},{"$f":"((AA409*#REF!)+(#REF!*#REF!)+(#REF!*#REF!))/(#REF!+#REF!+#REF!)","v":{"$error":"#VALUE!"}},{"$f":"((AA409*#REF!)+(#REF!*#REF!)+(#REF!*#REF!))/(#REF!+#REF!+#REF!)","v":{"$error":"#VALUE!"}},{"$f":"((AA409*#REF!)+(#REF!*#REF!)+(#REF!*#REF!))/(#REF!+#REF!+#REF!)","v":{"$error":"#VALUE!"}},{"$f":"((AA409*#REF!)+(#REF!*#REF!)+(#REF!*#REF!))/(#REF!+#REF!+#REF!)","v":{"$error":"#VALUE!"}},{"$f":"((AA409*#REF!)+(#REF!*#REF!)+(#REF!*#REF!))/(#REF!+#REF!+#REF!)","v":{"$error":"#VALUE!"}},{"$f":"((AA409*#REF!)+(#REF!*#REF!)+(#REF!*#REF!))/(#REF!+#REF!+#REF!)","v":{"$error":"#VALUE!"}}]
[null,null,null,null,null,null,null,null,null,null,null,null,null,null,null,null,null,null,null,null,null,408,{"$error":"#VALUE!"},{"$f":"AVERAGE($W$3:W410)","v":{"$error":"#VALUE!"}},null,{"$error":"#VALUE!"},{"$error":"#VALUE!"},{"$f":"AVERAGE($AA$3:AA410)","v":{"$error":"#VALUE!"}},null,null,null,{"$f":"((AA410*#REF!)+(#REF!*#REF!)+(#REF!*#REF!))/(#REF!+#REF!+#REF!)","v":{"$error":"#VALUE!"}},{"$f":"((AA410*#REF!)+(#REF!*#REF!)+(#REF!*#REF!))/(#REF!+#REF!+#REF!)","v":{"$error":"#VALUE!"}},{"$f":"((AA410*#REF!)+(#REF!*#REF!)+(#REF!*#REF!))/(#REF!+#REF!+#REF!)","v":{"$error":"#VALUE!"}},{"$f":"((AA410*#REF!)+(#REF!*#REF!)+(#REF!*#REF!))/(#REF!+#REF!+#REF!)","v":{"$error":"#VALUE!"}},{"$f":"((AA410*#REF!)+(#REF!*#REF!)+(#REF!*#REF!))/(#REF!+#REF!+#REF!)","v":{"$error":"#VALUE!"}},{"$f":"((AA410*#REF!)+(#REF!*#REF!)+(#REF!*#REF!))/(#REF!+#REF!+#REF!)","v":{"$error":"#VALUE!"}},{"$f":"((AA410*#REF!)+(#REF!*#REF!)+(#REF!*#REF!))/(#REF!+#REF!+#REF!)","v":{"$error":"#VALUE!"}}]
[null,null,null,null,null,null,null,null,null,null,null,null,null,null,null,null,null,null,null,null,null,409,{"$error":"#VALUE!"},{"$f":"AVERAGE($W$3:W411)","v":{"$error":"#VALUE!"}},null,{"$error":"#VALUE!"},{"$error":"#VALUE!"},{"$f":"AVERAGE($AA$3:AA411)","v":{"$error":"#VALUE!"}},null,null,null,{"$f":"((AA411*#REF!)+(#REF!*#REF!)+(#REF!*#REF!))/(#REF!+#REF!+#REF!)","v":{"$error":"#VALUE!"}},{"$f":"((AA411*#REF!)+(#REF!*#REF!)+(#REF!*#REF!))/(#REF!+#REF!+#REF!)","v":{"$error":"#VALUE!"}},{"$f":"((AA411*#REF!)+(#REF!*#REF!)+(#REF!*#REF!))/(#REF!+#REF!+#REF!)","v":{"$error":"#VALUE!"}},{"$f":"((AA411*#REF!)+(#REF!*#REF!)+(#REF!*#REF!))/(#REF!+#REF!+#REF!)","v":{"$error":"#VALUE!"}},{"$f":"((AA411*#REF!)+(#REF!*#REF!)+(#REF!*#REF!))/(#REF!+#REF!+#REF!)","v":{"$error":"#VALUE!"}},{"$f":"((AA411*#REF!)+(#REF!*#REF!)+(#REF!*#REF!))/(#REF!+#REF!+#REF!)","v":{"$error":"#VALUE!"}},{"$f":"((AA411*#REF!)+(#REF!*#REF!)+(#REF!*#REF!))/(#REF!+#REF!+#REF!)","v":{"$error":"#VALUE!"}}]
[null,null,null,null,null,null,null,null,null,null,null,null,null,null,null,null,null,null,null,null,null,410,{"$error":"#VALUE!"},{"$f":"AVERAGE($W$3:W412)","v":{"$error":"#VALUE!"}},null,{"$error":"#VALUE!"},{"$error":"#VALUE!"},{"$f":"AVERAGE($AA$3:AA412)","v":{"$error":"#VALUE!"}},null,null,null,{"$f":"((AA412*#REF!)+(#REF!*#REF!)+(#REF!*#REF!))/(#REF!+#REF!+#REF!)","v":{"$error":"#VALUE!"}},{"$f":"((AA412*#REF!)+(#REF!*#REF!)+(#REF!*#REF!))/(#REF!+#REF!+#REF!)","v":{"$error":"#VALUE!"}},{"$f":"((AA412*#REF!)+(#REF!*#REF!)+(#REF!*#REF!))/(#REF!+#REF!+#REF!)","v":{"$error":"#VALUE!"}},{"$f":"((AA412*#REF!)+(#REF!*#REF!)+(#REF!*#REF!))/(#REF!+#REF!+#REF!)","v":{"$error":"#VALUE!"}},{"$f":"((AA412*#REF!)+(#REF!*#REF!)+(#REF!*#REF!))/(#REF!+#REF!+#REF!)","v":{"$error":"#VALUE!"}},{"$f":"((AA412*#REF!)+(#REF!*#REF!)+(#REF!*#REF!))/(#REF!+#REF!+#REF!)","v":{"$error":"#VALUE!"}},{"$f":"((AA412*#REF!)+(#REF!*#REF!)+(#REF!*#REF!))/(#REF!+#REF!+#REF!)","v":{"$error":"#VALUE!"}}]
[null,null,null,null,null,null,null,null,null,null,null,null,null,null,null,null,null,null,null,null,null,411,{"$error":"#VALUE!"},{"$f":"AVERAGE($W$3:W413)","v":{"$error":"#VALUE!"}},null,{"$error":"#VALUE!"},{"$error":"#VALUE!"},{"$f":"AVERAGE($AA$3:AA413)","v":{"$error":"#VALUE!"}},null,null,null,{"$f":"((AA413*#REF!)+(#REF!*#REF!)+(#REF!*#REF!))/(#REF!+#REF!+#REF!)","v":{"$error":"#VALUE!"}},{"$f":"((AA413*#REF!)+(#REF!*#REF!)+(#REF!*#REF!))/(#REF!+#REF!+#REF!)","v":{"$error":"#VALUE!"}},{"$f":"((AA413*#REF!)+(#REF!*#REF!)+(#REF!*#REF!))/(#REF!+#REF!+#REF!)","v":{"$error":"#VALUE!"}},{"$f":"((AA413*#REF!)+(#REF!*#REF!)+(#REF!*#REF!))/(#REF!+#REF!+#REF!)","v":{"$error":"#VALUE!"}},{"$f":"((AA413*#REF!)+(#REF!*#REF!)+(#REF!*#REF!))/(#REF!+#REF!+#REF!)","v":{"$error":"#VALUE!"}},{"$f":"((AA413*#REF!)+(#REF!*#REF!)+(#REF!*#REF!))/(#REF!+#REF!+#REF!)","v":{"$error":"#VALUE!"}},{"$f":"((AA413*#REF!)+(#REF!*#REF!)+(#REF!*#REF!))/(#REF!+#REF!+#REF!)","v":{"$error":"#VALUE!"}}]
[null,null,null,null,null,null,null,null,null,null,null,null,null,null,null,null,null,null,null,null,null,412,{"$error":"#VALUE!"},{"$f":"AVERAGE($W$3:W414)","v":{"$error":"#VALUE!"}},null,{"$error":"#VALUE!"},{"$error":"#VALUE!"},{"$f":"AVERAGE($AA$3:AA414)","v":{"$error":"#VALUE!"}},null,null,null,{"$f":"((AA414*#REF!)+(#REF!*#REF!)+(#REF!*#REF!))/(#REF!+#REF!+#REF!)","v":{"$error":"#VALUE!"}},{"$f":"((AA414*#REF!)+(#REF!*#REF!)+(#REF!*#REF!))/(#REF!+#REF!+#REF!)","v":{"$error":"#VALUE!"}},{"$f":"((AA414*#REF!)+(#REF!*#REF!)+(#REF!*#REF!))/(#REF!+#REF!+#REF!)","v":{"$error":"#VALUE!"}},{"$f":"((AA414*#REF!)+(#REF!*#REF!)+(#REF!*#REF!))/(#REF!+#REF!+#REF!)","v":{"$error":"#VALUE!"}},{"$f":"((AA414*#REF!)+(#REF!*#REF!)+(#REF!*#REF!))/(#REF!+#REF!+#REF!)","v":{"$error":"#VALUE!"}},{"$f":"((AA414*#REF!)+(#REF!*#REF!)+(#REF!*#REF!))/(#REF!+#REF!+#REF!)","v":{"$error":"#VALUE!"}},{"$f":"((AA414*#REF!)+(#REF!*#REF!)+(#REF!*#REF!))/(#REF!+#REF!+#REF!)","v":{"$error":"#VALUE!"}}]
[null,null,null,null,null,null,null,null,null,null,null,null,null,null,null,null,null,null,null,null,null,413,{"$error":"#VALUE!"},{"$f":"AVERAGE($W$3:W415)","v":{"$error":"#VALUE!"}},null,{"$error":"#VALUE!"},{"$error":"#VALUE!"},{"$f":"AVERAGE($AA$3:AA415)","v":{"$error":"#VALUE!"}},null,null,null,{"$f":"((AA415*#REF!)+(#REF!*#REF!)+(#REF!*#REF!))/(#REF!+#REF!+#REF!)","v":{"$error":"#VALUE!"}},{"$f":"((AA415*#REF!)+(#REF!*#REF!)+(#REF!*#REF!))/(#REF!+#REF!+#REF!)","v":{"$error":"#VALUE!"}},{"$f":"((AA415*#REF!)+(#REF!*#REF!)+(#REF!*#REF!))/(#REF!+#REF!+#REF!)","v":{"$error":"#VALUE!"}},{"$f":"((AA415*#REF!)+(#REF!*#REF!)+(#REF!*#REF!))/(#REF!+#REF!+#REF!)","v":{"$error":"#VALUE!"}},{"$f":"((AA415*#REF!)+(#REF!*#REF!)+(#REF!*#REF!))/(#REF!+#REF!+#REF!)","v":{"$error":"#VALUE!"}},{"$f":"((AA415*#REF!)+(#REF!*#REF!)+(#REF!*#REF!))/(#REF!+#REF!+#REF!)","v":{"$error":"#VALUE!"}},{"$f":"((AA415*#REF!)+(#REF!*#REF!)+(#REF!*#REF!))/(#REF!+#REF!+#REF!)","v":{"$error":"#VALUE!"}}]
[null,null,null,null,null,null,null,null,null,null,null,null,null,null,null,null,null,null,null,null,null,414,{"$error":"#VALUE!"},{"$f":"AVERAGE($W$3:W416)","v":{"$error":"#VALUE!"}},null,{"$error":"#VALUE!"},{"$error":"#VALUE!"},{"$f":"AVERAGE($AA$3:AA416)","v":{"$error":"#VALUE!"}},null,null,null,{"$f":"((AA416*#REF!)+(#REF!*#REF!)+(#REF!*#REF!))/(#REF!+#REF!+#REF!)","v":{"$error":"#VALUE!"}},{"$f":"((AA416*#REF!)+(#REF!*#REF!)+(#REF!*#REF!))/(#REF!+#REF!+#REF!)","v":{"$error":"#VALUE!"}},{"$f":"((AA416*#REF!)+(#REF!*#REF!)+(#REF!*#REF!))/(#REF!+#REF!+#REF!)","v":{"$error":"#VALUE!"}},{"$f":"((AA416*#REF!)+(#REF!*#REF!)+(#REF!*#REF!))/(#REF!+#REF!+#REF!)","v":{"$error":"#VALUE!"}},{"$f":"((AA416*#REF!)+(#REF!*#REF!)+(#REF!*#REF!))/(#REF!+#REF!+#REF!)","v":{"$error":"#VALUE!"}},{"$f":"((AA416*#REF!)+(#REF!*#REF!)+(#REF!*#REF!))/(#REF!+#REF!+#REF!)","v":{"$error":"#VALUE!"}},{"$f":"((AA416*#REF!)+(#REF!*#REF!)+(#REF!*#REF!))/(#REF!+#REF!+#REF!)","v":{"$error":"#VALUE!"}}]
[null,null,null,null,null,null,null,null,null,null,null,null,null,null,null,null,null,null,null,null,null,415,{"$error":"#VALUE!"},{"$f":"AVERAGE($W$3:W417)","v":{"$error":"#VALUE!"}},null,{"$error":"#VALUE!"},{"$error":"#VALUE!"},{"$f":"AVERAGE($AA$3:AA417)","v":{"$error":"#VALUE!"}},null,null,null,{"$f":"((AA417*#REF!)+(#REF!*#REF!)+(#REF!*#REF!))/(#REF!+#REF!+#REF!)","v":{"$error":"#VALUE!"}},{"$f":"((AA417*#REF!)+(#REF!*#REF!)+(#REF!*#REF!))/(#REF!+#REF!+#REF!)","v":{"$error":"#VALUE!"}},{"$f":"((AA417*#REF!)+(#REF!*#REF!)+(#REF!*#REF!))/(#REF!+#REF!+#REF!)","v":{"$error":"#VALUE!"}},{"$f":"((AA417*#REF!)+(#REF!*#REF!)+(#REF!*#REF!))/(#REF!+#REF!+#REF!)","v":{"$error":"#VALUE!"}},{"$f":"((AA417*#REF!)+(#REF!*#REF!)+(#REF!*#REF!))/(#REF!+#REF!+#REF!)","v":{"$error":"#VALUE!"}},{"$f":"((AA417*#REF!)+(#REF!*#REF!)+(#REF!*#REF!))/(#REF!+#REF!+#REF!)","v":{"$error":"#VALUE!"}},{"$f":"((AA417*#REF!)+(#REF!*#REF!)+(#REF!*#REF!))/(#REF!+#REF!+#REF!)","v":{"$error":"#VALUE!"}}]
[null,null,null,null,null,null,null,null,null,null,null,null,null,null,null,null,null,null,null,null,null,416,{"$error":"#VALUE!"},{"$f":"AVERAGE($W$3:W418)","v":{"$error":"#VALUE!"}},null,{"$error":"#VALUE!"},{"$error":"#VALUE!"},{"$f":"AVERAGE($AA$3:AA418)","v":{"$error":"#VALUE!"}},null,null,null,{"$f":"((AA418*#REF!)+(#REF!*#REF!)+(#REF!*#REF!))/(#REF!+#REF!+#REF!)","v":{"$error":"#VALUE!"}},{"$f":"((AA418*#REF!)+(#REF!*#REF!)+(#REF!*#REF!))/(#REF!+#REF!+#REF!)","v":{"$error":"#VALUE!"}},{"$f":"((AA418*#REF!)+(#REF!*#REF!)+(#REF!*#REF!))/(#REF!+#REF!+#REF!)","v":{"$error":"#VALUE!"}},{"$f":"((AA418*#REF!)+(#REF!*#REF!)+(#REF!*#REF!))/(#REF!+#REF!+#REF!)","v":{"$error":"#VALUE!"}},{"$f":"((AA418*#REF!)+(#REF!*#REF!)+(#REF!*#REF!))/(#REF!+#REF!+#REF!)","v":{"$error":"#VALUE!"}},{"$f":"((AA418*#REF!)+(#REF!*#REF!)+(#REF!*#REF!))/(#REF!+#REF!+#REF!)","v":{"$error":"#VALUE!"}},{"$f":"((AA418*#REF!)+(#REF!*#REF!)+(#REF!*#REF!))/(#REF!+#REF!+#REF!)","v":{"$error":"#VALUE!"}}]
[null,null,null,null,null,null,null,null,null,null,null,null,null,null,null,null,null,null,null,null,null,417,{"$error":"#VALUE!"},{"$f":"AVERAGE($W$3:W419)","v":{"$error":"#VALUE!"}},null,{"$error":"#VALUE!"},{"$error":"#VALUE!"},{"$f":"AVERAGE($AA$3:AA419)","v":{"$error":"#VALUE!"}},null,null,null,{"$f":"((AA419*#REF!)+(#REF!*#REF!)+(#REF!*#REF!))/(#REF!+#REF!+#REF!)","v":{"$error":"#VALUE!"}},{"$f":"((AA419*#REF!)+(#REF!*#REF!)+(#REF!*#REF!))/(#REF!+#REF!+#REF!)","v":{"$error":"#VALUE!"}},{"$f":"((AA419*#REF!)+(#REF!*#REF!)+(#REF!*#REF!))/(#REF!+#REF!+#REF!)","v":{"$error":"#VALUE!"}},{"$f":"((AA419*#REF!)+(#REF!*#REF!)+(#REF!*#REF!))/(#REF!+#REF!+#REF!)","v":{"$error":"#VALUE!"}},{"$f":"((AA419*#REF!)+(#REF!*#REF!)+(#REF!*#REF!))/(#REF!+#REF!+#REF!)","v":{"$error":"#VALUE!"}},{"$f":"((AA419*#REF!)+(#REF!*#REF!)+(#REF!*#REF!))/(#REF!+#REF!+#REF!)","v":{"$error":"#VALUE!"}},{"$f":"((AA419*#REF!)+(#REF!*#REF!)+(#REF!*#REF!))/(#REF!+#REF!+#REF!)","v":{"$error":"#VALUE!"}}]
[null,null,null,null,null,null,null,null,null,null,null,null,null,null,null,null,null,null,null,null,null,418,{"$error":"#VALUE!"},{"$f":"AVERAGE($W$3:W420)","v":{"$error":"#VALUE!"}},null,{"$error":"#VALUE!"},{"$error":"#VALUE!"},{"$f":"AVERAGE($AA$3:AA420)","v":{"$error":"#VALUE!"}},null,null,null,{"$f":"((AA420*#REF!)+(#REF!*#REF!)+(#REF!*#REF!))/(#REF!+#REF!+#REF!)","v":{"$error":"#VALUE!"}},{"$f":"((AA420*#REF!)+(#REF!*#REF!)+(#REF!*#REF!))/(#REF!+#REF!+#REF!)","v":{"$error":"#VALUE!"}},{"$f":"((AA420*#REF!)+(#REF!*#REF!)+(#REF!*#REF!))/(#REF!+#REF!+#REF!)","v":{"$error":"#VALUE!"}},{"$f":"((AA420*#REF!)+(#REF!*#REF!)+(#REF!*#REF!))/(#REF!+#REF!+#REF!)","v":{"$error":"#VALUE!"}},{"$f":"((AA420*#REF!)+(#REF!*#REF!)+(#REF!*#REF!))/(#REF!+#REF!+#REF!)","v":{"$error":"#VALUE!"}},{"$f":"((AA420*#REF!)+(#REF!*#REF!)+(#REF!*#REF!))/(#REF!+#REF!+#REF!)","v":{"$error":"#VALUE!"}},{"$f":"((AA420*#REF!)+(#REF!*#REF!)+(#REF!*#REF!))/(#REF!+#REF!+#REF!)","v":{"$error":"#VALUE!"}}]
[null,null,null,null,null,null,null,null,null,null,null,null,null,null,null,null,null,null,null,null,null,419,{"$error":"#VALUE!"},{"$f":"AVERAGE($W$3:W421)","v":{"$error":"#VALUE!"}},null,{"$error":"#VALUE!"},{"$error":"#VALUE!"},{"$f":"AVERAGE($AA$3:AA421)","v":{"$error":"#VALUE!"}},null,null,null,{"$f":"((AA421*#REF!)+(#REF!*#REF!)+(#REF!*#REF!))/(#REF!+#REF!+#REF!)","v":{"$error":"#VALUE!"}},{"$f":"((AA421*#REF!)+(#REF!*#REF!)+(#REF!*#REF!))/(#REF!+#REF!+#REF!)","v":{"$error":"#VALUE!"}},{"$f":"((AA421*#REF!)+(#REF!*#REF!)+(#REF!*#REF!))/(#REF!+#REF!+#REF!)","v":{"$error":"#VALUE!"}},{"$f":"((AA421*#REF!)+(#REF!*#REF!)+(#REF!*#REF!))/(#REF!+#REF!+#REF!)","v":{"$error":"#VALUE!"}},{"$f":"((AA421*#REF!)+(#REF!*#REF!)+(#REF!*#REF!))/(#REF!+#REF!+#REF!)","v":{"$error":"#VALUE!"}},{"$f":"((AA421*#REF!)+(#REF!*#REF!)+(#REF!*#REF!))/(#REF!+#REF!+#REF!)","v":{"$error":"#VALUE!"}},{"$f":"((AA421*#REF!)+(#REF!*#REF!)+(#REF!*#REF!))/(#REF!+#REF!+#REF!)","v":{"$error":"#VALUE!"}}]
[null,null,null,null,null,null,null,null,null,null,null,null,null,null,null,null,null,null,null,null,null,420,{"$error":"#VALUE!"},{"$f":"AVERAGE($W$3:W422)","v":{"$error":"#VALUE!"}},null,{"$error":"#VALUE!"},{"$error":"#VALUE!"},{"$f":"AVERAGE($AA$3:AA422)","v":{"$error":"#VALUE!"}},null,null,null,{"$f":"((AA422*#REF!)+(#REF!*#REF!)+(#REF!*#REF!))/(#REF!+#REF!+#REF!)","v":{"$error":"#VALUE!"}},{"$f":"((AA422*#REF!)+(#REF!*#REF!)+(#REF!*#REF!))/(#REF!+#REF!+#REF!)","v":{"$error":"#VALUE!"}},{"$f":"((AA422*#REF!)+(#REF!*#REF!)+(#REF!*#REF!))/(#REF!+#REF!+#REF!)","v":{"$error":"#VALUE!"}},{"$f":"((AA422*#REF!)+(#REF!*#REF!)+(#REF!*#REF!))/(#REF!+#REF!+#REF!)","v":{"$error":"#VALUE!"}},{"$f":"((AA422*#REF!)+(#REF!*#REF!)+(#REF!*#REF!))/(#REF!+#REF!+#REF!)","v":{"$error":"#VALUE!"}},{"$f":"((AA422*#REF!)+(#REF!*#REF!)+(#REF!*#REF!))/(#REF!+#REF!+#REF!)","v":{"$error":"#VALUE!"}},{"$f":"((AA422*#REF!)+(#REF!*#REF!)+(#REF!*#REF!))/(#REF!+#REF!+#REF!)","v":{"$error":"#VALUE!"}}]
[null,null,null,null,null,null,null,null,null,null,null,null,null,null,null,null,null,null,null,null,null,421,{"$error":"#VALUE!"},{"$f":"AVERAGE($W$3:W423)","v":{"$error":"#VALUE!"}},null,{"$error":"#VALUE!"},{"$error":"#VALUE!"},{"$f":"AVERAGE($AA$3:AA423)","v":{"$error":"#VALUE!"}},null,null,null,{"$f":"((AA423*#REF!)+(#REF!*#REF!)+(#REF!*#REF!))/(#REF!+#REF!+#REF!)","v":{"$error":"#VALUE!"}},{"$f":"((AA423*#REF!)+(#REF!*#REF!)+(#REF!*#REF!))/(#REF!+#REF!+#REF!)","v":{"$error":"#VALUE!"}},{"$f":"((AA423*#REF!)+(#REF!*#REF!)+(#REF!*#REF!))/(#REF!+#REF!+#REF!)","v":{"$error":"#VALUE!"}},{"$f":"((AA423*#REF!)+(#REF!*#REF!)+(#REF!*#REF!))/(#REF!+#REF!+#REF!)","v":{"$error":"#VALUE!"}},{"$f":"((AA423*#REF!)+(#REF!*#REF!)+(#REF!*#REF!))/(#REF!+#REF!+#REF!)","v":{"$error":"#VALUE!"}},{"$f":"((AA423*#REF!)+(#REF!*#REF!)+(#REF!*#REF!))/(#REF!+#REF!+#REF!)","v":{"$error":"#VALUE!"}},{"$f":"((AA423*#REF!)+(#REF!*#REF!)+(#REF!*#REF!))/(#REF!+#REF!+#REF!)","v":{"$error":"#VALUE!"}}]
[null,null,null,null,null,null,null,null,null,null,null,null,null,null,null,null,null,null,null,null,null,422,{"$error":"#VALUE!"},{"$f":"AVERAGE($W$3:W424)","v":{"$error":"#VALUE!"}},null,{"$error":"#VALUE!"},{"$error":"#VALUE!"},{"$f":"AVERAGE($AA$3:AA424)","v":{"$error":"#VALUE!"}},null,null,null,{"$f":"((AA424*#REF!)+(#REF!*#REF!)+(#REF!*#REF!))/(#REF!+#REF!+#REF!)","v":{"$error":"#VALUE!"}},{"$f":"((AA424*#REF!)+(#REF!*#REF!)+(#REF!*#REF!))/(#REF!+#REF!+#REF!)","v":{"$error":"#VALUE!"}},{"$f":"((AA424*#REF!)+(#REF!*#REF!)+(#REF!*#REF!))/(#REF!+#REF!+#REF!)","v":{"$error":"#VALUE!"}},{"$f":"((AA424*#REF!)+(#REF!*#REF!)+(#REF!*#REF!))/(#REF!+#REF!+#REF!)","v":{"$error":"#VALUE!"}},{"$f":"((AA424*#REF!)+(#REF!*#REF!)+(#REF!*#REF!))/(#REF!+#REF!+#REF!)","v":{"$error":"#VALUE!"}},{"$f":"((AA424*#REF!)+(#REF!*#REF!)+(#REF!*#REF!))/(#REF!+#REF!+#REF!)","v":{"$error":"#VALUE!"}},{"$f":"((AA424*#REF!)+(#REF!*#REF!)+(#REF!*#REF!))/(#REF!+#REF!+#REF!)","v":{"$error":"#VALUE!"}}]
[null,null,null,null,null,null,null,null,null,null,null,null,null,null,null,null,null,null,null,null,null,423,{"$error":"#VALUE!"},{"$f":"AVERAGE($W$3:W425)","v":{"$error":"#VALUE!"}},null,{"$error":"#VALUE!"},{"$error":"#VALUE!"},{"$f":"AVERAGE($AA$3:AA425)","v":{"$error":"#VALUE!"}},null,null,null,{"$f":"((AA425*#REF!)+(#REF!*#REF!)+(#REF!*#REF!))/(#REF!+#REF!+#REF!)","v":{"$error":"#VALUE!"}},{"$f":"((AA425*#REF!)+(#REF!*#REF!)+(#REF!*#REF!))/(#REF!+#REF!+#REF!)","v":{"$error":"#VALUE!"}},{"$f":"((AA425*#REF!)+(#REF!*#REF!)+(#REF!*#REF!))/(#REF!+#REF!+#REF!)","v":{"$error":"#VALUE!"}},{"$f":"((AA425*#REF!)+(#REF!*#REF!)+(#REF!*#REF!))/(#REF!+#REF!+#REF!)","v":{"$error":"#VALUE!"}},{"$f":"((AA425*#REF!)+(#REF!*#REF!)+(#REF!*#REF!))/(#REF!+#REF!+#REF!)","v":{"$error":"#VALUE!"}},{"$f":"((AA425*#REF!)+(#REF!*#REF!)+(#REF!*#REF!))/(#REF!+#REF!+#REF!)","v":{"$error":"#VALUE!"}},{"$f":"((AA425*#REF!)+(#REF!*#REF!)+(#REF!*#REF!))/(#REF!+#REF!+#REF!)","v":{"$error":"#VALUE!"}}]
[null,null,null,null,null,null,null,null,null,null,null,null,null,null,null,null,null,null,null,null,null,424,{"$error":"#VALUE!"},{"$f":"AVERAGE($W$3:W426)","v":{"$error":"#VALUE!"}},null,{"$error":"#VALUE!"},{"$error":"#VALUE!"},{"$f":"AVERAGE($AA$3:AA426)","v":{"$error":"#VALUE!"}},null,null,null,{"$f":"((AA426*#REF!)+(#REF!*#REF!)+(#REF!*#REF!))/(#REF!+#REF!+#REF!)","v":{"$error":"#VALUE!"}},{"$f":"((AA426*#REF!)+(#REF!*#REF!)+(#REF!*#REF!))/(#REF!+#REF!+#REF!)","v":{"$error":"#VALUE!"}},{"$f":"((AA426*#REF!)+(#REF!*#REF!)+(#REF!*#REF!))/(#REF!+#REF!+#REF!)","v":{"$error":"#VALUE!"}},{"$f":"((AA426*#REF!)+(#REF!*#REF!)+(#REF!*#REF!))/(#REF!+#REF!+#REF!)","v":{"$error":"#VALUE!"}},{"$f":"((AA426*#REF!)+(#REF!*#REF!)+(#REF!*#REF!))/(#REF!+#REF!+#REF!)","v":{"$error":"#VALUE!"}},{"$f":"((AA426*#REF!)+(#REF!*#REF!)+(#REF!*#REF!))/(#REF!+#REF!+#REF!)","v":{"$error":"#VALUE!"}},{"$f":"((AA426*#REF!)+(#REF!*#REF!)+(#REF!*#REF!))/(#REF!+#REF!+#REF!)","v":{"$error":"#VALUE!"}}]
[null,null,null,null,null,null,null,null,null,null,null,null,null,null,null,null,null,null,null,null,null,425,{"$error":"#VALUE!"},{"$f":"AVERAGE($W$3:W427)","v":{"$error":"#VALUE!"}},null,{"$error":"#VALUE!"},{"$error":"#VALUE!"},{"$f":"AVERAGE($AA$3:AA427)","v":{"$error":"#VALUE!"}},null,null,null,{"$f":"((AA427*#REF!)+(#REF!*#REF!)+(#REF!*#REF!))/(#REF!+#REF!+#REF!)","v":{"$error":"#VALUE!"}},{"$f":"((AA427*#REF!)+(#REF!*#REF!)+(#REF!*#REF!))/(#REF!+#REF!+#REF!)","v":{"$error":"#VALUE!"}},{"$f":"((AA427*#REF!)+(#REF!*#REF!)+(#REF!*#REF!))/(#REF!+#REF!+#REF!)","v":{"$error":"#VALUE!"}},{"$f":"((AA427*#REF!)+(#REF!*#REF!)+(#REF!*#REF!))/(#REF!+#REF!+#REF!)","v":{"$error":"#VALUE!"}},{"$f":"((AA427*#REF!)+(#REF!*#REF!)+(#REF!*#REF!))/(#REF!+#REF!+#REF!)","v":{"$error":"#VALUE!"}},{"$f":"((AA427*#REF!)+(#REF!*#REF!)+(#REF!*#REF!))/(#REF!+#REF!+#REF!)","v":{"$error":"#VALUE!"}},{"$f":"((AA427*#REF!)+(#REF!*#REF!)+(#REF!*#REF!))/(#REF!+#REF!+#REF!)","v":{"$error":"#VALUE!"}}]
[null,null,null,null,null,null,null,null,null,null,null,null,null,null,null,null,null,null,null,null,null,426,{"$error":"#VALUE!"},{"$f":"AVERAGE($W$3:W428)","v":{"$error":"#VALUE!"}},null,{"$error":"#VALUE!"},{"$error":"#VALUE!"},{"$f":"AVERAGE($AA$3:AA428)","v":{"$error":"#VALUE!"}},null,null,null,{"$f":"((AA428*#REF!)+(#REF!*#REF!)+(#REF!*#REF!))/(#REF!+#REF!+#REF!)","v":{"$error":"#VALUE!"}},{"$f":"((AA428*#REF!)+(#REF!*#REF!)+(#REF!*#REF!))/(#REF!+#REF!+#REF!)","v":{"$error":"#VALUE!"}},{"$f":"((AA428*#REF!)+(#REF!*#REF!)+(#REF!*#REF!))/(#REF!+#REF!+#REF!)","v":{"$error":"#VALUE!"}},{"$f":"((AA428*#REF!)+(#REF!*#REF!)+(#REF!*#REF!))/(#REF!+#REF!+#REF!)","v":{"$error":"#VALUE!"}},{"$f":"((AA428*#REF!)+(#REF!*#REF!)+(#REF!*#REF!))/(#REF!+#REF!+#REF!)","v":{"$error":"#VALUE!"}},{"$f":"((AA428*#REF!)+(#REF!*#REF!)+(#REF!*#REF!))/(#REF!+#REF!+#REF!)","v":{"$error":"#VALUE!"}},{"$f":"((AA428*#REF!)+(#REF!*#REF!)+(#REF!*#REF!))/(#REF!+#REF!+#REF!)","v":{"$error":"#VALUE!"}}]
[null,null,null,null,null,null,null,null,null,null,null,null,null,null,null,null,null,null,null,null,null,427,{"$error":"#VALUE!"},{"$f":"AVERAGE($W$3:W429)","v":{"$error":"#VALUE!"}},null,{"$error":"#VALUE!"},{"$error":"#VALUE!"},{"$f":"AVERAGE($AA$3:AA429)","v":{"$error":"#VALUE!"}},null,null,null,{"$f":"((AA429*#REF!)+(#REF!*#REF!)+(#REF!*#REF!))/(#REF!+#REF!+#REF!)","v":{"$error":"#VALUE!"}},{"$f":"((AA429*#REF!)+(#REF!*#REF!)+(#REF!*#REF!))/(#REF!+#REF!+#REF!)","v":{"$error":"#VALUE!"}},{"$f":"((AA429*#REF!)+(#REF!*#REF!)+(#REF!*#REF!))/(#REF!+#REF!+#REF!)","v":{"$error":"#VALUE!"}},{"$f":"((AA429*#REF!)+(#REF!*#REF!)+(#REF!*#REF!))/(#REF!+#REF!+#REF!)","v":{"$error":"#VALUE!"}},{"$f":"((AA429*#REF!)+(#REF!*#REF!)+(#REF!*#REF!))/(#REF!+#REF!+#REF!)","v":{"$error":"#VALUE!"}},{"$f":"((AA429*#REF!)+(#REF!*#REF!)+(#REF!*#REF!))/(#REF!+#REF!+#REF!)","v":{"$error":"#VALUE!"}},{"$f":"((AA429*#REF!)+(#REF!*#REF!)+(#REF!*#REF!))/(#REF!+#REF!+#REF!)","v":{"$error":"#VALUE!"}}]
[null,null,null,null,null,null,null,null,null,null,null,null,null,null,null,null,null,null,null,null,null,428,{"$error":"#VALUE!"},{"$f":"AVERAGE($W$3:W430)","v":{"$error":"#VALUE!"}},null,{"$error":"#VALUE!"},{"$error":"#VALUE!"},{"$f":"AVERAGE($AA$3:AA430)","v":{"$error":"#VALUE!"}},null,null,null,{"$f":"((AA430*#REF!)+(#REF!*#REF!)+(#REF!*#REF!))/(#REF!+#REF!+#REF!)","v":{"$error":"#VALUE!"}},{"$f":"((AA430*#REF!)+(#REF!*#REF!)+(#REF!*#REF!))/(#REF!+#REF!+#REF!)","v":{"$error":"#VALUE!"}},{"$f":"((AA430*#REF!)+(#REF!*#REF!)+(#REF!*#REF!))/(#REF!+#REF!+#REF!)","v":{"$error":"#VALUE!"}},{"$f":"((AA430*#REF!)+(#REF!*#REF!)+(#REF!*#REF!))/(#REF!+#REF!+#REF!)","v":{"$error":"#VALUE!"}},{"$f":"((AA430*#REF!)+(#REF!*#REF!)+(#REF!*#REF!))/(#REF!+#REF!+#REF!)","v":{"$error":"#VALUE!"}},{"$f":"((AA430*#REF!)+(#REF!*#REF!)+(#REF!*#REF!))/(#REF!+#REF!+#REF!)","v":{"$error":"#VALUE!"}},{"$f":"((AA430*#REF!)+(#REF!*#REF!)+(#REF!*#REF!))/(#REF!+#REF!+#REF!)","v":{"$error":"#VALUE!"}}]
[null,null,null,null,null,null,null,null,null,null,null,null,null,null,null,null,null,null,null,null,null,429,{"$error":"#VALUE!"},{"$f":"AVERAGE($W$3:W431)","v":{"$error":"#VALUE!"}},null,{"$error":"#VALUE!"},{"$error":"#VALUE!"},{"$f":"AVERAGE($AA$3:AA431)","v":{"$error":"#VALUE!"}},null,null,null,{"$f":"((AA431*#REF!)+(#REF!*#REF!)+(#REF!*#REF!))/(#REF!+#REF!+#REF!)","v":{"$error":"#VALUE!"}},{"$f":"((AA431*#REF!)+(#REF!*#REF!)+(#REF!*#REF!))/(#REF!+#REF!+#REF!)","v":{"$error":"#VALUE!"}},{"$f":"((AA431*#REF!)+(#REF!*#REF!)+(#REF!*#REF!))/(#REF!+#REF!+#REF!)","v":{"$error":"#VALUE!"}},{"$f":"((AA431*#REF!)+(#REF!*#REF!)+(#REF!*#REF!))/(#REF!+#REF!+#REF!)","v":{"$error":"#VALUE!"}},{"$f":"((AA431*#REF!)+(#REF!*#REF!)+(#REF!*#REF!))/(#REF!+#REF!+#REF!)","v":{"$error":"#VALUE!"}},{"$f":"((AA431*#REF!)+(#REF!*#REF!)+(#REF!*#REF!))/(#REF!+#REF!+#REF!)","v":{"$error":"#VALUE!"}},{"$f":"((AA431*#REF!)+(#REF!*#REF!)+(#REF!*#REF!))/(#REF!+#REF!+#REF!)","v":{"$error":"#VALUE!"}}]
[null,null,null,null,null,null,null,null,null,null,null,null,null,null,null,null,null,null,null,null,null,430,{"$error":"#VALUE!"},{"$f":"AVERAGE($W$3:W432)","v":{"$error":"#VALUE!"}},null,{"$error":"#VALUE!"},{"$error":"#VALUE!"},{"$f":"AVERAGE($AA$3:AA432)","v":{"$error":"#VALUE!"}},null,null,null,{"$f":"((AA432*#REF!)+(#REF!*#REF!)+(#REF!*#REF!))/(#REF!+#REF!+#REF!)","v":{"$error":"#VALUE!"}},{"$f":"((AA432*#REF!)+(#REF!*#REF!)+(#REF!*#REF!))/(#REF!+#REF!+#REF!)","v":{"$error":"#VALUE!"}},{"$f":"((AA432*#REF!)+(#REF!*#REF!)+(#REF!*#REF!))/(#REF!+#REF!+#REF!)","v":{"$error":"#VALUE!"}},{"$f":"((AA432*#REF!)+(#REF!*#REF!)+(#REF!*#REF!))/(#REF!+#REF!+#REF!)","v":{"$error":"#VALUE!"}},{"$f":"((AA432*#REF!)+(#REF!*#REF!)+(#REF!*#REF!))/(#REF!+#REF!+#REF!)","v":{"$error":"#VALUE!"}},{"$f":"((AA432*#REF!)+(#REF!*#REF!)+(#REF!*#REF!))/(#REF!+#REF!+#REF!)","v":{"$error":"#VALUE!"}},{"$f":"((AA432*#REF!)+(#REF!*#REF!)+(#REF!*#REF!))/(#REF!+#REF!+#REF!)","v":{"$error":"#VALUE!"}}]
[null,null,null,null,null,null,null,null,null,null,null,null,null,null,null,null,null,null,null,null,null,431,{"$error":"#VALUE!"},{"$f":"AVERAGE($W$3:W433)","v":{"$error":"#VALUE!"}},null,{"$error":"#VALUE!"},{"$error":"#VALUE!"},{"$f":"AVERAGE($AA$3:AA433)","v":{"$error":"#VALUE!"}},null,null,null,{"$f":"((AA433*#REF!)+(#REF!*#REF!)+(#REF!*#REF!))/(#REF!+#REF!+#REF!)","v":{"$error":"#VALUE!"}},{"$f":"((AA433*#REF!)+(#REF!*#REF!)+(#REF!*#REF!))/(#REF!+#REF!+#REF!)","v":{"$error":"#VALUE!"}},{"$f":"((AA433*#REF!)+(#REF!*#REF!)+(#REF!*#REF!))/(#REF!+#REF!+#REF!)","v":{"$error":"#VALUE!"}},{"$f":"((AA433*#REF!)+(#REF!*#REF!)+(#REF!*#REF!))/(#REF!+#REF!+#REF!)","v":{"$error":"#VALUE!"}},{"$f":"((AA433*#REF!)+(#REF!*#REF!)+(#REF!*#REF!))/(#REF!+#REF!+#REF!)","v":{"$error":"#VALUE!"}},{"$f":"((AA433*#REF!)+(#REF!*#REF!)+(#REF!*#REF!))/(#REF!+#REF!+#REF!)","v":{"$error":"#VALUE!"}},{"$f":"((AA433*#REF!)+(#REF!*#REF!)+(#REF!*#REF!))/(#REF!+#REF!+#REF!)","v":{"$error":"#VALUE!"}}]
[null,null,null,null,null,null,null,null,null,null,null,null,null,null,null,null,null,null,null,null,null,432,{"$error":"#VALUE!"},{"$f":"AVERAGE($W$3:W434)","v":{"$error":"#VALUE!"}},null,{"$error":"#VALUE!"},{"$error":"#VALUE!"},{"$f":"AVERAGE($AA$3:AA434)","v":{"$error":"#VALUE!"}},null,null,null,{"$f":"((AA434*#REF!)+(#REF!*#REF!)+(#REF!*#REF!))/(#REF!+#REF!+#REF!)","v":{"$error":"#VALUE!"}},{"$f":"((AA434*#REF!)+(#REF!*#REF!)+(#REF!*#REF!))/(#REF!+#REF!+#REF!)","v":{"$error":"#VALUE!"}},{"$f":"((AA434*#REF!)+(#REF!*#REF!)+(#REF!*#REF!))/(#REF!+#REF!+#REF!)","v":{"$error":"#VALUE!"}},{"$f":"((AA434*#REF!)+(#REF!*#REF!)+(#REF!*#REF!))/(#REF!+#REF!+#REF!)","v":{"$error":"#VALUE!"}},{"$f":"((AA434*#REF!)+(#REF!*#REF!)+(#REF!*#REF!))/(#REF!+#REF!+#REF!)","v":{"$error":"#VALUE!"}},{"$f":"((AA434*#REF!)+(#REF!*#REF!)+(#REF!*#REF!))/(#REF!+#REF!+#REF!)","v":{"$error":"#VALUE!"}},{"$f":"((AA434*#REF!)+(#REF!*#REF!)+(#REF!*#REF!))/(#REF!+#REF!+#REF!)","v":{"$error":"#VALUE!"}}]
[null,null,null,null,null,null,null,null,null,null,null,null,null,null,null,null,null,null,null,null,null,433,{"$error":"#VALUE!"},{"$f":"AVERAGE($W$3:W435)","v":{"$error":"#VALUE!"}},null,{"$error":"#VALUE!"},{"$error":"#VALUE!"},{"$f":"AVERAGE($AA$3:AA435)","v":{"$error":"#VALUE!"}},null,null,null,{"$f":"((AA435*#REF!)+(#REF!*#REF!)+(#REF!*#REF!))/(#REF!+#REF!+#REF!)","v":{"$error":"#VALUE!"}},{"$f":"((AA435*#REF!)+(#REF!*#REF!)+(#REF!*#REF!))/(#REF!+#REF!+#REF!)","v":{"$error":"#VALUE!"}},{"$f":"((AA435*#REF!)+(#REF!*#REF!)+(#REF!*#REF!))/(#REF!+#REF!+#REF!)","v":{"$error":"#VALUE!"}},{"$f":"((AA435*#REF!)+(#REF!*#REF!)+(#REF!*#REF!))/(#REF!+#REF!+#REF!)","v":{"$error":"#VALUE!"}},{"$f":"((AA435*#REF!)+(#REF!*#REF!)+(#REF!*#REF!))/(#REF!+#REF!+#REF!)","v":{"$error":"#VALUE!"}},{"$f":"((AA435*#REF!)+(#REF!*#REF!)+(#REF!*#REF!))/(#REF!+#REF!+#REF!)","v":{"$error":"#VALUE!"}},{"$f":"((AA435*#REF!)+(#REF!*#REF!)+(#REF!*#REF!))/(#REF!+#REF!+#REF!)","v":{"$error":"#VALUE!"}}]
[null,null,null,null,null,null,null,null,null,null,null,null,null,null,null,null,null,null,null,null,null,434,{"$error":"#VALUE!"},{"$f":"AVERAGE($W$3:W436)","v":{"$error":"#VALUE!"}},null,{"$error":"#VALUE!"},{"$error":"#VALUE!"},{"$f":"AVERAGE($AA$3:AA436)","v":{"$error":"#VALUE!"}},null,null,null,{"$f":"((AA436*#REF!)+(#REF!*#REF!)+(#REF!*#REF!))/(#REF!+#REF!+#REF!)","v":{"$error":"#VALUE!"}},{"$f":"((AA436*#REF!)+(#REF!*#REF!)+(#REF!*#REF!))/(#REF!+#REF!+#REF!)","v":{"$error":"#VALUE!"}},{"$f":"((AA436*#REF!)+(#REF!*#REF!)+(#REF!*#REF!))/(#REF!+#REF!+#REF!)","v":{"$error":"#VALUE!"}},{"$f":"((AA436*#REF!)+(#REF!*#REF!)+(#REF!*#REF!))/(#REF!+#REF!+#REF!)","v":{"$error":"#VALUE!"}},{"$f":"((AA436*#REF!)+(#REF!*#REF!)+(#REF!*#REF!))/(#REF!+#REF!+#REF!)","v":{"$error":"#VALUE!"}},{"$f":"((AA436*#REF!)+(#REF!*#REF!)+(#REF!*#REF!))/(#REF!+#REF!+#REF!)","v":{"$error":"#VALUE!"}},{"$f":"((AA436*#REF!)+(#REF!*#REF!)+(#REF!*#REF!))/(#REF!+#REF!+#REF!)","v":{"$error":"#VALUE!"}}]
[null,null,null,null,null,null,null,null,null,null,null,null,null,null,null,null,null,null,null,null,null,435,{"$error":"#VALUE!"},{"$f":"AVERAGE($W$3:W437)","v":{"$error":"#VALUE!"}},null,{"$error":"#VALUE!"},{"$error":"#VALUE!"},{"$f":"AVERAGE($AA$3:AA437)","v":{"$error":"#VALUE!"}},null,null,null,{"$f":"((AA437*#REF!)+(#REF!*#REF!)+(#REF!*#REF!))/(#REF!+#REF!+#REF!)","v":{"$error":"#VALUE!"}},{"$f":"((AA437*#REF!)+(#REF!*#REF!)+(#REF!*#REF!))/(#REF!+#REF!+#REF!)","v":{"$error":"#VALUE!"}},{"$f":"((AA437*#REF!)+(#REF!*#REF!)+(#REF!*#REF!))/(#REF!+#REF!+#REF!)","v":{"$error":"#VALUE!"}},{"$f":"((AA437*#REF!)+(#REF!*#REF!)+(#REF!*#REF!))/(#REF!+#REF!+#REF!)","v":{"$error":"#VALUE!"}},{"$f":"((AA437*#REF!)+(#REF!*#REF!)+(#REF!*#REF!))/(#REF!+#REF!+#REF!)","v":{"$error":"#VALUE!"}},{"$f":"((AA437*#REF!)+(#REF!*#REF!)+(#REF!*#REF!))/(#REF!+#REF!+#REF!)","v":{"$error":"#VALUE!"}},{"$f":"((AA437*#REF!)+(#REF!*#REF!)+(#REF!*#REF!))/(#REF!+#REF!+#REF!)","v":{"$error":"#VALUE!"}}]
[null,null,null,null,null,null,null,null,null,null,null,null,null,null,null,null,null,null,null,null,null,436,{"$error":"#VALUE!"},{"$f":"AVERAGE($W$3:W438)","v":{"$error":"#VALUE!"}},null,{"$error":"#VALUE!"},{"$error":"#VALUE!"},{"$f":"AVERAGE($AA$3:AA438)","v":{"$error":"#VALUE!"}},null,null,null,{"$f":"((AA438*#REF!)+(#REF!*#REF!)+(#REF!*#REF!))/(#REF!+#REF!+#REF!)","v":{"$error":"#VALUE!"}},{"$f":"((AA438*#REF!)+(#REF!*#REF!)+(#REF!*#REF!))/(#REF!+#REF!+#REF!)","v":{"$error":"#VALUE!"}},{"$f":"((AA438*#REF!)+(#REF!*#REF!)+(#REF!*#REF!))/(#REF!+#REF!+#REF!)","v":{"$error":"#VALUE!"}},{"$f":"((AA438*#REF!)+(#REF!*#REF!)+(#REF!*#REF!))/(#REF!+#REF!+#REF!)","v":{"$error":"#VALUE!"}},{"$f":"((AA438*#REF!)+(#REF!*#REF!)+(#REF!*#REF!))/(#REF!+#REF!+#REF!)","v":{"$error":"#VALUE!"}},{"$f":"((AA438*#REF!)+(#REF!*#REF!)+(#REF!*#REF!))/(#REF!+#REF!+#REF!)","v":{"$error":"#VALUE!"}},{"$f":"((AA438*#REF!)+(#REF!*#REF!)+(#REF!*#REF!))/(#REF!+#REF!+#REF!)","v":{"$error":"#VALUE!"}}]
[null,null,null,null,null,null,null,null,null,null,null,null,null,null,null,null,null,null,null,null,null,437,{"$error":"#VALUE!"},{"$f":"AVERAGE($W$3:W439)","v":{"$error":"#VALUE!"}},null,{"$error":"#VALUE!"},{"$error":"#VALUE!"},{"$f":"AVERAGE($AA$3:AA439)","v":{"$error":"#VALUE!"}},null,null,null,{"$f":"((AA439*#REF!)+(#REF!*#REF!)+(#REF!*#REF!))/(#REF!+#REF!+#REF!)","v":{"$error":"#VALUE!"}},{"$f":"((AA439*#REF!)+(#REF!*#REF!)+(#REF!*#REF!))/(#REF!+#REF!+#REF!)","v":{"$error":"#VALUE!"}},{"$f":"((AA439*#REF!)+(#REF!*#REF!)+(#REF!*#REF!))/(#REF!+#REF!+#REF!)","v":{"$error":"#VALUE!"}},{"$f":"((AA439*#REF!)+(#REF!*#REF!)+(#REF!*#REF!))/(#REF!+#REF!+#REF!)","v":{"$error":"#VALUE!"}},{"$f":"((AA439*#REF!)+(#REF!*#REF!)+(#REF!*#REF!))/(#REF!+#REF!+#REF!)","v":{"$error":"#VALUE!"}},{"$f":"((AA439*#REF!)+(#REF!*#REF!)+(#REF!*#REF!))/(#REF!+#REF!+#REF!)","v":{"$error":"#VALUE!"}},{"$f":"((AA439*#REF!)+(#REF!*#REF!)+(#REF!*#REF!))/(#REF!+#REF!+#REF!)","v":{"$error":"#VALUE!"}}]
[null,null,null,null,null,null,null,null,null,null,null,null,null,null,null,null,null,null,null,null,null,438,{"$error":"#VALUE!"},{"$f":"AVERAGE($W$3:W440)","v":{"$error":"#VALUE!"}},null,{"$error":"#VALUE!"},{"$error":"#VALUE!"},{"$f":"AVERAGE($AA$3:AA440)","v":{"$error":"#VALUE!"}},null,null,null,{"$f":"((AA440*#REF!)+(#REF!*#REF!)+(#REF!*#REF!))/(#REF!+#REF!+#REF!)","v":{"$error":"#VALUE!"}},{"$f":"((AA440*#REF!)+(#REF!*#REF!)+(#REF!*#REF!))/(#REF!+#REF!+#REF!)","v":{"$error":"#VALUE!"}},{"$f":"((AA440*#REF!)+(#REF!*#REF!)+(#REF!*#REF!))/(#REF!+#REF!+#REF!)","v":{"$error":"#VALUE!"}},{"$f":"((AA440*#REF!)+(#REF!*#REF!)+(#REF!*#REF!))/(#REF!+#REF!+#REF!)","v":{"$error":"#VALUE!"}},{"$f":"((AA440*#REF!)+(#REF!*#REF!)+(#REF!*#REF!))/(#REF!+#REF!+#REF!)","v":{"$error":"#VALUE!"}},{"$f":"((AA440*#REF!)+(#REF!*#REF!)+(#REF!*#REF!))/(#REF!+#REF!+#REF!)","v":{"$error":"#VALUE!"}},{"$f":"((AA440*#REF!)+(#REF!*#REF!)+(#REF!*#REF!))/(#REF!+#REF!+#REF!)","v":{"$error":"#VALUE!"}}]
[null,null,null,null,null,null,null,null,null,null,null,null,null,null,null,null,null,null,null,null,null,439,{"$error":"#VALUE!"},{"$f":"AVERAGE($W$3:W441)","v":{"$error":"#VALUE!"}},null,{"$error":"#VALUE!"},{"$error":"#VALUE!"},{"$f":"AVERAGE($AA$3:AA441)","v":{"$error":"#VALUE!"}},null,null,null,{"$f":"((AA441*#REF!)+(#REF!*#REF!)+(#REF!*#REF!))/(#REF!+#REF!+#REF!)","v":{"$error":"#VALUE!"}},{"$f":"((AA441*#REF!)+(#REF!*#REF!)+(#REF!*#REF!))/(#REF!+#REF!+#REF!)","v":{"$error":"#VALUE!"}},{"$f":"((AA441*#REF!)+(#REF!*#REF!)+(#REF!*#REF!))/(#REF!+#REF!+#REF!)","v":{"$error":"#VALUE!"}},{"$f":"((AA441*#REF!)+(#REF!*#REF!)+(#REF!*#REF!))/(#REF!+#REF!+#REF!)","v":{"$error":"#VALUE!"}},{"$f":"((AA441*#REF!)+(#REF!*#REF!)+(#REF!*#REF!))/(#REF!+#REF!+#REF!)","v":{"$error":"#VALUE!"}},{"$f":"((AA441*#REF!)+(#REF!*#REF!)+(#REF!*#REF!))/(#REF!+#REF!+#REF!)","v":{"$error":"#VALUE!"}},{"$f":"((AA441*#REF!)+(#REF!*#REF!)+(#REF!*#REF!))/(#REF!+#REF!+#REF!)","v":{"$error":"#VALUE!"}}]
[null,null,null,null,null,null,null,null,null,null,null,null,null,null,null,null,null,null,null,null,null,440,{"$error":"#VALUE!"},{"$f":"AVERAGE($W$3:W442)","v":{"$error":"#VALUE!"}},null,{"$error":"#VALUE!"},{"$error":"#VALUE!"},{"$f":"AVERAGE($AA$3:AA442)","v":{"$error":"#VALUE!"}},null,null,null,{"$f":"((AA442*#REF!)+(#REF!*#REF!)+(#REF!*#REF!))/(#REF!+#REF!+#REF!)","v":{"$error":"#VALUE!"}},{"$f":"((AA442*#REF!)+(#REF!*#REF!)+(#REF!*#REF!))/(#REF!+#REF!+#REF!)","v":{"$error":"#VALUE!"}},{"$f":"((AA442*#REF!)+(#REF!*#REF!)+(#REF!*#REF!))/(#REF!+#REF!+#REF!)","v":{"$error":"#VALUE!"}},{"$f":"((AA442*#REF!)+(#REF!*#REF!)+(#REF!*#REF!))/(#REF!+#REF!+#REF!)","v":{"$error":"#VALUE!"}},{"$f":"((AA442*#REF!)+(#REF!*#REF!)+(#REF!*#REF!))/(#REF!+#REF!+#REF!)","v":{"$error":"#VALUE!"}},{"$f":"((AA442*#REF!)+(#REF!*#REF!)+(#REF!*#REF!))/(#REF!+#REF!+#REF!)","v":{"$error":"#VALUE!"}},{"$f":"((AA442*#REF!)+(#REF!*#REF!)+(#REF!*#REF!))/(#REF!+#REF!+#REF!)","v":{"$error":"#VALUE!"}}]
[null,null,null,null,null,null,null,null,null,null,null,null,null,null,null,null,null,null,null,null,null,441,{"$error":"#VALUE!"},{"$f":"AVERAGE($W$3:W443)","v":{"$error":"#VALUE!"}},null,{"$error":"#VALUE!"},{"$error":"#VALUE!"},{"$f":"AVERAGE($AA$3:AA443)","v":{"$error":"#VALUE!"}},null,null,null,{"$f":"((AA443*#REF!)+(#REF!*#REF!)+(#REF!*#REF!))/(#REF!+#REF!+#REF!)","v":{"$error":"#VALUE!"}},{"$f":"((AA443*#REF!)+(#REF!*#REF!)+(#REF!*#REF!))/(#REF!+#REF!+#REF!)","v":{"$error":"#VALUE!"}},{"$f":"((AA443*#REF!)+(#REF!*#REF!)+(#REF!*#REF!))/(#REF!+#REF!+#REF!)","v":{"$error":"#VALUE!"}},{"$f":"((AA443*#REF!)+(#REF!*#REF!)+(#REF!*#REF!))/(#REF!+#REF!+#REF!)","v":{"$error":"#VALUE!"}},{"$f":"((AA443*#REF!)+(#REF!*#REF!)+(#REF!*#REF!))/(#REF!+#REF!+#REF!)","v":{"$error":"#VALUE!"}},{"$f":"((AA443*#REF!)+(#REF!*#REF!)+(#REF!*#REF!))/(#REF!+#REF!+#REF!)","v":{"$error":"#VALUE!"}},{"$f":"((AA443*#REF!)+(#REF!*#REF!)+(#REF!*#REF!))/(#REF!+#REF!+#REF!)","v":{"$error":"#VALUE!"}}]
[null,null,null,null,null,null,null,null,null,null,null,null,null,null,null,null,null,null,null,null,null,442,{"$error":"#VALUE!"},{"$f":"AVERAGE($W$3:W444)","v":{"$error":"#VALUE!"}},null,{"$error":"#VALUE!"},{"$error":"#VALUE!"},{"$f":"AVERAGE($AA$3:AA444)","v":{"$error":"#VALUE!"}},null,null,null,{"$f":"((AA444*#REF!)+(#REF!*#REF!)+(#REF!*#REF!))/(#REF!+#REF!+#REF!)","v":{"$error":"#VALUE!"}},{"$f":"((AA444*#REF!)+(#REF!*#REF!)+(#REF!*#REF!))/(#REF!+#REF!+#REF!)","v":{"$error":"#VALUE!"}},{"$f":"((AA444*#REF!)+(#REF!*#REF!)+(#REF!*#REF!))/(#REF!+#REF!+#REF!)","v":{"$error":"#VALUE!"}},{"$f":"((AA444*#REF!)+(#REF!*#REF!)+(#REF!*#REF!))/(#REF!+#REF!+#REF!)","v":{"$error":"#VALUE!"}},{"$f":"((AA444*#REF!)+(#REF!*#REF!)+(#REF!*#REF!))/(#REF!+#REF!+#REF!)","v":{"$error":"#VALUE!"}},{"$f":"((AA444*#REF!)+(#REF!*#REF!)+(#REF!*#REF!))/(#REF!+#REF!+#REF!)","v":{"$error":"#VALUE!"}},{"$f":"((AA444*#REF!)+(#REF!*#REF!)+(#REF!*#REF!))/(#REF!+#REF!+#REF!)","v":{"$error":"#VALUE!"}}]
[null,null,null,null,null,null,null,null,null,null,null,null,null,null,null,null,null,null,null,null,null,443,{"$error":"#VALUE!"},{"$f":"AVERAGE($W$3:W445)","v":{"$error":"#VALUE!"}},null,{"$error":"#VALUE!"},{"$error":"#VALUE!"},{"$f":"AVERAGE($AA$3:AA445)","v":{"$error":"#VALUE!"}},null,null,null,{"$f":"((AA445*#REF!)+(#REF!*#REF!)+(#REF!*#REF!))/(#REF!+#REF!+#REF!)","v":{"$error":"#VALUE!"}},{"$f":"((AA445*#REF!)+(#REF!*#REF!)+(#REF!*#REF!))/(#REF!+#REF!+#REF!)","v":{"$error":"#VALUE!"}},{"$f":"((AA445*#REF!)+(#REF!*#REF!)+(#REF!*#REF!))/(#REF!+#REF!+#REF!)","v":{"$error":"#VALUE!"}},{"$f":"((AA445*#REF!)+(#REF!*#REF!)+(#REF!*#REF!))/(#REF!+#REF!+#REF!)","v":{"$error":"#VALUE!"}},{"$f":"((AA445*#REF!)+(#REF!*#REF!)+(#REF!*#REF!))/(#REF!+#REF!+#REF!)","v":{"$error":"#VALUE!"}},{"$f":"((AA445*#REF!)+(#REF!*#REF!)+(#REF!*#REF!))/(#REF!+#REF!+#REF!)","v":{"$error":"#VALUE!"}},{"$f":"((AA445*#REF!)+(#REF!*#REF!)+(#REF!*#REF!))/(#REF!+#REF!+#REF!)","v":{"$error":"#VALUE!"}}]
[null,null,null,null,null,null,null,null,null,null,null,null,null,null,null,null,null,null,null,null,null,444,{"$f":"IF(($M$7*LN(V446))+$M$8+$M$10>0,($M$7*LN(V446))+$M$8+$M$10,0)","v":{"$error":"#VALUE!"}},{"$f":"AVERAGE($W$3:W446)","v":{"$error":"#VALUE!"}},null,{"$error":"#VALUE!"},{"$error":"#VALUE!"},{"$f":"AVERAGE($AA$3:AA446)","v":{"$error":"#VALUE!"}},null,null,null,{"$f":"((AA446*#REF!)+(#REF!*#REF!)+(#REF!*#REF!))/(#REF!+#REF!+#REF!)","v":{"$error":"#VALUE!"}},{"$f":"((AA446*#REF!)+(#REF!*#REF!)+(#REF!*#REF!))/(#REF!+#REF!+#REF!)","v":{"$error":"#VALUE!"}},{"$f":"((AA446*#REF!)+(#REF!*#REF!)+(#REF!*#REF!))/(#REF!+#REF!+#REF!)","v":{"$error":"#VALUE!"}},{"$f":"((AA446*#REF!)+(#REF!*#REF!)+(#REF!*#REF!))/(#REF!+#REF!+#REF!)","v":{"$error":"#VALUE!"}},{"$f":"((AA446*#REF!)+(#REF!*#REF!)+(#REF!*#REF!))/(#REF!+#REF!+#REF!)","v":{"$error":"#VALUE!"}},{"$f":"((AA446*#REF!)+(#REF!*#REF!)+(#REF!*#REF!))/(#REF!+#REF!+#REF!)","v":{"$error":"#VALUE!"}},{"$f":"((AA446*#REF!)+(#REF!*#REF!)+(#REF!*#REF!))/(#REF!+#REF!+#REF!)","v":{"$error":"#VALUE!"}}]
[null,null,null,null,null,null,null,null,null,null,null,null,null,null,null,null,null,null,null,null,null,445,{"$error":"#VALUE!"},{"$f":"AVERAGE($W$3:W447)","v":{"$error":"#VALUE!"}},null,{"$error":"#VALUE!"},{"$error":"#VALUE!"},{"$f":"AVERAGE($AA$3:AA447)","v":{"$error":"#VALUE!"}},null,null,null,{"$f":"((AA447*#REF!)+(#REF!*#REF!)+(#REF!*#REF!))/(#REF!+#REF!+#REF!)","v":{"$error":"#VALUE!"}},{"$f":"((AA447*#REF!)+(#REF!*#REF!)+(#REF!*#REF!))/(#REF!+#REF!+#REF!)","v":{"$error":"#VALUE!"}},{"$f":"((AA447*#REF!)+(#REF!*#REF!)+(#REF!*#REF!))/(#REF!+#REF!+#REF!)","v":{"$error":"#VALUE!"}},{"$f":"((AA447*#REF!)+(#REF!*#REF!)+(#REF!*#REF!))/(#REF!+#REF!+#REF!)","v":{"$error":"#VALUE!"}},{"$f":"((AA447*#REF!)+(#REF!*#REF!)+(#REF!*#REF!))/(#REF!+#REF!+#REF!)","v":{"$error":"#VALUE!"}},{"$f":"((AA447*#REF!)+(#REF!*#REF!)+(#REF!*#REF!))/(#REF!+#REF!+#REF!)","v":{"$error":"#VALUE!"}},{"$f":"((AA447*#REF!)+(#REF!*#REF!)+(#REF!*#REF!))/(#REF!+#REF!+#REF!)","v":{"$error":"#VALUE!"}}]
[null,null,null,null,null,null,null,null,null,null,null,null,null,null,null,null,null,null,null,null,null,446,{"$error":"#VALUE!"},{"$f":"AVERAGE($W$3:W448)","v":{"$error":"#VALUE!"}},null,{"$error":"#VALUE!"},{"$error":"#VALUE!"},{"$f":"AVERAGE($AA$3:AA448)","v":{"$error":"#VALUE!"}},null,null,null,{"$f":"((AA448*#REF!)+(#REF!*#REF!)+(#REF!*#REF!))/(#REF!+#REF!+#REF!)","v":{"$error":"#VALUE!"}},{"$f":"((AA448*#REF!)+(#REF!*#REF!)+(#REF!*#REF!))/(#REF!+#REF!+#REF!)","v":{"$error":"#VALUE!"}},{"$f":"((AA448*#REF!)+(#REF!*#REF!)+(#REF!*#REF!))/(#REF!+#REF!+#REF!)","v":{"$error":"#VALUE!"}},{"$f":"((AA448*#REF!)+(#REF!*#REF!)+(#REF!*#REF!))/(#REF!+#REF!+#REF!)","v":{"$error":"#VALUE!"}},{"$f":"((AA448*#REF!)+(#REF!*#REF!)+(#REF!*#REF!))/(#REF!+#REF!+#REF!)","v":{"$error":"#VALUE!"}},{"$f":"((AA448*#REF!)+(#REF!*#REF!)+(#REF!*#REF!))/(#REF!+#REF!+#REF!)","v":{"$error":"#VALUE!"}},{"$f":"((AA448*#REF!)+(#REF!*#REF!)+(#REF!*#REF!))/(#REF!+#REF!+#REF!)","v":{"$error":"#VALUE!"}}]
[null,null,null,null,null,null,null,null,null,null,null,null,null,null,null,null,null,null,null,null,null,447,{"$error":"#VALUE!"},{"$f":"AVERAGE($W$3:W449)","v":{"$error":"#VALUE!"}},null,{"$error":"#VALUE!"},{"$error":"#VALUE!"},{"$f":"AVERAGE($AA$3:AA449)","v":{"$error":"#VALUE!"}},null,null,null,{"$f":"((AA449*#REF!)+(#REF!*#REF!)+(#REF!*#REF!))/(#REF!+#REF!+#REF!)","v":{"$error":"#VALUE!"}},{"$f":"((AA449*#REF!)+(#REF!*#REF!)+(#REF!*#REF!))/(#REF!+#REF!+#REF!)","v":{"$error":"#VALUE!"}},{"$f":"((AA449*#REF!)+(#REF!*#REF!)+(#REF!*#REF!))/(#REF!+#REF!+#REF!)","v":{"$error":"#VALUE!"}},{"$f":"((AA449*#REF!)+(#REF!*#REF!)+(#REF!*#REF!))/(#REF!+#REF!+#REF!)","v":{"$error":"#VALUE!"}},{"$f":"((AA449*#REF!)+(#REF!*#REF!)+(#REF!*#REF!))/(#REF!+#REF!+#REF!)","v":{"$error":"#VALUE!"}},{"$f":"((AA449*#REF!)+(#REF!*#REF!)+(#REF!*#REF!))/(#REF!+#REF!+#REF!)","v":{"$error":"#VALUE!"}},{"$f":"((AA449*#REF!)+(#REF!*#REF!)+(#REF!*#REF!))/(#REF!+#REF!+#REF!)","v":{"$error":"#VALUE!"}}]
[null,null,null,null,null,null,null,null,null,null,null,null,null,null,null,null,null,null,null,null,null,448,{"$error":"#VALUE!"},{"$f":"AVERAGE($W$3:W450)","v":{"$error":"#VALUE!"}},null,{"$error":"#VALUE!"},{"$error":"#VALUE!"},{"$f":"AVERAGE($AA$3:AA450)","v":{"$error":"#VALUE!"}},null,null,null,{"$f":"((AA450*#REF!)+(#REF!*#REF!)+(#REF!*#REF!))/(#REF!+#REF!+#REF!)","v":{"$error":"#VALUE!"}},{"$f":"((AA450*#REF!)+(#REF!*#REF!)+(#REF!*#REF!))/(#REF!+#REF!+#REF!)","v":{"$error":"#VALUE!"}},{"$f":"((AA450*#REF!)+(#REF!*#REF!)+(#REF!*#REF!))/(#REF!+#REF!+#REF!)","v":{"$error":"#VALUE!"}},{"$f":"((AA450*#REF!)+(#REF!*#REF!)+(#REF!*#REF!))/(#REF!+#REF!+#REF!)","v":{"$error":"#VALUE!"}},{"$f":"((AA450*#REF!)+(#REF!*#REF!)+(#REF!*#REF!))/(#REF!+#REF!+#REF!)","v":{"$error":"#VALUE!"}},{"$f":"((AA450*#REF!)+(#REF!*#REF!)+(#REF!*#REF!))/(#REF!+#REF!+#REF!)","v":{"$error":"#VALUE!"}},{"$f":"((AA450*#REF!)+(#REF!*#REF!)+(#REF!*#REF!))/(#REF!+#REF!+#REF!)","v":{"$error":"#VALUE!"}}]
[null,null,null,null,null,null,null,null,null,null,null,null,null,null,null,null,null,null,null,null,null,449,{"$error":"#VALUE!"},{"$f":"AVERAGE($W$3:W451)","v":{"$error":"#VALUE!"}},null,{"$error":"#VALUE!"},{"$error":"#VALUE!"},{"$f":"AVERAGE($AA$3:AA451)","v":{"$error":"#VALUE!"}},null,null,null,{"$f":"((AA451*#REF!)+(#REF!*#REF!)+(#REF!*#REF!))/(#REF!+#REF!+#REF!)","v":{"$error":"#VALUE!"}},{"$f":"((AA451*#REF!)+(#REF!*#REF!)+(#REF!*#REF!))/(#REF!+#REF!+#REF!)","v":{"$error":"#VALUE!"}},{"$f":"((AA451*#REF!)+(#REF!*#REF!)+(#REF!*#REF!))/(#REF!+#REF!+#REF!)","v":{"$error":"#VALUE!"}},{"$f":"((AA451*#REF!)+(#REF!*#REF!)+(#REF!*#REF!))/(#REF!+#REF!+#REF!)","v":{"$error":"#VALUE!"}},{"$f":"((AA451*#REF!)+(#REF!*#REF!)+(#REF!*#REF!))/(#REF!+#REF!+#REF!)","v":{"$error":"#VALUE!"}},{"$f":"((AA451*#REF!)+(#REF!*#REF!)+(#REF!*#REF!))/(#REF!+#REF!+#REF!)","v":{"$error":"#VALUE!"}},{"$f":"((AA451*#REF!)+(#REF!*#REF!)+(#REF!*#REF!))/(#REF!+#REF!+#REF!)","v":{"$error":"#VALUE!"}}]
[null,null,null,null,null,null,null,null,null,null,null,null,null,null,null,null,null,null,null,null,null,450,{"$error":"#VALUE!"},{"$f":"AVERAGE($W$3:W452)","v":{"$error":"#VALUE!"}},null,{"$f":"$M$2+W452","v":{"$error":"#VALUE!"}},{"$f":"(Z452*(9/5))+32","v":{"$error":"#VALUE!"}},{"$f":"AVERAGE($AA$3:AA452)","v":{"$error":"#VALUE!"}},null,null,null,{"$f":"((AA452*#REF!)+(#REF!*#REF!)+(#REF!*#REF!))/(#REF!+#REF!+#REF!)","v":{"$error":"#VALUE!"}},{"$f":"((AA452*#REF!)+(#REF!*#REF!)+(#REF!*#REF!))/(#REF!+#REF!+#REF!)","v":{"$error":"#VALUE!"}},{"$f":"((AA452*#REF!)+(#REF!*#REF!)+(#REF!*#REF!))/(#REF!+#REF!+#REF!)","v":{"$error":"#VALUE!"}},{"$f":"((AA452*#REF!)+(#REF!*#REF!)+(#REF!*#REF!))/(#REF!+#REF!+#REF!)","v":{"$error":"#VALUE!"}},{"$f":"((AA452*#REF!)+(#REF!*#REF!)+(#REF!*#REF!))/(#REF!+#REF!+#REF!)","v":{"$error":"#VALUE!"}},{"$f":"((AA452*#REF!)+(#REF!*#REF!)+(#REF!*#REF!))/(#REF!+#REF!+#REF!)","v":{"$error":"#VALUE!"}},{"$f":"((AA452*#REF!)+(#REF!*#REF!)+(#REF!*#REF!))/(#REF!+#REF!+#REF!)","v":{"$error":"#VALUE!"}}]
[null,null,null,null,null,null,null,null,null,null,null,null,null,null,null,null,null,null,null,null,null,451,{"$error":"#VALUE!"},{"$f":"AVERAGE($W$3:W453)","v":{"$error":"#VALUE!"}},null,{"$error":"#VALUE!"},{"$error":"#VALUE!"},{"$f":"AVERAGE($AA$3:AA453)","v":{"$error":"#VALUE!"}},null,null,null,{"$f":"((AA453*#REF!)+(#REF!*#REF!)+(#REF!*#REF!))/(#REF!+#REF!+#REF!)","v":{"$error":"#VALUE!"}},{"$f":"((AA453*#REF!)+(#REF!*#REF!)+(#REF!*#REF!))/(#REF!+#REF!+#REF!)","v":{"$error":"#VALUE!"}},{"$f":"((AA453*#REF!)+(#REF!*#REF!)+(#REF!*#REF!))/(#REF!+#REF!+#REF!)","v":{"$error":"#VALUE!"}},{"$f":"((AA453*#REF!)+(#REF!*#REF!)+(#REF!*#REF!))/(#REF!+#REF!+#REF!)","v":{"$error":"#VALUE!"}},{"$f":"((AA453*#REF!)+(#REF!*#REF!)+(#REF!*#REF!))/(#REF!+#REF!+#REF!)","v":{"$error":"#VALUE!"}},{"$f":"((AA453*#REF!)+(#REF!*#REF!)+(#REF!*#REF!))/(#REF!+#REF!+#REF!)","v":{"$error":"#VALUE!"}},{"$f":"((AA453*#REF!)+(#REF!*#REF!)+(#REF!*#REF!))/(#REF!+#REF!+#REF!)","v":{"$error":"#VALUE!"}}]
[null,null,null,null,null,null,null,null,null,null,null,null,null,null,null,null,null,null,null,null,null,452,{"$error":"#VALUE!"},{"$f":"AVERAGE($W$3:W454)","v":{"$error":"#VALUE!"}},null,{"$error":"#VALUE!"},{"$error":"#VALUE!"},{"$f":"AVERAGE($AA$3:AA454)","v":{"$error":"#VALUE!"}},null,null,null,{"$f":"((AA454*#REF!)+(#REF!*#REF!)+(#REF!*#REF!))/(#REF!+#REF!+#REF!)","v":{"$error":"#VALUE!"}},{"$f":"((AA454*#REF!)+(#REF!*#REF!)+(#REF!*#REF!))/(#REF!+#REF!+#REF!)","v":{"$error":"#VALUE!"}},{"$f":"((AA454*#REF!)+(#REF!*#REF!)+(#REF!*#REF!))/(#REF!+#REF!+#REF!)","v":{"$error":"#VALUE!"}},{"$f":"((AA454*#REF!)+(#REF!*#REF!)+(#REF!*#REF!))/(#REF!+#REF!+#REF!)","v":{"$error":"#VALUE!"}},{"$f":"((AA454*#REF!)+(#REF!*#REF!)+(#REF!*#REF!))/(#REF!+#REF!+#REF!)","v":{"$error":"#VALUE!"}},{"$f":"((AA454*#REF!)+(#REF!*#REF!)+(#REF!*#REF!))/(#REF!+#REF!+#REF!)","v":{"$error":"#VALUE!"}},{"$f":"((AA454*#REF!)+(#REF!*#REF!)+(#REF!*#REF!))/(#REF!+#REF!+#REF!)","v":{"$error":"#VALUE!"}}]
[null,null,null,null,null,null,null,null,null,null,null,null,null,null,null,null,null,null,null,null,null,453,{"$error":"#VALUE!"},{"$f":"AVERAGE($W$3:W455)","v":{"$error":"#VALUE!"}},null,{"$error":"#VALUE!"},{"$error":"#VALUE!"},{"$f":"AVERAGE($AA$3:AA455)","v":{"$error":"#VALUE!"}},null,null,null,{"$f":"((AA455*#REF!)+(#REF!*#REF!)+(#REF!*#REF!))/(#REF!+#REF!+#REF!)","v":{"$error":"#VALUE!"}},{"$f":"((AA455*#REF!)+(#REF!*#REF!)+(#REF!*#REF!))/(#REF!+#REF!+#REF!)","v":{"$error":"#VALUE!"}},{"$f":"((AA455*#REF!)+(#REF!*#REF!)+(#REF!*#REF!))/(#REF!+#REF!+#REF!)","v":{"$error":"#VALUE!"}},{"$f":"((AA455*#REF!)+(#REF!*#REF!)+(#REF!*#REF!))/(#REF!+#REF!+#REF!)","v":{"$error":"#VALUE!"}},{"$f":"((AA455*#REF!)+(#REF!*#REF!)+(#REF!*#REF!))/(#REF!+#REF!+#REF!)","v":{"$error":"#VALUE!"}},{"$f":"((AA455*#REF!)+(#REF!*#REF!)+(#REF!*#REF!))/(#REF!+#REF!+#REF!)","v":{"$error":"#VALUE!"}},{"$f":"((AA455*#REF!)+(#REF!*#REF!)+(#REF!*#REF!))/(#REF!+#REF!+#REF!)","v":{"$error":"#VALUE!"}}]
[null,null,null,null,null,null,null,null,null,null,null,null,null,null,null,null,null,null,null,null,null,454,{"$error":"#VALUE!"},{"$f":"AVERAGE($W$3:W456)","v":{"$error":"#VALUE!"}},null,{"$error":"#VALUE!"},{"$error":"#VALUE!"},{"$f":"AVERAGE($AA$3:AA456)","v":{"$error":"#VALUE!"}},null,null,null,{"$f":"((AA456*#REF!)+(#REF!*#REF!)+(#REF!*#REF!))/(#REF!+#REF!+#REF!)","v":{"$error":"#VALUE!"}},{"$f":"((AA456*#REF!)+(#REF!*#REF!)+(#REF!*#REF!))/(#REF!+#REF!+#REF!)","v":{"$error":"#VALUE!"}},{"$f":"((AA456*#REF!)+(#REF!*#REF!)+(#REF!*#REF!))/(#REF!+#REF!+#REF!)","v":{"$error":"#VALUE!"}},{"$f":"((AA456*#REF!)+(#REF!*#REF!)+(#REF!*#REF!))/(#REF!+#REF!+#REF!)","v":{"$error":"#VALUE!"}},{"$f":"((AA456*#REF!)+(#REF!*#REF!)+(#REF!*#REF!))/(#REF!+#REF!+#REF!)","v":{"$error":"#VALUE!"}},{"$f":"((AA456*#REF!)+(#REF!*#REF!)+(#REF!*#REF!))/(#REF!+#REF!+#REF!)","v":{"$error":"#VALUE!"}},{"$f":"((AA456*#REF!)+(#REF!*#REF!)+(#REF!*#REF!))/(#REF!+#REF!+#REF!)","v":{"$error":"#VALUE!"}}]
[null,null,null,null,null,null,null,null,null,null,null,null,null,null,null,null,null,null,null,null,null,455,{"$error":"#VALUE!"},{"$f":"AVERAGE($W$3:W457)","v":{"$error":"#VALUE!"}},null,{"$error":"#VALUE!"},{"$error":"#VALUE!"},{"$f":"AVERAGE($AA$3:AA457)","v":{"$error":"#VALUE!"}},null,null,null,{"$f":"((AA457*#REF!)+(#REF!*#REF!)+(#REF!*#REF!))/(#REF!+#REF!+#REF!)","v":{"$error":"#VALUE!"}},{"$f":"((AA457*#REF!)+(#REF!*#REF!)+(#REF!*#REF!))/(#REF!+#REF!+#REF!)","v":{"$error":"#VALUE!"}},{"$f":"((AA457*#REF!)+(#REF!*#REF!)+(#REF!*#REF!))/(#REF!+#REF!+#REF!)","v":{"$error":"#VALUE!"}},{"$f":"((AA457*#REF!)+(#REF!*#REF!)+(#REF!*#REF!))/(#REF!+#REF!+#REF!)","v":{"$error":"#VALUE!"}},{"$f":"((AA457*#REF!)+(#REF!*#REF!)+(#REF!*#REF!))/(#REF!+#REF!+#REF!)","v":{"$error":"#VALUE!"}},{"$f":"((AA457*#REF!)+(#REF!*#REF!)+(#REF!*#REF!))/(#REF!+#REF!+#REF!)","v":{"$error":"#VALUE!"}},{"$f":"((AA457*#REF!)+(#REF!*#REF!)+(#REF!*#REF!))/(#REF!+#REF!+#REF!)","v":{"$error":"#VALUE!"}}]
[null,null,null,null,null,null,null,null,null,null,null,null,null,null,null,null,null,null,null,null,null,456,{"$error":"#VALUE!"},{"$f":"AVERAGE($W$3:W458)","v":{"$error":"#VALUE!"}},null,{"$error":"#VALUE!"},{"$error":"#VALUE!"},{"$f":"AVERAGE($AA$3:AA458)","v":{"$error":"#VALUE!"}},null,null,null,{"$f":"((AA458*#REF!)+(#REF!*#REF!)+(#REF!*#REF!))/(#REF!+#REF!+#REF!)","v":{"$error":"#VALUE!"}},{"$f":"((AA458*#REF!)+(#REF!*#REF!)+(#REF!*#REF!))/(#REF!+#REF!+#REF!)","v":{"$error":"#VALUE!"}},{"$f":"((AA458*#REF!)+(#REF!*#REF!)+(#REF!*#REF!))/(#REF!+#REF!+#REF!)","v":{"$error":"#VALUE!"}},{"$f":"((AA458*#REF!)+(#REF!*#REF!)+(#REF!*#REF!))/(#REF!+#REF!+#REF!)","v":{"$error":"#VALUE!"}},{"$f":"((AA458*#REF!)+(#REF!*#REF!)+(#REF!*#REF!))/(#REF!+#REF!+#REF!)","v":{"$error":"#VALUE!"}},{"$f":"((AA458*#REF!)+(#REF!*#REF!)+(#REF!*#REF!))/(#REF!+#REF!+#REF!)","v":{"$error":"#VALUE!"}},{"$f":"((AA458*#REF!)+(#REF!*#REF!)+(#REF!*#REF!))/(#REF!+#REF!+#REF!)","v":{"$error":"#VALUE!"}}]
[null,null,null,null,null,null,null,null,null,null,null,null,null,null,null,null,null,null,null,null,null,457,{"$error":"#VALUE!"},{"$f":"AVERAGE($W$3:W459)","v":{"$error":"#VALUE!"}},null,{"$error":"#VALUE!"},{"$error":"#VALUE!"},{"$f":"AVERAGE($AA$3:AA459)","v":{"$error":"#VALUE!"}},null,null,null,{"$f":"((AA459*#REF!)+(#REF!*#REF!)+(#REF!*#REF!))/(#REF!+#REF!+#REF!)","v":{"$error":"#VALUE!"}},{"$f":"((AA459*#REF!)+(#REF!*#REF!)+(#REF!*#REF!))/(#REF!+#REF!+#REF!)","v":{"$error":"#VALUE!"}},{"$f":"((AA459*#REF!)+(#REF!*#REF!)+(#REF!*#REF!))/(#REF!+#REF!+#REF!)","v":{"$error":"#VALUE!"}},{"$f":"((AA459*#REF!)+(#REF!*#REF!)+(#REF!*#REF!))/(#REF!+#REF!+#REF!)","v":{"$error":"#VALUE!"}},{"$f":"((AA459*#REF!)+(#REF!*#REF!)+(#REF!*#REF!))/(#REF!+#REF!+#REF!)","v":{"$error":"#VALUE!"}},{"$f":"((AA459*#REF!)+(#REF!*#REF!)+(#REF!*#REF!))/(#REF!+#REF!+#REF!)","v":{"$error":"#VALUE!"}},{"$f":"((AA459*#REF!)+(#REF!*#REF!)+(#REF!*#REF!))/(#REF!+#REF!+#REF!)","v":{"$error":"#VALUE!"}}]
[null,null,null,null,null,null,null,null,null,null,null,null,null,null,null,null,null,null,null,null,null,458,{"$error":"#VALUE!"},{"$f":"AVERAGE($W$3:W460)","v":{"$error":"#VALUE!"}},null,{"$error":"#VALUE!"},{"$error":"#VALUE!"},{"$f":"AVERAGE($AA$3:AA460)","v":{"$error":"#VALUE!"}},null,null,null,{"$f":"((AA460*#REF!)+(#REF!*#REF!)+(#REF!*#REF!))/(#REF!+#REF!+#REF!)","v":{"$error":"#VALUE!"}},{"$f":"((AA460*#REF!)+(#REF!*#REF!)+(#REF!*#REF!))/(#REF!+#REF!+#REF!)","v":{"$error":"#VALUE!"}},{"$f":"((AA460*#REF!)+(#REF!*#REF!)+(#REF!*#REF!))/(#REF!+#REF!+#REF!)","v":{"$error":"#VALUE!"}},{"$f":"((AA460*#REF!)+(#REF!*#REF!)+(#REF!*#REF!))/(#REF!+#REF!+#REF!)","v":{"$error":"#VALUE!"}},{"$f":"((AA460*#REF!)+(#REF!*#REF!)+(#REF!*#REF!))/(#REF!+#REF!+#REF!)","v":{"$error":"#VALUE!"}},{"$f":"((AA460*#REF!)+(#REF!*#REF!)+(#REF!*#REF!))/(#REF!+#REF!+#REF!)","v":{"$error":"#VALUE!"}},{"$f":"((AA460*#REF!)+(#REF!*#REF!)+(#REF!*#REF!))/(#REF!+#REF!+#REF!)","v":{"$error":"#VALUE!"}}]
[null,null,null,null,null,null,null,null,null,null,null,null,null,null,null,null,null,null,null,null,null,459,{"$error":"#VALUE!"},{"$f":"AVERAGE($W$3:W461)","v":{"$error":"#VALUE!"}},null,{"$error":"#VALUE!"},{"$error":"#VALUE!"},{"$f":"AVERAGE($AA$3:AA461)","v":{"$error":"#VALUE!"}},null,null,null,{"$f":"((AA461*#REF!)+(#REF!*#REF!)+(#REF!*#REF!))/(#REF!+#REF!+#REF!)","v":{"$error":"#VALUE!"}},{"$f":"((AA461*#REF!)+(#REF!*#REF!)+(#REF!*#REF!))/(#REF!+#REF!+#REF!)","v":{"$error":"#VALUE!"}},{"$f":"((AA461*#REF!)+(#REF!*#REF!)+(#REF!*#REF!))/(#REF!+#REF!+#REF!)","v":{"$error":"#VALUE!"}},{"$f":"((AA461*#REF!)+(#REF!*#REF!)+(#REF!*#REF!))/(#REF!+#REF!+#REF!)","v":{"$error":"#VALUE!"}},{"$f":"((AA461*#REF!)+(#REF!*#REF!)+(#REF!*#REF!))/(#REF!+#REF!+#REF!)","v":{"$error":"#VALUE!"}},{"$f":"((AA461*#REF!)+(#REF!*#REF!)+(#REF!*#REF!))/(#REF!+#REF!+#REF!)","v":{"$error":"#VALUE!"}},{"$f":"((AA461*#REF!)+(#REF!*#REF!)+(#REF!*#REF!))/(#REF!+#REF!+#REF!)","v":{"$error":"#VALUE!"}}]
[null,null,null,null,null,null,null,null,null,null,null,null,null,null,null,null,null,null,null,null,null,460,{"$error":"#VALUE!"},{"$f":"AVERAGE($W$3:W462)","v":{"$error":"#VALUE!"}},null,{"$error":"#VALUE!"},{"$error":"#VALUE!"},{"$f":"AVERAGE($AA$3:AA462)","v":{"$error":"#VALUE!"}},null,null,null,{"$f":"((AA462*#REF!)+(#REF!*#REF!)+(#REF!*#REF!))/(#REF!+#REF!+#REF!)","v":{"$error":"#VALUE!"}},{"$f":"((AA462*#REF!)+(#REF!*#REF!)+(#REF!*#REF!))/(#REF!+#REF!+#REF!)","v":{"$error":"#VALUE!"}},{"$f":"((AA462*#REF!)+(#REF!*#REF!)+(#REF!*#REF!))/(#REF!+#REF!+#REF!)","v":{"$error":"#VALUE!"}},{"$f":"((AA462*#REF!)+(#REF!*#REF!)+(#REF!*#REF!))/(#REF!+#REF!+#REF!)","v":{"$error":"#VALUE!"}},{"$f":"((AA462*#REF!)+(#REF!*#REF!)+(#REF!*#REF!))/(#REF!+#REF!+#REF!)","v":{"$error":"#VALUE!"}},{"$f":"((AA462*#REF!)+(#REF!*#REF!)+(#REF!*#REF!))/(#REF!+#REF!+#REF!)","v":{"$error":"#VALUE!"}},{"$f":"((AA462*#REF!)+(#REF!*#REF!)+(#REF!*#REF!))/(#REF!+#REF!+#REF!)","v":{"$error":"#VALUE!"}}]
[null,null,null,null,null,null,null,null,null,null,null,null,null,null,null,null,null,null,null,null,null,461,{"$error":"#VALUE!"},{"$f":"AVERAGE($W$3:W463)","v":{"$error":"#VALUE!"}},null,{"$error":"#VALUE!"},{"$error":"#VALUE!"},{"$f":"AVERAGE($AA$3:AA463)","v":{"$error":"#VALUE!"}},null,null,null,{"$f":"((AA463*#REF!)+(#REF!*#REF!)+(#REF!*#REF!))/(#REF!+#REF!+#REF!)","v":{"$error":"#VALUE!"}},{"$f":"((AA463*#REF!)+(#REF!*#REF!)+(#REF!*#REF!))/(#REF!+#REF!+#REF!)","v":{"$error":"#VALUE!"}},{"$f":"((AA463*#REF!)+(#REF!*#REF!)+(#REF!*#REF!))/(#REF!+#REF!+#REF!)","v":{"$error":"#VALUE!"}},{"$f":"((AA463*#REF!)+(#REF!*#REF!)+(#REF!*#REF!))/(#REF!+#REF!+#REF!)","v":{"$error":"#VALUE!"}},{"$f":"((AA463*#REF!)+(#REF!*#REF!)+(#REF!*#REF!))/(#REF!+#REF!+#REF!)","v":{"$error":"#VALUE!"}},{"$f":"((AA463*#REF!)+(#REF!*#REF!)+(#REF!*#REF!))/(#REF!+#REF!+#REF!)","v":{"$error":"#VALUE!"}},{"$f":"((AA463*#REF!)+(#REF!*#REF!)+(#REF!*#REF!))/(#REF!+#REF!+#REF!)","v":{"$error":"#VALUE!"}}]
[null,null,null,null,null,null,null,null,null,null,null,null,null,null,null,null,null,null,null,null,null,462,{"$error":"#VALUE!"},{"$f":"AVERAGE($W$3:W464)","v":{"$error":"#VALUE!"}},null,{"$error":"#VALUE!"},{"$error":"#VALUE!"},{"$f":"AVERAGE($AA$3:AA464)","v":{"$error":"#VALUE!"}},null,null,null,{"$f":"((AA464*#REF!)+(#REF!*#REF!)+(#REF!*#REF!))/(#REF!+#REF!+#REF!)","v":{"$error":"#VALUE!"}},{"$f":"((AA464*#REF!)+(#REF!*#REF!)+(#REF!*#REF!))/(#REF!+#REF!+#REF!)","v":{"$error":"#VALUE!"}},{"$f":"((AA464*#REF!)+(#REF!*#REF!)+(#REF!*#REF!))/(#REF!+#REF!+#REF!)","v":{"$error":"#VALUE!"}},{"$f":"((AA464*#REF!)+(#REF!*#REF!)+(#REF!*#REF!))/(#REF!+#REF!+#REF!)","v":{"$error":"#VALUE!"}},{"$f":"((AA464*#REF!)+(#REF!*#REF!)+(#REF!*#REF!))/(#REF!+#REF!+#REF!)","v":{"$error":"#VALUE!"}},{"$f":"((AA464*#REF!)+(#REF!*#REF!)+(#REF!*#REF!))/(#REF!+#REF!+#REF!)","v":{"$error":"#VALUE!"}},{"$f":"((AA464*#REF!)+(#REF!*#REF!)+(#REF!*#REF!))/(#REF!+#REF!+#REF!)","v":{"$error":"#VALUE!"}}]
[null,null,null,null,null,null,null,null,null,null,null,null,null,null,null,null,null,null,null,null,null,463,{"$error":"#VALUE!"},{"$f":"AVERAGE($W$3:W465)","v":{"$error":"#VALUE!"}},null,{"$error":"#VALUE!"},{"$error":"#VALUE!"},{"$f":"AVERAGE($AA$3:AA465)","v":{"$error":"#VALUE!"}},null,null,null,{"$f":"((AA465*#REF!)+(#REF!*#REF!)+(#REF!*#REF!))/(#REF!+#REF!+#REF!)","v":{"$error":"#VALUE!"}},{"$f":"((AA465*#REF!)+(#REF!*#REF!)+(#REF!*#REF!))/(#REF!+#REF!+#REF!)","v":{"$error":"#VALUE!"}},{"$f":"((AA465*#REF!)+(#REF!*#REF!)+(#REF!*#REF!))/(#REF!+#REF!+#REF!)","v":{"$error":"#VALUE!"}},{"$f":"((AA465*#REF!)+(#REF!*#REF!)+(#REF!*#REF!))/(#REF!+#REF!+#REF!)","v":{"$error":"#VALUE!"}},{"$f":"((AA465*#REF!)+(#REF!*#REF!)+(#REF!*#REF!))/(#REF!+#REF!+#REF!)","v":{"$error":"#VALUE!"}},{"$f":"((AA465*#REF!)+(#REF!*#REF!)+(#REF!*#REF!))/(#REF!+#REF!+#REF!)","v":{"$error":"#VALUE!"}},{"$f":"((AA465*#REF!)+(#REF!*#REF!)+(#REF!*#REF!))/(#REF!+#REF!+#REF!)","v":{"$error":"#VALUE!"}}]
[null,null,null,null,null,null,null,null,null,null,null,null,null,null,null,null,null,null,null,null,null,464,{"$error":"#VALUE!"},{"$f":"AVERAGE($W$3:W466)","v":{"$error":"#VALUE!"}},null,{"$error":"#VALUE!"},{"$error":"#VALUE!"},{"$f":"AVERAGE($AA$3:AA466)","v":{"$error":"#VALUE!"}},null,null,null,{"$f":"((AA466*#REF!)+(#REF!*#REF!)+(#REF!*#REF!))/(#REF!+#REF!+#REF!)","v":{"$error":"#VALUE!"}},{"$f":"((AA466*#REF!)+(#REF!*#REF!)+(#REF!*#REF!))/(#REF!+#REF!+#REF!)","v":{"$error":"#VALUE!"}},{"$f":"((AA466*#REF!)+(#REF!*#REF!)+(#REF!*#REF!))/(#REF!+#REF!+#REF!)","v":{"$error":"#VALUE!"}},{"$f":"((AA466*#REF!)+(#REF!*#REF!)+(#REF!*#REF!))/(#REF!+#REF!+#REF!)","v":{"$error":"#VALUE!"}},{"$f":"((AA466*#REF!)+(#REF!*#REF!)+(#REF!*#REF!))/(#REF!+#REF!+#REF!)","v":{"$error":"#VALUE!"}},{"$f":"((AA466*#REF!)+(#REF!*#REF!)+(#REF!*#REF!))/(#REF!+#REF!+#REF!)","v":{"$error":"#VALUE!"}},{"$f":"((AA466*#REF!)+(#REF!*#REF!)+(#REF!*#REF!))/(#REF!+#REF!+#REF!)","v":{"$error":"#VALUE!"}}]
[null,null,null,null,null,null,null,null,null,null,null,null,null,null,null,null,null,null,null,null,null,465,{"$error":"#VALUE!"},{"$f":"AVERAGE($W$3:W467)","v":{"$error":"#VALUE!"}},null,{"$error":"#VALUE!"},{"$error":"#VALUE!"},{"$f":"AVERAGE($AA$3:AA467)","v":{"$error":"#VALUE!"}},null,null,null,{"$f":"((AA467*#REF!)+(#REF!*#REF!)+(#REF!*#REF!))/(#REF!+#REF!+#REF!)","v":{"$error":"#VALUE!"}},{"$f":"((AA467*#REF!)+(#REF!*#REF!)+(#REF!*#REF!))/(#REF!+#REF!+#REF!)","v":{"$error":"#VALUE!"}},{"$f":"((AA467*#REF!)+(#REF!*#REF!)+(#REF!*#REF!))/(#REF!+#REF!+#REF!)","v":{"$error":"#VALUE!"}},{"$f":"((AA467*#REF!)+(#REF!*#REF!)+(#REF!*#REF!))/(#REF!+#REF!+#REF!)","v":{"$error":"#VALUE!"}},{"$f":"((AA467*#REF!)+(#REF!*#REF!)+(#REF!*#REF!))/(#REF!+#REF!+#REF!)","v":{"$error":"#VALUE!"}},{"$f":"((AA467*#REF!)+(#REF!*#REF!)+(#REF!*#REF!))/(#REF!+#REF!+#REF!)","v":{"$error":"#VALUE!"}},{"$f":"((AA467*#REF!)+(#REF!*#REF!)+(#REF!*#REF!))/(#REF!+#REF!+#REF!)","v":{"$error":"#VALUE!"}}]
[null,null,null,null,null,null,null,null,null,null,null,null,null,null,null,null,null,null,null,null,null,466,{"$error":"#VALUE!"},{"$f":"AVERAGE($W$3:W468)","v":{"$error":"#VALUE!"}},null,{"$error":"#VALUE!"},{"$error":"#VALUE!"},{"$f":"AVERAGE($AA$3:AA468)","v":{"$error":"#VALUE!"}},null,null,null,{"$f":"((AA468*#REF!)+(#REF!*#REF!)+(#REF!*#REF!))/(#REF!+#REF!+#REF!)","v":{"$error":"#VALUE!"}},{"$f":"((AA468*#REF!)+(#REF!*#REF!)+(#REF!*#REF!))/(#REF!+#REF!+#REF!)","v":{"$error":"#VALUE!"}},{"$f":"((AA468*#REF!)+(#REF!*#REF!)+(#REF!*#REF!))/(#REF!+#REF!+#REF!)","v":{"$error":"#VALUE!"}},{"$f":"((AA468*#REF!)+(#REF!*#REF!)+(#REF!*#REF!))/(#REF!+#REF!+#REF!)","v":{"$error":"#VALUE!"}},{"$f":"((AA468*#REF!)+(#REF!*#REF!)+(#REF!*#REF!))/(#REF!+#REF!+#REF!)","v":{"$error":"#VALUE!"}},{"$f":"((AA468*#REF!)+(#REF!*#REF!)+(#REF!*#REF!))/(#REF!+#REF!+#REF!)","v":{"$error":"#VALUE!"}},{"$f":"((AA468*#REF!)+(#REF!*#REF!)+(#REF!*#REF!))/(#REF!+#REF!+#REF!)","v":{"$error":"#VALUE!"}}]
[null,null,null,null,null,null,null,null,null,null,null,null,null,null,null,null,null,null,null,null,null,467,{"$error":"#VALUE!"},{"$f":"AVERAGE($W$3:W469)","v":{"$error":"#VALUE!"}},null,{"$error":"#VALUE!"},{"$error":"#VALUE!"},{"$f":"AVERAGE($AA$3:AA469)","v":{"$error":"#VALUE!"}},null,null,null,{"$f":"((AA469*#REF!)+(#REF!*#REF!)+(#REF!*#REF!))/(#REF!+#REF!+#REF!)","v":{"$error":"#VALUE!"}},{"$f":"((AA469*#REF!)+(#REF!*#REF!)+(#REF!*#REF!))/(#REF!+#REF!+#REF!)","v":{"$error":"#VALUE!"}},{"$f":"((AA469*#REF!)+(#REF!*#REF!)+(#REF!*#REF!))/(#REF!+#REF!+#REF!)","v":{"$error":"#VALUE!"}},{"$f":"((AA469*#REF!)+(#REF!*#REF!)+(#REF!*#REF!))/(#REF!+#REF!+#REF!)","v":{"$error":"#VALUE!"}},{"$f":"((AA469*#REF!)+(#REF!*#REF!)+(#REF!*#REF!))/(#REF!+#REF!+#REF!)","v":{"$error":"#VALUE!"}},{"$f":"((AA469*#REF!)+(#REF!*#REF!)+(#REF!*#REF!))/(#REF!+#REF!+#REF!)","v":{"$error":"#VALUE!"}},{"$f":"((AA469*#REF!)+(#REF!*#REF!)+(#REF!*#REF!))/(#REF!+#REF!+#REF!)","v":{"$error":"#VALUE!"}}]
[null,null,null,null,null,null,null,null,null,null,null,null,null,null,null,null,null,null,null,null,null,468,{"$error":"#VALUE!"},{"$f":"AVERAGE($W$3:W470)","v":{"$error":"#VALUE!"}},null,{"$error":"#VALUE!"},{"$error":"#VALUE!"},{"$f":"AVERAGE($AA$3:AA470)","v":{"$error":"#VALUE!"}},null,null,null,{"$f":"((AA470*#REF!)+(#REF!*#REF!)+(#REF!*#REF!))/(#REF!+#REF!+#REF!)","v":{"$error":"#VALUE!"}},{"$f":"((AA470*#REF!)+(#REF!*#REF!)+(#REF!*#REF!))/(#REF!+#REF!+#REF!)","v":{"$error":"#VALUE!"}},{"$f":"((AA470*#REF!)+(#REF!*#REF!)+(#REF!*#REF!))/(#REF!+#REF!+#REF!)","v":{"$error":"#VALUE!"}},{"$f":"((AA470*#REF!)+(#REF!*#REF!)+(#REF!*#REF!))/(#REF!+#REF!+#REF!)","v":{"$error":"#VALUE!"}},{"$f":"((AA470*#REF!)+(#REF!*#REF!)+(#REF!*#REF!))/(#REF!+#REF!+#REF!)","v":{"$error":"#VALUE!"}},{"$f":"((AA470*#REF!)+(#REF!*#REF!)+(#REF!*#REF!))/(#REF!+#REF!+#REF!)","v":{"$error":"#VALUE!"}},{"$f":"((AA470*#REF!)+(#REF!*#REF!)+(#REF!*#REF!))/(#REF!+#REF!+#REF!)","v":{"$error":"#VALUE!"}}]
[null,null,null,null,null,null,null,null,null,null,null,null,null,null,null,null,null,null,null,null,null,469,{"$error":"#VALUE!"},{"$f":"AVERAGE($W$3:W471)","v":{"$error":"#VALUE!"}},null,{"$error":"#VALUE!"},{"$error":"#VALUE!"},{"$f":"AVERAGE($AA$3:AA471)","v":{"$error":"#VALUE!"}},null,null,null,{"$f":"((AA471*#REF!)+(#REF!*#REF!)+(#REF!*#REF!))/(#REF!+#REF!+#REF!)","v":{"$error":"#VALUE!"}},{"$f":"((AA471*#REF!)+(#REF!*#REF!)+(#REF!*#REF!))/(#REF!+#REF!+#REF!)","v":{"$error":"#VALUE!"}},{"$f":"((AA471*#REF!)+(#REF!*#REF!)+(#REF!*#REF!))/(#REF!+#REF!+#REF!)","v":{"$error":"#VALUE!"}},{"$f":"((AA471*#REF!)+(#REF!*#REF!)+(#REF!*#REF!))/(#REF!+#REF!+#REF!)","v":{"$error":"#VALUE!"}},{"$f":"((AA471*#REF!)+(#REF!*#REF!)+(#REF!*#REF!))/(#REF!+#REF!+#REF!)","v":{"$error":"#VALUE!"}},{"$f":"((AA471*#REF!)+(#REF!*#REF!)+(#REF!*#REF!))/(#REF!+#REF!+#REF!)","v":{"$error":"#VALUE!"}},{"$f":"((AA471*#REF!)+(#REF!*#REF!)+(#REF!*#REF!))/(#REF!+#REF!+#REF!)","v":{"$error":"#VALUE!"}}]
[null,null,null,null,null,null,null,null,null,null,null,null,null,null,null,null,null,null,null,null,null,470,{"$error":"#VALUE!"},{"$f":"AVERAGE($W$3:W472)","v":{"$error":"#VALUE!"}},null,{"$error":"#VALUE!"},{"$error":"#VALUE!"},{"$f":"AVERAGE($AA$3:AA472)","v":{"$error":"#VALUE!"}},null,null,null,{"$f":"((AA472*#REF!)+(#REF!*#REF!)+(#REF!*#REF!))/(#REF!+#REF!+#REF!)","v":{"$error":"#VALUE!"}},{"$f":"((AA472*#REF!)+(#REF!*#REF!)+(#REF!*#REF!))/(#REF!+#REF!+#REF!)","v":{"$error":"#VALUE!"}},{"$f":"((AA472*#REF!)+(#REF!*#REF!)+(#REF!*#REF!))/(#REF!+#REF!+#REF!)","v":{"$error":"#VALUE!"}},{"$f":"((AA472*#REF!)+(#REF!*#REF!)+(#REF!*#REF!))/(#REF!+#REF!+#REF!)","v":{"$error":"#VALUE!"}},{"$f":"((AA472*#REF!)+(#REF!*#REF!)+(#REF!*#REF!))/(#REF!+#REF!+#REF!)","v":{"$error":"#VALUE!"}},{"$f":"((AA472*#REF!)+(#REF!*#REF!)+(#REF!*#REF!))/(#REF!+#REF!+#REF!)","v":{"$error":"#VALUE!"}},{"$f":"((AA472*#REF!)+(#REF!*#REF!)+(#REF!*#REF!))/(#REF!+#REF!+#REF!)","v":{"$error":"#VALUE!"}}]
[null,null,null,null,null,null,null,null,null,null,null,null,null,null,null,null,null,null,null,null,null,471,{"$error":"#VALUE!"},{"$f":"AVERAGE($W$3:W473)","v":{"$error":"#VALUE!"}},null,{"$error":"#VALUE!"},{"$error":"#VALUE!"},{"$f":"AVERAGE($AA$3:AA473)","v":{"$error":"#VALUE!"}},null,null,null,{"$f":"((AA473*#REF!)+(#REF!*#REF!)+(#REF!*#REF!))/(#REF!+#REF!+#REF!)","v":{"$error":"#VALUE!"}},{"$f":"((AA473*#REF!)+(#REF!*#REF!)+(#REF!*#REF!))/(#REF!+#REF!+#REF!)","v":{"$error":"#VALUE!"}},{"$f":"((AA473*#REF!)+(#REF!*#REF!)+(#REF!*#REF!))/(#REF!+#REF!+#REF!)","v":{"$error":"#VALUE!"}},{"$f":"((AA473*#REF!)+(#REF!*#REF!)+(#REF!*#REF!))/(#REF!+#REF!+#REF!)","v":{"$error":"#VALUE!"}},{"$f":"((AA473*#REF!)+(#REF!*#REF!)+(#REF!*#REF!))/(#REF!+#REF!+#REF!)","v":{"$error":"#VALUE!"}},{"$f":"((AA473*#REF!)+(#REF!*#REF!)+(#REF!*#REF!))/(#REF!+#REF!+#REF!)","v":{"$error":"#VALUE!"}},{"$f":"((AA473*#REF!)+(#REF!*#REF!)+(#REF!*#REF!))/(#REF!+#REF!+#REF!)","v":{"$error":"#VALUE!"}}]
[null,null,null,null,null,null,null,null,null,null,null,null,null,null,null,null,null,null,null,null,null,472,{"$error":"#VALUE!"},{"$f":"AVERAGE($W$3:W474)","v":{"$error":"#VALUE!"}},null,{"$error":"#VALUE!"},{"$error":"#VALUE!"},{"$f":"AVERAGE($AA$3:AA474)","v":{"$error":"#VALUE!"}},null,null,null,{"$f":"((AA474*#REF!)+(#REF!*#REF!)+(#REF!*#REF!))/(#REF!+#REF!+#REF!)","v":{"$error":"#VALUE!"}},{"$f":"((AA474*#REF!)+(#REF!*#REF!)+(#REF!*#REF!))/(#REF!+#REF!+#REF!)","v":{"$error":"#VALUE!"}},{"$f":"((AA474*#REF!)+(#REF!*#REF!)+(#REF!*#REF!))/(#REF!+#REF!+#REF!)","v":{"$error":"#VALUE!"}},{"$f":"((AA474*#REF!)+(#REF!*#REF!)+(#REF!*#REF!))/(#REF!+#REF!+#REF!)","v":{"$error":"#VALUE!"}},{"$f":"((AA474*#REF!)+(#REF!*#REF!)+(#REF!*#REF!))/(#REF!+#REF!+#REF!)","v":{"$error":"#VALUE!"}},{"$f":"((AA474*#REF!)+(#REF!*#REF!)+(#REF!*#REF!))/(#REF!+#REF!+#REF!)","v":{"$error":"#VALUE!"}},{"$f":"((AA474*#REF!)+(#REF!*#REF!)+(#REF!*#REF!))/(#REF!+#REF!+#REF!)","v":{"$error":"#VALUE!"}}]
[null,null,null,null,null,null,null,null,null,null,null,null,null,null,null,null,null,null,null,null,null,473,{"$error":"#VALUE!"},{"$f":"AVERAGE($W$3:W475)","v":{"$error":"#VALUE!"}},null,{"$error":"#VALUE!"},{"$error":"#VALUE!"},{"$f":"AVERAGE($AA$3:AA475)","v":{"$error":"#VALUE!"}},null,null,null,{"$f":"((AA475*#REF!)+(#REF!*#REF!)+(#REF!*#REF!))/(#REF!+#REF!+#REF!)","v":{"$error":"#VALUE!"}},{"$f":"((AA475*#REF!)+(#REF!*#REF!)+(#REF!*#REF!))/(#REF!+#REF!+#REF!)","v":{"$error":"#VALUE!"}},{"$f":"((AA475*#REF!)+(#REF!*#REF!)+(#REF!*#REF!))/(#REF!+#REF!+#REF!)","v":{"$error":"#VALUE!"}},{"$f":"((AA475*#REF!)+(#REF!*#REF!)+(#REF!*#REF!))/(#REF!+#REF!+#REF!)","v":{"$error":"#VALUE!"}},{"$f":"((AA475*#REF!)+(#REF!*#REF!)+(#REF!*#REF!))/(#REF!+#REF!+#REF!)","v":{"$error":"#VALUE!"}},{"$f":"((AA475*#REF!)+(#REF!*#REF!)+(#REF!*#REF!))/(#REF!+#REF!+#REF!)","v":{"$error":"#VALUE!"}},{"$f":"((AA475*#REF!)+(#REF!*#REF!)+(#REF!*#REF!))/(#REF!+#REF!+#REF!)","v":{"$error":"#VALUE!"}}]
[null,null,null,null,null,null,null,null,null,null,null,null,null,null,null,null,null,null,null,null,null,474,{"$error":"#VALUE!"},{"$f":"AVERAGE($W$3:W476)","v":{"$error":"#VALUE!"}},null,{"$error":"#VALUE!"},{"$error":"#VALUE!"},{"$f":"AVERAGE($AA$3:AA476)","v":{"$error":"#VALUE!"}},null,null,null,{"$f":"((AA476*#REF!)+(#REF!*#REF!)+(#REF!*#REF!))/(#REF!+#REF!+#REF!)","v":{"$error":"#VALUE!"}},{"$f":"((AA476*#REF!)+(#REF!*#REF!)+(#REF!*#REF!))/(#REF!+#REF!+#REF!)","v":{"$error":"#VALUE!"}},{"$f":"((AA476*#REF!)+(#REF!*#REF!)+(#REF!*#REF!))/(#REF!+#REF!+#REF!)","v":{"$error":"#VALUE!"}},{"$f":"((AA476*#REF!)+(#REF!*#REF!)+(#REF!*#REF!))/(#REF!+#REF!+#REF!)","v":{"$error":"#VALUE!"}},{"$f":"((AA476*#REF!)+(#REF!*#REF!)+(#REF!*#REF!))/(#REF!+#REF!+#REF!)","v":{"$error":"#VALUE!"}},{"$f":"((AA476*#REF!)+(#REF!*#REF!)+(#REF!*#REF!))/(#REF!+#REF!+#REF!)","v":{"$error":"#VALUE!"}},{"$f":"((AA476*#REF!)+(#REF!*#REF!)+(#REF!*#REF!))/(#REF!+#REF!+#REF!)","v":{"$error":"#VALUE!"}}]
[null,null,null,null,null,null,null,null,null,null,null,null,null,null,null,null,null,null,null,null,null,475,{"$error":"#VALUE!"},{"$f":"AVERAGE($W$3:W477)","v":{"$error":"#VALUE!"}},null,{"$error":"#VALUE!"},{"$error":"#VALUE!"},{"$f":"AVERAGE($AA$3:AA477)","v":{"$error":"#VALUE!"}},null,null,null,{"$f":"((AA477*#REF!)+(#REF!*#REF!)+(#REF!*#REF!))/(#REF!+#REF!+#REF!)","v":{"$error":"#VALUE!"}},{"$f":"((AA477*#REF!)+(#REF!*#REF!)+(#REF!*#REF!))/(#REF!+#REF!+#REF!)","v":{"$error":"#VALUE!"}},{"$f":"((AA477*#REF!)+(#REF!*#REF!)+(#REF!*#REF!))/(#REF!+#REF!+#REF!)","v":{"$error":"#VALUE!"}},{"$f":"((AA477*#REF!)+(#REF!*#REF!)+(#REF!*#REF!))/(#REF!+#REF!+#REF!)","v":{"$error":"#VALUE!"}},{"$f":"((AA477*#REF!)+(#REF!*#REF!)+(#REF!*#REF!))/(#REF!+#REF!+#REF!)","v":{"$error":"#VALUE!"}},{"$f":"((AA477*#REF!)+(#REF!*#REF!)+(#REF!*#REF!))/(#REF!+#REF!+#REF!)","v":{"$error":"#VALUE!"}},{"$f":"((AA477*#REF!)+(#REF!*#REF!)+(#REF!*#REF!))/(#REF!+#REF!+#REF!)","v":{"$error":"#VALUE!"}}]
[null,null,null,null,null,null,null,null,null,null,null,null,null,null,null,null,null,null,null,null,null,476,{"$error":"#VALUE!"},{"$f":"AVERAGE($W$3:W478)","v":{"$error":"#VALUE!"}},null,{"$error":"#VALUE!"},{"$error":"#VALUE!"},{"$f":"AVERAGE($AA$3:AA478)","v":{"$error":"#VALUE!"}},null,null,null,{"$f":"((AA478*#REF!)+(#REF!*#REF!)+(#REF!*#REF!))/(#REF!+#REF!+#REF!)","v":{"$error":"#VALUE!"}},{"$f":"((AA478*#REF!)+(#REF!*#REF!)+(#REF!*#REF!))/(#REF!+#REF!+#REF!)","v":{"$error":"#VALUE!"}},{"$f":"((AA478*#REF!)+(#REF!*#REF!)+(#REF!*#REF!))/(#REF!+#REF!+#REF!)","v":{"$error":"#VALUE!"}},{"$f":"((AA478*#REF!)+(#REF!*#REF!)+(#REF!*#REF!))/(#REF!+#REF!+#REF!)","v":{"$error":"#VALUE!"}},{"$f":"((AA478*#REF!)+(#REF!*#REF!)+(#REF!*#REF!))/(#REF!+#REF!+#REF!)","v":{"$error":"#VALUE!"}},{"$f":"((AA478*#REF!)+(#REF!*#REF!)+(#REF!*#REF!))/(#REF!+#REF!+#REF!)","v":{"$error":"#VALUE!"}},{"$f":"((AA478*#REF!)+(#REF!*#REF!)+(#REF!*#REF!))/(#REF!+#REF!+#REF!)","v":{"$error":"#VALUE!"}}]
[null,null,null,null,null,null,null,null,null,null,null,null,null,null,null,null,null,null,null,null,null,477,{"$error":"#VALUE!"},{"$f":"AVERAGE($W$3:W479)","v":{"$error":"#VALUE!"}},null,{"$error":"#VALUE!"},{"$error":"#VALUE!"},{"$f":"AVERAGE($AA$3:AA479)","v":{"$error":"#VALUE!"}},null,null,null,{"$f":"((AA479*#REF!)+(#REF!*#REF!)+(#REF!*#REF!))/(#REF!+#REF!+#REF!)","v":{"$error":"#VALUE!"}},{"$f":"((AA479*#REF!)+(#REF!*#REF!)+(#REF!*#REF!))/(#REF!+#REF!+#REF!)","v":{"$error":"#VALUE!"}},{"$f":"((AA479*#REF!)+(#REF!*#REF!)+(#REF!*#REF!))/(#REF!+#REF!+#REF!)","v":{"$error":"#VALUE!"}},{"$f":"((AA479*#REF!)+(#REF!*#REF!)+(#REF!*#REF!))/(#REF!+#REF!+#REF!)","v":{"$error":"#VALUE!"}},{"$f":"((AA479*#REF!)+(#REF!*#REF!)+(#REF!*#REF!))/(#REF!+#REF!+#REF!)","v":{"$error":"#VALUE!"}},{"$f":"((AA479*#REF!)+(#REF!*#REF!)+(#REF!*#REF!))/(#REF!+#REF!+#REF!)","v":{"$error":"#VALUE!"}},{"$f":"((AA479*#REF!)+(#REF!*#REF!)+(#REF!*#REF!))/(#REF!+#REF!+#REF!)","v":{"$error":"#VALUE!"}}]
[null,null,null,null,null,null,null,null,null,null,null,null,null,null,null,null,null,null,null,null,null,478,{"$error":"#VALUE!"},{"$f":"AVERAGE($W$3:W480)","v":{"$error":"#VALUE!"}},null,{"$error":"#VALUE!"},{"$error":"#VALUE!"},{"$f":"AVERAGE($AA$3:AA480)","v":{"$error":"#VALUE!"}},null,null,null,{"$f":"((AA480*#REF!)+(#REF!*#REF!)+(#REF!*#REF!))/(#REF!+#REF!+#REF!)","v":{"$error":"#VALUE!"}},{"$f":"((AA480*#REF!)+(#REF!*#REF!)+(#REF!*#REF!))/(#REF!+#REF!+#REF!)","v":{"$error":"#VALUE!"}},{"$f":"((AA480*#REF!)+(#REF!*#REF!)+(#REF!*#REF!))/(#REF!+#REF!+#REF!)","v":{"$error":"#VALUE!"}},{"$f":"((AA480*#REF!)+(#REF!*#REF!)+(#REF!*#REF!))/(#REF!+#REF!+#REF!)","v":{"$error":"#VALUE!"}},{"$f":"((AA480*#REF!)+(#REF!*#REF!)+(#REF!*#REF!))/(#REF!+#REF!+#REF!)","v":{"$error":"#VALUE!"}},{"$f":"((AA480*#REF!)+(#REF!*#REF!)+(#REF!*#REF!))/(#REF!+#REF!+#REF!)","v":{"$error":"#VALUE!"}},{"$f":"((AA480*#REF!)+(#REF!*#REF!)+(#REF!*#REF!))/(#REF!+#REF!+#REF!)","v":{"$error":"#VALUE!"}}]
[null,null,null,null,null,null,null,null,null,null,null,null,null,null,null,null,null,null,null,null,null,479,{"$error":"#VALUE!"},{"$f":"AVERAGE($W$3:W481)","v":{"$error":"#VALUE!"}},null,{"$error":"#VALUE!"},{"$error":"#VALUE!"},{"$f":"AVERAGE($AA$3:AA481)","v":{"$error":"#VALUE!"}},null,null,null,{"$f":"((AA481*#REF!)+(#REF!*#REF!)+(#REF!*#REF!))/(#REF!+#REF!+#REF!)","v":{"$error":"#VALUE!"}},{"$f":"((AA481*#REF!)+(#REF!*#REF!)+(#REF!*#REF!))/(#REF!+#REF!+#REF!)","v":{"$error":"#VALUE!"}},{"$f":"((AA481*#REF!)+(#REF!*#REF!)+(#REF!*#REF!))/(#REF!+#REF!+#REF!)","v":{"$error":"#VALUE!"}},{"$f":"((AA481*#REF!)+(#REF!*#REF!)+(#REF!*#REF!))/(#REF!+#REF!+#REF!)","v":{"$error":"#VALUE!"}},{"$f":"((AA481*#REF!)+(#REF!*#REF!)+(#REF!*#REF!))/(#REF!+#REF!+#REF!)","v":{"$error":"#VALUE!"}},{"$f":"((AA481*#REF!)+(#REF!*#REF!)+(#REF!*#REF!))/(#REF!+#REF!+#REF!)","v":{"$error":"#VALUE!"}},{"$f":"((AA481*#REF!)+(#REF!*#REF!)+(#REF!*#REF!))/(#REF!+#REF!+#REF!)","v":{"$error":"#VALUE!"}}]
[null,null,null,null,null,null,null,null,null,null,null,null,null,null,null,null,null,null,null,null,null,480,{"$error":"#VALUE!"},{"$f":"AVERAGE($W$3:W482)","v":{"$error":"#VALUE!"}},null,{"$error":"#VALUE!"},{"$error":"#VALUE!"},{"$f":"AVERAGE($AA$3:AA482)","v":{"$error":"#VALUE!"}},null,null,null,{"$f":"((AA482*#REF!)+(#REF!*#REF!)+(#REF!*#REF!))/(#REF!+#REF!+#REF!)","v":{"$error":"#VALUE!"}},{"$f":"((AA482*#REF!)+(#REF!*#REF!)+(#REF!*#REF!))/(#REF!+#REF!+#REF!)","v":{"$error":"#VALUE!"}},{"$f":"((AA482*#REF!)+(#REF!*#REF!)+(#REF!*#REF!))/(#REF!+#REF!+#REF!)","v":{"$error":"#VALUE!"}},{"$f":"((AA482*#REF!)+(#REF!*#REF!)+(#REF!*#REF!))/(#REF!+#REF!+#REF!)","v":{"$error":"#VALUE!"}},{"$f":"((AA482*#REF!)+(#REF!*#REF!)+(#REF!*#REF!))/(#REF!+#REF!+#REF!)","v":{"$error":"#VALUE!"}},{"$f":"((AA482*#REF!)+(#REF!*#REF!)+(#REF!*#REF!))/(#REF!+#REF!+#REF!)","v":{"$error":"#VALUE!"}},{"$f":"((AA482*#REF!)+(#REF!*#REF!)+(#REF!*#REF!))/(#REF!+#REF!+#REF!)","v":{"$error":"#VALUE!"}}]
[null,null,null,null,null,null,null,null,null,null,null,null,null,null,null,null,null,null,null,null,null,481,{"$error":"#VALUE!"},{"$f":"AVERAGE($W$3:W483)","v":{"$error":"#VALUE!"}},null,{"$error":"#VALUE!"},{"$error":"#VALUE!"},{"$f":"AVERAGE($AA$3:AA483)","v":{"$error":"#VALUE!"}},null,null,null,{"$f":"((AA483*#REF!)+(#REF!*#REF!)+(#REF!*#REF!))/(#REF!+#REF!+#REF!)","v":{"$error":"#VALUE!"}},{"$f":"((AA483*#REF!)+(#REF!*#REF!)+(#REF!*#REF!))/(#REF!+#REF!+#REF!)","v":{"$error":"#VALUE!"}},{"$f":"((AA483*#REF!)+(#REF!*#REF!)+(#REF!*#REF!))/(#REF!+#REF!+#REF!)","v":{"$error":"#VALUE!"}},{"$f":"((AA483*#REF!)+(#REF!*#REF!)+(#REF!*#REF!))/(#REF!+#REF!+#REF!)","v":{"$error":"#VALUE!"}},{"$f":"((AA483*#REF!)+(#REF!*#REF!)+(#REF!*#REF!))/(#REF!+#REF!+#REF!)","v":{"$error":"#VALUE!"}},{"$f":"((AA483*#REF!)+(#REF!*#REF!)+(#REF!*#REF!))/(#REF!+#REF!+#REF!)","v":{"$error":"#VALUE!"}},{"$f":"((AA483*#REF!)+(#REF!*#REF!)+(#REF!*#REF!))/(#REF!+#REF!+#REF!)","v":{"$error":"#VALUE!"}}]
[null,null,null,null,null,null,null,null,null,null,null,null,null,null,null,null,null,null,null,null,null,482,{"$error":"#VALUE!"},{"$f":"AVERAGE($W$3:W484)","v":{"$error":"#VALUE!"}},null,{"$error":"#VALUE!"},{"$error":"#VALUE!"},{"$f":"AVERAGE($AA$3:AA484)","v":{"$error":"#VALUE!"}},null,null,null,{"$f":"((AA484*#REF!)+(#REF!*#REF!)+(#REF!*#REF!))/(#REF!+#REF!+#REF!)","v":{"$error":"#VALUE!"}},{"$f":"((AA484*#REF!)+(#REF!*#REF!)+(#REF!*#REF!))/(#REF!+#REF!+#REF!)","v":{"$error":"#VALUE!"}},{"$f":"((AA484*#REF!)+(#REF!*#REF!)+(#REF!*#REF!))/(#REF!+#REF!+#REF!)","v":{"$error":"#VALUE!"}},{"$f":"((AA484*#REF!)+(#REF!*#REF!)+(#REF!*#REF!))/(#REF!+#REF!+#REF!)","v":{"$error":"#VALUE!"}},{"$f":"((AA484*#REF!)+(#REF!*#REF!)+(#REF!*#REF!))/(#REF!+#REF!+#REF!)","v":{"$error":"#VALUE!"}},{"$f":"((AA484*#REF!)+(#REF!*#REF!)+(#REF!*#REF!))/(#REF!+#REF!+#REF!)","v":{"$error":"#VALUE!"}},{"$f":"((AA484*#REF!)+(#REF!*#REF!)+(#REF!*#REF!))/(#REF!+#REF!+#REF!)","v":{"$error":"#VALUE!"}}]
[null,null,null,null,null,null,null,null,null,null,null,null,null,null,null,null,null,null,null,null,null,483,{"$error":"#VALUE!"},{"$f":"AVERAGE($W$3:W485)","v":{"$error":"#VALUE!"}},null,{"$error":"#VALUE!"},{"$error":"#VALUE!"},{"$f":"AVERAGE($AA$3:AA485)","v":{"$error":"#VALUE!"}},null,null,null,{"$f":"((AA485*#REF!)+(#REF!*#REF!)+(#REF!*#REF!))/(#REF!+#REF!+#REF!)","v":{"$error":"#VALUE!"}},{"$f":"((AA485*#REF!)+(#REF!*#REF!)+(#REF!*#REF!))/(#REF!+#REF!+#REF!)","v":{"$error":"#VALUE!"}},{"$f":"((AA485*#REF!)+(#REF!*#REF!)+(#REF!*#REF!))/(#REF!+#REF!+#REF!)","v":{"$error":"#VALUE!"}},{"$f":"((AA485*#REF!)+(#REF!*#REF!)+(#REF!*#REF!))/(#REF!+#REF!+#REF!)","v":{"$error":"#VALUE!"}},{"$f":"((AA485*#REF!)+(#REF!*#REF!)+(#REF!*#REF!))/(#REF!+#REF!+#REF!)","v":{"$error":"#VALUE!"}},{"$f":"((AA485*#REF!)+(#REF!*#REF!)+(#REF!*#REF!))/(#REF!+#REF!+#REF!)","v":{"$error":"#VALUE!"}},{"$f":"((AA485*#REF!)+(#REF!*#REF!)+(#REF!*#REF!))/(#REF!+#REF!+#REF!)","v":{"$error":"#VALUE!"}}]
[null,null,null,null,null,null,null,null,null,null,null,null,null,null,null,null,null,null,null,null,null,484,{"$error":"#VALUE!"},{"$f":"AVERAGE($W$3:W486)","v":{"$error":"#VALUE!"}},null,{"$error":"#VALUE!"},{"$error":"#VALUE!"},{"$f":"AVERAGE($AA$3:AA486)","v":{"$error":"#VALUE!"}},null,null,null,{"$f":"((AA486*#REF!)+(#REF!*#REF!)+(#REF!*#REF!))/(#REF!+#REF!+#REF!)","v":{"$error":"#VALUE!"}},{"$f":"((AA486*#REF!)+(#REF!*#REF!)+(#REF!*#REF!))/(#REF!+#REF!+#REF!)","v":{"$error":"#VALUE!"}},{"$f":"((AA486*#REF!)+(#REF!*#REF!)+(#REF!*#REF!))/(#REF!+#REF!+#REF!)","v":{"$error":"#VALUE!"}},{"$f":"((AA486*#REF!)+(#REF!*#REF!)+(#REF!*#REF!))/(#REF!+#REF!+#REF!)","v":{"$error":"#VALUE!"}},{"$f":"((AA486*#REF!)+(#REF!*#REF!)+(#REF!*#REF!))/(#REF!+#REF!+#REF!)","v":{"$error":"#VALUE!"}},{"$f":"((AA486*#REF!)+(#REF!*#REF!)+(#REF!*#REF!))/(#REF!+#REF!+#REF!)","v":{"$error":"#VALUE!"}},{"$f":"((AA486*#REF!)+(#REF!*#REF!)+(#REF!*#REF!))/(#REF!+#REF!+#REF!)","v":{"$error":"#VALUE!"}}]
[null,null,null,null,null,null,null,null,null,null,null,null,null,null,null,null,null,null,null,null,null,485,{"$error":"#VALUE!"},{"$f":"AVERAGE($W$3:W487)","v":{"$error":"#VALUE!"}},null,{"$error":"#VALUE!"},{"$error":"#VALUE!"},{"$f":"AVERAGE($AA$3:AA487)","v":{"$error":"#VALUE!"}},null,null,null,{"$f":"((AA487*#REF!)+(#REF!*#REF!)+(#REF!*#REF!))/(#REF!+#REF!+#REF!)","v":{"$error":"#VALUE!"}},{"$f":"((AA487*#REF!)+(#REF!*#REF!)+(#REF!*#REF!))/(#REF!+#REF!+#REF!)","v":{"$error":"#VALUE!"}},{"$f":"((AA487*#REF!)+(#REF!*#REF!)+(#REF!*#REF!))/(#REF!+#REF!+#REF!)","v":{"$error":"#VALUE!"}},{"$f":"((AA487*#REF!)+(#REF!*#REF!)+(#REF!*#REF!))/(#REF!+#REF!+#REF!)","v":{"$error":"#VALUE!"}},{"$f":"((AA487*#REF!)+(#REF!*#REF!)+(#REF!*#REF!))/(#REF!+#REF!+#REF!)","v":{"$error":"#VALUE!"}},{"$f":"((AA487*#REF!)+(#REF!*#REF!)+(#REF!*#REF!))/(#REF!+#REF!+#REF!)","v":{"$error":"#VALUE!"}},{"$f":"((AA487*#REF!)+(#REF!*#REF!)+(#REF!*#REF!))/(#REF!+#REF!+#REF!)","v":{"$error":"#VALUE!"}}]
[null,null,null,null,null,null,null,null,null,null,null,null,null,null,null,null,null,null,null,null,null,486,{"$error":"#VALUE!"},{"$f":"AVERAGE($W$3:W488)","v":{"$error":"#VALUE!"}},null,{"$error":"#VALUE!"},{"$error":"#VALUE!"},{"$f":"AVERAGE($AA$3:AA488)","v":{"$error":"#VALUE!"}},null,null,null,{"$f":"((AA488*#REF!)+(#REF!*#REF!)+(#REF!*#REF!))/(#REF!+#REF!+#REF!)","v":{"$error":"#VALUE!"}},{"$f":"((AA488*#REF!)+(#REF!*#REF!)+(#REF!*#REF!))/(#REF!+#REF!+#REF!)","v":{"$error":"#VALUE!"}},{"$f":"((AA488*#REF!)+(#REF!*#REF!)+(#REF!*#REF!))/(#REF!+#REF!+#REF!)","v":{"$error":"#VALUE!"}},{"$f":"((AA488*#REF!)+(#REF!*#REF!)+(#REF!*#REF!))/(#REF!+#REF!+#REF!)","v":{"$error":"#VALUE!"}},{"$f":"((AA488*#REF!)+(#REF!*#REF!)+(#REF!*#REF!))/(#REF!+#REF!+#REF!)","v":{"$error":"#VALUE!"}},{"$f":"((AA488*#REF!)+(#REF!*#REF!)+(#REF!*#REF!))/(#REF!+#REF!+#REF!)","v":{"$error":"#VALUE!"}},{"$f":"((AA488*#REF!)+(#REF!*#REF!)+(#REF!*#REF!))/(#REF!+#REF!+#REF!)","v":{"$error":"#VALUE!"}}]
[null,null,null,null,null,null,null,null,null,null,null,null,null,null,null,null,null,null,null,null,null,487,{"$error":"#VALUE!"},{"$f":"AVERAGE($W$3:W489)","v":{"$error":"#VALUE!"}},null,{"$error":"#VALUE!"},{"$error":"#VALUE!"},{"$f":"AVERAGE($AA$3:AA489)","v":{"$error":"#VALUE!"}},null,null,null,{"$f":"((AA489*#REF!)+(#REF!*#REF!)+(#REF!*#REF!))/(#REF!+#REF!+#REF!)","v":{"$error":"#VALUE!"}},{"$f":"((AA489*#REF!)+(#REF!*#REF!)+(#REF!*#REF!))/(#REF!+#REF!+#REF!)","v":{"$error":"#VALUE!"}},{"$f":"((AA489*#REF!)+(#REF!*#REF!)+(#REF!*#REF!))/(#REF!+#REF!+#REF!)","v":{"$error":"#VALUE!"}},{"$f":"((AA489*#REF!)+(#REF!*#REF!)+(#REF!*#REF!))/(#REF!+#REF!+#REF!)","v":{"$error":"#VALUE!"}},{"$f":"((AA489*#REF!)+(#REF!*#REF!)+(#REF!*#REF!))/(#REF!+#REF!+#REF!)","v":{"$error":"#VALUE!"}},{"$f":"((AA489*#REF!)+(#REF!*#REF!)+(#REF!*#REF!))/(#REF!+#REF!+#REF!)","v":{"$error":"#VALUE!"}},{"$f":"((AA489*#REF!)+(#REF!*#REF!)+(#REF!*#REF!))/(#REF!+#REF!+#REF!)","v":{"$error":"#VALUE!"}}]
[null,null,null,null,null,null,null,null,null,null,null,null,null,null,null,null,null,null,null,null,null,488,{"$error":"#VALUE!"},{"$f":"AVERAGE($W$3:W490)","v":{"$error":"#VALUE!"}},null,{"$error":"#VALUE!"},{"$error":"#VALUE!"},{"$f":"AVERAGE($AA$3:AA490)","v":{"$error":"#VALUE!"}},null,null,null,{"$f":"((AA490*#REF!)+(#REF!*#REF!)+(#REF!*#REF!))/(#REF!+#REF!+#REF!)","v":{"$error":"#VALUE!"}},{"$f":"((AA490*#REF!)+(#REF!*#REF!)+(#REF!*#REF!))/(#REF!+#REF!+#REF!)","v":{"$error":"#VALUE!"}},{"$f":"((AA490*#REF!)+(#REF!*#REF!)+(#REF!*#REF!))/(#REF!+#REF!+#REF!)","v":{"$error":"#VALUE!"}},{"$f":"((AA490*#REF!)+(#REF!*#REF!)+(#REF!*#REF!))/(#REF!+#REF!+#REF!)","v":{"$error":"#VALUE!"}},{"$f":"((AA490*#REF!)+(#REF!*#REF!)+(#REF!*#REF!))/(#REF!+#REF!+#REF!)","v":{"$error":"#VALUE!"}},{"$f":"((AA490*#REF!)+(#REF!*#REF!)+(#REF!*#REF!))/(#REF!+#REF!+#REF!)","v":{"$error":"#VALUE!"}},{"$f":"((AA490*#REF!)+(#REF!*#REF!)+(#REF!*#REF!))/(#REF!+#REF!+#REF!)","v":{"$error":"#VALUE!"}}]
[null,null,null,null,null,null,null,null,null,null,null,null,null,null,null,null,null,null,null,null,null,489,{"$error":"#VALUE!"},{"$f":"AVERAGE($W$3:W491)","v":{"$error":"#VALUE!"}},null,{"$error":"#VALUE!"},{"$error":"#VALUE!"},{"$f":"AVERAGE($AA$3:AA491)","v":{"$error":"#VALUE!"}},null,null,null,{"$f":"((AA491*#REF!)+(#REF!*#REF!)+(#REF!*#REF!))/(#REF!+#REF!+#REF!)","v":{"$error":"#VALUE!"}},{"$f":"((AA491*#REF!)+(#REF!*#REF!)+(#REF!*#REF!))/(#REF!+#REF!+#REF!)","v":{"$error":"#VALUE!"}},{"$f":"((AA491*#REF!)+(#REF!*#REF!)+(#REF!*#REF!))/(#REF!+#REF!+#REF!)","v":{"$error":"#VALUE!"}},{"$f":"((AA491*#REF!)+(#REF!*#REF!)+(#REF!*#REF!))/(#REF!+#REF!+#REF!)","v":{"$error":"#VALUE!"}},{"$f":"((AA491*#REF!)+(#REF!*#REF!)+(#REF!*#REF!))/(#REF!+#REF!+#REF!)","v":{"$error":"#VALUE!"}},{"$f":"((AA491*#REF!)+(#REF!*#REF!)+(#REF!*#REF!))/(#REF!+#REF!+#REF!)","v":{"$error":"#VALUE!"}},{"$f":"((AA491*#REF!)+(#REF!*#REF!)+(#REF!*#REF!))/(#REF!+#REF!+#REF!)","v":{"$error":"#VALUE!"}}]
[null,null,null,null,null,null,null,null,null,null,null,null,null,null,null,null,null,null,null,null,null,490,{"$error":"#VALUE!"},{"$f":"AVERAGE($W$3:W492)","v":{"$error":"#VALUE!"}},null,{"$error":"#VALUE!"},{"$error":"#VALUE!"},{"$f":"AVERAGE($AA$3:AA492)","v":{"$error":"#VALUE!"}},null,null,null,{"$f":"((AA492*#REF!)+(#REF!*#REF!)+(#REF!*#REF!))/(#REF!+#REF!+#REF!)","v":{"$error":"#VALUE!"}},{"$f":"((AA492*#REF!)+(#REF!*#REF!)+(#REF!*#REF!))/(#REF!+#REF!+#REF!)","v":{"$error":"#VALUE!"}},{"$f":"((AA492*#REF!)+(#REF!*#REF!)+(#REF!*#REF!))/(#REF!+#REF!+#REF!)","v":{"$error":"#VALUE!"}},{"$f":"((AA492*#REF!)+(#REF!*#REF!)+(#REF!*#REF!))/(#REF!+#REF!+#REF!)","v":{"$error":"#VALUE!"}},{"$f":"((AA492*#REF!)+(#REF!*#REF!)+(#REF!*#REF!))/(#REF!+#REF!+#REF!)","v":{"$error":"#VALUE!"}},{"$f":"((AA492*#REF!)+(#REF!*#REF!)+(#REF!*#REF!))/(#REF!+#REF!+#REF!)","v":{"$error":"#VALUE!"}},{"$f":"((AA492*#REF!)+(#REF!*#REF!)+(#REF!*#REF!))/(#REF!+#REF!+#REF!)","v":{"$error":"#VALUE!"}}]
[null,null,null,null,null,null,null,null,null,null,null,null,null,null,null,null,null,null,null,null,null,491,{"$error":"#VALUE!"},{"$f":"AVERAGE($W$3:W493)","v":{"$error":"#VALUE!"}},null,{"$error":"#VALUE!"},{"$error":"#VALUE!"},{"$f":"AVERAGE($AA$3:AA493)","v":{"$error":"#VALUE!"}},null,null,null,{"$f":"((AA493*#REF!)+(#REF!*#REF!)+(#REF!*#REF!))/(#REF!+#REF!+#REF!)","v":{"$error":"#VALUE!"}},{"$f":"((AA493*#REF!)+(#REF!*#REF!)+(#REF!*#REF!))/(#REF!+#REF!+#REF!)","v":{"$error":"#VALUE!"}},{"$f":"((AA493*#REF!)+(#REF!*#REF!)+(#REF!*#REF!))/(#REF!+#REF!+#REF!)","v":{"$error":"#VALUE!"}},{"$f":"((AA493*#REF!)+(#REF!*#REF!)+(#REF!*#REF!))/(#REF!+#REF!+#REF!)","v":{"$error":"#VALUE!"}},{"$f":"((AA493*#REF!)+(#REF!*#REF!)+(#REF!*#REF!))/(#REF!+#REF!+#REF!)","v":{"$error":"#VALUE!"}},{"$f":"((AA493*#REF!)+(#REF!*#REF!)+(#REF!*#REF!))/(#REF!+#REF!+#REF!)","v":{"$error":"#VALUE!"}},{"$f":"((AA493*#REF!)+(#REF!*#REF!)+(#REF!*#REF!))/(#REF!+#REF!+#REF!)","v":{"$error":"#VALUE!"}}]
[null,null,null,null,null,null,null,null,null,null,null,null,null,null,null,null,null,null,null,null,null,492,{"$error":"#VALUE!"},{"$f":"AVERAGE($W$3:W494)","v":{"$error":"#VALUE!"}},null,{"$error":"#VALUE!"},{"$error":"#VALUE!"},{"$f":"AVERAGE($AA$3:AA494)","v":{"$error":"#VALUE!"}},null,null,null,{"$f":"((AA494*#REF!)+(#REF!*#REF!)+(#REF!*#REF!))/(#REF!+#REF!+#REF!)","v":{"$error":"#VALUE!"}},{"$f":"((AA494*#REF!)+(#REF!*#REF!)+(#REF!*#REF!))/(#REF!+#REF!+#REF!)","v":{"$error":"#VALUE!"}},{"$f":"((AA494*#REF!)+(#REF!*#REF!)+(#REF!*#REF!))/(#REF!+#REF!+#REF!)","v":{"$error":"#VALUE!"}},{"$f":"((AA494*#REF!)+(#REF!*#REF!)+(#REF!*#REF!))/(#REF!+#REF!+#REF!)","v":{"$error":"#VALUE!"}},{"$f":"((AA494*#REF!)+(#REF!*#REF!)+(#REF!*#REF!))/(#REF!+#REF!+#REF!)","v":{"$error":"#VALUE!"}},{"$f":"((AA494*#REF!)+(#REF!*#REF!)+(#REF!*#REF!))/(#REF!+#REF!+#REF!)","v":{"$error":"#VALUE!"}},{"$f":"((AA494*#REF!)+(#REF!*#REF!)+(#REF!*#REF!))/(#REF!+#REF!+#REF!)","v":{"$error":"#VALUE!"}}]
[null,null,null,null,null,null,null,null,null,null,null,null,null,null,null,null,null,null,null,null,null,493,{"$error":"#VALUE!"},{"$f":"AVERAGE($W$3:W495)","v":{"$error":"#VALUE!"}},null,{"$error":"#VALUE!"},{"$error":"#VALUE!"},{"$f":"AVERAGE($AA$3:AA495)","v":{"$error":"#VALUE!"}},null,null,null,{"$f":"((AA495*#REF!)+(#REF!*#REF!)+(#REF!*#REF!))/(#REF!+#REF!+#REF!)","v":{"$error":"#VALUE!"}},{"$f":"((AA495*#REF!)+(#REF!*#REF!)+(#REF!*#REF!))/(#REF!+#REF!+#REF!)","v":{"$error":"#VALUE!"}},{"$f":"((AA495*#REF!)+(#REF!*#REF!)+(#REF!*#REF!))/(#REF!+#REF!+#REF!)","v":{"$error":"#VALUE!"}},{"$f":"((AA495*#REF!)+(#REF!*#REF!)+(#REF!*#REF!))/(#REF!+#REF!+#REF!)","v":{"$error":"#VALUE!"}},{"$f":"((AA495*#REF!)+(#REF!*#REF!)+(#REF!*#REF!))/(#REF!+#REF!+#REF!)","v":{"$error":"#VALUE!"}},{"$f":"((AA495*#REF!)+(#REF!*#REF!)+(#REF!*#REF!))/(#REF!+#REF!+#REF!)","v":{"$error":"#VALUE!"}},{"$f":"((AA495*#REF!)+(#REF!*#REF!)+(#REF!*#REF!))/(#REF!+#REF!+#REF!)","v":{"$error":"#VALUE!"}}]
[null,null,null,null,null,null,null,null,null,null,null,null,null,null,null,null,null,null,null,null,null,494,{"$error":"#VALUE!"},{"$f":"AVERAGE($W$3:W496)","v":{"$error":"#VALUE!"}},null,{"$error":"#VALUE!"},{"$error":"#VALUE!"},{"$f":"AVERAGE($AA$3:AA496)","v":{"$error":"#VALUE!"}},null,null,null,{"$f":"((AA496*#REF!)+(#REF!*#REF!)+(#REF!*#REF!))/(#REF!+#REF!+#REF!)","v":{"$error":"#VALUE!"}},{"$f":"((AA496*#REF!)+(#REF!*#REF!)+(#REF!*#REF!))/(#REF!+#REF!+#REF!)","v":{"$error":"#VALUE!"}},{"$f":"((AA496*#REF!)+(#REF!*#REF!)+(#REF!*#REF!))/(#REF!+#REF!+#REF!)","v":{"$error":"#VALUE!"}},{"$f":"((AA496*#REF!)+(#REF!*#REF!)+(#REF!*#REF!))/(#REF!+#REF!+#REF!)","v":{"$error":"#VALUE!"}},{"$f":"((AA496*#REF!)+(#REF!*#REF!)+(#REF!*#REF!))/(#REF!+#REF!+#REF!)","v":{"$error":"#VALUE!"}},{"$f":"((AA496*#REF!)+(#REF!*#REF!)+(#REF!*#REF!))/(#REF!+#REF!+#REF!)","v":{"$error":"#VALUE!"}},{"$f":"((AA496*#REF!)+(#REF!*#REF!)+(#REF!*#REF!))/(#REF!+#REF!+#REF!)","v":{"$error":"#VALUE!"}}]
[null,null,null,null,null,null,null,null,null,null,null,null,null,null,null,null,null,null,null,null,null,495,{"$error":"#VALUE!"},{"$f":"AVERAGE($W$3:W497)","v":{"$error":"#VALUE!"}},null,{"$error":"#VALUE!"},{"$error":"#VALUE!"},{"$f":"AVERAGE($AA$3:AA497)","v":{"$error":"#VALUE!"}},null,null,null,{"$f":"((AA497*#REF!)+(#REF!*#REF!)+(#REF!*#REF!))/(#REF!+#REF!+#REF!)","v":{"$error":"#VALUE!"}},{"$f":"((AA497*#REF!)+(#REF!*#REF!)+(#REF!*#REF!))/(#REF!+#REF!+#REF!)","v":{"$error":"#VALUE!"}},{"$f":"((AA497*#REF!)+(#REF!*#REF!)+(#REF!*#REF!))/(#REF!+#REF!+#REF!)","v":{"$error":"#VALUE!"}},{"$f":"((AA497*#REF!)+(#REF!*#REF!)+(#REF!*#REF!))/(#REF!+#REF!+#REF!)","v":{"$error":"#VALUE!"}},{"$f":"((AA497*#REF!)+(#REF!*#REF!)+(#REF!*#REF!))/(#REF!+#REF!+#REF!)","v":{"$error":"#VALUE!"}},{"$f":"((AA497*#REF!)+(#REF!*#REF!)+(#REF!*#REF!))/(#REF!+#REF!+#REF!)","v":{"$error":"#VALUE!"}},{"$f":"((AA497*#REF!)+(#REF!*#REF!)+(#REF!*#REF!))/(#REF!+#REF!+#REF!)","v":{"$error":"#VALUE!"}}]
[null,null,null,null,null,null,null,null,null,null,null,null,null,null,null,null,null,null,null,null,null,496,{"$error":"#VALUE!"},{"$f":"AVERAGE($W$3:W498)","v":{"$error":"#VALUE!"}},null,{"$error":"#VALUE!"},{"$error":"#VALUE!"},{"$f":"AVERAGE($AA$3:AA498)","v":{"$error":"#VALUE!"}},null,null,null,{"$f":"((AA498*#REF!)+(#REF!*#REF!)+(#REF!*#REF!))/(#REF!+#REF!+#REF!)","v":{"$error":"#VALUE!"}},{"$f":"((AA498*#REF!)+(#REF!*#REF!)+(#REF!*#REF!))/(#REF!+#REF!+#REF!)","v":{"$error":"#VALUE!"}},{"$f":"((AA498*#REF!)+(#REF!*#REF!)+(#REF!*#REF!))/(#REF!+#REF!+#REF!)","v":{"$error":"#VALUE!"}},{"$f":"((AA498*#REF!)+(#REF!*#REF!)+(#REF!*#REF!))/(#REF!+#REF!+#REF!)","v":{"$error":"#VALUE!"}},{"$f":"((AA498*#REF!)+(#REF!*#REF!)+(#REF!*#REF!))/(#REF!+#REF!+#REF!)","v":{"$error":"#VALUE!"}},{"$f":"((AA498*#REF!)+(#REF!*#REF!)+(#REF!*#REF!))/(#REF!+#REF!+#REF!)","v":{"$error":"#VALUE!"}},{"$f":"((AA498*#REF!)+(#REF!*#REF!)+(#REF!*#REF!))/(#REF!+#REF!+#REF!)","v":{"$error":"#VALUE!"}}]
[null,null,null,null,null,null,null,null,null,null,null,null,null,null,null,null,null,null,null,null,null,497,{"$error":"#VALUE!"},{"$f":"AVERAGE($W$3:W499)","v":{"$error":"#VALUE!"}},null,{"$error":"#VALUE!"},{"$error":"#VALUE!"},{"$f":"AVERAGE($AA$3:AA499)","v":{"$error":"#VALUE!"}},null,null,null,{"$f":"((AA499*#REF!)+(#REF!*#REF!)+(#REF!*#REF!))/(#REF!+#REF!+#REF!)","v":{"$error":"#VALUE!"}},{"$f":"((AA499*#REF!)+(#REF!*#REF!)+(#REF!*#REF!))/(#REF!+#REF!+#REF!)","v":{"$error":"#VALUE!"}},{"$f":"((AA499*#REF!)+(#REF!*#REF!)+(#REF!*#REF!))/(#REF!+#REF!+#REF!)","v":{"$error":"#VALUE!"}},{"$f":"((AA499*#REF!)+(#REF!*#REF!)+(#REF!*#REF!))/(#REF!+#REF!+#REF!)","v":{"$error":"#VALUE!"}},{"$f":"((AA499*#REF!)+(#REF!*#REF!)+(#REF!*#REF!))/(#REF!+#REF!+#REF!)","v":{"$error":"#VALUE!"}},{"$f":"((AA499*#REF!)+(#REF!*#REF!)+(#REF!*#REF!))/(#REF!+#REF!+#REF!)","v":{"$error":"#VALUE!"}},{"$f":"((AA499*#REF!)+(#REF!*#REF!)+(#REF!*#REF!))/(#REF!+#REF!+#REF!)","v":{"$error":"#VALUE!"}}]
[null,null,null,null,null,null,null,null,null,null,null,null,null,null,null,null,null,null,null,null,null,498,{"$error":"#VALUE!"},{"$f":"AVERAGE($W$3:W500)","v":{"$error":"#VALUE!"}},null,{"$error":"#VALUE!"},{"$error":"#VALUE!"},{"$f":"AVERAGE($AA$3:AA500)","v":{"$error":"#VALUE!"}},null,null,null,{"$f":"((AA500*#REF!)+(#REF!*#REF!)+(#REF!*#REF!))/(#REF!+#REF!+#REF!)","v":{"$error":"#VALUE!"}},{"$f":"((AA500*#REF!)+(#REF!*#REF!)+(#REF!*#REF!))/(#REF!+#REF!+#REF!)","v":{"$error":"#VALUE!"}},{"$f":"((AA500*#REF!)+(#REF!*#REF!)+(#REF!*#REF!))/(#REF!+#REF!+#REF!)","v":{"$error":"#VALUE!"}},{"$f":"((AA500*#REF!)+(#REF!*#REF!)+(#REF!*#REF!))/(#REF!+#REF!+#REF!)","v":{"$error":"#VALUE!"}},{"$f":"((AA500*#REF!)+(#REF!*#REF!)+(#REF!*#REF!))/(#REF!+#REF!+#REF!)","v":{"$error":"#VALUE!"}},{"$f":"((AA500*#REF!)+(#REF!*#REF!)+(#REF!*#REF!))/(#REF!+#REF!+#REF!)","v":{"$error":"#VALUE!"}},{"$f":"((AA500*#REF!)+(#REF!*#REF!)+(#REF!*#REF!))/(#REF!+#REF!+#REF!)","v":{"$error":"#VALUE!"}}]
[null,null,null,null,null,null,null,null,null,null,null,null,null,null,null,null,null,null,null,null,null,499,{"$error":"#VALUE!"},{"$f":"AVERAGE($W$3:W501)","v":{"$error":"#VALUE!"}},null,{"$error":"#VALUE!"},{"$error":"#VALUE!"},{"$f":"AVERAGE($AA$3:AA501)","v":{"$error":"#VALUE!"}},null,null,null,{"$f":"((AA501*#REF!)+(#REF!*#REF!)+(#REF!*#REF!))/(#REF!+#REF!+#REF!)","v":{"$error":"#VALUE!"}},{"$f":"((AA501*#REF!)+(#REF!*#REF!)+(#REF!*#REF!))/(#REF!+#REF!+#REF!)","v":{"$error":"#VALUE!"}},{"$f":"((AA501*#REF!)+(#REF!*#REF!)+(#REF!*#REF!))/(#REF!+#REF!+#REF!)","v":{"$error":"#VALUE!"}},{"$f":"((AA501*#REF!)+(#REF!*#REF!)+(#REF!*#REF!))/(#REF!+#REF!+#REF!)","v":{"$error":"#VALUE!"}},{"$f":"((AA501*#REF!)+(#REF!*#REF!)+(#REF!*#REF!))/(#REF!+#REF!+#REF!)","v":{"$error":"#VALUE!"}},{"$f":"((AA501*#REF!)+(#REF!*#REF!)+(#REF!*#REF!))/(#REF!+#REF!+#REF!)","v":{"$error":"#VALUE!"}},{"$f":"((AA501*#REF!)+(#REF!*#REF!)+(#REF!*#REF!))/(#REF!+#REF!+#REF!)","v":{"$error":"#VALUE!"}}]
[null,null,null,null,null,null,null,null,null,null,null,null,null,null,null,null,null,null,null,null,null,500,{"$error":"#VALUE!"},{"$f":"AVERAGE($W$3:W502)","v":{"$error":"#VALUE!"}},null,{"$error":"#VALUE!"},{"$error":"#VALUE!"},{"$f":"AVERAGE($AA$3:AA502)","v":{"$error":"#VALUE!"}},null,null,null,{"$f":"((AA502*#REF!)+(#REF!*#REF!)+(#REF!*#REF!))/(#REF!+#REF!+#REF!)","v":{"$error":"#VALUE!"}},{"$f":"((AA502*#REF!)+(#REF!*#REF!)+(#REF!*#REF!))/(#REF!+#REF!+#REF!)","v":{"$error":"#VALUE!"}},{"$f":"((AA502*#REF!)+(#REF!*#REF!)+(#REF!*#REF!))/(#REF!+#REF!+#REF!)","v":{"$error":"#VALUE!"}},{"$f":"((AA502*#REF!)+(#REF!*#REF!)+(#REF!*#REF!))/(#REF!+#REF!+#REF!)","v":{"$error":"#VALUE!"}},{"$f":"((AA502*#REF!)+(#REF!*#REF!)+(#REF!*#REF!))/(#REF!+#REF!+#REF!)","v":{"$error":"#VALUE!"}},{"$f":"((AA502*#REF!)+(#REF!*#REF!)+(#REF!*#REF!))/(#REF!+#REF!+#REF!)","v":{"$error":"#VALUE!"}},{"$f":"((AA502*#REF!)+(#REF!*#REF!)+(#REF!*#REF!))/(#REF!+#REF!+#REF!)","v":{"$error":"#VALUE!"}}]
[null,null,null,null,null,null,null,null,null,null,null,null,null,null,null,null,null,null,null,null,null,501,{"$error":"#VALUE!"},{"$f":"AVERAGE($W$3:W503)","v":{"$error":"#VALUE!"}},null,{"$error":"#VALUE!"},{"$error":"#VALUE!"},{"$f":"AVERAGE($AA$3:AA503)","v":{"$error":"#VALUE!"}},null,null,null,{"$f":"((AA503*#REF!)+(#REF!*#REF!)+(#REF!*#REF!))/(#REF!+#REF!+#REF!)","v":{"$error":"#VALUE!"}},{"$f":"((AA503*#REF!)+(#REF!*#REF!)+(#REF!*#REF!))/(#REF!+#REF!+#REF!)","v":{"$error":"#VALUE!"}},{"$f":"((AA503*#REF!)+(#REF!*#REF!)+(#REF!*#REF!))/(#REF!+#REF!+#REF!)","v":{"$error":"#VALUE!"}},{"$f":"((AA503*#REF!)+(#REF!*#REF!)+(#REF!*#REF!))/(#REF!+#REF!+#REF!)","v":{"$error":"#VALUE!"}},{"$f":"((AA503*#REF!)+(#REF!*#REF!)+(#REF!*#REF!))/(#REF!+#REF!+#REF!)","v":{"$error":"#VALUE!"}},{"$f":"((AA503*#REF!)+(#REF!*#REF!)+(#REF!*#REF!))/(#REF!+#REF!+#REF!)","v":{"$error":"#VALUE!"}},{"$f":"((AA503*#REF!)+(#REF!*#REF!)+(#REF!*#REF!))/(#REF!+#REF!+#REF!)","v":{"$error":"#VALUE!"}}]
[null,null,null,null,null,null,null,null,null,null,null,null,null,null,null,null,null,null,null,null,null,502,{"$error":"#VALUE!"},{"$f":"AVERAGE($W$3:W504)","v":{"$error":"#VALUE!"}},null,{"$error":"#VALUE!"},{"$error":"#VALUE!"},{"$f":"AVERAGE($AA$3:AA504)","v":{"$error":"#VALUE!"}},null,null,null,{"$f":"((AA504*#REF!)+(#REF!*#REF!)+(#REF!*#REF!))/(#REF!+#REF!+#REF!)","v":{"$error":"#VALUE!"}},{"$f":"((AA504*#REF!)+(#REF!*#REF!)+(#REF!*#REF!))/(#REF!+#REF!+#REF!)","v":{"$error":"#VALUE!"}},{"$f":"((AA504*#REF!)+(#REF!*#REF!)+(#REF!*#REF!))/(#REF!+#REF!+#REF!)","v":{"$error":"#VALUE!"}},{"$f":"((AA504*#REF!)+(#REF!*#REF!)+(#REF!*#REF!))/(#REF!+#REF!+#REF!)","v":{"$error":"#VALUE!"}},{"$f":"((AA504*#REF!)+(#REF!*#REF!)+(#REF!*#REF!))/(#REF!+#REF!+#REF!)","v":{"$error":"#VALUE!"}},{"$f":"((AA504*#REF!)+(#REF!*#REF!)+(#REF!*#REF!))/(#REF!+#REF!+#REF!)","v":{"$error":"#VALUE!"}},{"$f":"((AA504*#REF!)+(#REF!*#REF!)+(#REF!*#REF!))/(#REF!+#REF!+#REF!)","v":{"$error":"#VALUE!"}}]
[null,null,null,null,null,null,null,null,null,null,null,null,null,null,null,null,null,null,null,null,null,503,{"$error":"#VALUE!"},{"$f":"AVERAGE($W$3:W505)","v":{"$error":"#VALUE!"}},null,{"$error":"#VALUE!"},{"$error":"#VALUE!"},{"$f":"AVERAGE($AA$3:AA505)","v":{"$error":"#VALUE!"}},null,null,null,{"$f":"((AA505*#REF!)+(#REF!*#REF!)+(#REF!*#REF!))/(#REF!+#REF!+#REF!)","v":{"$error":"#VALUE!"}},{"$f":"((AA505*#REF!)+(#REF!*#REF!)+(#REF!*#REF!))/(#REF!+#REF!+#REF!)","v":{"$error":"#VALUE!"}},{"$f":"((AA505*#REF!)+(#REF!*#REF!)+(#REF!*#REF!))/(#REF!+#REF!+#REF!)","v":{"$error":"#VALUE!"}},{"$f":"((AA505*#REF!)+(#REF!*#REF!)+(#REF!*#REF!))/(#REF!+#REF!+#REF!)","v":{"$error":"#VALUE!"}},{"$f":"((AA505*#REF!)+(#REF!*#REF!)+(#REF!*#REF!))/(#REF!+#REF!+#REF!)","v":{"$error":"#VALUE!"}},{"$f":"((AA505*#REF!)+(#REF!*#REF!)+(#REF!*#REF!))/(#REF!+#REF!+#REF!)","v":{"$error":"#VALUE!"}},{"$f":"((AA505*#REF!)+(#REF!*#REF!)+(#REF!*#REF!))/(#REF!+#REF!+#REF!)","v":{"$error":"#VALUE!"}}]
[null,null,null,null,null,null,null,null,null,null,null,null,null,null,null,null,null,null,null,null,null,504,{"$error":"#VALUE!"},{"$f":"AVERAGE($W$3:W506)","v":{"$error":"#VALUE!"}},null,{"$error":"#VALUE!"},{"$error":"#VALUE!"},{"$f":"AVERAGE($AA$3:AA506)","v":{"$error":"#VALUE!"}},null,null,null,{"$f":"((AA506*#REF!)+(#REF!*#REF!)+(#REF!*#REF!))/(#REF!+#REF!+#REF!)","v":{"$error":"#VALUE!"}},{"$f":"((AA506*#REF!)+(#REF!*#REF!)+(#REF!*#REF!))/(#REF!+#REF!+#REF!)","v":{"$error":"#VALUE!"}},{"$f":"((AA506*#REF!)+(#REF!*#REF!)+(#REF!*#REF!))/(#REF!+#REF!+#REF!)","v":{"$error":"#VALUE!"}},{"$f":"((AA506*#REF!)+(#REF!*#REF!)+(#REF!*#REF!))/(#REF!+#REF!+#REF!)","v":{"$error":"#VALUE!"}},{"$f":"((AA506*#REF!)+(#REF!*#REF!)+(#REF!*#REF!))/(#REF!+#REF!+#REF!)","v":{"$error":"#VALUE!"}},{"$f":"((AA506*#REF!)+(#REF!*#REF!)+(#REF!*#REF!))/(#REF!+#REF!+#REF!)","v":{"$error":"#VALUE!"}},{"$f":"((AA506*#REF!)+(#REF!*#REF!)+(#REF!*#REF!))/(#REF!+#REF!+#REF!)","v":{"$error":"#VALUE!"}}]
[null,null,null,null,null,null,null,null,null,null,null,null,null,null,null,null,null,null,null,null,null,505,{"$error":"#VALUE!"},{"$f":"AVERAGE($W$3:W507)","v":{"$error":"#VALUE!"}},null,{"$error":"#VALUE!"},{"$error":"#VALUE!"},{"$f":"AVERAGE($AA$3:AA507)","v":{"$error":"#VALUE!"}},null,null,null,{"$f":"((AA507*#REF!)+(#REF!*#REF!)+(#REF!*#REF!))/(#REF!+#REF!+#REF!)","v":{"$error":"#VALUE!"}},{"$f":"((AA507*#REF!)+(#REF!*#REF!)+(#REF!*#REF!))/(#REF!+#REF!+#REF!)","v":{"$error":"#VALUE!"}},{"$f":"((AA507*#REF!)+(#REF!*#REF!)+(#REF!*#REF!))/(#REF!+#REF!+#REF!)","v":{"$error":"#VALUE!"}},{"$f":"((AA507*#REF!)+(#REF!*#REF!)+(#REF!*#REF!))/(#REF!+#REF!+#REF!)","v":{"$error":"#VALUE!"}},{"$f":"((AA507*#REF!)+(#REF!*#REF!)+(#REF!*#REF!))/(#REF!+#REF!+#REF!)","v":{"$error":"#VALUE!"}},{"$f":"((AA507*#REF!)+(#REF!*#REF!)+(#REF!*#REF!))/(#REF!+#REF!+#REF!)","v":{"$error":"#VALUE!"}},{"$f":"((AA507*#REF!)+(#REF!*#REF!)+(#REF!*#REF!))/(#REF!+#REF!+#REF!)","v":{"$error":"#VALUE!"}}]
[null,null,null,null,null,null,null,null,null,null,null,null,null,null,null,null,null,null,null,null,null,506,{"$error":"#VALUE!"},{"$f":"AVERAGE($W$3:W508)","v":{"$error":"#VALUE!"}},null,{"$error":"#VALUE!"},{"$error":"#VALUE!"},{"$f":"AVERAGE($AA$3:AA508)","v":{"$error":"#VALUE!"}},null,null,null,{"$f":"((AA508*#REF!)+(#REF!*#REF!)+(#REF!*#REF!))/(#REF!+#REF!+#REF!)","v":{"$error":"#VALUE!"}},{"$f":"((AA508*#REF!)+(#REF!*#REF!)+(#REF!*#REF!))/(#REF!+#REF!+#REF!)","v":{"$error":"#VALUE!"}},{"$f":"((AA508*#REF!)+(#REF!*#REF!)+(#REF!*#REF!))/(#REF!+#REF!+#REF!)","v":{"$error":"#VALUE!"}},{"$f":"((AA508*#REF!)+(#REF!*#REF!)+(#REF!*#REF!))/(#REF!+#REF!+#REF!)","v":{"$error":"#VALUE!"}},{"$f":"((AA508*#REF!)+(#REF!*#REF!)+(#REF!*#REF!))/(#REF!+#REF!+#REF!)","v":{"$error":"#VALUE!"}},{"$f":"((AA508*#REF!)+(#REF!*#REF!)+(#REF!*#REF!))/(#REF!+#REF!+#REF!)","v":{"$error":"#VALUE!"}},{"$f":"((AA508*#REF!)+(#REF!*#REF!)+(#REF!*#REF!))/(#REF!+#REF!+#REF!)","v":{"$error":"#VALUE!"}}]
[null,null,null,null,null,null,null,null,null,null,null,null,null,null,null,null,null,null,null,null,null,507,{"$error":"#VALUE!"},{"$f":"AVERAGE($W$3:W509)","v":{"$error":"#VALUE!"}},null,{"$error":"#VALUE!"},{"$error":"#VALUE!"},{"$f":"AVERAGE($AA$3:AA509)","v":{"$error":"#VALUE!"}},null,null,null,{"$f":"((AA509*#REF!)+(#REF!*#REF!)+(#REF!*#REF!))/(#REF!+#REF!+#REF!)","v":{"$error":"#VALUE!"}},{"$f":"((AA509*#REF!)+(#REF!*#REF!)+(#REF!*#REF!))/(#REF!+#REF!+#REF!)","v":{"$error":"#VALUE!"}},{"$f":"((AA509*#REF!)+(#REF!*#REF!)+(#REF!*#REF!))/(#REF!+#REF!+#REF!)","v":{"$error":"#VALUE!"}},{"$f":"((AA509*#REF!)+(#REF!*#REF!)+(#REF!*#REF!))/(#REF!+#REF!+#REF!)","v":{"$error":"#VALUE!"}},{"$f":"((AA509*#REF!)+(#REF!*#REF!)+(#REF!*#REF!))/(#REF!+#REF!+#REF!)","v":{"$error":"#VALUE!"}},{"$f":"((AA509*#REF!)+(#REF!*#REF!)+(#REF!*#REF!))/(#REF!+#REF!+#REF!)","v":{"$error":"#VALUE!"}},{"$f":"((AA509*#REF!)+(#REF!*#REF!)+(#REF!*#REF!))/(#REF!+#REF!+#REF!)","v":{"$error":"#VALUE!"}}]
[null,null,null,null,null,null,null,null,null,null,null,null,null,null,null,null,null,null,null,null,null,508,{"$f":"IF(($M$7*LN(V510))+$M$8+$M$10>0,($M$7*LN(V510))+$M$8+$M$10,0)","v":{"$error":"#VALUE!"}},{"$f":"AVERAGE($W$3:W510)","v":{"$error":"#VALUE!"}},null,{"$error":"#VALUE!"},{"$error":"#VALUE!"},{"$f":"AVERAGE($AA$3:AA510)","v":{"$error":"#VALUE!"}},null,null,null,{"$f":"((AA510*#REF!)+(#REF!*#REF!)+(#REF!*#REF!))/(#REF!+#REF!+#REF!)","v":{"$error":"#VALUE!"}},{"$f":"((AA510*#REF!)+(#REF!*#REF!)+(#REF!*#REF!))/(#REF!+#REF!+#REF!)","v":{"$error":"#VALUE!"}},{"$f":"((AA510*#REF!)+(#REF!*#REF!)+(#REF!*#REF!))/(#REF!+#REF!+#REF!)","v":{"$error":"#VALUE!"}},{"$f":"((AA510*#REF!)+(#REF!*#REF!)+(#REF!*#REF!))/(#REF!+#REF!+#REF!)","v":{"$error":"#VALUE!"}},{"$f":"((AA510*#REF!)+(#REF!*#REF!)+(#REF!*#REF!))/(#REF!+#REF!+#REF!)","v":{"$error":"#VALUE!"}},{"$f":"((AA510*#REF!)+(#REF!*#REF!)+(#REF!*#REF!))/(#REF!+#REF!+#REF!)","v":{"$error":"#VALUE!"}},{"$f":"((AA510*#REF!)+(#REF!*#REF!)+(#REF!*#REF!))/(#REF!+#REF!+#REF!)","v":{"$error":"#VALUE!"}}]
[null,null,null,null,null,null,null,null,null,null,null,null,null,null,null,null,null,null,null,null,null,509,{"$error":"#VALUE!"},{"$f":"AVERAGE($W$3:W511)","v":{"$error":"#VALUE!"}},null,{"$error":"#VALUE!"},{"$error":"#VALUE!"},{"$f":"AVERAGE($AA$3:AA511)","v":{"$error":"#VALUE!"}},null,null,null,{"$f":"((AA511*#REF!)+(#REF!*#REF!)+(#REF!*#REF!))/(#REF!+#REF!+#REF!)","v":{"$error":"#VALUE!"}},{"$f":"((AA511*#REF!)+(#REF!*#REF!)+(#REF!*#REF!))/(#REF!+#REF!+#REF!)","v":{"$error":"#VALUE!"}},{"$f":"((AA511*#REF!)+(#REF!*#REF!)+(#REF!*#REF!))/(#REF!+#REF!+#REF!)","v":{"$error":"#VALUE!"}},{"$f":"((AA511*#REF!)+(#REF!*#REF!)+(#REF!*#REF!))/(#REF!+#REF!+#REF!)","v":{"$error":"#VALUE!"}},{"$f":"((AA511*#REF!)+(#REF!*#REF!)+(#REF!*#REF!))/(#REF!+#REF!+#REF!)","v":{"$error":"#VALUE!"}},{"$f":"((AA511*#REF!)+(#REF!*#REF!)+(#REF!*#REF!))/(#REF!+#REF!+#REF!)","v":{"$error":"#VALUE!"}},{"$f":"((AA511*#REF!)+(#REF!*#REF!)+(#REF!*#REF!))/(#REF!+#REF!+#REF!)","v":{"$error":"#VALUE!"}}]
[null,null,null,null,null,null,null,null,null,null,null,null,null,null,null,null,null,null,null,null,null,510,{"$error":"#VALUE!"},{"$f":"AVERAGE($W$3:W512)","v":{"$error":"#VALUE!"}},null,{"$error":"#VALUE!"},{"$error":"#VALUE!"},{"$f":"AVERAGE($AA$3:AA512)","v":{"$error":"#VALUE!"}},null,null,null,{"$f":"((AA512*#REF!)+(#REF!*#REF!)+(#REF!*#REF!))/(#REF!+#REF!+#REF!)","v":{"$error":"#VALUE!"}},{"$f":"((AA512*#REF!)+(#REF!*#REF!)+(#REF!*#REF!))/(#REF!+#REF!+#REF!)","v":{"$error":"#VALUE!"}},{"$f":"((AA512*#REF!)+(#REF!*#REF!)+(#REF!*#REF!))/(#REF!+#REF!+#REF!)","v":{"$error":"#VALUE!"}},{"$f":"((AA512*#REF!)+(#REF!*#REF!)+(#REF!*#REF!))/(#REF!+#REF!+#REF!)","v":{"$error":"#VALUE!"}},{"$f":"((AA512*#REF!)+(#REF!*#REF!)+(#REF!*#REF!))/(#REF!+#REF!+#REF!)","v":{"$error":"#VALUE!"}},{"$f":"((AA512*#REF!)+(#REF!*#REF!)+(#REF!*#REF!))/(#REF!+#REF!+#REF!)","v":{"$error":"#VALUE!"}},{"$f":"((AA512*#REF!)+(#REF!*#REF!)+(#REF!*#REF!))/(#REF!+#REF!+#REF!)","v":{"$error":"#VALUE!"}}]
[null,null,null,null,null,null,null,null,null,null,null,null,null,null,null,null,null,null,null,null,null,511,{"$error":"#VALUE!"},{"$f":"AVERAGE($W$3:W513)","v":{"$error":"#VALUE!"}},null,{"$error":"#VALUE!"},{"$error":"#VALUE!"},{"$f":"AVERAGE($AA$3:AA513)","v":{"$error":"#VALUE!"}},null,null,null,{"$f":"((AA513*#REF!)+(#REF!*#REF!)+(#REF!*#REF!))/(#REF!+#REF!+#REF!)","v":{"$error":"#VALUE!"}},{"$f":"((AA513*#REF!)+(#REF!*#REF!)+(#REF!*#REF!))/(#REF!+#REF!+#REF!)","v":{"$error":"#VALUE!"}},{"$f":"((AA513*#REF!)+(#REF!*#REF!)+(#REF!*#REF!))/(#REF!+#REF!+#REF!)","v":{"$error":"#VALUE!"}},{"$f":"((AA513*#REF!)+(#REF!*#REF!)+(#REF!*#REF!))/(#REF!+#REF!+#REF!)","v":{"$error":"#VALUE!"}},{"$f":"((AA513*#REF!)+(#REF!*#REF!)+(#REF!*#REF!))/(#REF!+#REF!+#REF!)","v":{"$error":"#VALUE!"}},{"$f":"((AA513*#REF!)+(#REF!*#REF!)+(#REF!*#REF!))/(#REF!+#REF!+#REF!)","v":{"$error":"#VALUE!"}},{"$f":"((AA513*#REF!)+(#REF!*#REF!)+(#REF!*#REF!))/(#REF!+#REF!+#REF!)","v":{"$error":"#VALUE!"}}]
[null,null,null,null,null,null,null,null,null,null,null,null,null,null,null,null,null,null,null,null,null,512,{"$error":"#VALUE!"},{"$f":"AVERAGE($W$3:W514)","v":{"$error":"#VALUE!"}},null,{"$error":"#VALUE!"},{"$error":"#VALUE!"},{"$f":"AVERAGE($AA$3:AA514)","v":{"$error":"#VALUE!"}},null,null,null,{"$f":"((AA514*#REF!)+(#REF!*#REF!)+(#REF!*#REF!))/(#REF!+#REF!+#REF!)","v":{"$error":"#VALUE!"}},{"$f":"((AA514*#REF!)+(#REF!*#REF!)+(#REF!*#REF!))/(#REF!+#REF!+#REF!)","v":{"$error":"#VALUE!"}},{"$f":"((AA514*#REF!)+(#REF!*#REF!)+(#REF!*#REF!))/(#REF!+#REF!+#REF!)","v":{"$error":"#VALUE!"}},{"$f":"((AA514*#REF!)+(#REF!*#REF!)+(#REF!*#REF!))/(#REF!+#REF!+#REF!)","v":{"$error":"#VALUE!"}},{"$f":"((AA514*#REF!)+(#REF!*#REF!)+(#REF!*#REF!))/(#REF!+#REF!+#REF!)","v":{"$error":"#VALUE!"}},{"$f":"((AA514*#REF!)+(#REF!*#REF!)+(#REF!*#REF!))/(#REF!+#REF!+#REF!)","v":{"$error":"#VALUE!"}},{"$f":"((AA514*#REF!)+(#REF!*#REF!)+(#REF!*#REF!))/(#REF!+#REF!+#REF!)","v":{"$error":"#VALUE!"}}]
[null,null,null,null,null,null,null,null,null,null,null,null,null,null,null,null,null,null,null,null,null,513,{"$error":"#VALUE!"},{"$f":"AVERAGE($W$3:W515)","v":{"$error":"#VALUE!"}},null,{"$error":"#VALUE!"},{"$error":"#VALUE!"},{"$f":"AVERAGE($AA$3:AA515)","v":{"$error":"#VALUE!"}},null,null,null,{"$f":"((AA515*#REF!)+(#REF!*#REF!)+(#REF!*#REF!))/(#REF!+#REF!+#REF!)","v":{"$error":"#VALUE!"}},{"$f":"((AA515*#REF!)+(#REF!*#REF!)+(#REF!*#REF!))/(#REF!+#REF!+#REF!)","v":{"$error":"#VALUE!"}},{"$f":"((AA515*#REF!)+(#REF!*#REF!)+(#REF!*#REF!))/(#REF!+#REF!+#REF!)","v":{"$error":"#VALUE!"}},{"$f":"((AA515*#REF!)+(#REF!*#REF!)+(#REF!*#REF!))/(#REF!+#REF!+#REF!)","v":{"$error":"#VALUE!"}},{"$f":"((AA515*#REF!)+(#REF!*#REF!)+(#REF!*#REF!))/(#REF!+#REF!+#REF!)","v":{"$error":"#VALUE!"}},{"$f":"((AA515*#REF!)+(#REF!*#REF!)+(#REF!*#REF!))/(#REF!+#REF!+#REF!)","v":{"$error":"#VALUE!"}},{"$f":"((AA515*#REF!)+(#REF!*#REF!)+(#REF!*#REF!))/(#REF!+#REF!+#REF!)","v":{"$error":"#VALUE!"}}]
[null,null,null,null,null,null,null,null,null,null,null,null,null,null,null,null,null,null,null,null,null,514,{"$error":"#VALUE!"},{"$f":"AVERAGE($W$3:W516)","v":{"$error":"#VALUE!"}},null,{"$f":"$M$2+W516","v":{"$error":"#VALUE!"}},{"$f":"(Z516*(9/5))+32","v":{"$error":"#VALUE!"}},{"$f":"AVERAGE($AA$3:AA516)","v":{"$error":"#VALUE!"}},null,null,null,{"$f":"((AA516*#REF!)+(#REF!*#REF!)+(#REF!*#REF!))/(#REF!+#REF!+#REF!)","v":{"$error":"#VALUE!"}},{"$f":"((AA516*#REF!)+(#REF!*#REF!)+(#REF!*#REF!))/(#REF!+#REF!+#REF!)","v":{"$error":"#VALUE!"}},{"$f":"((AA516*#REF!)+(#REF!*#REF!)+(#REF!*#REF!))/(#REF!+#REF!+#REF!)","v":{"$error":"#VALUE!"}},{"$f":"((AA516*#REF!)+(#REF!*#REF!)+(#REF!*#REF!))/(#REF!+#REF!+#REF!)","v":{"$error":"#VALUE!"}},{"$f":"((AA516*#REF!)+(#REF!*#REF!)+(#REF!*#REF!))/(#REF!+#REF!+#REF!)","v":{"$error":"#VALUE!"}},{"$f":"((AA516*#REF!)+(#REF!*#REF!)+(#REF!*#REF!))/(#REF!+#REF!+#REF!)","v":{"$error":"#VALUE!"}},{"$f":"((AA516*#REF!)+(#REF!*#REF!)+(#REF!*#REF!))/(#REF!+#REF!+#REF!)","v":{"$error":"#VALUE!"}}]
[null,null,null,null,null,null,null,null,null,null,null,null,null,null,null,null,null,null,null,null,null,515,{"$error":"#VALUE!"},{"$f":"AVERAGE($W$3:W517)","v":{"$error":"#VALUE!"}},null,{"$error":"#VALUE!"},{"$error":"#VALUE!"},{"$f":"AVERAGE($AA$3:AA517)","v":{"$error":"#VALUE!"}},null,null,null,{"$f":"((AA517*#REF!)+(#REF!*#REF!)+(#REF!*#REF!))/(#REF!+#REF!+#REF!)","v":{"$error":"#VALUE!"}},{"$f":"((AA517*#REF!)+(#REF!*#REF!)+(#REF!*#REF!))/(#REF!+#REF!+#REF!)","v":{"$error":"#VALUE!"}},{"$f":"((AA517*#REF!)+(#REF!*#REF!)+(#REF!*#REF!))/(#REF!+#REF!+#REF!)","v":{"$error":"#VALUE!"}},{"$f":"((AA517*#REF!)+(#REF!*#REF!)+(#REF!*#REF!))/(#REF!+#REF!+#REF!)","v":{"$error":"#VALUE!"}},{"$f":"((AA517*#REF!)+(#REF!*#REF!)+(#REF!*#REF!))/(#REF!+#REF!+#REF!)","v":{"$error":"#VALUE!"}},{"$f":"((AA517*#REF!)+(#REF!*#REF!)+(#REF!*#REF!))/(#REF!+#REF!+#REF!)","v":{"$error":"#VALUE!"}},{"$f":"((AA517*#REF!)+(#REF!*#REF!)+(#REF!*#REF!))/(#REF!+#REF!+#REF!)","v":{"$error":"#VALUE!"}}]
[null,null,null,null,null,null,null,null,null,null,null,null,null,null,null,null,null,null,null,null,null,516,{"$error":"#VALUE!"},{"$f":"AVERAGE($W$3:W518)","v":{"$error":"#VALUE!"}},null,{"$error":"#VALUE!"},{"$error":"#VALUE!"},{"$f":"AVERAGE($AA$3:AA518)","v":{"$error":"#VALUE!"}},null,null,null,{"$f":"((AA518*#REF!)+(#REF!*#REF!)+(#REF!*#REF!))/(#REF!+#REF!+#REF!)","v":{"$error":"#VALUE!"}},{"$f":"((AA518*#REF!)+(#REF!*#REF!)+(#REF!*#REF!))/(#REF!+#REF!+#REF!)","v":{"$error":"#VALUE!"}},{"$f":"((AA518*#REF!)+(#REF!*#REF!)+(#REF!*#REF!))/(#REF!+#REF!+#REF!)","v":{"$error":"#VALUE!"}},{"$f":"((AA518*#REF!)+(#REF!*#REF!)+(#REF!*#REF!))/(#REF!+#REF!+#REF!)","v":{"$error":"#VALUE!"}},{"$f":"((AA518*#REF!)+(#REF!*#REF!)+(#REF!*#REF!))/(#REF!+#REF!+#REF!)","v":{"$error":"#VALUE!"}},{"$f":"((AA518*#REF!)+(#REF!*#REF!)+(#REF!*#REF!))/(#REF!+#REF!+#REF!)","v":{"$error":"#VALUE!"}},{"$f":"((AA518*#REF!)+(#REF!*#REF!)+(#REF!*#REF!))/(#REF!+#REF!+#REF!)","v":{"$error":"#VALUE!"}}]
[null,null,null,null,null,null,null,null,null,null,null,null,null,null,null,null,null,null,null,null,null,517,{"$error":"#VALUE!"},{"$f":"AVERAGE($W$3:W519)","v":{"$error":"#VALUE!"}},null,{"$error":"#VALUE!"},{"$error":"#VALUE!"},{"$f":"AVERAGE($AA$3:AA519)","v":{"$error":"#VALUE!"}},null,null,null,{"$f":"((AA519*#REF!)+(#REF!*#REF!)+(#REF!*#REF!))/(#REF!+#REF!+#REF!)","v":{"$error":"#VALUE!"}},{"$f":"((AA519*#REF!)+(#REF!*#REF!)+(#REF!*#REF!))/(#REF!+#REF!+#REF!)","v":{"$error":"#VALUE!"}},{"$f":"((AA519*#REF!)+(#REF!*#REF!)+(#REF!*#REF!))/(#REF!+#REF!+#REF!)","v":{"$error":"#VALUE!"}},{"$f":"((AA519*#REF!)+(#REF!*#REF!)+(#REF!*#REF!))/(#REF!+#REF!+#REF!)","v":{"$error":"#VALUE!"}},{"$f":"((AA519*#REF!)+(#REF!*#REF!)+(#REF!*#REF!))/(#REF!+#REF!+#REF!)","v":{"$error":"#VALUE!"}},{"$f":"((AA519*#REF!)+(#REF!*#REF!)+(#REF!*#REF!))/(#REF!+#REF!+#REF!)","v":{"$error":"#VALUE!"}},{"$f":"((AA519*#REF!)+(#REF!*#REF!)+(#REF!*#REF!))/(#REF!+#REF!+#REF!)","v":{"$error":"#VALUE!"}}]
[null,null,null,null,null,null,null,null,null,null,null,null,null,null,null,null,null,null,null,null,null,518,{"$error":"#VALUE!"},{"$f":"AVERAGE($W$3:W520)","v":{"$error":"#VALUE!"}},null,{"$error":"#VALUE!"},{"$error":"#VALUE!"},{"$f":"AVERAGE($AA$3:AA520)","v":{"$error":"#VALUE!"}},null,null,null,{"$f":"((AA520*#REF!)+(#REF!*#REF!)+(#REF!*#REF!))/(#REF!+#REF!+#REF!)","v":{"$error":"#VALUE!"}},{"$f":"((AA520*#REF!)+(#REF!*#REF!)+(#REF!*#REF!))/(#REF!+#REF!+#REF!)","v":{"$error":"#VALUE!"}},{"$f":"((AA520*#REF!)+(#REF!*#REF!)+(#REF!*#REF!))/(#REF!+#REF!+#REF!)","v":{"$error":"#VALUE!"}},{"$f":"((AA520*#REF!)+(#REF!*#REF!)+(#REF!*#REF!))/(#REF!+#REF!+#REF!)","v":{"$error":"#VALUE!"}},{"$f":"((AA520*#REF!)+(#REF!*#REF!)+(#REF!*#REF!))/(#REF!+#REF!+#REF!)","v":{"$error":"#VALUE!"}},{"$f":"((AA520*#REF!)+(#REF!*#REF!)+(#REF!*#REF!))/(#REF!+#REF!+#REF!)","v":{"$error":"#VALUE!"}},{"$f":"((AA520*#REF!)+(#REF!*#REF!)+(#REF!*#REF!))/(#REF!+#REF!+#REF!)","v":{"$error":"#VALUE!"}}]
[null,null,null,null,null,null,null,null,null,null,null,null,null,null,null,null,null,null,null,null,null,519,{"$error":"#VALUE!"},{"$f":"AVERAGE($W$3:W521)","v":{"$error":"#VALUE!"}},null,{"$error":"#VALUE!"},{"$error":"#VALUE!"},{"$f":"AVERAGE($AA$3:AA521)","v":{"$error":"#VALUE!"}},null,null,null,{"$f":"((AA521*#REF!)+(#REF!*#REF!)+(#REF!*#REF!))/(#REF!+#REF!+#REF!)","v":{"$error":"#VALUE!"}},{"$f":"((AA521*#REF!)+(#REF!*#REF!)+(#REF!*#REF!))/(#REF!+#REF!+#REF!)","v":{"$error":"#VALUE!"}},{"$f":"((AA521*#REF!)+(#REF!*#REF!)+(#REF!*#REF!))/(#REF!+#REF!+#REF!)","v":{"$error":"#VALUE!"}},{"$f":"((AA521*#REF!)+(#REF!*#REF!)+(#REF!*#REF!))/(#REF!+#REF!+#REF!)","v":{"$error":"#VALUE!"}},{"$f":"((AA521*#REF!)+(#REF!*#REF!)+(#REF!*#REF!))/(#REF!+#REF!+#REF!)","v":{"$error":"#VALUE!"}},{"$f":"((AA521*#REF!)+(#REF!*#REF!)+(#REF!*#REF!))/(#REF!+#REF!+#REF!)","v":{"$error":"#VALUE!"}},{"$f":"((AA521*#REF!)+(#REF!*#REF!)+(#REF!*#REF!))/(#REF!+#REF!+#REF!)","v":{"$error":"#VALUE!"}}]
[null,null,null,null,null,null,null,null,null,null,null,null,null,null,null,null,null,null,null,null,null,520,{"$error":"#VALUE!"},{"$f":"AVERAGE($W$3:W522)","v":{"$error":"#VALUE!"}},null,{"$error":"#VALUE!"},{"$error":"#VALUE!"},{"$f":"AVERAGE($AA$3:AA522)","v":{"$error":"#VALUE!"}},null,null,null,{"$f":"((AA522*#REF!)+(#REF!*#REF!)+(#REF!*#REF!))/(#REF!+#REF!+#REF!)","v":{"$error":"#VALUE!"}},{"$f":"((AA522*#REF!)+(#REF!*#REF!)+(#REF!*#REF!))/(#REF!+#REF!+#REF!)","v":{"$error":"#VALUE!"}},{"$f":"((AA522*#REF!)+(#REF!*#REF!)+(#REF!*#REF!))/(#REF!+#REF!+#REF!)","v":{"$error":"#VALUE!"}},{"$f":"((AA522*#REF!)+(#REF!*#REF!)+(#REF!*#REF!))/(#REF!+#REF!+#REF!)","v":{"$error":"#VALUE!"}},{"$f":"((AA522*#REF!)+(#REF!*#REF!)+(#REF!*#REF!))/(#REF!+#REF!+#REF!)","v":{"$error":"#VALUE!"}},{"$f":"((AA522*#REF!)+(#REF!*#REF!)+(#REF!*#REF!))/(#REF!+#REF!+#REF!)","v":{"$error":"#VALUE!"}},{"$f":"((AA522*#REF!)+(#REF!*#REF!)+(#REF!*#REF!))/(#REF!+#REF!+#REF!)","v":{"$error":"#VALUE!"}}]
[null,null,null,null,null,null,null,null,null,null,null,null,null,null,null,null,null,null,null,null,null,521,{"$error":"#VALUE!"},{"$f":"AVERAGE($W$3:W523)","v":{"$error":"#VALUE!"}},null,{"$error":"#VALUE!"},{"$error":"#VALUE!"},{"$f":"AVERAGE($AA$3:AA523)","v":{"$error":"#VALUE!"}},null,null,null,{"$f":"((AA523*#REF!)+(#REF!*#REF!)+(#REF!*#REF!))/(#REF!+#REF!+#REF!)","v":{"$error":"#VALUE!"}},{"$f":"((AA523*#REF!)+(#REF!*#REF!)+(#REF!*#REF!))/(#REF!+#REF!+#REF!)","v":{"$error":"#VALUE!"}},{"$f":"((AA523*#REF!)+(#REF!*#REF!)+(#REF!*#REF!))/(#REF!+#REF!+#REF!)","v":{"$error":"#VALUE!"}},{"$f":"((AA523*#REF!)+(#REF!*#REF!)+(#REF!*#REF!))/(#REF!+#REF!+#REF!)","v":{"$error":"#VALUE!"}},{"$f":"((AA523*#REF!)+(#REF!*#REF!)+(#REF!*#REF!))/(#REF!+#REF!+#REF!)","v":{"$error":"#VALUE!"}},{"$f":"((AA523*#REF!)+(#REF!*#REF!)+(#REF!*#REF!))/(#REF!+#REF!+#REF!)","v":{"$error":"#VALUE!"}},{"$f":"((AA523*#REF!)+(#REF!*#REF!)+(#REF!*#REF!))/(#REF!+#REF!+#REF!)","v":{"$error":"#VALUE!"}}]
[null,null,null,null,null,null,null,null,null,null,null,null,null,null,null,null,null,null,null,null,null,522,{"$error":"#VALUE!"},{"$f":"AVERAGE($W$3:W524)","v":{"$error":"#VALUE!"}},null,{"$error":"#VALUE!"},{"$error":"#VALUE!"},{"$f":"AVERAGE($AA$3:AA524)","v":{"$error":"#VALUE!"}},null,null,null,{"$f":"((AA524*#REF!)+(#REF!*#REF!)+(#REF!*#REF!))/(#REF!+#REF!+#REF!)","v":{"$error":"#VALUE!"}},{"$f":"((AA524*#REF!)+(#REF!*#REF!)+(#REF!*#REF!))/(#REF!+#REF!+#REF!)","v":{"$error":"#VALUE!"}},{"$f":"((AA524*#REF!)+(#REF!*#REF!)+(#REF!*#REF!))/(#REF!+#REF!+#REF!)","v":{"$error":"#VALUE!"}},{"$f":"((AA524*#REF!)+(#REF!*#REF!)+(#REF!*#REF!))/(#REF!+#REF!+#REF!)","v":{"$error":"#VALUE!"}},{"$f":"((AA524*#REF!)+(#REF!*#REF!)+(#REF!*#REF!))/(#REF!+#REF!+#REF!)","v":{"$error":"#VALUE!"}},{"$f":"((AA524*#REF!)+(#REF!*#REF!)+(#REF!*#REF!))/(#REF!+#REF!+#REF!)","v":{"$error":"#VALUE!"}},{"$f":"((AA524*#REF!)+(#REF!*#REF!)+(#REF!*#REF!))/(#REF!+#REF!+#REF!)","v":{"$error":"#VALUE!"}}]
[null,null,null,null,null,null,null,null,null,null,null,null,null,null,null,null,null,null,null,null,null,523,{"$error":"#VALUE!"},{"$f":"AVERAGE($W$3:W525)","v":{"$error":"#VALUE!"}},null,{"$error":"#VALUE!"},{"$error":"#VALUE!"},{"$f":"AVERAGE($AA$3:AA525)","v":{"$error":"#VALUE!"}},null,null,null,{"$f":"((AA525*#REF!)+(#REF!*#REF!)+(#REF!*#REF!))/(#REF!+#REF!+#REF!)","v":{"$error":"#VALUE!"}},{"$f":"((AA525*#REF!)+(#REF!*#REF!)+(#REF!*#REF!))/(#REF!+#REF!+#REF!)","v":{"$error":"#VALUE!"}},{"$f":"((AA525*#REF!)+(#REF!*#REF!)+(#REF!*#REF!))/(#REF!+#REF!+#REF!)","v":{"$error":"#VALUE!"}},{"$f":"((AA525*#REF!)+(#REF!*#REF!)+(#REF!*#REF!))/(#REF!+#REF!+#REF!)","v":{"$error":"#VALUE!"}},{"$f":"((AA525*#REF!)+(#REF!*#REF!)+(#REF!*#REF!))/(#REF!+#REF!+#REF!)","v":{"$error":"#VALUE!"}},{"$f":"((AA525*#REF!)+(#REF!*#REF!)+(#REF!*#REF!))/(#REF!+#REF!+#REF!)","v":{"$error":"#VALUE!"}},{"$f":"((AA525*#REF!)+(#REF!*#REF!)+(#REF!*#REF!))/(#REF!+#REF!+#REF!)","v":{"$error":"#VALUE!"}}]
[null,null,null,null,null,null,null,null,null,null,null,null,null,null,null,null,null,null,null,null,null,524,{"$error":"#VALUE!"},{"$f":"AVERAGE($W$3:W526)","v":{"$error":"#VALUE!"}},null,{"$error":"#VALUE!"},{"$error":"#VALUE!"},{"$f":"AVERAGE($AA$3:AA526)","v":{"$error":"#VALUE!"}},null,null,null,{"$f":"((AA526*#REF!)+(#REF!*#REF!)+(#REF!*#REF!))/(#REF!+#REF!+#REF!)","v":{"$error":"#VALUE!"}},{"$f":"((AA526*#REF!)+(#REF!*#REF!)+(#REF!*#REF!))/(#REF!+#REF!+#REF!)","v":{"$error":"#VALUE!"}},{"$f":"((AA526*#REF!)+(#REF!*#REF!)+(#REF!*#REF!))/(#REF!+#REF!+#REF!)","v":{"$error":"#VALUE!"}},{"$f":"((AA526*#REF!)+(#REF!*#REF!)+(#REF!*#REF!))/(#REF!+#REF!+#REF!)","v":{"$error":"#VALUE!"}},{"$f":"((AA526*#REF!)+(#REF!*#REF!)+(#REF!*#REF!))/(#REF!+#REF!+#REF!)","v":{"$error":"#VALUE!"}},{"$f":"((AA526*#REF!)+(#REF!*#REF!)+(#REF!*#REF!))/(#REF!+#REF!+#REF!)","v":{"$error":"#VALUE!"}},{"$f":"((AA526*#REF!)+(#REF!*#REF!)+(#REF!*#REF!))/(#REF!+#REF!+#REF!)","v":{"$error":"#VALUE!"}}]
[null,null,null,null,null,null,null,null,null,null,null,null,null,null,null,null,null,null,null,null,null,525,{"$error":"#VALUE!"},{"$f":"AVERAGE($W$3:W527)","v":{"$error":"#VALUE!"}},null,{"$error":"#VALUE!"},{"$error":"#VALUE!"},{"$f":"AVERAGE($AA$3:AA527)","v":{"$error":"#VALUE!"}},null,null,null,{"$f":"((AA527*#REF!)+(#REF!*#REF!)+(#REF!*#REF!))/(#REF!+#REF!+#REF!)","v":{"$error":"#VALUE!"}},{"$f":"((AA527*#REF!)+(#REF!*#REF!)+(#REF!*#REF!))/(#REF!+#REF!+#REF!)","v":{"$error":"#VALUE!"}},{"$f":"((AA527*#REF!)+(#REF!*#REF!)+(#REF!*#REF!))/(#REF!+#REF!+#REF!)","v":{"$error":"#VALUE!"}},{"$f":"((AA527*#REF!)+(#REF!*#REF!)+(#REF!*#REF!))/(#REF!+#REF!+#REF!)","v":{"$error":"#VALUE!"}},{"$f":"((AA527*#REF!)+(#REF!*#REF!)+(#REF!*#REF!))/(#REF!+#REF!+#REF!)","v":{"$error":"#VALUE!"}},{"$f":"((AA527*#REF!)+(#REF!*#REF!)+(#REF!*#REF!))/(#REF!+#REF!+#REF!)","v":{"$error":"#VALUE!"}},{"$f":"((AA527*#REF!)+(#REF!*#REF!)+(#REF!*#REF!))/(#REF!+#REF!+#REF!)","v":{"$error":"#VALUE!"}}]
[null,null,null,null,null,null,null,null,null,null,null,null,null,null,null,null,null,null,null,null,null,526,{"$error":"#VALUE!"},{"$f":"AVERAGE($W$3:W528)","v":{"$error":"#VALUE!"}},null,{"$error":"#VALUE!"},{"$error":"#VALUE!"},{"$f":"AVERAGE($AA$3:AA528)","v":{"$error":"#VALUE!"}},null,null,null,{"$f":"((AA528*#REF!)+(#REF!*#REF!)+(#REF!*#REF!))/(#REF!+#REF!+#REF!)","v":{"$error":"#VALUE!"}},{"$f":"((AA528*#REF!)+(#REF!*#REF!)+(#REF!*#REF!))/(#REF!+#REF!+#REF!)","v":{"$error":"#VALUE!"}},{"$f":"((AA528*#REF!)+(#REF!*#REF!)+(#REF!*#REF!))/(#REF!+#REF!+#REF!)","v":{"$error":"#VALUE!"}},{"$f":"((AA528*#REF!)+(#REF!*#REF!)+(#REF!*#REF!))/(#REF!+#REF!+#REF!)","v":{"$error":"#VALUE!"}},{"$f":"((AA528*#REF!)+(#REF!*#REF!)+(#REF!*#REF!))/(#REF!+#REF!+#REF!)","v":{"$error":"#VALUE!"}},{"$f":"((AA528*#REF!)+(#REF!*#REF!)+(#REF!*#REF!))/(#REF!+#REF!+#REF!)","v":{"$error":"#VALUE!"}},{"$f":"((AA528*#REF!)+(#REF!*#REF!)+(#REF!*#REF!))/(#REF!+#REF!+#REF!)","v":{"$error":"#VALUE!"}}]
[null,null,null,null,null,null,null,null,null,null,null,null,null,null,null,null,null,null,null,null,null,527,{"$error":"#VALUE!"},{"$f":"AVERAGE($W$3:W529)","v":{"$error":"#VALUE!"}},null,{"$error":"#VALUE!"},{"$error":"#VALUE!"},{"$f":"AVERAGE($AA$3:AA529)","v":{"$error":"#VALUE!"}},null,null,null,{"$f":"((AA529*#REF!)+(#REF!*#REF!)+(#REF!*#REF!))/(#REF!+#REF!+#REF!)","v":{"$error":"#VALUE!"}},{"$f":"((AA529*#REF!)+(#REF!*#REF!)+(#REF!*#REF!))/(#REF!+#REF!+#REF!)","v":{"$error":"#VALUE!"}},{"$f":"((AA529*#REF!)+(#REF!*#REF!)+(#REF!*#REF!))/(#REF!+#REF!+#REF!)","v":{"$error":"#VALUE!"}},{"$f":"((AA529*#REF!)+(#REF!*#REF!)+(#REF!*#REF!))/(#REF!+#REF!+#REF!)","v":{"$error":"#VALUE!"}},{"$f":"((AA529*#REF!)+(#REF!*#REF!)+(#REF!*#REF!))/(#REF!+#REF!+#REF!)","v":{"$error":"#VALUE!"}},{"$f":"((AA529*#REF!)+(#REF!*#REF!)+(#REF!*#REF!))/(#REF!+#REF!+#REF!)","v":{"$error":"#VALUE!"}},{"$f":"((AA529*#REF!)+(#REF!*#REF!)+(#REF!*#REF!))/(#REF!+#REF!+#REF!)","v":{"$error":"#VALUE!"}}]
[null,null,null,null,null,null,null,null,null,null,null,null,null,null,null,null,null,null,null,null,null,528,{"$error":"#VALUE!"},{"$f":"AVERAGE($W$3:W530)","v":{"$error":"#VALUE!"}},null,{"$error":"#VALUE!"},{"$error":"#VALUE!"},{"$f":"AVERAGE($AA$3:AA530)","v":{"$error":"#VALUE!"}},null,null,null,{"$f":"((AA530*#REF!)+(#REF!*#REF!)+(#REF!*#REF!))/(#REF!+#REF!+#REF!)","v":{"$error":"#VALUE!"}},{"$f":"((AA530*#REF!)+(#REF!*#REF!)+(#REF!*#REF!))/(#REF!+#REF!+#REF!)","v":{"$error":"#VALUE!"}},{"$f":"((AA530*#REF!)+(#REF!*#REF!)+(#REF!*#REF!))/(#REF!+#REF!+#REF!)","v":{"$error":"#VALUE!"}},{"$f":"((AA530*#REF!)+(#REF!*#REF!)+(#REF!*#REF!))/(#REF!+#REF!+#REF!)","v":{"$error":"#VALUE!"}},{"$f":"((AA530*#REF!)+(#REF!*#REF!)+(#REF!*#REF!))/(#REF!+#REF!+#REF!)","v":{"$error":"#VALUE!"}},{"$f":"((AA530*#REF!)+(#REF!*#REF!)+(#REF!*#REF!))/(#REF!+#REF!+#REF!)","v":{"$error":"#VALUE!"}},{"$f":"((AA530*#REF!)+(#REF!*#REF!)+(#REF!*#REF!))/(#REF!+#REF!+#REF!)","v":{"$error":"#VALUE!"}}]
[null,null,null,null,null,null,null,null,null,null,null,null,null,null,null,null,null,null,null,null,null,529,{"$error":"#VALUE!"},{"$f":"AVERAGE($W$3:W531)","v":{"$error":"#VALUE!"}},null,{"$error":"#VALUE!"},{"$error":"#VALUE!"},{"$f":"AVERAGE($AA$3:AA531)","v":{"$error":"#VALUE!"}},null,null,null,{"$f":"((AA531*#REF!)+(#REF!*#REF!)+(#REF!*#REF!))/(#REF!+#REF!+#REF!)","v":{"$error":"#VALUE!"}},{"$f":"((AA531*#REF!)+(#REF!*#REF!)+(#REF!*#REF!))/(#REF!+#REF!+#REF!)","v":{"$error":"#VALUE!"}},{"$f":"((AA531*#REF!)+(#REF!*#REF!)+(#REF!*#REF!))/(#REF!+#REF!+#REF!)","v":{"$error":"#VALUE!"}},{"$f":"((AA531*#REF!)+(#REF!*#REF!)+(#REF!*#REF!))/(#REF!+#REF!+#REF!)","v":{"$error":"#VALUE!"}},{"$f":"((AA531*#REF!)+(#REF!*#REF!)+(#REF!*#REF!))/(#REF!+#REF!+#REF!)","v":{"$error":"#VALUE!"}},{"$f":"((AA531*#REF!)+(#REF!*#REF!)+(#REF!*#REF!))/(#REF!+#REF!+#REF!)","v":{"$error":"#VALUE!"}},{"$f":"((AA531*#REF!)+(#REF!*#REF!)+(#REF!*#REF!))/(#REF!+#REF!+#REF!)","v":{"$error":"#VALUE!"}}]
[null,null,null,null,null,null,null,null,null,null,null,null,null,null,null,null,null,null,null,null,null,530,{"$error":"#VALUE!"},{"$f":"AVERAGE($W$3:W532)","v":{"$error":"#VALUE!"}},null,{"$error":"#VALUE!"},{"$error":"#VALUE!"},{"$f":"AVERAGE($AA$3:AA532)","v":{"$error":"#VALUE!"}},null,null,null,{"$f":"((AA532*#REF!)+(#REF!*#REF!)+(#REF!*#REF!))/(#REF!+#REF!+#REF!)","v":{"$error":"#VALUE!"}},{"$f":"((AA532*#REF!)+(#REF!*#REF!)+(#REF!*#REF!))/(#REF!+#REF!+#REF!)","v":{"$error":"#VALUE!"}},{"$f":"((AA532*#REF!)+(#REF!*#REF!)+(#REF!*#REF!))/(#REF!+#REF!+#REF!)","v":{"$error":"#VALUE!"}},{"$f":"((AA532*#REF!)+(#REF!*#REF!)+(#REF!*#REF!))/(#REF!+#REF!+#REF!)","v":{"$error":"#VALUE!"}},{"$f":"((AA532*#REF!)+(#REF!*#REF!)+(#REF!*#REF!))/(#REF!+#REF!+#REF!)","v":{"$error":"#VALUE!"}},{"$f":"((AA532*#REF!)+(#REF!*#REF!)+(#REF!*#REF!))/(#REF!+#REF!+#REF!)","v":{"$error":"#VALUE!"}},{"$f":"((AA532*#REF!)+(#REF!*#REF!)+(#REF!*#REF!))/(#REF!+#REF!+#REF!)","v":{"$error":"#VALUE!"}}]
[null,null,null,null,null,null,null,null,null,null,null,null,null,null,null,null,null,null,null,null,null,531,{"$error":"#VALUE!"},{"$f":"AVERAGE($W$3:W533)","v":{"$error":"#VALUE!"}},null,{"$error":"#VALUE!"},{"$error":"#VALUE!"},{"$f":"AVERAGE($AA$3:AA533)","v":{"$error":"#VALUE!"}},null,null,null,{"$f":"((AA533*#REF!)+(#REF!*#REF!)+(#REF!*#REF!))/(#REF!+#REF!+#REF!)","v":{"$error":"#VALUE!"}},{"$f":"((AA533*#REF!)+(#REF!*#REF!)+(#REF!*#REF!))/(#REF!+#REF!+#REF!)","v":{"$error":"#VALUE!"}},{"$f":"((AA533*#REF!)+(#REF!*#REF!)+(#REF!*#REF!))/(#REF!+#REF!+#REF!)","v":{"$error":"#VALUE!"}},{"$f":"((AA533*#REF!)+(#REF!*#REF!)+(#REF!*#REF!))/(#REF!+#REF!+#REF!)","v":{"$error":"#VALUE!"}},{"$f":"((AA533*#REF!)+(#REF!*#REF!)+(#REF!*#REF!))/(#REF!+#REF!+#REF!)","v":{"$error":"#VALUE!"}},{"$f":"((AA533*#REF!)+(#REF!*#REF!)+(#REF!*#REF!))/(#REF!+#REF!+#REF!)","v":{"$error":"#VALUE!"}},{"$f":"((AA533*#REF!)+(#REF!*#REF!)+(#REF!*#REF!))/(#REF!+#REF!+#REF!)","v":{"$error":"#VALUE!"}}]
[null,null,null,null,null,null,null,null,null,null,null,null,null,null,null,null,null,null,null,null,null,532,{"$error":"#VALUE!"},{"$f":"AVERAGE($W$3:W534)","v":{"$error":"#VALUE!"}},null,{"$error":"#VALUE!"},{"$error":"#VALUE!"},{"$f":"AVERAGE($AA$3:AA534)","v":{"$error":"#VALUE!"}},null,null,null,{"$f":"((AA534*#REF!)+(#REF!*#REF!)+(#REF!*#REF!))/(#REF!+#REF!+#REF!)","v":{"$error":"#VALUE!"}},{"$f":"((AA534*#REF!)+(#REF!*#REF!)+(#REF!*#REF!))/(#REF!+#REF!+#REF!)","v":{"$error":"#VALUE!"}},{"$f":"((AA534*#REF!)+(#REF!*#REF!)+(#REF!*#REF!))/(#REF!+#REF!+#REF!)","v":{"$error":"#VALUE!"}},{"$f":"((AA534*#REF!)+(#REF!*#REF!)+(#REF!*#REF!))/(#REF!+#REF!+#REF!)","v":{"$error":"#VALUE!"}},{"$f":"((AA534*#REF!)+(#REF!*#REF!)+(#REF!*#REF!))/(#REF!+#REF!+#REF!)","v":{"$error":"#VALUE!"}},{"$f":"((AA534*#REF!)+(#REF!*#REF!)+(#REF!*#REF!))/(#REF!+#REF!+#REF!)","v":{"$error":"#VALUE!"}},{"$f":"((AA534*#REF!)+(#REF!*#REF!)+(#REF!*#REF!))/(#REF!+#REF!+#REF!)","v":{"$error":"#VALUE!"}}]
[null,null,null,null,null,null,null,null,null,null,null,null,null,null,null,null,null,null,null,null,null,533,{"$error":"#VALUE!"},{"$f":"AVERAGE($W$3:W535)","v":{"$error":"#VALUE!"}},null,{"$error":"#VALUE!"},{"$error":"#VALUE!"},{"$f":"AVERAGE($AA$3:AA535)","v":{"$error":"#VALUE!"}},null,null,null,{"$f":"((AA535*#REF!)+(#REF!*#REF!)+(#REF!*#REF!))/(#REF!+#REF!+#REF!)","v":{"$error":"#VALUE!"}},{"$f":"((AA535*#REF!)+(#REF!*#REF!)+(#REF!*#REF!))/(#REF!+#REF!+#REF!)","v":{"$error":"#VALUE!"}},{"$f":"((AA535*#REF!)+(#REF!*#REF!)+(#REF!*#REF!))/(#REF!+#REF!+#REF!)","v":{"$error":"#VALUE!"}},{"$f":"((AA535*#REF!)+(#REF!*#REF!)+(#REF!*#REF!))/(#REF!+#REF!+#REF!)","v":{"$error":"#VALUE!"}},{"$f":"((AA535*#REF!)+(#REF!*#REF!)+(#REF!*#REF!))/(#REF!+#REF!+#REF!)","v":{"$error":"#VALUE!"}},{"$f":"((AA535*#REF!)+(#REF!*#REF!)+(#REF!*#REF!))/(#REF!+#REF!+#REF!)","v":{"$error":"#VALUE!"}},{"$f":"((AA535*#REF!)+(#REF!*#REF!)+(#REF!*#REF!))/(#REF!+#REF!+#REF!)","v":{"$error":"#VALUE!"}}]
[null,null,null,null,null,null,null,null,null,null,null,null,null,null,null,null,null,null,null,null,null,534,{"$error":"#VALUE!"},{"$f":"AVERAGE($W$3:W536)","v":{"$error":"#VALUE!"}},null,{"$error":"#VALUE!"},{"$error":"#VALUE!"},{"$f":"AVERAGE($AA$3:AA536)","v":{"$error":"#VALUE!"}},null,null,null,{"$f":"((AA536*#REF!)+(#REF!*#REF!)+(#REF!*#REF!))/(#REF!+#REF!+#REF!)","v":{"$error":"#VALUE!"}},{"$f":"((AA536*#REF!)+(#REF!*#REF!)+(#REF!*#REF!))/(#REF!+#REF!+#REF!)","v":{"$error":"#VALUE!"}},{"$f":"((AA536*#REF!)+(#REF!*#REF!)+(#REF!*#REF!))/(#REF!+#REF!+#REF!)","v":{"$error":"#VALUE!"}},{"$f":"((AA536*#REF!)+(#REF!*#REF!)+(#REF!*#REF!))/(#REF!+#REF!+#REF!)","v":{"$error":"#VALUE!"}},{"$f":"((AA536*#REF!)+(#REF!*#REF!)+(#REF!*#REF!))/(#REF!+#REF!+#REF!)","v":{"$error":"#VALUE!"}},{"$f":"((AA536*#REF!)+(#REF!*#REF!)+(#REF!*#REF!))/(#REF!+#REF!+#REF!)","v":{"$error":"#VALUE!"}},{"$f":"((AA536*#REF!)+(#REF!*#REF!)+(#REF!*#REF!))/(#REF!+#REF!+#REF!)","v":{"$error":"#VALUE!"}}]
[null,null,null,null,null,null,null,null,null,null,null,null,null,null,null,null,null,null,null,null,null,535,{"$error":"#VALUE!"},{"$f":"AVERAGE($W$3:W537)","v":{"$error":"#VALUE!"}},null,{"$error":"#VALUE!"},{"$error":"#VALUE!"},{"$f":"AVERAGE($AA$3:AA537)","v":{"$error":"#VALUE!"}},null,null,null,{"$f":"((AA537*#REF!)+(#REF!*#REF!)+(#REF!*#REF!))/(#REF!+#REF!+#REF!)","v":{"$error":"#VALUE!"}},{"$f":"((AA537*#REF!)+(#REF!*#REF!)+(#REF!*#REF!))/(#REF!+#REF!+#REF!)","v":{"$error":"#VALUE!"}},{"$f":"((AA537*#REF!)+(#REF!*#REF!)+(#REF!*#REF!))/(#REF!+#REF!+#REF!)","v":{"$error":"#VALUE!"}},{"$f":"((AA537*#REF!)+(#REF!*#REF!)+(#REF!*#REF!))/(#REF!+#REF!+#REF!)","v":{"$error":"#VALUE!"}},{"$f":"((AA537*#REF!)+(#REF!*#REF!)+(#REF!*#REF!))/(#REF!+#REF!+#REF!)","v":{"$error":"#VALUE!"}},{"$f":"((AA537*#REF!)+(#REF!*#REF!)+(#REF!*#REF!))/(#REF!+#REF!+#REF!)","v":{"$error":"#VALUE!"}},{"$f":"((AA537*#REF!)+(#REF!*#REF!)+(#REF!*#REF!))/(#REF!+#REF!+#REF!)","v":{"$error":"#VALUE!"}}]
[null,null,null,null,null,null,null,null,null,null,null,null,null,null,null,null,null,null,null,null,null,536,{"$error":"#VALUE!"},{"$f":"AVERAGE($W$3:W538)","v":{"$error":"#VALUE!"}},null,{"$error":"#VALUE!"},{"$error":"#VALUE!"},{"$f":"AVERAGE($AA$3:AA538)","v":{"$error":"#VALUE!"}},null,null,null,{"$f":"((AA538*#REF!)+(#REF!*#REF!)+(#REF!*#REF!))/(#REF!+#REF!+#REF!)","v":{"$error":"#VALUE!"}},{"$f":"((AA538*#REF!)+(#REF!*#REF!)+(#REF!*#REF!))/(#REF!+#REF!+#REF!)","v":{"$error":"#VALUE!"}},{"$f":"((AA538*#REF!)+(#REF!*#REF!)+(#REF!*#REF!))/(#REF!+#REF!+#REF!)","v":{"$error":"#VALUE!"}},{"$f":"((AA538*#REF!)+(#REF!*#REF!)+(#REF!*#REF!))/(#REF!+#REF!+#REF!)","v":{"$error":"#VALUE!"}},{"$f":"((AA538*#REF!)+(#REF!*#REF!)+(#REF!*#REF!))/(#REF!+#REF!+#REF!)","v":{"$error":"#VALUE!"}},{"$f":"((AA538*#REF!)+(#REF!*#REF!)+(#REF!*#REF!))/(#REF!+#REF!+#REF!)","v":{"$error":"#VALUE!"}},{"$f":"((AA538*#REF!)+(#REF!*#REF!)+(#REF!*#REF!))/(#REF!+#REF!+#REF!)","v":{"$error":"#VALUE!"}}]
[null,null,null,null,null,null,null,null,null,null,null,null,null,null,null,null,null,null,null,null,null,537,{"$error":"#VALUE!"},{"$f":"AVERAGE($W$3:W539)","v":{"$error":"#VALUE!"}},null,{"$error":"#VALUE!"},{"$error":"#VALUE!"},{"$f":"AVERAGE($AA$3:AA539)","v":{"$error":"#VALUE!"}},null,null,null,{"$f":"((AA539*#REF!)+(#REF!*#REF!)+(#REF!*#REF!))/(#REF!+#REF!+#REF!)","v":{"$error":"#VALUE!"}},{"$f":"((AA539*#REF!)+(#REF!*#REF!)+(#REF!*#REF!))/(#REF!+#REF!+#REF!)","v":{"$error":"#VALUE!"}},{"$f":"((AA539*#REF!)+(#REF!*#REF!)+(#REF!*#REF!))/(#REF!+#REF!+#REF!)","v":{"$error":"#VALUE!"}},{"$f":"((AA539*#REF!)+(#REF!*#REF!)+(#REF!*#REF!))/(#REF!+#REF!+#REF!)","v":{"$error":"#VALUE!"}},{"$f":"((AA539*#REF!)+(#REF!*#REF!)+(#REF!*#REF!))/(#REF!+#REF!+#REF!)","v":{"$error":"#VALUE!"}},{"$f":"((AA539*#REF!)+(#REF!*#REF!)+(#REF!*#REF!))/(#REF!+#REF!+#REF!)","v":{"$error":"#VALUE!"}},{"$f":"((AA539*#REF!)+(#REF!*#REF!)+(#REF!*#REF!))/(#REF!+#REF!+#REF!)","v":{"$error":"#VALUE!"}}]
[null,null,null,null,null,null,null,null,null,null,null,null,null,null,null,null,null,null,null,null,null,538,{"$error":"#VALUE!"},{"$f":"AVERAGE($W$3:W540)","v":{"$error":"#VALUE!"}},null,{"$error":"#VALUE!"},{"$error":"#VALUE!"},{"$f":"AVERAGE($AA$3:AA540)","v":{"$error":"#VALUE!"}},null,null,null,{"$f":"((AA540*#REF!)+(#REF!*#REF!)+(#REF!*#REF!))/(#REF!+#REF!+#REF!)","v":{"$error":"#VALUE!"}},{"$f":"((AA540*#REF!)+(#REF!*#REF!)+(#REF!*#REF!))/(#REF!+#REF!+#REF!)","v":{"$error":"#VALUE!"}},{"$f":"((AA540*#REF!)+(#REF!*#REF!)+(#REF!*#REF!))/(#REF!+#REF!+#REF!)","v":{"$error":"#VALUE!"}},{"$f":"((AA540*#REF!)+(#REF!*#REF!)+(#REF!*#REF!))/(#REF!+#REF!+#REF!)","v":{"$error":"#VALUE!"}},{"$f":"((AA540*#REF!)+(#REF!*#REF!)+(#REF!*#REF!))/(#REF!+#REF!+#REF!)","v":{"$error":"#VALUE!"}},{"$f":"((AA540*#REF!)+(#REF!*#REF!)+(#REF!*#REF!))/(#REF!+#REF!+#REF!)","v":{"$error":"#VALUE!"}},{"$f":"((AA540*#REF!)+(#REF!*#REF!)+(#REF!*#REF!))/(#REF!+#REF!+#REF!)","v":{"$error":"#VALUE!"}}]
[null,null,null,null,null,null,null,null,null,null,null,null,null,null,null,null,null,null,null,null,null,539,{"$error":"#VALUE!"},{"$f":"AVERAGE($W$3:W541)","v":{"$error":"#VALUE!"}},null,{"$error":"#VALUE!"},{"$error":"#VALUE!"},{"$f":"AVERAGE($AA$3:AA541)","v":{"$error":"#VALUE!"}},null,null,null,{"$f":"((AA541*#REF!)+(#REF!*#REF!)+(#REF!*#REF!))/(#REF!+#REF!+#REF!)","v":{"$error":"#VALUE!"}},{"$f":"((AA541*#REF!)+(#REF!*#REF!)+(#REF!*#REF!))/(#REF!+#REF!+#REF!)","v":{"$error":"#VALUE!"}},{"$f":"((AA541*#REF!)+(#REF!*#REF!)+(#REF!*#REF!))/(#REF!+#REF!+#REF!)","v":{"$error":"#VALUE!"}},{"$f":"((AA541*#REF!)+(#REF!*#REF!)+(#REF!*#REF!))/(#REF!+#REF!+#REF!)","v":{"$error":"#VALUE!"}},{"$f":"((AA541*#REF!)+(#REF!*#REF!)+(#REF!*#REF!))/(#REF!+#REF!+#REF!)","v":{"$error":"#VALUE!"}},{"$f":"((AA541*#REF!)+(#REF!*#REF!)+(#REF!*#REF!))/(#REF!+#REF!+#REF!)","v":{"$error":"#VALUE!"}},{"$f":"((AA541*#REF!)+(#REF!*#REF!)+(#REF!*#REF!))/(#REF!+#REF!+#REF!)","v":{"$error":"#VALUE!"}}]
[null,null,null,null,null,null,null,null,null,null,null,null,null,null,null,null,null,null,null,null,null,540,{"$error":"#VALUE!"},{"$f":"AVERAGE($W$3:W542)","v":{"$error":"#VALUE!"}},null,{"$error":"#VALUE!"},{"$error":"#VALUE!"},{"$f":"AVERAGE($AA$3:AA542)","v":{"$error":"#VALUE!"}},null,null,null,{"$f":"((AA542*#REF!)+(#REF!*#REF!)+(#REF!*#REF!))/(#REF!+#REF!+#REF!)","v":{"$error":"#VALUE!"}},{"$f":"((AA542*#REF!)+(#REF!*#REF!)+(#REF!*#REF!))/(#REF!+#REF!+#REF!)","v":{"$error":"#VALUE!"}},{"$f":"((AA542*#REF!)+(#REF!*#REF!)+(#REF!*#REF!))/(#REF!+#REF!+#REF!)","v":{"$error":"#VALUE!"}},{"$f":"((AA542*#REF!)+(#REF!*#REF!)+(#REF!*#REF!))/(#REF!+#REF!+#REF!)","v":{"$error":"#VALUE!"}},{"$f":"((AA542*#REF!)+(#REF!*#REF!)+(#REF!*#REF!))/(#REF!+#REF!+#REF!)","v":{"$error":"#VALUE!"}},{"$f":"((AA542*#REF!)+(#REF!*#REF!)+(#REF!*#REF!))/(#REF!+#REF!+#REF!)","v":{"$error":"#VALUE!"}},{"$f":"((AA542*#REF!)+(#REF!*#REF!)+(#REF!*#REF!))/(#REF!+#REF!+#REF!)","v":{"$error":"#VALUE!"}}]
[null,null,null,null,null,null,null,null,null,null,null,null,null,null,null,null,null,null,null,null,null,541,{"$error":"#VALUE!"},{"$f":"AVERAGE($W$3:W543)","v":{"$error":"#VALUE!"}},null,{"$error":"#VALUE!"},{"$error":"#VALUE!"},{"$f":"AVERAGE($AA$3:AA543)","v":{"$error":"#VALUE!"}},null,null,null,{"$f":"((AA543*#REF!)+(#REF!*#REF!)+(#REF!*#REF!))/(#REF!+#REF!+#REF!)","v":{"$error":"#VALUE!"}},{"$f":"((AA543*#REF!)+(#REF!*#REF!)+(#REF!*#REF!))/(#REF!+#REF!+#REF!)","v":{"$error":"#VALUE!"}},{"$f":"((AA543*#REF!)+(#REF!*#REF!)+(#REF!*#REF!))/(#REF!+#REF!+#REF!)","v":{"$error":"#VALUE!"}},{"$f":"((AA543*#REF!)+(#REF!*#REF!)+(#REF!*#REF!))/(#REF!+#REF!+#REF!)","v":{"$error":"#VALUE!"}},{"$f":"((AA543*#REF!)+(#REF!*#REF!)+(#REF!*#REF!))/(#REF!+#REF!+#REF!)","v":{"$error":"#VALUE!"}},{"$f":"((AA543*#REF!)+(#REF!*#REF!)+(#REF!*#REF!))/(#REF!+#REF!+#REF!)","v":{"$error":"#VALUE!"}},{"$f":"((AA543*#REF!)+(#REF!*#REF!)+(#REF!*#REF!))/(#REF!+#REF!+#REF!)","v":{"$error":"#VALUE!"}}]
[null,null,null,null,null,null,null,null,null,null,null,null,null,null,null,null,null,null,null,null,null,542,{"$error":"#VALUE!"},{"$f":"AVERAGE($W$3:W544)","v":{"$error":"#VALUE!"}},null,{"$error":"#VALUE!"},{"$error":"#VALUE!"},{"$f":"AVERAGE($AA$3:AA544)","v":{"$error":"#VALUE!"}},null,null,null,{"$f":"((AA544*#REF!)+(#REF!*#REF!)+(#REF!*#REF!))/(#REF!+#REF!+#REF!)","v":{"$error":"#VALUE!"}},{"$f":"((AA544*#REF!)+(#REF!*#REF!)+(#REF!*#REF!))/(#REF!+#REF!+#REF!)","v":{"$error":"#VALUE!"}},{"$f":"((AA544*#REF!)+(#REF!*#REF!)+(#REF!*#REF!))/(#REF!+#REF!+#REF!)","v":{"$error":"#VALUE!"}},{"$f":"((AA544*#REF!)+(#REF!*#REF!)+(#REF!*#REF!))/(#REF!+#REF!+#REF!)","v":{"$error":"#VALUE!"}},{"$f":"((AA544*#REF!)+(#REF!*#REF!)+(#REF!*#REF!))/(#REF!+#REF!+#REF!)","v":{"$error":"#VALUE!"}},{"$f":"((AA544*#REF!)+(#REF!*#REF!)+(#REF!*#REF!))/(#REF!+#REF!+#REF!)","v":{"$error":"#VALUE!"}},{"$f":"((AA544*#REF!)+(#REF!*#REF!)+(#REF!*#REF!))/(#REF!+#REF!+#REF!)","v":{"$error":"#VALUE!"}}]
[null,null,null,null,null,null,null,null,null,null,null,null,null,null,null,null,null,null,null,null,null,543,{"$error":"#VALUE!"},{"$f":"AVERAGE($W$3:W545)","v":{"$error":"#VALUE!"}},null,{"$error":"#VALUE!"},{"$error":"#VALUE!"},{"$f":"AVERAGE($AA$3:AA545)","v":{"$error":"#VALUE!"}},null,null,null,{"$f":"((AA545*#REF!)+(#REF!*#REF!)+(#REF!*#REF!))/(#REF!+#REF!+#REF!)","v":{"$error":"#VALUE!"}},{"$f":"((AA545*#REF!)+(#REF!*#REF!)+(#REF!*#REF!))/(#REF!+#REF!+#REF!)","v":{"$error":"#VALUE!"}},{"$f":"((AA545*#REF!)+(#REF!*#REF!)+(#REF!*#REF!))/(#REF!+#REF!+#REF!)","v":{"$error":"#VALUE!"}},{"$f":"((AA545*#REF!)+(#REF!*#REF!)+(#REF!*#REF!))/(#REF!+#REF!+#REF!)","v":{"$error":"#VALUE!"}},{"$f":"((AA545*#REF!)+(#REF!*#REF!)+(#REF!*#REF!))/(#REF!+#REF!+#REF!)","v":{"$error":"#VALUE!"}},{"$f":"((AA545*#REF!)+(#REF!*#REF!)+(#REF!*#REF!))/(#REF!+#REF!+#REF!)","v":{"$error":"#VALUE!"}},{"$f":"((AA545*#REF!)+(#REF!*#REF!)+(#REF!*#REF!))/(#REF!+#REF!+#REF!)","v":{"$error":"#VALUE!"}}]
[null,null,null,null,null,null,null,null,null,null,null,null,null,null,null,null,null,null,null,null,null,544,{"$error":"#VALUE!"},{"$f":"AVERAGE($W$3:W546)","v":{"$error":"#VALUE!"}},null,{"$error":"#VALUE!"},{"$error":"#VALUE!"},{"$f":"AVERAGE($AA$3:AA546)","v":{"$error":"#VALUE!"}},null,null,null,{"$f":"((AA546*#REF!)+(#REF!*#REF!)+(#REF!*#REF!))/(#REF!+#REF!+#REF!)","v":{"$error":"#VALUE!"}},{"$f":"((AA546*#REF!)+(#REF!*#REF!)+(#REF!*#REF!))/(#REF!+#REF!+#REF!)","v":{"$error":"#VALUE!"}},{"$f":"((AA546*#REF!)+(#REF!*#REF!)+(#REF!*#REF!))/(#REF!+#REF!+#REF!)","v":{"$error":"#VALUE!"}},{"$f":"((AA546*#REF!)+(#REF!*#REF!)+(#REF!*#REF!))/(#REF!+#REF!+#REF!)","v":{"$error":"#VALUE!"}},{"$f":"((AA546*#REF!)+(#REF!*#REF!)+(#REF!*#REF!))/(#REF!+#REF!+#REF!)","v":{"$error":"#VALUE!"}},{"$f":"((AA546*#REF!)+(#REF!*#REF!)+(#REF!*#REF!))/(#REF!+#REF!+#REF!)","v":{"$error":"#VALUE!"}},{"$f":"((AA546*#REF!)+(#REF!*#REF!)+(#REF!*#REF!))/(#REF!+#REF!+#REF!)","v":{"$error":"#VALUE!"}}]
[null,null,null,null,null,null,null,null,null,null,null,null,null,null,null,null,null,null,null,null,null,545,{"$error":"#VALUE!"},{"$f":"AVERAGE($W$3:W547)","v":{"$error":"#VALUE!"}},null,{"$error":"#VALUE!"},{"$error":"#VALUE!"},{"$f":"AVERAGE($AA$3:AA547)","v":{"$error":"#VALUE!"}},null,null,null,{"$f":"((AA547*#REF!)+(#REF!*#REF!)+(#REF!*#REF!))/(#REF!+#REF!+#REF!)","v":{"$error":"#VALUE!"}},{"$f":"((AA547*#REF!)+(#REF!*#REF!)+(#REF!*#REF!))/(#REF!+#REF!+#REF!)","v":{"$error":"#VALUE!"}},{"$f":"((AA547*#REF!)+(#REF!*#REF!)+(#REF!*#REF!))/(#REF!+#REF!+#REF!)","v":{"$error":"#VALUE!"}},{"$f":"((AA547*#REF!)+(#REF!*#REF!)+(#REF!*#REF!))/(#REF!+#REF!+#REF!)","v":{"$error":"#VALUE!"}},{"$f":"((AA547*#REF!)+(#REF!*#REF!)+(#REF!*#REF!))/(#REF!+#REF!+#REF!)","v":{"$error":"#VALUE!"}},{"$f":"((AA547*#REF!)+(#REF!*#REF!)+(#REF!*#REF!))/(#REF!+#REF!+#REF!)","v":{"$error":"#VALUE!"}},{"$f":"((AA547*#REF!)+(#REF!*#REF!)+(#REF!*#REF!))/(#REF!+#REF!+#REF!)","v":{"$error":"#VALUE!"}}]
[null,null,null,null,null,null,null,null,null,null,null,null,null,null,null,null,null,null,null,null,null,546,{"$error":"#VALUE!"},{"$f":"AVERAGE($W$3:W548)","v":{"$error":"#VALUE!"}},null,{"$error":"#VALUE!"},{"$error":"#VALUE!"},{"$f":"AVERAGE($AA$3:AA548)","v":{"$error":"#VALUE!"}},null,null,null,{"$f":"((AA548*#REF!)+(#REF!*#REF!)+(#REF!*#REF!))/(#REF!+#REF!+#REF!)","v":{"$error":"#VALUE!"}},{"$f":"((AA548*#REF!)+(#REF!*#REF!)+(#REF!*#REF!))/(#REF!+#REF!+#REF!)","v":{"$error":"#VALUE!"}},{"$f":"((AA548*#REF!)+(#REF!*#REF!)+(#REF!*#REF!))/(#REF!+#REF!+#REF!)","v":{"$error":"#VALUE!"}},{"$f":"((AA548*#REF!)+(#REF!*#REF!)+(#REF!*#REF!))/(#REF!+#REF!+#REF!)","v":{"$error":"#VALUE!"}},{"$f":"((AA548*#REF!)+(#REF!*#REF!)+(#REF!*#REF!))/(#REF!+#REF!+#REF!)","v":{"$error":"#VALUE!"}},{"$f":"((AA548*#REF!)+(#REF!*#REF!)+(#REF!*#REF!))/(#REF!+#REF!+#REF!)","v":{"$error":"#VALUE!"}},{"$f":"((AA548*#REF!)+(#REF!*#REF!)+(#REF!*#REF!))/(#REF!+#REF!+#REF!)","v":{"$error":"#VALUE!"}}]
[null,null,null,null,null,null,null,null,null,null,null,null,null,null,null,null,null,null,null,null,null,547,{"$error":"#VALUE!"},{"$f":"AVERAGE($W$3:W549)","v":{"$error":"#VALUE!"}},null,{"$error":"#VALUE!"},{"$error":"#VALUE!"},{"$f":"AVERAGE($AA$3:AA549)","v":{"$error":"#VALUE!"}},null,null,null,{"$f":"((AA549*#REF!)+(#REF!*#REF!)+(#REF!*#REF!))/(#REF!+#REF!+#REF!)","v":{"$error":"#VALUE!"}},{"$f":"((AA549*#REF!)+(#REF!*#REF!)+(#REF!*#REF!))/(#REF!+#REF!+#REF!)","v":{"$error":"#VALUE!"}},{"$f":"((AA549*#REF!)+(#REF!*#REF!)+(#REF!*#REF!))/(#REF!+#REF!+#REF!)","v":{"$error":"#VALUE!"}},{"$f":"((AA549*#REF!)+(#REF!*#REF!)+(#REF!*#REF!))/(#REF!+#REF!+#REF!)","v":{"$error":"#VALUE!"}},{"$f":"((AA549*#REF!)+(#REF!*#REF!)+(#REF!*#REF!))/(#REF!+#REF!+#REF!)","v":{"$error":"#VALUE!"}},{"$f":"((AA549*#REF!)+(#REF!*#REF!)+(#REF!*#REF!))/(#REF!+#REF!+#REF!)","v":{"$error":"#VALUE!"}},{"$f":"((AA549*#REF!)+(#REF!*#REF!)+(#REF!*#REF!))/(#REF!+#REF!+#REF!)","v":{"$error":"#VALUE!"}}]
[null,null,null,null,null,null,null,null,null,null,null,null,null,null,null,null,null,null,null,null,null,548,{"$error":"#VALUE!"},{"$f":"AVERAGE($W$3:W550)","v":{"$error":"#VALUE!"}},null,{"$error":"#VALUE!"},{"$error":"#VALUE!"},{"$f":"AVERAGE($AA$3:AA550)","v":{"$error":"#VALUE!"}},null,null,null,{"$f":"((AA550*#REF!)+(#REF!*#REF!)+(#REF!*#REF!))/(#REF!+#REF!+#REF!)","v":{"$error":"#VALUE!"}},{"$f":"((AA550*#REF!)+(#REF!*#REF!)+(#REF!*#REF!))/(#REF!+#REF!+#REF!)","v":{"$error":"#VALUE!"}},{"$f":"((AA550*#REF!)+(#REF!*#REF!)+(#REF!*#REF!))/(#REF!+#REF!+#REF!)","v":{"$error":"#VALUE!"}},{"$f":"((AA550*#REF!)+(#REF!*#REF!)+(#REF!*#REF!))/(#REF!+#REF!+#REF!)","v":{"$error":"#VALUE!"}},{"$f":"((AA550*#REF!)+(#REF!*#REF!)+(#REF!*#REF!))/(#REF!+#REF!+#REF!)","v":{"$error":"#VALUE!"}},{"$f":"((AA550*#REF!)+(#REF!*#REF!)+(#REF!*#REF!))/(#REF!+#REF!+#REF!)","v":{"$error":"#VALUE!"}},{"$f":"((AA550*#REF!)+(#REF!*#REF!)+(#REF!*#REF!))/(#REF!+#REF!+#REF!)","v":{"$error":"#VALUE!"}}]
[null,null,null,null,null,null,null,null,null,null,null,null,null,null,null,null,null,null,null,null,null,549,{"$error":"#VALUE!"},{"$f":"AVERAGE($W$3:W551)","v":{"$error":"#VALUE!"}},null,{"$error":"#VALUE!"},{"$error":"#VALUE!"},{"$f":"AVERAGE($AA$3:AA551)","v":{"$error":"#VALUE!"}},null,null,null,{"$f":"((AA551*#REF!)+(#REF!*#REF!)+(#REF!*#REF!))/(#REF!+#REF!+#REF!)","v":{"$error":"#VALUE!"}},{"$f":"((AA551*#REF!)+(#REF!*#REF!)+(#REF!*#REF!))/(#REF!+#REF!+#REF!)","v":{"$error":"#VALUE!"}},{"$f":"((AA551*#REF!)+(#REF!*#REF!)+(#REF!*#REF!))/(#REF!+#REF!+#REF!)","v":{"$error":"#VALUE!"}},{"$f":"((AA551*#REF!)+(#REF!*#REF!)+(#REF!*#REF!))/(#REF!+#REF!+#REF!)","v":{"$error":"#VALUE!"}},{"$f":"((AA551*#REF!)+(#REF!*#REF!)+(#REF!*#REF!))/(#REF!+#REF!+#REF!)","v":{"$error":"#VALUE!"}},{"$f":"((AA551*#REF!)+(#REF!*#REF!)+(#REF!*#REF!))/(#REF!+#REF!+#REF!)","v":{"$error":"#VALUE!"}},{"$f":"((AA551*#REF!)+(#REF!*#REF!)+(#REF!*#REF!))/(#REF!+#REF!+#REF!)","v":{"$error":"#VALUE!"}}]
[null,null,null,null,null,null,null,null,null,null,null,null,null,null,null,null,null,null,null,null,null,550,{"$error":"#VALUE!"},{"$f":"AVERAGE($W$3:W552)","v":{"$error":"#VALUE!"}},null,{"$error":"#VALUE!"},{"$error":"#VALUE!"},{"$f":"AVERAGE($AA$3:AA552)","v":{"$error":"#VALUE!"}},null,null,null,{"$f":"((AA552*#REF!)+(#REF!*#REF!)+(#REF!*#REF!))/(#REF!+#REF!+#REF!)","v":{"$error":"#VALUE!"}},{"$f":"((AA552*#REF!)+(#REF!*#REF!)+(#REF!*#REF!))/(#REF!+#REF!+#REF!)","v":{"$error":"#VALUE!"}},{"$f":"((AA552*#REF!)+(#REF!*#REF!)+(#REF!*#REF!))/(#REF!+#REF!+#REF!)","v":{"$error":"#VALUE!"}},{"$f":"((AA552*#REF!)+(#REF!*#REF!)+(#REF!*#REF!))/(#REF!+#REF!+#REF!)","v":{"$error":"#VALUE!"}},{"$f":"((AA552*#REF!)+(#REF!*#REF!)+(#REF!*#REF!))/(#REF!+#REF!+#REF!)","v":{"$error":"#VALUE!"}},{"$f":"((AA552*#REF!)+(#REF!*#REF!)+(#REF!*#REF!))/(#REF!+#REF!+#REF!)","v":{"$error":"#VALUE!"}},{"$f":"((AA552*#REF!)+(#REF!*#REF!)+(#REF!*#REF!))/(#REF!+#REF!+#REF!)","v":{"$error":"#VALUE!"}}]
[null,null,null,null,null,null,null,null,null,null,null,null,null,null,null,null,null,null,null,null,null,551,{"$error":"#VALUE!"},{"$f":"AVERAGE($W$3:W553)","v":{"$error":"#VALUE!"}},null,{"$error":"#VALUE!"},{"$error":"#VALUE!"},{"$f":"AVERAGE($AA$3:AA553)","v":{"$error":"#VALUE!"}},null,null,null,{"$f":"((AA553*#REF!)+(#REF!*#REF!)+(#REF!*#REF!))/(#REF!+#REF!+#REF!)","v":{"$error":"#VALUE!"}},{"$f":"((AA553*#REF!)+(#REF!*#REF!)+(#REF!*#REF!))/(#REF!+#REF!+#REF!)","v":{"$error":"#VALUE!"}},{"$f":"((AA553*#REF!)+(#REF!*#REF!)+(#REF!*#REF!))/(#REF!+#REF!+#REF!)","v":{"$error":"#VALUE!"}},{"$f":"((AA553*#REF!)+(#REF!*#REF!)+(#REF!*#REF!))/(#REF!+#REF!+#REF!)","v":{"$error":"#VALUE!"}},{"$f":"((AA553*#REF!)+(#REF!*#REF!)+(#REF!*#REF!))/(#REF!+#REF!+#REF!)","v":{"$error":"#VALUE!"}},{"$f":"((AA553*#REF!)+(#REF!*#REF!)+(#REF!*#REF!))/(#REF!+#REF!+#REF!)","v":{"$error":"#VALUE!"}},{"$f":"((AA553*#REF!)+(#REF!*#REF!)+(#REF!*#REF!))/(#REF!+#REF!+#REF!)","v":{"$error":"#VALUE!"}}]
[null,null,null,null,null,null,null,null,null,null,null,null,null,null,null,null,null,null,null,null,null,552,{"$error":"#VALUE!"},{"$f":"AVERAGE($W$3:W554)","v":{"$error":"#VALUE!"}},null,{"$error":"#VALUE!"},{"$error":"#VALUE!"},{"$f":"AVERAGE($AA$3:AA554)","v":{"$error":"#VALUE!"}},null,null,null,{"$f":"((AA554*#REF!)+(#REF!*#REF!)+(#REF!*#REF!))/(#REF!+#REF!+#REF!)","v":{"$error":"#VALUE!"}},{"$f":"((AA554*#REF!)+(#REF!*#REF!)+(#REF!*#REF!))/(#REF!+#REF!+#REF!)","v":{"$error":"#VALUE!"}},{"$f":"((AA554*#REF!)+(#REF!*#REF!)+(#REF!*#REF!))/(#REF!+#REF!+#REF!)","v":{"$error":"#VALUE!"}},{"$f":"((AA554*#REF!)+(#REF!*#REF!)+(#REF!*#REF!))/(#REF!+#REF!+#REF!)","v":{"$error":"#VALUE!"}},{"$f":"((AA554*#REF!)+(#REF!*#REF!)+(#REF!*#REF!))/(#REF!+#REF!+#REF!)","v":{"$error":"#VALUE!"}},{"$f":"((AA554*#REF!)+(#REF!*#REF!)+(#REF!*#REF!))/(#REF!+#REF!+#REF!)","v":{"$error":"#VALUE!"}},{"$f":"((AA554*#REF!)+(#REF!*#REF!)+(#REF!*#REF!))/(#REF!+#REF!+#REF!)","v":{"$error":"#VALUE!"}}]
[null,null,null,null,null,null,null,null,null,null,null,null,null,null,null,null,null,null,null,null,null,553,{"$error":"#VALUE!"},{"$f":"AVERAGE($W$3:W555)","v":{"$error":"#VALUE!"}},null,{"$error":"#VALUE!"},{"$error":"#VALUE!"},{"$f":"AVERAGE($AA$3:AA555)","v":{"$error":"#VALUE!"}},null,null,null,{"$f":"((AA555*#REF!)+(#REF!*#REF!)+(#REF!*#REF!))/(#REF!+#REF!+#REF!)","v":{"$error":"#VALUE!"}},{"$f":"((AA555*#REF!)+(#REF!*#REF!)+(#REF!*#REF!))/(#REF!+#REF!+#REF!)","v":{"$error":"#VALUE!"}},{"$f":"((AA555*#REF!)+(#REF!*#REF!)+(#REF!*#REF!))/(#REF!+#REF!+#REF!)","v":{"$error":"#VALUE!"}},{"$f":"((AA555*#REF!)+(#REF!*#REF!)+(#REF!*#REF!))/(#REF!+#REF!+#REF!)","v":{"$error":"#VALUE!"}},{"$f":"((AA555*#REF!)+(#REF!*#REF!)+(#REF!*#REF!))/(#REF!+#REF!+#REF!)","v":{"$error":"#VALUE!"}},{"$f":"((AA555*#REF!)+(#REF!*#REF!)+(#REF!*#REF!))/(#REF!+#REF!+#REF!)","v":{"$error":"#VALUE!"}},{"$f":"((AA555*#REF!)+(#REF!*#REF!)+(#REF!*#REF!))/(#REF!+#REF!+#REF!)","v":{"$error":"#VALUE!"}}]
[null,null,null,null,null,null,null,null,null,null,null,null,null,null,null,null,null,null,null,null,null,554,{"$error":"#VALUE!"},{"$f":"AVERAGE($W$3:W556)","v":{"$error":"#VALUE!"}},null,{"$error":"#VALUE!"},{"$error":"#VALUE!"},{"$f":"AVERAGE($AA$3:AA556)","v":{"$error":"#VALUE!"}},null,null,null,{"$f":"((AA556*#REF!)+(#REF!*#REF!)+(#REF!*#REF!))/(#REF!+#REF!+#REF!)","v":{"$error":"#VALUE!"}},{"$f":"((AA556*#REF!)+(#REF!*#REF!)+(#REF!*#REF!))/(#REF!+#REF!+#REF!)","v":{"$error":"#VALUE!"}},{"$f":"((AA556*#REF!)+(#REF!*#REF!)+(#REF!*#REF!))/(#REF!+#REF!+#REF!)","v":{"$error":"#VALUE!"}},{"$f":"((AA556*#REF!)+(#REF!*#REF!)+(#REF!*#REF!))/(#REF!+#REF!+#REF!)","v":{"$error":"#VALUE!"}},{"$f":"((AA556*#REF!)+(#REF!*#REF!)+(#REF!*#REF!))/(#REF!+#REF!+#REF!)","v":{"$error":"#VALUE!"}},{"$f":"((AA556*#REF!)+(#REF!*#REF!)+(#REF!*#REF!))/(#REF!+#REF!+#REF!)","v":{"$error":"#VALUE!"}},{"$f":"((AA556*#REF!)+(#REF!*#REF!)+(#REF!*#REF!))/(#REF!+#REF!+#REF!)","v":{"$error":"#VALUE!"}}]
[null,null,null,null,null,null,null,null,null,null,null,null,null,null,null,null,null,null,null,null,null,555,{"$error":"#VALUE!"},{"$f":"AVERAGE($W$3:W557)","v":{"$error":"#VALUE!"}},null,{"$error":"#VALUE!"},{"$error":"#VALUE!"},{"$f":"AVERAGE($AA$3:AA557)","v":{"$error":"#VALUE!"}},null,null,null,{"$f":"((AA557*#REF!)+(#REF!*#REF!)+(#REF!*#REF!))/(#REF!+#REF!+#REF!)","v":{"$error":"#VALUE!"}},{"$f":"((AA557*#REF!)+(#REF!*#REF!)+(#REF!*#REF!))/(#REF!+#REF!+#REF!)","v":{"$error":"#VALUE!"}},{"$f":"((AA557*#REF!)+(#REF!*#REF!)+(#REF!*#REF!))/(#REF!+#REF!+#REF!)","v":{"$error":"#VALUE!"}},{"$f":"((AA557*#REF!)+(#REF!*#REF!)+(#REF!*#REF!))/(#REF!+#REF!+#REF!)","v":{"$error":"#VALUE!"}},{"$f":"((AA557*#REF!)+(#REF!*#REF!)+(#REF!*#REF!))/(#REF!+#REF!+#REF!)","v":{"$error":"#VALUE!"}},{"$f":"((AA557*#REF!)+(#REF!*#REF!)+(#REF!*#REF!))/(#REF!+#REF!+#REF!)","v":{"$error":"#VALUE!"}},{"$f":"((AA557*#REF!)+(#REF!*#REF!)+(#REF!*#REF!))/(#REF!+#REF!+#REF!)","v":{"$error":"#VALUE!"}}]
[null,null,null,null,null,null,null,null,null,null,null,null,null,null,null,null,null,null,null,null,null,556,{"$error":"#VALUE!"},{"$f":"AVERAGE($W$3:W558)","v":{"$error":"#VALUE!"}},null,{"$error":"#VALUE!"},{"$error":"#VALUE!"},{"$f":"AVERAGE($AA$3:AA558)","v":{"$error":"#VALUE!"}},null,null,null,{"$f":"((AA558*#REF!)+(#REF!*#REF!)+(#REF!*#REF!))/(#REF!+#REF!+#REF!)","v":{"$error":"#VALUE!"}},{"$f":"((AA558*#REF!)+(#REF!*#REF!)+(#REF!*#REF!))/(#REF!+#REF!+#REF!)","v":{"$error":"#VALUE!"}},{"$f":"((AA558*#REF!)+(#REF!*#REF!)+(#REF!*#REF!))/(#REF!+#REF!+#REF!)","v":{"$error":"#VALUE!"}},{"$f":"((AA558*#REF!)+(#REF!*#REF!)+(#REF!*#REF!))/(#REF!+#REF!+#REF!)","v":{"$error":"#VALUE!"}},{"$f":"((AA558*#REF!)+(#REF!*#REF!)+(#REF!*#REF!))/(#REF!+#REF!+#REF!)","v":{"$error":"#VALUE!"}},{"$f":"((AA558*#REF!)+(#REF!*#REF!)+(#REF!*#REF!))/(#REF!+#REF!+#REF!)","v":{"$error":"#VALUE!"}},{"$f":"((AA558*#REF!)+(#REF!*#REF!)+(#REF!*#REF!))/(#REF!+#REF!+#REF!)","v":{"$error":"#VALUE!"}}]
[null,null,null,null,null,null,null,null,null,null,null,null,null,null,null,null,null,null,null,null,null,557,{"$error":"#VALUE!"},{"$f":"AVERAGE($W$3:W559)","v":{"$error":"#VALUE!"}},null,{"$error":"#VALUE!"},{"$error":"#VALUE!"},{"$f":"AVERAGE($AA$3:AA559)","v":{"$error":"#VALUE!"}},null,null,null,{"$f":"((AA559*#REF!)+(#REF!*#REF!)+(#REF!*#REF!))/(#REF!+#REF!+#REF!)","v":{"$error":"#VALUE!"}},{"$f":"((AA559*#REF!)+(#REF!*#REF!)+(#REF!*#REF!))/(#REF!+#REF!+#REF!)","v":{"$error":"#VALUE!"}},{"$f":"((AA559*#REF!)+(#REF!*#REF!)+(#REF!*#REF!))/(#REF!+#REF!+#REF!)","v":{"$error":"#VALUE!"}},{"$f":"((AA559*#REF!)+(#REF!*#REF!)+(#REF!*#REF!))/(#REF!+#REF!+#REF!)","v":{"$error":"#VALUE!"}},{"$f":"((AA559*#REF!)+(#REF!*#REF!)+(#REF!*#REF!))/(#REF!+#REF!+#REF!)","v":{"$error":"#VALUE!"}},{"$f":"((AA559*#REF!)+(#REF!*#REF!)+(#REF!*#REF!))/(#REF!+#REF!+#REF!)","v":{"$error":"#VALUE!"}},{"$f":"((AA559*#REF!)+(#REF!*#REF!)+(#REF!*#REF!))/(#REF!+#REF!+#REF!)","v":{"$error":"#VALUE!"}}]
[null,null,null,null,null,null,null,null,null,null,null,null,null,null,null,null,null,null,null,null,null,558,{"$error":"#VALUE!"},{"$f":"AVERAGE($W$3:W560)","v":{"$error":"#VALUE!"}},null,{"$error":"#VALUE!"},{"$error":"#VALUE!"},{"$f":"AVERAGE($AA$3:AA560)","v":{"$error":"#VALUE!"}},null,null,null,{"$f":"((AA560*#REF!)+(#REF!*#REF!)+(#REF!*#REF!))/(#REF!+#REF!+#REF!)","v":{"$error":"#VALUE!"}},{"$f":"((AA560*#REF!)+(#REF!*#REF!)+(#REF!*#REF!))/(#REF!+#REF!+#REF!)","v":{"$error":"#VALUE!"}},{"$f":"((AA560*#REF!)+(#REF!*#REF!)+(#REF!*#REF!))/(#REF!+#REF!+#REF!)","v":{"$error":"#VALUE!"}},{"$f":"((AA560*#REF!)+(#REF!*#REF!)+(#REF!*#REF!))/(#REF!+#REF!+#REF!)","v":{"$error":"#VALUE!"}},{"$f":"((AA560*#REF!)+(#REF!*#REF!)+(#REF!*#REF!))/(#REF!+#REF!+#REF!)","v":{"$error":"#VALUE!"}},{"$f":"((AA560*#REF!)+(#REF!*#REF!)+(#REF!*#REF!))/(#REF!+#REF!+#REF!)","v":{"$error":"#VALUE!"}},{"$f":"((AA560*#REF!)+(#REF!*#REF!)+(#REF!*#REF!))/(#REF!+#REF!+#REF!)","v":{"$error":"#VALUE!"}}]
[null,null,null,null,null,null,null,null,null,null,null,null,null,null,null,null,null,null,null,null,null,559,{"$error":"#VALUE!"},{"$f":"AVERAGE($W$3:W561)","v":{"$error":"#VALUE!"}},null,{"$error":"#VALUE!"},{"$error":"#VALUE!"},{"$f":"AVERAGE($AA$3:AA561)","v":{"$error":"#VALUE!"}},null,null,null,{"$f":"((AA561*#REF!)+(#REF!*#REF!)+(#REF!*#REF!))/(#REF!+#REF!+#REF!)","v":{"$error":"#VALUE!"}},{"$f":"((AA561*#REF!)+(#REF!*#REF!)+(#REF!*#REF!))/(#REF!+#REF!+#REF!)","v":{"$error":"#VALUE!"}},{"$f":"((AA561*#REF!)+(#REF!*#REF!)+(#REF!*#REF!))/(#REF!+#REF!+#REF!)","v":{"$error":"#VALUE!"}},{"$f":"((AA561*#REF!)+(#REF!*#REF!)+(#REF!*#REF!))/(#REF!+#REF!+#REF!)","v":{"$error":"#VALUE!"}},{"$f":"((AA561*#REF!)+(#REF!*#REF!)+(#REF!*#REF!))/(#REF!+#REF!+#REF!)","v":{"$error":"#VALUE!"}},{"$f":"((AA561*#REF!)+(#REF!*#REF!)+(#REF!*#REF!))/(#REF!+#REF!+#REF!)","v":{"$error":"#VALUE!"}},{"$f":"((AA561*#REF!)+(#REF!*#REF!)+(#REF!*#REF!))/(#REF!+#REF!+#REF!)","v":{"$error":"#VALUE!"}}]
[null,null,null,null,null,null,null,null,null,null,null,null,null,null,null,null,null,null,null,null,null,560,{"$error":"#VALUE!"},{"$f":"AVERAGE($W$3:W562)","v":{"$error":"#VALUE!"}},null,{"$error":"#VALUE!"},{"$error":"#VALUE!"},{"$f":"AVERAGE($AA$3:AA562)","v":{"$error":"#VALUE!"}},null,null,null,{"$f":"((AA562*#REF!)+(#REF!*#REF!)+(#REF!*#REF!))/(#REF!+#REF!+#REF!)","v":{"$error":"#VALUE!"}},{"$f":"((AA562*#REF!)+(#REF!*#REF!)+(#REF!*#REF!))/(#REF!+#REF!+#REF!)","v":{"$error":"#VALUE!"}},{"$f":"((AA562*#REF!)+(#REF!*#REF!)+(#REF!*#REF!))/(#REF!+#REF!+#REF!)","v":{"$error":"#VALUE!"}},{"$f":"((AA562*#REF!)+(#REF!*#REF!)+(#REF!*#REF!))/(#REF!+#REF!+#REF!)","v":{"$error":"#VALUE!"}},{"$f":"((AA562*#REF!)+(#REF!*#REF!)+(#REF!*#REF!))/(#REF!+#REF!+#REF!)","v":{"$error":"#VALUE!"}},{"$f":"((AA562*#REF!)+(#REF!*#REF!)+(#REF!*#REF!))/(#REF!+#REF!+#REF!)","v":{"$error":"#VALUE!"}},{"$f":"((AA562*#REF!)+(#REF!*#REF!)+(#REF!*#REF!))/(#REF!+#REF!+#REF!)","v":{"$error":"#VALUE!"}}]
[null,null,null,null,null,null,null,null,null,null,null,null,null,null,null,null,null,null,null,null,null,561,{"$error":"#VALUE!"},{"$f":"AVERAGE($W$3:W563)","v":{"$error":"#VALUE!"}},null,{"$error":"#VALUE!"},{"$error":"#VALUE!"},{"$f":"AVERAGE($AA$3:AA563)","v":{"$error":"#VALUE!"}},null,null,null,{"$f":"((AA563*#REF!)+(#REF!*#REF!)+(#REF!*#REF!))/(#REF!+#REF!+#REF!)","v":{"$error":"#VALUE!"}},{"$f":"((AA563*#REF!)+(#REF!*#REF!)+(#REF!*#REF!))/(#REF!+#REF!+#REF!)","v":{"$error":"#VALUE!"}},{"$f":"((AA563*#REF!)+(#REF!*#REF!)+(#REF!*#REF!))/(#REF!+#REF!+#REF!)","v":{"$error":"#VALUE!"}},{"$f":"((AA563*#REF!)+(#REF!*#REF!)+(#REF!*#REF!))/(#REF!+#REF!+#REF!)","v":{"$error":"#VALUE!"}},{"$f":"((AA563*#REF!)+(#REF!*#REF!)+(#REF!*#REF!))/(#REF!+#REF!+#REF!)","v":{"$error":"#VALUE!"}},{"$f":"((AA563*#REF!)+(#REF!*#REF!)+(#REF!*#REF!))/(#REF!+#REF!+#REF!)","v":{"$error":"#VALUE!"}},{"$f":"((AA563*#REF!)+(#REF!*#REF!)+(#REF!*#REF!))/(#REF!+#REF!+#REF!)","v":{"$error":"#VALUE!"}}]
[null,null,null,null,null,null,null,null,null,null,null,null,null,null,null,null,null,null,null,null,null,562,{"$error":"#VALUE!"},{"$f":"AVERAGE($W$3:W564)","v":{"$error":"#VALUE!"}},null,{"$error":"#VALUE!"},{"$error":"#VALUE!"},{"$f":"AVERAGE($AA$3:AA564)","v":{"$error":"#VALUE!"}},null,null,null,{"$f":"((AA564*#REF!)+(#REF!*#REF!)+(#REF!*#REF!))/(#REF!+#REF!+#REF!)","v":{"$error":"#VALUE!"}},{"$f":"((AA564*#REF!)+(#REF!*#REF!)+(#REF!*#REF!))/(#REF!+#REF!+#REF!)","v":{"$error":"#VALUE!"}},{"$f":"((AA564*#REF!)+(#REF!*#REF!)+(#REF!*#REF!))/(#REF!+#REF!+#REF!)","v":{"$error":"#VALUE!"}},{"$f":"((AA564*#REF!)+(#REF!*#REF!)+(#REF!*#REF!))/(#REF!+#REF!+#REF!)","v":{"$error":"#VALUE!"}},{"$f":"((AA564*#REF!)+(#REF!*#REF!)+(#REF!*#REF!))/(#REF!+#REF!+#REF!)","v":{"$error":"#VALUE!"}},{"$f":"((AA564*#REF!)+(#REF!*#REF!)+(#REF!*#REF!))/(#REF!+#REF!+#REF!)","v":{"$error":"#VALUE!"}},{"$f":"((AA564*#REF!)+(#REF!*#REF!)+(#REF!*#REF!))/(#REF!+#REF!+#REF!)","v":{"$error":"#VALUE!"}}]
[null,null,null,null,null,null,null,null,null,null,null,null,null,null,null,null,null,null,null,null,null,563,{"$error":"#VALUE!"},{"$f":"AVERAGE($W$3:W565)","v":{"$error":"#VALUE!"}},null,{"$error":"#VALUE!"},{"$error":"#VALUE!"},{"$f":"AVERAGE($AA$3:AA565)","v":{"$error":"#VALUE!"}},null,null,null,{"$f":"((AA565*#REF!)+(#REF!*#REF!)+(#REF!*#REF!))/(#REF!+#REF!+#REF!)","v":{"$error":"#VALUE!"}},{"$f":"((AA565*#REF!)+(#REF!*#REF!)+(#REF!*#REF!))/(#REF!+#REF!+#REF!)","v":{"$error":"#VALUE!"}},{"$f":"((AA565*#REF!)+(#REF!*#REF!)+(#REF!*#REF!))/(#REF!+#REF!+#REF!)","v":{"$error":"#VALUE!"}},{"$f":"((AA565*#REF!)+(#REF!*#REF!)+(#REF!*#REF!))/(#REF!+#REF!+#REF!)","v":{"$error":"#VALUE!"}},{"$f":"((AA565*#REF!)+(#REF!*#REF!)+(#REF!*#REF!))/(#REF!+#REF!+#REF!)","v":{"$error":"#VALUE!"}},{"$f":"((AA565*#REF!)+(#REF!*#REF!)+(#REF!*#REF!))/(#REF!+#REF!+#REF!)","v":{"$error":"#VALUE!"}},{"$f":"((AA565*#REF!)+(#REF!*#REF!)+(#REF!*#REF!))/(#REF!+#REF!+#REF!)","v":{"$error":"#VALUE!"}}]
[null,null,null,null,null,null,null,null,null,null,null,null,null,null,null,null,null,null,null,null,null,564,{"$error":"#VALUE!"},{"$f":"AVERAGE($W$3:W566)","v":{"$error":"#VALUE!"}},null,{"$error":"#VALUE!"},{"$error":"#VALUE!"},{"$f":"AVERAGE($AA$3:AA566)","v":{"$error":"#VALUE!"}},null,null,null,{"$f":"((AA566*#REF!)+(#REF!*#REF!)+(#REF!*#REF!))/(#REF!+#REF!+#REF!)","v":{"$error":"#VALUE!"}},{"$f":"((AA566*#REF!)+(#REF!*#REF!)+(#REF!*#REF!))/(#REF!+#REF!+#REF!)","v":{"$error":"#VALUE!"}},{"$f":"((AA566*#REF!)+(#REF!*#REF!)+(#REF!*#REF!))/(#REF!+#REF!+#REF!)","v":{"$error":"#VALUE!"}},{"$f":"((AA566*#REF!)+(#REF!*#REF!)+(#REF!*#REF!))/(#REF!+#REF!+#REF!)","v":{"$error":"#VALUE!"}},{"$f":"((AA566*#REF!)+(#REF!*#REF!)+(#REF!*#REF!))/(#REF!+#REF!+#REF!)","v":{"$error":"#VALUE!"}},{"$f":"((AA566*#REF!)+(#REF!*#REF!)+(#REF!*#REF!))/(#REF!+#REF!+#REF!)","v":{"$error":"#VALUE!"}},{"$f":"((AA566*#REF!)+(#REF!*#REF!)+(#REF!*#REF!))/(#REF!+#REF!+#REF!)","v":{"$error":"#VALUE!"}}]
[null,null,null,null,null,null,null,null,null,null,null,null,null,null,null,null,null,null,null,null,null,565,{"$error":"#VALUE!"},{"$f":"AVERAGE($W$3:W567)","v":{"$error":"#VALUE!"}},null,{"$error":"#VALUE!"},{"$error":"#VALUE!"},{"$f":"AVERAGE($AA$3:AA567)","v":{"$error":"#VALUE!"}},null,null,null,{"$f":"((AA567*#REF!)+(#REF!*#REF!)+(#REF!*#REF!))/(#REF!+#REF!+#REF!)","v":{"$error":"#VALUE!"}},{"$f":"((AA567*#REF!)+(#REF!*#REF!)+(#REF!*#REF!))/(#REF!+#REF!+#REF!)","v":{"$error":"#VALUE!"}},{"$f":"((AA567*#REF!)+(#REF!*#REF!)+(#REF!*#REF!))/(#REF!+#REF!+#REF!)","v":{"$error":"#VALUE!"}},{"$f":"((AA567*#REF!)+(#REF!*#REF!)+(#REF!*#REF!))/(#REF!+#REF!+#REF!)","v":{"$error":"#VALUE!"}},{"$f":"((AA567*#REF!)+(#REF!*#REF!)+(#REF!*#REF!))/(#REF!+#REF!+#REF!)","v":{"$error":"#VALUE!"}},{"$f":"((AA567*#REF!)+(#REF!*#REF!)+(#REF!*#REF!))/(#REF!+#REF!+#REF!)","v":{"$error":"#VALUE!"}},{"$f":"((AA567*#REF!)+(#REF!*#REF!)+(#REF!*#REF!))/(#REF!+#REF!+#REF!)","v":{"$error":"#VALUE!"}}]
[null,null,null,null,null,null,null,null,null,null,null,null,null,null,null,null,null,null,null,null,null,566,{"$error":"#VALUE!"},{"$f":"AVERAGE($W$3:W568)","v":{"$error":"#VALUE!"}},null,{"$error":"#VALUE!"},{"$error":"#VALUE!"},{"$f":"AVERAGE($AA$3:AA568)","v":{"$error":"#VALUE!"}},null,null,null,{"$f":"((AA568*#REF!)+(#REF!*#REF!)+(#REF!*#REF!))/(#REF!+#REF!+#REF!)","v":{"$error":"#VALUE!"}},{"$f":"((AA568*#REF!)+(#REF!*#REF!)+(#REF!*#REF!))/(#REF!+#REF!+#REF!)","v":{"$error":"#VALUE!"}},{"$f":"((AA568*#REF!)+(#REF!*#REF!)+(#REF!*#REF!))/(#REF!+#REF!+#REF!)","v":{"$error":"#VALUE!"}},{"$f":"((AA568*#REF!)+(#REF!*#REF!)+(#REF!*#REF!))/(#REF!+#REF!+#REF!)","v":{"$error":"#VALUE!"}},{"$f":"((AA568*#REF!)+(#REF!*#REF!)+(#REF!*#REF!))/(#REF!+#REF!+#REF!)","v":{"$error":"#VALUE!"}},{"$f":"((AA568*#REF!)+(#REF!*#REF!)+(#REF!*#REF!))/(#REF!+#REF!+#REF!)","v":{"$error":"#VALUE!"}},{"$f":"((AA568*#REF!)+(#REF!*#REF!)+(#REF!*#REF!))/(#REF!+#REF!+#REF!)","v":{"$error":"#VALUE!"}}]
[null,null,null,null,null,null,null,null,null,null,null,null,null,null,null,null,null,null,null,null,null,567,{"$error":"#VALUE!"},{"$f":"AVERAGE($W$3:W569)","v":{"$error":"#VALUE!"}},null,{"$error":"#VALUE!"},{"$error":"#VALUE!"},{"$f":"AVERAGE($AA$3:AA569)","v":{"$error":"#VALUE!"}},null,null,null,{"$f":"((AA569*#REF!)+(#REF!*#REF!)+(#REF!*#REF!))/(#REF!+#REF!+#REF!)","v":{"$error":"#VALUE!"}},{"$f":"((AA569*#REF!)+(#REF!*#REF!)+(#REF!*#REF!))/(#REF!+#REF!+#REF!)","v":{"$error":"#VALUE!"}},{"$f":"((AA569*#REF!)+(#REF!*#REF!)+(#REF!*#REF!))/(#REF!+#REF!+#REF!)","v":{"$error":"#VALUE!"}},{"$f":"((AA569*#REF!)+(#REF!*#REF!)+(#REF!*#REF!))/(#REF!+#REF!+#REF!)","v":{"$error":"#VALUE!"}},{"$f":"((AA569*#REF!)+(#REF!*#REF!)+(#REF!*#REF!))/(#REF!+#REF!+#REF!)","v":{"$error":"#VALUE!"}},{"$f":"((AA569*#REF!)+(#REF!*#REF!)+(#REF!*#REF!))/(#REF!+#REF!+#REF!)","v":{"$error":"#VALUE!"}},{"$f":"((AA569*#REF!)+(#REF!*#REF!)+(#REF!*#REF!))/(#REF!+#REF!+#REF!)","v":{"$error":"#VALUE!"}}]
[null,null,null,null,null,null,null,null,null,null,null,null,null,null,null,null,null,null,null,null,null,568,{"$error":"#VALUE!"},{"$f":"AVERAGE($W$3:W570)","v":{"$error":"#VALUE!"}},null,{"$error":"#VALUE!"},{"$error":"#VALUE!"},{"$f":"AVERAGE($AA$3:AA570)","v":{"$error":"#VALUE!"}},null,null,null,{"$f":"((AA570*#REF!)+(#REF!*#REF!)+(#REF!*#REF!))/(#REF!+#REF!+#REF!)","v":{"$error":"#VALUE!"}},{"$f":"((AA570*#REF!)+(#REF!*#REF!)+(#REF!*#REF!))/(#REF!+#REF!+#REF!)","v":{"$error":"#VALUE!"}},{"$f":"((AA570*#REF!)+(#REF!*#REF!)+(#REF!*#REF!))/(#REF!+#REF!+#REF!)","v":{"$error":"#VALUE!"}},{"$f":"((AA570*#REF!)+(#REF!*#REF!)+(#REF!*#REF!))/(#REF!+#REF!+#REF!)","v":{"$error":"#VALUE!"}},{"$f":"((AA570*#REF!)+(#REF!*#REF!)+(#REF!*#REF!))/(#REF!+#REF!+#REF!)","v":{"$error":"#VALUE!"}},{"$f":"((AA570*#REF!)+(#REF!*#REF!)+(#REF!*#REF!))/(#REF!+#REF!+#REF!)","v":{"$error":"#VALUE!"}},{"$f":"((AA570*#REF!)+(#REF!*#REF!)+(#REF!*#REF!))/(#REF!+#REF!+#REF!)","v":{"$error":"#VALUE!"}}]
[null,null,null,null,null,null,null,null,null,null,null,null,null,null,null,null,null,null,null,null,null,569,{"$error":"#VALUE!"},{"$f":"AVERAGE($W$3:W571)","v":{"$error":"#VALUE!"}},null,{"$error":"#VALUE!"},{"$error":"#VALUE!"},{"$f":"AVERAGE($AA$3:AA571)","v":{"$error":"#VALUE!"}},null,null,null,{"$f":"((AA571*#REF!)+(#REF!*#REF!)+(#REF!*#REF!))/(#REF!+#REF!+#REF!)","v":{"$error":"#VALUE!"}},{"$f":"((AA571*#REF!)+(#REF!*#REF!)+(#REF!*#REF!))/(#REF!+#REF!+#REF!)","v":{"$error":"#VALUE!"}},{"$f":"((AA571*#REF!)+(#REF!*#REF!)+(#REF!*#REF!))/(#REF!+#REF!+#REF!)","v":{"$error":"#VALUE!"}},{"$f":"((AA571*#REF!)+(#REF!*#REF!)+(#REF!*#REF!))/(#REF!+#REF!+#REF!)","v":{"$error":"#VALUE!"}},{"$f":"((AA571*#REF!)+(#REF!*#REF!)+(#REF!*#REF!))/(#REF!+#REF!+#REF!)","v":{"$error":"#VALUE!"}},{"$f":"((AA571*#REF!)+(#REF!*#REF!)+(#REF!*#REF!))/(#REF!+#REF!+#REF!)","v":{"$error":"#VALUE!"}},{"$f":"((AA571*#REF!)+(#REF!*#REF!)+(#REF!*#REF!))/(#REF!+#REF!+#REF!)","v":{"$error":"#VALUE!"}}]
[null,null,null,null,null,null,null,null,null,null,null,null,null,null,null,null,null,null,null,null,null,570,{"$error":"#VALUE!"},{"$f":"AVERAGE($W$3:W572)","v":{"$error":"#VALUE!"}},null,{"$error":"#VALUE!"},{"$error":"#VALUE!"},{"$f":"AVERAGE($AA$3:AA572)","v":{"$error":"#VALUE!"}},null,null,null,{"$f":"((AA572*#REF!)+(#REF!*#REF!)+(#REF!*#REF!))/(#REF!+#REF!+#REF!)","v":{"$error":"#VALUE!"}},{"$f":"((AA572*#REF!)+(#REF!*#REF!)+(#REF!*#REF!))/(#REF!+#REF!+#REF!)","v":{"$error":"#VALUE!"}},{"$f":"((AA572*#REF!)+(#REF!*#REF!)+(#REF!*#REF!))/(#REF!+#REF!+#REF!)","v":{"$error":"#VALUE!"}},{"$f":"((AA572*#REF!)+(#REF!*#REF!)+(#REF!*#REF!))/(#REF!+#REF!+#REF!)","v":{"$error":"#VALUE!"}},{"$f":"((AA572*#REF!)+(#REF!*#REF!)+(#REF!*#REF!))/(#REF!+#REF!+#REF!)","v":{"$error":"#VALUE!"}},{"$f":"((AA572*#REF!)+(#REF!*#REF!)+(#REF!*#REF!))/(#REF!+#REF!+#REF!)","v":{"$error":"#VALUE!"}},{"$f":"((AA572*#REF!)+(#REF!*#REF!)+(#REF!*#REF!))/(#REF!+#REF!+#REF!)","v":{"$error":"#VALUE!"}}]
[null,null,null,null,null,null,null,null,null,null,null,null,null,null,null,null,null,null,null,null,null,571,{"$error":"#VALUE!"},{"$f":"AVERAGE($W$3:W573)","v":{"$error":"#VALUE!"}},null,{"$error":"#VALUE!"},{"$error":"#VALUE!"},{"$f":"AVERAGE($AA$3:AA573)","v":{"$error":"#VALUE!"}},null,null,null,{"$f":"((AA573*#REF!)+(#REF!*#REF!)+(#REF!*#REF!))/(#REF!+#REF!+#REF!)","v":{"$error":"#VALUE!"}},{"$f":"((AA573*#REF!)+(#REF!*#REF!)+(#REF!*#REF!))/(#REF!+#REF!+#REF!)","v":{"$error":"#VALUE!"}},{"$f":"((AA573*#REF!)+(#REF!*#REF!)+(#REF!*#REF!))/(#REF!+#REF!+#REF!)","v":{"$error":"#VALUE!"}},{"$f":"((AA573*#REF!)+(#REF!*#REF!)+(#REF!*#REF!))/(#REF!+#REF!+#REF!)","v":{"$error":"#VALUE!"}},{"$f":"((AA573*#REF!)+(#REF!*#REF!)+(#REF!*#REF!))/(#REF!+#REF!+#REF!)","v":{"$error":"#VALUE!"}},{"$f":"((AA573*#REF!)+(#REF!*#REF!)+(#REF!*#REF!))/(#REF!+#REF!+#REF!)","v":{"$error":"#VALUE!"}},{"$f":"((AA573*#REF!)+(#REF!*#REF!)+(#REF!*#REF!))/(#REF!+#REF!+#REF!)","v":{"$error":"#VALUE!"}}]
[null,null,null,null,null,null,null,null,null,null,null,null,null,null,null,null,null,null,null,null,null,572,{"$f":"IF(($M$7*LN(V574))+$M$8+$M$10>0,($M$7*LN(V574))+$M$8+$M$10,0)","v":{"$error":"#VALUE!"}},{"$f":"AVERAGE($W$3:W574)","v":{"$error":"#VALUE!"}},null,{"$error":"#VALUE!"},{"$error":"#VALUE!"},{"$f":"AVERAGE($AA$3:AA574)","v":{"$error":"#VALUE!"}},null,null,null,{"$f":"((AA574*#REF!)+(#REF!*#REF!)+(#REF!*#REF!))/(#REF!+#REF!+#REF!)","v":{"$error":"#VALUE!"}},{"$f":"((AA574*#REF!)+(#REF!*#REF!)+(#REF!*#REF!))/(#REF!+#REF!+#REF!)","v":{"$error":"#VALUE!"}},{"$f":"((AA574*#REF!)+(#REF!*#REF!)+(#REF!*#REF!))/(#REF!+#REF!+#REF!)","v":{"$error":"#VALUE!"}},{"$f":"((AA574*#REF!)+(#REF!*#REF!)+(#REF!*#REF!))/(#REF!+#REF!+#REF!)","v":{"$error":"#VALUE!"}},{"$f":"((AA574*#REF!)+(#REF!*#REF!)+(#REF!*#REF!))/(#REF!+#REF!+#REF!)","v":{"$error":"#VALUE!"}},{"$f":"((AA574*#REF!)+(#REF!*#REF!)+(#REF!*#REF!))/(#REF!+#REF!+#REF!)","v":{"$error":"#VALUE!"}},{"$f":"((AA574*#REF!)+(#REF!*#REF!)+(#REF!*#REF!))/(#REF!+#REF!+#REF!)","v":{"$error":"#VALUE!"}}]
[null,null,null,null,null,null,null,null,null,null,null,null,null,null,null,null,null,null,null,null,null,573,{"$error":"#VALUE!"},{"$f":"AVERAGE($W$3:W575)","v":{"$error":"#VALUE!"}},null,{"$error":"#VALUE!"},{"$error":"#VALUE!"},{"$f":"AVERAGE($AA$3:AA575)","v":{"$error":"#VALUE!"}},null,null,null,{"$f":"((AA575*#REF!)+(#REF!*#REF!)+(#REF!*#REF!))/(#REF!+#REF!+#REF!)","v":{"$error":"#VALUE!"}},{"$f":"((AA575*#REF!)+(#REF!*#REF!)+(#REF!*#REF!))/(#REF!+#REF!+#REF!)","v":{"$error":"#VALUE!"}},{"$f":"((AA575*#REF!)+(#REF!*#REF!)+(#REF!*#REF!))/(#REF!+#REF!+#REF!)","v":{"$error":"#VALUE!"}},{"$f":"((AA575*#REF!)+(#REF!*#REF!)+(#REF!*#REF!))/(#REF!+#REF!+#REF!)","v":{"$error":"#VALUE!"}},{"$f":"((AA575*#REF!)+(#REF!*#REF!)+(#REF!*#REF!))/(#REF!+#REF!+#REF!)","v":{"$error":"#VALUE!"}},{"$f":"((AA575*#REF!)+(#REF!*#REF!)+(#REF!*#REF!))/(#REF!+#REF!+#REF!)","v":{"$error":"#VALUE!"}},{"$f":"((AA575*#REF!)+(#REF!*#REF!)+(#REF!*#REF!))/(#REF!+#REF!+#REF!)","v":{"$error":"#VALUE!"}}]
[null,null,null,null,null,null,null,null,null,null,null,null,null,null,null,null,null,null,null,null,null,574,{"$error":"#VALUE!"},{"$f":"AVERAGE($W$3:W576)","v":{"$error":"#VALUE!"}},null,{"$error":"#VALUE!"},{"$error":"#VALUE!"},{"$f":"AVERAGE($AA$3:AA576)","v":{"$error":"#VALUE!"}},null,null,null,{"$f":"((AA576*#REF!)+(#REF!*#REF!)+(#REF!*#REF!))/(#REF!+#REF!+#REF!)","v":{"$error":"#VALUE!"}},{"$f":"((AA576*#REF!)+(#REF!*#REF!)+(#REF!*#REF!))/(#REF!+#REF!+#REF!)","v":{"$error":"#VALUE!"}},{"$f":"((AA576*#REF!)+(#REF!*#REF!)+(#REF!*#REF!))/(#REF!+#REF!+#REF!)","v":{"$error":"#VALUE!"}},{"$f":"((AA576*#REF!)+(#REF!*#REF!)+(#REF!*#REF!))/(#REF!+#REF!+#REF!)","v":{"$error":"#VALUE!"}},{"$f":"((AA576*#REF!)+(#REF!*#REF!)+(#REF!*#REF!))/(#REF!+#REF!+#REF!)","v":{"$error":"#VALUE!"}},{"$f":"((AA576*#REF!)+(#REF!*#REF!)+(#REF!*#REF!))/(#REF!+#REF!+#REF!)","v":{"$error":"#VALUE!"}},{"$f":"((AA576*#REF!)+(#REF!*#REF!)+(#REF!*#REF!))/(#REF!+#REF!+#REF!)","v":{"$error":"#VALUE!"}}]
[null,null,null,null,null,null,null,null,null,null,null,null,null,null,null,null,null,null,null,null,null,575,{"$error":"#VALUE!"},{"$f":"AVERAGE($W$3:W577)","v":{"$error":"#VALUE!"}},null,{"$error":"#VALUE!"},{"$error":"#VALUE!"},{"$f":"AVERAGE($AA$3:AA577)","v":{"$error":"#VALUE!"}},null,null,null,{"$f":"((AA577*#REF!)+(#REF!*#REF!)+(#REF!*#REF!))/(#REF!+#REF!+#REF!)","v":{"$error":"#VALUE!"}},{"$f":"((AA577*#REF!)+(#REF!*#REF!)+(#REF!*#REF!))/(#REF!+#REF!+#REF!)","v":{"$error":"#VALUE!"}},{"$f":"((AA577*#REF!)+(#REF!*#REF!)+(#REF!*#REF!))/(#REF!+#REF!+#REF!)","v":{"$error":"#VALUE!"}},{"$f":"((AA577*#REF!)+(#REF!*#REF!)+(#REF!*#REF!))/(#REF!+#REF!+#REF!)","v":{"$error":"#VALUE!"}},{"$f":"((AA577*#REF!)+(#REF!*#REF!)+(#REF!*#REF!))/(#REF!+#REF!+#REF!)","v":{"$error":"#VALUE!"}},{"$f":"((AA577*#REF!)+(#REF!*#REF!)+(#REF!*#REF!))/(#REF!+#REF!+#REF!)","v":{"$error":"#VALUE!"}},{"$f":"((AA577*#REF!)+(#REF!*#REF!)+(#REF!*#REF!))/(#REF!+#REF!+#REF!)","v":{"$error":"#VALUE!"}}]
[null,null,null,null,null,null,null,null,null,null,null,null,null,null,null,null,null,null,null,null,null,576,{"$error":"#VALUE!"},{"$f":"AVERAGE($W$3:W578)","v":{"$error":"#VALUE!"}},null,{"$error":"#VALUE!"},{"$error":"#VALUE!"},{"$f":"AVERAGE($AA$3:AA578)","v":{"$error":"#VALUE!"}},null,null,null,{"$f":"((AA578*#REF!)+(#REF!*#REF!)+(#REF!*#REF!))/(#REF!+#REF!+#REF!)","v":{"$error":"#VALUE!"}},{"$f":"((AA578*#REF!)+(#REF!*#REF!)+(#REF!*#REF!))/(#REF!+#REF!+#REF!)","v":{"$error":"#VALUE!"}},{"$f":"((AA578*#REF!)+(#REF!*#REF!)+(#REF!*#REF!))/(#REF!+#REF!+#REF!)","v":{"$error":"#VALUE!"}},{"$f":"((AA578*#REF!)+(#REF!*#REF!)+(#REF!*#REF!))/(#REF!+#REF!+#REF!)","v":{"$error":"#VALUE!"}},{"$f":"((AA578*#REF!)+(#REF!*#REF!)+(#REF!*#REF!))/(#REF!+#REF!+#REF!)","v":{"$error":"#VALUE!"}},{"$f":"((AA578*#REF!)+(#REF!*#REF!)+(#REF!*#REF!))/(#REF!+#REF!+#REF!)","v":{"$error":"#VALUE!"}},{"$f":"((AA578*#REF!)+(#REF!*#REF!)+(#REF!*#REF!))/(#REF!+#REF!+#REF!)","v":{"$error":"#VALUE!"}}]
[null,null,null,null,null,null,null,null,null,null,null,null,null,null,null,null,null,null,null,null,null,577,{"$error":"#VALUE!"},{"$f":"AVERAGE($W$3:W579)","v":{"$error":"#VALUE!"}},null,{"$error":"#VALUE!"},{"$error":"#VALUE!"},{"$f":"AVERAGE($AA$3:AA579)","v":{"$error":"#VALUE!"}},null,null,null,{"$f":"((AA579*#REF!)+(#REF!*#REF!)+(#REF!*#REF!))/(#REF!+#REF!+#REF!)","v":{"$error":"#VALUE!"}},{"$f":"((AA579*#REF!)+(#REF!*#REF!)+(#REF!*#REF!))/(#REF!+#REF!+#REF!)","v":{"$error":"#VALUE!"}},{"$f":"((AA579*#REF!)+(#REF!*#REF!)+(#REF!*#REF!))/(#REF!+#REF!+#REF!)","v":{"$error":"#VALUE!"}},{"$f":"((AA579*#REF!)+(#REF!*#REF!)+(#REF!*#REF!))/(#REF!+#REF!+#REF!)","v":{"$error":"#VALUE!"}},{"$f":"((AA579*#REF!)+(#REF!*#REF!)+(#REF!*#REF!))/(#REF!+#REF!+#REF!)","v":{"$error":"#VALUE!"}},{"$f":"((AA579*#REF!)+(#REF!*#REF!)+(#REF!*#REF!))/(#REF!+#REF!+#REF!)","v":{"$error":"#VALUE!"}},{"$f":"((AA579*#REF!)+(#REF!*#REF!)+(#REF!*#REF!))/(#REF!+#REF!+#REF!)","v":{"$error":"#VALUE!"}}]
[null,null,null,null,null,null,null,null,null,null,null,null,null,null,null,null,null,null,null,null,null,578,{"$error":"#VALUE!"},{"$f":"AVERAGE($W$3:W580)","v":{"$error":"#VALUE!"}},null,{"$f":"$M$2+W580","v":{"$error":"#VALUE!"}},{"$f":"(Z580*(9/5))+32","v":{"$error":"#VALUE!"}},{"$f":"AVERAGE($AA$3:AA580)","v":{"$error":"#VALUE!"}},null,null,null,{"$f":"((AA580*#REF!)+(#REF!*#REF!)+(#REF!*#REF!))/(#REF!+#REF!+#REF!)","v":{"$error":"#VALUE!"}},{"$f":"((AA580*#REF!)+(#REF!*#REF!)+(#REF!*#REF!))/(#REF!+#REF!+#REF!)","v":{"$error":"#VALUE!"}},{"$f":"((AA580*#REF!)+(#REF!*#REF!)+(#REF!*#REF!))/(#REF!+#REF!+#REF!)","v":{"$error":"#VALUE!"}},{"$f":"((AA580*#REF!)+(#REF!*#REF!)+(#REF!*#REF!))/(#REF!+#REF!+#REF!)","v":{"$error":"#VALUE!"}},{"$f":"((AA580*#REF!)+(#REF!*#REF!)+(#REF!*#REF!))/(#REF!+#REF!+#REF!)","v":{"$error":"#VALUE!"}},{"$f":"((AA580*#REF!)+(#REF!*#REF!)+(#REF!*#REF!))/(#REF!+#REF!+#REF!)","v":{"$error":"#VALUE!"}},{"$f":"((AA580*#REF!)+(#REF!*#REF!)+(#REF!*#REF!))/(#REF!+#REF!+#REF!)","v":{"$error":"#VALUE!"}}]
[null,null,null,null,null,null,null,null,null,null,null,null,null,null,null,null,null,null,null,null,null,579,{"$error":"#VALUE!"},{"$f":"AVERAGE($W$3:W581)","v":{"$error":"#VALUE!"}},null,{"$error":"#VALUE!"},{"$error":"#VALUE!"},{"$f":"AVERAGE($AA$3:AA581)","v":{"$error":"#VALUE!"}},null,null,null,{"$f":"((AA581*#REF!)+(#REF!*#REF!)+(#REF!*#REF!))/(#REF!+#REF!+#REF!)","v":{"$error":"#VALUE!"}},{"$f":"((AA581*#REF!)+(#REF!*#REF!)+(#REF!*#REF!))/(#REF!+#REF!+#REF!)","v":{"$error":"#VALUE!"}},{"$f":"((AA581*#REF!)+(#REF!*#REF!)+(#REF!*#REF!))/(#REF!+#REF!+#REF!)","v":{"$error":"#VALUE!"}},{"$f":"((AA581*#REF!)+(#REF!*#REF!)+(#REF!*#REF!))/(#REF!+#REF!+#REF!)","v":{"$error":"#VALUE!"}},{"$f":"((AA581*#REF!)+(#REF!*#REF!)+(#REF!*#REF!))/(#REF!+#REF!+#REF!)","v":{"$error":"#VALUE!"}},{"$f":"((AA581*#REF!)+(#REF!*#REF!)+(#REF!*#REF!))/(#REF!+#REF!+#REF!)","v":{"$error":"#VALUE!"}},{"$f":"((AA581*#REF!)+(#REF!*#REF!)+(#REF!*#REF!))/(#REF!+#REF!+#REF!)","v":{"$error":"#VALUE!"}}]
[null,null,null,null,null,null,null,null,null,null,null,null,null,null,null,null,null,null,null,null,null,580,{"$error":"#VALUE!"},{"$f":"AVERAGE($W$3:W582)","v":{"$error":"#VALUE!"}},null,{"$error":"#VALUE!"},{"$error":"#VALUE!"},{"$f":"AVERAGE($AA$3:AA582)","v":{"$error":"#VALUE!"}},null,null,null,{"$f":"((AA582*#REF!)+(#REF!*#REF!)+(#REF!*#REF!))/(#REF!+#REF!+#REF!)","v":{"$error":"#VALUE!"}},{"$f":"((AA582*#REF!)+(#REF!*#REF!)+(#REF!*#REF!))/(#REF!+#REF!+#REF!)","v":{"$error":"#VALUE!"}},{"$f":"((AA582*#REF!)+(#REF!*#REF!)+(#REF!*#REF!))/(#REF!+#REF!+#REF!)","v":{"$error":"#VALUE!"}},{"$f":"((AA582*#REF!)+(#REF!*#REF!)+(#REF!*#REF!))/(#REF!+#REF!+#REF!)","v":{"$error":"#VALUE!"}},{"$f":"((AA582*#REF!)+(#REF!*#REF!)+(#REF!*#REF!))/(#REF!+#REF!+#REF!)","v":{"$error":"#VALUE!"}},{"$f":"((AA582*#REF!)+(#REF!*#REF!)+(#REF!*#REF!))/(#REF!+#REF!+#REF!)","v":{"$error":"#VALUE!"}},{"$f":"((AA582*#REF!)+(#REF!*#REF!)+(#REF!*#REF!))/(#REF!+#REF!+#REF!)","v":{"$error":"#VALUE!"}}]
[null,null,null,null,null,null,null,null,null,null,null,null,null,null,null,null,null,null,null,null,null,581,{"$error":"#VALUE!"},{"$f":"AVERAGE($W$3:W583)","v":{"$error":"#VALUE!"}},null,{"$error":"#VALUE!"},{"$error":"#VALUE!"},{"$f":"AVERAGE($AA$3:AA583)","v":{"$error":"#VALUE!"}},null,null,null,{"$f":"((AA583*#REF!)+(#REF!*#REF!)+(#REF!*#REF!))/(#REF!+#REF!+#REF!)","v":{"$error":"#VALUE!"}},{"$f":"((AA583*#REF!)+(#REF!*#REF!)+(#REF!*#REF!))/(#REF!+#REF!+#REF!)","v":{"$error":"#VALUE!"}},{"$f":"((AA583*#REF!)+(#REF!*#REF!)+(#REF!*#REF!))/(#REF!+#REF!+#REF!)","v":{"$error":"#VALUE!"}},{"$f":"((AA583*#REF!)+(#REF!*#REF!)+(#REF!*#REF!))/(#REF!+#REF!+#REF!)","v":{"$error":"#VALUE!"}},{"$f":"((AA583*#REF!)+(#REF!*#REF!)+(#REF!*#REF!))/(#REF!+#REF!+#REF!)","v":{"$error":"#VALUE!"}},{"$f":"((AA583*#REF!)+(#REF!*#REF!)+(#REF!*#REF!))/(#REF!+#REF!+#REF!)","v":{"$error":"#VALUE!"}},{"$f":"((AA583*#REF!)+(#REF!*#REF!)+(#REF!*#REF!))/(#REF!+#REF!+#REF!)","v":{"$error":"#VALUE!"}}]
[null,null,null,null,null,null,null,null,null,null,null,null,null,null,null,null,null,null,null,null,null,582,{"$error":"#VALUE!"},{"$f":"AVERAGE($W$3:W584)","v":{"$error":"#VALUE!"}},null,{"$error":"#VALUE!"},{"$error":"#VALUE!"},{"$f":"AVERAGE($AA$3:AA584)","v":{"$error":"#VALUE!"}},null,null,null,{"$f":"((AA584*#REF!)+(#REF!*#REF!)+(#REF!*#REF!))/(#REF!+#REF!+#REF!)","v":{"$error":"#VALUE!"}},{"$f":"((AA584*#REF!)+(#REF!*#REF!)+(#REF!*#REF!))/(#REF!+#REF!+#REF!)","v":{"$error":"#VALUE!"}},{"$f":"((AA584*#REF!)+(#REF!*#REF!)+(#REF!*#REF!))/(#REF!+#REF!+#REF!)","v":{"$error":"#VALUE!"}},{"$f":"((AA584*#REF!)+(#REF!*#REF!)+(#REF!*#REF!))/(#REF!+#REF!+#REF!)","v":{"$error":"#VALUE!"}},{"$f":"((AA584*#REF!)+(#REF!*#REF!)+(#REF!*#REF!))/(#REF!+#REF!+#REF!)","v":{"$error":"#VALUE!"}},{"$f":"((AA584*#REF!)+(#REF!*#REF!)+(#REF!*#REF!))/(#REF!+#REF!+#REF!)","v":{"$error":"#VALUE!"}},{"$f":"((AA584*#REF!)+(#REF!*#REF!)+(#REF!*#REF!))/(#REF!+#REF!+#REF!)","v":{"$error":"#VALUE!"}}]
[null,null,null,null,null,null,null,null,null,null,null,null,null,null,null,null,null,null,null,null,null,583,{"$error":"#VALUE!"},{"$f":"AVERAGE($W$3:W585)","v":{"$error":"#VALUE!"}},null,{"$error":"#VALUE!"},{"$error":"#VALUE!"},{"$f":"AVERAGE($AA$3:AA585)","v":{"$error":"#VALUE!"}},null,null,null,{"$f":"((AA585*#REF!)+(#REF!*#REF!)+(#REF!*#REF!))/(#REF!+#REF!+#REF!)","v":{"$error":"#VALUE!"}},{"$f":"((AA585*#REF!)+(#REF!*#REF!)+(#REF!*#REF!))/(#REF!+#REF!+#REF!)","v":{"$error":"#VALUE!"}},{"$f":"((AA585*#REF!)+(#REF!*#REF!)+(#REF!*#REF!))/(#REF!+#REF!+#REF!)","v":{"$error":"#VALUE!"}},{"$f":"((AA585*#REF!)+(#REF!*#REF!)+(#REF!*#REF!))/(#REF!+#REF!+#REF!)","v":{"$error":"#VALUE!"}},{"$f":"((AA585*#REF!)+(#REF!*#REF!)+(#REF!*#REF!))/(#REF!+#REF!+#REF!)","v":{"$error":"#VALUE!"}},{"$f":"((AA585*#REF!)+(#REF!*#REF!)+(#REF!*#REF!))/(#REF!+#REF!+#REF!)","v":{"$error":"#VALUE!"}},{"$f":"((AA585*#REF!)+(#REF!*#REF!)+(#REF!*#REF!))/(#REF!+#REF!+#REF!)","v":{"$error":"#VALUE!"}}]
[null,null,null,null,null,null,null,null,null,null,null,null,null,null,null,null,null,null,null,null,null,584,{"$error":"#VALUE!"},{"$f":"AVERAGE($W$3:W586)","v":{"$error":"#VALUE!"}},null,{"$error":"#VALUE!"},{"$error":"#VALUE!"},{"$f":"AVERAGE($AA$3:AA586)","v":{"$error":"#VALUE!"}},null,null,null,{"$f":"((AA586*#REF!)+(#REF!*#REF!)+(#REF!*#REF!))/(#REF!+#REF!+#REF!)","v":{"$error":"#VALUE!"}},{"$f":"((AA586*#REF!)+(#REF!*#REF!)+(#REF!*#REF!))/(#REF!+#REF!+#REF!)","v":{"$error":"#VALUE!"}},{"$f":"((AA586*#REF!)+(#REF!*#REF!)+(#REF!*#REF!))/(#REF!+#REF!+#REF!)","v":{"$error":"#VALUE!"}},{"$f":"((AA586*#REF!)+(#REF!*#REF!)+(#REF!*#REF!))/(#REF!+#REF!+#REF!)","v":{"$error":"#VALUE!"}},{"$f":"((AA586*#REF!)+(#REF!*#REF!)+(#REF!*#REF!))/(#REF!+#REF!+#REF!)","v":{"$error":"#VALUE!"}},{"$f":"((AA586*#REF!)+(#REF!*#REF!)+(#REF!*#REF!))/(#REF!+#REF!+#REF!)","v":{"$error":"#VALUE!"}},{"$f":"((AA586*#REF!)+(#REF!*#REF!)+(#REF!*#REF!))/(#REF!+#REF!+#REF!)","v":{"$error":"#VALUE!"}}]
[null,null,null,null,null,null,null,null,null,null,null,null,null,null,null,null,null,null,null,null,null,585,{"$error":"#VALUE!"},{"$f":"AVERAGE($W$3:W587)","v":{"$error":"#VALUE!"}},null,{"$error":"#VALUE!"},{"$error":"#VALUE!"},{"$f":"AVERAGE($AA$3:AA587)","v":{"$error":"#VALUE!"}},null,null,null,{"$f":"((AA587*#REF!)+(#REF!*#REF!)+(#REF!*#REF!))/(#REF!+#REF!+#REF!)","v":{"$error":"#VALUE!"}},{"$f":"((AA587*#REF!)+(#REF!*#REF!)+(#REF!*#REF!))/(#REF!+#REF!+#REF!)","v":{"$error":"#VALUE!"}},{"$f":"((AA587*#REF!)+(#REF!*#REF!)+(#REF!*#REF!))/(#REF!+#REF!+#REF!)","v":{"$error":"#VALUE!"}},{"$f":"((AA587*#REF!)+(#REF!*#REF!)+(#REF!*#REF!))/(#REF!+#REF!+#REF!)","v":{"$error":"#VALUE!"}},{"$f":"((AA587*#REF!)+(#REF!*#REF!)+(#REF!*#REF!))/(#REF!+#REF!+#REF!)","v":{"$error":"#VALUE!"}},{"$f":"((AA587*#REF!)+(#REF!*#REF!)+(#REF!*#REF!))/(#REF!+#REF!+#REF!)","v":{"$error":"#VALUE!"}},{"$f":"((AA587*#REF!)+(#REF!*#REF!)+(#REF!*#REF!))/(#REF!+#REF!+#REF!)","v":{"$error":"#VALUE!"}}]
[null,null,null,null,null,null,null,null,null,null,null,null,null,null,null,null,null,null,null,null,null,586,{"$error":"#VALUE!"},{"$f":"AVERAGE($W$3:W588)","v":{"$error":"#VALUE!"}},null,{"$error":"#VALUE!"},{"$error":"#VALUE!"},{"$f":"AVERAGE($AA$3:AA588)","v":{"$error":"#VALUE!"}},null,null,null,{"$f":"((AA588*#REF!)+(#REF!*#REF!)+(#REF!*#REF!))/(#REF!+#REF!+#REF!)","v":{"$error":"#VALUE!"}},{"$f":"((AA588*#REF!)+(#REF!*#REF!)+(#REF!*#REF!))/(#REF!+#REF!+#REF!)","v":{"$error":"#VALUE!"}},{"$f":"((AA588*#REF!)+(#REF!*#REF!)+(#REF!*#REF!))/(#REF!+#REF!+#REF!)","v":{"$error":"#VALUE!"}},{"$f":"((AA588*#REF!)+(#REF!*#REF!)+(#REF!*#REF!))/(#REF!+#REF!+#REF!)","v":{"$error":"#VALUE!"}},{"$f":"((AA588*#REF!)+(#REF!*#REF!)+(#REF!*#REF!))/(#REF!+#REF!+#REF!)","v":{"$error":"#VALUE!"}},{"$f":"((AA588*#REF!)+(#REF!*#REF!)+(#REF!*#REF!))/(#REF!+#REF!+#REF!)","v":{"$error":"#VALUE!"}},{"$f":"((AA588*#REF!)+(#REF!*#REF!)+(#REF!*#REF!))/(#REF!+#REF!+#REF!)","v":{"$error":"#VALUE!"}}]
[null,null,null,null,null,null,null,null,null,null,null,null,null,null,null,null,null,null,null,null,null,587,{"$error":"#VALUE!"},{"$f":"AVERAGE($W$3:W589)","v":{"$error":"#VALUE!"}},null,{"$error":"#VALUE!"},{"$error":"#VALUE!"},{"$f":"AVERAGE($AA$3:AA589)","v":{"$error":"#VALUE!"}},null,null,null,{"$f":"((AA589*#REF!)+(#REF!*#REF!)+(#REF!*#REF!))/(#REF!+#REF!+#REF!)","v":{"$error":"#VALUE!"}},{"$f":"((AA589*#REF!)+(#REF!*#REF!)+(#REF!*#REF!))/(#REF!+#REF!+#REF!)","v":{"$error":"#VALUE!"}},{"$f":"((AA589*#REF!)+(#REF!*#REF!)+(#REF!*#REF!))/(#REF!+#REF!+#REF!)","v":{"$error":"#VALUE!"}},{"$f":"((AA589*#REF!)+(#REF!*#REF!)+(#REF!*#REF!))/(#REF!+#REF!+#REF!)","v":{"$error":"#VALUE!"}},{"$f":"((AA589*#REF!)+(#REF!*#REF!)+(#REF!*#REF!))/(#REF!+#REF!+#REF!)","v":{"$error":"#VALUE!"}},{"$f":"((AA589*#REF!)+(#REF!*#REF!)+(#REF!*#REF!))/(#REF!+#REF!+#REF!)","v":{"$error":"#VALUE!"}},{"$f":"((AA589*#REF!)+(#REF!*#REF!)+(#REF!*#REF!))/(#REF!+#REF!+#REF!)","v":{"$error":"#VALUE!"}}]
[null,null,null,null,null,null,null,null,null,null,null,null,null,null,null,null,null,null,null,null,null,588,{"$error":"#VALUE!"},{"$f":"AVERAGE($W$3:W590)","v":{"$error":"#VALUE!"}},null,{"$error":"#VALUE!"},{"$error":"#VALUE!"},{"$f":"AVERAGE($AA$3:AA590)","v":{"$error":"#VALUE!"}},null,null,null,{"$f":"((AA590*#REF!)+(#REF!*#REF!)+(#REF!*#REF!))/(#REF!+#REF!+#REF!)","v":{"$error":"#VALUE!"}},{"$f":"((AA590*#REF!)+(#REF!*#REF!)+(#REF!*#REF!))/(#REF!+#REF!+#REF!)","v":{"$error":"#VALUE!"}},{"$f":"((AA590*#REF!)+(#REF!*#REF!)+(#REF!*#REF!))/(#REF!+#REF!+#REF!)","v":{"$error":"#VALUE!"}},{"$f":"((AA590*#REF!)+(#REF!*#REF!)+(#REF!*#REF!))/(#REF!+#REF!+#REF!)","v":{"$error":"#VALUE!"}},{"$f":"((AA590*#REF!)+(#REF!*#REF!)+(#REF!*#REF!))/(#REF!+#REF!+#REF!)","v":{"$error":"#VALUE!"}},{"$f":"((AA590*#REF!)+(#REF!*#REF!)+(#REF!*#REF!))/(#REF!+#REF!+#REF!)","v":{"$error":"#VALUE!"}},{"$f":"((AA590*#REF!)+(#REF!*#REF!)+(#REF!*#REF!))/(#REF!+#REF!+#REF!)","v":{"$error":"#VALUE!"}}]
[null,null,null,null,null,null,null,null,null,null,null,null,null,null,null,null,null,null,null,null,null,589,{"$error":"#VALUE!"},{"$f":"AVERAGE($W$3:W591)","v":{"$error":"#VALUE!"}},null,{"$error":"#VALUE!"},{"$error":"#VALUE!"},{"$f":"AVERAGE($AA$3:AA591)","v":{"$error":"#VALUE!"}},null,null,null,{"$f":"((AA591*#REF!)+(#REF!*#REF!)+(#REF!*#REF!))/(#REF!+#REF!+#REF!)","v":{"$error":"#VALUE!"}},{"$f":"((AA591*#REF!)+(#REF!*#REF!)+(#REF!*#REF!))/(#REF!+#REF!+#REF!)","v":{"$error":"#VALUE!"}},{"$f":"((AA591*#REF!)+(#REF!*#REF!)+(#REF!*#REF!))/(#REF!+#REF!+#REF!)","v":{"$error":"#VALUE!"}},{"$f":"((AA591*#REF!)+(#REF!*#REF!)+(#REF!*#REF!))/(#REF!+#REF!+#REF!)","v":{"$error":"#VALUE!"}},{"$f":"((AA591*#REF!)+(#REF!*#REF!)+(#REF!*#REF!))/(#REF!+#REF!+#REF!)","v":{"$error":"#VALUE!"}},{"$f":"((AA591*#REF!)+(#REF!*#REF!)+(#REF!*#REF!))/(#REF!+#REF!+#REF!)","v":{"$error":"#VALUE!"}},{"$f":"((AA591*#REF!)+(#REF!*#REF!)+(#REF!*#REF!))/(#REF!+#REF!+#REF!)","v":{"$error":"#VALUE!"}}]
[null,null,null,null,null,null,null,null,null,null,null,null,null,null,null,null,null,null,null,null,null,590,{"$error":"#VALUE!"},{"$f":"AVERAGE($W$3:W592)","v":{"$error":"#VALUE!"}},null,{"$error":"#VALUE!"},{"$error":"#VALUE!"},{"$f":"AVERAGE($AA$3:AA592)","v":{"$error":"#VALUE!"}},null,null,null,{"$f":"((AA592*#REF!)+(#REF!*#REF!)+(#REF!*#REF!))/(#REF!+#REF!+#REF!)","v":{"$error":"#VALUE!"}},{"$f":"((AA592*#REF!)+(#REF!*#REF!)+(#REF!*#REF!))/(#REF!+#REF!+#REF!)","v":{"$error":"#VALUE!"}},{"$f":"((AA592*#REF!)+(#REF!*#REF!)+(#REF!*#REF!))/(#REF!+#REF!+#REF!)","v":{"$error":"#VALUE!"}},{"$f":"((AA592*#REF!)+(#REF!*#REF!)+(#REF!*#REF!))/(#REF!+#REF!+#REF!)","v":{"$error":"#VALUE!"}},{"$f":"((AA592*#REF!)+(#REF!*#REF!)+(#REF!*#REF!))/(#REF!+#REF!+#REF!)","v":{"$error":"#VALUE!"}},{"$f":"((AA592*#REF!)+(#REF!*#REF!)+(#REF!*#REF!))/(#REF!+#REF!+#REF!)","v":{"$error":"#VALUE!"}},{"$f":"((AA592*#REF!)+(#REF!*#REF!)+(#REF!*#REF!))/(#REF!+#REF!+#REF!)","v":{"$error":"#VALUE!"}}]
[null,null,null,null,null,null,null,null,null,null,null,null,null,null,null,null,null,null,null,null,null,591,{"$error":"#VALUE!"},{"$f":"AVERAGE($W$3:W593)","v":{"$error":"#VALUE!"}},null,{"$error":"#VALUE!"},{"$error":"#VALUE!"},{"$f":"AVERAGE($AA$3:AA593)","v":{"$error":"#VALUE!"}},null,null,null,{"$f":"((AA593*#REF!)+(#REF!*#REF!)+(#REF!*#REF!))/(#REF!+#REF!+#REF!)","v":{"$error":"#VALUE!"}},{"$f":"((AA593*#REF!)+(#REF!*#REF!)+(#REF!*#REF!))/(#REF!+#REF!+#REF!)","v":{"$error":"#VALUE!"}},{"$f":"((AA593*#REF!)+(#REF!*#REF!)+(#REF!*#REF!))/(#REF!+#REF!+#REF!)","v":{"$error":"#VALUE!"}},{"$f":"((AA593*#REF!)+(#REF!*#REF!)+(#REF!*#REF!))/(#REF!+#REF!+#REF!)","v":{"$error":"#VALUE!"}},{"$f":"((AA593*#REF!)+(#REF!*#REF!)+(#REF!*#REF!))/(#REF!+#REF!+#REF!)","v":{"$error":"#VALUE!"}},{"$f":"((AA593*#REF!)+(#REF!*#REF!)+(#REF!*#REF!))/(#REF!+#REF!+#REF!)","v":{"$error":"#VALUE!"}},{"$f":"((AA593*#REF!)+(#REF!*#REF!)+(#REF!*#REF!))/(#REF!+#REF!+#REF!)","v":{"$error":"#VALUE!"}}]
[null,null,null,null,null,null,null,null,null,null,null,null,null,null,null,null,null,null,null,null,null,592,{"$error":"#VALUE!"},{"$f":"AVERAGE($W$3:W594)","v":{"$error":"#VALUE!"}},null,{"$error":"#VALUE!"},{"$error":"#VALUE!"},{"$f":"AVERAGE($AA$3:AA594)","v":{"$error":"#VALUE!"}},null,null,null,{"$f":"((AA594*#REF!)+(#REF!*#REF!)+(#REF!*#REF!))/(#REF!+#REF!+#REF!)","v":{"$error":"#VALUE!"}},{"$f":"((AA594*#REF!)+(#REF!*#REF!)+(#REF!*#REF!))/(#REF!+#REF!+#REF!)","v":{"$error":"#VALUE!"}},{"$f":"((AA594*#REF!)+(#REF!*#REF!)+(#REF!*#REF!))/(#REF!+#REF!+#REF!)","v":{"$error":"#VALUE!"}},{"$f":"((AA594*#REF!)+(#REF!*#REF!)+(#REF!*#REF!))/(#REF!+#REF!+#REF!)","v":{"$error":"#VALUE!"}},{"$f":"((AA594*#REF!)+(#REF!*#REF!)+(#REF!*#REF!))/(#REF!+#REF!+#REF!)","v":{"$error":"#VALUE!"}},{"$f":"((AA594*#REF!)+(#REF!*#REF!)+(#REF!*#REF!))/(#REF!+#REF!+#REF!)","v":{"$error":"#VALUE!"}},{"$f":"((AA594*#REF!)+(#REF!*#REF!)+(#REF!*#REF!))/(#REF!+#REF!+#REF!)","v":{"$error":"#VALUE!"}}]
[null,null,null,null,null,null,null,null,null,null,null,null,null,null,null,null,null,null,null,null,null,593,{"$error":"#VALUE!"},{"$f":"AVERAGE($W$3:W595)","v":{"$error":"#VALUE!"}},null,{"$error":"#VALUE!"},{"$error":"#VALUE!"},{"$f":"AVERAGE($AA$3:AA595)","v":{"$error":"#VALUE!"}},null,null,null,{"$f":"((AA595*#REF!)+(#REF!*#REF!)+(#REF!*#REF!))/(#REF!+#REF!+#REF!)","v":{"$error":"#VALUE!"}},{"$f":"((AA595*#REF!)+(#REF!*#REF!)+(#REF!*#REF!))/(#REF!+#REF!+#REF!)","v":{"$error":"#VALUE!"}},{"$f":"((AA595*#REF!)+(#REF!*#REF!)+(#REF!*#REF!))/(#REF!+#REF!+#REF!)","v":{"$error":"#VALUE!"}},{"$f":"((AA595*#REF!)+(#REF!*#REF!)+(#REF!*#REF!))/(#REF!+#REF!+#REF!)","v":{"$error":"#VALUE!"}},{"$f":"((AA595*#REF!)+(#REF!*#REF!)+(#REF!*#REF!))/(#REF!+#REF!+#REF!)","v":{"$error":"#VALUE!"}},{"$f":"((AA595*#REF!)+(#REF!*#REF!)+(#REF!*#REF!))/(#REF!+#REF!+#REF!)","v":{"$error":"#VALUE!"}},{"$f":"((AA595*#REF!)+(#REF!*#REF!)+(#REF!*#REF!))/(#REF!+#REF!+#REF!)","v":{"$error":"#VALUE!"}}]
[null,null,null,null,null,null,null,null,null,null,null,null,null,null,null,null,null,null,null,null,null,594,{"$error":"#VALUE!"},{"$f":"AVERAGE($W$3:W596)","v":{"$error":"#VALUE!"}},null,{"$error":"#VALUE!"},{"$error":"#VALUE!"},{"$f":"AVERAGE($AA$3:AA596)","v":{"$error":"#VALUE!"}},null,null,null,{"$f":"((AA596*#REF!)+(#REF!*#REF!)+(#REF!*#REF!))/(#REF!+#REF!+#REF!)","v":{"$error":"#VALUE!"}},{"$f":"((AA596*#REF!)+(#REF!*#REF!)+(#REF!*#REF!))/(#REF!+#REF!+#REF!)","v":{"$error":"#VALUE!"}},{"$f":"((AA596*#REF!)+(#REF!*#REF!)+(#REF!*#REF!))/(#REF!+#REF!+#REF!)","v":{"$error":"#VALUE!"}},{"$f":"((AA596*#REF!)+(#REF!*#REF!)+(#REF!*#REF!))/(#REF!+#REF!+#REF!)","v":{"$error":"#VALUE!"}},{"$f":"((AA596*#REF!)+(#REF!*#REF!)+(#REF!*#REF!))/(#REF!+#REF!+#REF!)","v":{"$error":"#VALUE!"}},{"$f":"((AA596*#REF!)+(#REF!*#REF!)+(#REF!*#REF!))/(#REF!+#REF!+#REF!)","v":{"$error":"#VALUE!"}},{"$f":"((AA596*#REF!)+(#REF!*#REF!)+(#REF!*#REF!))/(#REF!+#REF!+#REF!)","v":{"$error":"#VALUE!"}}]
[null,null,null,null,null,null,null,null,null,null,null,null,null,null,null,null,null,null,null,null,null,595,{"$error":"#VALUE!"},{"$f":"AVERAGE($W$3:W597)","v":{"$error":"#VALUE!"}},null,{"$error":"#VALUE!"},{"$error":"#VALUE!"},{"$f":"AVERAGE($AA$3:AA597)","v":{"$error":"#VALUE!"}},null,null,null,{"$f":"((AA597*#REF!)+(#REF!*#REF!)+(#REF!*#REF!))/(#REF!+#REF!+#REF!)","v":{"$error":"#VALUE!"}},{"$f":"((AA597*#REF!)+(#REF!*#REF!)+(#REF!*#REF!))/(#REF!+#REF!+#REF!)","v":{"$error":"#VALUE!"}},{"$f":"((AA597*#REF!)+(#REF!*#REF!)+(#REF!*#REF!))/(#REF!+#REF!+#REF!)","v":{"$error":"#VALUE!"}},{"$f":"((AA597*#REF!)+(#REF!*#REF!)+(#REF!*#REF!))/(#REF!+#REF!+#REF!)","v":{"$error":"#VALUE!"}},{"$f":"((AA597*#REF!)+(#REF!*#REF!)+(#REF!*#REF!))/(#REF!+#REF!+#REF!)","v":{"$error":"#VALUE!"}},{"$f":"((AA597*#REF!)+(#REF!*#REF!)+(#REF!*#REF!))/(#REF!+#REF!+#REF!)","v":{"$error":"#VALUE!"}},{"$f":"((AA597*#REF!)+(#REF!*#REF!)+(#REF!*#REF!))/(#REF!+#REF!+#REF!)","v":{"$error":"#VALUE!"}}]
[null,null,null,null,null,null,null,null,null,null,null,null,null,null,null,null,null,null,null,null,null,596,{"$error":"#VALUE!"},{"$f":"AVERAGE($W$3:W598)","v":{"$error":"#VALUE!"}},null,{"$error":"#VALUE!"},{"$error":"#VALUE!"},{"$f":"AVERAGE($AA$3:AA598)","v":{"$error":"#VALUE!"}},null,null,null,{"$f":"((AA598*#REF!)+(#REF!*#REF!)+(#REF!*#REF!))/(#REF!+#REF!+#REF!)","v":{"$error":"#VALUE!"}},{"$f":"((AA598*#REF!)+(#REF!*#REF!)+(#REF!*#REF!))/(#REF!+#REF!+#REF!)","v":{"$error":"#VALUE!"}},{"$f":"((AA598*#REF!)+(#REF!*#REF!)+(#REF!*#REF!))/(#REF!+#REF!+#REF!)","v":{"$error":"#VALUE!"}},{"$f":"((AA598*#REF!)+(#REF!*#REF!)+(#REF!*#REF!))/(#REF!+#REF!+#REF!)","v":{"$error":"#VALUE!"}},{"$f":"((AA598*#REF!)+(#REF!*#REF!)+(#REF!*#REF!))/(#REF!+#REF!+#REF!)","v":{"$error":"#VALUE!"}},{"$f":"((AA598*#REF!)+(#REF!*#REF!)+(#REF!*#REF!))/(#REF!+#REF!+#REF!)","v":{"$error":"#VALUE!"}},{"$f":"((AA598*#REF!)+(#REF!*#REF!)+(#REF!*#REF!))/(#REF!+#REF!+#REF!)","v":{"$error":"#VALUE!"}}]
[null,null,null,null,null,null,null,null,null,null,null,null,null,null,null,null,null,null,null,null,null,597,{"$error":"#VALUE!"},{"$f":"AVERAGE($W$3:W599)","v":{"$error":"#VALUE!"}},null,{"$error":"#VALUE!"},{"$error":"#VALUE!"},{"$f":"AVERAGE($AA$3:AA599)","v":{"$error":"#VALUE!"}},null,null,null,{"$f":"((AA599*#REF!)+(#REF!*#REF!)+(#REF!*#REF!))/(#REF!+#REF!+#REF!)","v":{"$error":"#VALUE!"}},{"$f":"((AA599*#REF!)+(#REF!*#REF!)+(#REF!*#REF!))/(#REF!+#REF!+#REF!)","v":{"$error":"#VALUE!"}},{"$f":"((AA599*#REF!)+(#REF!*#REF!)+(#REF!*#REF!))/(#REF!+#REF!+#REF!)","v":{"$error":"#VALUE!"}},{"$f":"((AA599*#REF!)+(#REF!*#REF!)+(#REF!*#REF!))/(#REF!+#REF!+#REF!)","v":{"$error":"#VALUE!"}},{"$f":"((AA599*#REF!)+(#REF!*#REF!)+(#REF!*#REF!))/(#REF!+#REF!+#REF!)","v":{"$error":"#VALUE!"}},{"$f":"((AA599*#REF!)+(#REF!*#REF!)+(#REF!*#REF!))/(#REF!+#REF!+#REF!)","v":{"$error":"#VALUE!"}},{"$f":"((AA599*#REF!)+(#REF!*#REF!)+(#REF!*#REF!))/(#REF!+#REF!+#REF!)","v":{"$error":"#VALUE!"}}]
[null,null,null,null,null,null,null,null,null,null,null,null,null,null,null,null,null,null,null,null,null,598,{"$error":"#VALUE!"},{"$f":"AVERAGE($W$3:W600)","v":{"$error":"#VALUE!"}},null,{"$error":"#VALUE!"},{"$error":"#VALUE!"},{"$f":"AVERAGE($AA$3:AA600)","v":{"$error":"#VALUE!"}},null,null,null,{"$f":"((AA600*#REF!)+(#REF!*#REF!)+(#REF!*#REF!))/(#REF!+#REF!+#REF!)","v":{"$error":"#VALUE!"}},{"$f":"((AA600*#REF!)+(#REF!*#REF!)+(#REF!*#REF!))/(#REF!+#REF!+#REF!)","v":{"$error":"#VALUE!"}},{"$f":"((AA600*#REF!)+(#REF!*#REF!)+(#REF!*#REF!))/(#REF!+#REF!+#REF!)","v":{"$error":"#VALUE!"}},{"$f":"((AA600*#REF!)+(#REF!*#REF!)+(#REF!*#REF!))/(#REF!+#REF!+#REF!)","v":{"$error":"#VALUE!"}},{"$f":"((AA600*#REF!)+(#REF!*#REF!)+(#REF!*#REF!))/(#REF!+#REF!+#REF!)","v":{"$error":"#VALUE!"}},{"$f":"((AA600*#REF!)+(#REF!*#REF!)+(#REF!*#REF!))/(#REF!+#REF!+#REF!)","v":{"$error":"#VALUE!"}},{"$f":"((AA600*#REF!)+(#REF!*#REF!)+(#REF!*#REF!))/(#REF!+#REF!+#REF!)","v":{"$error":"#VALUE!"}}]
[null,null,null,null,null,null,null,null,null,null,null,null,null,null,null,null,null,null,null,null,null,599,{"$error":"#VALUE!"},{"$f":"AVERAGE($W$3:W601)","v":{"$error":"#VALUE!"}},null,{"$error":"#VALUE!"},{"$error":"#VALUE!"},{"$f":"AVERAGE($AA$3:AA601)","v":{"$error":"#VALUE!"}},null,null,null,{"$f":"((AA601*#REF!)+(#REF!*#REF!)+(#REF!*#REF!))/(#REF!+#REF!+#REF!)","v":{"$error":"#VALUE!"}},{"$f":"((AA601*#REF!)+(#REF!*#REF!)+(#REF!*#REF!))/(#REF!+#REF!+#REF!)","v":{"$error":"#VALUE!"}},{"$f":"((AA601*#REF!)+(#REF!*#REF!)+(#REF!*#REF!))/(#REF!+#REF!+#REF!)","v":{"$error":"#VALUE!"}},{"$f":"((AA601*#REF!)+(#REF!*#REF!)+(#REF!*#REF!))/(#REF!+#REF!+#REF!)","v":{"$error":"#VALUE!"}},{"$f":"((AA601*#REF!)+(#REF!*#REF!)+(#REF!*#REF!))/(#REF!+#REF!+#REF!)","v":{"$error":"#VALUE!"}},{"$f":"((AA601*#REF!)+(#REF!*#REF!)+(#REF!*#REF!))/(#REF!+#REF!+#REF!)","v":{"$error":"#VALUE!"}},{"$f":"((AA601*#REF!)+(#REF!*#REF!)+(#REF!*#REF!))/(#REF!+#REF!+#REF!)","v":{"$error":"#VALUE!"}}]
[null,null,null,null,null,null,null,null,null,null,null,null,null,null,null,null,null,null,null,null,null,600,{"$error":"#VALUE!"},{"$f":"AVERAGE($W$3:W602)","v":{"$error":"#VALUE!"}},null,{"$error":"#VALUE!"},{"$error":"#VALUE!"},{"$f":"AVERAGE($AA$3:AA602)","v":{"$error":"#VALUE!"}},null,null,null,{"$f":"((AA602*#REF!)+(#REF!*#REF!)+(#REF!*#REF!))/(#REF!+#REF!+#REF!)","v":{"$error":"#VALUE!"}},{"$f":"((AA602*#REF!)+(#REF!*#REF!)+(#REF!*#REF!))/(#REF!+#REF!+#REF!)","v":{"$error":"#VALUE!"}},{"$f":"((AA602*#REF!)+(#REF!*#REF!)+(#REF!*#REF!))/(#REF!+#REF!+#REF!)","v":{"$error":"#VALUE!"}},{"$f":"((AA602*#REF!)+(#REF!*#REF!)+(#REF!*#REF!))/(#REF!+#REF!+#REF!)","v":{"$error":"#VALUE!"}},{"$f":"((AA602*#REF!)+(#REF!*#REF!)+(#REF!*#REF!))/(#REF!+#REF!+#REF!)","v":{"$error":"#VALUE!"}},{"$f":"((AA602*#REF!)+(#REF!*#REF!)+(#REF!*#REF!))/(#REF!+#REF!+#REF!)","v":{"$error":"#VALUE!"}},{"$f":"((AA602*#REF!)+(#REF!*#REF!)+(#REF!*#REF!))/(#REF!+#REF!+#REF!)","v":{"$error":"#VALUE!"}}]
[null,null,null,null,null,null,null,null,null,null,null,null,null,null,null,null,null,null,null,null,null,601,{"$error":"#VALUE!"},{"$f":"AVERAGE($W$3:W603)","v":{"$error":"#VALUE!"}},null,{"$error":"#VALUE!"},{"$error":"#VALUE!"},{"$f":"AVERAGE($AA$3:AA603)","v":{"$error":"#VALUE!"}},null,null,null,{"$f":"((AA603*#REF!)+(#REF!*#REF!)+(#REF!*#REF!))/(#REF!+#REF!+#REF!)","v":{"$error":"#VALUE!"}},{"$f":"((AA603*#REF!)+(#REF!*#REF!)+(#REF!*#REF!))/(#REF!+#REF!+#REF!)","v":{"$error":"#VALUE!"}},{"$f":"((AA603*#REF!)+(#REF!*#REF!)+(#REF!*#REF!))/(#REF!+#REF!+#REF!)","v":{"$error":"#VALUE!"}},{"$f":"((AA603*#REF!)+(#REF!*#REF!)+(#REF!*#REF!))/(#REF!+#REF!+#REF!)","v":{"$error":"#VALUE!"}},{"$f":"((AA603*#REF!)+(#REF!*#REF!)+(#REF!*#REF!))/(#REF!+#REF!+#REF!)","v":{"$error":"#VALUE!"}},{"$f":"((AA603*#REF!)+(#REF!*#REF!)+(#REF!*#REF!))/(#REF!+#REF!+#REF!)","v":{"$error":"#VALUE!"}},{"$f":"((AA603*#REF!)+(#REF!*#REF!)+(#REF!*#REF!))/(#REF!+#REF!+#REF!)","v":{"$error":"#VALUE!"}}]
[null,null,null,null,null,null,null,null,null,null,null,null,null,null,null,null,null,null,null,null,null,602,{"$error":"#VALUE!"},{"$f":"AVERAGE($W$3:W604)","v":{"$error":"#VALUE!"}},null,{"$error":"#VALUE!"},{"$error":"#VALUE!"},{"$f":"AVERAGE($AA$3:AA604)","v":{"$error":"#VALUE!"}},null,null,null,{"$f":"((AA604*#REF!)+(#REF!*#REF!)+(#REF!*#REF!))/(#REF!+#REF!+#REF!)","v":{"$error":"#VALUE!"}},{"$f":"((AA604*#REF!)+(#REF!*#REF!)+(#REF!*#REF!))/(#REF!+#REF!+#REF!)","v":{"$error":"#VALUE!"}},{"$f":"((AA604*#REF!)+(#REF!*#REF!)+(#REF!*#REF!))/(#REF!+#REF!+#REF!)","v":{"$error":"#VALUE!"}},{"$f":"((AA604*#REF!)+(#REF!*#REF!)+(#REF!*#REF!))/(#REF!+#REF!+#REF!)","v":{"$error":"#VALUE!"}},{"$f":"((AA604*#REF!)+(#REF!*#REF!)+(#REF!*#REF!))/(#REF!+#REF!+#REF!)","v":{"$error":"#VALUE!"}},{"$f":"((AA604*#REF!)+(#REF!*#REF!)+(#REF!*#REF!))/(#REF!+#REF!+#REF!)","v":{"$error":"#VALUE!"}},{"$f":"((AA604*#REF!)+(#REF!*#REF!)+(#REF!*#REF!))/(#REF!+#REF!+#REF!)","v":{"$error":"#VALUE!"}}]
[null,null,null,null,null,null,null,null,null,null,null,null,null,null,null,null,null,null,null,null,null,603,{"$error":"#VALUE!"},{"$f":"AVERAGE($W$3:W605)","v":{"$error":"#VALUE!"}},null,{"$error":"#VALUE!"},{"$error":"#VALUE!"},{"$f":"AVERAGE($AA$3:AA605)","v":{"$error":"#VALUE!"}},null,null,null,{"$f":"((AA605*#REF!)+(#REF!*#REF!)+(#REF!*#REF!))/(#REF!+#REF!+#REF!)","v":{"$error":"#VALUE!"}},{"$f":"((AA605*#REF!)+(#REF!*#REF!)+(#REF!*#REF!))/(#REF!+#REF!+#REF!)","v":{"$error":"#VALUE!"}},{"$f":"((AA605*#REF!)+(#REF!*#REF!)+(#REF!*#REF!))/(#REF!+#REF!+#REF!)","v":{"$error":"#VALUE!"}},{"$f":"((AA605*#REF!)+(#REF!*#REF!)+(#REF!*#REF!))/(#REF!+#REF!+#REF!)","v":{"$error":"#VALUE!"}},{"$f":"((AA605*#REF!)+(#REF!*#REF!)+(#REF!*#REF!))/(#REF!+#REF!+#REF!)","v":{"$error":"#VALUE!"}},{"$f":"((AA605*#REF!)+(#REF!*#REF!)+(#REF!*#REF!))/(#REF!+#REF!+#REF!)","v":{"$error":"#VALUE!"}},{"$f":"((AA605*#REF!)+(#REF!*#REF!)+(#REF!*#REF!))/(#REF!+#REF!+#REF!)","v":{"$error":"#VALUE!"}}]
[null,null,null,null,null,null,null,null,null,null,null,null,null,null,null,null,null,null,null,null,null,604,{"$error":"#VALUE!"},{"$f":"AVERAGE($W$3:W606)","v":{"$error":"#VALUE!"}},null,{"$error":"#VALUE!"},{"$error":"#VALUE!"},{"$f":"AVERAGE($AA$3:AA606)","v":{"$error":"#VALUE!"}},null,null,null,{"$f":"((AA606*#REF!)+(#REF!*#REF!)+(#REF!*#REF!))/(#REF!+#REF!+#REF!)","v":{"$error":"#VALUE!"}},{"$f":"((AA606*#REF!)+(#REF!*#REF!)+(#REF!*#REF!))/(#REF!+#REF!+#REF!)","v":{"$error":"#VALUE!"}},{"$f":"((AA606*#REF!)+(#REF!*#REF!)+(#REF!*#REF!))/(#REF!+#REF!+#REF!)","v":{"$error":"#VALUE!"}},{"$f":"((AA606*#REF!)+(#REF!*#REF!)+(#REF!*#REF!))/(#REF!+#REF!+#REF!)","v":{"$error":"#VALUE!"}},{"$f":"((AA606*#REF!)+(#REF!*#REF!)+(#REF!*#REF!))/(#REF!+#REF!+#REF!)","v":{"$error":"#VALUE!"}},{"$f":"((AA606*#REF!)+(#REF!*#REF!)+(#REF!*#REF!))/(#REF!+#REF!+#REF!)","v":{"$error":"#VALUE!"}},{"$f":"((AA606*#REF!)+(#REF!*#REF!)+(#REF!*#REF!))/(#REF!+#REF!+#REF!)","v":{"$error":"#VALUE!"}}]
[null,null,null,null,null,null,null,null,null,null,null,null,null,null,null,null,null,null,null,null,null,605,{"$error":"#VALUE!"},{"$f":"AVERAGE($W$3:W607)","v":{"$error":"#VALUE!"}},null,{"$error":"#VALUE!"},{"$error":"#VALUE!"},{"$f":"AVERAGE($AA$3:AA607)","v":{"$error":"#VALUE!"}},null,null,null,{"$f":"((AA607*#REF!)+(#REF!*#REF!)+(#REF!*#REF!))/(#REF!+#REF!+#REF!)","v":{"$error":"#VALUE!"}},{"$f":"((AA607*#REF!)+(#REF!*#REF!)+(#REF!*#REF!))/(#REF!+#REF!+#REF!)","v":{"$error":"#VALUE!"}},{"$f":"((AA607*#REF!)+(#REF!*#REF!)+(#REF!*#REF!))/(#REF!+#REF!+#REF!)","v":{"$error":"#VALUE!"}},{"$f":"((AA607*#REF!)+(#REF!*#REF!)+(#REF!*#REF!))/(#REF!+#REF!+#REF!)","v":{"$error":"#VALUE!"}},{"$f":"((AA607*#REF!)+(#REF!*#REF!)+(#REF!*#REF!))/(#REF!+#REF!+#REF!)","v":{"$error":"#VALUE!"}},{"$f":"((AA607*#REF!)+(#REF!*#REF!)+(#REF!*#REF!))/(#REF!+#REF!+#REF!)","v":{"$error":"#VALUE!"}},{"$f":"((AA607*#REF!)+(#REF!*#REF!)+(#REF!*#REF!))/(#REF!+#REF!+#REF!)","v":{"$error":"#VALUE!"}}]
[null,null,null,null,null,null,null,null,null,null,null,null,null,null,null,null,null,null,null,null,null,606,{"$error":"#VALUE!"},{"$f":"AVERAGE($W$3:W608)","v":{"$error":"#VALUE!"}},null,{"$error":"#VALUE!"},{"$error":"#VALUE!"},{"$f":"AVERAGE($AA$3:AA608)","v":{"$error":"#VALUE!"}},null,null,null,{"$f":"((AA608*#REF!)+(#REF!*#REF!)+(#REF!*#REF!))/(#REF!+#REF!+#REF!)","v":{"$error":"#VALUE!"}},{"$f":"((AA608*#REF!)+(#REF!*#REF!)+(#REF!*#REF!))/(#REF!+#REF!+#REF!)","v":{"$error":"#VALUE!"}},{"$f":"((AA608*#REF!)+(#REF!*#REF!)+(#REF!*#REF!))/(#REF!+#REF!+#REF!)","v":{"$error":"#VALUE!"}},{"$f":"((AA608*#REF!)+(#REF!*#REF!)+(#REF!*#REF!))/(#REF!+#REF!+#REF!)","v":{"$error":"#VALUE!"}},{"$f":"((AA608*#REF!)+(#REF!*#REF!)+(#REF!*#REF!))/(#REF!+#REF!+#REF!)","v":{"$error":"#VALUE!"}},{"$f":"((AA608*#REF!)+(#REF!*#REF!)+(#REF!*#REF!))/(#REF!+#REF!+#REF!)","v":{"$error":"#VALUE!"}},{"$f":"((AA608*#REF!)+(#REF!*#REF!)+(#REF!*#REF!))/(#REF!+#REF!+#REF!)","v":{"$error":"#VALUE!"}}]
[null,null,null,null,null,null,null,null,null,null,null,null,null,null,null,null,null,null,null,null,null,607,{"$error":"#VALUE!"},{"$f":"AVERAGE($W$3:W609)","v":{"$error":"#VALUE!"}},null,{"$error":"#VALUE!"},{"$error":"#VALUE!"},{"$f":"AVERAGE($AA$3:AA609)","v":{"$error":"#VALUE!"}},null,null,null,{"$f":"((AA609*#REF!)+(#REF!*#REF!)+(#REF!*#REF!))/(#REF!+#REF!+#REF!)","v":{"$error":"#VALUE!"}},{"$f":"((AA609*#REF!)+(#REF!*#REF!)+(#REF!*#REF!))/(#REF!+#REF!+#REF!)","v":{"$error":"#VALUE!"}},{"$f":"((AA609*#REF!)+(#REF!*#REF!)+(#REF!*#REF!))/(#REF!+#REF!+#REF!)","v":{"$error":"#VALUE!"}},{"$f":"((AA609*#REF!)+(#REF!*#REF!)+(#REF!*#REF!))/(#REF!+#REF!+#REF!)","v":{"$error":"#VALUE!"}},{"$f":"((AA609*#REF!)+(#REF!*#REF!)+(#REF!*#REF!))/(#REF!+#REF!+#REF!)","v":{"$error":"#VALUE!"}},{"$f":"((AA609*#REF!)+(#REF!*#REF!)+(#REF!*#REF!))/(#REF!+#REF!+#REF!)","v":{"$error":"#VALUE!"}},{"$f":"((AA609*#REF!)+(#REF!*#REF!)+(#REF!*#REF!))/(#REF!+#REF!+#REF!)","v":{"$error":"#VALUE!"}}]
[null,null,null,null,null,null,null,null,null,null,null,null,null,null,null,null,null,null,null,null,null,608,{"$error":"#VALUE!"},{"$f":"AVERAGE($W$3:W610)","v":{"$error":"#VALUE!"}},null,{"$error":"#VALUE!"},{"$error":"#VALUE!"},{"$f":"AVERAGE($AA$3:AA610)","v":{"$error":"#VALUE!"}},null,null,null,{"$f":"((AA610*#REF!)+(#REF!*#REF!)+(#REF!*#REF!))/(#REF!+#REF!+#REF!)","v":{"$error":"#VALUE!"}},{"$f":"((AA610*#REF!)+(#REF!*#REF!)+(#REF!*#REF!))/(#REF!+#REF!+#REF!)","v":{"$error":"#VALUE!"}},{"$f":"((AA610*#REF!)+(#REF!*#REF!)+(#REF!*#REF!))/(#REF!+#REF!+#REF!)","v":{"$error":"#VALUE!"}},{"$f":"((AA610*#REF!)+(#REF!*#REF!)+(#REF!*#REF!))/(#REF!+#REF!+#REF!)","v":{"$error":"#VALUE!"}},{"$f":"((AA610*#REF!)+(#REF!*#REF!)+(#REF!*#REF!))/(#REF!+#REF!+#REF!)","v":{"$error":"#VALUE!"}},{"$f":"((AA610*#REF!)+(#REF!*#REF!)+(#REF!*#REF!))/(#REF!+#REF!+#REF!)","v":{"$error":"#VALUE!"}},{"$f":"((AA610*#REF!)+(#REF!*#REF!)+(#REF!*#REF!))/(#REF!+#REF!+#REF!)","v":{"$error":"#VALUE!"}}]
[null,null,null,null,null,null,null,null,null,null,null,null,null,null,null,null,null,null,null,null,null,609,{"$error":"#VALUE!"},{"$f":"AVERAGE($W$3:W611)","v":{"$error":"#VALUE!"}},null,{"$error":"#VALUE!"},{"$error":"#VALUE!"},{"$f":"AVERAGE($AA$3:AA611)","v":{"$error":"#VALUE!"}},null,null,null,{"$f":"((AA611*#REF!)+(#REF!*#REF!)+(#REF!*#REF!))/(#REF!+#REF!+#REF!)","v":{"$error":"#VALUE!"}},{"$f":"((AA611*#REF!)+(#REF!*#REF!)+(#REF!*#REF!))/(#REF!+#REF!+#REF!)","v":{"$error":"#VALUE!"}},{"$f":"((AA611*#REF!)+(#REF!*#REF!)+(#REF!*#REF!))/(#REF!+#REF!+#REF!)","v":{"$error":"#VALUE!"}},{"$f":"((AA611*#REF!)+(#REF!*#REF!)+(#REF!*#REF!))/(#REF!+#REF!+#REF!)","v":{"$error":"#VALUE!"}},{"$f":"((AA611*#REF!)+(#REF!*#REF!)+(#REF!*#REF!))/(#REF!+#REF!+#REF!)","v":{"$error":"#VALUE!"}},{"$f":"((AA611*#REF!)+(#REF!*#REF!)+(#REF!*#REF!))/(#REF!+#REF!+#REF!)","v":{"$error":"#VALUE!"}},{"$f":"((AA611*#REF!)+(#REF!*#REF!)+(#REF!*#REF!))/(#REF!+#REF!+#REF!)","v":{"$error":"#VALUE!"}}]
[null,null,null,null,null,null,null,null,null,null,null,null,null,null,null,null,null,null,null,null,null,610,{"$error":"#VALUE!"},{"$f":"AVERAGE($W$3:W612)","v":{"$error":"#VALUE!"}},null,{"$error":"#VALUE!"},{"$error":"#VALUE!"},{"$f":"AVERAGE($AA$3:AA612)","v":{"$error":"#VALUE!"}},null,null,null,{"$f":"((AA612*#REF!)+(#REF!*#REF!)+(#REF!*#REF!))/(#REF!+#REF!+#REF!)","v":{"$error":"#VALUE!"}},{"$f":"((AA612*#REF!)+(#REF!*#REF!)+(#REF!*#REF!))/(#REF!+#REF!+#REF!)","v":{"$error":"#VALUE!"}},{"$f":"((AA612*#REF!)+(#REF!*#REF!)+(#REF!*#REF!))/(#REF!+#REF!+#REF!)","v":{"$error":"#VALUE!"}},{"$f":"((AA612*#REF!)+(#REF!*#REF!)+(#REF!*#REF!))/(#REF!+#REF!+#REF!)","v":{"$error":"#VALUE!"}},{"$f":"((AA612*#REF!)+(#REF!*#REF!)+(#REF!*#REF!))/(#REF!+#REF!+#REF!)","v":{"$error":"#VALUE!"}},{"$f":"((AA612*#REF!)+(#REF!*#REF!)+(#REF!*#REF!))/(#REF!+#REF!+#REF!)","v":{"$error":"#VALUE!"}},{"$f":"((AA612*#REF!)+(#REF!*#REF!)+(#REF!*#REF!))/(#REF!+#REF!+#REF!)","v":{"$error":"#VALUE!"}}]
[null,null,null,null,null,null,null,null,null,null,null,null,null,null,null,null,null,null,null,null,null,611,{"$error":"#VALUE!"},{"$f":"AVERAGE($W$3:W613)","v":{"$error":"#VALUE!"}},null,{"$error":"#VALUE!"},{"$error":"#VALUE!"},{"$f":"AVERAGE($AA$3:AA613)","v":{"$error":"#VALUE!"}},null,null,null,{"$f":"((AA613*#REF!)+(#REF!*#REF!)+(#REF!*#REF!))/(#REF!+#REF!+#REF!)","v":{"$error":"#VALUE!"}},{"$f":"((AA613*#REF!)+(#REF!*#REF!)+(#REF!*#REF!))/(#REF!+#REF!+#REF!)","v":{"$error":"#VALUE!"}},{"$f":"((AA613*#REF!)+(#REF!*#REF!)+(#REF!*#REF!))/(#REF!+#REF!+#REF!)","v":{"$error":"#VALUE!"}},{"$f":"((AA613*#REF!)+(#REF!*#REF!)+(#REF!*#REF!))/(#REF!+#REF!+#REF!)","v":{"$error":"#VALUE!"}},{"$f":"((AA613*#REF!)+(#REF!*#REF!)+(#REF!*#REF!))/(#REF!+#REF!+#REF!)","v":{"$error":"#VALUE!"}},{"$f":"((AA613*#REF!)+(#REF!*#REF!)+(#REF!*#REF!))/(#REF!+#REF!+#REF!)","v":{"$error":"#VALUE!"}},{"$f":"((AA613*#REF!)+(#REF!*#REF!)+(#REF!*#REF!))/(#REF!+#REF!+#REF!)","v":{"$error":"#VALUE!"}}]
[null,null,null,null,null,null,null,null,null,null,null,null,null,null,null,null,null,null,null,null,null,612,{"$error":"#VALUE!"},{"$f":"AVERAGE($W$3:W614)","v":{"$error":"#VALUE!"}},null,{"$error":"#VALUE!"},{"$error":"#VALUE!"},{"$f":"AVERAGE($AA$3:AA614)","v":{"$error":"#VALUE!"}},null,null,null,{"$f":"((AA614*#REF!)+(#REF!*#REF!)+(#REF!*#REF!))/(#REF!+#REF!+#REF!)","v":{"$error":"#VALUE!"}},{"$f":"((AA614*#REF!)+(#REF!*#REF!)+(#REF!*#REF!))/(#REF!+#REF!+#REF!)","v":{"$error":"#VALUE!"}},{"$f":"((AA614*#REF!)+(#REF!*#REF!)+(#REF!*#REF!))/(#REF!+#REF!+#REF!)","v":{"$error":"#VALUE!"}},{"$f":"((AA614*#REF!)+(#REF!*#REF!)+(#REF!*#REF!))/(#REF!+#REF!+#REF!)","v":{"$error":"#VALUE!"}},{"$f":"((AA614*#REF!)+(#REF!*#REF!)+(#REF!*#REF!))/(#REF!+#REF!+#REF!)","v":{"$error":"#VALUE!"}},{"$f":"((AA614*#REF!)+(#REF!*#REF!)+(#REF!*#REF!))/(#REF!+#REF!+#REF!)","v":{"$error":"#VALUE!"}},{"$f":"((AA614*#REF!)+(#REF!*#REF!)+(#REF!*#REF!))/(#REF!+#REF!+#REF!)","v":{"$error":"#VALUE!"}}]
[null,null,null,null,null,null,null,null,null,null,null,null,null,null,null,null,null,null,null,null,null,613,{"$error":"#VALUE!"},{"$f":"AVERAGE($W$3:W615)","v":{"$error":"#VALUE!"}},null,{"$error":"#VALUE!"},{"$error":"#VALUE!"},{"$f":"AVERAGE($AA$3:AA615)","v":{"$error":"#VALUE!"}},null,null,null,{"$f":"((AA615*#REF!)+(#REF!*#REF!)+(#REF!*#REF!))/(#REF!+#REF!+#REF!)","v":{"$error":"#VALUE!"}},{"$f":"((AA615*#REF!)+(#REF!*#REF!)+(#REF!*#REF!))/(#REF!+#REF!+#REF!)","v":{"$error":"#VALUE!"}},{"$f":"((AA615*#REF!)+(#REF!*#REF!)+(#REF!*#REF!))/(#REF!+#REF!+#REF!)","v":{"$error":"#VALUE!"}},{"$f":"((AA615*#REF!)+(#REF!*#REF!)+(#REF!*#REF!))/(#REF!+#REF!+#REF!)","v":{"$error":"#VALUE!"}},{"$f":"((AA615*#REF!)+(#REF!*#REF!)+(#REF!*#REF!))/(#REF!+#REF!+#REF!)","v":{"$error":"#VALUE!"}},{"$f":"((AA615*#REF!)+(#REF!*#REF!)+(#REF!*#REF!))/(#REF!+#REF!+#REF!)","v":{"$error":"#VALUE!"}},{"$f":"((AA615*#REF!)+(#REF!*#REF!)+(#REF!*#REF!))/(#REF!+#REF!+#REF!)","v":{"$error":"#VALUE!"}}]
[null,null,null,null,null,null,null,null,null,null,null,null,null,null,null,null,null,null,null,null,null,614,{"$error":"#VALUE!"},{"$f":"AVERAGE($W$3:W616)","v":{"$error":"#VALUE!"}},null,{"$error":"#VALUE!"},{"$error":"#VALUE!"},{"$f":"AVERAGE($AA$3:AA616)","v":{"$error":"#VALUE!"}},null,null,null,{"$f":"((AA616*#REF!)+(#REF!*#REF!)+(#REF!*#REF!))/(#REF!+#REF!+#REF!)","v":{"$error":"#VALUE!"}},{"$f":"((AA616*#REF!)+(#REF!*#REF!)+(#REF!*#REF!))/(#REF!+#REF!+#REF!)","v":{"$error":"#VALUE!"}},{"$f":"((AA616*#REF!)+(#REF!*#REF!)+(#REF!*#REF!))/(#REF!+#REF!+#REF!)","v":{"$error":"#VALUE!"}},{"$f":"((AA616*#REF!)+(#REF!*#REF!)+(#REF!*#REF!))/(#REF!+#REF!+#REF!)","v":{"$error":"#VALUE!"}},{"$f":"((AA616*#REF!)+(#REF!*#REF!)+(#REF!*#REF!))/(#REF!+#REF!+#REF!)","v":{"$error":"#VALUE!"}},{"$f":"((AA616*#REF!)+(#REF!*#REF!)+(#REF!*#REF!))/(#REF!+#REF!+#REF!)","v":{"$error":"#VALUE!"}},{"$f":"((AA616*#REF!)+(#REF!*#REF!)+(#REF!*#REF!))/(#REF!+#REF!+#REF!)","v":{"$error":"#VALUE!"}}]
[null,null,null,null,null,null,null,null,null,null,null,null,null,null,null,null,null,null,null,null,null,615,{"$error":"#VALUE!"},{"$f":"AVERAGE($W$3:W617)","v":{"$error":"#VALUE!"}},null,{"$error":"#VALUE!"},{"$error":"#VALUE!"},{"$f":"AVERAGE($AA$3:AA617)","v":{"$error":"#VALUE!"}},null,null,null,{"$f":"((AA617*#REF!)+(#REF!*#REF!)+(#REF!*#REF!))/(#REF!+#REF!+#REF!)","v":{"$error":"#VALUE!"}},{"$f":"((AA617*#REF!)+(#REF!*#REF!)+(#REF!*#REF!))/(#REF!+#REF!+#REF!)","v":{"$error":"#VALUE!"}},{"$f":"((AA617*#REF!)+(#REF!*#REF!)+(#REF!*#REF!))/(#REF!+#REF!+#REF!)","v":{"$error":"#VALUE!"}},{"$f":"((AA617*#REF!)+(#REF!*#REF!)+(#REF!*#REF!))/(#REF!+#REF!+#REF!)","v":{"$error":"#VALUE!"}},{"$f":"((AA617*#REF!)+(#REF!*#REF!)+(#REF!*#REF!))/(#REF!+#REF!+#REF!)","v":{"$error":"#VALUE!"}},{"$f":"((AA617*#REF!)+(#REF!*#REF!)+(#REF!*#REF!))/(#REF!+#REF!+#REF!)","v":{"$error":"#VALUE!"}},{"$f":"((AA617*#REF!)+(#REF!*#REF!)+(#REF!*#REF!))/(#REF!+#REF!+#REF!)","v":{"$error":"#VALUE!"}}]
[null,null,null,null,null,null,null,null,null,null,null,null,null,null,null,null,null,null,null,null,null,616,{"$error":"#VALUE!"},{"$f":"AVERAGE($W$3:W618)","v":{"$error":"#VALUE!"}},null,{"$error":"#VALUE!"},{"$error":"#VALUE!"},{"$f":"AVERAGE($AA$3:AA618)","v":{"$error":"#VALUE!"}},null,null,null,{"$f":"((AA618*#REF!)+(#REF!*#REF!)+(#REF!*#REF!))/(#REF!+#REF!+#REF!)","v":{"$error":"#VALUE!"}},{"$f":"((AA618*#REF!)+(#REF!*#REF!)+(#REF!*#REF!))/(#REF!+#REF!+#REF!)","v":{"$error":"#VALUE!"}},{"$f":"((AA618*#REF!)+(#REF!*#REF!)+(#REF!*#REF!))/(#REF!+#REF!+#REF!)","v":{"$error":"#VALUE!"}},{"$f":"((AA618*#REF!)+(#REF!*#REF!)+(#REF!*#REF!))/(#REF!+#REF!+#REF!)","v":{"$error":"#VALUE!"}},{"$f":"((AA618*#REF!)+(#REF!*#REF!)+(#REF!*#REF!))/(#REF!+#REF!+#REF!)","v":{"$error":"#VALUE!"}},{"$f":"((AA618*#REF!)+(#REF!*#REF!)+(#REF!*#REF!))/(#REF!+#REF!+#REF!)","v":{"$error":"#VALUE!"}},{"$f":"((AA618*#REF!)+(#REF!*#REF!)+(#REF!*#REF!))/(#REF!+#REF!+#REF!)","v":{"$error":"#VALUE!"}}]
[null,null,null,null,null,null,null,null,null,null,null,null,null,null,null,null,null,null,null,null,null,617,{"$error":"#VALUE!"},{"$f":"AVERAGE($W$3:W619)","v":{"$error":"#VALUE!"}},null,{"$error":"#VALUE!"},{"$error":"#VALUE!"},{"$f":"AVERAGE($AA$3:AA619)","v":{"$error":"#VALUE!"}},null,null,null,{"$f":"((AA619*#REF!)+(#REF!*#REF!)+(#REF!*#REF!))/(#REF!+#REF!+#REF!)","v":{"$error":"#VALUE!"}},{"$f":"((AA619*#REF!)+(#REF!*#REF!)+(#REF!*#REF!))/(#REF!+#REF!+#REF!)","v":{"$error":"#VALUE!"}},{"$f":"((AA619*#REF!)+(#REF!*#REF!)+(#REF!*#REF!))/(#REF!+#REF!+#REF!)","v":{"$error":"#VALUE!"}},{"$f":"((AA619*#REF!)+(#REF!*#REF!)+(#REF!*#REF!))/(#REF!+#REF!+#REF!)","v":{"$error":"#VALUE!"}},{"$f":"((AA619*#REF!)+(#REF!*#REF!)+(#REF!*#REF!))/(#REF!+#REF!+#REF!)","v":{"$error":"#VALUE!"}},{"$f":"((AA619*#REF!)+(#REF!*#REF!)+(#REF!*#REF!))/(#REF!+#REF!+#REF!)","v":{"$error":"#VALUE!"}},{"$f":"((AA619*#REF!)+(#REF!*#REF!)+(#REF!*#REF!))/(#REF!+#REF!+#REF!)","v":{"$error":"#VALUE!"}}]
[null,null,null,null,null,null,null,null,null,null,null,null,null,null,null,null,null,null,null,null,null,618,{"$error":"#VALUE!"},{"$f":"AVERAGE($W$3:W620)","v":{"$error":"#VALUE!"}},null,{"$error":"#VALUE!"},{"$error":"#VALUE!"},{"$f":"AVERAGE($AA$3:AA620)","v":{"$error":"#VALUE!"}},null,null,null,{"$f":"((AA620*#REF!)+(#REF!*#REF!)+(#REF!*#REF!))/(#REF!+#REF!+#REF!)","v":{"$error":"#VALUE!"}},{"$f":"((AA620*#REF!)+(#REF!*#REF!)+(#REF!*#REF!))/(#REF!+#REF!+#REF!)","v":{"$error":"#VALUE!"}},{"$f":"((AA620*#REF!)+(#REF!*#REF!)+(#REF!*#REF!))/(#REF!+#REF!+#REF!)","v":{"$error":"#VALUE!"}},{"$f":"((AA620*#REF!)+(#REF!*#REF!)+(#REF!*#REF!))/(#REF!+#REF!+#REF!)","v":{"$error":"#VALUE!"}},{"$f":"((AA620*#REF!)+(#REF!*#REF!)+(#REF!*#REF!))/(#REF!+#REF!+#REF!)","v":{"$error":"#VALUE!"}},{"$f":"((AA620*#REF!)+(#REF!*#REF!)+(#REF!*#REF!))/(#REF!+#REF!+#REF!)","v":{"$error":"#VALUE!"}},{"$f":"((AA620*#REF!)+(#REF!*#REF!)+(#REF!*#REF!))/(#REF!+#REF!+#REF!)","v":{"$error":"#VALUE!"}}]
[null,null,null,null,null,null,null,null,null,null,null,null,null,null,null,null,null,null,null,null,null,619,{"$error":"#VALUE!"},{"$f":"AVERAGE($W$3:W621)","v":{"$error":"#VALUE!"}},null,{"$error":"#VALUE!"},{"$error":"#VALUE!"},{"$f":"AVERAGE($AA$3:AA621)","v":{"$error":"#VALUE!"}},null,null,null,{"$f":"((AA621*#REF!)+(#REF!*#REF!)+(#REF!*#REF!))/(#REF!+#REF!+#REF!)","v":{"$error":"#VALUE!"}},{"$f":"((AA621*#REF!)+(#REF!*#REF!)+(#REF!*#REF!))/(#REF!+#REF!+#REF!)","v":{"$error":"#VALUE!"}},{"$f":"((AA621*#REF!)+(#REF!*#REF!)+(#REF!*#REF!))/(#REF!+#REF!+#REF!)","v":{"$error":"#VALUE!"}},{"$f":"((AA621*#REF!)+(#REF!*#REF!)+(#REF!*#REF!))/(#REF!+#REF!+#REF!)","v":{"$error":"#VALUE!"}},{"$f":"((AA621*#REF!)+(#REF!*#REF!)+(#REF!*#REF!))/(#REF!+#REF!+#REF!)","v":{"$error":"#VALUE!"}},{"$f":"((AA621*#REF!)+(#REF!*#REF!)+(#REF!*#REF!))/(#REF!+#REF!+#REF!)","v":{"$error":"#VALUE!"}},{"$f":"((AA621*#REF!)+(#REF!*#REF!)+(#REF!*#REF!))/(#REF!+#REF!+#REF!)","v":{"$error":"#VALUE!"}}]
[null,null,null,null,null,null,null,null,null,null,null,null,null,null,null,null,null,null,null,null,null,620,{"$error":"#VALUE!"},{"$f":"AVERAGE($W$3:W622)","v":{"$error":"#VALUE!"}},null,{"$error":"#VALUE!"},{"$error":"#VALUE!"},{"$f":"AVERAGE($AA$3:AA622)","v":{"$error":"#VALUE!"}},null,null,null,{"$f":"((AA622*#REF!)+(#REF!*#REF!)+(#REF!*#REF!))/(#REF!+#REF!+#REF!)","v":{"$error":"#VALUE!"}},{"$f":"((AA622*#REF!)+(#REF!*#REF!)+(#REF!*#REF!))/(#REF!+#REF!+#REF!)","v":{"$error":"#VALUE!"}},{"$f":"((AA622*#REF!)+(#REF!*#REF!)+(#REF!*#REF!))/(#REF!+#REF!+#REF!)","v":{"$error":"#VALUE!"}},{"$f":"((AA622*#REF!)+(#REF!*#REF!)+(#REF!*#REF!))/(#REF!+#REF!+#REF!)","v":{"$error":"#VALUE!"}},{"$f":"((AA622*#REF!)+(#REF!*#REF!)+(#REF!*#REF!))/(#REF!+#REF!+#REF!)","v":{"$error":"#VALUE!"}},{"$f":"((AA622*#REF!)+(#REF!*#REF!)+(#REF!*#REF!))/(#REF!+#REF!+#REF!)","v":{"$error":"#VALUE!"}},{"$f":"((AA622*#REF!)+(#REF!*#REF!)+(#REF!*#REF!))/(#REF!+#REF!+#REF!)","v":{"$error":"#VALUE!"}}]
[null,null,null,null,null,null,null,null,null,null,null,null,null,null,null,null,null,null,null,null,null,621,{"$error":"#VALUE!"},{"$f":"AVERAGE($W$3:W623)","v":{"$error":"#VALUE!"}},null,{"$error":"#VALUE!"},{"$error":"#VALUE!"},{"$f":"AVERAGE($AA$3:AA623)","v":{"$error":"#VALUE!"}},null,null,null,{"$f":"((AA623*#REF!)+(#REF!*#REF!)+(#REF!*#REF!))/(#REF!+#REF!+#REF!)","v":{"$error":"#VALUE!"}},{"$f":"((AA623*#REF!)+(#REF!*#REF!)+(#REF!*#REF!))/(#REF!+#REF!+#REF!)","v":{"$error":"#VALUE!"}},{"$f":"((AA623*#REF!)+(#REF!*#REF!)+(#REF!*#REF!))/(#REF!+#REF!+#REF!)","v":{"$error":"#VALUE!"}},{"$f":"((AA623*#REF!)+(#REF!*#REF!)+(#REF!*#REF!))/(#REF!+#REF!+#REF!)","v":{"$error":"#VALUE!"}},{"$f":"((AA623*#REF!)+(#REF!*#REF!)+(#REF!*#REF!))/(#REF!+#REF!+#REF!)","v":{"$error":"#VALUE!"}},{"$f":"((AA623*#REF!)+(#REF!*#REF!)+(#REF!*#REF!))/(#REF!+#REF!+#REF!)","v":{"$error":"#VALUE!"}},{"$f":"((AA623*#REF!)+(#REF!*#REF!)+(#REF!*#REF!))/(#REF!+#REF!+#REF!)","v":{"$error":"#VALUE!"}}]
[null,null,null,null,null,null,null,null,null,null,null,null,null,null,null,null,null,null,null,null,null,622,{"$error":"#VALUE!"},{"$f":"AVERAGE($W$3:W624)","v":{"$error":"#VALUE!"}},null,{"$error":"#VALUE!"},{"$error":"#VALUE!"},{"$f":"AVERAGE($AA$3:AA624)","v":{"$error":"#VALUE!"}},null,null,null,{"$f":"((AA624*#REF!)+(#REF!*#REF!)+(#REF!*#REF!))/(#REF!+#REF!+#REF!)","v":{"$error":"#VALUE!"}},{"$f":"((AA624*#REF!)+(#REF!*#REF!)+(#REF!*#REF!))/(#REF!+#REF!+#REF!)","v":{"$error":"#VALUE!"}},{"$f":"((AA624*#REF!)+(#REF!*#REF!)+(#REF!*#REF!))/(#REF!+#REF!+#REF!)","v":{"$error":"#VALUE!"}},{"$f":"((AA624*#REF!)+(#REF!*#REF!)+(#REF!*#REF!))/(#REF!+#REF!+#REF!)","v":{"$error":"#VALUE!"}},{"$f":"((AA624*#REF!)+(#REF!*#REF!)+(#REF!*#REF!))/(#REF!+#REF!+#REF!)","v":{"$error":"#VALUE!"}},{"$f":"((AA624*#REF!)+(#REF!*#REF!)+(#REF!*#REF!))/(#REF!+#REF!+#REF!)","v":{"$error":"#VALUE!"}},{"$f":"((AA624*#REF!)+(#REF!*#REF!)+(#REF!*#REF!))/(#REF!+#REF!+#REF!)","v":{"$error":"#VALUE!"}}]
[null,null,null,null,null,null,null,null,null,null,null,null,null,null,null,null,null,null,null,null,null,623,{"$error":"#VALUE!"},{"$f":"AVERAGE($W$3:W625)","v":{"$error":"#VALUE!"}},null,{"$error":"#VALUE!"},{"$error":"#VALUE!"},{"$f":"AVERAGE($AA$3:AA625)","v":{"$error":"#VALUE!"}},null,null,null,{"$f":"((AA625*#REF!)+(#REF!*#REF!)+(#REF!*#REF!))/(#REF!+#REF!+#REF!)","v":{"$error":"#VALUE!"}},{"$f":"((AA625*#REF!)+(#REF!*#REF!)+(#REF!*#REF!))/(#REF!+#REF!+#REF!)","v":{"$error":"#VALUE!"}},{"$f":"((AA625*#REF!)+(#REF!*#REF!)+(#REF!*#REF!))/(#REF!+#REF!+#REF!)","v":{"$error":"#VALUE!"}},{"$f":"((AA625*#REF!)+(#REF!*#REF!)+(#REF!*#REF!))/(#REF!+#REF!+#REF!)","v":{"$error":"#VALUE!"}},{"$f":"((AA625*#REF!)+(#REF!*#REF!)+(#REF!*#REF!))/(#REF!+#REF!+#REF!)","v":{"$error":"#VALUE!"}},{"$f":"((AA625*#REF!)+(#REF!*#REF!)+(#REF!*#REF!))/(#REF!+#REF!+#REF!)","v":{"$error":"#VALUE!"}},{"$f":"((AA625*#REF!)+(#REF!*#REF!)+(#REF!*#REF!))/(#REF!+#REF!+#REF!)","v":{"$error":"#VALUE!"}}]
[null,null,null,null,null,null,null,null,null,null,null,null,null,null,null,null,null,null,null,null,null,624,{"$error":"#VALUE!"},{"$f":"AVERAGE($W$3:W626)","v":{"$error":"#VALUE!"}},null,{"$error":"#VALUE!"},{"$error":"#VALUE!"},{"$f":"AVERAGE($AA$3:AA626)","v":{"$error":"#VALUE!"}},null,null,null,{"$f":"((AA626*#REF!)+(#REF!*#REF!)+(#REF!*#REF!))/(#REF!+#REF!+#REF!)","v":{"$error":"#VALUE!"}},{"$f":"((AA626*#REF!)+(#REF!*#REF!)+(#REF!*#REF!))/(#REF!+#REF!+#REF!)","v":{"$error":"#VALUE!"}},{"$f":"((AA626*#REF!)+(#REF!*#REF!)+(#REF!*#REF!))/(#REF!+#REF!+#REF!)","v":{"$error":"#VALUE!"}},{"$f":"((AA626*#REF!)+(#REF!*#REF!)+(#REF!*#REF!))/(#REF!+#REF!+#REF!)","v":{"$error":"#VALUE!"}},{"$f":"((AA626*#REF!)+(#REF!*#REF!)+(#REF!*#REF!))/(#REF!+#REF!+#REF!)","v":{"$error":"#VALUE!"}},{"$f":"((AA626*#REF!)+(#REF!*#REF!)+(#REF!*#REF!))/(#REF!+#REF!+#REF!)","v":{"$error":"#VALUE!"}},{"$f":"((AA626*#REF!)+(#REF!*#REF!)+(#REF!*#REF!))/(#REF!+#REF!+#REF!)","v":{"$error":"#VALUE!"}}]
[null,null,null,null,null,null,null,null,null,null,null,null,null,null,null,null,null,null,null,null,null,625,{"$error":"#VALUE!"},{"$f":"AVERAGE($W$3:W627)","v":{"$error":"#VALUE!"}},null,{"$error":"#VALUE!"},{"$error":"#VALUE!"},{"$f":"AVERAGE($AA$3:AA627)","v":{"$error":"#VALUE!"}},null,null,null,{"$f":"((AA627*#REF!)+(#REF!*#REF!)+(#REF!*#REF!))/(#REF!+#REF!+#REF!)","v":{"$error":"#VALUE!"}},{"$f":"((AA627*#REF!)+(#REF!*#REF!)+(#REF!*#REF!))/(#REF!+#REF!+#REF!)","v":{"$error":"#VALUE!"}},{"$f":"((AA627*#REF!)+(#REF!*#REF!)+(#REF!*#REF!))/(#REF!+#REF!+#REF!)","v":{"$error":"#VALUE!"}},{"$f":"((AA627*#REF!)+(#REF!*#REF!)+(#REF!*#REF!))/(#REF!+#REF!+#REF!)","v":{"$error":"#VALUE!"}},{"$f":"((AA627*#REF!)+(#REF!*#REF!)+(#REF!*#REF!))/(#REF!+#REF!+#REF!)","v":{"$error":"#VALUE!"}},{"$f":"((AA627*#REF!)+(#REF!*#REF!)+(#REF!*#REF!))/(#REF!+#REF!+#REF!)","v":{"$error":"#VALUE!"}},{"$f":"((AA627*#REF!)+(#REF!*#REF!)+(#REF!*#REF!))/(#REF!+#REF!+#REF!)","v":{"$error":"#VALUE!"}}]
[null,null,null,null,null,null,null,null,null,null,null,null,null,null,null,null,null,null,null,null,null,626,{"$error":"#VALUE!"},{"$f":"AVERAGE($W$3:W628)","v":{"$error":"#VALUE!"}},null,{"$error":"#VALUE!"},{"$error":"#VALUE!"},{"$f":"AVERAGE($AA$3:AA628)","v":{"$error":"#VALUE!"}},null,null,null,{"$f":"((AA628*#REF!)+(#REF!*#REF!)+(#REF!*#REF!))/(#REF!+#REF!+#REF!)","v":{"$error":"#VALUE!"}},{"$f":"((AA628*#REF!)+(#REF!*#REF!)+(#REF!*#REF!))/(#REF!+#REF!+#REF!)","v":{"$error":"#VALUE!"}},{"$f":"((AA628*#REF!)+(#REF!*#REF!)+(#REF!*#REF!))/(#REF!+#REF!+#REF!)","v":{"$error":"#VALUE!"}},{"$f":"((AA628*#REF!)+(#REF!*#REF!)+(#REF!*#REF!))/(#REF!+#REF!+#REF!)","v":{"$error":"#VALUE!"}},{"$f":"((AA628*#REF!)+(#REF!*#REF!)+(#REF!*#REF!))/(#REF!+#REF!+#REF!)","v":{"$error":"#VALUE!"}},{"$f":"((AA628*#REF!)+(#REF!*#REF!)+(#REF!*#REF!))/(#REF!+#REF!+#REF!)","v":{"$error":"#VALUE!"}},{"$f":"((AA628*#REF!)+(#REF!*#REF!)+(#REF!*#REF!))/(#REF!+#REF!+#REF!)","v":{"$error":"#VALUE!"}}]
[null,null,null,null,null,null,null,null,null,null,null,null,null,null,null,null,null,null,null,null,null,627,{"$error":"#VALUE!"},{"$f":"AVERAGE($W$3:W629)","v":{"$error":"#VALUE!"}},null,{"$error":"#VALUE!"},{"$error":"#VALUE!"},{"$f":"AVERAGE($AA$3:AA629)","v":{"$error":"#VALUE!"}},null,null,null,{"$f":"((AA629*#REF!)+(#REF!*#REF!)+(#REF!*#REF!))/(#REF!+#REF!+#REF!)","v":{"$error":"#VALUE!"}},{"$f":"((AA629*#REF!)+(#REF!*#REF!)+(#REF!*#REF!))/(#REF!+#REF!+#REF!)","v":{"$error":"#VALUE!"}},{"$f":"((AA629*#REF!)+(#REF!*#REF!)+(#REF!*#REF!))/(#REF!+#REF!+#REF!)","v":{"$error":"#VALUE!"}},{"$f":"((AA629*#REF!)+(#REF!*#REF!)+(#REF!*#REF!))/(#REF!+#REF!+#REF!)","v":{"$error":"#VALUE!"}},{"$f":"((AA629*#REF!)+(#REF!*#REF!)+(#REF!*#REF!))/(#REF!+#REF!+#REF!)","v":{"$error":"#VALUE!"}},{"$f":"((AA629*#REF!)+(#REF!*#REF!)+(#REF!*#REF!))/(#REF!+#REF!+#REF!)","v":{"$error":"#VALUE!"}},{"$f":"((AA629*#REF!)+(#REF!*#REF!)+(#REF!*#REF!))/(#REF!+#REF!+#REF!)","v":{"$error":"#VALUE!"}}]
[null,null,null,null,null,null,null,null,null,null,null,null,null,null,null,null,null,null,null,null,null,628,{"$error":"#VALUE!"},{"$f":"AVERAGE($W$3:W630)","v":{"$error":"#VALUE!"}},null,{"$error":"#VALUE!"},{"$error":"#VALUE!"},{"$f":"AVERAGE($AA$3:AA630)","v":{"$error":"#VALUE!"}},null,null,null,{"$f":"((AA630*#REF!)+(#REF!*#REF!)+(#REF!*#REF!))/(#REF!+#REF!+#REF!)","v":{"$error":"#VALUE!"}},{"$f":"((AA630*#REF!)+(#REF!*#REF!)+(#REF!*#REF!))/(#REF!+#REF!+#REF!)","v":{"$error":"#VALUE!"}},{"$f":"((AA630*#REF!)+(#REF!*#REF!)+(#REF!*#REF!))/(#REF!+#REF!+#REF!)","v":{"$error":"#VALUE!"}},{"$f":"((AA630*#REF!)+(#REF!*#REF!)+(#REF!*#REF!))/(#REF!+#REF!+#REF!)","v":{"$error":"#VALUE!"}},{"$f":"((AA630*#REF!)+(#REF!*#REF!)+(#REF!*#REF!))/(#REF!+#REF!+#REF!)","v":{"$error":"#VALUE!"}},{"$f":"((AA630*#REF!)+(#REF!*#REF!)+(#REF!*#REF!))/(#REF!+#REF!+#REF!)","v":{"$error":"#VALUE!"}},{"$f":"((AA630*#REF!)+(#REF!*#REF!)+(#REF!*#REF!))/(#REF!+#REF!+#REF!)","v":{"$error":"#VALUE!"}}]
[null,null,null,null,null,null,null,null,null,null,null,null,null,null,null,null,null,null,null,null,null,629,{"$error":"#VALUE!"},{"$f":"AVERAGE($W$3:W631)","v":{"$error":"#VALUE!"}},null,{"$error":"#VALUE!"},{"$error":"#VALUE!"},{"$f":"AVERAGE($AA$3:AA631)","v":{"$error":"#VALUE!"}},null,null,null,{"$f":"((AA631*#REF!)+(#REF!*#REF!)+(#REF!*#REF!))/(#REF!+#REF!+#REF!)","v":{"$error":"#VALUE!"}},{"$f":"((AA631*#REF!)+(#REF!*#REF!)+(#REF!*#REF!))/(#REF!+#REF!+#REF!)","v":{"$error":"#VALUE!"}},{"$f":"((AA631*#REF!)+(#REF!*#REF!)+(#REF!*#REF!))/(#REF!+#REF!+#REF!)","v":{"$error":"#VALUE!"}},{"$f":"((AA631*#REF!)+(#REF!*#REF!)+(#REF!*#REF!))/(#REF!+#REF!+#REF!)","v":{"$error":"#VALUE!"}},{"$f":"((AA631*#REF!)+(#REF!*#REF!)+(#REF!*#REF!))/(#REF!+#REF!+#REF!)","v":{"$error":"#VALUE!"}},{"$f":"((AA631*#REF!)+(#REF!*#REF!)+(#REF!*#REF!))/(#REF!+#REF!+#REF!)","v":{"$error":"#VALUE!"}},{"$f":"((AA631*#REF!)+(#REF!*#REF!)+(#REF!*#REF!))/(#REF!+#REF!+#REF!)","v":{"$error":"#VALUE!"}}]
[null,null,null,null,null,null,null,null,null,null,null,null,null,null,null,null,null,null,null,null,null,630,{"$error":"#VALUE!"},{"$f":"AVERAGE($W$3:W632)","v":{"$error":"#VALUE!"}},null,{"$error":"#VALUE!"},{"$error":"#VALUE!"},{"$f":"AVERAGE($AA$3:AA632)","v":{"$error":"#VALUE!"}},null,null,null,{"$f":"((AA632*#REF!)+(#REF!*#REF!)+(#REF!*#REF!))/(#REF!+#REF!+#REF!)","v":{"$error":"#VALUE!"}},{"$f":"((AA632*#REF!)+(#REF!*#REF!)+(#REF!*#REF!))/(#REF!+#REF!+#REF!)","v":{"$error":"#VALUE!"}},{"$f":"((AA632*#REF!)+(#REF!*#REF!)+(#REF!*#REF!))/(#REF!+#REF!+#REF!)","v":{"$error":"#VALUE!"}},{"$f":"((AA632*#REF!)+(#REF!*#REF!)+(#REF!*#REF!))/(#REF!+#REF!+#REF!)","v":{"$error":"#VALUE!"}},{"$f":"((AA632*#REF!)+(#REF!*#REF!)+(#REF!*#REF!))/(#REF!+#REF!+#REF!)","v":{"$error":"#VALUE!"}},{"$f":"((AA632*#REF!)+(#REF!*#REF!)+(#REF!*#REF!))/(#REF!+#REF!+#REF!)","v":{"$error":"#VALUE!"}},{"$f":"((AA632*#REF!)+(#REF!*#REF!)+(#REF!*#REF!))/(#REF!+#REF!+#REF!)","v":{"$error":"#VALUE!"}}]
[null,null,null,null,null,null,null,null,null,null,null,null,null,null,null,null,null,null,null,null,null,631,{"$error":"#VALUE!"},{"$f":"AVERAGE($W$3:W633)","v":{"$error":"#VALUE!"}},null,{"$error":"#VALUE!"},{"$error":"#VALUE!"},{"$f":"AVERAGE($AA$3:AA633)","v":{"$error":"#VALUE!"}},null,null,null,{"$f":"((AA633*#REF!)+(#REF!*#REF!)+(#REF!*#REF!))/(#REF!+#REF!+#REF!)","v":{"$error":"#VALUE!"}},{"$f":"((AA633*#REF!)+(#REF!*#REF!)+(#REF!*#REF!))/(#REF!+#REF!+#REF!)","v":{"$error":"#VALUE!"}},{"$f":"((AA633*#REF!)+(#REF!*#REF!)+(#REF!*#REF!))/(#REF!+#REF!+#REF!)","v":{"$error":"#VALUE!"}},{"$f":"((AA633*#REF!)+(#REF!*#REF!)+(#REF!*#REF!))/(#REF!+#REF!+#REF!)","v":{"$error":"#VALUE!"}},{"$f":"((AA633*#REF!)+(#REF!*#REF!)+(#REF!*#REF!))/(#REF!+#REF!+#REF!)","v":{"$error":"#VALUE!"}},{"$f":"((AA633*#REF!)+(#REF!*#REF!)+(#REF!*#REF!))/(#REF!+#REF!+#REF!)","v":{"$error":"#VALUE!"}},{"$f":"((AA633*#REF!)+(#REF!*#REF!)+(#REF!*#REF!))/(#REF!+#REF!+#REF!)","v":{"$error":"#VALUE!"}}]
[null,null,null,null,null,null,null,null,null,null,null,null,null,null,null,null,null,null,null,null,null,632,{"$error":"#VALUE!"},{"$f":"AVERAGE($W$3:W634)","v":{"$error":"#VALUE!"}},null,{"$error":"#VALUE!"},{"$error":"#VALUE!"},{"$f":"AVERAGE($AA$3:AA634)","v":{"$error":"#VALUE!"}},null,null,null,{"$f":"((AA634*#REF!)+(#REF!*#REF!)+(#REF!*#REF!))/(#REF!+#REF!+#REF!)","v":{"$error":"#VALUE!"}},{"$f":"((AA634*#REF!)+(#REF!*#REF!)+(#REF!*#REF!))/(#REF!+#REF!+#REF!)","v":{"$error":"#VALUE!"}},{"$f":"((AA634*#REF!)+(#REF!*#REF!)+(#REF!*#REF!))/(#REF!+#REF!+#REF!)","v":{"$error":"#VALUE!"}},{"$f":"((AA634*#REF!)+(#REF!*#REF!)+(#REF!*#REF!))/(#REF!+#REF!+#REF!)","v":{"$error":"#VALUE!"}},{"$f":"((AA634*#REF!)+(#REF!*#REF!)+(#REF!*#REF!))/(#REF!+#REF!+#REF!)","v":{"$error":"#VALUE!"}},{"$f":"((AA634*#REF!)+(#REF!*#REF!)+(#REF!*#REF!))/(#REF!+#REF!+#REF!)","v":{"$error":"#VALUE!"}},{"$f":"((AA634*#REF!)+(#REF!*#REF!)+(#REF!*#REF!))/(#REF!+#REF!+#REF!)","v":{"$error":"#VALUE!"}}]
[null,null,null,null,null,null,null,null,null,null,null,null,null,null,null,null,null,null,null,null,null,633,{"$error":"#VALUE!"},{"$f":"AVERAGE($W$3:W635)","v":{"$error":"#VALUE!"}},null,{"$error":"#VALUE!"},{"$error":"#VALUE!"},{"$f":"AVERAGE($AA$3:AA635)","v":{"$error":"#VALUE!"}},null,null,null,{"$f":"((AA635*#REF!)+(#REF!*#REF!)+(#REF!*#REF!))/(#REF!+#REF!+#REF!)","v":{"$error":"#VALUE!"}},{"$f":"((AA635*#REF!)+(#REF!*#REF!)+(#REF!*#REF!))/(#REF!+#REF!+#REF!)","v":{"$error":"#VALUE!"}},{"$f":"((AA635*#REF!)+(#REF!*#REF!)+(#REF!*#REF!))/(#REF!+#REF!+#REF!)","v":{"$error":"#VALUE!"}},{"$f":"((AA635*#REF!)+(#REF!*#REF!)+(#REF!*#REF!))/(#REF!+#REF!+#REF!)","v":{"$error":"#VALUE!"}},{"$f":"((AA635*#REF!)+(#REF!*#REF!)+(#REF!*#REF!))/(#REF!+#REF!+#REF!)","v":{"$error":"#VALUE!"}},{"$f":"((AA635*#REF!)+(#REF!*#REF!)+(#REF!*#REF!))/(#REF!+#REF!+#REF!)","v":{"$error":"#VALUE!"}},{"$f":"((AA635*#REF!)+(#REF!*#REF!)+(#REF!*#REF!))/(#REF!+#REF!+#REF!)","v":{"$error":"#VALUE!"}}]
[null,null,null,null,null,null,null,null,null,null,null,null,null,null,null,null,null,null,null,null,null,634,{"$error":"#VALUE!"},{"$f":"AVERAGE($W$3:W636)","v":{"$error":"#VALUE!"}},null,{"$error":"#VALUE!"},{"$error":"#VALUE!"},{"$f":"AVERAGE($AA$3:AA636)","v":{"$error":"#VALUE!"}},null,null,null,{"$f":"((AA636*#REF!)+(#REF!*#REF!)+(#REF!*#REF!))/(#REF!+#REF!+#REF!)","v":{"$error":"#VALUE!"}},{"$f":"((AA636*#REF!)+(#REF!*#REF!)+(#REF!*#REF!))/(#REF!+#REF!+#REF!)","v":{"$error":"#VALUE!"}},{"$f":"((AA636*#REF!)+(#REF!*#REF!)+(#REF!*#REF!))/(#REF!+#REF!+#REF!)","v":{"$error":"#VALUE!"}},{"$f":"((AA636*#REF!)+(#REF!*#REF!)+(#REF!*#REF!))/(#REF!+#REF!+#REF!)","v":{"$error":"#VALUE!"}},{"$f":"((AA636*#REF!)+(#REF!*#REF!)+(#REF!*#REF!))/(#REF!+#REF!+#REF!)","v":{"$error":"#VALUE!"}},{"$f":"((AA636*#REF!)+(#REF!*#REF!)+(#REF!*#REF!))/(#REF!+#REF!+#REF!)","v":{"$error":"#VALUE!"}},{"$f":"((AA636*#REF!)+(#REF!*#REF!)+(#REF!*#REF!))/(#REF!+#REF!+#REF!)","v":{"$error":"#VALUE!"}}]
[null,null,null,null,null,null,null,null,null,null,null,null,null,null,null,null,null,null,null,null,null,635,{"$error":"#VALUE!"},{"$f":"AVERAGE($W$3:W637)","v":{"$error":"#VALUE!"}},null,{"$error":"#VALUE!"},{"$error":"#VALUE!"},{"$f":"AVERAGE($AA$3:AA637)","v":{"$error":"#VALUE!"}},null,null,null,{"$f":"((AA637*#REF!)+(#REF!*#REF!)+(#REF!*#REF!))/(#REF!+#REF!+#REF!)","v":{"$error":"#VALUE!"}},{"$f":"((AA637*#REF!)+(#REF!*#REF!)+(#REF!*#REF!))/(#REF!+#REF!+#REF!)","v":{"$error":"#VALUE!"}},{"$f":"((AA637*#REF!)+(#REF!*#REF!)+(#REF!*#REF!))/(#REF!+#REF!+#REF!)","v":{"$error":"#VALUE!"}},{"$f":"((AA637*#REF!)+(#REF!*#REF!)+(#REF!*#REF!))/(#REF!+#REF!+#REF!)","v":{"$error":"#VALUE!"}},{"$f":"((AA637*#REF!)+(#REF!*#REF!)+(#REF!*#REF!))/(#REF!+#REF!+#REF!)","v":{"$error":"#VALUE!"}},{"$f":"((AA637*#REF!)+(#REF!*#REF!)+(#REF!*#REF!))/(#REF!+#REF!+#REF!)","v":{"$error":"#VALUE!"}},{"$f":"((AA637*#REF!)+(#REF!*#REF!)+(#REF!*#REF!))/(#REF!+#REF!+#REF!)","v":{"$error":"#VALUE!"}}]
[null,null,null,null,null,null,null,null,null,null,null,null,null,null,null,null,null,null,null,null,null,636,{"$f":"IF(($M$7*LN(V638))+$M$8+$M$10>0,($M$7*LN(V638))+$M$8+$M$10,0)","v":{"$error":"#VALUE!"}},{"$f":"AVERAGE($W$3:W638)","v":{"$error":"#VALUE!"}},null,{"$error":"#VALUE!"},{"$error":"#VALUE!"},{"$f":"AVERAGE($AA$3:AA638)","v":{"$error":"#VALUE!"}},null,null,null,{"$f":"((AA638*#REF!)+(#REF!*#REF!)+(#REF!*#REF!))/(#REF!+#REF!+#REF!)","v":{"$error":"#VALUE!"}},{"$f":"((AA638*#REF!)+(#REF!*#REF!)+(#REF!*#REF!))/(#REF!+#REF!+#REF!)","v":{"$error":"#VALUE!"}},{"$f":"((AA638*#REF!)+(#REF!*#REF!)+(#REF!*#REF!))/(#REF!+#REF!+#REF!)","v":{"$error":"#VALUE!"}},{"$f":"((AA638*#REF!)+(#REF!*#REF!)+(#REF!*#REF!))/(#REF!+#REF!+#REF!)","v":{"$error":"#VALUE!"}},{"$f":"((AA638*#REF!)+(#REF!*#REF!)+(#REF!*#REF!))/(#REF!+#REF!+#REF!)","v":{"$error":"#VALUE!"}},{"$f":"((AA638*#REF!)+(#REF!*#REF!)+(#REF!*#REF!))/(#REF!+#REF!+#REF!)","v":{"$error":"#VALUE!"}},{"$f":"((AA638*#REF!)+(#REF!*#REF!)+(#REF!*#REF!))/(#REF!+#REF!+#REF!)","v":{"$error":"#VALUE!"}}]
[null,null,null,null,null,null,null,null,null,null,null,null,null,null,null,null,null,null,null,null,null,637,{"$error":"#VALUE!"},{"$f":"AVERAGE($W$3:W639)","v":{"$error":"#VALUE!"}},null,{"$error":"#VALUE!"},{"$error":"#VALUE!"},{"$f":"AVERAGE($AA$3:AA639)","v":{"$error":"#VALUE!"}},null,null,null,{"$f":"((AA639*#REF!)+(#REF!*#REF!)+(#REF!*#REF!))/(#REF!+#REF!+#REF!)","v":{"$error":"#VALUE!"}},{"$f":"((AA639*#REF!)+(#REF!*#REF!)+(#REF!*#REF!))/(#REF!+#REF!+#REF!)","v":{"$error":"#VALUE!"}},{"$f":"((AA639*#REF!)+(#REF!*#REF!)+(#REF!*#REF!))/(#REF!+#REF!+#REF!)","v":{"$error":"#VALUE!"}},{"$f":"((AA639*#REF!)+(#REF!*#REF!)+(#REF!*#REF!))/(#REF!+#REF!+#REF!)","v":{"$error":"#VALUE!"}},{"$f":"((AA639*#REF!)+(#REF!*#REF!)+(#REF!*#REF!))/(#REF!+#REF!+#REF!)","v":{"$error":"#VALUE!"}},{"$f":"((AA639*#REF!)+(#REF!*#REF!)+(#REF!*#REF!))/(#REF!+#REF!+#REF!)","v":{"$error":"#VALUE!"}},{"$f":"((AA639*#REF!)+(#REF!*#REF!)+(#REF!*#REF!))/(#REF!+#REF!+#REF!)","v":{"$error":"#VALUE!"}}]
[null,null,null,null,null,null,null,null,null,null,null,null,null,null,null,null,null,null,null,null,null,638,{"$error":"#VALUE!"},{"$f":"AVERAGE($W$3:W640)","v":{"$error":"#VALUE!"}},null,{"$error":"#VALUE!"},{"$error":"#VALUE!"},{"$f":"AVERAGE($AA$3:AA640)","v":{"$error":"#VALUE!"}},null,null,null,{"$f":"((AA640*#REF!)+(#REF!*#REF!)+(#REF!*#REF!))/(#REF!+#REF!+#REF!)","v":{"$error":"#VALUE!"}},{"$f":"((AA640*#REF!)+(#REF!*#REF!)+(#REF!*#REF!))/(#REF!+#REF!+#REF!)","v":{"$error":"#VALUE!"}},{"$f":"((AA640*#REF!)+(#REF!*#REF!)+(#REF!*#REF!))/(#REF!+#REF!+#REF!)","v":{"$error":"#VALUE!"}},{"$f":"((AA640*#REF!)+(#REF!*#REF!)+(#REF!*#REF!))/(#REF!+#REF!+#REF!)","v":{"$error":"#VALUE!"}},{"$f":"((AA640*#REF!)+(#REF!*#REF!)+(#REF!*#REF!))/(#REF!+#REF!+#REF!)","v":{"$error":"#VALUE!"}},{"$f":"((AA640*#REF!)+(#REF!*#REF!)+(#REF!*#REF!))/(#REF!+#REF!+#REF!)","v":{"$error":"#VALUE!"}},{"$f":"((AA640*#REF!)+(#REF!*#REF!)+(#REF!*#REF!))/(#REF!+#REF!+#REF!)","v":{"$error":"#VALUE!"}}]
[null,null,null,null,null,null,null,null,null,null,null,null,null,null,null,null,null,null,null,null,null,639,{"$error":"#VALUE!"},{"$f":"AVERAGE($W$3:W641)","v":{"$error":"#VALUE!"}},null,{"$error":"#VALUE!"},{"$error":"#VALUE!"},{"$f":"AVERAGE($AA$3:AA641)","v":{"$error":"#VALUE!"}},null,null,null,{"$f":"((AA641*#REF!)+(#REF!*#REF!)+(#REF!*#REF!))/(#REF!+#REF!+#REF!)","v":{"$error":"#VALUE!"}},{"$f":"((AA641*#REF!)+(#REF!*#REF!)+(#REF!*#REF!))/(#REF!+#REF!+#REF!)","v":{"$error":"#VALUE!"}},{"$f":"((AA641*#REF!)+(#REF!*#REF!)+(#REF!*#REF!))/(#REF!+#REF!+#REF!)","v":{"$error":"#VALUE!"}},{"$f":"((AA641*#REF!)+(#REF!*#REF!)+(#REF!*#REF!))/(#REF!+#REF!+#REF!)","v":{"$error":"#VALUE!"}},{"$f":"((AA641*#REF!)+(#REF!*#REF!)+(#REF!*#REF!))/(#REF!+#REF!+#REF!)","v":{"$error":"#VALUE!"}},{"$f":"((AA641*#REF!)+(#REF!*#REF!)+(#REF!*#REF!))/(#REF!+#REF!+#REF!)","v":{"$error":"#VALUE!"}},{"$f":"((AA641*#REF!)+(#REF!*#REF!)+(#REF!*#REF!))/(#REF!+#REF!+#REF!)","v":{"$error":"#VALUE!"}}]
[null,null,null,null,null,null,null,null,null,null,null,null,null,null,null,null,null,null,null,null,null,640,{"$error":"#VALUE!"},{"$f":"AVERAGE($W$3:W642)","v":{"$error":"#VALUE!"}},null,{"$error":"#VALUE!"},{"$error":"#VALUE!"},{"$f":"AVERAGE($AA$3:AA642)","v":{"$error":"#VALUE!"}},null,null,null,{"$f":"((AA642*#REF!)+(#REF!*#REF!)+(#REF!*#REF!))/(#REF!+#REF!+#REF!)","v":{"$error":"#VALUE!"}},{"$f":"((AA642*#REF!)+(#REF!*#REF!)+(#REF!*#REF!))/(#REF!+#REF!+#REF!)","v":{"$error":"#VALUE!"}},{"$f":"((AA642*#REF!)+(#REF!*#REF!)+(#REF!*#REF!))/(#REF!+#REF!+#REF!)","v":{"$error":"#VALUE!"}},{"$f":"((AA642*#REF!)+(#REF!*#REF!)+(#REF!*#REF!))/(#REF!+#REF!+#REF!)","v":{"$error":"#VALUE!"}},{"$f":"((AA642*#REF!)+(#REF!*#REF!)+(#REF!*#REF!))/(#REF!+#REF!+#REF!)","v":{"$error":"#VALUE!"}},{"$f":"((AA642*#REF!)+(#REF!*#REF!)+(#REF!*#REF!))/(#REF!+#REF!+#REF!)","v":{"$error":"#VALUE!"}},{"$f":"((AA642*#REF!)+(#REF!*#REF!)+(#REF!*#REF!))/(#REF!+#REF!+#REF!)","v":{"$error":"#VALUE!"}}]
[null,null,null,null,null,null,null,null,null,null,null,null,null,null,null,null,null,null,null,null,null,641,{"$error":"#VALUE!"},{"$f":"AVERAGE($W$3:W643)","v":{"$error":"#VALUE!"}},null,{"$error":"#VALUE!"},{"$error":"#VALUE!"},{"$f":"AVERAGE($AA$3:AA643)","v":{"$error":"#VALUE!"}},null,null,null,{"$f":"((AA643*#REF!)+(#REF!*#REF!)+(#REF!*#REF!))/(#REF!+#REF!+#REF!)","v":{"$error":"#VALUE!"}},{"$f":"((AA643*#REF!)+(#REF!*#REF!)+(#REF!*#REF!))/(#REF!+#REF!+#REF!)","v":{"$error":"#VALUE!"}},{"$f":"((AA643*#REF!)+(#REF!*#REF!)+(#REF!*#REF!))/(#REF!+#REF!+#REF!)","v":{"$error":"#VALUE!"}},{"$f":"((AA643*#REF!)+(#REF!*#REF!)+(#REF!*#REF!))/(#REF!+#REF!+#REF!)","v":{"$error":"#VALUE!"}},{"$f":"((AA643*#REF!)+(#REF!*#REF!)+(#REF!*#REF!))/(#REF!+#REF!+#REF!)","v":{"$error":"#VALUE!"}},{"$f":"((AA643*#REF!)+(#REF!*#REF!)+(#REF!*#REF!))/(#REF!+#REF!+#REF!)","v":{"$error":"#VALUE!"}},{"$f":"((AA643*#REF!)+(#REF!*#REF!)+(#REF!*#REF!))/(#REF!+#REF!+#REF!)","v":{"$error":"#VALUE!"}}]
[null,null,null,null,null,null,null,null,null,null,null,null,null,null,null,null,null,null,null,null,null,642,{"$error":"#VALUE!"},{"$f":"AVERAGE($W$3:W644)","v":{"$error":"#VALUE!"}},null,{"$f":"$M$2+W644","v":{"$error":"#VALUE!"}},{"$f":"(Z644*(9/5))+32","v":{"$error":"#VALUE!"}},{"$f":"AVERAGE($AA$3:AA644)","v":{"$error":"#VALUE!"}},null,null,null,{"$f":"((AA644*#REF!)+(#REF!*#REF!)+(#REF!*#REF!))/(#REF!+#REF!+#REF!)","v":{"$error":"#VALUE!"}},{"$f":"((AA644*#REF!)+(#REF!*#REF!)+(#REF!*#REF!))/(#REF!+#REF!+#REF!)","v":{"$error":"#VALUE!"}},{"$f":"((AA644*#REF!)+(#REF!*#REF!)+(#REF!*#REF!))/(#REF!+#REF!+#REF!)","v":{"$error":"#VALUE!"}},{"$f":"((AA644*#REF!)+(#REF!*#REF!)+(#REF!*#REF!))/(#REF!+#REF!+#REF!)","v":{"$error":"#VALUE!"}},{"$f":"((AA644*#REF!)+(#REF!*#REF!)+(#REF!*#REF!))/(#REF!+#REF!+#REF!)","v":{"$error":"#VALUE!"}},{"$f":"((AA644*#REF!)+(#REF!*#REF!)+(#REF!*#REF!))/(#REF!+#REF!+#REF!)","v":{"$error":"#VALUE!"}},{"$f":"((AA644*#REF!)+(#REF!*#REF!)+(#REF!*#REF!))/(#REF!+#REF!+#REF!)","v":{"$error":"#VALUE!"}}]
[null,null,null,null,null,null,null,null,null,null,null,null,null,null,null,null,null,null,null,null,null,643,{"$error":"#VALUE!"},{"$f":"AVERAGE($W$3:W645)","v":{"$error":"#VALUE!"}},null,{"$error":"#VALUE!"},{"$error":"#VALUE!"},{"$f":"AVERAGE($AA$3:AA645)","v":{"$error":"#VALUE!"}},null,null,null,{"$f":"((AA645*#REF!)+(#REF!*#REF!)+(#REF!*#REF!))/(#REF!+#REF!+#REF!)","v":{"$error":"#VALUE!"}},{"$f":"((AA645*#REF!)+(#REF!*#REF!)+(#REF!*#REF!))/(#REF!+#REF!+#REF!)","v":{"$error":"#VALUE!"}},{"$f":"((AA645*#REF!)+(#REF!*#REF!)+(#REF!*#REF!))/(#REF!+#REF!+#REF!)","v":{"$error":"#VALUE!"}},{"$f":"((AA645*#REF!)+(#REF!*#REF!)+(#REF!*#REF!))/(#REF!+#REF!+#REF!)","v":{"$error":"#VALUE!"}},{"$f":"((AA645*#REF!)+(#REF!*#REF!)+(#REF!*#REF!))/(#REF!+#REF!+#REF!)","v":{"$error":"#VALUE!"}},{"$f":"((AA645*#REF!)+(#REF!*#REF!)+(#REF!*#REF!))/(#REF!+#REF!+#REF!)","v":{"$error":"#VALUE!"}},{"$f":"((AA645*#REF!)+(#REF!*#REF!)+(#REF!*#REF!))/(#REF!+#REF!+#REF!)","v":{"$error":"#VALUE!"}}]
[null,null,null,null,null,null,null,null,null,null,null,null,null,null,null,null,null,null,null,null,null,644,{"$error":"#VALUE!"},{"$f":"AVERAGE($W$3:W646)","v":{"$error":"#VALUE!"}},null,{"$error":"#VALUE!"},{"$error":"#VALUE!"},{"$f":"AVERAGE($AA$3:AA646)","v":{"$error":"#VALUE!"}},null,null,null,{"$f":"((AA646*#REF!)+(#REF!*#REF!)+(#REF!*#REF!))/(#REF!+#REF!+#REF!)","v":{"$error":"#VALUE!"}},{"$f":"((AA646*#REF!)+(#REF!*#REF!)+(#REF!*#REF!))/(#REF!+#REF!+#REF!)","v":{"$error":"#VALUE!"}},{"$f":"((AA646*#REF!)+(#REF!*#REF!)+(#REF!*#REF!))/(#REF!+#REF!+#REF!)","v":{"$error":"#VALUE!"}},{"$f":"((AA646*#REF!)+(#REF!*#REF!)+(#REF!*#REF!))/(#REF!+#REF!+#REF!)","v":{"$error":"#VALUE!"}},{"$f":"((AA646*#REF!)+(#REF!*#REF!)+(#REF!*#REF!))/(#REF!+#REF!+#REF!)","v":{"$error":"#VALUE!"}},{"$f":"((AA646*#REF!)+(#REF!*#REF!)+(#REF!*#REF!))/(#REF!+#REF!+#REF!)","v":{"$error":"#VALUE!"}},{"$f":"((AA646*#REF!)+(#REF!*#REF!)+(#REF!*#REF!))/(#REF!+#REF!+#REF!)","v":{"$error":"#VALUE!"}}]
[null,null,null,null,null,null,null,null,null,null,null,null,null,null,null,null,null,null,null,null,null,645,{"$error":"#VALUE!"},{"$f":"AVERAGE($W$3:W647)","v":{"$error":"#VALUE!"}},null,{"$error":"#VALUE!"},{"$error":"#VALUE!"},{"$f":"AVERAGE($AA$3:AA647)","v":{"$error":"#VALUE!"}},null,null,null,{"$f":"((AA647*#REF!)+(#REF!*#REF!)+(#REF!*#REF!))/(#REF!+#REF!+#REF!)","v":{"$error":"#VALUE!"}},{"$f":"((AA647*#REF!)+(#REF!*#REF!)+(#REF!*#REF!))/(#REF!+#REF!+#REF!)","v":{"$error":"#VALUE!"}},{"$f":"((AA647*#REF!)+(#REF!*#REF!)+(#REF!*#REF!))/(#REF!+#REF!+#REF!)","v":{"$error":"#VALUE!"}},{"$f":"((AA647*#REF!)+(#REF!*#REF!)+(#REF!*#REF!))/(#REF!+#REF!+#REF!)","v":{"$error":"#VALUE!"}},{"$f":"((AA647*#REF!)+(#REF!*#REF!)+(#REF!*#REF!))/(#REF!+#REF!+#REF!)","v":{"$error":"#VALUE!"}},{"$f":"((AA647*#REF!)+(#REF!*#REF!)+(#REF!*#REF!))/(#REF!+#REF!+#REF!)","v":{"$error":"#VALUE!"}},{"$f":"((AA647*#REF!)+(#REF!*#REF!)+(#REF!*#REF!))/(#REF!+#REF!+#REF!)","v":{"$error":"#VALUE!"}}]
[null,null,null,null,null,null,null,null,null,null,null,null,null,null,null,null,null,null,null,null,null,646,{"$error":"#VALUE!"},{"$f":"AVERAGE($W$3:W648)","v":{"$error":"#VALUE!"}},null,{"$error":"#VALUE!"},{"$error":"#VALUE!"},{"$f":"AVERAGE($AA$3:AA648)","v":{"$error":"#VALUE!"}},null,null,null,{"$f":"((AA648*#REF!)+(#REF!*#REF!)+(#REF!*#REF!))/(#REF!+#REF!+#REF!)","v":{"$error":"#VALUE!"}},{"$f":"((AA648*#REF!)+(#REF!*#REF!)+(#REF!*#REF!))/(#REF!+#REF!+#REF!)","v":{"$error":"#VALUE!"}},{"$f":"((AA648*#REF!)+(#REF!*#REF!)+(#REF!*#REF!))/(#REF!+#REF!+#REF!)","v":{"$error":"#VALUE!"}},{"$f":"((AA648*#REF!)+(#REF!*#REF!)+(#REF!*#REF!))/(#REF!+#REF!+#REF!)","v":{"$error":"#VALUE!"}},{"$f":"((AA648*#REF!)+(#REF!*#REF!)+(#REF!*#REF!))/(#REF!+#REF!+#REF!)","v":{"$error":"#VALUE!"}},{"$f":"((AA648*#REF!)+(#REF!*#REF!)+(#REF!*#REF!))/(#REF!+#REF!+#REF!)","v":{"$error":"#VALUE!"}},{"$f":"((AA648*#REF!)+(#REF!*#REF!)+(#REF!*#REF!))/(#REF!+#REF!+#REF!)","v":{"$error":"#VALUE!"}}]
[null,null,null,null,null,null,null,null,null,null,null,null,null,null,null,null,null,null,null,null,null,647,{"$error":"#VALUE!"},{"$f":"AVERAGE($W$3:W649)","v":{"$error":"#VALUE!"}},null,{"$error":"#VALUE!"},{"$error":"#VALUE!"},{"$f":"AVERAGE($AA$3:AA649)","v":{"$error":"#VALUE!"}},null,null,null,{"$f":"((AA649*#REF!)+(#REF!*#REF!)+(#REF!*#REF!))/(#REF!+#REF!+#REF!)","v":{"$error":"#VALUE!"}},{"$f":"((AA649*#REF!)+(#REF!*#REF!)+(#REF!*#REF!))/(#REF!+#REF!+#REF!)","v":{"$error":"#VALUE!"}},{"$f":"((AA649*#REF!)+(#REF!*#REF!)+(#REF!*#REF!))/(#REF!+#REF!+#REF!)","v":{"$error":"#VALUE!"}},{"$f":"((AA649*#REF!)+(#REF!*#REF!)+(#REF!*#REF!))/(#REF!+#REF!+#REF!)","v":{"$error":"#VALUE!"}},{"$f":"((AA649*#REF!)+(#REF!*#REF!)+(#REF!*#REF!))/(#REF!+#REF!+#REF!)","v":{"$error":"#VALUE!"}},{"$f":"((AA649*#REF!)+(#REF!*#REF!)+(#REF!*#REF!))/(#REF!+#REF!+#REF!)","v":{"$error":"#VALUE!"}},{"$f":"((AA649*#REF!)+(#REF!*#REF!)+(#REF!*#REF!))/(#REF!+#REF!+#REF!)","v":{"$error":"#VALUE!"}}]
[null,null,null,null,null,null,null,null,null,null,null,null,null,null,null,null,null,null,null,null,null,648,{"$error":"#VALUE!"},{"$f":"AVERAGE($W$3:W650)","v":{"$error":"#VALUE!"}},null,{"$error":"#VALUE!"},{"$error":"#VALUE!"},{"$f":"AVERAGE($AA$3:AA650)","v":{"$error":"#VALUE!"}},null,null,null,{"$f":"((AA650*#REF!)+(#REF!*#REF!)+(#REF!*#REF!))/(#REF!+#REF!+#REF!)","v":{"$error":"#VALUE!"}},{"$f":"((AA650*#REF!)+(#REF!*#REF!)+(#REF!*#REF!))/(#REF!+#REF!+#REF!)","v":{"$error":"#VALUE!"}},{"$f":"((AA650*#REF!)+(#REF!*#REF!)+(#REF!*#REF!))/(#REF!+#REF!+#REF!)","v":{"$error":"#VALUE!"}},{"$f":"((AA650*#REF!)+(#REF!*#REF!)+(#REF!*#REF!))/(#REF!+#REF!+#REF!)","v":{"$error":"#VALUE!"}},{"$f":"((AA650*#REF!)+(#REF!*#REF!)+(#REF!*#REF!))/(#REF!+#REF!+#REF!)","v":{"$error":"#VALUE!"}},{"$f":"((AA650*#REF!)+(#REF!*#REF!)+(#REF!*#REF!))/(#REF!+#REF!+#REF!)","v":{"$error":"#VALUE!"}},{"$f":"((AA650*#REF!)+(#REF!*#REF!)+(#REF!*#REF!))/(#REF!+#REF!+#REF!)","v":{"$error":"#VALUE!"}}]
[null,null,null,null,null,null,null,null,null,null,null,null,null,null,null,null,null,null,null,null,null,649,{"$error":"#VALUE!"},{"$f":"AVERAGE($W$3:W651)","v":{"$error":"#VALUE!"}},null,{"$error":"#VALUE!"},{"$error":"#VALUE!"},{"$f":"AVERAGE($AA$3:AA651)","v":{"$error":"#VALUE!"}},null,null,null,{"$f":"((AA651*#REF!)+(#REF!*#REF!)+(#REF!*#REF!))/(#REF!+#REF!+#REF!)","v":{"$error":"#VALUE!"}},{"$f":"((AA651*#REF!)+(#REF!*#REF!)+(#REF!*#REF!))/(#REF!+#REF!+#REF!)","v":{"$error":"#VALUE!"}},{"$f":"((AA651*#REF!)+(#REF!*#REF!)+(#REF!*#REF!))/(#REF!+#REF!+#REF!)","v":{"$error":"#VALUE!"}},{"$f":"((AA651*#REF!)+(#REF!*#REF!)+(#REF!*#REF!))/(#REF!+#REF!+#REF!)","v":{"$error":"#VALUE!"}},{"$f":"((AA651*#REF!)+(#REF!*#REF!)+(#REF!*#REF!))/(#REF!+#REF!+#REF!)","v":{"$error":"#VALUE!"}},{"$f":"((AA651*#REF!)+(#REF!*#REF!)+(#REF!*#REF!))/(#REF!+#REF!+#REF!)","v":{"$error":"#VALUE!"}},{"$f":"((AA651*#REF!)+(#REF!*#REF!)+(#REF!*#REF!))/(#REF!+#REF!+#REF!)","v":{"$error":"#VALUE!"}}]
[null,null,null,null,null,null,null,null,null,null,null,null,null,null,null,null,null,null,null,null,null,650,{"$error":"#VALUE!"},{"$f":"AVERAGE($W$3:W652)","v":{"$error":"#VALUE!"}},null,{"$error":"#VALUE!"},{"$error":"#VALUE!"},{"$f":"AVERAGE($AA$3:AA652)","v":{"$error":"#VALUE!"}},null,null,null,{"$f":"((AA652*#REF!)+(#REF!*#REF!)+(#REF!*#REF!))/(#REF!+#REF!+#REF!)","v":{"$error":"#VALUE!"}},{"$f":"((AA652*#REF!)+(#REF!*#REF!)+(#REF!*#REF!))/(#REF!+#REF!+#REF!)","v":{"$error":"#VALUE!"}},{"$f":"((AA652*#REF!)+(#REF!*#REF!)+(#REF!*#REF!))/(#REF!+#REF!+#REF!)","v":{"$error":"#VALUE!"}},{"$f":"((AA652*#REF!)+(#REF!*#REF!)+(#REF!*#REF!))/(#REF!+#REF!+#REF!)","v":{"$error":"#VALUE!"}},{"$f":"((AA652*#REF!)+(#REF!*#REF!)+(#REF!*#REF!))/(#REF!+#REF!+#REF!)","v":{"$error":"#VALUE!"}},{"$f":"((AA652*#REF!)+(#REF!*#REF!)+(#REF!*#REF!))/(#REF!+#REF!+#REF!)","v":{"$error":"#VALUE!"}},{"$f":"((AA652*#REF!)+(#REF!*#REF!)+(#REF!*#REF!))/(#REF!+#REF!+#REF!)","v":{"$error":"#VALUE!"}}]
[null,null,null,null,null,null,null,null,null,null,null,null,null,null,null,null,null,null,null,null,null,651,{"$error":"#VALUE!"},{"$f":"AVERAGE($W$3:W653)","v":{"$error":"#VALUE!"}},null,{"$error":"#VALUE!"},{"$error":"#VALUE!"},{"$f":"AVERAGE($AA$3:AA653)","v":{"$error":"#VALUE!"}},null,null,null,{"$f":"((AA653*#REF!)+(#REF!*#REF!)+(#REF!*#REF!))/(#REF!+#REF!+#REF!)","v":{"$error":"#VALUE!"}},{"$f":"((AA653*#REF!)+(#REF!*#REF!)+(#REF!*#REF!))/(#REF!+#REF!+#REF!)","v":{"$error":"#VALUE!"}},{"$f":"((AA653*#REF!)+(#REF!*#REF!)+(#REF!*#REF!))/(#REF!+#REF!+#REF!)","v":{"$error":"#VALUE!"}},{"$f":"((AA653*#REF!)+(#REF!*#REF!)+(#REF!*#REF!))/(#REF!+#REF!+#REF!)","v":{"$error":"#VALUE!"}},{"$f":"((AA653*#REF!)+(#REF!*#REF!)+(#REF!*#REF!))/(#REF!+#REF!+#REF!)","v":{"$error":"#VALUE!"}},{"$f":"((AA653*#REF!)+(#REF!*#REF!)+(#REF!*#REF!))/(#REF!+#REF!+#REF!)","v":{"$error":"#VALUE!"}},{"$f":"((AA653*#REF!)+(#REF!*#REF!)+(#REF!*#REF!))/(#REF!+#REF!+#REF!)","v":{"$error":"#VALUE!"}}]
[null,null,null,null,null,null,null,null,null,null,null,null,null,null,null,null,null,null,null,null,null,652,{"$error":"#VALUE!"},{"$f":"AVERAGE($W$3:W654)","v":{"$error":"#VALUE!"}},null,{"$error":"#VALUE!"},{"$error":"#VALUE!"},{"$f":"AVERAGE($AA$3:AA654)","v":{"$error":"#VALUE!"}},null,null,null,{"$f":"((AA654*#REF!)+(#REF!*#REF!)+(#REF!*#REF!))/(#REF!+#REF!+#REF!)","v":{"$error":"#VALUE!"}},{"$f":"((AA654*#REF!)+(#REF!*#REF!)+(#REF!*#REF!))/(#REF!+#REF!+#REF!)","v":{"$error":"#VALUE!"}},{"$f":"((AA654*#REF!)+(#REF!*#REF!)+(#REF!*#REF!))/(#REF!+#REF!+#REF!)","v":{"$error":"#VALUE!"}},{"$f":"((AA654*#REF!)+(#REF!*#REF!)+(#REF!*#REF!))/(#REF!+#REF!+#REF!)","v":{"$error":"#VALUE!"}},{"$f":"((AA654*#REF!)+(#REF!*#REF!)+(#REF!*#REF!))/(#REF!+#REF!+#REF!)","v":{"$error":"#VALUE!"}},{"$f":"((AA654*#REF!)+(#REF!*#REF!)+(#REF!*#REF!))/(#REF!+#REF!+#REF!)","v":{"$error":"#VALUE!"}},{"$f":"((AA654*#REF!)+(#REF!*#REF!)+(#REF!*#REF!))/(#REF!+#REF!+#REF!)","v":{"$error":"#VALUE!"}}]
[null,null,null,null,null,null,null,null,null,null,null,null,null,null,null,null,null,null,null,null,null,653,{"$error":"#VALUE!"},{"$f":"AVERAGE($W$3:W655)","v":{"$error":"#VALUE!"}},null,{"$error":"#VALUE!"},{"$error":"#VALUE!"},{"$f":"AVERAGE($AA$3:AA655)","v":{"$error":"#VALUE!"}},null,null,null,{"$f":"((AA655*#REF!)+(#REF!*#REF!)+(#REF!*#REF!))/(#REF!+#REF!+#REF!)","v":{"$error":"#VALUE!"}},{"$f":"((AA655*#REF!)+(#REF!*#REF!)+(#REF!*#REF!))/(#REF!+#REF!+#REF!)","v":{"$error":"#VALUE!"}},{"$f":"((AA655*#REF!)+(#REF!*#REF!)+(#REF!*#REF!))/(#REF!+#REF!+#REF!)","v":{"$error":"#VALUE!"}},{"$f":"((AA655*#REF!)+(#REF!*#REF!)+(#REF!*#REF!))/(#REF!+#REF!+#REF!)","v":{"$error":"#VALUE!"}},{"$f":"((AA655*#REF!)+(#REF!*#REF!)+(#REF!*#REF!))/(#REF!+#REF!+#REF!)","v":{"$error":"#VALUE!"}},{"$f":"((AA655*#REF!)+(#REF!*#REF!)+(#REF!*#REF!))/(#REF!+#REF!+#REF!)","v":{"$error":"#VALUE!"}},{"$f":"((AA655*#REF!)+(#REF!*#REF!)+(#REF!*#REF!))/(#REF!+#REF!+#REF!)","v":{"$error":"#VALUE!"}}]
[null,null,null,null,null,null,null,null,null,null,null,null,null,null,null,null,null,null,null,null,null,654,{"$error":"#VALUE!"},{"$f":"AVERAGE($W$3:W656)","v":{"$error":"#VALUE!"}},null,{"$error":"#VALUE!"},{"$error":"#VALUE!"},{"$f":"AVERAGE($AA$3:AA656)","v":{"$error":"#VALUE!"}},null,null,null,{"$f":"((AA656*#REF!)+(#REF!*#REF!)+(#REF!*#REF!))/(#REF!+#REF!+#REF!)","v":{"$error":"#VALUE!"}},{"$f":"((AA656*#REF!)+(#REF!*#REF!)+(#REF!*#REF!))/(#REF!+#REF!+#REF!)","v":{"$error":"#VALUE!"}},{"$f":"((AA656*#REF!)+(#REF!*#REF!)+(#REF!*#REF!))/(#REF!+#REF!+#REF!)","v":{"$error":"#VALUE!"}},{"$f":"((AA656*#REF!)+(#REF!*#REF!)+(#REF!*#REF!))/(#REF!+#REF!+#REF!)","v":{"$error":"#VALUE!"}},{"$f":"((AA656*#REF!)+(#REF!*#REF!)+(#REF!*#REF!))/(#REF!+#REF!+#REF!)","v":{"$error":"#VALUE!"}},{"$f":"((AA656*#REF!)+(#REF!*#REF!)+(#REF!*#REF!))/(#REF!+#REF!+#REF!)","v":{"$error":"#VALUE!"}},{"$f":"((AA656*#REF!)+(#REF!*#REF!)+(#REF!*#REF!))/(#REF!+#REF!+#REF!)","v":{"$error":"#VALUE!"}}]
[null,null,null,null,null,null,null,null,null,null,null,null,null,null,null,null,null,null,null,null,null,655,{"$error":"#VALUE!"},{"$f":"AVERAGE($W$3:W657)","v":{"$error":"#VALUE!"}},null,{"$error":"#VALUE!"},{"$error":"#VALUE!"},{"$f":"AVERAGE($AA$3:AA657)","v":{"$error":"#VALUE!"}},null,null,null,{"$f":"((AA657*#REF!)+(#REF!*#REF!)+(#REF!*#REF!))/(#REF!+#REF!+#REF!)","v":{"$error":"#VALUE!"}},{"$f":"((AA657*#REF!)+(#REF!*#REF!)+(#REF!*#REF!))/(#REF!+#REF!+#REF!)","v":{"$error":"#VALUE!"}},{"$f":"((AA657*#REF!)+(#REF!*#REF!)+(#REF!*#REF!))/(#REF!+#REF!+#REF!)","v":{"$error":"#VALUE!"}},{"$f":"((AA657*#REF!)+(#REF!*#REF!)+(#REF!*#REF!))/(#REF!+#REF!+#REF!)","v":{"$error":"#VALUE!"}},{"$f":"((AA657*#REF!)+(#REF!*#REF!)+(#REF!*#REF!))/(#REF!+#REF!+#REF!)","v":{"$error":"#VALUE!"}},{"$f":"((AA657*#REF!)+(#REF!*#REF!)+(#REF!*#REF!))/(#REF!+#REF!+#REF!)","v":{"$error":"#VALUE!"}},{"$f":"((AA657*#REF!)+(#REF!*#REF!)+(#REF!*#REF!))/(#REF!+#REF!+#REF!)","v":{"$error":"#VALUE!"}}]
[null,null,null,null,null,null,null,null,null,null,null,null,null,null,null,null,null,null,null,null,null,656,{"$error":"#VALUE!"},{"$f":"AVERAGE($W$3:W658)","v":{"$error":"#VALUE!"}},null,{"$error":"#VALUE!"},{"$error":"#VALUE!"},{"$f":"AVERAGE($AA$3:AA658)","v":{"$error":"#VALUE!"}},null,null,null,{"$f":"((AA658*#REF!)+(#REF!*#REF!)+(#REF!*#REF!))/(#REF!+#REF!+#REF!)","v":{"$error":"#VALUE!"}},{"$f":"((AA658*#REF!)+(#REF!*#REF!)+(#REF!*#REF!))/(#REF!+#REF!+#REF!)","v":{"$error":"#VALUE!"}},{"$f":"((AA658*#REF!)+(#REF!*#REF!)+(#REF!*#REF!))/(#REF!+#REF!+#REF!)","v":{"$error":"#VALUE!"}},{"$f":"((AA658*#REF!)+(#REF!*#REF!)+(#REF!*#REF!))/(#REF!+#REF!+#REF!)","v":{"$error":"#VALUE!"}},{"$f":"((AA658*#REF!)+(#REF!*#REF!)+(#REF!*#REF!))/(#REF!+#REF!+#REF!)","v":{"$error":"#VALUE!"}},{"$f":"((AA658*#REF!)+(#REF!*#REF!)+(#REF!*#REF!))/(#REF!+#REF!+#REF!)","v":{"$error":"#VALUE!"}},{"$f":"((AA658*#REF!)+(#REF!*#REF!)+(#REF!*#REF!))/(#REF!+#REF!+#REF!)","v":{"$error":"#VALUE!"}}]
[null,null,null,null,null,null,null,null,null,null,null,null,null,null,null,null,null,null,null,null,null,657,{"$error":"#VALUE!"},{"$f":"AVERAGE($W$3:W659)","v":{"$error":"#VALUE!"}},null,{"$error":"#VALUE!"},{"$error":"#VALUE!"},{"$f":"AVERAGE($AA$3:AA659)","v":{"$error":"#VALUE!"}},null,null,null,{"$f":"((AA659*#REF!)+(#REF!*#REF!)+(#REF!*#REF!))/(#REF!+#REF!+#REF!)","v":{"$error":"#VALUE!"}},{"$f":"((AA659*#REF!)+(#REF!*#REF!)+(#REF!*#REF!))/(#REF!+#REF!+#REF!)","v":{"$error":"#VALUE!"}},{"$f":"((AA659*#REF!)+(#REF!*#REF!)+(#REF!*#REF!))/(#REF!+#REF!+#REF!)","v":{"$error":"#VALUE!"}},{"$f":"((AA659*#REF!)+(#REF!*#REF!)+(#REF!*#REF!))/(#REF!+#REF!+#REF!)","v":{"$error":"#VALUE!"}},{"$f":"((AA659*#REF!)+(#REF!*#REF!)+(#REF!*#REF!))/(#REF!+#REF!+#REF!)","v":{"$error":"#VALUE!"}},{"$f":"((AA659*#REF!)+(#REF!*#REF!)+(#REF!*#REF!))/(#REF!+#REF!+#REF!)","v":{"$error":"#VALUE!"}},{"$f":"((AA659*#REF!)+(#REF!*#REF!)+(#REF!*#REF!))/(#REF!+#REF!+#REF!)","v":{"$error":"#VALUE!"}}]
[null,null,null,null,null,null,null,null,null,null,null,null,null,null,null,null,null,null,null,null,null,658,{"$error":"#VALUE!"},{"$f":"AVERAGE($W$3:W660)","v":{"$error":"#VALUE!"}},null,{"$error":"#VALUE!"},{"$error":"#VALUE!"},{"$f":"AVERAGE($AA$3:AA660)","v":{"$error":"#VALUE!"}},null,null,null,{"$f":"((AA660*#REF!)+(#REF!*#REF!)+(#REF!*#REF!))/(#REF!+#REF!+#REF!)","v":{"$error":"#VALUE!"}},{"$f":"((AA660*#REF!)+(#REF!*#REF!)+(#REF!*#REF!))/(#REF!+#REF!+#REF!)","v":{"$error":"#VALUE!"}},{"$f":"((AA660*#REF!)+(#REF!*#REF!)+(#REF!*#REF!))/(#REF!+#REF!+#REF!)","v":{"$error":"#VALUE!"}},{"$f":"((AA660*#REF!)+(#REF!*#REF!)+(#REF!*#REF!))/(#REF!+#REF!+#REF!)","v":{"$error":"#VALUE!"}},{"$f":"((AA660*#REF!)+(#REF!*#REF!)+(#REF!*#REF!))/(#REF!+#REF!+#REF!)","v":{"$error":"#VALUE!"}},{"$f":"((AA660*#REF!)+(#REF!*#REF!)+(#REF!*#REF!))/(#REF!+#REF!+#REF!)","v":{"$error":"#VALUE!"}},{"$f":"((AA660*#REF!)+(#REF!*#REF!)+(#REF!*#REF!))/(#REF!+#REF!+#REF!)","v":{"$error":"#VALUE!"}}]
[null,null,null,null,null,null,null,null,null,null,null,null,null,null,null,null,null,null,null,null,null,659,{"$error":"#VALUE!"},{"$f":"AVERAGE($W$3:W661)","v":{"$error":"#VALUE!"}},null,{"$error":"#VALUE!"},{"$error":"#VALUE!"},{"$f":"AVERAGE($AA$3:AA661)","v":{"$error":"#VALUE!"}},null,null,null,{"$f":"((AA661*#REF!)+(#REF!*#REF!)+(#REF!*#REF!))/(#REF!+#REF!+#REF!)","v":{"$error":"#VALUE!"}},{"$f":"((AA661*#REF!)+(#REF!*#REF!)+(#REF!*#REF!))/(#REF!+#REF!+#REF!)","v":{"$error":"#VALUE!"}},{"$f":"((AA661*#REF!)+(#REF!*#REF!)+(#REF!*#REF!))/(#REF!+#REF!+#REF!)","v":{"$error":"#VALUE!"}},{"$f":"((AA661*#REF!)+(#REF!*#REF!)+(#REF!*#REF!))/(#REF!+#REF!+#REF!)","v":{"$error":"#VALUE!"}},{"$f":"((AA661*#REF!)+(#REF!*#REF!)+(#REF!*#REF!))/(#REF!+#REF!+#REF!)","v":{"$error":"#VALUE!"}},{"$f":"((AA661*#REF!)+(#REF!*#REF!)+(#REF!*#REF!))/(#REF!+#REF!+#REF!)","v":{"$error":"#VALUE!"}},{"$f":"((AA661*#REF!)+(#REF!*#REF!)+(#REF!*#REF!))/(#REF!+#REF!+#REF!)","v":{"$error":"#VALUE!"}}]
[null,null,null,null,null,null,null,null,null,null,null,null,null,null,null,null,null,null,null,null,null,660,{"$error":"#VALUE!"},{"$f":"AVERAGE($W$3:W662)","v":{"$error":"#VALUE!"}},null,{"$error":"#VALUE!"},{"$error":"#VALUE!"},{"$f":"AVERAGE($AA$3:AA662)","v":{"$error":"#VALUE!"}},null,null,null,{"$f":"((AA662*#REF!)+(#REF!*#REF!)+(#REF!*#REF!))/(#REF!+#REF!+#REF!)","v":{"$error":"#VALUE!"}},{"$f":"((AA662*#REF!)+(#REF!*#REF!)+(#REF!*#REF!))/(#REF!+#REF!+#REF!)","v":{"$error":"#VALUE!"}},{"$f":"((AA662*#REF!)+(#REF!*#REF!)+(#REF!*#REF!))/(#REF!+#REF!+#REF!)","v":{"$error":"#VALUE!"}},{"$f":"((AA662*#REF!)+(#REF!*#REF!)+(#REF!*#REF!))/(#REF!+#REF!+#REF!)","v":{"$error":"#VALUE!"}},{"$f":"((AA662*#REF!)+(#REF!*#REF!)+(#REF!*#REF!))/(#REF!+#REF!+#REF!)","v":{"$error":"#VALUE!"}},{"$f":"((AA662*#REF!)+(#REF!*#REF!)+(#REF!*#REF!))/(#REF!+#REF!+#REF!)","v":{"$error":"#VALUE!"}},{"$f":"((AA662*#REF!)+(#REF!*#REF!)+(#REF!*#REF!))/(#REF!+#REF!+#REF!)","v":{"$error":"#VALUE!"}}]
[null,null,null,null,null,null,null,null,null,null,null,null,null,null,null,null,null,null,null,null,null,661,{"$error":"#VALUE!"},{"$f":"AVERAGE($W$3:W663)","v":{"$error":"#VALUE!"}},null,{"$error":"#VALUE!"},{"$error":"#VALUE!"},{"$f":"AVERAGE($AA$3:AA663)","v":{"$error":"#VALUE!"}},null,null,null,{"$f":"((AA663*#REF!)+(#REF!*#REF!)+(#REF!*#REF!))/(#REF!+#REF!+#REF!)","v":{"$error":"#VALUE!"}},{"$f":"((AA663*#REF!)+(#REF!*#REF!)+(#REF!*#REF!))/(#REF!+#REF!+#REF!)","v":{"$error":"#VALUE!"}},{"$f":"((AA663*#REF!)+(#REF!*#REF!)+(#REF!*#REF!))/(#REF!+#REF!+#REF!)","v":{"$error":"#VALUE!"}},{"$f":"((AA663*#REF!)+(#REF!*#REF!)+(#REF!*#REF!))/(#REF!+#REF!+#REF!)","v":{"$error":"#VALUE!"}},{"$f":"((AA663*#REF!)+(#REF!*#REF!)+(#REF!*#REF!))/(#REF!+#REF!+#REF!)","v":{"$error":"#VALUE!"}},{"$f":"((AA663*#REF!)+(#REF!*#REF!)+(#REF!*#REF!))/(#REF!+#REF!+#REF!)","v":{"$error":"#VALUE!"}},{"$f":"((AA663*#REF!)+(#REF!*#REF!)+(#REF!*#REF!))/(#REF!+#REF!+#REF!)","v":{"$error":"#VALUE!"}}]
[null,null,null,null,null,null,null,null,null,null,null,null,null,null,null,null,null,null,null,null,null,662,{"$error":"#VALUE!"},{"$f":"AVERAGE($W$3:W664)","v":{"$error":"#VALUE!"}},null,{"$error":"#VALUE!"},{"$error":"#VALUE!"},{"$f":"AVERAGE($AA$3:AA664)","v":{"$error":"#VALUE!"}},null,null,null,{"$f":"((AA664*#REF!)+(#REF!*#REF!)+(#REF!*#REF!))/(#REF!+#REF!+#REF!)","v":{"$error":"#VALUE!"}},{"$f":"((AA664*#REF!)+(#REF!*#REF!)+(#REF!*#REF!))/(#REF!+#REF!+#REF!)","v":{"$error":"#VALUE!"}},{"$f":"((AA664*#REF!)+(#REF!*#REF!)+(#REF!*#REF!))/(#REF!+#REF!+#REF!)","v":{"$error":"#VALUE!"}},{"$f":"((AA664*#REF!)+(#REF!*#REF!)+(#REF!*#REF!))/(#REF!+#REF!+#REF!)","v":{"$error":"#VALUE!"}},{"$f":"((AA664*#REF!)+(#REF!*#REF!)+(#REF!*#REF!))/(#REF!+#REF!+#REF!)","v":{"$error":"#VALUE!"}},{"$f":"((AA664*#REF!)+(#REF!*#REF!)+(#REF!*#REF!))/(#REF!+#REF!+#REF!)","v":{"$error":"#VALUE!"}},{"$f":"((AA664*#REF!)+(#REF!*#REF!)+(#REF!*#REF!))/(#REF!+#REF!+#REF!)","v":{"$error":"#VALUE!"}}]
[null,null,null,null,null,null,null,null,null,null,null,null,null,null,null,null,null,null,null,null,null,663,{"$error":"#VALUE!"},{"$f":"AVERAGE($W$3:W665)","v":{"$error":"#VALUE!"}},null,{"$error":"#VALUE!"},{"$error":"#VALUE!"},{"$f":"AVERAGE($AA$3:AA665)","v":{"$error":"#VALUE!"}},null,null,null,{"$f":"((AA665*#REF!)+(#REF!*#REF!)+(#REF!*#REF!))/(#REF!+#REF!+#REF!)","v":{"$error":"#VALUE!"}},{"$f":"((AA665*#REF!)+(#REF!*#REF!)+(#REF!*#REF!))/(#REF!+#REF!+#REF!)","v":{"$error":"#VALUE!"}},{"$f":"((AA665*#REF!)+(#REF!*#REF!)+(#REF!*#REF!))/(#REF!+#REF!+#REF!)","v":{"$error":"#VALUE!"}},{"$f":"((AA665*#REF!)+(#REF!*#REF!)+(#REF!*#REF!))/(#REF!+#REF!+#REF!)","v":{"$error":"#VALUE!"}},{"$f":"((AA665*#REF!)+(#REF!*#REF!)+(#REF!*#REF!))/(#REF!+#REF!+#REF!)","v":{"$error":"#VALUE!"}},{"$f":"((AA665*#REF!)+(#REF!*#REF!)+(#REF!*#REF!))/(#REF!+#REF!+#REF!)","v":{"$error":"#VALUE!"}},{"$f":"((AA665*#REF!)+(#REF!*#REF!)+(#REF!*#REF!))/(#REF!+#REF!+#REF!)","v":{"$error":"#VALUE!"}}]
[null,null,null,null,null,null,null,null,null,null,null,null,null,null,null,null,null,null,null,null,null,664,{"$error":"#VALUE!"},{"$f":"AVERAGE($W$3:W666)","v":{"$error":"#VALUE!"}},null,{"$error":"#VALUE!"},{"$error":"#VALUE!"},{"$f":"AVERAGE($AA$3:AA666)","v":{"$error":"#VALUE!"}},null,null,null,{"$f":"((AA666*#REF!)+(#REF!*#REF!)+(#REF!*#REF!))/(#REF!+#REF!+#REF!)","v":{"$error":"#VALUE!"}},{"$f":"((AA666*#REF!)+(#REF!*#REF!)+(#REF!*#REF!))/(#REF!+#REF!+#REF!)","v":{"$error":"#VALUE!"}},{"$f":"((AA666*#REF!)+(#REF!*#REF!)+(#REF!*#REF!))/(#REF!+#REF!+#REF!)","v":{"$error":"#VALUE!"}},{"$f":"((AA666*#REF!)+(#REF!*#REF!)+(#REF!*#REF!))/(#REF!+#REF!+#REF!)","v":{"$error":"#VALUE!"}},{"$f":"((AA666*#REF!)+(#REF!*#REF!)+(#REF!*#REF!))/(#REF!+#REF!+#REF!)","v":{"$error":"#VALUE!"}},{"$f":"((AA666*#REF!)+(#REF!*#REF!)+(#REF!*#REF!))/(#REF!+#REF!+#REF!)","v":{"$error":"#VALUE!"}},{"$f":"((AA666*#REF!)+(#REF!*#REF!)+(#REF!*#REF!))/(#REF!+#REF!+#REF!)","v":{"$error":"#VALUE!"}}]
[null,null,null,null,null,null,null,null,null,null,null,null,null,null,null,null,null,null,null,null,null,665,{"$error":"#VALUE!"},{"$f":"AVERAGE($W$3:W667)","v":{"$error":"#VALUE!"}},null,{"$error":"#VALUE!"},{"$error":"#VALUE!"},{"$f":"AVERAGE($AA$3:AA667)","v":{"$error":"#VALUE!"}},null,null,null,{"$f":"((AA667*#REF!)+(#REF!*#REF!)+(#REF!*#REF!))/(#REF!+#REF!+#REF!)","v":{"$error":"#VALUE!"}},{"$f":"((AA667*#REF!)+(#REF!*#REF!)+(#REF!*#REF!))/(#REF!+#REF!+#REF!)","v":{"$error":"#VALUE!"}},{"$f":"((AA667*#REF!)+(#REF!*#REF!)+(#REF!*#REF!))/(#REF!+#REF!+#REF!)","v":{"$error":"#VALUE!"}},{"$f":"((AA667*#REF!)+(#REF!*#REF!)+(#REF!*#REF!))/(#REF!+#REF!+#REF!)","v":{"$error":"#VALUE!"}},{"$f":"((AA667*#REF!)+(#REF!*#REF!)+(#REF!*#REF!))/(#REF!+#REF!+#REF!)","v":{"$error":"#VALUE!"}},{"$f":"((AA667*#REF!)+(#REF!*#REF!)+(#REF!*#REF!))/(#REF!+#REF!+#REF!)","v":{"$error":"#VALUE!"}},{"$f":"((AA667*#REF!)+(#REF!*#REF!)+(#REF!*#REF!))/(#REF!+#REF!+#REF!)","v":{"$error":"#VALUE!"}}]
[null,null,null,null,null,null,null,null,null,null,null,null,null,null,null,null,null,null,null,null,null,666,{"$error":"#VALUE!"},{"$f":"AVERAGE($W$3:W668)","v":{"$error":"#VALUE!"}},null,{"$error":"#VALUE!"},{"$error":"#VALUE!"},{"$f":"AVERAGE($AA$3:AA668)","v":{"$error":"#VALUE!"}},null,null,null,{"$f":"((AA668*#REF!)+(#REF!*#REF!)+(#REF!*#REF!))/(#REF!+#REF!+#REF!)","v":{"$error":"#VALUE!"}},{"$f":"((AA668*#REF!)+(#REF!*#REF!)+(#REF!*#REF!))/(#REF!+#REF!+#REF!)","v":{"$error":"#VALUE!"}},{"$f":"((AA668*#REF!)+(#REF!*#REF!)+(#REF!*#REF!))/(#REF!+#REF!+#REF!)","v":{"$error":"#VALUE!"}},{"$f":"((AA668*#REF!)+(#REF!*#REF!)+(#REF!*#REF!))/(#REF!+#REF!+#REF!)","v":{"$error":"#VALUE!"}},{"$f":"((AA668*#REF!)+(#REF!*#REF!)+(#REF!*#REF!))/(#REF!+#REF!+#REF!)","v":{"$error":"#VALUE!"}},{"$f":"((AA668*#REF!)+(#REF!*#REF!)+(#REF!*#REF!))/(#REF!+#REF!+#REF!)","v":{"$error":"#VALUE!"}},{"$f":"((AA668*#REF!)+(#REF!*#REF!)+(#REF!*#REF!))/(#REF!+#REF!+#REF!)","v":{"$error":"#VALUE!"}}]
[null,null,null,null,null,null,null,null,null,null,null,null,null,null,null,null,null,null,null,null,null,667,{"$error":"#VALUE!"},{"$f":"AVERAGE($W$3:W669)","v":{"$error":"#VALUE!"}},null,{"$error":"#VALUE!"},{"$error":"#VALUE!"},{"$f":"AVERAGE($AA$3:AA669)","v":{"$error":"#VALUE!"}},null,null,null,{"$f":"((AA669*#REF!)+(#REF!*#REF!)+(#REF!*#REF!))/(#REF!+#REF!+#REF!)","v":{"$error":"#VALUE!"}},{"$f":"((AA669*#REF!)+(#REF!*#REF!)+(#REF!*#REF!))/(#REF!+#REF!+#REF!)","v":{"$error":"#VALUE!"}},{"$f":"((AA669*#REF!)+(#REF!*#REF!)+(#REF!*#REF!))/(#REF!+#REF!+#REF!)","v":{"$error":"#VALUE!"}},{"$f":"((AA669*#REF!)+(#REF!*#REF!)+(#REF!*#REF!))/(#REF!+#REF!+#REF!)","v":{"$error":"#VALUE!"}},{"$f":"((AA669*#REF!)+(#REF!*#REF!)+(#REF!*#REF!))/(#REF!+#REF!+#REF!)","v":{"$error":"#VALUE!"}},{"$f":"((AA669*#REF!)+(#REF!*#REF!)+(#REF!*#REF!))/(#REF!+#REF!+#REF!)","v":{"$error":"#VALUE!"}},{"$f":"((AA669*#REF!)+(#REF!*#REF!)+(#REF!*#REF!))/(#REF!+#REF!+#REF!)","v":{"$error":"#VALUE!"}}]
[null,null,null,null,null,null,null,null,null,null,null,null,null,null,null,null,null,null,null,null,null,668,{"$error":"#VALUE!"},{"$f":"AVERAGE($W$3:W670)","v":{"$error":"#VALUE!"}},null,{"$error":"#VALUE!"},{"$error":"#VALUE!"},{"$f":"AVERAGE($AA$3:AA670)","v":{"$error":"#VALUE!"}},null,null,null,{"$f":"((AA670*#REF!)+(#REF!*#REF!)+(#REF!*#REF!))/(#REF!+#REF!+#REF!)","v":{"$error":"#VALUE!"}},{"$f":"((AA670*#REF!)+(#REF!*#REF!)+(#REF!*#REF!))/(#REF!+#REF!+#REF!)","v":{"$error":"#VALUE!"}},{"$f":"((AA670*#REF!)+(#REF!*#REF!)+(#REF!*#REF!))/(#REF!+#REF!+#REF!)","v":{"$error":"#VALUE!"}},{"$f":"((AA670*#REF!)+(#REF!*#REF!)+(#REF!*#REF!))/(#REF!+#REF!+#REF!)","v":{"$error":"#VALUE!"}},{"$f":"((AA670*#REF!)+(#REF!*#REF!)+(#REF!*#REF!))/(#REF!+#REF!+#REF!)","v":{"$error":"#VALUE!"}},{"$f":"((AA670*#REF!)+(#REF!*#REF!)+(#REF!*#REF!))/(#REF!+#REF!+#REF!)","v":{"$error":"#VALUE!"}},{"$f":"((AA670*#REF!)+(#REF!*#REF!)+(#REF!*#REF!))/(#REF!+#REF!+#REF!)","v":{"$error":"#VALUE!"}}]
[null,null,null,null,null,null,null,null,null,null,null,null,null,null,null,null,null,null,null,null,null,669,{"$error":"#VALUE!"},{"$f":"AVERAGE($W$3:W671)","v":{"$error":"#VALUE!"}},null,{"$error":"#VALUE!"},{"$error":"#VALUE!"},{"$f":"AVERAGE($AA$3:AA671)","v":{"$error":"#VALUE!"}},null,null,null,{"$f":"((AA671*#REF!)+(#REF!*#REF!)+(#REF!*#REF!))/(#REF!+#REF!+#REF!)","v":{"$error":"#VALUE!"}},{"$f":"((AA671*#REF!)+(#REF!*#REF!)+(#REF!*#REF!))/(#REF!+#REF!+#REF!)","v":{"$error":"#VALUE!"}},{"$f":"((AA671*#REF!)+(#REF!*#REF!)+(#REF!*#REF!))/(#REF!+#REF!+#REF!)","v":{"$error":"#VALUE!"}},{"$f":"((AA671*#REF!)+(#REF!*#REF!)+(#REF!*#REF!))/(#REF!+#REF!+#REF!)","v":{"$error":"#VALUE!"}},{"$f":"((AA671*#REF!)+(#REF!*#REF!)+(#REF!*#REF!))/(#REF!+#REF!+#REF!)","v":{"$error":"#VALUE!"}},{"$f":"((AA671*#REF!)+(#REF!*#REF!)+(#REF!*#REF!))/(#REF!+#REF!+#REF!)","v":{"$error":"#VALUE!"}},{"$f":"((AA671*#REF!)+(#REF!*#REF!)+(#REF!*#REF!))/(#REF!+#REF!+#REF!)","v":{"$error":"#VALUE!"}}]
[null,null,null,null,null,null,null,null,null,null,null,null,null,null,null,null,null,null,null,null,null,670,{"$error":"#VALUE!"},{"$f":"AVERAGE($W$3:W672)","v":{"$error":"#VALUE!"}},null,{"$error":"#VALUE!"},{"$error":"#VALUE!"},{"$f":"AVERAGE($AA$3:AA672)","v":{"$error":"#VALUE!"}},null,null,null,{"$f":"((AA672*#REF!)+(#REF!*#REF!)+(#REF!*#REF!))/(#REF!+#REF!+#REF!)","v":{"$error":"#VALUE!"}},{"$f":"((AA672*#REF!)+(#REF!*#REF!)+(#REF!*#REF!))/(#REF!+#REF!+#REF!)","v":{"$error":"#VALUE!"}},{"$f":"((AA672*#REF!)+(#REF!*#REF!)+(#REF!*#REF!))/(#REF!+#REF!+#REF!)","v":{"$error":"#VALUE!"}},{"$f":"((AA672*#REF!)+(#REF!*#REF!)+(#REF!*#REF!))/(#REF!+#REF!+#REF!)","v":{"$error":"#VALUE!"}},{"$f":"((AA672*#REF!)+(#REF!*#REF!)+(#REF!*#REF!))/(#REF!+#REF!+#REF!)","v":{"$error":"#VALUE!"}},{"$f":"((AA672*#REF!)+(#REF!*#REF!)+(#REF!*#REF!))/(#REF!+#REF!+#REF!)","v":{"$error":"#VALUE!"}},{"$f":"((AA672*#REF!)+(#REF!*#REF!)+(#REF!*#REF!))/(#REF!+#REF!+#REF!)","v":{"$error":"#VALUE!"}}]
[null,null,null,null,null,null,null,null,null,null,null,null,null,null,null,null,null,null,null,null,null,671,{"$error":"#VALUE!"},{"$f":"AVERAGE($W$3:W673)","v":{"$error":"#VALUE!"}},null,{"$error":"#VALUE!"},{"$error":"#VALUE!"},{"$f":"AVERAGE($AA$3:AA673)","v":{"$error":"#VALUE!"}},null,null,null,{"$f":"((AA673*#REF!)+(#REF!*#REF!)+(#REF!*#REF!))/(#REF!+#REF!+#REF!)","v":{"$error":"#VALUE!"}},{"$f":"((AA673*#REF!)+(#REF!*#REF!)+(#REF!*#REF!))/(#REF!+#REF!+#REF!)","v":{"$error":"#VALUE!"}},{"$f":"((AA673*#REF!)+(#REF!*#REF!)+(#REF!*#REF!))/(#REF!+#REF!+#REF!)","v":{"$error":"#VALUE!"}},{"$f":"((AA673*#REF!)+(#REF!*#REF!)+(#REF!*#REF!))/(#REF!+#REF!+#REF!)","v":{"$error":"#VALUE!"}},{"$f":"((AA673*#REF!)+(#REF!*#REF!)+(#REF!*#REF!))/(#REF!+#REF!+#REF!)","v":{"$error":"#VALUE!"}},{"$f":"((AA673*#REF!)+(#REF!*#REF!)+(#REF!*#REF!))/(#REF!+#REF!+#REF!)","v":{"$error":"#VALUE!"}},{"$f":"((AA673*#REF!)+(#REF!*#REF!)+(#REF!*#REF!))/(#REF!+#REF!+#REF!)","v":{"$error":"#VALUE!"}}]
[null,null,null,null,null,null,null,null,null,null,null,null,null,null,null,null,null,null,null,null,null,672,{"$error":"#VALUE!"},{"$f":"AVERAGE($W$3:W674)","v":{"$error":"#VALUE!"}},null,{"$error":"#VALUE!"},{"$error":"#VALUE!"},{"$f":"AVERAGE($AA$3:AA674)","v":{"$error":"#VALUE!"}},null,null,null,{"$f":"((AA674*#REF!)+(#REF!*#REF!)+(#REF!*#REF!))/(#REF!+#REF!+#REF!)","v":{"$error":"#VALUE!"}},{"$f":"((AA674*#REF!)+(#REF!*#REF!)+(#REF!*#REF!))/(#REF!+#REF!+#REF!)","v":{"$error":"#VALUE!"}},{"$f":"((AA674*#REF!)+(#REF!*#REF!)+(#REF!*#REF!))/(#REF!+#REF!+#REF!)","v":{"$error":"#VALUE!"}},{"$f":"((AA674*#REF!)+(#REF!*#REF!)+(#REF!*#REF!))/(#REF!+#REF!+#REF!)","v":{"$error":"#VALUE!"}},{"$f":"((AA674*#REF!)+(#REF!*#REF!)+(#REF!*#REF!))/(#REF!+#REF!+#REF!)","v":{"$error":"#VALUE!"}},{"$f":"((AA674*#REF!)+(#REF!*#REF!)+(#REF!*#REF!))/(#REF!+#REF!+#REF!)","v":{"$error":"#VALUE!"}},{"$f":"((AA674*#REF!)+(#REF!*#REF!)+(#REF!*#REF!))/(#REF!+#REF!+#REF!)","v":{"$error":"#VALUE!"}}]
[null,null,null,null,null,null,null,null,null,null,null,null,null,null,null,null,null,null,null,null,null,673,{"$error":"#VALUE!"},{"$f":"AVERAGE($W$3:W675)","v":{"$error":"#VALUE!"}},null,{"$error":"#VALUE!"},{"$error":"#VALUE!"},{"$f":"AVERAGE($AA$3:AA675)","v":{"$error":"#VALUE!"}},null,null,null,{"$f":"((AA675*#REF!)+(#REF!*#REF!)+(#REF!*#REF!))/(#REF!+#REF!+#REF!)","v":{"$error":"#VALUE!"}},{"$f":"((AA675*#REF!)+(#REF!*#REF!)+(#REF!*#REF!))/(#REF!+#REF!+#REF!)","v":{"$error":"#VALUE!"}},{"$f":"((AA675*#REF!)+(#REF!*#REF!)+(#REF!*#REF!))/(#REF!+#REF!+#REF!)","v":{"$error":"#VALUE!"}},{"$f":"((AA675*#REF!)+(#REF!*#REF!)+(#REF!*#REF!))/(#REF!+#REF!+#REF!)","v":{"$error":"#VALUE!"}},{"$f":"((AA675*#REF!)+(#REF!*#REF!)+(#REF!*#REF!))/(#REF!+#REF!+#REF!)","v":{"$error":"#VALUE!"}},{"$f":"((AA675*#REF!)+(#REF!*#REF!)+(#REF!*#REF!))/(#REF!+#REF!+#REF!)","v":{"$error":"#VALUE!"}},{"$f":"((AA675*#REF!)+(#REF!*#REF!)+(#REF!*#REF!))/(#REF!+#REF!+#REF!)","v":{"$error":"#VALUE!"}}]
[null,null,null,null,null,null,null,null,null,null,null,null,null,null,null,null,null,null,null,null,null,674,{"$error":"#VALUE!"},{"$f":"AVERAGE($W$3:W676)","v":{"$error":"#VALUE!"}},null,{"$error":"#VALUE!"},{"$error":"#VALUE!"},{"$f":"AVERAGE($AA$3:AA676)","v":{"$error":"#VALUE!"}},null,null,null,{"$f":"((AA676*#REF!)+(#REF!*#REF!)+(#REF!*#REF!))/(#REF!+#REF!+#REF!)","v":{"$error":"#VALUE!"}},{"$f":"((AA676*#REF!)+(#REF!*#REF!)+(#REF!*#REF!))/(#REF!+#REF!+#REF!)","v":{"$error":"#VALUE!"}},{"$f":"((AA676*#REF!)+(#REF!*#REF!)+(#REF!*#REF!))/(#REF!+#REF!+#REF!)","v":{"$error":"#VALUE!"}},{"$f":"((AA676*#REF!)+(#REF!*#REF!)+(#REF!*#REF!))/(#REF!+#REF!+#REF!)","v":{"$error":"#VALUE!"}},{"$f":"((AA676*#REF!)+(#REF!*#REF!)+(#REF!*#REF!))/(#REF!+#REF!+#REF!)","v":{"$error":"#VALUE!"}},{"$f":"((AA676*#REF!)+(#REF!*#REF!)+(#REF!*#REF!))/(#REF!+#REF!+#REF!)","v":{"$error":"#VALUE!"}},{"$f":"((AA676*#REF!)+(#REF!*#REF!)+(#REF!*#REF!))/(#REF!+#REF!+#REF!)","v":{"$error":"#VALUE!"}}]
[null,null,null,null,null,null,null,null,null,null,null,null,null,null,null,null,null,null,null,null,null,675,{"$error":"#VALUE!"},{"$f":"AVERAGE($W$3:W677)","v":{"$error":"#VALUE!"}},null,{"$error":"#VALUE!"},{"$error":"#VALUE!"},{"$f":"AVERAGE($AA$3:AA677)","v":{"$error":"#VALUE!"}},null,null,null,{"$f":"((AA677*#REF!)+(#REF!*#REF!)+(#REF!*#REF!))/(#REF!+#REF!+#REF!)","v":{"$error":"#VALUE!"}},{"$f":"((AA677*#REF!)+(#REF!*#REF!)+(#REF!*#REF!))/(#REF!+#REF!+#REF!)","v":{"$error":"#VALUE!"}},{"$f":"((AA677*#REF!)+(#REF!*#REF!)+(#REF!*#REF!))/(#REF!+#REF!+#REF!)","v":{"$error":"#VALUE!"}},{"$f":"((AA677*#REF!)+(#REF!*#REF!)+(#REF!*#REF!))/(#REF!+#REF!+#REF!)","v":{"$error":"#VALUE!"}},{"$f":"((AA677*#REF!)+(#REF!*#REF!)+(#REF!*#REF!))/(#REF!+#REF!+#REF!)","v":{"$error":"#VALUE!"}},{"$f":"((AA677*#REF!)+(#REF!*#REF!)+(#REF!*#REF!))/(#REF!+#REF!+#REF!)","v":{"$error":"#VALUE!"}},{"$f":"((AA677*#REF!)+(#REF!*#REF!)+(#REF!*#REF!))/(#REF!+#REF!+#REF!)","v":{"$error":"#VALUE!"}}]
[null,null,null,null,null,null,null,null,null,null,null,null,null,null,null,null,null,null,null,null,null,676,{"$error":"#VALUE!"},{"$f":"AVERAGE($W$3:W678)","v":{"$error":"#VALUE!"}},null,{"$error":"#VALUE!"},{"$error":"#VALUE!"},{"$f":"AVERAGE($AA$3:AA678)","v":{"$error":"#VALUE!"}},null,null,null,{"$f":"((AA678*#REF!)+(#REF!*#REF!)+(#REF!*#REF!))/(#REF!+#REF!+#REF!)","v":{"$error":"#VALUE!"}},{"$f":"((AA678*#REF!)+(#REF!*#REF!)+(#REF!*#REF!))/(#REF!+#REF!+#REF!)","v":{"$error":"#VALUE!"}},{"$f":"((AA678*#REF!)+(#REF!*#REF!)+(#REF!*#REF!))/(#REF!+#REF!+#REF!)","v":{"$error":"#VALUE!"}},{"$f":"((AA678*#REF!)+(#REF!*#REF!)+(#REF!*#REF!))/(#REF!+#REF!+#REF!)","v":{"$error":"#VALUE!"}},{"$f":"((AA678*#REF!)+(#REF!*#REF!)+(#REF!*#REF!))/(#REF!+#REF!+#REF!)","v":{"$error":"#VALUE!"}},{"$f":"((AA678*#REF!)+(#REF!*#REF!)+(#REF!*#REF!))/(#REF!+#REF!+#REF!)","v":{"$error":"#VALUE!"}},{"$f":"((AA678*#REF!)+(#REF!*#REF!)+(#REF!*#REF!))/(#REF!+#REF!+#REF!)","v":{"$error":"#VALUE!"}}]
[null,null,null,null,null,null,null,null,null,null,null,null,null,null,null,null,null,null,null,null,null,677,{"$error":"#VALUE!"},{"$f":"AVERAGE($W$3:W679)","v":{"$error":"#VALUE!"}},null,{"$error":"#VALUE!"},{"$error":"#VALUE!"},{"$f":"AVERAGE($AA$3:AA679)","v":{"$error":"#VALUE!"}},null,null,null,{"$f":"((AA679*#REF!)+(#REF!*#REF!)+(#REF!*#REF!))/(#REF!+#REF!+#REF!)","v":{"$error":"#VALUE!"}},{"$f":"((AA679*#REF!)+(#REF!*#REF!)+(#REF!*#REF!))/(#REF!+#REF!+#REF!)","v":{"$error":"#VALUE!"}},{"$f":"((AA679*#REF!)+(#REF!*#REF!)+(#REF!*#REF!))/(#REF!+#REF!+#REF!)","v":{"$error":"#VALUE!"}},{"$f":"((AA679*#REF!)+(#REF!*#REF!)+(#REF!*#REF!))/(#REF!+#REF!+#REF!)","v":{"$error":"#VALUE!"}},{"$f":"((AA679*#REF!)+(#REF!*#REF!)+(#REF!*#REF!))/(#REF!+#REF!+#REF!)","v":{"$error":"#VALUE!"}},{"$f":"((AA679*#REF!)+(#REF!*#REF!)+(#REF!*#REF!))/(#REF!+#REF!+#REF!)","v":{"$error":"#VALUE!"}},{"$f":"((AA679*#REF!)+(#REF!*#REF!)+(#REF!*#REF!))/(#REF!+#REF!+#REF!)","v":{"$error":"#VALUE!"}}]
[null,null,null,null,null,null,null,null,null,null,null,null,null,null,null,null,null,null,null,null,null,678,{"$error":"#VALUE!"},{"$f":"AVERAGE($W$3:W680)","v":{"$error":"#VALUE!"}},null,{"$error":"#VALUE!"},{"$error":"#VALUE!"},{"$f":"AVERAGE($AA$3:AA680)","v":{"$error":"#VALUE!"}},null,null,null,{"$f":"((AA680*#REF!)+(#REF!*#REF!)+(#REF!*#REF!))/(#REF!+#REF!+#REF!)","v":{"$error":"#VALUE!"}},{"$f":"((AA680*#REF!)+(#REF!*#REF!)+(#REF!*#REF!))/(#REF!+#REF!+#REF!)","v":{"$error":"#VALUE!"}},{"$f":"((AA680*#REF!)+(#REF!*#REF!)+(#REF!*#REF!))/(#REF!+#REF!+#REF!)","v":{"$error":"#VALUE!"}},{"$f":"((AA680*#REF!)+(#REF!*#REF!)+(#REF!*#REF!))/(#REF!+#REF!+#REF!)","v":{"$error":"#VALUE!"}},{"$f":"((AA680*#REF!)+(#REF!*#REF!)+(#REF!*#REF!))/(#REF!+#REF!+#REF!)","v":{"$error":"#VALUE!"}},{"$f":"((AA680*#REF!)+(#REF!*#REF!)+(#REF!*#REF!))/(#REF!+#REF!+#REF!)","v":{"$error":"#VALUE!"}},{"$f":"((AA680*#REF!)+(#REF!*#REF!)+(#REF!*#REF!))/(#REF!+#REF!+#REF!)","v":{"$error":"#VALUE!"}}]
[null,null,null,null,null,null,null,null,null,null,null,null,null,null,null,null,null,null,null,null,null,679,{"$error":"#VALUE!"},{"$f":"AVERAGE($W$3:W681)","v":{"$error":"#VALUE!"}},null,{"$error":"#VALUE!"},{"$error":"#VALUE!"},{"$f":"AVERAGE($AA$3:AA681)","v":{"$error":"#VALUE!"}},null,null,null,{"$f":"((AA681*#REF!)+(#REF!*#REF!)+(#REF!*#REF!))/(#REF!+#REF!+#REF!)","v":{"$error":"#VALUE!"}},{"$f":"((AA681*#REF!)+(#REF!*#REF!)+(#REF!*#REF!))/(#REF!+#REF!+#REF!)","v":{"$error":"#VALUE!"}},{"$f":"((AA681*#REF!)+(#REF!*#REF!)+(#REF!*#REF!))/(#REF!+#REF!+#REF!)","v":{"$error":"#VALUE!"}},{"$f":"((AA681*#REF!)+(#REF!*#REF!)+(#REF!*#REF!))/(#REF!+#REF!+#REF!)","v":{"$error":"#VALUE!"}},{"$f":"((AA681*#REF!)+(#REF!*#REF!)+(#REF!*#REF!))/(#REF!+#REF!+#REF!)","v":{"$error":"#VALUE!"}},{"$f":"((AA681*#REF!)+(#REF!*#REF!)+(#REF!*#REF!))/(#REF!+#REF!+#REF!)","v":{"$error":"#VALUE!"}},{"$f":"((AA681*#REF!)+(#REF!*#REF!)+(#REF!*#REF!))/(#REF!+#REF!+#REF!)","v":{"$error":"#VALUE!"}}]
[null,null,null,null,null,null,null,null,null,null,null,null,null,null,null,null,null,null,null,null,null,680,{"$error":"#VALUE!"},{"$f":"AVERAGE($W$3:W682)","v":{"$error":"#VALUE!"}},null,{"$error":"#VALUE!"},{"$error":"#VALUE!"},{"$f":"AVERAGE($AA$3:AA682)","v":{"$error":"#VALUE!"}},null,null,null,{"$f":"((AA682*#REF!)+(#REF!*#REF!)+(#REF!*#REF!))/(#REF!+#REF!+#REF!)","v":{"$error":"#VALUE!"}},{"$f":"((AA682*#REF!)+(#REF!*#REF!)+(#REF!*#REF!))/(#REF!+#REF!+#REF!)","v":{"$error":"#VALUE!"}},{"$f":"((AA682*#REF!)+(#REF!*#REF!)+(#REF!*#REF!))/(#REF!+#REF!+#REF!)","v":{"$error":"#VALUE!"}},{"$f":"((AA682*#REF!)+(#REF!*#REF!)+(#REF!*#REF!))/(#REF!+#REF!+#REF!)","v":{"$error":"#VALUE!"}},{"$f":"((AA682*#REF!)+(#REF!*#REF!)+(#REF!*#REF!))/(#REF!+#REF!+#REF!)","v":{"$error":"#VALUE!"}},{"$f":"((AA682*#REF!)+(#REF!*#REF!)+(#REF!*#REF!))/(#REF!+#REF!+#REF!)","v":{"$error":"#VALUE!"}},{"$f":"((AA682*#REF!)+(#REF!*#REF!)+(#REF!*#REF!))/(#REF!+#REF!+#REF!)","v":{"$error":"#VALUE!"}}]
[null,null,null,null,null,null,null,null,null,null,null,null,null,null,null,null,null,null,null,null,null,681,{"$error":"#VALUE!"},{"$f":"AVERAGE($W$3:W683)","v":{"$error":"#VALUE!"}},null,{"$error":"#VALUE!"},{"$error":"#VALUE!"},{"$f":"AVERAGE($AA$3:AA683)","v":{"$error":"#VALUE!"}},null,null,null,{"$f":"((AA683*#REF!)+(#REF!*#REF!)+(#REF!*#REF!))/(#REF!+#REF!+#REF!)","v":{"$error":"#VALUE!"}},{"$f":"((AA683*#REF!)+(#REF!*#REF!)+(#REF!*#REF!))/(#REF!+#REF!+#REF!)","v":{"$error":"#VALUE!"}},{"$f":"((AA683*#REF!)+(#REF!*#REF!)+(#REF!*#REF!))/(#REF!+#REF!+#REF!)","v":{"$error":"#VALUE!"}},{"$f":"((AA683*#REF!)+(#REF!*#REF!)+(#REF!*#REF!))/(#REF!+#REF!+#REF!)","v":{"$error":"#VALUE!"}},{"$f":"((AA683*#REF!)+(#REF!*#REF!)+(#REF!*#REF!))/(#REF!+#REF!+#REF!)","v":{"$error":"#VALUE!"}},{"$f":"((AA683*#REF!)+(#REF!*#REF!)+(#REF!*#REF!))/(#REF!+#REF!+#REF!)","v":{"$error":"#VALUE!"}},{"$f":"((AA683*#REF!)+(#REF!*#REF!)+(#REF!*#REF!))/(#REF!+#REF!+#REF!)","v":{"$error":"#VALUE!"}}]
[null,null,null,null,null,null,null,null,null,null,null,null,null,null,null,null,null,null,null,null,null,682,{"$error":"#VALUE!"},{"$f":"AVERAGE($W$3:W684)","v":{"$error":"#VALUE!"}},null,{"$error":"#VALUE!"},{"$error":"#VALUE!"},{"$f":"AVERAGE($AA$3:AA684)","v":{"$error":"#VALUE!"}},null,null,null,{"$f":"((AA684*#REF!)+(#REF!*#REF!)+(#REF!*#REF!))/(#REF!+#REF!+#REF!)","v":{"$error":"#VALUE!"}},{"$f":"((AA684*#REF!)+(#REF!*#REF!)+(#REF!*#REF!))/(#REF!+#REF!+#REF!)","v":{"$error":"#VALUE!"}},{"$f":"((AA684*#REF!)+(#REF!*#REF!)+(#REF!*#REF!))/(#REF!+#REF!+#REF!)","v":{"$error":"#VALUE!"}},{"$f":"((AA684*#REF!)+(#REF!*#REF!)+(#REF!*#REF!))/(#REF!+#REF!+#REF!)","v":{"$error":"#VALUE!"}},{"$f":"((AA684*#REF!)+(#REF!*#REF!)+(#REF!*#REF!))/(#REF!+#REF!+#REF!)","v":{"$error":"#VALUE!"}},{"$f":"((AA684*#REF!)+(#REF!*#REF!)+(#REF!*#REF!))/(#REF!+#REF!+#REF!)","v":{"$error":"#VALUE!"}},{"$f":"((AA684*#REF!)+(#REF!*#REF!)+(#REF!*#REF!))/(#REF!+#REF!+#REF!)","v":{"$error":"#VALUE!"}}]
[null,null,null,null,null,null,null,null,null,null,null,null,null,null,null,null,null,null,null,null,null,683,{"$error":"#VALUE!"},{"$f":"AVERAGE($W$3:W685)","v":{"$error":"#VALUE!"}},null,{"$error":"#VALUE!"},{"$error":"#VALUE!"},{"$f":"AVERAGE($AA$3:AA685)","v":{"$error":"#VALUE!"}},null,null,null,{"$f":"((AA685*#REF!)+(#REF!*#REF!)+(#REF!*#REF!))/(#REF!+#REF!+#REF!)","v":{"$error":"#VALUE!"}},{"$f":"((AA685*#REF!)+(#REF!*#REF!)+(#REF!*#REF!))/(#REF!+#REF!+#REF!)","v":{"$error":"#VALUE!"}},{"$f":"((AA685*#REF!)+(#REF!*#REF!)+(#REF!*#REF!))/(#REF!+#REF!+#REF!)","v":{"$error":"#VALUE!"}},{"$f":"((AA685*#REF!)+(#REF!*#REF!)+(#REF!*#REF!))/(#REF!+#REF!+#REF!)","v":{"$error":"#VALUE!"}},{"$f":"((AA685*#REF!)+(#REF!*#REF!)+(#REF!*#REF!))/(#REF!+#REF!+#REF!)","v":{"$error":"#VALUE!"}},{"$f":"((AA685*#REF!)+(#REF!*#REF!)+(#REF!*#REF!))/(#REF!+#REF!+#REF!)","v":{"$error":"#VALUE!"}},{"$f":"((AA685*#REF!)+(#REF!*#REF!)+(#REF!*#REF!))/(#REF!+#REF!+#REF!)","v":{"$error":"#VALUE!"}}]
[null,null,null,null,null,null,null,null,null,null,null,null,null,null,null,null,null,null,null,null,null,684,{"$error":"#VALUE!"},{"$f":"AVERAGE($W$3:W686)","v":{"$error":"#VALUE!"}},null,{"$error":"#VALUE!"},{"$error":"#VALUE!"},{"$f":"AVERAGE($AA$3:AA686)","v":{"$error":"#VALUE!"}},null,null,null,{"$f":"((AA686*#REF!)+(#REF!*#REF!)+(#REF!*#REF!))/(#REF!+#REF!+#REF!)","v":{"$error":"#VALUE!"}},{"$f":"((AA686*#REF!)+(#REF!*#REF!)+(#REF!*#REF!))/(#REF!+#REF!+#REF!)","v":{"$error":"#VALUE!"}},{"$f":"((AA686*#REF!)+(#REF!*#REF!)+(#REF!*#REF!))/(#REF!+#REF!+#REF!)","v":{"$error":"#VALUE!"}},{"$f":"((AA686*#REF!)+(#REF!*#REF!)+(#REF!*#REF!))/(#REF!+#REF!+#REF!)","v":{"$error":"#VALUE!"}},{"$f":"((AA686*#REF!)+(#REF!*#REF!)+(#REF!*#REF!))/(#REF!+#REF!+#REF!)","v":{"$error":"#VALUE!"}},{"$f":"((AA686*#REF!)+(#REF!*#REF!)+(#REF!*#REF!))/(#REF!+#REF!+#REF!)","v":{"$error":"#VALUE!"}},{"$f":"((AA686*#REF!)+(#REF!*#REF!)+(#REF!*#REF!))/(#REF!+#REF!+#REF!)","v":{"$error":"#VALUE!"}}]
[null,null,null,null,null,null,null,null,null,null,null,null,null,null,null,null,null,null,null,null,null,685,{"$error":"#VALUE!"},{"$f":"AVERAGE($W$3:W687)","v":{"$error":"#VALUE!"}},null,{"$error":"#VALUE!"},{"$error":"#VALUE!"},{"$f":"AVERAGE($AA$3:AA687)","v":{"$error":"#VALUE!"}},null,null,null,{"$f":"((AA687*#REF!)+(#REF!*#REF!)+(#REF!*#REF!))/(#REF!+#REF!+#REF!)","v":{"$error":"#VALUE!"}},{"$f":"((AA687*#REF!)+(#REF!*#REF!)+(#REF!*#REF!))/(#REF!+#REF!+#REF!)","v":{"$error":"#VALUE!"}},{"$f":"((AA687*#REF!)+(#REF!*#REF!)+(#REF!*#REF!))/(#REF!+#REF!+#REF!)","v":{"$error":"#VALUE!"}},{"$f":"((AA687*#REF!)+(#REF!*#REF!)+(#REF!*#REF!))/(#REF!+#REF!+#REF!)","v":{"$error":"#VALUE!"}},{"$f":"((AA687*#REF!)+(#REF!*#REF!)+(#REF!*#REF!))/(#REF!+#REF!+#REF!)","v":{"$error":"#VALUE!"}},{"$f":"((AA687*#REF!)+(#REF!*#REF!)+(#REF!*#REF!))/(#REF!+#REF!+#REF!)","v":{"$error":"#VALUE!"}},{"$f":"((AA687*#REF!)+(#REF!*#REF!)+(#REF!*#REF!))/(#REF!+#REF!+#REF!)","v":{"$error":"#VALUE!"}}]
[null,null,null,null,null,null,null,null,null,null,null,null,null,null,null,null,null,null,null,null,null,686,{"$error":"#VALUE!"},{"$f":"AVERAGE($W$3:W688)","v":{"$error":"#VALUE!"}},null,{"$error":"#VALUE!"},{"$error":"#VALUE!"},{"$f":"AVERAGE($AA$3:AA688)","v":{"$error":"#VALUE!"}},null,null,null,{"$f":"((AA688*#REF!)+(#REF!*#REF!)+(#REF!*#REF!))/(#REF!+#REF!+#REF!)","v":{"$error":"#VALUE!"}},{"$f":"((AA688*#REF!)+(#REF!*#REF!)+(#REF!*#REF!))/(#REF!+#REF!+#REF!)","v":{"$error":"#VALUE!"}},{"$f":"((AA688*#REF!)+(#REF!*#REF!)+(#REF!*#REF!))/(#REF!+#REF!+#REF!)","v":{"$error":"#VALUE!"}},{"$f":"((AA688*#REF!)+(#REF!*#REF!)+(#REF!*#REF!))/(#REF!+#REF!+#REF!)","v":{"$error":"#VALUE!"}},{"$f":"((AA688*#REF!)+(#REF!*#REF!)+(#REF!*#REF!))/(#REF!+#REF!+#REF!)","v":{"$error":"#VALUE!"}},{"$f":"((AA688*#REF!)+(#REF!*#REF!)+(#REF!*#REF!))/(#REF!+#REF!+#REF!)","v":{"$error":"#VALUE!"}},{"$f":"((AA688*#REF!)+(#REF!*#REF!)+(#REF!*#REF!))/(#REF!+#REF!+#REF!)","v":{"$error":"#VALUE!"}}]
[null,null,null,null,null,null,null,null,null,null,null,null,null,null,null,null,null,null,null,null,null,687,{"$error":"#VALUE!"},{"$f":"AVERAGE($W$3:W689)","v":{"$error":"#VALUE!"}},null,{"$error":"#VALUE!"},{"$error":"#VALUE!"},{"$f":"AVERAGE($AA$3:AA689)","v":{"$error":"#VALUE!"}},null,null,null,{"$f":"((AA689*#REF!)+(#REF!*#REF!)+(#REF!*#REF!))/(#REF!+#REF!+#REF!)","v":{"$error":"#VALUE!"}},{"$f":"((AA689*#REF!)+(#REF!*#REF!)+(#REF!*#REF!))/(#REF!+#REF!+#REF!)","v":{"$error":"#VALUE!"}},{"$f":"((AA689*#REF!)+(#REF!*#REF!)+(#REF!*#REF!))/(#REF!+#REF!+#REF!)","v":{"$error":"#VALUE!"}},{"$f":"((AA689*#REF!)+(#REF!*#REF!)+(#REF!*#REF!))/(#REF!+#REF!+#REF!)","v":{"$error":"#VALUE!"}},{"$f":"((AA689*#REF!)+(#REF!*#REF!)+(#REF!*#REF!))/(#REF!+#REF!+#REF!)","v":{"$error":"#VALUE!"}},{"$f":"((AA689*#REF!)+(#REF!*#REF!)+(#REF!*#REF!))/(#REF!+#REF!+#REF!)","v":{"$error":"#VALUE!"}},{"$f":"((AA689*#REF!)+(#REF!*#REF!)+(#REF!*#REF!))/(#REF!+#REF!+#REF!)","v":{"$error":"#VALUE!"}}]
[null,null,null,null,null,null,null,null,null,null,null,null,null,null,null,null,null,null,null,null,null,688,{"$error":"#VALUE!"},{"$f":"AVERAGE($W$3:W690)","v":{"$error":"#VALUE!"}},null,{"$error":"#VALUE!"},{"$error":"#VALUE!"},{"$f":"AVERAGE($AA$3:AA690)","v":{"$error":"#VALUE!"}},null,null,null,{"$f":"((AA690*#REF!)+(#REF!*#REF!)+(#REF!*#REF!))/(#REF!+#REF!+#REF!)","v":{"$error":"#VALUE!"}},{"$f":"((AA690*#REF!)+(#REF!*#REF!)+(#REF!*#REF!))/(#REF!+#REF!+#REF!)","v":{"$error":"#VALUE!"}},{"$f":"((AA690*#REF!)+(#REF!*#REF!)+(#REF!*#REF!))/(#REF!+#REF!+#REF!)","v":{"$error":"#VALUE!"}},{"$f":"((AA690*#REF!)+(#REF!*#REF!)+(#REF!*#REF!))/(#REF!+#REF!+#REF!)","v":{"$error":"#VALUE!"}},{"$f":"((AA690*#REF!)+(#REF!*#REF!)+(#REF!*#REF!))/(#REF!+#REF!+#REF!)","v":{"$error":"#VALUE!"}},{"$f":"((AA690*#REF!)+(#REF!*#REF!)+(#REF!*#REF!))/(#REF!+#REF!+#REF!)","v":{"$error":"#VALUE!"}},{"$f":"((AA690*#REF!)+(#REF!*#REF!)+(#REF!*#REF!))/(#REF!+#REF!+#REF!)","v":{"$error":"#VALUE!"}}]
[null,null,null,null,null,null,null,null,null,null,null,null,null,null,null,null,null,null,null,null,null,689,{"$error":"#VALUE!"},{"$f":"AVERAGE($W$3:W691)","v":{"$error":"#VALUE!"}},null,{"$error":"#VALUE!"},{"$error":"#VALUE!"},{"$f":"AVERAGE($AA$3:AA691)","v":{"$error":"#VALUE!"}},null,null,null,{"$f":"((AA691*#REF!)+(#REF!*#REF!)+(#REF!*#REF!))/(#REF!+#REF!+#REF!)","v":{"$error":"#VALUE!"}},{"$f":"((AA691*#REF!)+(#REF!*#REF!)+(#REF!*#REF!))/(#REF!+#REF!+#REF!)","v":{"$error":"#VALUE!"}},{"$f":"((AA691*#REF!)+(#REF!*#REF!)+(#REF!*#REF!))/(#REF!+#REF!+#REF!)","v":{"$error":"#VALUE!"}},{"$f":"((AA691*#REF!)+(#REF!*#REF!)+(#REF!*#REF!))/(#REF!+#REF!+#REF!)","v":{"$error":"#VALUE!"}},{"$f":"((AA691*#REF!)+(#REF!*#REF!)+(#REF!*#REF!))/(#REF!+#REF!+#REF!)","v":{"$error":"#VALUE!"}},{"$f":"((AA691*#REF!)+(#REF!*#REF!)+(#REF!*#REF!))/(#REF!+#REF!+#REF!)","v":{"$error":"#VALUE!"}},{"$f":"((AA691*#REF!)+(#REF!*#REF!)+(#REF!*#REF!))/(#REF!+#REF!+#REF!)","v":{"$error":"#VALUE!"}}]
[null,null,null,null,null,null,null,null,null,null,null,null,null,null,null,null,null,null,null,null,null,690,{"$error":"#VALUE!"},{"$f":"AVERAGE($W$3:W692)","v":{"$error":"#VALUE!"}},null,{"$error":"#VALUE!"},{"$error":"#VALUE!"},{"$f":"AVERAGE($AA$3:AA692)","v":{"$error":"#VALUE!"}},null,null,null,{"$f":"((AA692*#REF!)+(#REF!*#REF!)+(#REF!*#REF!))/(#REF!+#REF!+#REF!)","v":{"$error":"#VALUE!"}},{"$f":"((AA692*#REF!)+(#REF!*#REF!)+(#REF!*#REF!))/(#REF!+#REF!+#REF!)","v":{"$error":"#VALUE!"}},{"$f":"((AA692*#REF!)+(#REF!*#REF!)+(#REF!*#REF!))/(#REF!+#REF!+#REF!)","v":{"$error":"#VALUE!"}},{"$f":"((AA692*#REF!)+(#REF!*#REF!)+(#REF!*#REF!))/(#REF!+#REF!+#REF!)","v":{"$error":"#VALUE!"}},{"$f":"((AA692*#REF!)+(#REF!*#REF!)+(#REF!*#REF!))/(#REF!+#REF!+#REF!)","v":{"$error":"#VALUE!"}},{"$f":"((AA692*#REF!)+(#REF!*#REF!)+(#REF!*#REF!))/(#REF!+#REF!+#REF!)","v":{"$error":"#VALUE!"}},{"$f":"((AA692*#REF!)+(#REF!*#REF!)+(#REF!*#REF!))/(#REF!+#REF!+#REF!)","v":{"$error":"#VALUE!"}}]
[null,null,null,null,null,null,null,null,null,null,null,null,null,null,null,null,null,null,null,null,null,691,{"$error":"#VALUE!"},{"$f":"AVERAGE($W$3:W693)","v":{"$error":"#VALUE!"}},null,{"$error":"#VALUE!"},{"$error":"#VALUE!"},{"$f":"AVERAGE($AA$3:AA693)","v":{"$error":"#VALUE!"}},null,null,null,{"$f":"((AA693*#REF!)+(#REF!*#REF!)+(#REF!*#REF!))/(#REF!+#REF!+#REF!)","v":{"$error":"#VALUE!"}},{"$f":"((AA693*#REF!)+(#REF!*#REF!)+(#REF!*#REF!))/(#REF!+#REF!+#REF!)","v":{"$error":"#VALUE!"}},{"$f":"((AA693*#REF!)+(#REF!*#REF!)+(#REF!*#REF!))/(#REF!+#REF!+#REF!)","v":{"$error":"#VALUE!"}},{"$f":"((AA693*#REF!)+(#REF!*#REF!)+(#REF!*#REF!))/(#REF!+#REF!+#REF!)","v":{"$error":"#VALUE!"}},{"$f":"((AA693*#REF!)+(#REF!*#REF!)+(#REF!*#REF!))/(#REF!+#REF!+#REF!)","v":{"$error":"#VALUE!"}},{"$f":"((AA693*#REF!)+(#REF!*#REF!)+(#REF!*#REF!))/(#REF!+#REF!+#REF!)","v":{"$error":"#VALUE!"}},{"$f":"((AA693*#REF!)+(#REF!*#REF!)+(#REF!*#REF!))/(#REF!+#REF!+#REF!)","v":{"$error":"#VALUE!"}}]
[null,null,null,null,null,null,null,null,null,null,null,null,null,null,null,null,null,null,null,null,null,692,{"$error":"#VALUE!"},{"$f":"AVERAGE($W$3:W694)","v":{"$error":"#VALUE!"}},null,{"$error":"#VALUE!"},{"$error":"#VALUE!"},{"$f":"AVERAGE($AA$3:AA694)","v":{"$error":"#VALUE!"}},null,null,null,{"$f":"((AA694*#REF!)+(#REF!*#REF!)+(#REF!*#REF!))/(#REF!+#REF!+#REF!)","v":{"$error":"#VALUE!"}},{"$f":"((AA694*#REF!)+(#REF!*#REF!)+(#REF!*#REF!))/(#REF!+#REF!+#REF!)","v":{"$error":"#VALUE!"}},{"$f":"((AA694*#REF!)+(#REF!*#REF!)+(#REF!*#REF!))/(#REF!+#REF!+#REF!)","v":{"$error":"#VALUE!"}},{"$f":"((AA694*#REF!)+(#REF!*#REF!)+(#REF!*#REF!))/(#REF!+#REF!+#REF!)","v":{"$error":"#VALUE!"}},{"$f":"((AA694*#REF!)+(#REF!*#REF!)+(#REF!*#REF!))/(#REF!+#REF!+#REF!)","v":{"$error":"#VALUE!"}},{"$f":"((AA694*#REF!)+(#REF!*#REF!)+(#REF!*#REF!))/(#REF!+#REF!+#REF!)","v":{"$error":"#VALUE!"}},{"$f":"((AA694*#REF!)+(#REF!*#REF!)+(#REF!*#REF!))/(#REF!+#REF!+#REF!)","v":{"$error":"#VALUE!"}}]
[null,null,null,null,null,null,null,null,null,null,null,null,null,null,null,null,null,null,null,null,null,693,{"$error":"#VALUE!"},{"$f":"AVERAGE($W$3:W695)","v":{"$error":"#VALUE!"}},null,{"$error":"#VALUE!"},{"$error":"#VALUE!"},{"$f":"AVERAGE($AA$3:AA695)","v":{"$error":"#VALUE!"}},null,null,null,{"$f":"((AA695*#REF!)+(#REF!*#REF!)+(#REF!*#REF!))/(#REF!+#REF!+#REF!)","v":{"$error":"#VALUE!"}},{"$f":"((AA695*#REF!)+(#REF!*#REF!)+(#REF!*#REF!))/(#REF!+#REF!+#REF!)","v":{"$error":"#VALUE!"}},{"$f":"((AA695*#REF!)+(#REF!*#REF!)+(#REF!*#REF!))/(#REF!+#REF!+#REF!)","v":{"$error":"#VALUE!"}},{"$f":"((AA695*#REF!)+(#REF!*#REF!)+(#REF!*#REF!))/(#REF!+#REF!+#REF!)","v":{"$error":"#VALUE!"}},{"$f":"((AA695*#REF!)+(#REF!*#REF!)+(#REF!*#REF!))/(#REF!+#REF!+#REF!)","v":{"$error":"#VALUE!"}},{"$f":"((AA695*#REF!)+(#REF!*#REF!)+(#REF!*#REF!))/(#REF!+#REF!+#REF!)","v":{"$error":"#VALUE!"}},{"$f":"((AA695*#REF!)+(#REF!*#REF!)+(#REF!*#REF!))/(#REF!+#REF!+#REF!)","v":{"$error":"#VALUE!"}}]
[null,null,null,null,null,null,null,null,null,null,null,null,null,null,null,null,null,null,null,null,null,694,{"$error":"#VALUE!"},{"$f":"AVERAGE($W$3:W696)","v":{"$error":"#VALUE!"}},null,{"$error":"#VALUE!"},{"$error":"#VALUE!"},{"$f":"AVERAGE($AA$3:AA696)","v":{"$error":"#VALUE!"}},null,null,null,{"$f":"((AA696*#REF!)+(#REF!*#REF!)+(#REF!*#REF!))/(#REF!+#REF!+#REF!)","v":{"$error":"#VALUE!"}},{"$f":"((AA696*#REF!)+(#REF!*#REF!)+(#REF!*#REF!))/(#REF!+#REF!+#REF!)","v":{"$error":"#VALUE!"}},{"$f":"((AA696*#REF!)+(#REF!*#REF!)+(#REF!*#REF!))/(#REF!+#REF!+#REF!)","v":{"$error":"#VALUE!"}},{"$f":"((AA696*#REF!)+(#REF!*#REF!)+(#REF!*#REF!))/(#REF!+#REF!+#REF!)","v":{"$error":"#VALUE!"}},{"$f":"((AA696*#REF!)+(#REF!*#REF!)+(#REF!*#REF!))/(#REF!+#REF!+#REF!)","v":{"$error":"#VALUE!"}},{"$f":"((AA696*#REF!)+(#REF!*#REF!)+(#REF!*#REF!))/(#REF!+#REF!+#REF!)","v":{"$error":"#VALUE!"}},{"$f":"((AA696*#REF!)+(#REF!*#REF!)+(#REF!*#REF!))/(#REF!+#REF!+#REF!)","v":{"$error":"#VALUE!"}}]
[null,null,null,null,null,null,null,null,null,null,null,null,null,null,null,null,null,null,null,null,null,695,{"$error":"#VALUE!"},{"$f":"AVERAGE($W$3:W697)","v":{"$error":"#VALUE!"}},null,{"$error":"#VALUE!"},{"$error":"#VALUE!"},{"$f":"AVERAGE($AA$3:AA697)","v":{"$error":"#VALUE!"}},null,null,null,{"$f":"((AA697*#REF!)+(#REF!*#REF!)+(#REF!*#REF!))/(#REF!+#REF!+#REF!)","v":{"$error":"#VALUE!"}},{"$f":"((AA697*#REF!)+(#REF!*#REF!)+(#REF!*#REF!))/(#REF!+#REF!+#REF!)","v":{"$error":"#VALUE!"}},{"$f":"((AA697*#REF!)+(#REF!*#REF!)+(#REF!*#REF!))/(#REF!+#REF!+#REF!)","v":{"$error":"#VALUE!"}},{"$f":"((AA697*#REF!)+(#REF!*#REF!)+(#REF!*#REF!))/(#REF!+#REF!+#REF!)","v":{"$error":"#VALUE!"}},{"$f":"((AA697*#REF!)+(#REF!*#REF!)+(#REF!*#REF!))/(#REF!+#REF!+#REF!)","v":{"$error":"#VALUE!"}},{"$f":"((AA697*#REF!)+(#REF!*#REF!)+(#REF!*#REF!))/(#REF!+#REF!+#REF!)","v":{"$error":"#VALUE!"}},{"$f":"((AA697*#REF!)+(#REF!*#REF!)+(#REF!*#REF!))/(#REF!+#REF!+#REF!)","v":{"$error":"#VALUE!"}}]
[null,null,null,null,null,null,null,null,null,null,null,null,null,null,null,null,null,null,null,null,null,696,{"$error":"#VALUE!"},{"$f":"AVERAGE($W$3:W698)","v":{"$error":"#VALUE!"}},null,{"$error":"#VALUE!"},{"$error":"#VALUE!"},{"$f":"AVERAGE($AA$3:AA698)","v":{"$error":"#VALUE!"}},null,null,null,{"$f":"((AA698*#REF!)+(#REF!*#REF!)+(#REF!*#REF!))/(#REF!+#REF!+#REF!)","v":{"$error":"#VALUE!"}},{"$f":"((AA698*#REF!)+(#REF!*#REF!)+(#REF!*#REF!))/(#REF!+#REF!+#REF!)","v":{"$error":"#VALUE!"}},{"$f":"((AA698*#REF!)+(#REF!*#REF!)+(#REF!*#REF!))/(#REF!+#REF!+#REF!)","v":{"$error":"#VALUE!"}},{"$f":"((AA698*#REF!)+(#REF!*#REF!)+(#REF!*#REF!))/(#REF!+#REF!+#REF!)","v":{"$error":"#VALUE!"}},{"$f":"((AA698*#REF!)+(#REF!*#REF!)+(#REF!*#REF!))/(#REF!+#REF!+#REF!)","v":{"$error":"#VALUE!"}},{"$f":"((AA698*#REF!)+(#REF!*#REF!)+(#REF!*#REF!))/(#REF!+#REF!+#REF!)","v":{"$error":"#VALUE!"}},{"$f":"((AA698*#REF!)+(#REF!*#REF!)+(#REF!*#REF!))/(#REF!+#REF!+#REF!)","v":{"$error":"#VALUE!"}}]
[null,null,null,null,null,null,null,null,null,null,null,null,null,null,null,null,null,null,null,null,null,697,{"$error":"#VALUE!"},{"$f":"AVERAGE($W$3:W699)","v":{"$error":"#VALUE!"}},null,{"$error":"#VALUE!"},{"$error":"#VALUE!"},{"$f":"AVERAGE($AA$3:AA699)","v":{"$error":"#VALUE!"}},null,null,null,{"$f":"((AA699*#REF!)+(#REF!*#REF!)+(#REF!*#REF!))/(#REF!+#REF!+#REF!)","v":{"$error":"#VALUE!"}},{"$f":"((AA699*#REF!)+(#REF!*#REF!)+(#REF!*#REF!))/(#REF!+#REF!+#REF!)","v":{"$error":"#VALUE!"}},{"$f":"((AA699*#REF!)+(#REF!*#REF!)+(#REF!*#REF!))/(#REF!+#REF!+#REF!)","v":{"$error":"#VALUE!"}},{"$f":"((AA699*#REF!)+(#REF!*#REF!)+(#REF!*#REF!))/(#REF!+#REF!+#REF!)","v":{"$error":"#VALUE!"}},{"$f":"((AA699*#REF!)+(#REF!*#REF!)+(#REF!*#REF!))/(#REF!+#REF!+#REF!)","v":{"$error":"#VALUE!"}},{"$f":"((AA699*#REF!)+(#REF!*#REF!)+(#REF!*#REF!))/(#REF!+#REF!+#REF!)","v":{"$error":"#VALUE!"}},{"$f":"((AA699*#REF!)+(#REF!*#REF!)+(#REF!*#REF!))/(#REF!+#REF!+#REF!)","v":{"$error":"#VALUE!"}}]
[null,null,null,null,null,null,null,null,null,null,null,null,null,null,null,null,null,null,null,null,null,698,{"$error":"#VALUE!"},{"$f":"AVERAGE($W$3:W700)","v":{"$error":"#VALUE!"}},null,{"$error":"#VALUE!"},{"$error":"#VALUE!"},{"$f":"AVERAGE($AA$3:AA700)","v":{"$error":"#VALUE!"}},null,null,null,{"$f":"((AA700*#REF!)+(#REF!*#REF!)+(#REF!*#REF!))/(#REF!+#REF!+#REF!)","v":{"$error":"#VALUE!"}},{"$f":"((AA700*#REF!)+(#REF!*#REF!)+(#REF!*#REF!))/(#REF!+#REF!+#REF!)","v":{"$error":"#VALUE!"}},{"$f":"((AA700*#REF!)+(#REF!*#REF!)+(#REF!*#REF!))/(#REF!+#REF!+#REF!)","v":{"$error":"#VALUE!"}},{"$f":"((AA700*#REF!)+(#REF!*#REF!)+(#REF!*#REF!))/(#REF!+#REF!+#REF!)","v":{"$error":"#VALUE!"}},{"$f":"((AA700*#REF!)+(#REF!*#REF!)+(#REF!*#REF!))/(#REF!+#REF!+#REF!)","v":{"$error":"#VALUE!"}},{"$f":"((AA700*#REF!)+(#REF!*#REF!)+(#REF!*#REF!))/(#REF!+#REF!+#REF!)","v":{"$error":"#VALUE!"}},{"$f":"((AA700*#REF!)+(#REF!*#REF!)+(#REF!*#REF!))/(#REF!+#REF!+#REF!)","v":{"$error":"#VALUE!"}}]
[null,null,null,null,null,null,null,null,null,null,null,null,null,null,null,null,null,null,null,null,null,699,{"$error":"#VALUE!"},{"$f":"AVERAGE($W$3:W701)","v":{"$error":"#VALUE!"}},null,{"$error":"#VALUE!"},{"$error":"#VALUE!"},{"$f":"AVERAGE($AA$3:AA701)","v":{"$error":"#VALUE!"}},null,null,null,{"$f":"((AA701*#REF!)+(#REF!*#REF!)+(#REF!*#REF!))/(#REF!+#REF!+#REF!)","v":{"$error":"#VALUE!"}},{"$f":"((AA701*#REF!)+(#REF!*#REF!)+(#REF!*#REF!))/(#REF!+#REF!+#REF!)","v":{"$error":"#VALUE!"}},{"$f":"((AA701*#REF!)+(#REF!*#REF!)+(#REF!*#REF!))/(#REF!+#REF!+#REF!)","v":{"$error":"#VALUE!"}},{"$f":"((AA701*#REF!)+(#REF!*#REF!)+(#REF!*#REF!))/(#REF!+#REF!+#REF!)","v":{"$error":"#VALUE!"}},{"$f":"((AA701*#REF!)+(#REF!*#REF!)+(#REF!*#REF!))/(#REF!+#REF!+#REF!)","v":{"$error":"#VALUE!"}},{"$f":"((AA701*#REF!)+(#REF!*#REF!)+(#REF!*#REF!))/(#REF!+#REF!+#REF!)","v":{"$error":"#VALUE!"}},{"$f":"((AA701*#REF!)+(#REF!*#REF!)+(#REF!*#REF!))/(#REF!+#REF!+#REF!)","v":{"$error":"#VALUE!"}}]
[null,null,null,null,null,null,null,null,null,null,null,null,null,null,null,null,null,null,null,null,null,700,{"$f":"IF(($M$7*LN(V702))+$M$8+$M$10>0,($M$7*LN(V702))+$M$8+$M$10,0)","v":{"$error":"#VALUE!"}},{"$f":"AVERAGE($W$3:W702)","v":{"$error":"#VALUE!"}},null,{"$error":"#VALUE!"},{"$error":"#VALUE!"},{"$f":"AVERAGE($AA$3:AA702)","v":{"$error":"#VALUE!"}},null,null,null,{"$f":"((AA702*#REF!)+(#REF!*#REF!)+(#REF!*#REF!))/(#REF!+#REF!+#REF!)","v":{"$error":"#VALUE!"}},{"$f":"((AA702*#REF!)+(#REF!*#REF!)+(#REF!*#REF!))/(#REF!+#REF!+#REF!)","v":{"$error":"#VALUE!"}},{"$f":"((AA702*#REF!)+(#REF!*#REF!)+(#REF!*#REF!))/(#REF!+#REF!+#REF!)","v":{"$error":"#VALUE!"}},{"$f":"((AA702*#REF!)+(#REF!*#REF!)+(#REF!*#REF!))/(#REF!+#REF!+#REF!)","v":{"$error":"#VALUE!"}},{"$f":"((AA702*#REF!)+(#REF!*#REF!)+(#REF!*#REF!))/(#REF!+#REF!+#REF!)","v":{"$error":"#VALUE!"}},{"$f":"((AA702*#REF!)+(#REF!*#REF!)+(#REF!*#REF!))/(#REF!+#REF!+#REF!)","v":{"$error":"#VALUE!"}},{"$f":"((AA702*#REF!)+(#REF!*#REF!)+(#REF!*#REF!))/(#REF!+#REF!+#REF!)","v":{"$error":"#VALUE!"}}]
[null,null,null,null,null,null,null,null,null,null,null,null,null,null,null,null,null,null,null,null,null,701,{"$error":"#VALUE!"},{"$f":"AVERAGE($W$3:W703)","v":{"$error":"#VALUE!"}},null,{"$error":"#VALUE!"},{"$error":"#VALUE!"},{"$f":"AVERAGE($AA$3:AA703)","v":{"$error":"#VALUE!"}},null,null,null,{"$f":"((AA703*#REF!)+(#REF!*#REF!)+(#REF!*#REF!))/(#REF!+#REF!+#REF!)","v":{"$error":"#VALUE!"}},{"$f":"((AA703*#REF!)+(#REF!*#REF!)+(#REF!*#REF!))/(#REF!+#REF!+#REF!)","v":{"$error":"#VALUE!"}},{"$f":"((AA703*#REF!)+(#REF!*#REF!)+(#REF!*#REF!))/(#REF!+#REF!+#REF!)","v":{"$error":"#VALUE!"}},{"$f":"((AA703*#REF!)+(#REF!*#REF!)+(#REF!*#REF!))/(#REF!+#REF!+#REF!)","v":{"$error":"#VALUE!"}},{"$f":"((AA703*#REF!)+(#REF!*#REF!)+(#REF!*#REF!))/(#REF!+#REF!+#REF!)","v":{"$error":"#VALUE!"}},{"$f":"((AA703*#REF!)+(#REF!*#REF!)+(#REF!*#REF!))/(#REF!+#REF!+#REF!)","v":{"$error":"#VALUE!"}},{"$f":"((AA703*#REF!)+(#REF!*#REF!)+(#REF!*#REF!))/(#REF!+#REF!+#REF!)","v":{"$error":"#VALUE!"}}]
[null,null,null,null,null,null,null,null,null,null,null,null,null,null,null,null,null,null,null,null,null,702,{"$error":"#VALUE!"},{"$f":"AVERAGE($W$3:W704)","v":{"$error":"#VALUE!"}},null,{"$error":"#VALUE!"},{"$error":"#VALUE!"},{"$f":"AVERAGE($AA$3:AA704)","v":{"$error":"#VALUE!"}},null,null,null,{"$f":"((AA704*#REF!)+(#REF!*#REF!)+(#REF!*#REF!))/(#REF!+#REF!+#REF!)","v":{"$error":"#VALUE!"}},{"$f":"((AA704*#REF!)+(#REF!*#REF!)+(#REF!*#REF!))/(#REF!+#REF!+#REF!)","v":{"$error":"#VALUE!"}},{"$f":"((AA704*#REF!)+(#REF!*#REF!)+(#REF!*#REF!))/(#REF!+#REF!+#REF!)","v":{"$error":"#VALUE!"}},{"$f":"((AA704*#REF!)+(#REF!*#REF!)+(#REF!*#REF!))/(#REF!+#REF!+#REF!)","v":{"$error":"#VALUE!"}},{"$f":"((AA704*#REF!)+(#REF!*#REF!)+(#REF!*#REF!))/(#REF!+#REF!+#REF!)","v":{"$error":"#VALUE!"}},{"$f":"((AA704*#REF!)+(#REF!*#REF!)+(#REF!*#REF!))/(#REF!+#REF!+#REF!)","v":{"$error":"#VALUE!"}},{"$f":"((AA704*#REF!)+(#REF!*#REF!)+(#REF!*#REF!))/(#REF!+#REF!+#REF!)","v":{"$error":"#VALUE!"}}]
[null,null,null,null,null,null,null,null,null,null,null,null,null,null,null,null,null,null,null,null,null,703,{"$error":"#VALUE!"},{"$f":"AVERAGE($W$3:W705)","v":{"$error":"#VALUE!"}},null,{"$error":"#VALUE!"},{"$error":"#VALUE!"},{"$f":"AVERAGE($AA$3:AA705)","v":{"$error":"#VALUE!"}},null,null,null,{"$f":"((AA705*#REF!)+(#REF!*#REF!)+(#REF!*#REF!))/(#REF!+#REF!+#REF!)","v":{"$error":"#VALUE!"}},{"$f":"((AA705*#REF!)+(#REF!*#REF!)+(#REF!*#REF!))/(#REF!+#REF!+#REF!)","v":{"$error":"#VALUE!"}},{"$f":"((AA705*#REF!)+(#REF!*#REF!)+(#REF!*#REF!))/(#REF!+#REF!+#REF!)","v":{"$error":"#VALUE!"}},{"$f":"((AA705*#REF!)+(#REF!*#REF!)+(#REF!*#REF!))/(#REF!+#REF!+#REF!)","v":{"$error":"#VALUE!"}},{"$f":"((AA705*#REF!)+(#REF!*#REF!)+(#REF!*#REF!))/(#REF!+#REF!+#REF!)","v":{"$error":"#VALUE!"}},{"$f":"((AA705*#REF!)+(#REF!*#REF!)+(#REF!*#REF!))/(#REF!+#REF!+#REF!)","v":{"$error":"#VALUE!"}},{"$f":"((AA705*#REF!)+(#REF!*#REF!)+(#REF!*#REF!))/(#REF!+#REF!+#REF!)","v":{"$error":"#VALUE!"}}]
[null,null,null,null,null,null,null,null,null,null,null,null,null,null,null,null,null,null,null,null,null,704,{"$error":"#VALUE!"},{"$f":"AVERAGE($W$3:W706)","v":{"$error":"#VALUE!"}},null,{"$error":"#VALUE!"},{"$error":"#VALUE!"},{"$f":"AVERAGE($AA$3:AA706)","v":{"$error":"#VALUE!"}},null,null,null,{"$f":"((AA706*#REF!)+(#REF!*#REF!)+(#REF!*#REF!))/(#REF!+#REF!+#REF!)","v":{"$error":"#VALUE!"}},{"$f":"((AA706*#REF!)+(#REF!*#REF!)+(#REF!*#REF!))/(#REF!+#REF!+#REF!)","v":{"$error":"#VALUE!"}},{"$f":"((AA706*#REF!)+(#REF!*#REF!)+(#REF!*#REF!))/(#REF!+#REF!+#REF!)","v":{"$error":"#VALUE!"}},{"$f":"((AA706*#REF!)+(#REF!*#REF!)+(#REF!*#REF!))/(#REF!+#REF!+#REF!)","v":{"$error":"#VALUE!"}},{"$f":"((AA706*#REF!)+(#REF!*#REF!)+(#REF!*#REF!))/(#REF!+#REF!+#REF!)","v":{"$error":"#VALUE!"}},{"$f":"((AA706*#REF!)+(#REF!*#REF!)+(#REF!*#REF!))/(#REF!+#REF!+#REF!)","v":{"$error":"#VALUE!"}},{"$f":"((AA706*#REF!)+(#REF!*#REF!)+(#REF!*#REF!))/(#REF!+#REF!+#REF!)","v":{"$error":"#VALUE!"}}]
[null,null,null,null,null,null,null,null,null,null,null,null,null,null,null,null,null,null,null,null,null,705,{"$error":"#VALUE!"},{"$f":"AVERAGE($W$3:W707)","v":{"$error":"#VALUE!"}},null,{"$error":"#VALUE!"},{"$error":"#VALUE!"},{"$f":"AVERAGE($AA$3:AA707)","v":{"$error":"#VALUE!"}},null,null,null,{"$f":"((AA707*#REF!)+(#REF!*#REF!)+(#REF!*#REF!))/(#REF!+#REF!+#REF!)","v":{"$error":"#VALUE!"}},{"$f":"((AA707*#REF!)+(#REF!*#REF!)+(#REF!*#REF!))/(#REF!+#REF!+#REF!)","v":{"$error":"#VALUE!"}},{"$f":"((AA707*#REF!)+(#REF!*#REF!)+(#REF!*#REF!))/(#REF!+#REF!+#REF!)","v":{"$error":"#VALUE!"}},{"$f":"((AA707*#REF!)+(#REF!*#REF!)+(#REF!*#REF!))/(#REF!+#REF!+#REF!)","v":{"$error":"#VALUE!"}},{"$f":"((AA707*#REF!)+(#REF!*#REF!)+(#REF!*#REF!))/(#REF!+#REF!+#REF!)","v":{"$error":"#VALUE!"}},{"$f":"((AA707*#REF!)+(#REF!*#REF!)+(#REF!*#REF!))/(#REF!+#REF!+#REF!)","v":{"$error":"#VALUE!"}},{"$f":"((AA707*#REF!)+(#REF!*#REF!)+(#REF!*#REF!))/(#REF!+#REF!+#REF!)","v":{"$error":"#VALUE!"}}]
[null,null,null,null,null,null,null,null,null,null,null,null,null,null,null,null,null,null,null,null,null,706,{"$error":"#VALUE!"},{"$f":"AVERAGE($W$3:W708)","v":{"$error":"#VALUE!"}},null,{"$f":"$M$2+W708","v":{"$error":"#VALUE!"}},{"$f":"(Z708*(9/5))+32","v":{"$error":"#VALUE!"}},{"$f":"AVERAGE($AA$3:AA708)","v":{"$error":"#VALUE!"}},null,null,null,{"$f":"((AA708*#REF!)+(#REF!*#REF!)+(#REF!*#REF!))/(#REF!+#REF!+#REF!)","v":{"$error":"#VALUE!"}},{"$f":"((AA708*#REF!)+(#REF!*#REF!)+(#REF!*#REF!))/(#REF!+#REF!+#REF!)","v":{"$error":"#VALUE!"}},{"$f":"((AA708*#REF!)+(#REF!*#REF!)+(#REF!*#REF!))/(#REF!+#REF!+#REF!)","v":{"$error":"#VALUE!"}},{"$f":"((AA708*#REF!)+(#REF!*#REF!)+(#REF!*#REF!))/(#REF!+#REF!+#REF!)","v":{"$error":"#VALUE!"}},{"$f":"((AA708*#REF!)+(#REF!*#REF!)+(#REF!*#REF!))/(#REF!+#REF!+#REF!)","v":{"$error":"#VALUE!"}},{"$f":"((AA708*#REF!)+(#REF!*#REF!)+(#REF!*#REF!))/(#REF!+#REF!+#REF!)","v":{"$error":"#VALUE!"}},{"$f":"((AA708*#REF!)+(#REF!*#REF!)+(#REF!*#REF!))/(#REF!+#REF!+#REF!)","v":{"$error":"#VALUE!"}}]
[null,null,null,null,null,null,null,null,null,null,null,null,null,null,null,null,null,null,null,null,null,707,{"$error":"#VALUE!"},{"$f":"AVERAGE($W$3:W709)","v":{"$error":"#VALUE!"}},null,{"$error":"#VALUE!"},{"$error":"#VALUE!"},{"$f":"AVERAGE($AA$3:AA709)","v":{"$error":"#VALUE!"}},null,null,null,{"$f":"((AA709*#REF!)+(#REF!*#REF!)+(#REF!*#REF!))/(#REF!+#REF!+#REF!)","v":{"$error":"#VALUE!"}},{"$f":"((AA709*#REF!)+(#REF!*#REF!)+(#REF!*#REF!))/(#REF!+#REF!+#REF!)","v":{"$error":"#VALUE!"}},{"$f":"((AA709*#REF!)+(#REF!*#REF!)+(#REF!*#REF!))/(#REF!+#REF!+#REF!)","v":{"$error":"#VALUE!"}},{"$f":"((AA709*#REF!)+(#REF!*#REF!)+(#REF!*#REF!))/(#REF!+#REF!+#REF!)","v":{"$error":"#VALUE!"}},{"$f":"((AA709*#REF!)+(#REF!*#REF!)+(#REF!*#REF!))/(#REF!+#REF!+#REF!)","v":{"$error":"#VALUE!"}},{"$f":"((AA709*#REF!)+(#REF!*#REF!)+(#REF!*#REF!))/(#REF!+#REF!+#REF!)","v":{"$error":"#VALUE!"}},{"$f":"((AA709*#REF!)+(#REF!*#REF!)+(#REF!*#REF!))/(#REF!+#REF!+#REF!)","v":{"$error":"#VALUE!"}}]
[null,null,null,null,null,null,null,null,null,null,null,null,null,null,null,null,null,null,null,null,null,708,{"$error":"#VALUE!"},{"$f":"AVERAGE($W$3:W710)","v":{"$error":"#VALUE!"}},null,{"$error":"#VALUE!"},{"$error":"#VALUE!"},{"$f":"AVERAGE($AA$3:AA710)","v":{"$error":"#VALUE!"}},null,null,null,{"$f":"((AA710*#REF!)+(#REF!*#REF!)+(#REF!*#REF!))/(#REF!+#REF!+#REF!)","v":{"$error":"#VALUE!"}},{"$f":"((AA710*#REF!)+(#REF!*#REF!)+(#REF!*#REF!))/(#REF!+#REF!+#REF!)","v":{"$error":"#VALUE!"}},{"$f":"((AA710*#REF!)+(#REF!*#REF!)+(#REF!*#REF!))/(#REF!+#REF!+#REF!)","v":{"$error":"#VALUE!"}},{"$f":"((AA710*#REF!)+(#REF!*#REF!)+(#REF!*#REF!))/(#REF!+#REF!+#REF!)","v":{"$error":"#VALUE!"}},{"$f":"((AA710*#REF!)+(#REF!*#REF!)+(#REF!*#REF!))/(#REF!+#REF!+#REF!)","v":{"$error":"#VALUE!"}},{"$f":"((AA710*#REF!)+(#REF!*#REF!)+(#REF!*#REF!))/(#REF!+#REF!+#REF!)","v":{"$error":"#VALUE!"}},{"$f":"((AA710*#REF!)+(#REF!*#REF!)+(#REF!*#REF!))/(#REF!+#REF!+#REF!)","v":{"$error":"#VALUE!"}}]
[null,null,null,null,null,null,null,null,null,null,null,null,null,null,null,null,null,null,null,null,null,709,{"$error":"#VALUE!"},{"$f":"AVERAGE($W$3:W711)","v":{"$error":"#VALUE!"}},null,{"$error":"#VALUE!"},{"$error":"#VALUE!"},{"$f":"AVERAGE($AA$3:AA711)","v":{"$error":"#VALUE!"}},null,null,null,{"$f":"((AA711*#REF!)+(#REF!*#REF!)+(#REF!*#REF!))/(#REF!+#REF!+#REF!)","v":{"$error":"#VALUE!"}},{"$f":"((AA711*#REF!)+(#REF!*#REF!)+(#REF!*#REF!))/(#REF!+#REF!+#REF!)","v":{"$error":"#VALUE!"}},{"$f":"((AA711*#REF!)+(#REF!*#REF!)+(#REF!*#REF!))/(#REF!+#REF!+#REF!)","v":{"$error":"#VALUE!"}},{"$f":"((AA711*#REF!)+(#REF!*#REF!)+(#REF!*#REF!))/(#REF!+#REF!+#REF!)","v":{"$error":"#VALUE!"}},{"$f":"((AA711*#REF!)+(#REF!*#REF!)+(#REF!*#REF!))/(#REF!+#REF!+#REF!)","v":{"$error":"#VALUE!"}},{"$f":"((AA711*#REF!)+(#REF!*#REF!)+(#REF!*#REF!))/(#REF!+#REF!+#REF!)","v":{"$error":"#VALUE!"}},{"$f":"((AA711*#REF!)+(#REF!*#REF!)+(#REF!*#REF!))/(#REF!+#REF!+#REF!)","v":{"$error":"#VALUE!"}}]
[null,null,null,null,null,null,null,null,null,null,null,null,null,null,null,null,null,null,null,null,null,710,{"$error":"#VALUE!"},{"$f":"AVERAGE($W$3:W712)","v":{"$error":"#VALUE!"}},null,{"$error":"#VALUE!"},{"$error":"#VALUE!"},{"$f":"AVERAGE($AA$3:AA712)","v":{"$error":"#VALUE!"}},null,null,null,{"$f":"((AA712*#REF!)+(#REF!*#REF!)+(#REF!*#REF!))/(#REF!+#REF!+#REF!)","v":{"$error":"#VALUE!"}},{"$f":"((AA712*#REF!)+(#REF!*#REF!)+(#REF!*#REF!))/(#REF!+#REF!+#REF!)","v":{"$error":"#VALUE!"}},{"$f":"((AA712*#REF!)+(#REF!*#REF!)+(#REF!*#REF!))/(#REF!+#REF!+#REF!)","v":{"$error":"#VALUE!"}},{"$f":"((AA712*#REF!)+(#REF!*#REF!)+(#REF!*#REF!))/(#REF!+#REF!+#REF!)","v":{"$error":"#VALUE!"}},{"$f":"((AA712*#REF!)+(#REF!*#REF!)+(#REF!*#REF!))/(#REF!+#REF!+#REF!)","v":{"$error":"#VALUE!"}},{"$f":"((AA712*#REF!)+(#REF!*#REF!)+(#REF!*#REF!))/(#REF!+#REF!+#REF!)","v":{"$error":"#VALUE!"}},{"$f":"((AA712*#REF!)+(#REF!*#REF!)+(#REF!*#REF!))/(#REF!+#REF!+#REF!)","v":{"$error":"#VALUE!"}}]
[null,null,null,null,null,null,null,null,null,null,null,null,null,null,null,null,null,null,null,null,null,711,{"$error":"#VALUE!"},{"$f":"AVERAGE($W$3:W713)","v":{"$error":"#VALUE!"}},null,{"$error":"#VALUE!"},{"$error":"#VALUE!"},{"$f":"AVERAGE($AA$3:AA713)","v":{"$error":"#VALUE!"}},null,null,null,{"$f":"((AA713*#REF!)+(#REF!*#REF!)+(#REF!*#REF!))/(#REF!+#REF!+#REF!)","v":{"$error":"#VALUE!"}},{"$f":"((AA713*#REF!)+(#REF!*#REF!)+(#REF!*#REF!))/(#REF!+#REF!+#REF!)","v":{"$error":"#VALUE!"}},{"$f":"((AA713*#REF!)+(#REF!*#REF!)+(#REF!*#REF!))/(#REF!+#REF!+#REF!)","v":{"$error":"#VALUE!"}},{"$f":"((AA713*#REF!)+(#REF!*#REF!)+(#REF!*#REF!))/(#REF!+#REF!+#REF!)","v":{"$error":"#VALUE!"}},{"$f":"((AA713*#REF!)+(#REF!*#REF!)+(#REF!*#REF!))/(#REF!+#REF!+#REF!)","v":{"$error":"#VALUE!"}},{"$f":"((AA713*#REF!)+(#REF!*#REF!)+(#REF!*#REF!))/(#REF!+#REF!+#REF!)","v":{"$error":"#VALUE!"}},{"$f":"((AA713*#REF!)+(#REF!*#REF!)+(#REF!*#REF!))/(#REF!+#REF!+#REF!)","v":{"$error":"#VALUE!"}}]
[null,null,null,null,null,null,null,null,null,null,null,null,null,null,null,null,null,null,null,null,null,712,{"$error":"#VALUE!"},{"$f":"AVERAGE($W$3:W714)","v":{"$error":"#VALUE!"}},null,{"$error":"#VALUE!"},{"$error":"#VALUE!"},{"$f":"AVERAGE($AA$3:AA714)","v":{"$error":"#VALUE!"}},null,null,null,{"$f":"((AA714*#REF!)+(#REF!*#REF!)+(#REF!*#REF!))/(#REF!+#REF!+#REF!)","v":{"$error":"#VALUE!"}},{"$f":"((AA714*#REF!)+(#REF!*#REF!)+(#REF!*#REF!))/(#REF!+#REF!+#REF!)","v":{"$error":"#VALUE!"}},{"$f":"((AA714*#REF!)+(#REF!*#REF!)+(#REF!*#REF!))/(#REF!+#REF!+#REF!)","v":{"$error":"#VALUE!"}},{"$f":"((AA714*#REF!)+(#REF!*#REF!)+(#REF!*#REF!))/(#REF!+#REF!+#REF!)","v":{"$error":"#VALUE!"}},{"$f":"((AA714*#REF!)+(#REF!*#REF!)+(#REF!*#REF!))/(#REF!+#REF!+#REF!)","v":{"$error":"#VALUE!"}},{"$f":"((AA714*#REF!)+(#REF!*#REF!)+(#REF!*#REF!))/(#REF!+#REF!+#REF!)","v":{"$error":"#VALUE!"}},{"$f":"((AA714*#REF!)+(#REF!*#REF!)+(#REF!*#REF!))/(#REF!+#REF!+#REF!)","v":{"$error":"#VALUE!"}}]
[null,null,null,null,null,null,null,null,null,null,null,null,null,null,null,null,null,null,null,null,null,713,{"$error":"#VALUE!"},{"$f":"AVERAGE($W$3:W715)","v":{"$error":"#VALUE!"}},null,{"$error":"#VALUE!"},{"$error":"#VALUE!"},{"$f":"AVERAGE($AA$3:AA715)","v":{"$error":"#VALUE!"}},null,null,null,{"$f":"((AA715*#REF!)+(#REF!*#REF!)+(#REF!*#REF!))/(#REF!+#REF!+#REF!)","v":{"$error":"#VALUE!"}},{"$f":"((AA715*#REF!)+(#REF!*#REF!)+(#REF!*#REF!))/(#REF!+#REF!+#REF!)","v":{"$error":"#VALUE!"}},{"$f":"((AA715*#REF!)+(#REF!*#REF!)+(#REF!*#REF!))/(#REF!+#REF!+#REF!)","v":{"$error":"#VALUE!"}},{"$f":"((AA715*#REF!)+(#REF!*#REF!)+(#REF!*#REF!))/(#REF!+#REF!+#REF!)","v":{"$error":"#VALUE!"}},{"$f":"((AA715*#REF!)+(#REF!*#REF!)+(#REF!*#REF!))/(#REF!+#REF!+#REF!)","v":{"$error":"#VALUE!"}},{"$f":"((AA715*#REF!)+(#REF!*#REF!)+(#REF!*#REF!))/(#REF!+#REF!+#REF!)","v":{"$error":"#VALUE!"}},{"$f":"((AA715*#REF!)+(#REF!*#REF!)+(#REF!*#REF!))/(#REF!+#REF!+#REF!)","v":{"$error":"#VALUE!"}}]
[null,null,null,null,null,null,null,null,null,null,null,null,null,null,null,null,null,null,null,null,null,714,{"$error":"#VALUE!"},{"$f":"AVERAGE($W$3:W716)","v":{"$error":"#VALUE!"}},null,{"$error":"#VALUE!"},{"$error":"#VALUE!"},{"$f":"AVERAGE($AA$3:AA716)","v":{"$error":"#VALUE!"}},null,null,null,{"$f":"((AA716*#REF!)+(#REF!*#REF!)+(#REF!*#REF!))/(#REF!+#REF!+#REF!)","v":{"$error":"#VALUE!"}},{"$f":"((AA716*#REF!)+(#REF!*#REF!)+(#REF!*#REF!))/(#REF!+#REF!+#REF!)","v":{"$error":"#VALUE!"}},{"$f":"((AA716*#REF!)+(#REF!*#REF!)+(#REF!*#REF!))/(#REF!+#REF!+#REF!)","v":{"$error":"#VALUE!"}},{"$f":"((AA716*#REF!)+(#REF!*#REF!)+(#REF!*#REF!))/(#REF!+#REF!+#REF!)","v":{"$error":"#VALUE!"}},{"$f":"((AA716*#REF!)+(#REF!*#REF!)+(#REF!*#REF!))/(#REF!+#REF!+#REF!)","v":{"$error":"#VALUE!"}},{"$f":"((AA716*#REF!)+(#REF!*#REF!)+(#REF!*#REF!))/(#REF!+#REF!+#REF!)","v":{"$error":"#VALUE!"}},{"$f":"((AA716*#REF!)+(#REF!*#REF!)+(#REF!*#REF!))/(#REF!+#REF!+#REF!)","v":{"$error":"#VALUE!"}}]
[null,null,null,null,null,null,null,null,null,null,null,null,null,null,null,null,null,null,null,null,null,715,{"$error":"#VALUE!"},{"$f":"AVERAGE($W$3:W717)","v":{"$error":"#VALUE!"}},null,{"$error":"#VALUE!"},{"$error":"#VALUE!"},{"$f":"AVERAGE($AA$3:AA717)","v":{"$error":"#VALUE!"}},null,null,null,{"$f":"((AA717*#REF!)+(#REF!*#REF!)+(#REF!*#REF!))/(#REF!+#REF!+#REF!)","v":{"$error":"#VALUE!"}},{"$f":"((AA717*#REF!)+(#REF!*#REF!)+(#REF!*#REF!))/(#REF!+#REF!+#REF!)","v":{"$error":"#VALUE!"}},{"$f":"((AA717*#REF!)+(#REF!*#REF!)+(#REF!*#REF!))/(#REF!+#REF!+#REF!)","v":{"$error":"#VALUE!"}},{"$f":"((AA717*#REF!)+(#REF!*#REF!)+(#REF!*#REF!))/(#REF!+#REF!+#REF!)","v":{"$error":"#VALUE!"}},{"$f":"((AA717*#REF!)+(#REF!*#REF!)+(#REF!*#REF!))/(#REF!+#REF!+#REF!)","v":{"$error":"#VALUE!"}},{"$f":"((AA717*#REF!)+(#REF!*#REF!)+(#REF!*#REF!))/(#REF!+#REF!+#REF!)","v":{"$error":"#VALUE!"}},{"$f":"((AA717*#REF!)+(#REF!*#REF!)+(#REF!*#REF!))/(#REF!+#REF!+#REF!)","v":{"$error":"#VALUE!"}}]
[null,null,null,null,null,null,null,null,null,null,null,null,null,null,null,null,null,null,null,null,null,716,{"$error":"#VALUE!"},{"$f":"AVERAGE($W$3:W718)","v":{"$error":"#VALUE!"}},null,{"$error":"#VALUE!"},{"$error":"#VALUE!"},{"$f":"AVERAGE($AA$3:AA718)","v":{"$error":"#VALUE!"}},null,null,null,{"$f":"((AA718*#REF!)+(#REF!*#REF!)+(#REF!*#REF!))/(#REF!+#REF!+#REF!)","v":{"$error":"#VALUE!"}},{"$f":"((AA718*#REF!)+(#REF!*#REF!)+(#REF!*#REF!))/(#REF!+#REF!+#REF!)","v":{"$error":"#VALUE!"}},{"$f":"((AA718*#REF!)+(#REF!*#REF!)+(#REF!*#REF!))/(#REF!+#REF!+#REF!)","v":{"$error":"#VALUE!"}},{"$f":"((AA718*#REF!)+(#REF!*#REF!)+(#REF!*#REF!))/(#REF!+#REF!+#REF!)","v":{"$error":"#VALUE!"}},{"$f":"((AA718*#REF!)+(#REF!*#REF!)+(#REF!*#REF!))/(#REF!+#REF!+#REF!)","v":{"$error":"#VALUE!"}},{"$f":"((AA718*#REF!)+(#REF!*#REF!)+(#REF!*#REF!))/(#REF!+#REF!+#REF!)","v":{"$error":"#VALUE!"}},{"$f":"((AA718*#REF!)+(#REF!*#REF!)+(#REF!*#REF!))/(#REF!+#REF!+#REF!)","v":{"$error":"#VALUE!"}}]
[null,null,null,null,null,null,null,null,null,null,null,null,null,null,null,null,null,null,null,null,null,717,{"$error":"#VALUE!"},{"$f":"AVERAGE($W$3:W719)","v":{"$error":"#VALUE!"}},null,{"$error":"#VALUE!"},{"$error":"#VALUE!"},{"$f":"AVERAGE($AA$3:AA719)","v":{"$error":"#VALUE!"}},null,null,null,{"$f":"((AA719*#REF!)+(#REF!*#REF!)+(#REF!*#REF!))/(#REF!+#REF!+#REF!)","v":{"$error":"#VALUE!"}},{"$f":"((AA719*#REF!)+(#REF!*#REF!)+(#REF!*#REF!))/(#REF!+#REF!+#REF!)","v":{"$error":"#VALUE!"}},{"$f":"((AA719*#REF!)+(#REF!*#REF!)+(#REF!*#REF!))/(#REF!+#REF!+#REF!)","v":{"$error":"#VALUE!"}},{"$f":"((AA719*#REF!)+(#REF!*#REF!)+(#REF!*#REF!))/(#REF!+#REF!+#REF!)","v":{"$error":"#VALUE!"}},{"$f":"((AA719*#REF!)+(#REF!*#REF!)+(#REF!*#REF!))/(#REF!+#REF!+#REF!)","v":{"$error":"#VALUE!"}},{"$f":"((AA719*#REF!)+(#REF!*#REF!)+(#REF!*#REF!))/(#REF!+#REF!+#REF!)","v":{"$error":"#VALUE!"}},{"$f":"((AA719*#REF!)+(#REF!*#REF!)+(#REF!*#REF!))/(#REF!+#REF!+#REF!)","v":{"$error":"#VALUE!"}}]
[null,null,null,null,null,null,null,null,null,null,null,null,null,null,null,null,null,null,null,null,null,718,{"$error":"#VALUE!"},{"$f":"AVERAGE($W$3:W720)","v":{"$error":"#VALUE!"}},null,{"$error":"#VALUE!"},{"$error":"#VALUE!"},{"$f":"AVERAGE($AA$3:AA720)","v":{"$error":"#VALUE!"}},null,null,null,{"$f":"((AA720*#REF!)+(#REF!*#REF!)+(#REF!*#REF!))/(#REF!+#REF!+#REF!)","v":{"$error":"#VALUE!"}},{"$f":"((AA720*#REF!)+(#REF!*#REF!)+(#REF!*#REF!))/(#REF!+#REF!+#REF!)","v":{"$error":"#VALUE!"}},{"$f":"((AA720*#REF!)+(#REF!*#REF!)+(#REF!*#REF!))/(#REF!+#REF!+#REF!)","v":{"$error":"#VALUE!"}},{"$f":"((AA720*#REF!)+(#REF!*#REF!)+(#REF!*#REF!))/(#REF!+#REF!+#REF!)","v":{"$error":"#VALUE!"}},{"$f":"((AA720*#REF!)+(#REF!*#REF!)+(#REF!*#REF!))/(#REF!+#REF!+#REF!)","v":{"$error":"#VALUE!"}},{"$f":"((AA720*#REF!)+(#REF!*#REF!)+(#REF!*#REF!))/(#REF!+#REF!+#REF!)","v":{"$error":"#VALUE!"}},{"$f":"((AA720*#REF!)+(#REF!*#REF!)+(#REF!*#REF!))/(#REF!+#REF!+#REF!)","v":{"$error":"#VALUE!"}}]
[null,null,null,null,null,null,null,null,null,null,null,null,null,null,null,null,null,null,null,null,null,719,{"$error":"#VALUE!"},{"$f":"AVERAGE($W$3:W721)","v":{"$error":"#VALUE!"}},null,{"$error":"#VALUE!"},{"$error":"#VALUE!"},{"$f":"AVERAGE($AA$3:AA721)","v":{"$error":"#VALUE!"}},null,null,null,{"$f":"((AA721*#REF!)+(#REF!*#REF!)+(#REF!*#REF!))/(#REF!+#REF!+#REF!)","v":{"$error":"#VALUE!"}},{"$f":"((AA721*#REF!)+(#REF!*#REF!)+(#REF!*#REF!))/(#REF!+#REF!+#REF!)","v":{"$error":"#VALUE!"}},{"$f":"((AA721*#REF!)+(#REF!*#REF!)+(#REF!*#REF!))/(#REF!+#REF!+#REF!)","v":{"$error":"#VALUE!"}},{"$f":"((AA721*#REF!)+(#REF!*#REF!)+(#REF!*#REF!))/(#REF!+#REF!+#REF!)","v":{"$error":"#VALUE!"}},{"$f":"((AA721*#REF!)+(#REF!*#REF!)+(#REF!*#REF!))/(#REF!+#REF!+#REF!)","v":{"$error":"#VALUE!"}},{"$f":"((AA721*#REF!)+(#REF!*#REF!)+(#REF!*#REF!))/(#REF!+#REF!+#REF!)","v":{"$error":"#VALUE!"}},{"$f":"((AA721*#REF!)+(#REF!*#REF!)+(#REF!*#REF!))/(#REF!+#REF!+#REF!)","v":{"$error":"#VALUE!"}}]
[null,null,null,null,null,null,null,null,null,null,null,null,null,null,null,null,null,null,null,null,null,720,{"$error":"#VALUE!"},{"$f":"AVERAGE($W$3:W722)","v":{"$error":"#VALUE!"}},null,{"$error":"#VALUE!"},{"$error":"#VALUE!"},{"$f":"AVERAGE($AA$3:AA722)","v":{"$error":"#VALUE!"}},null,null,null,{"$f":"((AA722*#REF!)+(#REF!*#REF!)+(#REF!*#REF!))/(#REF!+#REF!+#REF!)","v":{"$error":"#VALUE!"}},{"$f":"((AA722*#REF!)+(#REF!*#REF!)+(#REF!*#REF!))/(#REF!+#REF!+#REF!)","v":{"$error":"#VALUE!"}},{"$f":"((AA722*#REF!)+(#REF!*#REF!)+(#REF!*#REF!))/(#REF!+#REF!+#REF!)","v":{"$error":"#VALUE!"}},{"$f":"((AA722*#REF!)+(#REF!*#REF!)+(#REF!*#REF!))/(#REF!+#REF!+#REF!)","v":{"$error":"#VALUE!"}},{"$f":"((AA722*#REF!)+(#REF!*#REF!)+(#REF!*#REF!))/(#REF!+#REF!+#REF!)","v":{"$error":"#VALUE!"}},{"$f":"((AA722*#REF!)+(#REF!*#REF!)+(#REF!*#REF!))/(#REF!+#REF!+#REF!)","v":{"$error":"#VALUE!"}},{"$f":"((AA722*#REF!)+(#REF!*#REF!)+(#REF!*#REF!))/(#REF!+#REF!+#REF!)","v":{"$error":"#VALUE!"}}]
[null,null,null,null,null,null,null,null,null,null,null,null,null,null,null,null,null,null,null,null,null,721,{"$error":"#VALUE!"},{"$f":"AVERAGE($W$3:W723)","v":{"$error":"#VALUE!"}},null,{"$error":"#VALUE!"},{"$error":"#VALUE!"},{"$f":"AVERAGE($AA$3:AA723)","v":{"$error":"#VALUE!"}},null,null,null,{"$f":"((AA723*#REF!)+(#REF!*#REF!)+(#REF!*#REF!))/(#REF!+#REF!+#REF!)","v":{"$error":"#VALUE!"}},{"$f":"((AA723*#REF!)+(#REF!*#REF!)+(#REF!*#REF!))/(#REF!+#REF!+#REF!)","v":{"$error":"#VALUE!"}},{"$f":"((AA723*#REF!)+(#REF!*#REF!)+(#REF!*#REF!))/(#REF!+#REF!+#REF!)","v":{"$error":"#VALUE!"}},{"$f":"((AA723*#REF!)+(#REF!*#REF!)+(#REF!*#REF!))/(#REF!+#REF!+#REF!)","v":{"$error":"#VALUE!"}},{"$f":"((AA723*#REF!)+(#REF!*#REF!)+(#REF!*#REF!))/(#REF!+#REF!+#REF!)","v":{"$error":"#VALUE!"}},{"$f":"((AA723*#REF!)+(#REF!*#REF!)+(#REF!*#REF!))/(#REF!+#REF!+#REF!)","v":{"$error":"#VALUE!"}},{"$f":"((AA723*#REF!)+(#REF!*#REF!)+(#REF!*#REF!))/(#REF!+#REF!+#REF!)","v":{"$error":"#VALUE!"}}]
[null,null,null,null,null,null,null,null,null,null,null,null,null,null,null,null,null,null,null,null,null,722,{"$error":"#VALUE!"},{"$f":"AVERAGE($W$3:W724)","v":{"$error":"#VALUE!"}},null,{"$error":"#VALUE!"},{"$error":"#VALUE!"},{"$f":"AVERAGE($AA$3:AA724)","v":{"$error":"#VALUE!"}},null,null,null,{"$f":"((AA724*#REF!)+(#REF!*#REF!)+(#REF!*#REF!))/(#REF!+#REF!+#REF!)","v":{"$error":"#VALUE!"}},{"$f":"((AA724*#REF!)+(#REF!*#REF!)+(#REF!*#REF!))/(#REF!+#REF!+#REF!)","v":{"$error":"#VALUE!"}},{"$f":"((AA724*#REF!)+(#REF!*#REF!)+(#REF!*#REF!))/(#REF!+#REF!+#REF!)","v":{"$error":"#VALUE!"}},{"$f":"((AA724*#REF!)+(#REF!*#REF!)+(#REF!*#REF!))/(#REF!+#REF!+#REF!)","v":{"$error":"#VALUE!"}},{"$f":"((AA724*#REF!)+(#REF!*#REF!)+(#REF!*#REF!))/(#REF!+#REF!+#REF!)","v":{"$error":"#VALUE!"}},{"$f":"((AA724*#REF!)+(#REF!*#REF!)+(#REF!*#REF!))/(#REF!+#REF!+#REF!)","v":{"$error":"#VALUE!"}},{"$f":"((AA724*#REF!)+(#REF!*#REF!)+(#REF!*#REF!))/(#REF!+#REF!+#REF!)","v":{"$error":"#VALUE!"}}]
[null,null,null,null,null,null,null,null,null,null,null,null,null,null,null,null,null,null,null,null,null,723,{"$error":"#VALUE!"},{"$f":"AVERAGE($W$3:W725)","v":{"$error":"#VALUE!"}},null,{"$error":"#VALUE!"},{"$error":"#VALUE!"},{"$f":"AVERAGE($AA$3:AA725)","v":{"$error":"#VALUE!"}},null,null,null,{"$f":"((AA725*#REF!)+(#REF!*#REF!)+(#REF!*#REF!))/(#REF!+#REF!+#REF!)","v":{"$error":"#VALUE!"}},{"$f":"((AA725*#REF!)+(#REF!*#REF!)+(#REF!*#REF!))/(#REF!+#REF!+#REF!)","v":{"$error":"#VALUE!"}},{"$f":"((AA725*#REF!)+(#REF!*#REF!)+(#REF!*#REF!))/(#REF!+#REF!+#REF!)","v":{"$error":"#VALUE!"}},{"$f":"((AA725*#REF!)+(#REF!*#REF!)+(#REF!*#REF!))/(#REF!+#REF!+#REF!)","v":{"$error":"#VALUE!"}},{"$f":"((AA725*#REF!)+(#REF!*#REF!)+(#REF!*#REF!))/(#REF!+#REF!+#REF!)","v":{"$error":"#VALUE!"}},{"$f":"((AA725*#REF!)+(#REF!*#REF!)+(#REF!*#REF!))/(#REF!+#REF!+#REF!)","v":{"$error":"#VALUE!"}},{"$f":"((AA725*#REF!)+(#REF!*#REF!)+(#REF!*#REF!))/(#REF!+#REF!+#REF!)","v":{"$error":"#VALUE!"}}]
[null,null,null,null,null,null,null,null,null,null,null,null,null,null,null,null,null,null,null,null,null,724,{"$error":"#VALUE!"},{"$f":"AVERAGE($W$3:W726)","v":{"$error":"#VALUE!"}},null,{"$error":"#VALUE!"},{"$error":"#VALUE!"},{"$f":"AVERAGE($AA$3:AA726)","v":{"$error":"#VALUE!"}},null,null,null,{"$f":"((AA726*#REF!)+(#REF!*#REF!)+(#REF!*#REF!))/(#REF!+#REF!+#REF!)","v":{"$error":"#VALUE!"}},{"$f":"((AA726*#REF!)+(#REF!*#REF!)+(#REF!*#REF!))/(#REF!+#REF!+#REF!)","v":{"$error":"#VALUE!"}},{"$f":"((AA726*#REF!)+(#REF!*#REF!)+(#REF!*#REF!))/(#REF!+#REF!+#REF!)","v":{"$error":"#VALUE!"}},{"$f":"((AA726*#REF!)+(#REF!*#REF!)+(#REF!*#REF!))/(#REF!+#REF!+#REF!)","v":{"$error":"#VALUE!"}},{"$f":"((AA726*#REF!)+(#REF!*#REF!)+(#REF!*#REF!))/(#REF!+#REF!+#REF!)","v":{"$error":"#VALUE!"}},{"$f":"((AA726*#REF!)+(#REF!*#REF!)+(#REF!*#REF!))/(#REF!+#REF!+#REF!)","v":{"$error":"#VALUE!"}},{"$f":"((AA726*#REF!)+(#REF!*#REF!)+(#REF!*#REF!))/(#REF!+#REF!+#REF!)","v":{"$error":"#VALUE!"}}]
[null,null,null,null,null,null,null,null,null,null,null,null,null,null,null,null,null,null,null,null,null,725,{"$error":"#VALUE!"},{"$f":"AVERAGE($W$3:W727)","v":{"$error":"#VALUE!"}},null,{"$error":"#VALUE!"},{"$error":"#VALUE!"},{"$f":"AVERAGE($AA$3:AA727)","v":{"$error":"#VALUE!"}},null,null,null,{"$f":"((AA727*#REF!)+(#REF!*#REF!)+(#REF!*#REF!))/(#REF!+#REF!+#REF!)","v":{"$error":"#VALUE!"}},{"$f":"((AA727*#REF!)+(#REF!*#REF!)+(#REF!*#REF!))/(#REF!+#REF!+#REF!)","v":{"$error":"#VALUE!"}},{"$f":"((AA727*#REF!)+(#REF!*#REF!)+(#REF!*#REF!))/(#REF!+#REF!+#REF!)","v":{"$error":"#VALUE!"}},{"$f":"((AA727*#REF!)+(#REF!*#REF!)+(#REF!*#REF!))/(#REF!+#REF!+#REF!)","v":{"$error":"#VALUE!"}},{"$f":"((AA727*#REF!)+(#REF!*#REF!)+(#REF!*#REF!))/(#REF!+#REF!+#REF!)","v":{"$error":"#VALUE!"}},{"$f":"((AA727*#REF!)+(#REF!*#REF!)+(#REF!*#REF!))/(#REF!+#REF!+#REF!)","v":{"$error":"#VALUE!"}},{"$f":"((AA727*#REF!)+(#REF!*#REF!)+(#REF!*#REF!))/(#REF!+#REF!+#REF!)","v":{"$error":"#VALUE!"}}]
[null,null,null,null,null,null,null,null,null,null,null,null,null,null,null,null,null,null,null,null,null,726,{"$error":"#VALUE!"},{"$f":"AVERAGE($W$3:W728)","v":{"$error":"#VALUE!"}},null,{"$error":"#VALUE!"},{"$error":"#VALUE!"},{"$f":"AVERAGE($AA$3:AA728)","v":{"$error":"#VALUE!"}},null,null,null,{"$f":"((AA728*#REF!)+(#REF!*#REF!)+(#REF!*#REF!))/(#REF!+#REF!+#REF!)","v":{"$error":"#VALUE!"}},{"$f":"((AA728*#REF!)+(#REF!*#REF!)+(#REF!*#REF!))/(#REF!+#REF!+#REF!)","v":{"$error":"#VALUE!"}},{"$f":"((AA728*#REF!)+(#REF!*#REF!)+(#REF!*#REF!))/(#REF!+#REF!+#REF!)","v":{"$error":"#VALUE!"}},{"$f":"((AA728*#REF!)+(#REF!*#REF!)+(#REF!*#REF!))/(#REF!+#REF!+#REF!)","v":{"$error":"#VALUE!"}},{"$f":"((AA728*#REF!)+(#REF!*#REF!)+(#REF!*#REF!))/(#REF!+#REF!+#REF!)","v":{"$error":"#VALUE!"}},{"$f":"((AA728*#REF!)+(#REF!*#REF!)+(#REF!*#REF!))/(#REF!+#REF!+#REF!)","v":{"$error":"#VALUE!"}},{"$f":"((AA728*#REF!)+(#REF!*#REF!)+(#REF!*#REF!))/(#REF!+#REF!+#REF!)","v":{"$error":"#VALUE!"}}]
[null,null,null,null,null,null,null,null,null,null,null,null,null,null,null,null,null,null,null,null,null,727,{"$error":"#VALUE!"},{"$f":"AVERAGE($W$3:W729)","v":{"$error":"#VALUE!"}},null,{"$error":"#VALUE!"},{"$error":"#VALUE!"},{"$f":"AVERAGE($AA$3:AA729)","v":{"$error":"#VALUE!"}},null,null,null,{"$f":"((AA729*#REF!)+(#REF!*#REF!)+(#REF!*#REF!))/(#REF!+#REF!+#REF!)","v":{"$error":"#VALUE!"}},{"$f":"((AA729*#REF!)+(#REF!*#REF!)+(#REF!*#REF!))/(#REF!+#REF!+#REF!)","v":{"$error":"#VALUE!"}},{"$f":"((AA729*#REF!)+(#REF!*#REF!)+(#REF!*#REF!))/(#REF!+#REF!+#REF!)","v":{"$error":"#VALUE!"}},{"$f":"((AA729*#REF!)+(#REF!*#REF!)+(#REF!*#REF!))/(#REF!+#REF!+#REF!)","v":{"$error":"#VALUE!"}},{"$f":"((AA729*#REF!)+(#REF!*#REF!)+(#REF!*#REF!))/(#REF!+#REF!+#REF!)","v":{"$error":"#VALUE!"}},{"$f":"((AA729*#REF!)+(#REF!*#REF!)+(#REF!*#REF!))/(#REF!+#REF!+#REF!)","v":{"$error":"#VALUE!"}},{"$f":"((AA729*#REF!)+(#REF!*#REF!)+(#REF!*#REF!))/(#REF!+#REF!+#REF!)","v":{"$error":"#VALUE!"}}]
[null,null,null,null,null,null,null,null,null,null,null,null,null,null,null,null,null,null,null,null,null,728,{"$error":"#VALUE!"},{"$f":"AVERAGE($W$3:W730)","v":{"$error":"#VALUE!"}},null,{"$error":"#VALUE!"},{"$error":"#VALUE!"},{"$f":"AVERAGE($AA$3:AA730)","v":{"$error":"#VALUE!"}},null,null,null,{"$f":"((AA730*#REF!)+(#REF!*#REF!)+(#REF!*#REF!))/(#REF!+#REF!+#REF!)","v":{"$error":"#VALUE!"}},{"$f":"((AA730*#REF!)+(#REF!*#REF!)+(#REF!*#REF!))/(#REF!+#REF!+#REF!)","v":{"$error":"#VALUE!"}},{"$f":"((AA730*#REF!)+(#REF!*#REF!)+(#REF!*#REF!))/(#REF!+#REF!+#REF!)","v":{"$error":"#VALUE!"}},{"$f":"((AA730*#REF!)+(#REF!*#REF!)+(#REF!*#REF!))/(#REF!+#REF!+#REF!)","v":{"$error":"#VALUE!"}},{"$f":"((AA730*#REF!)+(#REF!*#REF!)+(#REF!*#REF!))/(#REF!+#REF!+#REF!)","v":{"$error":"#VALUE!"}},{"$f":"((AA730*#REF!)+(#REF!*#REF!)+(#REF!*#REF!))/(#REF!+#REF!+#REF!)","v":{"$error":"#VALUE!"}},{"$f":"((AA730*#REF!)+(#REF!*#REF!)+(#REF!*#REF!))/(#REF!+#REF!+#REF!)","v":{"$error":"#VALUE!"}}]
[null,null,null,null,null,null,null,null,null,null,null,null,null,null,null,null,null,null,null,null,null,729,{"$error":"#VALUE!"},{"$f":"AVERAGE($W$3:W731)","v":{"$error":"#VALUE!"}},null,{"$error":"#VALUE!"},{"$error":"#VALUE!"},{"$f":"AVERAGE($AA$3:AA731)","v":{"$error":"#VALUE!"}},null,null,null,{"$f":"((AA731*#REF!)+(#REF!*#REF!)+(#REF!*#REF!))/(#REF!+#REF!+#REF!)","v":{"$error":"#VALUE!"}},{"$f":"((AA731*#REF!)+(#REF!*#REF!)+(#REF!*#REF!))/(#REF!+#REF!+#REF!)","v":{"$error":"#VALUE!"}},{"$f":"((AA731*#REF!)+(#REF!*#REF!)+(#REF!*#REF!))/(#REF!+#REF!+#REF!)","v":{"$error":"#VALUE!"}},{"$f":"((AA731*#REF!)+(#REF!*#REF!)+(#REF!*#REF!))/(#REF!+#REF!+#REF!)","v":{"$error":"#VALUE!"}},{"$f":"((AA731*#REF!)+(#REF!*#REF!)+(#REF!*#REF!))/(#REF!+#REF!+#REF!)","v":{"$error":"#VALUE!"}},{"$f":"((AA731*#REF!)+(#REF!*#REF!)+(#REF!*#REF!))/(#REF!+#REF!+#REF!)","v":{"$error":"#VALUE!"}},{"$f":"((AA731*#REF!)+(#REF!*#REF!)+(#REF!*#REF!))/(#REF!+#REF!+#REF!)","v":{"$error":"#VALUE!"}}]
[null,null,null,null,null,null,null,null,null,null,null,null,null,null,null,null,null,null,null,null,null,730,{"$error":"#VALUE!"},{"$f":"AVERAGE($W$3:W732)","v":{"$error":"#VALUE!"}},null,{"$error":"#VALUE!"},{"$error":"#VALUE!"},{"$f":"AVERAGE($AA$3:AA732)","v":{"$error":"#VALUE!"}},null,null,null,{"$f":"((AA732*#REF!)+(#REF!*#REF!)+(#REF!*#REF!))/(#REF!+#REF!+#REF!)","v":{"$error":"#VALUE!"}},{"$f":"((AA732*#REF!)+(#REF!*#REF!)+(#REF!*#REF!))/(#REF!+#REF!+#REF!)","v":{"$error":"#VALUE!"}},{"$f":"((AA732*#REF!)+(#REF!*#REF!)+(#REF!*#REF!))/(#REF!+#REF!+#REF!)","v":{"$error":"#VALUE!"}},{"$f":"((AA732*#REF!)+(#REF!*#REF!)+(#REF!*#REF!))/(#REF!+#REF!+#REF!)","v":{"$error":"#VALUE!"}},{"$f":"((AA732*#REF!)+(#REF!*#REF!)+(#REF!*#REF!))/(#REF!+#REF!+#REF!)","v":{"$error":"#VALUE!"}},{"$f":"((AA732*#REF!)+(#REF!*#REF!)+(#REF!*#REF!))/(#REF!+#REF!+#REF!)","v":{"$error":"#VALUE!"}},{"$f":"((AA732*#REF!)+(#REF!*#REF!)+(#REF!*#REF!))/(#REF!+#REF!+#REF!)","v":{"$error":"#VALUE!"}}]
[null,null,null,null,null,null,null,null,null,null,null,null,null,null,null,null,null,null,null,null,null,731,{"$error":"#VALUE!"},{"$f":"AVERAGE($W$3:W733)","v":{"$error":"#VALUE!"}},null,{"$error":"#VALUE!"},{"$error":"#VALUE!"},{"$f":"AVERAGE($AA$3:AA733)","v":{"$error":"#VALUE!"}},null,null,null,{"$f":"((AA733*#REF!)+(#REF!*#REF!)+(#REF!*#REF!))/(#REF!+#REF!+#REF!)","v":{"$error":"#VALUE!"}},{"$f":"((AA733*#REF!)+(#REF!*#REF!)+(#REF!*#REF!))/(#REF!+#REF!+#REF!)","v":{"$error":"#VALUE!"}},{"$f":"((AA733*#REF!)+(#REF!*#REF!)+(#REF!*#REF!))/(#REF!+#REF!+#REF!)","v":{"$error":"#VALUE!"}},{"$f":"((AA733*#REF!)+(#REF!*#REF!)+(#REF!*#REF!))/(#REF!+#REF!+#REF!)","v":{"$error":"#VALUE!"}},{"$f":"((AA733*#REF!)+(#REF!*#REF!)+(#REF!*#REF!))/(#REF!+#REF!+#REF!)","v":{"$error":"#VALUE!"}},{"$f":"((AA733*#REF!)+(#REF!*#REF!)+(#REF!*#REF!))/(#REF!+#REF!+#REF!)","v":{"$error":"#VALUE!"}},{"$f":"((AA733*#REF!)+(#REF!*#REF!)+(#REF!*#REF!))/(#REF!+#REF!+#REF!)","v":{"$error":"#VALUE!"}}]
[null,null,null,null,null,null,null,null,null,null,null,null,null,null,null,null,null,null,null,null,null,732,{"$error":"#VALUE!"},{"$f":"AVERAGE($W$3:W734)","v":{"$error":"#VALUE!"}},null,{"$error":"#VALUE!"},{"$error":"#VALUE!"},{"$f":"AVERAGE($AA$3:AA734)","v":{"$error":"#VALUE!"}},null,null,null,{"$f":"((AA734*#REF!)+(#REF!*#REF!)+(#REF!*#REF!))/(#REF!+#REF!+#REF!)","v":{"$error":"#VALUE!"}},{"$f":"((AA734*#REF!)+(#REF!*#REF!)+(#REF!*#REF!))/(#REF!+#REF!+#REF!)","v":{"$error":"#VALUE!"}},{"$f":"((AA734*#REF!)+(#REF!*#REF!)+(#REF!*#REF!))/(#REF!+#REF!+#REF!)","v":{"$error":"#VALUE!"}},{"$f":"((AA734*#REF!)+(#REF!*#REF!)+(#REF!*#REF!))/(#REF!+#REF!+#REF!)","v":{"$error":"#VALUE!"}},{"$f":"((AA734*#REF!)+(#REF!*#REF!)+(#REF!*#REF!))/(#REF!+#REF!+#REF!)","v":{"$error":"#VALUE!"}},{"$f":"((AA734*#REF!)+(#REF!*#REF!)+(#REF!*#REF!))/(#REF!+#REF!+#REF!)","v":{"$error":"#VALUE!"}},{"$f":"((AA734*#REF!)+(#REF!*#REF!)+(#REF!*#REF!))/(#REF!+#REF!+#REF!)","v":{"$error":"#VALUE!"}}]
[null,null,null,null,null,null,null,null,null,null,null,null,null,null,null,null,null,null,null,null,null,733,{"$error":"#VALUE!"},{"$f":"AVERAGE($W$3:W735)","v":{"$error":"#VALUE!"}},null,{"$error":"#VALUE!"},{"$error":"#VALUE!"},{"$f":"AVERAGE($AA$3:AA735)","v":{"$error":"#VALUE!"}},null,null,null,{"$f":"((AA735*#REF!)+(#REF!*#REF!)+(#REF!*#REF!))/(#REF!+#REF!+#REF!)","v":{"$error":"#VALUE!"}},{"$f":"((AA735*#REF!)+(#REF!*#REF!)+(#REF!*#REF!))/(#REF!+#REF!+#REF!)","v":{"$error":"#VALUE!"}},{"$f":"((AA735*#REF!)+(#REF!*#REF!)+(#REF!*#REF!))/(#REF!+#REF!+#REF!)","v":{"$error":"#VALUE!"}},{"$f":"((AA735*#REF!)+(#REF!*#REF!)+(#REF!*#REF!))/(#REF!+#REF!+#REF!)","v":{"$error":"#VALUE!"}},{"$f":"((AA735*#REF!)+(#REF!*#REF!)+(#REF!*#REF!))/(#REF!+#REF!+#REF!)","v":{"$error":"#VALUE!"}},{"$f":"((AA735*#REF!)+(#REF!*#REF!)+(#REF!*#REF!))/(#REF!+#REF!+#REF!)","v":{"$error":"#VALUE!"}},{"$f":"((AA735*#REF!)+(#REF!*#REF!)+(#REF!*#REF!))/(#REF!+#REF!+#REF!)","v":{"$error":"#VALUE!"}}]
[null,null,null,null,null,null,null,null,null,null,null,null,null,null,null,null,null,null,null,null,null,734,{"$error":"#VALUE!"},{"$f":"AVERAGE($W$3:W736)","v":{"$error":"#VALUE!"}},null,{"$error":"#VALUE!"},{"$error":"#VALUE!"},{"$f":"AVERAGE($AA$3:AA736)","v":{"$error":"#VALUE!"}},null,null,null,{"$f":"((AA736*#REF!)+(#REF!*#REF!)+(#REF!*#REF!))/(#REF!+#REF!+#REF!)","v":{"$error":"#VALUE!"}},{"$f":"((AA736*#REF!)+(#REF!*#REF!)+(#REF!*#REF!))/(#REF!+#REF!+#REF!)","v":{"$error":"#VALUE!"}},{"$f":"((AA736*#REF!)+(#REF!*#REF!)+(#REF!*#REF!))/(#REF!+#REF!+#REF!)","v":{"$error":"#VALUE!"}},{"$f":"((AA736*#REF!)+(#REF!*#REF!)+(#REF!*#REF!))/(#REF!+#REF!+#REF!)","v":{"$error":"#VALUE!"}},{"$f":"((AA736*#REF!)+(#REF!*#REF!)+(#REF!*#REF!))/(#REF!+#REF!+#REF!)","v":{"$error":"#VALUE!"}},{"$f":"((AA736*#REF!)+(#REF!*#REF!)+(#REF!*#REF!))/(#REF!+#REF!+#REF!)","v":{"$error":"#VALUE!"}},{"$f":"((AA736*#REF!)+(#REF!*#REF!)+(#REF!*#REF!))/(#REF!+#REF!+#REF!)","v":{"$error":"#VALUE!"}}]
[null,null,null,null,null,null,null,null,null,null,null,null,null,null,null,null,null,null,null,null,null,735,{"$error":"#VALUE!"},{"$f":"AVERAGE($W$3:W737)","v":{"$error":"#VALUE!"}},null,{"$error":"#VALUE!"},{"$error":"#VALUE!"},{"$f":"AVERAGE($AA$3:AA737)","v":{"$error":"#VALUE!"}},null,null,null,{"$f":"((AA737*#REF!)+(#REF!*#REF!)+(#REF!*#REF!))/(#REF!+#REF!+#REF!)","v":{"$error":"#VALUE!"}},{"$f":"((AA737*#REF!)+(#REF!*#REF!)+(#REF!*#REF!))/(#REF!+#REF!+#REF!)","v":{"$error":"#VALUE!"}},{"$f":"((AA737*#REF!)+(#REF!*#REF!)+(#REF!*#REF!))/(#REF!+#REF!+#REF!)","v":{"$error":"#VALUE!"}},{"$f":"((AA737*#REF!)+(#REF!*#REF!)+(#REF!*#REF!))/(#REF!+#REF!+#REF!)","v":{"$error":"#VALUE!"}},{"$f":"((AA737*#REF!)+(#REF!*#REF!)+(#REF!*#REF!))/(#REF!+#REF!+#REF!)","v":{"$error":"#VALUE!"}},{"$f":"((AA737*#REF!)+(#REF!*#REF!)+(#REF!*#REF!))/(#REF!+#REF!+#REF!)","v":{"$error":"#VALUE!"}},{"$f":"((AA737*#REF!)+(#REF!*#REF!)+(#REF!*#REF!))/(#REF!+#REF!+#REF!)","v":{"$error":"#VALUE!"}}]
[null,null,null,null,null,null,null,null,null,null,null,null,null,null,null,null,null,null,null,null,null,736,{"$error":"#VALUE!"},{"$f":"AVERAGE($W$3:W738)","v":{"$error":"#VALUE!"}},null,{"$error":"#VALUE!"},{"$error":"#VALUE!"},{"$f":"AVERAGE($AA$3:AA738)","v":{"$error":"#VALUE!"}},null,null,null,{"$f":"((AA738*#REF!)+(#REF!*#REF!)+(#REF!*#REF!))/(#REF!+#REF!+#REF!)","v":{"$error":"#VALUE!"}},{"$f":"((AA738*#REF!)+(#REF!*#REF!)+(#REF!*#REF!))/(#REF!+#REF!+#REF!)","v":{"$error":"#VALUE!"}},{"$f":"((AA738*#REF!)+(#REF!*#REF!)+(#REF!*#REF!))/(#REF!+#REF!+#REF!)","v":{"$error":"#VALUE!"}},{"$f":"((AA738*#REF!)+(#REF!*#REF!)+(#REF!*#REF!))/(#REF!+#REF!+#REF!)","v":{"$error":"#VALUE!"}},{"$f":"((AA738*#REF!)+(#REF!*#REF!)+(#REF!*#REF!))/(#REF!+#REF!+#REF!)","v":{"$error":"#VALUE!"}},{"$f":"((AA738*#REF!)+(#REF!*#REF!)+(#REF!*#REF!))/(#REF!+#REF!+#REF!)","v":{"$error":"#VALUE!"}},{"$f":"((AA738*#REF!)+(#REF!*#REF!)+(#REF!*#REF!))/(#REF!+#REF!+#REF!)","v":{"$error":"#VALUE!"}}]
[null,null,null,null,null,null,null,null,null,null,null,null,null,null,null,null,null,null,null,null,null,737,{"$error":"#VALUE!"},{"$f":"AVERAGE($W$3:W739)","v":{"$error":"#VALUE!"}},null,{"$error":"#VALUE!"},{"$error":"#VALUE!"},{"$f":"AVERAGE($AA$3:AA739)","v":{"$error":"#VALUE!"}},null,null,null,{"$f":"((AA739*#REF!)+(#REF!*#REF!)+(#REF!*#REF!))/(#REF!+#REF!+#REF!)","v":{"$error":"#VALUE!"}},{"$f":"((AA739*#REF!)+(#REF!*#REF!)+(#REF!*#REF!))/(#REF!+#REF!+#REF!)","v":{"$error":"#VALUE!"}},{"$f":"((AA739*#REF!)+(#REF!*#REF!)+(#REF!*#REF!))/(#REF!+#REF!+#REF!)","v":{"$error":"#VALUE!"}},{"$f":"((AA739*#REF!)+(#REF!*#REF!)+(#REF!*#REF!))/(#REF!+#REF!+#REF!)","v":{"$error":"#VALUE!"}},{"$f":"((AA739*#REF!)+(#REF!*#REF!)+(#REF!*#REF!))/(#REF!+#REF!+#REF!)","v":{"$error":"#VALUE!"}},{"$f":"((AA739*#REF!)+(#REF!*#REF!)+(#REF!*#REF!))/(#REF!+#REF!+#REF!)","v":{"$error":"#VALUE!"}},{"$f":"((AA739*#REF!)+(#REF!*#REF!)+(#REF!*#REF!))/(#REF!+#REF!+#REF!)","v":{"$error":"#VALUE!"}}]
[null,null,null,null,null,null,null,null,null,null,null,null,null,null,null,null,null,null,null,null,null,738,{"$error":"#VALUE!"},{"$f":"AVERAGE($W$3:W740)","v":{"$error":"#VALUE!"}},null,{"$error":"#VALUE!"},{"$error":"#VALUE!"},{"$f":"AVERAGE($AA$3:AA740)","v":{"$error":"#VALUE!"}},null,null,null,{"$f":"((AA740*#REF!)+(#REF!*#REF!)+(#REF!*#REF!))/(#REF!+#REF!+#REF!)","v":{"$error":"#VALUE!"}},{"$f":"((AA740*#REF!)+(#REF!*#REF!)+(#REF!*#REF!))/(#REF!+#REF!+#REF!)","v":{"$error":"#VALUE!"}},{"$f":"((AA740*#REF!)+(#REF!*#REF!)+(#REF!*#REF!))/(#REF!+#REF!+#REF!)","v":{"$error":"#VALUE!"}},{"$f":"((AA740*#REF!)+(#REF!*#REF!)+(#REF!*#REF!))/(#REF!+#REF!+#REF!)","v":{"$error":"#VALUE!"}},{"$f":"((AA740*#REF!)+(#REF!*#REF!)+(#REF!*#REF!))/(#REF!+#REF!+#REF!)","v":{"$error":"#VALUE!"}},{"$f":"((AA740*#REF!)+(#REF!*#REF!)+(#REF!*#REF!))/(#REF!+#REF!+#REF!)","v":{"$error":"#VALUE!"}},{"$f":"((AA740*#REF!)+(#REF!*#REF!)+(#REF!*#REF!))/(#REF!+#REF!+#REF!)","v":{"$error":"#VALUE!"}}]
[null,null,null,null,null,null,null,null,null,null,null,null,null,null,null,null,null,null,null,null,null,739,{"$error":"#VALUE!"},{"$f":"AVERAGE($W$3:W741)","v":{"$error":"#VALUE!"}},null,{"$error":"#VALUE!"},{"$error":"#VALUE!"},{"$f":"AVERAGE($AA$3:AA741)","v":{"$error":"#VALUE!"}},null,null,null,{"$f":"((AA741*#REF!)+(#REF!*#REF!)+(#REF!*#REF!))/(#REF!+#REF!+#REF!)","v":{"$error":"#VALUE!"}},{"$f":"((AA741*#REF!)+(#REF!*#REF!)+(#REF!*#REF!))/(#REF!+#REF!+#REF!)","v":{"$error":"#VALUE!"}},{"$f":"((AA741*#REF!)+(#REF!*#REF!)+(#REF!*#REF!))/(#REF!+#REF!+#REF!)","v":{"$error":"#VALUE!"}},{"$f":"((AA741*#REF!)+(#REF!*#REF!)+(#REF!*#REF!))/(#REF!+#REF!+#REF!)","v":{"$error":"#VALUE!"}},{"$f":"((AA741*#REF!)+(#REF!*#REF!)+(#REF!*#REF!))/(#REF!+#REF!+#REF!)","v":{"$error":"#VALUE!"}},{"$f":"((AA741*#REF!)+(#REF!*#REF!)+(#REF!*#REF!))/(#REF!+#REF!+#REF!)","v":{"$error":"#VALUE!"}},{"$f":"((AA741*#REF!)+(#REF!*#REF!)+(#REF!*#REF!))/(#REF!+#REF!+#REF!)","v":{"$error":"#VALUE!"}}]
[null,null,null,null,null,null,null,null,null,null,null,null,null,null,null,null,null,null,null,null,null,740,{"$error":"#VALUE!"},{"$f":"AVERAGE($W$3:W742)","v":{"$error":"#VALUE!"}},null,{"$error":"#VALUE!"},{"$error":"#VALUE!"},{"$f":"AVERAGE($AA$3:AA742)","v":{"$error":"#VALUE!"}},null,null,null,{"$f":"((AA742*#REF!)+(#REF!*#REF!)+(#REF!*#REF!))/(#REF!+#REF!+#REF!)","v":{"$error":"#VALUE!"}},{"$f":"((AA742*#REF!)+(#REF!*#REF!)+(#REF!*#REF!))/(#REF!+#REF!+#REF!)","v":{"$error":"#VALUE!"}},{"$f":"((AA742*#REF!)+(#REF!*#REF!)+(#REF!*#REF!))/(#REF!+#REF!+#REF!)","v":{"$error":"#VALUE!"}},{"$f":"((AA742*#REF!)+(#REF!*#REF!)+(#REF!*#REF!))/(#REF!+#REF!+#REF!)","v":{"$error":"#VALUE!"}},{"$f":"((AA742*#REF!)+(#REF!*#REF!)+(#REF!*#REF!))/(#REF!+#REF!+#REF!)","v":{"$error":"#VALUE!"}},{"$f":"((AA742*#REF!)+(#REF!*#REF!)+(#REF!*#REF!))/(#REF!+#REF!+#REF!)","v":{"$error":"#VALUE!"}},{"$f":"((AA742*#REF!)+(#REF!*#REF!)+(#REF!*#REF!))/(#REF!+#REF!+#REF!)","v":{"$error":"#VALUE!"}}]
[null,null,null,null,null,null,null,null,null,null,null,null,null,null,null,null,null,null,null,null,null,741,{"$error":"#VALUE!"},{"$f":"AVERAGE($W$3:W743)","v":{"$error":"#VALUE!"}},null,{"$error":"#VALUE!"},{"$error":"#VALUE!"},{"$f":"AVERAGE($AA$3:AA743)","v":{"$error":"#VALUE!"}},null,null,null,{"$f":"((AA743*#REF!)+(#REF!*#REF!)+(#REF!*#REF!))/(#REF!+#REF!+#REF!)","v":{"$error":"#VALUE!"}},{"$f":"((AA743*#REF!)+(#REF!*#REF!)+(#REF!*#REF!))/(#REF!+#REF!+#REF!)","v":{"$error":"#VALUE!"}},{"$f":"((AA743*#REF!)+(#REF!*#REF!)+(#REF!*#REF!))/(#REF!+#REF!+#REF!)","v":{"$error":"#VALUE!"}},{"$f":"((AA743*#REF!)+(#REF!*#REF!)+(#REF!*#REF!))/(#REF!+#REF!+#REF!)","v":{"$error":"#VALUE!"}},{"$f":"((AA743*#REF!)+(#REF!*#REF!)+(#REF!*#REF!))/(#REF!+#REF!+#REF!)","v":{"$error":"#VALUE!"}},{"$f":"((AA743*#REF!)+(#REF!*#REF!)+(#REF!*#REF!))/(#REF!+#REF!+#REF!)","v":{"$error":"#VALUE!"}},{"$f":"((AA743*#REF!)+(#REF!*#REF!)+(#REF!*#REF!))/(#REF!+#REF!+#REF!)","v":{"$error":"#VALUE!"}}]
[null,null,null,null,null,null,null,null,null,null,null,null,null,null,null,null,null,null,null,null,null,742,{"$error":"#VALUE!"},{"$f":"AVERAGE($W$3:W744)","v":{"$error":"#VALUE!"}},null,{"$error":"#VALUE!"},{"$error":"#VALUE!"},{"$f":"AVERAGE($AA$3:AA744)","v":{"$error":"#VALUE!"}},null,null,null,{"$f":"((AA744*#REF!)+(#REF!*#REF!)+(#REF!*#REF!))/(#REF!+#REF!+#REF!)","v":{"$error":"#VALUE!"}},{"$f":"((AA744*#REF!)+(#REF!*#REF!)+(#REF!*#REF!))/(#REF!+#REF!+#REF!)","v":{"$error":"#VALUE!"}},{"$f":"((AA744*#REF!)+(#REF!*#REF!)+(#REF!*#REF!))/(#REF!+#REF!+#REF!)","v":{"$error":"#VALUE!"}},{"$f":"((AA744*#REF!)+(#REF!*#REF!)+(#REF!*#REF!))/(#REF!+#REF!+#REF!)","v":{"$error":"#VALUE!"}},{"$f":"((AA744*#REF!)+(#REF!*#REF!)+(#REF!*#REF!))/(#REF!+#REF!+#REF!)","v":{"$error":"#VALUE!"}},{"$f":"((AA744*#REF!)+(#REF!*#REF!)+(#REF!*#REF!))/(#REF!+#REF!+#REF!)","v":{"$error":"#VALUE!"}},{"$f":"((AA744*#REF!)+(#REF!*#REF!)+(#REF!*#REF!))/(#REF!+#REF!+#REF!)","v":{"$error":"#VALUE!"}}]
[null,null,null,null,null,null,null,null,null,null,null,null,null,null,null,null,null,null,null,null,null,743,{"$error":"#VALUE!"},{"$f":"AVERAGE($W$3:W745)","v":{"$error":"#VALUE!"}},null,{"$error":"#VALUE!"},{"$error":"#VALUE!"},{"$f":"AVERAGE($AA$3:AA745)","v":{"$error":"#VALUE!"}},null,null,null,{"$f":"((AA745*#REF!)+(#REF!*#REF!)+(#REF!*#REF!))/(#REF!+#REF!+#REF!)","v":{"$error":"#VALUE!"}},{"$f":"((AA745*#REF!)+(#REF!*#REF!)+(#REF!*#REF!))/(#REF!+#REF!+#REF!)","v":{"$error":"#VALUE!"}},{"$f":"((AA745*#REF!)+(#REF!*#REF!)+(#REF!*#REF!))/(#REF!+#REF!+#REF!)","v":{"$error":"#VALUE!"}},{"$f":"((AA745*#REF!)+(#REF!*#REF!)+(#REF!*#REF!))/(#REF!+#REF!+#REF!)","v":{"$error":"#VALUE!"}},{"$f":"((AA745*#REF!)+(#REF!*#REF!)+(#REF!*#REF!))/(#REF!+#REF!+#REF!)","v":{"$error":"#VALUE!"}},{"$f":"((AA745*#REF!)+(#REF!*#REF!)+(#REF!*#REF!))/(#REF!+#REF!+#REF!)","v":{"$error":"#VALUE!"}},{"$f":"((AA745*#REF!)+(#REF!*#REF!)+(#REF!*#REF!))/(#REF!+#REF!+#REF!)","v":{"$error":"#VALUE!"}}]
[null,null,null,null,null,null,null,null,null,null,null,null,null,null,null,null,null,null,null,null,null,744,{"$error":"#VALUE!"},{"$f":"AVERAGE($W$3:W746)","v":{"$error":"#VALUE!"}},null,{"$error":"#VALUE!"},{"$error":"#VALUE!"},{"$f":"AVERAGE($AA$3:AA746)","v":{"$error":"#VALUE!"}},null,null,null,{"$f":"((AA746*#REF!)+(#REF!*#REF!)+(#REF!*#REF!))/(#REF!+#REF!+#REF!)","v":{"$error":"#VALUE!"}},{"$f":"((AA746*#REF!)+(#REF!*#REF!)+(#REF!*#REF!))/(#REF!+#REF!+#REF!)","v":{"$error":"#VALUE!"}},{"$f":"((AA746*#REF!)+(#REF!*#REF!)+(#REF!*#REF!))/(#REF!+#REF!+#REF!)","v":{"$error":"#VALUE!"}},{"$f":"((AA746*#REF!)+(#REF!*#REF!)+(#REF!*#REF!))/(#REF!+#REF!+#REF!)","v":{"$error":"#VALUE!"}},{"$f":"((AA746*#REF!)+(#REF!*#REF!)+(#REF!*#REF!))/(#REF!+#REF!+#REF!)","v":{"$error":"#VALUE!"}},{"$f":"((AA746*#REF!)+(#REF!*#REF!)+(#REF!*#REF!))/(#REF!+#REF!+#REF!)","v":{"$error":"#VALUE!"}},{"$f":"((AA746*#REF!)+(#REF!*#REF!)+(#REF!*#REF!))/(#REF!+#REF!+#REF!)","v":{"$error":"#VALUE!"}}]
[null,null,null,null,null,null,null,null,null,null,null,null,null,null,null,null,null,null,null,null,null,745,{"$error":"#VALUE!"},{"$f":"AVERAGE($W$3:W747)","v":{"$error":"#VALUE!"}},null,{"$error":"#VALUE!"},{"$error":"#VALUE!"},{"$f":"AVERAGE($AA$3:AA747)","v":{"$error":"#VALUE!"}},null,null,null,{"$f":"((AA747*#REF!)+(#REF!*#REF!)+(#REF!*#REF!))/(#REF!+#REF!+#REF!)","v":{"$error":"#VALUE!"}},{"$f":"((AA747*#REF!)+(#REF!*#REF!)+(#REF!*#REF!))/(#REF!+#REF!+#REF!)","v":{"$error":"#VALUE!"}},{"$f":"((AA747*#REF!)+(#REF!*#REF!)+(#REF!*#REF!))/(#REF!+#REF!+#REF!)","v":{"$error":"#VALUE!"}},{"$f":"((AA747*#REF!)+(#REF!*#REF!)+(#REF!*#REF!))/(#REF!+#REF!+#REF!)","v":{"$error":"#VALUE!"}},{"$f":"((AA747*#REF!)+(#REF!*#REF!)+(#REF!*#REF!))/(#REF!+#REF!+#REF!)","v":{"$error":"#VALUE!"}},{"$f":"((AA747*#REF!)+(#REF!*#REF!)+(#REF!*#REF!))/(#REF!+#REF!+#REF!)","v":{"$error":"#VALUE!"}},{"$f":"((AA747*#REF!)+(#REF!*#REF!)+(#REF!*#REF!))/(#REF!+#REF!+#REF!)","v":{"$error":"#VALUE!"}}]
[null,null,null,null,null,null,null,null,null,null,null,null,null,null,null,null,null,null,null,null,null,746,{"$error":"#VALUE!"},{"$f":"AVERAGE($W$3:W748)","v":{"$error":"#VALUE!"}},null,{"$error":"#VALUE!"},{"$error":"#VALUE!"},{"$f":"AVERAGE($AA$3:AA748)","v":{"$error":"#VALUE!"}},null,null,null,{"$f":"((AA748*#REF!)+(#REF!*#REF!)+(#REF!*#REF!))/(#REF!+#REF!+#REF!)","v":{"$error":"#VALUE!"}},{"$f":"((AA748*#REF!)+(#REF!*#REF!)+(#REF!*#REF!))/(#REF!+#REF!+#REF!)","v":{"$error":"#VALUE!"}},{"$f":"((AA748*#REF!)+(#REF!*#REF!)+(#REF!*#REF!))/(#REF!+#REF!+#REF!)","v":{"$error":"#VALUE!"}},{"$f":"((AA748*#REF!)+(#REF!*#REF!)+(#REF!*#REF!))/(#REF!+#REF!+#REF!)","v":{"$error":"#VALUE!"}},{"$f":"((AA748*#REF!)+(#REF!*#REF!)+(#REF!*#REF!))/(#REF!+#REF!+#REF!)","v":{"$error":"#VALUE!"}},{"$f":"((AA748*#REF!)+(#REF!*#REF!)+(#REF!*#REF!))/(#REF!+#REF!+#REF!)","v":{"$error":"#VALUE!"}},{"$f":"((AA748*#REF!)+(#REF!*#REF!)+(#REF!*#REF!))/(#REF!+#REF!+#REF!)","v":{"$error":"#VALUE!"}}]
[null,null,null,null,null,null,null,null,null,null,null,null,null,null,null,null,null,null,null,null,null,747,{"$error":"#VALUE!"},{"$f":"AVERAGE($W$3:W749)","v":{"$error":"#VALUE!"}},null,{"$error":"#VALUE!"},{"$error":"#VALUE!"},{"$f":"AVERAGE($AA$3:AA749)","v":{"$error":"#VALUE!"}},null,null,null,{"$f":"((AA749*#REF!)+(#REF!*#REF!)+(#REF!*#REF!))/(#REF!+#REF!+#REF!)","v":{"$error":"#VALUE!"}},{"$f":"((AA749*#REF!)+(#REF!*#REF!)+(#REF!*#REF!))/(#REF!+#REF!+#REF!)","v":{"$error":"#VALUE!"}},{"$f":"((AA749*#REF!)+(#REF!*#REF!)+(#REF!*#REF!))/(#REF!+#REF!+#REF!)","v":{"$error":"#VALUE!"}},{"$f":"((AA749*#REF!)+(#REF!*#REF!)+(#REF!*#REF!))/(#REF!+#REF!+#REF!)","v":{"$error":"#VALUE!"}},{"$f":"((AA749*#REF!)+(#REF!*#REF!)+(#REF!*#REF!))/(#REF!+#REF!+#REF!)","v":{"$error":"#VALUE!"}},{"$f":"((AA749*#REF!)+(#REF!*#REF!)+(#REF!*#REF!))/(#REF!+#REF!+#REF!)","v":{"$error":"#VALUE!"}},{"$f":"((AA749*#REF!)+(#REF!*#REF!)+(#REF!*#REF!))/(#REF!+#REF!+#REF!)","v":{"$error":"#VALUE!"}}]
[null,null,null,null,null,null,null,null,null,null,null,null,null,null,null,null,null,null,null,null,null,748,{"$error":"#VALUE!"},{"$f":"AVERAGE($W$3:W750)","v":{"$error":"#VALUE!"}},null,{"$error":"#VALUE!"},{"$error":"#VALUE!"},{"$f":"AVERAGE($AA$3:AA750)","v":{"$error":"#VALUE!"}},null,null,null,{"$f":"((AA750*#REF!)+(#REF!*#REF!)+(#REF!*#REF!))/(#REF!+#REF!+#REF!)","v":{"$error":"#VALUE!"}},{"$f":"((AA750*#REF!)+(#REF!*#REF!)+(#REF!*#REF!))/(#REF!+#REF!+#REF!)","v":{"$error":"#VALUE!"}},{"$f":"((AA750*#REF!)+(#REF!*#REF!)+(#REF!*#REF!))/(#REF!+#REF!+#REF!)","v":{"$error":"#VALUE!"}},{"$f":"((AA750*#REF!)+(#REF!*#REF!)+(#REF!*#REF!))/(#REF!+#REF!+#REF!)","v":{"$error":"#VALUE!"}},{"$f":"((AA750*#REF!)+(#REF!*#REF!)+(#REF!*#REF!))/(#REF!+#REF!+#REF!)","v":{"$error":"#VALUE!"}},{"$f":"((AA750*#REF!)+(#REF!*#REF!)+(#REF!*#REF!))/(#REF!+#REF!+#REF!)","v":{"$error":"#VALUE!"}},{"$f":"((AA750*#REF!)+(#REF!*#REF!)+(#REF!*#REF!))/(#REF!+#REF!+#REF!)","v":{"$error":"#VALUE!"}}]
[null,null,null,null,null,null,null,null,null,null,null,null,null,null,null,null,null,null,null,null,null,749,{"$error":"#VALUE!"},{"$f":"AVERAGE($W$3:W751)","v":{"$error":"#VALUE!"}},null,{"$error":"#VALUE!"},{"$error":"#VALUE!"},{"$f":"AVERAGE($AA$3:AA751)","v":{"$error":"#VALUE!"}},null,null,null,{"$f":"((AA751*#REF!)+(#REF!*#REF!)+(#REF!*#REF!))/(#REF!+#REF!+#REF!)","v":{"$error":"#VALUE!"}},{"$f":"((AA751*#REF!)+(#REF!*#REF!)+(#REF!*#REF!))/(#REF!+#REF!+#REF!)","v":{"$error":"#VALUE!"}},{"$f":"((AA751*#REF!)+(#REF!*#REF!)+(#REF!*#REF!))/(#REF!+#REF!+#REF!)","v":{"$error":"#VALUE!"}},{"$f":"((AA751*#REF!)+(#REF!*#REF!)+(#REF!*#REF!))/(#REF!+#REF!+#REF!)","v":{"$error":"#VALUE!"}},{"$f":"((AA751*#REF!)+(#REF!*#REF!)+(#REF!*#REF!))/(#REF!+#REF!+#REF!)","v":{"$error":"#VALUE!"}},{"$f":"((AA751*#REF!)+(#REF!*#REF!)+(#REF!*#REF!))/(#REF!+#REF!+#REF!)","v":{"$error":"#VALUE!"}},{"$f":"((AA751*#REF!)+(#REF!*#REF!)+(#REF!*#REF!))/(#REF!+#REF!+#REF!)","v":{"$error":"#VALUE!"}}]
[null,null,null,null,null,null,null,null,null,null,null,null,null,null,null,null,null,null,null,null,null,750,{"$error":"#VALUE!"},{"$f":"AVERAGE($W$3:W752)","v":{"$error":"#VALUE!"}},null,{"$error":"#VALUE!"},{"$error":"#VALUE!"},{"$f":"AVERAGE($AA$3:AA752)","v":{"$error":"#VALUE!"}},null,null,null,{"$f":"((AA752*#REF!)+(#REF!*#REF!)+(#REF!*#REF!))/(#REF!+#REF!+#REF!)","v":{"$error":"#VALUE!"}},{"$f":"((AA752*#REF!)+(#REF!*#REF!)+(#REF!*#REF!))/(#REF!+#REF!+#REF!)","v":{"$error":"#VALUE!"}},{"$f":"((AA752*#REF!)+(#REF!*#REF!)+(#REF!*#REF!))/(#REF!+#REF!+#REF!)","v":{"$error":"#VALUE!"}},{"$f":"((AA752*#REF!)+(#REF!*#REF!)+(#REF!*#REF!))/(#REF!+#REF!+#REF!)","v":{"$error":"#VALUE!"}},{"$f":"((AA752*#REF!)+(#REF!*#REF!)+(#REF!*#REF!))/(#REF!+#REF!+#REF!)","v":{"$error":"#VALUE!"}},{"$f":"((AA752*#REF!)+(#REF!*#REF!)+(#REF!*#REF!))/(#REF!+#REF!+#REF!)","v":{"$error":"#VALUE!"}},{"$f":"((AA752*#REF!)+(#REF!*#REF!)+(#REF!*#REF!))/(#REF!+#REF!+#REF!)","v":{"$error":"#VALUE!"}}]
[null,null,null,null,null,null,null,null,null,null,null,null,null,null,null,null,null,null,null,null,null,751,{"$error":"#VALUE!"},{"$f":"AVERAGE($W$3:W753)","v":{"$error":"#VALUE!"}},null,{"$error":"#VALUE!"},{"$error":"#VALUE!"},{"$f":"AVERAGE($AA$3:AA753)","v":{"$error":"#VALUE!"}},null,null,null,{"$f":"((AA753*#REF!)+(#REF!*#REF!)+(#REF!*#REF!))/(#REF!+#REF!+#REF!)","v":{"$error":"#VALUE!"}},{"$f":"((AA753*#REF!)+(#REF!*#REF!)+(#REF!*#REF!))/(#REF!+#REF!+#REF!)","v":{"$error":"#VALUE!"}},{"$f":"((AA753*#REF!)+(#REF!*#REF!)+(#REF!*#REF!))/(#REF!+#REF!+#REF!)","v":{"$error":"#VALUE!"}},{"$f":"((AA753*#REF!)+(#REF!*#REF!)+(#REF!*#REF!))/(#REF!+#REF!+#REF!)","v":{"$error":"#VALUE!"}},{"$f":"((AA753*#REF!)+(#REF!*#REF!)+(#REF!*#REF!))/(#REF!+#REF!+#REF!)","v":{"$error":"#VALUE!"}},{"$f":"((AA753*#REF!)+(#REF!*#REF!)+(#REF!*#REF!))/(#REF!+#REF!+#REF!)","v":{"$error":"#VALUE!"}},{"$f":"((AA753*#REF!)+(#REF!*#REF!)+(#REF!*#REF!))/(#REF!+#REF!+#REF!)","v":{"$error":"#VALUE!"}}]
[null,null,null,null,null,null,null,null,null,null,null,null,null,null,null,null,null,null,null,null,null,752,{"$error":"#VALUE!"},{"$f":"AVERAGE($W$3:W754)","v":{"$error":"#VALUE!"}},null,{"$error":"#VALUE!"},{"$error":"#VALUE!"},{"$f":"AVERAGE($AA$3:AA754)","v":{"$error":"#VALUE!"}},null,null,null,{"$f":"((AA754*#REF!)+(#REF!*#REF!)+(#REF!*#REF!))/(#REF!+#REF!+#REF!)","v":{"$error":"#VALUE!"}},{"$f":"((AA754*#REF!)+(#REF!*#REF!)+(#REF!*#REF!))/(#REF!+#REF!+#REF!)","v":{"$error":"#VALUE!"}},{"$f":"((AA754*#REF!)+(#REF!*#REF!)+(#REF!*#REF!))/(#REF!+#REF!+#REF!)","v":{"$error":"#VALUE!"}},{"$f":"((AA754*#REF!)+(#REF!*#REF!)+(#REF!*#REF!))/(#REF!+#REF!+#REF!)","v":{"$error":"#VALUE!"}},{"$f":"((AA754*#REF!)+(#REF!*#REF!)+(#REF!*#REF!))/(#REF!+#REF!+#REF!)","v":{"$error":"#VALUE!"}},{"$f":"((AA754*#REF!)+(#REF!*#REF!)+(#REF!*#REF!))/(#REF!+#REF!+#REF!)","v":{"$error":"#VALUE!"}},{"$f":"((AA754*#REF!)+(#REF!*#REF!)+(#REF!*#REF!))/(#REF!+#REF!+#REF!)","v":{"$error":"#VALUE!"}}]
[null,null,null,null,null,null,null,null,null,null,null,null,null,null,null,null,null,null,null,null,null,753,{"$error":"#VALUE!"},{"$f":"AVERAGE($W$3:W755)","v":{"$error":"#VALUE!"}},null,{"$error":"#VALUE!"},{"$error":"#VALUE!"},{"$f":"AVERAGE($AA$3:AA755)","v":{"$error":"#VALUE!"}},null,null,null,{"$f":"((AA755*#REF!)+(#REF!*#REF!)+(#REF!*#REF!))/(#REF!+#REF!+#REF!)","v":{"$error":"#VALUE!"}},{"$f":"((AA755*#REF!)+(#REF!*#REF!)+(#REF!*#REF!))/(#REF!+#REF!+#REF!)","v":{"$error":"#VALUE!"}},{"$f":"((AA755*#REF!)+(#REF!*#REF!)+(#REF!*#REF!))/(#REF!+#REF!+#REF!)","v":{"$error":"#VALUE!"}},{"$f":"((AA755*#REF!)+(#REF!*#REF!)+(#REF!*#REF!))/(#REF!+#REF!+#REF!)","v":{"$error":"#VALUE!"}},{"$f":"((AA755*#REF!)+(#REF!*#REF!)+(#REF!*#REF!))/(#REF!+#REF!+#REF!)","v":{"$error":"#VALUE!"}},{"$f":"((AA755*#REF!)+(#REF!*#REF!)+(#REF!*#REF!))/(#REF!+#REF!+#REF!)","v":{"$error":"#VALUE!"}},{"$f":"((AA755*#REF!)+(#REF!*#REF!)+(#REF!*#REF!))/(#REF!+#REF!+#REF!)","v":{"$error":"#VALUE!"}}]
[null,null,null,null,null,null,null,null,null,null,null,null,null,null,null,null,null,null,null,null,null,754,{"$error":"#VALUE!"},{"$f":"AVERAGE($W$3:W756)","v":{"$error":"#VALUE!"}},null,{"$error":"#VALUE!"},{"$error":"#VALUE!"},{"$f":"AVERAGE($AA$3:AA756)","v":{"$error":"#VALUE!"}},null,null,null,{"$f":"((AA756*#REF!)+(#REF!*#REF!)+(#REF!*#REF!))/(#REF!+#REF!+#REF!)","v":{"$error":"#VALUE!"}},{"$f":"((AA756*#REF!)+(#REF!*#REF!)+(#REF!*#REF!))/(#REF!+#REF!+#REF!)","v":{"$error":"#VALUE!"}},{"$f":"((AA756*#REF!)+(#REF!*#REF!)+(#REF!*#REF!))/(#REF!+#REF!+#REF!)","v":{"$error":"#VALUE!"}},{"$f":"((AA756*#REF!)+(#REF!*#REF!)+(#REF!*#REF!))/(#REF!+#REF!+#REF!)","v":{"$error":"#VALUE!"}},{"$f":"((AA756*#REF!)+(#REF!*#REF!)+(#REF!*#REF!))/(#REF!+#REF!+#REF!)","v":{"$error":"#VALUE!"}},{"$f":"((AA756*#REF!)+(#REF!*#REF!)+(#REF!*#REF!))/(#REF!+#REF!+#REF!)","v":{"$error":"#VALUE!"}},{"$f":"((AA756*#REF!)+(#REF!*#REF!)+(#REF!*#REF!))/(#REF!+#REF!+#REF!)","v":{"$error":"#VALUE!"}}]
[null,null,null,null,null,null,null,null,null,null,null,null,null,null,null,null,null,null,null,null,null,755,{"$error":"#VALUE!"},{"$f":"AVERAGE($W$3:W757)","v":{"$error":"#VALUE!"}},null,{"$error":"#VALUE!"},{"$error":"#VALUE!"},{"$f":"AVERAGE($AA$3:AA757)","v":{"$error":"#VALUE!"}},null,null,null,{"$f":"((AA757*#REF!)+(#REF!*#REF!)+(#REF!*#REF!))/(#REF!+#REF!+#REF!)","v":{"$error":"#VALUE!"}},{"$f":"((AA757*#REF!)+(#REF!*#REF!)+(#REF!*#REF!))/(#REF!+#REF!+#REF!)","v":{"$error":"#VALUE!"}},{"$f":"((AA757*#REF!)+(#REF!*#REF!)+(#REF!*#REF!))/(#REF!+#REF!+#REF!)","v":{"$error":"#VALUE!"}},{"$f":"((AA757*#REF!)+(#REF!*#REF!)+(#REF!*#REF!))/(#REF!+#REF!+#REF!)","v":{"$error":"#VALUE!"}},{"$f":"((AA757*#REF!)+(#REF!*#REF!)+(#REF!*#REF!))/(#REF!+#REF!+#REF!)","v":{"$error":"#VALUE!"}},{"$f":"((AA757*#REF!)+(#REF!*#REF!)+(#REF!*#REF!))/(#REF!+#REF!+#REF!)","v":{"$error":"#VALUE!"}},{"$f":"((AA757*#REF!)+(#REF!*#REF!)+(#REF!*#REF!))/(#REF!+#REF!+#REF!)","v":{"$error":"#VALUE!"}}]
[null,null,null,null,null,null,null,null,null,null,null,null,null,null,null,null,null,null,null,null,null,756,{"$error":"#VALUE!"},{"$f":"AVERAGE($W$3:W758)","v":{"$error":"#VALUE!"}},null,{"$error":"#VALUE!"},{"$error":"#VALUE!"},{"$f":"AVERAGE($AA$3:AA758)","v":{"$error":"#VALUE!"}},null,null,null,{"$f":"((AA758*#REF!)+(#REF!*#REF!)+(#REF!*#REF!))/(#REF!+#REF!+#REF!)","v":{"$error":"#VALUE!"}},{"$f":"((AA758*#REF!)+(#REF!*#REF!)+(#REF!*#REF!))/(#REF!+#REF!+#REF!)","v":{"$error":"#VALUE!"}},{"$f":"((AA758*#REF!)+(#REF!*#REF!)+(#REF!*#REF!))/(#REF!+#REF!+#REF!)","v":{"$error":"#VALUE!"}},{"$f":"((AA758*#REF!)+(#REF!*#REF!)+(#REF!*#REF!))/(#REF!+#REF!+#REF!)","v":{"$error":"#VALUE!"}},{"$f":"((AA758*#REF!)+(#REF!*#REF!)+(#REF!*#REF!))/(#REF!+#REF!+#REF!)","v":{"$error":"#VALUE!"}},{"$f":"((AA758*#REF!)+(#REF!*#REF!)+(#REF!*#REF!))/(#REF!+#REF!+#REF!)","v":{"$error":"#VALUE!"}},{"$f":"((AA758*#REF!)+(#REF!*#REF!)+(#REF!*#REF!))/(#REF!+#REF!+#REF!)","v":{"$error":"#VALUE!"}}]
[null,null,null,null,null,null,null,null,null,null,null,null,null,null,null,null,null,null,null,null,null,757,{"$error":"#VALUE!"},{"$f":"AVERAGE($W$3:W759)","v":{"$error":"#VALUE!"}},null,{"$error":"#VALUE!"},{"$error":"#VALUE!"},{"$f":"AVERAGE($AA$3:AA759)","v":{"$error":"#VALUE!"}},null,null,null,{"$f":"((AA759*#REF!)+(#REF!*#REF!)+(#REF!*#REF!))/(#REF!+#REF!+#REF!)","v":{"$error":"#VALUE!"}},{"$f":"((AA759*#REF!)+(#REF!*#REF!)+(#REF!*#REF!))/(#REF!+#REF!+#REF!)","v":{"$error":"#VALUE!"}},{"$f":"((AA759*#REF!)+(#REF!*#REF!)+(#REF!*#REF!))/(#REF!+#REF!+#REF!)","v":{"$error":"#VALUE!"}},{"$f":"((AA759*#REF!)+(#REF!*#REF!)+(#REF!*#REF!))/(#REF!+#REF!+#REF!)","v":{"$error":"#VALUE!"}},{"$f":"((AA759*#REF!)+(#REF!*#REF!)+(#REF!*#REF!))/(#REF!+#REF!+#REF!)","v":{"$error":"#VALUE!"}},{"$f":"((AA759*#REF!)+(#REF!*#REF!)+(#REF!*#REF!))/(#REF!+#REF!+#REF!)","v":{"$error":"#VALUE!"}},{"$f":"((AA759*#REF!)+(#REF!*#REF!)+(#REF!*#REF!))/(#REF!+#REF!+#REF!)","v":{"$error":"#VALUE!"}}]
[null,null,null,null,null,null,null,null,null,null,null,null,null,null,null,null,null,null,null,null,null,758,{"$error":"#VALUE!"},{"$f":"AVERAGE($W$3:W760)","v":{"$error":"#VALUE!"}},null,{"$error":"#VALUE!"},{"$error":"#VALUE!"},{"$f":"AVERAGE($AA$3:AA760)","v":{"$error":"#VALUE!"}},null,null,null,{"$f":"((AA760*#REF!)+(#REF!*#REF!)+(#REF!*#REF!))/(#REF!+#REF!+#REF!)","v":{"$error":"#VALUE!"}},{"$f":"((AA760*#REF!)+(#REF!*#REF!)+(#REF!*#REF!))/(#REF!+#REF!+#REF!)","v":{"$error":"#VALUE!"}},{"$f":"((AA760*#REF!)+(#REF!*#REF!)+(#REF!*#REF!))/(#REF!+#REF!+#REF!)","v":{"$error":"#VALUE!"}},{"$f":"((AA760*#REF!)+(#REF!*#REF!)+(#REF!*#REF!))/(#REF!+#REF!+#REF!)","v":{"$error":"#VALUE!"}},{"$f":"((AA760*#REF!)+(#REF!*#REF!)+(#REF!*#REF!))/(#REF!+#REF!+#REF!)","v":{"$error":"#VALUE!"}},{"$f":"((AA760*#REF!)+(#REF!*#REF!)+(#REF!*#REF!))/(#REF!+#REF!+#REF!)","v":{"$error":"#VALUE!"}},{"$f":"((AA760*#REF!)+(#REF!*#REF!)+(#REF!*#REF!))/(#REF!+#REF!+#REF!)","v":{"$error":"#VALUE!"}}]
[null,null,null,null,null,null,null,null,null,null,null,null,null,null,null,null,null,null,null,null,null,759,{"$error":"#VALUE!"},{"$f":"AVERAGE($W$3:W761)","v":{"$error":"#VALUE!"}},null,{"$error":"#VALUE!"},{"$error":"#VALUE!"},{"$f":"AVERAGE($AA$3:AA761)","v":{"$error":"#VALUE!"}},null,null,null,{"$f":"((AA761*#REF!)+(#REF!*#REF!)+(#REF!*#REF!))/(#REF!+#REF!+#REF!)","v":{"$error":"#VALUE!"}},{"$f":"((AA761*#REF!)+(#REF!*#REF!)+(#REF!*#REF!))/(#REF!+#REF!+#REF!)","v":{"$error":"#VALUE!"}},{"$f":"((AA761*#REF!)+(#REF!*#REF!)+(#REF!*#REF!))/(#REF!+#REF!+#REF!)","v":{"$error":"#VALUE!"}},{"$f":"((AA761*#REF!)+(#REF!*#REF!)+(#REF!*#REF!))/(#REF!+#REF!+#REF!)","v":{"$error":"#VALUE!"}},{"$f":"((AA761*#REF!)+(#REF!*#REF!)+(#REF!*#REF!))/(#REF!+#REF!+#REF!)","v":{"$error":"#VALUE!"}},{"$f":"((AA761*#REF!)+(#REF!*#REF!)+(#REF!*#REF!))/(#REF!+#REF!+#REF!)","v":{"$error":"#VALUE!"}},{"$f":"((AA761*#REF!)+(#REF!*#REF!)+(#REF!*#REF!))/(#REF!+#REF!+#REF!)","v":{"$error":"#VALUE!"}}]
[null,null,null,null,null,null,null,null,null,null,null,null,null,null,null,null,null,null,null,null,null,760,{"$error":"#VALUE!"},{"$f":"AVERAGE($W$3:W762)","v":{"$error":"#VALUE!"}},null,{"$error":"#VALUE!"},{"$error":"#VALUE!"},{"$f":"AVERAGE($AA$3:AA762)","v":{"$error":"#VALUE!"}},null,null,null,{"$f":"((AA762*#REF!)+(#REF!*#REF!)+(#REF!*#REF!))/(#REF!+#REF!+#REF!)","v":{"$error":"#VALUE!"}},{"$f":"((AA762*#REF!)+(#REF!*#REF!)+(#REF!*#REF!))/(#REF!+#REF!+#REF!)","v":{"$error":"#VALUE!"}},{"$f":"((AA762*#REF!)+(#REF!*#REF!)+(#REF!*#REF!))/(#REF!+#REF!+#REF!)","v":{"$error":"#VALUE!"}},{"$f":"((AA762*#REF!)+(#REF!*#REF!)+(#REF!*#REF!))/(#REF!+#REF!+#REF!)","v":{"$error":"#VALUE!"}},{"$f":"((AA762*#REF!)+(#REF!*#REF!)+(#REF!*#REF!))/(#REF!+#REF!+#REF!)","v":{"$error":"#VALUE!"}},{"$f":"((AA762*#REF!)+(#REF!*#REF!)+(#REF!*#REF!))/(#REF!+#REF!+#REF!)","v":{"$error":"#VALUE!"}},{"$f":"((AA762*#REF!)+(#REF!*#REF!)+(#REF!*#REF!))/(#REF!+#REF!+#REF!)","v":{"$error":"#VALUE!"}}]
[null,null,null,null,null,null,null,null,null,null,null,null,null,null,null,null,null,null,null,null,null,761,{"$error":"#VALUE!"},{"$f":"AVERAGE($W$3:W763)","v":{"$error":"#VALUE!"}},null,{"$error":"#VALUE!"},{"$error":"#VALUE!"},{"$f":"AVERAGE($AA$3:AA763)","v":{"$error":"#VALUE!"}},null,null,null,{"$f":"((AA763*#REF!)+(#REF!*#REF!)+(#REF!*#REF!))/(#REF!+#REF!+#REF!)","v":{"$error":"#VALUE!"}},{"$f":"((AA763*#REF!)+(#REF!*#REF!)+(#REF!*#REF!))/(#REF!+#REF!+#REF!)","v":{"$error":"#VALUE!"}},{"$f":"((AA763*#REF!)+(#REF!*#REF!)+(#REF!*#REF!))/(#REF!+#REF!+#REF!)","v":{"$error":"#VALUE!"}},{"$f":"((AA763*#REF!)+(#REF!*#REF!)+(#REF!*#REF!))/(#REF!+#REF!+#REF!)","v":{"$error":"#VALUE!"}},{"$f":"((AA763*#REF!)+(#REF!*#REF!)+(#REF!*#REF!))/(#REF!+#REF!+#REF!)","v":{"$error":"#VALUE!"}},{"$f":"((AA763*#REF!)+(#REF!*#REF!)+(#REF!*#REF!))/(#REF!+#REF!+#REF!)","v":{"$error":"#VALUE!"}},{"$f":"((AA763*#REF!)+(#REF!*#REF!)+(#REF!*#REF!))/(#REF!+#REF!+#REF!)","v":{"$error":"#VALUE!"}}]
[null,null,null,null,null,null,null,null,null,null,null,null,null,null,null,null,null,null,null,null,null,762,{"$error":"#VALUE!"},{"$f":"AVERAGE($W$3:W764)","v":{"$error":"#VALUE!"}},null,{"$error":"#VALUE!"},{"$error":"#VALUE!"},{"$f":"AVERAGE($AA$3:AA764)","v":{"$error":"#VALUE!"}},null,null,null,{"$f":"((AA764*#REF!)+(#REF!*#REF!)+(#REF!*#REF!))/(#REF!+#REF!+#REF!)","v":{"$error":"#VALUE!"}},{"$f":"((AA764*#REF!)+(#REF!*#REF!)+(#REF!*#REF!))/(#REF!+#REF!+#REF!)","v":{"$error":"#VALUE!"}},{"$f":"((AA764*#REF!)+(#REF!*#REF!)+(#REF!*#REF!))/(#REF!+#REF!+#REF!)","v":{"$error":"#VALUE!"}},{"$f":"((AA764*#REF!)+(#REF!*#REF!)+(#REF!*#REF!))/(#REF!+#REF!+#REF!)","v":{"$error":"#VALUE!"}},{"$f":"((AA764*#REF!)+(#REF!*#REF!)+(#REF!*#REF!))/(#REF!+#REF!+#REF!)","v":{"$error":"#VALUE!"}},{"$f":"((AA764*#REF!)+(#REF!*#REF!)+(#REF!*#REF!))/(#REF!+#REF!+#REF!)","v":{"$error":"#VALUE!"}},{"$f":"((AA764*#REF!)+(#REF!*#REF!)+(#REF!*#REF!))/(#REF!+#REF!+#REF!)","v":{"$error":"#VALUE!"}}]
[null,null,null,null,null,null,null,null,null,null,null,null,null,null,null,null,null,null,null,null,null,763,{"$error":"#VALUE!"},{"$f":"AVERAGE($W$3:W765)","v":{"$error":"#VALUE!"}},null,{"$error":"#VALUE!"},{"$error":"#VALUE!"},{"$f":"AVERAGE($AA$3:AA765)","v":{"$error":"#VALUE!"}},null,null,null,{"$f":"((AA765*#REF!)+(#REF!*#REF!)+(#REF!*#REF!))/(#REF!+#REF!+#REF!)","v":{"$error":"#VALUE!"}},{"$f":"((AA765*#REF!)+(#REF!*#REF!)+(#REF!*#REF!))/(#REF!+#REF!+#REF!)","v":{"$error":"#VALUE!"}},{"$f":"((AA765*#REF!)+(#REF!*#REF!)+(#REF!*#REF!))/(#REF!+#REF!+#REF!)","v":{"$error":"#VALUE!"}},{"$f":"((AA765*#REF!)+(#REF!*#REF!)+(#REF!*#REF!))/(#REF!+#REF!+#REF!)","v":{"$error":"#VALUE!"}},{"$f":"((AA765*#REF!)+(#REF!*#REF!)+(#REF!*#REF!))/(#REF!+#REF!+#REF!)","v":{"$error":"#VALUE!"}},{"$f":"((AA765*#REF!)+(#REF!*#REF!)+(#REF!*#REF!))/(#REF!+#REF!+#REF!)","v":{"$error":"#VALUE!"}},{"$f":"((AA765*#REF!)+(#REF!*#REF!)+(#REF!*#REF!))/(#REF!+#REF!+#REF!)","v":{"$error":"#VALUE!"}}]
[null,null,null,null,null,null,null,null,null,null,null,null,null,null,null,null,null,null,null,null,null,764,{"$f":"IF(($M$7*LN(V766))+$M$8+$M$10>0,($M$7*LN(V766))+$M$8+$M$10,0)","v":{"$error":"#VALUE!"}},{"$f":"AVERAGE($W$3:W766)","v":{"$error":"#VALUE!"}},null,{"$error":"#VALUE!"},{"$error":"#VALUE!"},{"$f":"AVERAGE($AA$3:AA766)","v":{"$error":"#VALUE!"}},null,null,null,{"$f":"((AA766*#REF!)+(#REF!*#REF!)+(#REF!*#REF!))/(#REF!+#REF!+#REF!)","v":{"$error":"#VALUE!"}},{"$f":"((AA766*#REF!)+(#REF!*#REF!)+(#REF!*#REF!))/(#REF!+#REF!+#REF!)","v":{"$error":"#VALUE!"}},{"$f":"((AA766*#REF!)+(#REF!*#REF!)+(#REF!*#REF!))/(#REF!+#REF!+#REF!)","v":{"$error":"#VALUE!"}},{"$f":"((AA766*#REF!)+(#REF!*#REF!)+(#REF!*#REF!))/(#REF!+#REF!+#REF!)","v":{"$error":"#VALUE!"}},{"$f":"((AA766*#REF!)+(#REF!*#REF!)+(#REF!*#REF!))/(#REF!+#REF!+#REF!)","v":{"$error":"#VALUE!"}},{"$f":"((AA766*#REF!)+(#REF!*#REF!)+(#REF!*#REF!))/(#REF!+#REF!+#REF!)","v":{"$error":"#VALUE!"}},{"$f":"((AA766*#REF!)+(#REF!*#REF!)+(#REF!*#REF!))/(#REF!+#REF!+#REF!)","v":{"$error":"#VALUE!"}}]
[null,null,null,null,null,null,null,null,null,null,null,null,null,null,null,null,null,null,null,null,null,765,{"$error":"#VALUE!"},{"$f":"AVERAGE($W$3:W767)","v":{"$error":"#VALUE!"}},null,{"$error":"#VALUE!"},{"$error":"#VALUE!"},{"$f":"AVERAGE($AA$3:AA767)","v":{"$error":"#VALUE!"}},null,null,null,{"$f":"((AA767*#REF!)+(#REF!*#REF!)+(#REF!*#REF!))/(#REF!+#REF!+#REF!)","v":{"$error":"#VALUE!"}},{"$f":"((AA767*#REF!)+(#REF!*#REF!)+(#REF!*#REF!))/(#REF!+#REF!+#REF!)","v":{"$error":"#VALUE!"}},{"$f":"((AA767*#REF!)+(#REF!*#REF!)+(#REF!*#REF!))/(#REF!+#REF!+#REF!)","v":{"$error":"#VALUE!"}},{"$f":"((AA767*#REF!)+(#REF!*#REF!)+(#REF!*#REF!))/(#REF!+#REF!+#REF!)","v":{"$error":"#VALUE!"}},{"$f":"((AA767*#REF!)+(#REF!*#REF!)+(#REF!*#REF!))/(#REF!+#REF!+#REF!)","v":{"$error":"#VALUE!"}},{"$f":"((AA767*#REF!)+(#REF!*#REF!)+(#REF!*#REF!))/(#REF!+#REF!+#REF!)","v":{"$error":"#VALUE!"}},{"$f":"((AA767*#REF!)+(#REF!*#REF!)+(#REF!*#REF!))/(#REF!+#REF!+#REF!)","v":{"$error":"#VALUE!"}}]
[null,null,null,null,null,null,null,null,null,null,null,null,null,null,null,null,null,null,null,null,null,766,{"$error":"#VALUE!"},{"$f":"AVERAGE($W$3:W768)","v":{"$error":"#VALUE!"}},null,{"$error":"#VALUE!"},{"$error":"#VALUE!"},{"$f":"AVERAGE($AA$3:AA768)","v":{"$error":"#VALUE!"}},null,null,null,{"$f":"((AA768*#REF!)+(#REF!*#REF!)+(#REF!*#REF!))/(#REF!+#REF!+#REF!)","v":{"$error":"#VALUE!"}},{"$f":"((AA768*#REF!)+(#REF!*#REF!)+(#REF!*#REF!))/(#REF!+#REF!+#REF!)","v":{"$error":"#VALUE!"}},{"$f":"((AA768*#REF!)+(#REF!*#REF!)+(#REF!*#REF!))/(#REF!+#REF!+#REF!)","v":{"$error":"#VALUE!"}},{"$f":"((AA768*#REF!)+(#REF!*#REF!)+(#REF!*#REF!))/(#REF!+#REF!+#REF!)","v":{"$error":"#VALUE!"}},{"$f":"((AA768*#REF!)+(#REF!*#REF!)+(#REF!*#REF!))/(#REF!+#REF!+#REF!)","v":{"$error":"#VALUE!"}},{"$f":"((AA768*#REF!)+(#REF!*#REF!)+(#REF!*#REF!))/(#REF!+#REF!+#REF!)","v":{"$error":"#VALUE!"}},{"$f":"((AA768*#REF!)+(#REF!*#REF!)+(#REF!*#REF!))/(#REF!+#REF!+#REF!)","v":{"$error":"#VALUE!"}}]
[null,null,null,null,null,null,null,null,null,null,null,null,null,null,null,null,null,null,null,null,null,767,{"$error":"#VALUE!"},{"$f":"AVERAGE($W$3:W769)","v":{"$error":"#VALUE!"}},null,{"$error":"#VALUE!"},{"$error":"#VALUE!"},{"$f":"AVERAGE($AA$3:AA769)","v":{"$error":"#VALUE!"}},null,null,null,{"$f":"((AA769*#REF!)+(#REF!*#REF!)+(#REF!*#REF!))/(#REF!+#REF!+#REF!)","v":{"$error":"#VALUE!"}},{"$f":"((AA769*#REF!)+(#REF!*#REF!)+(#REF!*#REF!))/(#REF!+#REF!+#REF!)","v":{"$error":"#VALUE!"}},{"$f":"((AA769*#REF!)+(#REF!*#REF!)+(#REF!*#REF!))/(#REF!+#REF!+#REF!)","v":{"$error":"#VALUE!"}},{"$f":"((AA769*#REF!)+(#REF!*#REF!)+(#REF!*#REF!))/(#REF!+#REF!+#REF!)","v":{"$error":"#VALUE!"}},{"$f":"((AA769*#REF!)+(#REF!*#REF!)+(#REF!*#REF!))/(#REF!+#REF!+#REF!)","v":{"$error":"#VALUE!"}},{"$f":"((AA769*#REF!)+(#REF!*#REF!)+(#REF!*#REF!))/(#REF!+#REF!+#REF!)","v":{"$error":"#VALUE!"}},{"$f":"((AA769*#REF!)+(#REF!*#REF!)+(#REF!*#REF!))/(#REF!+#REF!+#REF!)","v":{"$error":"#VALUE!"}}]
[null,null,null,null,null,null,null,null,null,null,null,null,null,null,null,null,null,null,null,null,null,768,{"$error":"#VALUE!"},{"$f":"AVERAGE($W$3:W770)","v":{"$error":"#VALUE!"}},null,{"$error":"#VALUE!"},{"$error":"#VALUE!"},{"$f":"AVERAGE($AA$3:AA770)","v":{"$error":"#VALUE!"}},null,null,null,{"$f":"((AA770*#REF!)+(#REF!*#REF!)+(#REF!*#REF!))/(#REF!+#REF!+#REF!)","v":{"$error":"#VALUE!"}},{"$f":"((AA770*#REF!)+(#REF!*#REF!)+(#REF!*#REF!))/(#REF!+#REF!+#REF!)","v":{"$error":"#VALUE!"}},{"$f":"((AA770*#REF!)+(#REF!*#REF!)+(#REF!*#REF!))/(#REF!+#REF!+#REF!)","v":{"$error":"#VALUE!"}},{"$f":"((AA770*#REF!)+(#REF!*#REF!)+(#REF!*#REF!))/(#REF!+#REF!+#REF!)","v":{"$error":"#VALUE!"}},{"$f":"((AA770*#REF!)+(#REF!*#REF!)+(#REF!*#REF!))/(#REF!+#REF!+#REF!)","v":{"$error":"#VALUE!"}},{"$f":"((AA770*#REF!)+(#REF!*#REF!)+(#REF!*#REF!))/(#REF!+#REF!+#REF!)","v":{"$error":"#VALUE!"}},{"$f":"((AA770*#REF!)+(#REF!*#REF!)+(#REF!*#REF!))/(#REF!+#REF!+#REF!)","v":{"$error":"#VALUE!"}}]
[null,null,null,null,null,null,null,null,null,null,null,null,null,null,null,null,null,null,null,null,null,769,{"$error":"#VALUE!"},{"$f":"AVERAGE($W$3:W771)","v":{"$error":"#VALUE!"}},null,{"$error":"#VALUE!"},{"$error":"#VALUE!"},{"$f":"AVERAGE($AA$3:AA771)","v":{"$error":"#VALUE!"}},null,null,null,{"$f":"((AA771*#REF!)+(#REF!*#REF!)+(#REF!*#REF!))/(#REF!+#REF!+#REF!)","v":{"$error":"#VALUE!"}},{"$f":"((AA771*#REF!)+(#REF!*#REF!)+(#REF!*#REF!))/(#REF!+#REF!+#REF!)","v":{"$error":"#VALUE!"}},{"$f":"((AA771*#REF!)+(#REF!*#REF!)+(#REF!*#REF!))/(#REF!+#REF!+#REF!)","v":{"$error":"#VALUE!"}},{"$f":"((AA771*#REF!)+(#REF!*#REF!)+(#REF!*#REF!))/(#REF!+#REF!+#REF!)","v":{"$error":"#VALUE!"}},{"$f":"((AA771*#REF!)+(#REF!*#REF!)+(#REF!*#REF!))/(#REF!+#REF!+#REF!)","v":{"$error":"#VALUE!"}},{"$f":"((AA771*#REF!)+(#REF!*#REF!)+(#REF!*#REF!))/(#REF!+#REF!+#REF!)","v":{"$error":"#VALUE!"}},{"$f":"((AA771*#REF!)+(#REF!*#REF!)+(#REF!*#REF!))/(#REF!+#REF!+#REF!)","v":{"$error":"#VALUE!"}}]
[null,null,null,null,null,null,null,null,null,null,null,null,null,null,null,null,null,null,null,null,null,770,{"$error":"#VALUE!"},{"$f":"AVERAGE($W$3:W772)","v":{"$error":"#VALUE!"}},null,{"$f":"$M$2+W772","v":{"$error":"#VALUE!"}},{"$f":"(Z772*(9/5))+32","v":{"$error":"#VALUE!"}},{"$f":"AVERAGE($AA$3:AA772)","v":{"$error":"#VALUE!"}},null,null,null,{"$f":"((AA772*#REF!)+(#REF!*#REF!)+(#REF!*#REF!))/(#REF!+#REF!+#REF!)","v":{"$error":"#VALUE!"}},{"$f":"((AA772*#REF!)+(#REF!*#REF!)+(#REF!*#REF!))/(#REF!+#REF!+#REF!)","v":{"$error":"#VALUE!"}},{"$f":"((AA772*#REF!)+(#REF!*#REF!)+(#REF!*#REF!))/(#REF!+#REF!+#REF!)","v":{"$error":"#VALUE!"}},{"$f":"((AA772*#REF!)+(#REF!*#REF!)+(#REF!*#REF!))/(#REF!+#REF!+#REF!)","v":{"$error":"#VALUE!"}},{"$f":"((AA772*#REF!)+(#REF!*#REF!)+(#REF!*#REF!))/(#REF!+#REF!+#REF!)","v":{"$error":"#VALUE!"}},{"$f":"((AA772*#REF!)+(#REF!*#REF!)+(#REF!*#REF!))/(#REF!+#REF!+#REF!)","v":{"$error":"#VALUE!"}},{"$f":"((AA772*#REF!)+(#REF!*#REF!)+(#REF!*#REF!))/(#REF!+#REF!+#REF!)","v":{"$error":"#VALUE!"}}]
[null,null,null,null,null,null,null,null,null,null,null,null,null,null,null,null,null,null,null,null,null,771,{"$error":"#VALUE!"},{"$f":"AVERAGE($W$3:W773)","v":{"$error":"#VALUE!"}},null,{"$error":"#VALUE!"},{"$error":"#VALUE!"},{"$f":"AVERAGE($AA$3:AA773)","v":{"$error":"#VALUE!"}},null,null,null,{"$f":"((AA773*#REF!)+(#REF!*#REF!)+(#REF!*#REF!))/(#REF!+#REF!+#REF!)","v":{"$error":"#VALUE!"}},{"$f":"((AA773*#REF!)+(#REF!*#REF!)+(#REF!*#REF!))/(#REF!+#REF!+#REF!)","v":{"$error":"#VALUE!"}},{"$f":"((AA773*#REF!)+(#REF!*#REF!)+(#REF!*#REF!))/(#REF!+#REF!+#REF!)","v":{"$error":"#VALUE!"}},{"$f":"((AA773*#REF!)+(#REF!*#REF!)+(#REF!*#REF!))/(#REF!+#REF!+#REF!)","v":{"$error":"#VALUE!"}},{"$f":"((AA773*#REF!)+(#REF!*#REF!)+(#REF!*#REF!))/(#REF!+#REF!+#REF!)","v":{"$error":"#VALUE!"}},{"$f":"((AA773*#REF!)+(#REF!*#REF!)+(#REF!*#REF!))/(#REF!+#REF!+#REF!)","v":{"$error":"#VALUE!"}},{"$f":"((AA773*#REF!)+(#REF!*#REF!)+(#REF!*#REF!))/(#REF!+#REF!+#REF!)","v":{"$error":"#VALUE!"}}]
[null,null,null,null,null,null,null,null,null,null,null,null,null,null,null,null,null,null,null,null,null,772,{"$error":"#VALUE!"},{"$f":"AVERAGE($W$3:W774)","v":{"$error":"#VALUE!"}},null,{"$error":"#VALUE!"},{"$error":"#VALUE!"},{"$f":"AVERAGE($AA$3:AA774)","v":{"$error":"#VALUE!"}},null,null,null,{"$f":"((AA774*#REF!)+(#REF!*#REF!)+(#REF!*#REF!))/(#REF!+#REF!+#REF!)","v":{"$error":"#VALUE!"}},{"$f":"((AA774*#REF!)+(#REF!*#REF!)+(#REF!*#REF!))/(#REF!+#REF!+#REF!)","v":{"$error":"#VALUE!"}},{"$f":"((AA774*#REF!)+(#REF!*#REF!)+(#REF!*#REF!))/(#REF!+#REF!+#REF!)","v":{"$error":"#VALUE!"}},{"$f":"((AA774*#REF!)+(#REF!*#REF!)+(#REF!*#REF!))/(#REF!+#REF!+#REF!)","v":{"$error":"#VALUE!"}},{"$f":"((AA774*#REF!)+(#REF!*#REF!)+(#REF!*#REF!))/(#REF!+#REF!+#REF!)","v":{"$error":"#VALUE!"}},{"$f":"((AA774*#REF!)+(#REF!*#REF!)+(#REF!*#REF!))/(#REF!+#REF!+#REF!)","v":{"$error":"#VALUE!"}},{"$f":"((AA774*#REF!)+(#REF!*#REF!)+(#REF!*#REF!))/(#REF!+#REF!+#REF!)","v":{"$error":"#VALUE!"}}]
[null,null,null,null,null,null,null,null,null,null,null,null,null,null,null,null,null,null,null,null,null,773,{"$error":"#VALUE!"},{"$f":"AVERAGE($W$3:W775)","v":{"$error":"#VALUE!"}},null,{"$error":"#VALUE!"},{"$error":"#VALUE!"},{"$f":"AVERAGE($AA$3:AA775)","v":{"$error":"#VALUE!"}},null,null,null,{"$f":"((AA775*#REF!)+(#REF!*#REF!)+(#REF!*#REF!))/(#REF!+#REF!+#REF!)","v":{"$error":"#VALUE!"}},{"$f":"((AA775*#REF!)+(#REF!*#REF!)+(#REF!*#REF!))/(#REF!+#REF!+#REF!)","v":{"$error":"#VALUE!"}},{"$f":"((AA775*#REF!)+(#REF!*#REF!)+(#REF!*#REF!))/(#REF!+#REF!+#REF!)","v":{"$error":"#VALUE!"}},{"$f":"((AA775*#REF!)+(#REF!*#REF!)+(#REF!*#REF!))/(#REF!+#REF!+#REF!)","v":{"$error":"#VALUE!"}},{"$f":"((AA775*#REF!)+(#REF!*#REF!)+(#REF!*#REF!))/(#REF!+#REF!+#REF!)","v":{"$error":"#VALUE!"}},{"$f":"((AA775*#REF!)+(#REF!*#REF!)+(#REF!*#REF!))/(#REF!+#REF!+#REF!)","v":{"$error":"#VALUE!"}},{"$f":"((AA775*#REF!)+(#REF!*#REF!)+(#REF!*#REF!))/(#REF!+#REF!+#REF!)","v":{"$error":"#VALUE!"}}]
[null,null,null,null,null,null,null,null,null,null,null,null,null,null,null,null,null,null,null,null,null,774,{"$error":"#VALUE!"},{"$f":"AVERAGE($W$3:W776)","v":{"$error":"#VALUE!"}},null,{"$error":"#VALUE!"},{"$error":"#VALUE!"},{"$f":"AVERAGE($AA$3:AA776)","v":{"$error":"#VALUE!"}},null,null,null,{"$f":"((AA776*#REF!)+(#REF!*#REF!)+(#REF!*#REF!))/(#REF!+#REF!+#REF!)","v":{"$error":"#VALUE!"}},{"$f":"((AA776*#REF!)+(#REF!*#REF!)+(#REF!*#REF!))/(#REF!+#REF!+#REF!)","v":{"$error":"#VALUE!"}},{"$f":"((AA776*#REF!)+(#REF!*#REF!)+(#REF!*#REF!))/(#REF!+#REF!+#REF!)","v":{"$error":"#VALUE!"}},{"$f":"((AA776*#REF!)+(#REF!*#REF!)+(#REF!*#REF!))/(#REF!+#REF!+#REF!)","v":{"$error":"#VALUE!"}},{"$f":"((AA776*#REF!)+(#REF!*#REF!)+(#REF!*#REF!))/(#REF!+#REF!+#REF!)","v":{"$error":"#VALUE!"}},{"$f":"((AA776*#REF!)+(#REF!*#REF!)+(#REF!*#REF!))/(#REF!+#REF!+#REF!)","v":{"$error":"#VALUE!"}},{"$f":"((AA776*#REF!)+(#REF!*#REF!)+(#REF!*#REF!))/(#REF!+#REF!+#REF!)","v":{"$error":"#VALUE!"}}]
[null,null,null,null,null,null,null,null,null,null,null,null,null,null,null,null,null,null,null,null,null,775,{"$error":"#VALUE!"},{"$f":"AVERAGE($W$3:W777)","v":{"$error":"#VALUE!"}},null,{"$error":"#VALUE!"},{"$error":"#VALUE!"},{"$f":"AVERAGE($AA$3:AA777)","v":{"$error":"#VALUE!"}},null,null,null,{"$f":"((AA777*#REF!)+(#REF!*#REF!)+(#REF!*#REF!))/(#REF!+#REF!+#REF!)","v":{"$error":"#VALUE!"}},{"$f":"((AA777*#REF!)+(#REF!*#REF!)+(#REF!*#REF!))/(#REF!+#REF!+#REF!)","v":{"$error":"#VALUE!"}},{"$f":"((AA777*#REF!)+(#REF!*#REF!)+(#REF!*#REF!))/(#REF!+#REF!+#REF!)","v":{"$error":"#VALUE!"}},{"$f":"((AA777*#REF!)+(#REF!*#REF!)+(#REF!*#REF!))/(#REF!+#REF!+#REF!)","v":{"$error":"#VALUE!"}},{"$f":"((AA777*#REF!)+(#REF!*#REF!)+(#REF!*#REF!))/(#REF!+#REF!+#REF!)","v":{"$error":"#VALUE!"}},{"$f":"((AA777*#REF!)+(#REF!*#REF!)+(#REF!*#REF!))/(#REF!+#REF!+#REF!)","v":{"$error":"#VALUE!"}},{"$f":"((AA777*#REF!)+(#REF!*#REF!)+(#REF!*#REF!))/(#REF!+#REF!+#REF!)","v":{"$error":"#VALUE!"}}]
[null,null,null,null,null,null,null,null,null,null,null,null,null,null,null,null,null,null,null,null,null,776,{"$error":"#VALUE!"},{"$f":"AVERAGE($W$3:W778)","v":{"$error":"#VALUE!"}},null,{"$error":"#VALUE!"},{"$error":"#VALUE!"},{"$f":"AVERAGE($AA$3:AA778)","v":{"$error":"#VALUE!"}},null,null,null,{"$f":"((AA778*#REF!)+(#REF!*#REF!)+(#REF!*#REF!))/(#REF!+#REF!+#REF!)","v":{"$error":"#VALUE!"}},{"$f":"((AA778*#REF!)+(#REF!*#REF!)+(#REF!*#REF!))/(#REF!+#REF!+#REF!)","v":{"$error":"#VALUE!"}},{"$f":"((AA778*#REF!)+(#REF!*#REF!)+(#REF!*#REF!))/(#REF!+#REF!+#REF!)","v":{"$error":"#VALUE!"}},{"$f":"((AA778*#REF!)+(#REF!*#REF!)+(#REF!*#REF!))/(#REF!+#REF!+#REF!)","v":{"$error":"#VALUE!"}},{"$f":"((AA778*#REF!)+(#REF!*#REF!)+(#REF!*#REF!))/(#REF!+#REF!+#REF!)","v":{"$error":"#VALUE!"}},{"$f":"((AA778*#REF!)+(#REF!*#REF!)+(#REF!*#REF!))/(#REF!+#REF!+#REF!)","v":{"$error":"#VALUE!"}},{"$f":"((AA778*#REF!)+(#REF!*#REF!)+(#REF!*#REF!))/(#REF!+#REF!+#REF!)","v":{"$error":"#VALUE!"}}]
[null,null,null,null,null,null,null,null,null,null,null,null,null,null,null,null,null,null,null,null,null,777,{"$error":"#VALUE!"},{"$f":"AVERAGE($W$3:W779)","v":{"$error":"#VALUE!"}},null,{"$error":"#VALUE!"},{"$error":"#VALUE!"},{"$f":"AVERAGE($AA$3:AA779)","v":{"$error":"#VALUE!"}},null,null,null,{"$f":"((AA779*#REF!)+(#REF!*#REF!)+(#REF!*#REF!))/(#REF!+#REF!+#REF!)","v":{"$error":"#VALUE!"}},{"$f":"((AA779*#REF!)+(#REF!*#REF!)+(#REF!*#REF!))/(#REF!+#REF!+#REF!)","v":{"$error":"#VALUE!"}},{"$f":"((AA779*#REF!)+(#REF!*#REF!)+(#REF!*#REF!))/(#REF!+#REF!+#REF!)","v":{"$error":"#VALUE!"}},{"$f":"((AA779*#REF!)+(#REF!*#REF!)+(#REF!*#REF!))/(#REF!+#REF!+#REF!)","v":{"$error":"#VALUE!"}},{"$f":"((AA779*#REF!)+(#REF!*#REF!)+(#REF!*#REF!))/(#REF!+#REF!+#REF!)","v":{"$error":"#VALUE!"}},{"$f":"((AA779*#REF!)+(#REF!*#REF!)+(#REF!*#REF!))/(#REF!+#REF!+#REF!)","v":{"$error":"#VALUE!"}},{"$f":"((AA779*#REF!)+(#REF!*#REF!)+(#REF!*#REF!))/(#REF!+#REF!+#REF!)","v":{"$error":"#VALUE!"}}]
[null,null,null,null,null,null,null,null,null,null,null,null,null,null,null,null,null,null,null,null,null,778,{"$error":"#VALUE!"},{"$f":"AVERAGE($W$3:W780)","v":{"$error":"#VALUE!"}},null,{"$error":"#VALUE!"},{"$error":"#VALUE!"},{"$f":"AVERAGE($AA$3:AA780)","v":{"$error":"#VALUE!"}},null,null,null,{"$f":"((AA780*#REF!)+(#REF!*#REF!)+(#REF!*#REF!))/(#REF!+#REF!+#REF!)","v":{"$error":"#VALUE!"}},{"$f":"((AA780*#REF!)+(#REF!*#REF!)+(#REF!*#REF!))/(#REF!+#REF!+#REF!)","v":{"$error":"#VALUE!"}},{"$f":"((AA780*#REF!)+(#REF!*#REF!)+(#REF!*#REF!))/(#REF!+#REF!+#REF!)","v":{"$error":"#VALUE!"}},{"$f":"((AA780*#REF!)+(#REF!*#REF!)+(#REF!*#REF!))/(#REF!+#REF!+#REF!)","v":{"$error":"#VALUE!"}},{"$f":"((AA780*#REF!)+(#REF!*#REF!)+(#REF!*#REF!))/(#REF!+#REF!+#REF!)","v":{"$error":"#VALUE!"}},{"$f":"((AA780*#REF!)+(#REF!*#REF!)+(#REF!*#REF!))/(#REF!+#REF!+#REF!)","v":{"$error":"#VALUE!"}},{"$f":"((AA780*#REF!)+(#REF!*#REF!)+(#REF!*#REF!))/(#REF!+#REF!+#REF!)","v":{"$error":"#VALUE!"}}]
[null,null,null,null,null,null,null,null,null,null,null,null,null,null,null,null,null,null,null,null,null,779,{"$error":"#VALUE!"},{"$f":"AVERAGE($W$3:W781)","v":{"$error":"#VALUE!"}},null,{"$error":"#VALUE!"},{"$error":"#VALUE!"},{"$f":"AVERAGE($AA$3:AA781)","v":{"$error":"#VALUE!"}},null,null,null,{"$f":"((AA781*#REF!)+(#REF!*#REF!)+(#REF!*#REF!))/(#REF!+#REF!+#REF!)","v":{"$error":"#VALUE!"}},{"$f":"((AA781*#REF!)+(#REF!*#REF!)+(#REF!*#REF!))/(#REF!+#REF!+#REF!)","v":{"$error":"#VALUE!"}},{"$f":"((AA781*#REF!)+(#REF!*#REF!)+(#REF!*#REF!))/(#REF!+#REF!+#REF!)","v":{"$error":"#VALUE!"}},{"$f":"((AA781*#REF!)+(#REF!*#REF!)+(#REF!*#REF!))/(#REF!+#REF!+#REF!)","v":{"$error":"#VALUE!"}},{"$f":"((AA781*#REF!)+(#REF!*#REF!)+(#REF!*#REF!))/(#REF!+#REF!+#REF!)","v":{"$error":"#VALUE!"}},{"$f":"((AA781*#REF!)+(#REF!*#REF!)+(#REF!*#REF!))/(#REF!+#REF!+#REF!)","v":{"$error":"#VALUE!"}},{"$f":"((AA781*#REF!)+(#REF!*#REF!)+(#REF!*#REF!))/(#REF!+#REF!+#REF!)","v":{"$error":"#VALUE!"}}]
[null,null,null,null,null,null,null,null,null,null,null,null,null,null,null,null,null,null,null,null,null,780,{"$error":"#VALUE!"},{"$f":"AVERAGE($W$3:W782)","v":{"$error":"#VALUE!"}},null,{"$error":"#VALUE!"},{"$error":"#VALUE!"},{"$f":"AVERAGE($AA$3:AA782)","v":{"$error":"#VALUE!"}},null,null,null,{"$f":"((AA782*#REF!)+(#REF!*#REF!)+(#REF!*#REF!))/(#REF!+#REF!+#REF!)","v":{"$error":"#VALUE!"}},{"$f":"((AA782*#REF!)+(#REF!*#REF!)+(#REF!*#REF!))/(#REF!+#REF!+#REF!)","v":{"$error":"#VALUE!"}},{"$f":"((AA782*#REF!)+(#REF!*#REF!)+(#REF!*#REF!))/(#REF!+#REF!+#REF!)","v":{"$error":"#VALUE!"}},{"$f":"((AA782*#REF!)+(#REF!*#REF!)+(#REF!*#REF!))/(#REF!+#REF!+#REF!)","v":{"$error":"#VALUE!"}},{"$f":"((AA782*#REF!)+(#REF!*#REF!)+(#REF!*#REF!))/(#REF!+#REF!+#REF!)","v":{"$error":"#VALUE!"}},{"$f":"((AA782*#REF!)+(#REF!*#REF!)+(#REF!*#REF!))/(#REF!+#REF!+#REF!)","v":{"$error":"#VALUE!"}},{"$f":"((AA782*#REF!)+(#REF!*#REF!)+(#REF!*#REF!))/(#REF!+#REF!+#REF!)","v":{"$error":"#VALUE!"}}]
[null,null,null,null,null,null,null,null,null,null,null,null,null,null,null,null,null,null,null,null,null,781,{"$error":"#VALUE!"},{"$f":"AVERAGE($W$3:W783)","v":{"$error":"#VALUE!"}},null,{"$error":"#VALUE!"},{"$error":"#VALUE!"},{"$f":"AVERAGE($AA$3:AA783)","v":{"$error":"#VALUE!"}},null,null,null,{"$f":"((AA783*#REF!)+(#REF!*#REF!)+(#REF!*#REF!))/(#REF!+#REF!+#REF!)","v":{"$error":"#VALUE!"}},{"$f":"((AA783*#REF!)+(#REF!*#REF!)+(#REF!*#REF!))/(#REF!+#REF!+#REF!)","v":{"$error":"#VALUE!"}},{"$f":"((AA783*#REF!)+(#REF!*#REF!)+(#REF!*#REF!))/(#REF!+#REF!+#REF!)","v":{"$error":"#VALUE!"}},{"$f":"((AA783*#REF!)+(#REF!*#REF!)+(#REF!*#REF!))/(#REF!+#REF!+#REF!)","v":{"$error":"#VALUE!"}},{"$f":"((AA783*#REF!)+(#REF!*#REF!)+(#REF!*#REF!))/(#REF!+#REF!+#REF!)","v":{"$error":"#VALUE!"}},{"$f":"((AA783*#REF!)+(#REF!*#REF!)+(#REF!*#REF!))/(#REF!+#REF!+#REF!)","v":{"$error":"#VALUE!"}},{"$f":"((AA783*#REF!)+(#REF!*#REF!)+(#REF!*#REF!))/(#REF!+#REF!+#REF!)","v":{"$error":"#VALUE!"}}]
[null,null,null,null,null,null,null,null,null,null,null,null,null,null,null,null,null,null,null,null,null,782,{"$error":"#VALUE!"},{"$f":"AVERAGE($W$3:W784)","v":{"$error":"#VALUE!"}},null,{"$error":"#VALUE!"},{"$error":"#VALUE!"},{"$f":"AVERAGE($AA$3:AA784)","v":{"$error":"#VALUE!"}},null,null,null,{"$f":"((AA784*#REF!)+(#REF!*#REF!)+(#REF!*#REF!))/(#REF!+#REF!+#REF!)","v":{"$error":"#VALUE!"}},{"$f":"((AA784*#REF!)+(#REF!*#REF!)+(#REF!*#REF!))/(#REF!+#REF!+#REF!)","v":{"$error":"#VALUE!"}},{"$f":"((AA784*#REF!)+(#REF!*#REF!)+(#REF!*#REF!))/(#REF!+#REF!+#REF!)","v":{"$error":"#VALUE!"}},{"$f":"((AA784*#REF!)+(#REF!*#REF!)+(#REF!*#REF!))/(#REF!+#REF!+#REF!)","v":{"$error":"#VALUE!"}},{"$f":"((AA784*#REF!)+(#REF!*#REF!)+(#REF!*#REF!))/(#REF!+#REF!+#REF!)","v":{"$error":"#VALUE!"}},{"$f":"((AA784*#REF!)+(#REF!*#REF!)+(#REF!*#REF!))/(#REF!+#REF!+#REF!)","v":{"$error":"#VALUE!"}},{"$f":"((AA784*#REF!)+(#REF!*#REF!)+(#REF!*#REF!))/(#REF!+#REF!+#REF!)","v":{"$error":"#VALUE!"}}]
[null,null,null,null,null,null,null,null,null,null,null,null,null,null,null,null,null,null,null,null,null,783,{"$error":"#VALUE!"},{"$f":"AVERAGE($W$3:W785)","v":{"$error":"#VALUE!"}},null,{"$error":"#VALUE!"},{"$error":"#VALUE!"},{"$f":"AVERAGE($AA$3:AA785)","v":{"$error":"#VALUE!"}},null,null,null,{"$f":"((AA785*#REF!)+(#REF!*#REF!)+(#REF!*#REF!))/(#REF!+#REF!+#REF!)","v":{"$error":"#VALUE!"}},{"$f":"((AA785*#REF!)+(#REF!*#REF!)+(#REF!*#REF!))/(#REF!+#REF!+#REF!)","v":{"$error":"#VALUE!"}},{"$f":"((AA785*#REF!)+(#REF!*#REF!)+(#REF!*#REF!))/(#REF!+#REF!+#REF!)","v":{"$error":"#VALUE!"}},{"$f":"((AA785*#REF!)+(#REF!*#REF!)+(#REF!*#REF!))/(#REF!+#REF!+#REF!)","v":{"$error":"#VALUE!"}},{"$f":"((AA785*#REF!)+(#REF!*#REF!)+(#REF!*#REF!))/(#REF!+#REF!+#REF!)","v":{"$error":"#VALUE!"}},{"$f":"((AA785*#REF!)+(#REF!*#REF!)+(#REF!*#REF!))/(#REF!+#REF!+#REF!)","v":{"$error":"#VALUE!"}},{"$f":"((AA785*#REF!)+(#REF!*#REF!)+(#REF!*#REF!))/(#REF!+#REF!+#REF!)","v":{"$error":"#VALUE!"}}]
[null,null,null,null,null,null,null,null,null,null,null,null,null,null,null,null,null,null,null,null,null,784,{"$error":"#VALUE!"},{"$f":"AVERAGE($W$3:W786)","v":{"$error":"#VALUE!"}},null,{"$error":"#VALUE!"},{"$error":"#VALUE!"},{"$f":"AVERAGE($AA$3:AA786)","v":{"$error":"#VALUE!"}},null,null,null,{"$f":"((AA786*#REF!)+(#REF!*#REF!)+(#REF!*#REF!))/(#REF!+#REF!+#REF!)","v":{"$error":"#VALUE!"}},{"$f":"((AA786*#REF!)+(#REF!*#REF!)+(#REF!*#REF!))/(#REF!+#REF!+#REF!)","v":{"$error":"#VALUE!"}},{"$f":"((AA786*#REF!)+(#REF!*#REF!)+(#REF!*#REF!))/(#REF!+#REF!+#REF!)","v":{"$error":"#VALUE!"}},{"$f":"((AA786*#REF!)+(#REF!*#REF!)+(#REF!*#REF!))/(#REF!+#REF!+#REF!)","v":{"$error":"#VALUE!"}},{"$f":"((AA786*#REF!)+(#REF!*#REF!)+(#REF!*#REF!))/(#REF!+#REF!+#REF!)","v":{"$error":"#VALUE!"}},{"$f":"((AA786*#REF!)+(#REF!*#REF!)+(#REF!*#REF!))/(#REF!+#REF!+#REF!)","v":{"$error":"#VALUE!"}},{"$f":"((AA786*#REF!)+(#REF!*#REF!)+(#REF!*#REF!))/(#REF!+#REF!+#REF!)","v":{"$error":"#VALUE!"}}]
[null,null,null,null,null,null,null,null,null,null,null,null,null,null,null,null,null,null,null,null,null,785,{"$error":"#VALUE!"},{"$f":"AVERAGE($W$3:W787)","v":{"$error":"#VALUE!"}},null,{"$error":"#VALUE!"},{"$error":"#VALUE!"},{"$f":"AVERAGE($AA$3:AA787)","v":{"$error":"#VALUE!"}},null,null,null,{"$f":"((AA787*#REF!)+(#REF!*#REF!)+(#REF!*#REF!))/(#REF!+#REF!+#REF!)","v":{"$error":"#VALUE!"}},{"$f":"((AA787*#REF!)+(#REF!*#REF!)+(#REF!*#REF!))/(#REF!+#REF!+#REF!)","v":{"$error":"#VALUE!"}},{"$f":"((AA787*#REF!)+(#REF!*#REF!)+(#REF!*#REF!))/(#REF!+#REF!+#REF!)","v":{"$error":"#VALUE!"}},{"$f":"((AA787*#REF!)+(#REF!*#REF!)+(#REF!*#REF!))/(#REF!+#REF!+#REF!)","v":{"$error":"#VALUE!"}},{"$f":"((AA787*#REF!)+(#REF!*#REF!)+(#REF!*#REF!))/(#REF!+#REF!+#REF!)","v":{"$error":"#VALUE!"}},{"$f":"((AA787*#REF!)+(#REF!*#REF!)+(#REF!*#REF!))/(#REF!+#REF!+#REF!)","v":{"$error":"#VALUE!"}},{"$f":"((AA787*#REF!)+(#REF!*#REF!)+(#REF!*#REF!))/(#REF!+#REF!+#REF!)","v":{"$error":"#VALUE!"}}]
[null,null,null,null,null,null,null,null,null,null,null,null,null,null,null,null,null,null,null,null,null,786,{"$error":"#VALUE!"},{"$f":"AVERAGE($W$3:W788)","v":{"$error":"#VALUE!"}},null,{"$error":"#VALUE!"},{"$error":"#VALUE!"},{"$f":"AVERAGE($AA$3:AA788)","v":{"$error":"#VALUE!"}},null,null,null,{"$f":"((AA788*#REF!)+(#REF!*#REF!)+(#REF!*#REF!))/(#REF!+#REF!+#REF!)","v":{"$error":"#VALUE!"}},{"$f":"((AA788*#REF!)+(#REF!*#REF!)+(#REF!*#REF!))/(#REF!+#REF!+#REF!)","v":{"$error":"#VALUE!"}},{"$f":"((AA788*#REF!)+(#REF!*#REF!)+(#REF!*#REF!))/(#REF!+#REF!+#REF!)","v":{"$error":"#VALUE!"}},{"$f":"((AA788*#REF!)+(#REF!*#REF!)+(#REF!*#REF!))/(#REF!+#REF!+#REF!)","v":{"$error":"#VALUE!"}},{"$f":"((AA788*#REF!)+(#REF!*#REF!)+(#REF!*#REF!))/(#REF!+#REF!+#REF!)","v":{"$error":"#VALUE!"}},{"$f":"((AA788*#REF!)+(#REF!*#REF!)+(#REF!*#REF!))/(#REF!+#REF!+#REF!)","v":{"$error":"#VALUE!"}},{"$f":"((AA788*#REF!)+(#REF!*#REF!)+(#REF!*#REF!))/(#REF!+#REF!+#REF!)","v":{"$error":"#VALUE!"}}]
[null,null,null,null,null,null,null,null,null,null,null,null,null,null,null,null,null,null,null,null,null,787,{"$error":"#VALUE!"},{"$f":"AVERAGE($W$3:W789)","v":{"$error":"#VALUE!"}},null,{"$error":"#VALUE!"},{"$error":"#VALUE!"},{"$f":"AVERAGE($AA$3:AA789)","v":{"$error":"#VALUE!"}},null,null,null,{"$f":"((AA789*#REF!)+(#REF!*#REF!)+(#REF!*#REF!))/(#REF!+#REF!+#REF!)","v":{"$error":"#VALUE!"}},{"$f":"((AA789*#REF!)+(#REF!*#REF!)+(#REF!*#REF!))/(#REF!+#REF!+#REF!)","v":{"$error":"#VALUE!"}},{"$f":"((AA789*#REF!)+(#REF!*#REF!)+(#REF!*#REF!))/(#REF!+#REF!+#REF!)","v":{"$error":"#VALUE!"}},{"$f":"((AA789*#REF!)+(#REF!*#REF!)+(#REF!*#REF!))/(#REF!+#REF!+#REF!)","v":{"$error":"#VALUE!"}},{"$f":"((AA789*#REF!)+(#REF!*#REF!)+(#REF!*#REF!))/(#REF!+#REF!+#REF!)","v":{"$error":"#VALUE!"}},{"$f":"((AA789*#REF!)+(#REF!*#REF!)+(#REF!*#REF!))/(#REF!+#REF!+#REF!)","v":{"$error":"#VALUE!"}},{"$f":"((AA789*#REF!)+(#REF!*#REF!)+(#REF!*#REF!))/(#REF!+#REF!+#REF!)","v":{"$error":"#VALUE!"}}]
[null,null,null,null,null,null,null,null,null,null,null,null,null,null,null,null,null,null,null,null,null,788,{"$error":"#VALUE!"},{"$f":"AVERAGE($W$3:W790)","v":{"$error":"#VALUE!"}},null,{"$error":"#VALUE!"},{"$error":"#VALUE!"},{"$f":"AVERAGE($AA$3:AA790)","v":{"$error":"#VALUE!"}},null,null,null,{"$f":"((AA790*#REF!)+(#REF!*#REF!)+(#REF!*#REF!))/(#REF!+#REF!+#REF!)","v":{"$error":"#VALUE!"}},{"$f":"((AA790*#REF!)+(#REF!*#REF!)+(#REF!*#REF!))/(#REF!+#REF!+#REF!)","v":{"$error":"#VALUE!"}},{"$f":"((AA790*#REF!)+(#REF!*#REF!)+(#REF!*#REF!))/(#REF!+#REF!+#REF!)","v":{"$error":"#VALUE!"}},{"$f":"((AA790*#REF!)+(#REF!*#REF!)+(#REF!*#REF!))/(#REF!+#REF!+#REF!)","v":{"$error":"#VALUE!"}},{"$f":"((AA790*#REF!)+(#REF!*#REF!)+(#REF!*#REF!))/(#REF!+#REF!+#REF!)","v":{"$error":"#VALUE!"}},{"$f":"((AA790*#REF!)+(#REF!*#REF!)+(#REF!*#REF!))/(#REF!+#REF!+#REF!)","v":{"$error":"#VALUE!"}},{"$f":"((AA790*#REF!)+(#REF!*#REF!)+(#REF!*#REF!))/(#REF!+#REF!+#REF!)","v":{"$error":"#VALUE!"}}]
[null,null,null,null,null,null,null,null,null,null,null,null,null,null,null,null,null,null,null,null,null,789,{"$error":"#VALUE!"},{"$f":"AVERAGE($W$3:W791)","v":{"$error":"#VALUE!"}},null,{"$error":"#VALUE!"},{"$error":"#VALUE!"},{"$f":"AVERAGE($AA$3:AA791)","v":{"$error":"#VALUE!"}},null,null,null,{"$f":"((AA791*#REF!)+(#REF!*#REF!)+(#REF!*#REF!))/(#REF!+#REF!+#REF!)","v":{"$error":"#VALUE!"}},{"$f":"((AA791*#REF!)+(#REF!*#REF!)+(#REF!*#REF!))/(#REF!+#REF!+#REF!)","v":{"$error":"#VALUE!"}},{"$f":"((AA791*#REF!)+(#REF!*#REF!)+(#REF!*#REF!))/(#REF!+#REF!+#REF!)","v":{"$error":"#VALUE!"}},{"$f":"((AA791*#REF!)+(#REF!*#REF!)+(#REF!*#REF!))/(#REF!+#REF!+#REF!)","v":{"$error":"#VALUE!"}},{"$f":"((AA791*#REF!)+(#REF!*#REF!)+(#REF!*#REF!))/(#REF!+#REF!+#REF!)","v":{"$error":"#VALUE!"}},{"$f":"((AA791*#REF!)+(#REF!*#REF!)+(#REF!*#REF!))/(#REF!+#REF!+#REF!)","v":{"$error":"#VALUE!"}},{"$f":"((AA791*#REF!)+(#REF!*#REF!)+(#REF!*#REF!))/(#REF!+#REF!+#REF!)","v":{"$error":"#VALUE!"}}]
[null,null,null,null,null,null,null,null,null,null,null,null,null,null,null,null,null,null,null,null,null,790,{"$error":"#VALUE!"},{"$f":"AVERAGE($W$3:W792)","v":{"$error":"#VALUE!"}},null,{"$error":"#VALUE!"},{"$error":"#VALUE!"},{"$f":"AVERAGE($AA$3:AA792)","v":{"$error":"#VALUE!"}},null,null,null,{"$f":"((AA792*#REF!)+(#REF!*#REF!)+(#REF!*#REF!))/(#REF!+#REF!+#REF!)","v":{"$error":"#VALUE!"}},{"$f":"((AA792*#REF!)+(#REF!*#REF!)+(#REF!*#REF!))/(#REF!+#REF!+#REF!)","v":{"$error":"#VALUE!"}},{"$f":"((AA792*#REF!)+(#REF!*#REF!)+(#REF!*#REF!))/(#REF!+#REF!+#REF!)","v":{"$error":"#VALUE!"}},{"$f":"((AA792*#REF!)+(#REF!*#REF!)+(#REF!*#REF!))/(#REF!+#REF!+#REF!)","v":{"$error":"#VALUE!"}},{"$f":"((AA792*#REF!)+(#REF!*#REF!)+(#REF!*#REF!))/(#REF!+#REF!+#REF!)","v":{"$error":"#VALUE!"}},{"$f":"((AA792*#REF!)+(#REF!*#REF!)+(#REF!*#REF!))/(#REF!+#REF!+#REF!)","v":{"$error":"#VALUE!"}},{"$f":"((AA792*#REF!)+(#REF!*#REF!)+(#REF!*#REF!))/(#REF!+#REF!+#REF!)","v":{"$error":"#VALUE!"}}]
[null,null,null,null,null,null,null,null,null,null,null,null,null,null,null,null,null,null,null,null,null,791,{"$error":"#VALUE!"},{"$f":"AVERAGE($W$3:W793)","v":{"$error":"#VALUE!"}},null,{"$error":"#VALUE!"},{"$error":"#VALUE!"},{"$f":"AVERAGE($AA$3:AA793)","v":{"$error":"#VALUE!"}},null,null,null,{"$f":"((AA793*#REF!)+(#REF!*#REF!)+(#REF!*#REF!))/(#REF!+#REF!+#REF!)","v":{"$error":"#VALUE!"}},{"$f":"((AA793*#REF!)+(#REF!*#REF!)+(#REF!*#REF!))/(#REF!+#REF!+#REF!)","v":{"$error":"#VALUE!"}},{"$f":"((AA793*#REF!)+(#REF!*#REF!)+(#REF!*#REF!))/(#REF!+#REF!+#REF!)","v":{"$error":"#VALUE!"}},{"$f":"((AA793*#REF!)+(#REF!*#REF!)+(#REF!*#REF!))/(#REF!+#REF!+#REF!)","v":{"$error":"#VALUE!"}},{"$f":"((AA793*#REF!)+(#REF!*#REF!)+(#REF!*#REF!))/(#REF!+#REF!+#REF!)","v":{"$error":"#VALUE!"}},{"$f":"((AA793*#REF!)+(#REF!*#REF!)+(#REF!*#REF!))/(#REF!+#REF!+#REF!)","v":{"$error":"#VALUE!"}},{"$f":"((AA793*#REF!)+(#REF!*#REF!)+(#REF!*#REF!))/(#REF!+#REF!+#REF!)","v":{"$error":"#VALUE!"}}]
[null,null,null,null,null,null,null,null,null,null,null,null,null,null,null,null,null,null,null,null,null,792,{"$error":"#VALUE!"},{"$f":"AVERAGE($W$3:W794)","v":{"$error":"#VALUE!"}},null,{"$error":"#VALUE!"},{"$error":"#VALUE!"},{"$f":"AVERAGE($AA$3:AA794)","v":{"$error":"#VALUE!"}},null,null,null,{"$f":"((AA794*#REF!)+(#REF!*#REF!)+(#REF!*#REF!))/(#REF!+#REF!+#REF!)","v":{"$error":"#VALUE!"}},{"$f":"((AA794*#REF!)+(#REF!*#REF!)+(#REF!*#REF!))/(#REF!+#REF!+#REF!)","v":{"$error":"#VALUE!"}},{"$f":"((AA794*#REF!)+(#REF!*#REF!)+(#REF!*#REF!))/(#REF!+#REF!+#REF!)","v":{"$error":"#VALUE!"}},{"$f":"((AA794*#REF!)+(#REF!*#REF!)+(#REF!*#REF!))/(#REF!+#REF!+#REF!)","v":{"$error":"#VALUE!"}},{"$f":"((AA794*#REF!)+(#REF!*#REF!)+(#REF!*#REF!))/(#REF!+#REF!+#REF!)","v":{"$error":"#VALUE!"}},{"$f":"((AA794*#REF!)+(#REF!*#REF!)+(#REF!*#REF!))/(#REF!+#REF!+#REF!)","v":{"$error":"#VALUE!"}},{"$f":"((AA794*#REF!)+(#REF!*#REF!)+(#REF!*#REF!))/(#REF!+#REF!+#REF!)","v":{"$error":"#VALUE!"}}]
[null,null,null,null,null,null,null,null,null,null,null,null,null,null,null,null,null,null,null,null,null,793,{"$error":"#VALUE!"},{"$f":"AVERAGE($W$3:W795)","v":{"$error":"#VALUE!"}},null,{"$error":"#VALUE!"},{"$error":"#VALUE!"},{"$f":"AVERAGE($AA$3:AA795)","v":{"$error":"#VALUE!"}},null,null,null,{"$f":"((AA795*#REF!)+(#REF!*#REF!)+(#REF!*#REF!))/(#REF!+#REF!+#REF!)","v":{"$error":"#VALUE!"}},{"$f":"((AA795*#REF!)+(#REF!*#REF!)+(#REF!*#REF!))/(#REF!+#REF!+#REF!)","v":{"$error":"#VALUE!"}},{"$f":"((AA795*#REF!)+(#REF!*#REF!)+(#REF!*#REF!))/(#REF!+#REF!+#REF!)","v":{"$error":"#VALUE!"}},{"$f":"((AA795*#REF!)+(#REF!*#REF!)+(#REF!*#REF!))/(#REF!+#REF!+#REF!)","v":{"$error":"#VALUE!"}},{"$f":"((AA795*#REF!)+(#REF!*#REF!)+(#REF!*#REF!))/(#REF!+#REF!+#REF!)","v":{"$error":"#VALUE!"}},{"$f":"((AA795*#REF!)+(#REF!*#REF!)+(#REF!*#REF!))/(#REF!+#REF!+#REF!)","v":{"$error":"#VALUE!"}},{"$f":"((AA795*#REF!)+(#REF!*#REF!)+(#REF!*#REF!))/(#REF!+#REF!+#REF!)","v":{"$error":"#VALUE!"}}]
[null,null,null,null,null,null,null,null,null,null,null,null,null,null,null,null,null,null,null,null,null,794,{"$error":"#VALUE!"},{"$f":"AVERAGE($W$3:W796)","v":{"$error":"#VALUE!"}},null,{"$error":"#VALUE!"},{"$error":"#VALUE!"},{"$f":"AVERAGE($AA$3:AA796)","v":{"$error":"#VALUE!"}},null,null,null,{"$f":"((AA796*#REF!)+(#REF!*#REF!)+(#REF!*#REF!))/(#REF!+#REF!+#REF!)","v":{"$error":"#VALUE!"}},{"$f":"((AA796*#REF!)+(#REF!*#REF!)+(#REF!*#REF!))/(#REF!+#REF!+#REF!)","v":{"$error":"#VALUE!"}},{"$f":"((AA796*#REF!)+(#REF!*#REF!)+(#REF!*#REF!))/(#REF!+#REF!+#REF!)","v":{"$error":"#VALUE!"}},{"$f":"((AA796*#REF!)+(#REF!*#REF!)+(#REF!*#REF!))/(#REF!+#REF!+#REF!)","v":{"$error":"#VALUE!"}},{"$f":"((AA796*#REF!)+(#REF!*#REF!)+(#REF!*#REF!))/(#REF!+#REF!+#REF!)","v":{"$error":"#VALUE!"}},{"$f":"((AA796*#REF!)+(#REF!*#REF!)+(#REF!*#REF!))/(#REF!+#REF!+#REF!)","v":{"$error":"#VALUE!"}},{"$f":"((AA796*#REF!)+(#REF!*#REF!)+(#REF!*#REF!))/(#REF!+#REF!+#REF!)","v":{"$error":"#VALUE!"}}]
[null,null,null,null,null,null,null,null,null,null,null,null,null,null,null,null,null,null,null,null,null,795,{"$error":"#VALUE!"},{"$f":"AVERAGE($W$3:W797)","v":{"$error":"#VALUE!"}},null,{"$error":"#VALUE!"},{"$error":"#VALUE!"},{"$f":"AVERAGE($AA$3:AA797)","v":{"$error":"#VALUE!"}},null,null,null,{"$f":"((AA797*#REF!)+(#REF!*#REF!)+(#REF!*#REF!))/(#REF!+#REF!+#REF!)","v":{"$error":"#VALUE!"}},{"$f":"((AA797*#REF!)+(#REF!*#REF!)+(#REF!*#REF!))/(#REF!+#REF!+#REF!)","v":{"$error":"#VALUE!"}},{"$f":"((AA797*#REF!)+(#REF!*#REF!)+(#REF!*#REF!))/(#REF!+#REF!+#REF!)","v":{"$error":"#VALUE!"}},{"$f":"((AA797*#REF!)+(#REF!*#REF!)+(#REF!*#REF!))/(#REF!+#REF!+#REF!)","v":{"$error":"#VALUE!"}},{"$f":"((AA797*#REF!)+(#REF!*#REF!)+(#REF!*#REF!))/(#REF!+#REF!+#REF!)","v":{"$error":"#VALUE!"}},{"$f":"((AA797*#REF!)+(#REF!*#REF!)+(#REF!*#REF!))/(#REF!+#REF!+#REF!)","v":{"$error":"#VALUE!"}},{"$f":"((AA797*#REF!)+(#REF!*#REF!)+(#REF!*#REF!))/(#REF!+#REF!+#REF!)","v":{"$error":"#VALUE!"}}]
[null,null,null,null,null,null,null,null,null,null,null,null,null,null,null,null,null,null,null,null,null,796,{"$error":"#VALUE!"},{"$f":"AVERAGE($W$3:W798)","v":{"$error":"#VALUE!"}},null,{"$error":"#VALUE!"},{"$error":"#VALUE!"},{"$f":"AVERAGE($AA$3:AA798)","v":{"$error":"#VALUE!"}},null,null,null,{"$f":"((AA798*#REF!)+(#REF!*#REF!)+(#REF!*#REF!))/(#REF!+#REF!+#REF!)","v":{"$error":"#VALUE!"}},{"$f":"((AA798*#REF!)+(#REF!*#REF!)+(#REF!*#REF!))/(#REF!+#REF!+#REF!)","v":{"$error":"#VALUE!"}},{"$f":"((AA798*#REF!)+(#REF!*#REF!)+(#REF!*#REF!))/(#REF!+#REF!+#REF!)","v":{"$error":"#VALUE!"}},{"$f":"((AA798*#REF!)+(#REF!*#REF!)+(#REF!*#REF!))/(#REF!+#REF!+#REF!)","v":{"$error":"#VALUE!"}},{"$f":"((AA798*#REF!)+(#REF!*#REF!)+(#REF!*#REF!))/(#REF!+#REF!+#REF!)","v":{"$error":"#VALUE!"}},{"$f":"((AA798*#REF!)+(#REF!*#REF!)+(#REF!*#REF!))/(#REF!+#REF!+#REF!)","v":{"$error":"#VALUE!"}},{"$f":"((AA798*#REF!)+(#REF!*#REF!)+(#REF!*#REF!))/(#REF!+#REF!+#REF!)","v":{"$error":"#VALUE!"}}]
[null,null,null,null,null,null,null,null,null,null,null,null,null,null,null,null,null,null,null,null,null,797,{"$error":"#VALUE!"},{"$f":"AVERAGE($W$3:W799)","v":{"$error":"#VALUE!"}},null,{"$error":"#VALUE!"},{"$error":"#VALUE!"},{"$f":"AVERAGE($AA$3:AA799)","v":{"$error":"#VALUE!"}},null,null,null,{"$f":"((AA799*#REF!)+(#REF!*#REF!)+(#REF!*#REF!))/(#REF!+#REF!+#REF!)","v":{"$error":"#VALUE!"}},{"$f":"((AA799*#REF!)+(#REF!*#REF!)+(#REF!*#REF!))/(#REF!+#REF!+#REF!)","v":{"$error":"#VALUE!"}},{"$f":"((AA799*#REF!)+(#REF!*#REF!)+(#REF!*#REF!))/(#REF!+#REF!+#REF!)","v":{"$error":"#VALUE!"}},{"$f":"((AA799*#REF!)+(#REF!*#REF!)+(#REF!*#REF!))/(#REF!+#REF!+#REF!)","v":{"$error":"#VALUE!"}},{"$f":"((AA799*#REF!)+(#REF!*#REF!)+(#REF!*#REF!))/(#REF!+#REF!+#REF!)","v":{"$error":"#VALUE!"}},{"$f":"((AA799*#REF!)+(#REF!*#REF!)+(#REF!*#REF!))/(#REF!+#REF!+#REF!)","v":{"$error":"#VALUE!"}},{"$f":"((AA799*#REF!)+(#REF!*#REF!)+(#REF!*#REF!))/(#REF!+#REF!+#REF!)","v":{"$error":"#VALUE!"}}]
[null,null,null,null,null,null,null,null,null,null,null,null,null,null,null,null,null,null,null,null,null,798,{"$error":"#VALUE!"},{"$f":"AVERAGE($W$3:W800)","v":{"$error":"#VALUE!"}},null,{"$error":"#VALUE!"},{"$error":"#VALUE!"},{"$f":"AVERAGE($AA$3:AA800)","v":{"$error":"#VALUE!"}},null,null,null,{"$f":"((AA800*#REF!)+(#REF!*#REF!)+(#REF!*#REF!))/(#REF!+#REF!+#REF!)","v":{"$error":"#VALUE!"}},{"$f":"((AA800*#REF!)+(#REF!*#REF!)+(#REF!*#REF!))/(#REF!+#REF!+#REF!)","v":{"$error":"#VALUE!"}},{"$f":"((AA800*#REF!)+(#REF!*#REF!)+(#REF!*#REF!))/(#REF!+#REF!+#REF!)","v":{"$error":"#VALUE!"}},{"$f":"((AA800*#REF!)+(#REF!*#REF!)+(#REF!*#REF!))/(#REF!+#REF!+#REF!)","v":{"$error":"#VALUE!"}},{"$f":"((AA800*#REF!)+(#REF!*#REF!)+(#REF!*#REF!))/(#REF!+#REF!+#REF!)","v":{"$error":"#VALUE!"}},{"$f":"((AA800*#REF!)+(#REF!*#REF!)+(#REF!*#REF!))/(#REF!+#REF!+#REF!)","v":{"$error":"#VALUE!"}},{"$f":"((AA800*#REF!)+(#REF!*#REF!)+(#REF!*#REF!))/(#REF!+#REF!+#REF!)","v":{"$error":"#VALUE!"}}]
[null,null,null,null,null,null,null,null,null,null,null,null,null,null,null,null,null,null,null,null,null,799,{"$error":"#VALUE!"},{"$f":"AVERAGE($W$3:W801)","v":{"$error":"#VALUE!"}},null,{"$error":"#VALUE!"},{"$error":"#VALUE!"},{"$f":"AVERAGE($AA$3:AA801)","v":{"$error":"#VALUE!"}},null,null,null,{"$f":"((AA801*#REF!)+(#REF!*#REF!)+(#REF!*#REF!))/(#REF!+#REF!+#REF!)","v":{"$error":"#VALUE!"}},{"$f":"((AA801*#REF!)+(#REF!*#REF!)+(#REF!*#REF!))/(#REF!+#REF!+#REF!)","v":{"$error":"#VALUE!"}},{"$f":"((AA801*#REF!)+(#REF!*#REF!)+(#REF!*#REF!))/(#REF!+#REF!+#REF!)","v":{"$error":"#VALUE!"}},{"$f":"((AA801*#REF!)+(#REF!*#REF!)+(#REF!*#REF!))/(#REF!+#REF!+#REF!)","v":{"$error":"#VALUE!"}},{"$f":"((AA801*#REF!)+(#REF!*#REF!)+(#REF!*#REF!))/(#REF!+#REF!+#REF!)","v":{"$error":"#VALUE!"}},{"$f":"((AA801*#REF!)+(#REF!*#REF!)+(#REF!*#REF!))/(#REF!+#REF!+#REF!)","v":{"$error":"#VALUE!"}},{"$f":"((AA801*#REF!)+(#REF!*#REF!)+(#REF!*#REF!))/(#REF!+#REF!+#REF!)","v":{"$error":"#VALUE!"}}]
[null,null,null,null,null,null,null,null,null,null,null,null,null,null,null,null,null,null,null,null,null,800,{"$error":"#VALUE!"},{"$f":"AVERAGE($W$3:W802)","v":{"$error":"#VALUE!"}},null,{"$error":"#VALUE!"},{"$error":"#VALUE!"},{"$f":"AVERAGE($AA$3:AA802)","v":{"$error":"#VALUE!"}},null,null,null,{"$f":"((AA802*#REF!)+(#REF!*#REF!)+(#REF!*#REF!))/(#REF!+#REF!+#REF!)","v":{"$error":"#VALUE!"}},{"$f":"((AA802*#REF!)+(#REF!*#REF!)+(#REF!*#REF!))/(#REF!+#REF!+#REF!)","v":{"$error":"#VALUE!"}},{"$f":"((AA802*#REF!)+(#REF!*#REF!)+(#REF!*#REF!))/(#REF!+#REF!+#REF!)","v":{"$error":"#VALUE!"}},{"$f":"((AA802*#REF!)+(#REF!*#REF!)+(#REF!*#REF!))/(#REF!+#REF!+#REF!)","v":{"$error":"#VALUE!"}},{"$f":"((AA802*#REF!)+(#REF!*#REF!)+(#REF!*#REF!))/(#REF!+#REF!+#REF!)","v":{"$error":"#VALUE!"}},{"$f":"((AA802*#REF!)+(#REF!*#REF!)+(#REF!*#REF!))/(#REF!+#REF!+#REF!)","v":{"$error":"#VALUE!"}},{"$f":"((AA802*#REF!)+(#REF!*#REF!)+(#REF!*#REF!))/(#REF!+#REF!+#REF!)","v":{"$error":"#VALUE!"}}]
[null,null,null,null,null,null,null,null,null,null,null,null,null,null,null,null,null,null,null,null,null,801,{"$error":"#VALUE!"},{"$f":"AVERAGE($W$3:W803)","v":{"$error":"#VALUE!"}},null,{"$error":"#VALUE!"},{"$error":"#VALUE!"},{"$f":"AVERAGE($AA$3:AA803)","v":{"$error":"#VALUE!"}},null,null,null,{"$f":"((AA803*#REF!)+(#REF!*#REF!)+(#REF!*#REF!))/(#REF!+#REF!+#REF!)","v":{"$error":"#VALUE!"}},{"$f":"((AA803*#REF!)+(#REF!*#REF!)+(#REF!*#REF!))/(#REF!+#REF!+#REF!)","v":{"$error":"#VALUE!"}},{"$f":"((AA803*#REF!)+(#REF!*#REF!)+(#REF!*#REF!))/(#REF!+#REF!+#REF!)","v":{"$error":"#VALUE!"}},{"$f":"((AA803*#REF!)+(#REF!*#REF!)+(#REF!*#REF!))/(#REF!+#REF!+#REF!)","v":{"$error":"#VALUE!"}},{"$f":"((AA803*#REF!)+(#REF!*#REF!)+(#REF!*#REF!))/(#REF!+#REF!+#REF!)","v":{"$error":"#VALUE!"}},{"$f":"((AA803*#REF!)+(#REF!*#REF!)+(#REF!*#REF!))/(#REF!+#REF!+#REF!)","v":{"$error":"#VALUE!"}},{"$f":"((AA803*#REF!)+(#REF!*#REF!)+(#REF!*#REF!))/(#REF!+#REF!+#REF!)","v":{"$error":"#VALUE!"}}]
[null,null,null,null,null,null,null,null,null,null,null,null,null,null,null,null,null,null,null,null,null,802,{"$error":"#VALUE!"},{"$f":"AVERAGE($W$3:W804)","v":{"$error":"#VALUE!"}},null,{"$error":"#VALUE!"},{"$error":"#VALUE!"},{"$f":"AVERAGE($AA$3:AA804)","v":{"$error":"#VALUE!"}},null,null,null,{"$f":"((AA804*#REF!)+(#REF!*#REF!)+(#REF!*#REF!))/(#REF!+#REF!+#REF!)","v":{"$error":"#VALUE!"}},{"$f":"((AA804*#REF!)+(#REF!*#REF!)+(#REF!*#REF!))/(#REF!+#REF!+#REF!)","v":{"$error":"#VALUE!"}},{"$f":"((AA804*#REF!)+(#REF!*#REF!)+(#REF!*#REF!))/(#REF!+#REF!+#REF!)","v":{"$error":"#VALUE!"}},{"$f":"((AA804*#REF!)+(#REF!*#REF!)+(#REF!*#REF!))/(#REF!+#REF!+#REF!)","v":{"$error":"#VALUE!"}},{"$f":"((AA804*#REF!)+(#REF!*#REF!)+(#REF!*#REF!))/(#REF!+#REF!+#REF!)","v":{"$error":"#VALUE!"}},{"$f":"((AA804*#REF!)+(#REF!*#REF!)+(#REF!*#REF!))/(#REF!+#REF!+#REF!)","v":{"$error":"#VALUE!"}},{"$f":"((AA804*#REF!)+(#REF!*#REF!)+(#REF!*#REF!))/(#REF!+#REF!+#REF!)","v":{"$error":"#VALUE!"}}]
[null,null,null,null,null,null,null,null,null,null,null,null,null,null,null,null,null,null,null,null,null,803,{"$error":"#VALUE!"},{"$f":"AVERAGE($W$3:W805)","v":{"$error":"#VALUE!"}},null,{"$error":"#VALUE!"},{"$error":"#VALUE!"},{"$f":"AVERAGE($AA$3:AA805)","v":{"$error":"#VALUE!"}},null,null,null,{"$f":"((AA805*#REF!)+(#REF!*#REF!)+(#REF!*#REF!))/(#REF!+#REF!+#REF!)","v":{"$error":"#VALUE!"}},{"$f":"((AA805*#REF!)+(#REF!*#REF!)+(#REF!*#REF!))/(#REF!+#REF!+#REF!)","v":{"$error":"#VALUE!"}},{"$f":"((AA805*#REF!)+(#REF!*#REF!)+(#REF!*#REF!))/(#REF!+#REF!+#REF!)","v":{"$error":"#VALUE!"}},{"$f":"((AA805*#REF!)+(#REF!*#REF!)+(#REF!*#REF!))/(#REF!+#REF!+#REF!)","v":{"$error":"#VALUE!"}},{"$f":"((AA805*#REF!)+(#REF!*#REF!)+(#REF!*#REF!))/(#REF!+#REF!+#REF!)","v":{"$error":"#VALUE!"}},{"$f":"((AA805*#REF!)+(#REF!*#REF!)+(#REF!*#REF!))/(#REF!+#REF!+#REF!)","v":{"$error":"#VALUE!"}},{"$f":"((AA805*#REF!)+(#REF!*#REF!)+(#REF!*#REF!))/(#REF!+#REF!+#REF!)","v":{"$error":"#VALUE!"}}]
[null,null,null,null,null,null,null,null,null,null,null,null,null,null,null,null,null,null,null,null,null,804,{"$error":"#VALUE!"},{"$f":"AVERAGE($W$3:W806)","v":{"$error":"#VALUE!"}},null,{"$error":"#VALUE!"},{"$error":"#VALUE!"},{"$f":"AVERAGE($AA$3:AA806)","v":{"$error":"#VALUE!"}},null,null,null,{"$f":"((AA806*#REF!)+(#REF!*#REF!)+(#REF!*#REF!))/(#REF!+#REF!+#REF!)","v":{"$error":"#VALUE!"}},{"$f":"((AA806*#REF!)+(#REF!*#REF!)+(#REF!*#REF!))/(#REF!+#REF!+#REF!)","v":{"$error":"#VALUE!"}},{"$f":"((AA806*#REF!)+(#REF!*#REF!)+(#REF!*#REF!))/(#REF!+#REF!+#REF!)","v":{"$error":"#VALUE!"}},{"$f":"((AA806*#REF!)+(#REF!*#REF!)+(#REF!*#REF!))/(#REF!+#REF!+#REF!)","v":{"$error":"#VALUE!"}},{"$f":"((AA806*#REF!)+(#REF!*#REF!)+(#REF!*#REF!))/(#REF!+#REF!+#REF!)","v":{"$error":"#VALUE!"}},{"$f":"((AA806*#REF!)+(#REF!*#REF!)+(#REF!*#REF!))/(#REF!+#REF!+#REF!)","v":{"$error":"#VALUE!"}},{"$f":"((AA806*#REF!)+(#REF!*#REF!)+(#REF!*#REF!))/(#REF!+#REF!+#REF!)","v":{"$error":"#VALUE!"}}]
[null,null,null,null,null,null,null,null,null,null,null,null,null,null,null,null,null,null,null,null,null,805,{"$error":"#VALUE!"},{"$f":"AVERAGE($W$3:W807)","v":{"$error":"#VALUE!"}},null,{"$error":"#VALUE!"},{"$error":"#VALUE!"},{"$f":"AVERAGE($AA$3:AA807)","v":{"$error":"#VALUE!"}},null,null,null,{"$f":"((AA807*#REF!)+(#REF!*#REF!)+(#REF!*#REF!))/(#REF!+#REF!+#REF!)","v":{"$error":"#VALUE!"}},{"$f":"((AA807*#REF!)+(#REF!*#REF!)+(#REF!*#REF!))/(#REF!+#REF!+#REF!)","v":{"$error":"#VALUE!"}},{"$f":"((AA807*#REF!)+(#REF!*#REF!)+(#REF!*#REF!))/(#REF!+#REF!+#REF!)","v":{"$error":"#VALUE!"}},{"$f":"((AA807*#REF!)+(#REF!*#REF!)+(#REF!*#REF!))/(#REF!+#REF!+#REF!)","v":{"$error":"#VALUE!"}},{"$f":"((AA807*#REF!)+(#REF!*#REF!)+(#REF!*#REF!))/(#REF!+#REF!+#REF!)","v":{"$error":"#VALUE!"}},{"$f":"((AA807*#REF!)+(#REF!*#REF!)+(#REF!*#REF!))/(#REF!+#REF!+#REF!)","v":{"$error":"#VALUE!"}},{"$f":"((AA807*#REF!)+(#REF!*#REF!)+(#REF!*#REF!))/(#REF!+#REF!+#REF!)","v":{"$error":"#VALUE!"}}]
[null,null,null,null,null,null,null,null,null,null,null,null,null,null,null,null,null,null,null,null,null,806,{"$error":"#VALUE!"},{"$f":"AVERAGE($W$3:W808)","v":{"$error":"#VALUE!"}},null,{"$error":"#VALUE!"},{"$error":"#VALUE!"},{"$f":"AVERAGE($AA$3:AA808)","v":{"$error":"#VALUE!"}},null,null,null,{"$f":"((AA808*#REF!)+(#REF!*#REF!)+(#REF!*#REF!))/(#REF!+#REF!+#REF!)","v":{"$error":"#VALUE!"}},{"$f":"((AA808*#REF!)+(#REF!*#REF!)+(#REF!*#REF!))/(#REF!+#REF!+#REF!)","v":{"$error":"#VALUE!"}},{"$f":"((AA808*#REF!)+(#REF!*#REF!)+(#REF!*#REF!))/(#REF!+#REF!+#REF!)","v":{"$error":"#VALUE!"}},{"$f":"((AA808*#REF!)+(#REF!*#REF!)+(#REF!*#REF!))/(#REF!+#REF!+#REF!)","v":{"$error":"#VALUE!"}},{"$f":"((AA808*#REF!)+(#REF!*#REF!)+(#REF!*#REF!))/(#REF!+#REF!+#REF!)","v":{"$error":"#VALUE!"}},{"$f":"((AA808*#REF!)+(#REF!*#REF!)+(#REF!*#REF!))/(#REF!+#REF!+#REF!)","v":{"$error":"#VALUE!"}},{"$f":"((AA808*#REF!)+(#REF!*#REF!)+(#REF!*#REF!))/(#REF!+#REF!+#REF!)","v":{"$error":"#VALUE!"}}]
[null,null,null,null,null,null,null,null,null,null,null,null,null,null,null,null,null,null,null,null,null,807,{"$error":"#VALUE!"},{"$f":"AVERAGE($W$3:W809)","v":{"$error":"#VALUE!"}},null,{"$error":"#VALUE!"},{"$error":"#VALUE!"},{"$f":"AVERAGE($AA$3:AA809)","v":{"$error":"#VALUE!"}},null,null,null,{"$f":"((AA809*#REF!)+(#REF!*#REF!)+(#REF!*#REF!))/(#REF!+#REF!+#REF!)","v":{"$error":"#VALUE!"}},{"$f":"((AA809*#REF!)+(#REF!*#REF!)+(#REF!*#REF!))/(#REF!+#REF!+#REF!)","v":{"$error":"#VALUE!"}},{"$f":"((AA809*#REF!)+(#REF!*#REF!)+(#REF!*#REF!))/(#REF!+#REF!+#REF!)","v":{"$error":"#VALUE!"}},{"$f":"((AA809*#REF!)+(#REF!*#REF!)+(#REF!*#REF!))/(#REF!+#REF!+#REF!)","v":{"$error":"#VALUE!"}},{"$f":"((AA809*#REF!)+(#REF!*#REF!)+(#REF!*#REF!))/(#REF!+#REF!+#REF!)","v":{"$error":"#VALUE!"}},{"$f":"((AA809*#REF!)+(#REF!*#REF!)+(#REF!*#REF!))/(#REF!+#REF!+#REF!)","v":{"$error":"#VALUE!"}},{"$f":"((AA809*#REF!)+(#REF!*#REF!)+(#REF!*#REF!))/(#REF!+#REF!+#REF!)","v":{"$error":"#VALUE!"}}]
[null,null,null,null,null,null,null,null,null,null,null,null,null,null,null,null,null,null,null,null,null,808,{"$error":"#VALUE!"},{"$f":"AVERAGE($W$3:W810)","v":{"$error":"#VALUE!"}},null,{"$error":"#VALUE!"},{"$error":"#VALUE!"},{"$f":"AVERAGE($AA$3:AA810)","v":{"$error":"#VALUE!"}},null,null,null,{"$f":"((AA810*#REF!)+(#REF!*#REF!)+(#REF!*#REF!))/(#REF!+#REF!+#REF!)","v":{"$error":"#VALUE!"}},{"$f":"((AA810*#REF!)+(#REF!*#REF!)+(#REF!*#REF!))/(#REF!+#REF!+#REF!)","v":{"$error":"#VALUE!"}},{"$f":"((AA810*#REF!)+(#REF!*#REF!)+(#REF!*#REF!))/(#REF!+#REF!+#REF!)","v":{"$error":"#VALUE!"}},{"$f":"((AA810*#REF!)+(#REF!*#REF!)+(#REF!*#REF!))/(#REF!+#REF!+#REF!)","v":{"$error":"#VALUE!"}},{"$f":"((AA810*#REF!)+(#REF!*#REF!)+(#REF!*#REF!))/(#REF!+#REF!+#REF!)","v":{"$error":"#VALUE!"}},{"$f":"((AA810*#REF!)+(#REF!*#REF!)+(#REF!*#REF!))/(#REF!+#REF!+#REF!)","v":{"$error":"#VALUE!"}},{"$f":"((AA810*#REF!)+(#REF!*#REF!)+(#REF!*#REF!))/(#REF!+#REF!+#REF!)","v":{"$error":"#VALUE!"}}]
[null,null,null,null,null,null,null,null,null,null,null,null,null,null,null,null,null,null,null,null,null,809,{"$error":"#VALUE!"},{"$f":"AVERAGE($W$3:W811)","v":{"$error":"#VALUE!"}},null,{"$error":"#VALUE!"},{"$error":"#VALUE!"},{"$f":"AVERAGE($AA$3:AA811)","v":{"$error":"#VALUE!"}},null,null,null,{"$f":"((AA811*#REF!)+(#REF!*#REF!)+(#REF!*#REF!))/(#REF!+#REF!+#REF!)","v":{"$error":"#VALUE!"}},{"$f":"((AA811*#REF!)+(#REF!*#REF!)+(#REF!*#REF!))/(#REF!+#REF!+#REF!)","v":{"$error":"#VALUE!"}},{"$f":"((AA811*#REF!)+(#REF!*#REF!)+(#REF!*#REF!))/(#REF!+#REF!+#REF!)","v":{"$error":"#VALUE!"}},{"$f":"((AA811*#REF!)+(#REF!*#REF!)+(#REF!*#REF!))/(#REF!+#REF!+#REF!)","v":{"$error":"#VALUE!"}},{"$f":"((AA811*#REF!)+(#REF!*#REF!)+(#REF!*#REF!))/(#REF!+#REF!+#REF!)","v":{"$error":"#VALUE!"}},{"$f":"((AA811*#REF!)+(#REF!*#REF!)+(#REF!*#REF!))/(#REF!+#REF!+#REF!)","v":{"$error":"#VALUE!"}},{"$f":"((AA811*#REF!)+(#REF!*#REF!)+(#REF!*#REF!))/(#REF!+#REF!+#REF!)","v":{"$error":"#VALUE!"}}]
[null,null,null,null,null,null,null,null,null,null,null,null,null,null,null,null,null,null,null,null,null,810,{"$error":"#VALUE!"},{"$f":"AVERAGE($W$3:W812)","v":{"$error":"#VALUE!"}},null,{"$error":"#VALUE!"},{"$error":"#VALUE!"},{"$f":"AVERAGE($AA$3:AA812)","v":{"$error":"#VALUE!"}},null,null,null,{"$f":"((AA812*#REF!)+(#REF!*#REF!)+(#REF!*#REF!))/(#REF!+#REF!+#REF!)","v":{"$error":"#VALUE!"}},{"$f":"((AA812*#REF!)+(#REF!*#REF!)+(#REF!*#REF!))/(#REF!+#REF!+#REF!)","v":{"$error":"#VALUE!"}},{"$f":"((AA812*#REF!)+(#REF!*#REF!)+(#REF!*#REF!))/(#REF!+#REF!+#REF!)","v":{"$error":"#VALUE!"}},{"$f":"((AA812*#REF!)+(#REF!*#REF!)+(#REF!*#REF!))/(#REF!+#REF!+#REF!)","v":{"$error":"#VALUE!"}},{"$f":"((AA812*#REF!)+(#REF!*#REF!)+(#REF!*#REF!))/(#REF!+#REF!+#REF!)","v":{"$error":"#VALUE!"}},{"$f":"((AA812*#REF!)+(#REF!*#REF!)+(#REF!*#REF!))/(#REF!+#REF!+#REF!)","v":{"$error":"#VALUE!"}},{"$f":"((AA812*#REF!)+(#REF!*#REF!)+(#REF!*#REF!))/(#REF!+#REF!+#REF!)","v":{"$error":"#VALUE!"}}]
[null,null,null,null,null,null,null,null,null,null,null,null,null,null,null,null,null,null,null,null,null,811,{"$error":"#VALUE!"},{"$f":"AVERAGE($W$3:W813)","v":{"$error":"#VALUE!"}},null,{"$error":"#VALUE!"},{"$error":"#VALUE!"},{"$f":"AVERAGE($AA$3:AA813)","v":{"$error":"#VALUE!"}},null,null,null,{"$f":"((AA813*#REF!)+(#REF!*#REF!)+(#REF!*#REF!))/(#REF!+#REF!+#REF!)","v":{"$error":"#VALUE!"}},{"$f":"((AA813*#REF!)+(#REF!*#REF!)+(#REF!*#REF!))/(#REF!+#REF!+#REF!)","v":{"$error":"#VALUE!"}},{"$f":"((AA813*#REF!)+(#REF!*#REF!)+(#REF!*#REF!))/(#REF!+#REF!+#REF!)","v":{"$error":"#VALUE!"}},{"$f":"((AA813*#REF!)+(#REF!*#REF!)+(#REF!*#REF!))/(#REF!+#REF!+#REF!)","v":{"$error":"#VALUE!"}},{"$f":"((AA813*#REF!)+(#REF!*#REF!)+(#REF!*#REF!))/(#REF!+#REF!+#REF!)","v":{"$error":"#VALUE!"}},{"$f":"((AA813*#REF!)+(#REF!*#REF!)+(#REF!*#REF!))/(#REF!+#REF!+#REF!)","v":{"$error":"#VALUE!"}},{"$f":"((AA813*#REF!)+(#REF!*#REF!)+(#REF!*#REF!))/(#REF!+#REF!+#REF!)","v":{"$error":"#VALUE!"}}]
[null,null,null,null,null,null,null,null,null,null,null,null,null,null,null,null,null,null,null,null,null,812,{"$error":"#VALUE!"},{"$f":"AVERAGE($W$3:W814)","v":{"$error":"#VALUE!"}},null,{"$error":"#VALUE!"},{"$error":"#VALUE!"},{"$f":"AVERAGE($AA$3:AA814)","v":{"$error":"#VALUE!"}},null,null,null,{"$f":"((AA814*#REF!)+(#REF!*#REF!)+(#REF!*#REF!))/(#REF!+#REF!+#REF!)","v":{"$error":"#VALUE!"}},{"$f":"((AA814*#REF!)+(#REF!*#REF!)+(#REF!*#REF!))/(#REF!+#REF!+#REF!)","v":{"$error":"#VALUE!"}},{"$f":"((AA814*#REF!)+(#REF!*#REF!)+(#REF!*#REF!))/(#REF!+#REF!+#REF!)","v":{"$error":"#VALUE!"}},{"$f":"((AA814*#REF!)+(#REF!*#REF!)+(#REF!*#REF!))/(#REF!+#REF!+#REF!)","v":{"$error":"#VALUE!"}},{"$f":"((AA814*#REF!)+(#REF!*#REF!)+(#REF!*#REF!))/(#REF!+#REF!+#REF!)","v":{"$error":"#VALUE!"}},{"$f":"((AA814*#REF!)+(#REF!*#REF!)+(#REF!*#REF!))/(#REF!+#REF!+#REF!)","v":{"$error":"#VALUE!"}},{"$f":"((AA814*#REF!)+(#REF!*#REF!)+(#REF!*#REF!))/(#REF!+#REF!+#REF!)","v":{"$error":"#VALUE!"}}]
[null,null,null,null,null,null,null,null,null,null,null,null,null,null,null,null,null,null,null,null,null,813,{"$error":"#VALUE!"},{"$f":"AVERAGE($W$3:W815)","v":{"$error":"#VALUE!"}},null,{"$error":"#VALUE!"},{"$error":"#VALUE!"},{"$f":"AVERAGE($AA$3:AA815)","v":{"$error":"#VALUE!"}},null,null,null,{"$f":"((AA815*#REF!)+(#REF!*#REF!)+(#REF!*#REF!))/(#REF!+#REF!+#REF!)","v":{"$error":"#VALUE!"}},{"$f":"((AA815*#REF!)+(#REF!*#REF!)+(#REF!*#REF!))/(#REF!+#REF!+#REF!)","v":{"$error":"#VALUE!"}},{"$f":"((AA815*#REF!)+(#REF!*#REF!)+(#REF!*#REF!))/(#REF!+#REF!+#REF!)","v":{"$error":"#VALUE!"}},{"$f":"((AA815*#REF!)+(#REF!*#REF!)+(#REF!*#REF!))/(#REF!+#REF!+#REF!)","v":{"$error":"#VALUE!"}},{"$f":"((AA815*#REF!)+(#REF!*#REF!)+(#REF!*#REF!))/(#REF!+#REF!+#REF!)","v":{"$error":"#VALUE!"}},{"$f":"((AA815*#REF!)+(#REF!*#REF!)+(#REF!*#REF!))/(#REF!+#REF!+#REF!)","v":{"$error":"#VALUE!"}},{"$f":"((AA815*#REF!)+(#REF!*#REF!)+(#REF!*#REF!))/(#REF!+#REF!+#REF!)","v":{"$error":"#VALUE!"}}]
[null,null,null,null,null,null,null,null,null,null,null,null,null,null,null,null,null,null,null,null,null,814,{"$error":"#VALUE!"},{"$f":"AVERAGE($W$3:W816)","v":{"$error":"#VALUE!"}},null,{"$error":"#VALUE!"},{"$error":"#VALUE!"},{"$f":"AVERAGE($AA$3:AA816)","v":{"$error":"#VALUE!"}},null,null,null,{"$f":"((AA816*#REF!)+(#REF!*#REF!)+(#REF!*#REF!))/(#REF!+#REF!+#REF!)","v":{"$error":"#VALUE!"}},{"$f":"((AA816*#REF!)+(#REF!*#REF!)+(#REF!*#REF!))/(#REF!+#REF!+#REF!)","v":{"$error":"#VALUE!"}},{"$f":"((AA816*#REF!)+(#REF!*#REF!)+(#REF!*#REF!))/(#REF!+#REF!+#REF!)","v":{"$error":"#VALUE!"}},{"$f":"((AA816*#REF!)+(#REF!*#REF!)+(#REF!*#REF!))/(#REF!+#REF!+#REF!)","v":{"$error":"#VALUE!"}},{"$f":"((AA816*#REF!)+(#REF!*#REF!)+(#REF!*#REF!))/(#REF!+#REF!+#REF!)","v":{"$error":"#VALUE!"}},{"$f":"((AA816*#REF!)+(#REF!*#REF!)+(#REF!*#REF!))/(#REF!+#REF!+#REF!)","v":{"$error":"#VALUE!"}},{"$f":"((AA816*#REF!)+(#REF!*#REF!)+(#REF!*#REF!))/(#REF!+#REF!+#REF!)","v":{"$error":"#VALUE!"}}]
[null,null,null,null,null,null,null,null,null,null,null,null,null,null,null,null,null,null,null,null,null,815,{"$error":"#VALUE!"},{"$f":"AVERAGE($W$3:W817)","v":{"$error":"#VALUE!"}},null,{"$error":"#VALUE!"},{"$error":"#VALUE!"},{"$f":"AVERAGE($AA$3:AA817)","v":{"$error":"#VALUE!"}},null,null,null,{"$f":"((AA817*#REF!)+(#REF!*#REF!)+(#REF!*#REF!))/(#REF!+#REF!+#REF!)","v":{"$error":"#VALUE!"}},{"$f":"((AA817*#REF!)+(#REF!*#REF!)+(#REF!*#REF!))/(#REF!+#REF!+#REF!)","v":{"$error":"#VALUE!"}},{"$f":"((AA817*#REF!)+(#REF!*#REF!)+(#REF!*#REF!))/(#REF!+#REF!+#REF!)","v":{"$error":"#VALUE!"}},{"$f":"((AA817*#REF!)+(#REF!*#REF!)+(#REF!*#REF!))/(#REF!+#REF!+#REF!)","v":{"$error":"#VALUE!"}},{"$f":"((AA817*#REF!)+(#REF!*#REF!)+(#REF!*#REF!))/(#REF!+#REF!+#REF!)","v":{"$error":"#VALUE!"}},{"$f":"((AA817*#REF!)+(#REF!*#REF!)+(#REF!*#REF!))/(#REF!+#REF!+#REF!)","v":{"$error":"#VALUE!"}},{"$f":"((AA817*#REF!)+(#REF!*#REF!)+(#REF!*#REF!))/(#REF!+#REF!+#REF!)","v":{"$error":"#VALUE!"}}]
[null,null,null,null,null,null,null,null,null,null,null,null,null,null,null,null,null,null,null,null,null,816,{"$error":"#VALUE!"},{"$f":"AVERAGE($W$3:W818)","v":{"$error":"#VALUE!"}},null,{"$error":"#VALUE!"},{"$error":"#VALUE!"},{"$f":"AVERAGE($AA$3:AA818)","v":{"$error":"#VALUE!"}},null,null,null,{"$f":"((AA818*#REF!)+(#REF!*#REF!)+(#REF!*#REF!))/(#REF!+#REF!+#REF!)","v":{"$error":"#VALUE!"}},{"$f":"((AA818*#REF!)+(#REF!*#REF!)+(#REF!*#REF!))/(#REF!+#REF!+#REF!)","v":{"$error":"#VALUE!"}},{"$f":"((AA818*#REF!)+(#REF!*#REF!)+(#REF!*#REF!))/(#REF!+#REF!+#REF!)","v":{"$error":"#VALUE!"}},{"$f":"((AA818*#REF!)+(#REF!*#REF!)+(#REF!*#REF!))/(#REF!+#REF!+#REF!)","v":{"$error":"#VALUE!"}},{"$f":"((AA818*#REF!)+(#REF!*#REF!)+(#REF!*#REF!))/(#REF!+#REF!+#REF!)","v":{"$error":"#VALUE!"}},{"$f":"((AA818*#REF!)+(#REF!*#REF!)+(#REF!*#REF!))/(#REF!+#REF!+#REF!)","v":{"$error":"#VALUE!"}},{"$f":"((AA818*#REF!)+(#REF!*#REF!)+(#REF!*#REF!))/(#REF!+#REF!+#REF!)","v":{"$error":"#VALUE!"}}]
[null,null,null,null,null,null,null,null,null,null,null,null,null,null,null,null,null,null,null,null,null,817,{"$error":"#VALUE!"},{"$f":"AVERAGE($W$3:W819)","v":{"$error":"#VALUE!"}},null,{"$error":"#VALUE!"},{"$error":"#VALUE!"},{"$f":"AVERAGE($AA$3:AA819)","v":{"$error":"#VALUE!"}},null,null,null,{"$f":"((AA819*#REF!)+(#REF!*#REF!)+(#REF!*#REF!))/(#REF!+#REF!+#REF!)","v":{"$error":"#VALUE!"}},{"$f":"((AA819*#REF!)+(#REF!*#REF!)+(#REF!*#REF!))/(#REF!+#REF!+#REF!)","v":{"$error":"#VALUE!"}},{"$f":"((AA819*#REF!)+(#REF!*#REF!)+(#REF!*#REF!))/(#REF!+#REF!+#REF!)","v":{"$error":"#VALUE!"}},{"$f":"((AA819*#REF!)+(#REF!*#REF!)+(#REF!*#REF!))/(#REF!+#REF!+#REF!)","v":{"$error":"#VALUE!"}},{"$f":"((AA819*#REF!)+(#REF!*#REF!)+(#REF!*#REF!))/(#REF!+#REF!+#REF!)","v":{"$error":"#VALUE!"}},{"$f":"((AA819*#REF!)+(#REF!*#REF!)+(#REF!*#REF!))/(#REF!+#REF!+#REF!)","v":{"$error":"#VALUE!"}},{"$f":"((AA819*#REF!)+(#REF!*#REF!)+(#REF!*#REF!))/(#REF!+#REF!+#REF!)","v":{"$error":"#VALUE!"}}]
[null,null,null,null,null,null,null,null,null,null,null,null,null,null,null,null,null,null,null,null,null,818,{"$error":"#VALUE!"},{"$f":"AVERAGE($W$3:W820)","v":{"$error":"#VALUE!"}},null,{"$error":"#VALUE!"},{"$error":"#VALUE!"},{"$f":"AVERAGE($AA$3:AA820)","v":{"$error":"#VALUE!"}},null,null,null,{"$f":"((AA820*#REF!)+(#REF!*#REF!)+(#REF!*#REF!))/(#REF!+#REF!+#REF!)","v":{"$error":"#VALUE!"}},{"$f":"((AA820*#REF!)+(#REF!*#REF!)+(#REF!*#REF!))/(#REF!+#REF!+#REF!)","v":{"$error":"#VALUE!"}},{"$f":"((AA820*#REF!)+(#REF!*#REF!)+(#REF!*#REF!))/(#REF!+#REF!+#REF!)","v":{"$error":"#VALUE!"}},{"$f":"((AA820*#REF!)+(#REF!*#REF!)+(#REF!*#REF!))/(#REF!+#REF!+#REF!)","v":{"$error":"#VALUE!"}},{"$f":"((AA820*#REF!)+(#REF!*#REF!)+(#REF!*#REF!))/(#REF!+#REF!+#REF!)","v":{"$error":"#VALUE!"}},{"$f":"((AA820*#REF!)+(#REF!*#REF!)+(#REF!*#REF!))/(#REF!+#REF!+#REF!)","v":{"$error":"#VALUE!"}},{"$f":"((AA820*#REF!)+(#REF!*#REF!)+(#REF!*#REF!))/(#REF!+#REF!+#REF!)","v":{"$error":"#VALUE!"}}]
[null,null,null,null,null,null,null,null,null,null,null,null,null,null,null,null,null,null,null,null,null,819,{"$error":"#VALUE!"},{"$f":"AVERAGE($W$3:W821)","v":{"$error":"#VALUE!"}},null,{"$error":"#VALUE!"},{"$error":"#VALUE!"},{"$f":"AVERAGE($AA$3:AA821)","v":{"$error":"#VALUE!"}},null,null,null,{"$f":"((AA821*#REF!)+(#REF!*#REF!)+(#REF!*#REF!))/(#REF!+#REF!+#REF!)","v":{"$error":"#VALUE!"}},{"$f":"((AA821*#REF!)+(#REF!*#REF!)+(#REF!*#REF!))/(#REF!+#REF!+#REF!)","v":{"$error":"#VALUE!"}},{"$f":"((AA821*#REF!)+(#REF!*#REF!)+(#REF!*#REF!))/(#REF!+#REF!+#REF!)","v":{"$error":"#VALUE!"}},{"$f":"((AA821*#REF!)+(#REF!*#REF!)+(#REF!*#REF!))/(#REF!+#REF!+#REF!)","v":{"$error":"#VALUE!"}},{"$f":"((AA821*#REF!)+(#REF!*#REF!)+(#REF!*#REF!))/(#REF!+#REF!+#REF!)","v":{"$error":"#VALUE!"}},{"$f":"((AA821*#REF!)+(#REF!*#REF!)+(#REF!*#REF!))/(#REF!+#REF!+#REF!)","v":{"$error":"#VALUE!"}},{"$f":"((AA821*#REF!)+(#REF!*#REF!)+(#REF!*#REF!))/(#REF!+#REF!+#REF!)","v":{"$error":"#VALUE!"}}]
[null,null,null,null,null,null,null,null,null,null,null,null,null,null,null,null,null,null,null,null,null,820,{"$error":"#VALUE!"},{"$f":"AVERAGE($W$3:W822)","v":{"$error":"#VALUE!"}},null,{"$error":"#VALUE!"},{"$error":"#VALUE!"},{"$f":"AVERAGE($AA$3:AA822)","v":{"$error":"#VALUE!"}},null,null,null,{"$f":"((AA822*#REF!)+(#REF!*#REF!)+(#REF!*#REF!))/(#REF!+#REF!+#REF!)","v":{"$error":"#VALUE!"}},{"$f":"((AA822*#REF!)+(#REF!*#REF!)+(#REF!*#REF!))/(#REF!+#REF!+#REF!)","v":{"$error":"#VALUE!"}},{"$f":"((AA822*#REF!)+(#REF!*#REF!)+(#REF!*#REF!))/(#REF!+#REF!+#REF!)","v":{"$error":"#VALUE!"}},{"$f":"((AA822*#REF!)+(#REF!*#REF!)+(#REF!*#REF!))/(#REF!+#REF!+#REF!)","v":{"$error":"#VALUE!"}},{"$f":"((AA822*#REF!)+(#REF!*#REF!)+(#REF!*#REF!))/(#REF!+#REF!+#REF!)","v":{"$error":"#VALUE!"}},{"$f":"((AA822*#REF!)+(#REF!*#REF!)+(#REF!*#REF!))/(#REF!+#REF!+#REF!)","v":{"$error":"#VALUE!"}},{"$f":"((AA822*#REF!)+(#REF!*#REF!)+(#REF!*#REF!))/(#REF!+#REF!+#REF!)","v":{"$error":"#VALUE!"}}]
[null,null,null,null,null,null,null,null,null,null,null,null,null,null,null,null,null,null,null,null,null,821,{"$error":"#VALUE!"},{"$f":"AVERAGE($W$3:W823)","v":{"$error":"#VALUE!"}},null,{"$error":"#VALUE!"},{"$error":"#VALUE!"},{"$f":"AVERAGE($AA$3:AA823)","v":{"$error":"#VALUE!"}},null,null,null,{"$f":"((AA823*#REF!)+(#REF!*#REF!)+(#REF!*#REF!))/(#REF!+#REF!+#REF!)","v":{"$error":"#VALUE!"}},{"$f":"((AA823*#REF!)+(#REF!*#REF!)+(#REF!*#REF!))/(#REF!+#REF!+#REF!)","v":{"$error":"#VALUE!"}},{"$f":"((AA823*#REF!)+(#REF!*#REF!)+(#REF!*#REF!))/(#REF!+#REF!+#REF!)","v":{"$error":"#VALUE!"}},{"$f":"((AA823*#REF!)+(#REF!*#REF!)+(#REF!*#REF!))/(#REF!+#REF!+#REF!)","v":{"$error":"#VALUE!"}},{"$f":"((AA823*#REF!)+(#REF!*#REF!)+(#REF!*#REF!))/(#REF!+#REF!+#REF!)","v":{"$error":"#VALUE!"}},{"$f":"((AA823*#REF!)+(#REF!*#REF!)+(#REF!*#REF!))/(#REF!+#REF!+#REF!)","v":{"$error":"#VALUE!"}},{"$f":"((AA823*#REF!)+(#REF!*#REF!)+(#REF!*#REF!))/(#REF!+#REF!+#REF!)","v":{"$error":"#VALUE!"}}]
[null,null,null,null,null,null,null,null,null,null,null,null,null,null,null,null,null,null,null,null,null,822,{"$error":"#VALUE!"},{"$f":"AVERAGE($W$3:W824)","v":{"$error":"#VALUE!"}},null,{"$error":"#VALUE!"},{"$error":"#VALUE!"},{"$f":"AVERAGE($AA$3:AA824)","v":{"$error":"#VALUE!"}},null,null,null,{"$f":"((AA824*#REF!)+(#REF!*#REF!)+(#REF!*#REF!))/(#REF!+#REF!+#REF!)","v":{"$error":"#VALUE!"}},{"$f":"((AA824*#REF!)+(#REF!*#REF!)+(#REF!*#REF!))/(#REF!+#REF!+#REF!)","v":{"$error":"#VALUE!"}},{"$f":"((AA824*#REF!)+(#REF!*#REF!)+(#REF!*#REF!))/(#REF!+#REF!+#REF!)","v":{"$error":"#VALUE!"}},{"$f":"((AA824*#REF!)+(#REF!*#REF!)+(#REF!*#REF!))/(#REF!+#REF!+#REF!)","v":{"$error":"#VALUE!"}},{"$f":"((AA824*#REF!)+(#REF!*#REF!)+(#REF!*#REF!))/(#REF!+#REF!+#REF!)","v":{"$error":"#VALUE!"}},{"$f":"((AA824*#REF!)+(#REF!*#REF!)+(#REF!*#REF!))/(#REF!+#REF!+#REF!)","v":{"$error":"#VALUE!"}},{"$f":"((AA824*#REF!)+(#REF!*#REF!)+(#REF!*#REF!))/(#REF!+#REF!+#REF!)","v":{"$error":"#VALUE!"}}]
[null,null,null,null,null,null,null,null,null,null,null,null,null,null,null,null,null,null,null,null,null,823,{"$error":"#VALUE!"},{"$f":"AVERAGE($W$3:W825)","v":{"$error":"#VALUE!"}},null,{"$error":"#VALUE!"},{"$error":"#VALUE!"},{"$f":"AVERAGE($AA$3:AA825)","v":{"$error":"#VALUE!"}},null,null,null,{"$f":"((AA825*#REF!)+(#REF!*#REF!)+(#REF!*#REF!))/(#REF!+#REF!+#REF!)","v":{"$error":"#VALUE!"}},{"$f":"((AA825*#REF!)+(#REF!*#REF!)+(#REF!*#REF!))/(#REF!+#REF!+#REF!)","v":{"$error":"#VALUE!"}},{"$f":"((AA825*#REF!)+(#REF!*#REF!)+(#REF!*#REF!))/(#REF!+#REF!+#REF!)","v":{"$error":"#VALUE!"}},{"$f":"((AA825*#REF!)+(#REF!*#REF!)+(#REF!*#REF!))/(#REF!+#REF!+#REF!)","v":{"$error":"#VALUE!"}},{"$f":"((AA825*#REF!)+(#REF!*#REF!)+(#REF!*#REF!))/(#REF!+#REF!+#REF!)","v":{"$error":"#VALUE!"}},{"$f":"((AA825*#REF!)+(#REF!*#REF!)+(#REF!*#REF!))/(#REF!+#REF!+#REF!)","v":{"$error":"#VALUE!"}},{"$f":"((AA825*#REF!)+(#REF!*#REF!)+(#REF!*#REF!))/(#REF!+#REF!+#REF!)","v":{"$error":"#VALUE!"}}]
[null,null,null,null,null,null,null,null,null,null,null,null,null,null,null,null,null,null,null,null,null,824,{"$error":"#VALUE!"},{"$f":"AVERAGE($W$3:W826)","v":{"$error":"#VALUE!"}},null,{"$error":"#VALUE!"},{"$error":"#VALUE!"},{"$f":"AVERAGE($AA$3:AA826)","v":{"$error":"#VALUE!"}},null,null,null,{"$f":"((AA826*#REF!)+(#REF!*#REF!)+(#REF!*#REF!))/(#REF!+#REF!+#REF!)","v":{"$error":"#VALUE!"}},{"$f":"((AA826*#REF!)+(#REF!*#REF!)+(#REF!*#REF!))/(#REF!+#REF!+#REF!)","v":{"$error":"#VALUE!"}},{"$f":"((AA826*#REF!)+(#REF!*#REF!)+(#REF!*#REF!))/(#REF!+#REF!+#REF!)","v":{"$error":"#VALUE!"}},{"$f":"((AA826*#REF!)+(#REF!*#REF!)+(#REF!*#REF!))/(#REF!+#REF!+#REF!)","v":{"$error":"#VALUE!"}},{"$f":"((AA826*#REF!)+(#REF!*#REF!)+(#REF!*#REF!))/(#REF!+#REF!+#REF!)","v":{"$error":"#VALUE!"}},{"$f":"((AA826*#REF!)+(#REF!*#REF!)+(#REF!*#REF!))/(#REF!+#REF!+#REF!)","v":{"$error":"#VALUE!"}},{"$f":"((AA826*#REF!)+(#REF!*#REF!)+(#REF!*#REF!))/(#REF!+#REF!+#REF!)","v":{"$error":"#VALUE!"}}]
[null,null,null,null,null,null,null,null,null,null,null,null,null,null,null,null,null,null,null,null,null,825,{"$error":"#VALUE!"},{"$f":"AVERAGE($W$3:W827)","v":{"$error":"#VALUE!"}},null,{"$error":"#VALUE!"},{"$error":"#VALUE!"},{"$f":"AVERAGE($AA$3:AA827)","v":{"$error":"#VALUE!"}},null,null,null,{"$f":"((AA827*#REF!)+(#REF!*#REF!)+(#REF!*#REF!))/(#REF!+#REF!+#REF!)","v":{"$error":"#VALUE!"}},{"$f":"((AA827*#REF!)+(#REF!*#REF!)+(#REF!*#REF!))/(#REF!+#REF!+#REF!)","v":{"$error":"#VALUE!"}},{"$f":"((AA827*#REF!)+(#REF!*#REF!)+(#REF!*#REF!))/(#REF!+#REF!+#REF!)","v":{"$error":"#VALUE!"}},{"$f":"((AA827*#REF!)+(#REF!*#REF!)+(#REF!*#REF!))/(#REF!+#REF!+#REF!)","v":{"$error":"#VALUE!"}},{"$f":"((AA827*#REF!)+(#REF!*#REF!)+(#REF!*#REF!))/(#REF!+#REF!+#REF!)","v":{"$error":"#VALUE!"}},{"$f":"((AA827*#REF!)+(#REF!*#REF!)+(#REF!*#REF!))/(#REF!+#REF!+#REF!)","v":{"$error":"#VALUE!"}},{"$f":"((AA827*#REF!)+(#REF!*#REF!)+(#REF!*#REF!))/(#REF!+#REF!+#REF!)","v":{"$error":"#VALUE!"}}]
[null,null,null,null,null,null,null,null,null,null,null,null,null,null,null,null,null,null,null,null,null,826,{"$error":"#VALUE!"},{"$f":"AVERAGE($W$3:W828)","v":{"$error":"#VALUE!"}},null,{"$error":"#VALUE!"},{"$error":"#VALUE!"},{"$f":"AVERAGE($AA$3:AA828)","v":{"$error":"#VALUE!"}},null,null,null,{"$f":"((AA828*#REF!)+(#REF!*#REF!)+(#REF!*#REF!))/(#REF!+#REF!+#REF!)","v":{"$error":"#VALUE!"}},{"$f":"((AA828*#REF!)+(#REF!*#REF!)+(#REF!*#REF!))/(#REF!+#REF!+#REF!)","v":{"$error":"#VALUE!"}},{"$f":"((AA828*#REF!)+(#REF!*#REF!)+(#REF!*#REF!))/(#REF!+#REF!+#REF!)","v":{"$error":"#VALUE!"}},{"$f":"((AA828*#REF!)+(#REF!*#REF!)+(#REF!*#REF!))/(#REF!+#REF!+#REF!)","v":{"$error":"#VALUE!"}},{"$f":"((AA828*#REF!)+(#REF!*#REF!)+(#REF!*#REF!))/(#REF!+#REF!+#REF!)","v":{"$error":"#VALUE!"}},{"$f":"((AA828*#REF!)+(#REF!*#REF!)+(#REF!*#REF!))/(#REF!+#REF!+#REF!)","v":{"$error":"#VALUE!"}},{"$f":"((AA828*#REF!)+(#REF!*#REF!)+(#REF!*#REF!))/(#REF!+#REF!+#REF!)","v":{"$error":"#VALUE!"}}]
[null,null,null,null,null,null,null,null,null,null,null,null,null,null,null,null,null,null,null,null,null,827,{"$error":"#VALUE!"},{"$f":"AVERAGE($W$3:W829)","v":{"$error":"#VALUE!"}},null,{"$error":"#VALUE!"},{"$error":"#VALUE!"},{"$f":"AVERAGE($AA$3:AA829)","v":{"$error":"#VALUE!"}},null,null,null,{"$f":"((AA829*#REF!)+(#REF!*#REF!)+(#REF!*#REF!))/(#REF!+#REF!+#REF!)","v":{"$error":"#VALUE!"}},{"$f":"((AA829*#REF!)+(#REF!*#REF!)+(#REF!*#REF!))/(#REF!+#REF!+#REF!)","v":{"$error":"#VALUE!"}},{"$f":"((AA829*#REF!)+(#REF!*#REF!)+(#REF!*#REF!))/(#REF!+#REF!+#REF!)","v":{"$error":"#VALUE!"}},{"$f":"((AA829*#REF!)+(#REF!*#REF!)+(#REF!*#REF!))/(#REF!+#REF!+#REF!)","v":{"$error":"#VALUE!"}},{"$f":"((AA829*#REF!)+(#REF!*#REF!)+(#REF!*#REF!))/(#REF!+#REF!+#REF!)","v":{"$error":"#VALUE!"}},{"$f":"((AA829*#REF!)+(#REF!*#REF!)+(#REF!*#REF!))/(#REF!+#REF!+#REF!)","v":{"$error":"#VALUE!"}},{"$f":"((AA829*#REF!)+(#REF!*#REF!)+(#REF!*#REF!))/(#REF!+#REF!+#REF!)","v":{"$error":"#VALUE!"}}]
[null,null,null,null,null,null,null,null,null,null,null,null,null,null,null,null,null,null,null,null,null,828,{"$f":"IF(($M$7*LN(V830))+$M$8+$M$10>0,($M$7*LN(V830))+$M$8+$M$10,0)","v":{"$error":"#VALUE!"}},{"$f":"AVERAGE($W$3:W830)","v":{"$error":"#VALUE!"}},null,{"$error":"#VALUE!"},{"$error":"#VALUE!"},{"$f":"AVERAGE($AA$3:AA830)","v":{"$error":"#VALUE!"}},null,null,null,{"$f":"((AA830*#REF!)+(#REF!*#REF!)+(#REF!*#REF!))/(#REF!+#REF!+#REF!)","v":{"$error":"#VALUE!"}},{"$f":"((AA830*#REF!)+(#REF!*#REF!)+(#REF!*#REF!))/(#REF!+#REF!+#REF!)","v":{"$error":"#VALUE!"}},{"$f":"((AA830*#REF!)+(#REF!*#REF!)+(#REF!*#REF!))/(#REF!+#REF!+#REF!)","v":{"$error":"#VALUE!"}},{"$f":"((AA830*#REF!)+(#REF!*#REF!)+(#REF!*#REF!))/(#REF!+#REF!+#REF!)","v":{"$error":"#VALUE!"}},{"$f":"((AA830*#REF!)+(#REF!*#REF!)+(#REF!*#REF!))/(#REF!+#REF!+#REF!)","v":{"$error":"#VALUE!"}},{"$f":"((AA830*#REF!)+(#REF!*#REF!)+(#REF!*#REF!))/(#REF!+#REF!+#REF!)","v":{"$error":"#VALUE!"}},{"$f":"((AA830*#REF!)+(#REF!*#REF!)+(#REF!*#REF!))/(#REF!+#REF!+#REF!)","v":{"$error":"#VALUE!"}}]
[null,null,null,null,null,null,null,null,null,null,null,null,null,null,null,null,null,null,null,null,null,829,{"$error":"#VALUE!"},{"$f":"AVERAGE($W$3:W831)","v":{"$error":"#VALUE!"}},null,{"$error":"#VALUE!"},{"$error":"#VALUE!"},{"$f":"AVERAGE($AA$3:AA831)","v":{"$error":"#VALUE!"}},null,null,null,{"$f":"((AA831*#REF!)+(#REF!*#REF!)+(#REF!*#REF!))/(#REF!+#REF!+#REF!)","v":{"$error":"#VALUE!"}},{"$f":"((AA831*#REF!)+(#REF!*#REF!)+(#REF!*#REF!))/(#REF!+#REF!+#REF!)","v":{"$error":"#VALUE!"}},{"$f":"((AA831*#REF!)+(#REF!*#REF!)+(#REF!*#REF!))/(#REF!+#REF!+#REF!)","v":{"$error":"#VALUE!"}},{"$f":"((AA831*#REF!)+(#REF!*#REF!)+(#REF!*#REF!))/(#REF!+#REF!+#REF!)","v":{"$error":"#VALUE!"}},{"$f":"((AA831*#REF!)+(#REF!*#REF!)+(#REF!*#REF!))/(#REF!+#REF!+#REF!)","v":{"$error":"#VALUE!"}},{"$f":"((AA831*#REF!)+(#REF!*#REF!)+(#REF!*#REF!))/(#REF!+#REF!+#REF!)","v":{"$error":"#VALUE!"}},{"$f":"((AA831*#REF!)+(#REF!*#REF!)+(#REF!*#REF!))/(#REF!+#REF!+#REF!)","v":{"$error":"#VALUE!"}}]
[null,null,null,null,null,null,null,null,null,null,null,null,null,null,null,null,null,null,null,null,null,830,{"$error":"#VALUE!"},{"$f":"AVERAGE($W$3:W832)","v":{"$error":"#VALUE!"}},null,{"$error":"#VALUE!"},{"$error":"#VALUE!"},{"$f":"AVERAGE($AA$3:AA832)","v":{"$error":"#VALUE!"}},null,null,null,{"$f":"((AA832*#REF!)+(#REF!*#REF!)+(#REF!*#REF!))/(#REF!+#REF!+#REF!)","v":{"$error":"#VALUE!"}},{"$f":"((AA832*#REF!)+(#REF!*#REF!)+(#REF!*#REF!))/(#REF!+#REF!+#REF!)","v":{"$error":"#VALUE!"}},{"$f":"((AA832*#REF!)+(#REF!*#REF!)+(#REF!*#REF!))/(#REF!+#REF!+#REF!)","v":{"$error":"#VALUE!"}},{"$f":"((AA832*#REF!)+(#REF!*#REF!)+(#REF!*#REF!))/(#REF!+#REF!+#REF!)","v":{"$error":"#VALUE!"}},{"$f":"((AA832*#REF!)+(#REF!*#REF!)+(#REF!*#REF!))/(#REF!+#REF!+#REF!)","v":{"$error":"#VALUE!"}},{"$f":"((AA832*#REF!)+(#REF!*#REF!)+(#REF!*#REF!))/(#REF!+#REF!+#REF!)","v":{"$error":"#VALUE!"}},{"$f":"((AA832*#REF!)+(#REF!*#REF!)+(#REF!*#REF!))/(#REF!+#REF!+#REF!)","v":{"$error":"#VALUE!"}}]
[null,null,null,null,null,null,null,null,null,null,null,null,null,null,null,null,null,null,null,null,null,831,{"$error":"#VALUE!"},{"$f":"AVERAGE($W$3:W833)","v":{"$error":"#VALUE!"}},null,{"$error":"#VALUE!"},{"$error":"#VALUE!"},{"$f":"AVERAGE($AA$3:AA833)","v":{"$error":"#VALUE!"}},null,null,null,{"$f":"((AA833*#REF!)+(#REF!*#REF!)+(#REF!*#REF!))/(#REF!+#REF!+#REF!)","v":{"$error":"#VALUE!"}},{"$f":"((AA833*#REF!)+(#REF!*#REF!)+(#REF!*#REF!))/(#REF!+#REF!+#REF!)","v":{"$error":"#VALUE!"}},{"$f":"((AA833*#REF!)+(#REF!*#REF!)+(#REF!*#REF!))/(#REF!+#REF!+#REF!)","v":{"$error":"#VALUE!"}},{"$f":"((AA833*#REF!)+(#REF!*#REF!)+(#REF!*#REF!))/(#REF!+#REF!+#REF!)","v":{"$error":"#VALUE!"}},{"$f":"((AA833*#REF!)+(#REF!*#REF!)+(#REF!*#REF!))/(#REF!+#REF!+#REF!)","v":{"$error":"#VALUE!"}},{"$f":"((AA833*#REF!)+(#REF!*#REF!)+(#REF!*#REF!))/(#REF!+#REF!+#REF!)","v":{"$error":"#VALUE!"}},{"$f":"((AA833*#REF!)+(#REF!*#REF!)+(#REF!*#REF!))/(#REF!+#REF!+#REF!)","v":{"$error":"#VALUE!"}}]
[null,null,null,null,null,null,null,null,null,null,null,null,null,null,null,null,null,null,null,null,null,832,{"$error":"#VALUE!"},{"$f":"AVERAGE($W$3:W834)","v":{"$error":"#VALUE!"}},null,{"$error":"#VALUE!"},{"$error":"#VALUE!"},{"$f":"AVERAGE($AA$3:AA834)","v":{"$error":"#VALUE!"}},null,null,null,{"$f":"((AA834*#REF!)+(#REF!*#REF!)+(#REF!*#REF!))/(#REF!+#REF!+#REF!)","v":{"$error":"#VALUE!"}},{"$f":"((AA834*#REF!)+(#REF!*#REF!)+(#REF!*#REF!))/(#REF!+#REF!+#REF!)","v":{"$error":"#VALUE!"}},{"$f":"((AA834*#REF!)+(#REF!*#REF!)+(#REF!*#REF!))/(#REF!+#REF!+#REF!)","v":{"$error":"#VALUE!"}},{"$f":"((AA834*#REF!)+(#REF!*#REF!)+(#REF!*#REF!))/(#REF!+#REF!+#REF!)","v":{"$error":"#VALUE!"}},{"$f":"((AA834*#REF!)+(#REF!*#REF!)+(#REF!*#REF!))/(#REF!+#REF!+#REF!)","v":{"$error":"#VALUE!"}},{"$f":"((AA834*#REF!)+(#REF!*#REF!)+(#REF!*#REF!))/(#REF!+#REF!+#REF!)","v":{"$error":"#VALUE!"}},{"$f":"((AA834*#REF!)+(#REF!*#REF!)+(#REF!*#REF!))/(#REF!+#REF!+#REF!)","v":{"$error":"#VALUE!"}}]
[null,null,null,null,null,null,null,null,null,null,null,null,null,null,null,null,null,null,null,null,null,833,{"$error":"#VALUE!"},{"$f":"AVERAGE($W$3:W835)","v":{"$error":"#VALUE!"}},null,{"$error":"#VALUE!"},{"$error":"#VALUE!"},{"$f":"AVERAGE($AA$3:AA835)","v":{"$error":"#VALUE!"}},null,null,null,{"$f":"((AA835*#REF!)+(#REF!*#REF!)+(#REF!*#REF!))/(#REF!+#REF!+#REF!)","v":{"$error":"#VALUE!"}},{"$f":"((AA835*#REF!)+(#REF!*#REF!)+(#REF!*#REF!))/(#REF!+#REF!+#REF!)","v":{"$error":"#VALUE!"}},{"$f":"((AA835*#REF!)+(#REF!*#REF!)+(#REF!*#REF!))/(#REF!+#REF!+#REF!)","v":{"$error":"#VALUE!"}},{"$f":"((AA835*#REF!)+(#REF!*#REF!)+(#REF!*#REF!))/(#REF!+#REF!+#REF!)","v":{"$error":"#VALUE!"}},{"$f":"((AA835*#REF!)+(#REF!*#REF!)+(#REF!*#REF!))/(#REF!+#REF!+#REF!)","v":{"$error":"#VALUE!"}},{"$f":"((AA835*#REF!)+(#REF!*#REF!)+(#REF!*#REF!))/(#REF!+#REF!+#REF!)","v":{"$error":"#VALUE!"}},{"$f":"((AA835*#REF!)+(#REF!*#REF!)+(#REF!*#REF!))/(#REF!+#REF!+#REF!)","v":{"$error":"#VALUE!"}}]
[null,null,null,null,null,null,null,null,null,null,null,null,null,null,null,null,null,null,null,null,null,834,{"$error":"#VALUE!"},{"$f":"AVERAGE($W$3:W836)","v":{"$error":"#VALUE!"}},null,{"$f":"$M$2+W836","v":{"$error":"#VALUE!"}},{"$f":"(Z836*(9/5))+32","v":{"$error":"#VALUE!"}},{"$f":"AVERAGE($AA$3:AA836)","v":{"$error":"#VALUE!"}},null,null,null,{"$f":"((AA836*#REF!)+(#REF!*#REF!)+(#REF!*#REF!))/(#REF!+#REF!+#REF!)","v":{"$error":"#VALUE!"}},{"$f":"((AA836*#REF!)+(#REF!*#REF!)+(#REF!*#REF!))/(#REF!+#REF!+#REF!)","v":{"$error":"#VALUE!"}},{"$f":"((AA836*#REF!)+(#REF!*#REF!)+(#REF!*#REF!))/(#REF!+#REF!+#REF!)","v":{"$error":"#VALUE!"}},{"$f":"((AA836*#REF!)+(#REF!*#REF!)+(#REF!*#REF!))/(#REF!+#REF!+#REF!)","v":{"$error":"#VALUE!"}},{"$f":"((AA836*#REF!)+(#REF!*#REF!)+(#REF!*#REF!))/(#REF!+#REF!+#REF!)","v":{"$error":"#VALUE!"}},{"$f":"((AA836*#REF!)+(#REF!*#REF!)+(#REF!*#REF!))/(#REF!+#REF!+#REF!)","v":{"$error":"#VALUE!"}},{"$f":"((AA836*#REF!)+(#REF!*#REF!)+(#REF!*#REF!))/(#REF!+#REF!+#REF!)","v":{"$error":"#VALUE!"}}]
[null,null,null,null,null,null,null,null,null,null,null,null,null,null,null,null,null,null,null,null,null,835,{"$error":"#VALUE!"},{"$f":"AVERAGE($W$3:W837)","v":{"$error":"#VALUE!"}},null,{"$error":"#VALUE!"},{"$error":"#VALUE!"},{"$f":"AVERAGE($AA$3:AA837)","v":{"$error":"#VALUE!"}},null,null,null,{"$f":"((AA837*#REF!)+(#REF!*#REF!)+(#REF!*#REF!))/(#REF!+#REF!+#REF!)","v":{"$error":"#VALUE!"}},{"$f":"((AA837*#REF!)+(#REF!*#REF!)+(#REF!*#REF!))/(#REF!+#REF!+#REF!)","v":{"$error":"#VALUE!"}},{"$f":"((AA837*#REF!)+(#REF!*#REF!)+(#REF!*#REF!))/(#REF!+#REF!+#REF!)","v":{"$error":"#VALUE!"}},{"$f":"((AA837*#REF!)+(#REF!*#REF!)+(#REF!*#REF!))/(#REF!+#REF!+#REF!)","v":{"$error":"#VALUE!"}},{"$f":"((AA837*#REF!)+(#REF!*#REF!)+(#REF!*#REF!))/(#REF!+#REF!+#REF!)","v":{"$error":"#VALUE!"}},{"$f":"((AA837*#REF!)+(#REF!*#REF!)+(#REF!*#REF!))/(#REF!+#REF!+#REF!)","v":{"$error":"#VALUE!"}},{"$f":"((AA837*#REF!)+(#REF!*#REF!)+(#REF!*#REF!))/(#REF!+#REF!+#REF!)","v":{"$error":"#VALUE!"}}]
[null,null,null,null,null,null,null,null,null,null,null,null,null,null,null,null,null,null,null,null,null,836,{"$error":"#VALUE!"},{"$f":"AVERAGE($W$3:W838)","v":{"$error":"#VALUE!"}},null,{"$error":"#VALUE!"},{"$error":"#VALUE!"},{"$f":"AVERAGE($AA$3:AA838)","v":{"$error":"#VALUE!"}},null,null,null,{"$f":"((AA838*#REF!)+(#REF!*#REF!)+(#REF!*#REF!))/(#REF!+#REF!+#REF!)","v":{"$error":"#VALUE!"}},{"$f":"((AA838*#REF!)+(#REF!*#REF!)+(#REF!*#REF!))/(#REF!+#REF!+#REF!)","v":{"$error":"#VALUE!"}},{"$f":"((AA838*#REF!)+(#REF!*#REF!)+(#REF!*#REF!))/(#REF!+#REF!+#REF!)","v":{"$error":"#VALUE!"}},{"$f":"((AA838*#REF!)+(#REF!*#REF!)+(#REF!*#REF!))/(#REF!+#REF!+#REF!)","v":{"$error":"#VALUE!"}},{"$f":"((AA838*#REF!)+(#REF!*#REF!)+(#REF!*#REF!))/(#REF!+#REF!+#REF!)","v":{"$error":"#VALUE!"}},{"$f":"((AA838*#REF!)+(#REF!*#REF!)+(#REF!*#REF!))/(#REF!+#REF!+#REF!)","v":{"$error":"#VALUE!"}},{"$f":"((AA838*#REF!)+(#REF!*#REF!)+(#REF!*#REF!))/(#REF!+#REF!+#REF!)","v":{"$error":"#VALUE!"}}]
[null,null,null,null,null,null,null,null,null,null,null,null,null,null,null,null,null,null,null,null,null,837,{"$error":"#VALUE!"},{"$f":"AVERAGE($W$3:W839)","v":{"$error":"#VALUE!"}},null,{"$error":"#VALUE!"},{"$error":"#VALUE!"},{"$f":"AVERAGE($AA$3:AA839)","v":{"$error":"#VALUE!"}},null,null,null,{"$f":"((AA839*#REF!)+(#REF!*#REF!)+(#REF!*#REF!))/(#REF!+#REF!+#REF!)","v":{"$error":"#VALUE!"}},{"$f":"((AA839*#REF!)+(#REF!*#REF!)+(#REF!*#REF!))/(#REF!+#REF!+#REF!)","v":{"$error":"#VALUE!"}},{"$f":"((AA839*#REF!)+(#REF!*#REF!)+(#REF!*#REF!))/(#REF!+#REF!+#REF!)","v":{"$error":"#VALUE!"}},{"$f":"((AA839*#REF!)+(#REF!*#REF!)+(#REF!*#REF!))/(#REF!+#REF!+#REF!)","v":{"$error":"#VALUE!"}},{"$f":"((AA839*#REF!)+(#REF!*#REF!)+(#REF!*#REF!))/(#REF!+#REF!+#REF!)","v":{"$error":"#VALUE!"}},{"$f":"((AA839*#REF!)+(#REF!*#REF!)+(#REF!*#REF!))/(#REF!+#REF!+#REF!)","v":{"$error":"#VALUE!"}},{"$f":"((AA839*#REF!)+(#REF!*#REF!)+(#REF!*#REF!))/(#REF!+#REF!+#REF!)","v":{"$error":"#VALUE!"}}]
[null,null,null,null,null,null,null,null,null,null,null,null,null,null,null,null,null,null,null,null,null,838,{"$error":"#VALUE!"},{"$f":"AVERAGE($W$3:W840)","v":{"$error":"#VALUE!"}},null,{"$error":"#VALUE!"},{"$error":"#VALUE!"},{"$f":"AVERAGE($AA$3:AA840)","v":{"$error":"#VALUE!"}},null,null,null,{"$f":"((AA840*#REF!)+(#REF!*#REF!)+(#REF!*#REF!))/(#REF!+#REF!+#REF!)","v":{"$error":"#VALUE!"}},{"$f":"((AA840*#REF!)+(#REF!*#REF!)+(#REF!*#REF!))/(#REF!+#REF!+#REF!)","v":{"$error":"#VALUE!"}},{"$f":"((AA840*#REF!)+(#REF!*#REF!)+(#REF!*#REF!))/(#REF!+#REF!+#REF!)","v":{"$error":"#VALUE!"}},{"$f":"((AA840*#REF!)+(#REF!*#REF!)+(#REF!*#REF!))/(#REF!+#REF!+#REF!)","v":{"$error":"#VALUE!"}},{"$f":"((AA840*#REF!)+(#REF!*#REF!)+(#REF!*#REF!))/(#REF!+#REF!+#REF!)","v":{"$error":"#VALUE!"}},{"$f":"((AA840*#REF!)+(#REF!*#REF!)+(#REF!*#REF!))/(#REF!+#REF!+#REF!)","v":{"$error":"#VALUE!"}},{"$f":"((AA840*#REF!)+(#REF!*#REF!)+(#REF!*#REF!))/(#REF!+#REF!+#REF!)","v":{"$error":"#VALUE!"}}]
[null,null,null,null,null,null,null,null,null,null,null,null,null,null,null,null,null,null,null,null,null,839,{"$error":"#VALUE!"},{"$f":"AVERAGE($W$3:W841)","v":{"$error":"#VALUE!"}},null,{"$error":"#VALUE!"},{"$error":"#VALUE!"},{"$f":"AVERAGE($AA$3:AA841)","v":{"$error":"#VALUE!"}},null,null,null,{"$f":"((AA841*#REF!)+(#REF!*#REF!)+(#REF!*#REF!))/(#REF!+#REF!+#REF!)","v":{"$error":"#VALUE!"}},{"$f":"((AA841*#REF!)+(#REF!*#REF!)+(#REF!*#REF!))/(#REF!+#REF!+#REF!)","v":{"$error":"#VALUE!"}},{"$f":"((AA841*#REF!)+(#REF!*#REF!)+(#REF!*#REF!))/(#REF!+#REF!+#REF!)","v":{"$error":"#VALUE!"}},{"$f":"((AA841*#REF!)+(#REF!*#REF!)+(#REF!*#REF!))/(#REF!+#REF!+#REF!)","v":{"$error":"#VALUE!"}},{"$f":"((AA841*#REF!)+(#REF!*#REF!)+(#REF!*#REF!))/(#REF!+#REF!+#REF!)","v":{"$error":"#VALUE!"}},{"$f":"((AA841*#REF!)+(#REF!*#REF!)+(#REF!*#REF!))/(#REF!+#REF!+#REF!)","v":{"$error":"#VALUE!"}},{"$f":"((AA841*#REF!)+(#REF!*#REF!)+(#REF!*#REF!))/(#REF!+#REF!+#REF!)","v":{"$error":"#VALUE!"}}]
[null,null,null,null,null,null,null,null,null,null,null,null,null,null,null,null,null,null,null,null,null,840,{"$error":"#VALUE!"},{"$f":"AVERAGE($W$3:W842)","v":{"$error":"#VALUE!"}},null,{"$error":"#VALUE!"},{"$error":"#VALUE!"},{"$f":"AVERAGE($AA$3:AA842)","v":{"$error":"#VALUE!"}},null,null,null,{"$f":"((AA842*#REF!)+(#REF!*#REF!)+(#REF!*#REF!))/(#REF!+#REF!+#REF!)","v":{"$error":"#VALUE!"}},{"$f":"((AA842*#REF!)+(#REF!*#REF!)+(#REF!*#REF!))/(#REF!+#REF!+#REF!)","v":{"$error":"#VALUE!"}},{"$f":"((AA842*#REF!)+(#REF!*#REF!)+(#REF!*#REF!))/(#REF!+#REF!+#REF!)","v":{"$error":"#VALUE!"}},{"$f":"((AA842*#REF!)+(#REF!*#REF!)+(#REF!*#REF!))/(#REF!+#REF!+#REF!)","v":{"$error":"#VALUE!"}},{"$f":"((AA842*#REF!)+(#REF!*#REF!)+(#REF!*#REF!))/(#REF!+#REF!+#REF!)","v":{"$error":"#VALUE!"}},{"$f":"((AA842*#REF!)+(#REF!*#REF!)+(#REF!*#REF!))/(#REF!+#REF!+#REF!)","v":{"$error":"#VALUE!"}},{"$f":"((AA842*#REF!)+(#REF!*#REF!)+(#REF!*#REF!))/(#REF!+#REF!+#REF!)","v":{"$error":"#VALUE!"}}]
[null,null,null,null,null,null,null,null,null,null,null,null,null,null,null,null,null,null,null,null,null,841,{"$error":"#VALUE!"},{"$f":"AVERAGE($W$3:W843)","v":{"$error":"#VALUE!"}},null,{"$error":"#VALUE!"},{"$error":"#VALUE!"},{"$f":"AVERAGE($AA$3:AA843)","v":{"$error":"#VALUE!"}},null,null,null,{"$f":"((AA843*#REF!)+(#REF!*#REF!)+(#REF!*#REF!))/(#REF!+#REF!+#REF!)","v":{"$error":"#VALUE!"}},{"$f":"((AA843*#REF!)+(#REF!*#REF!)+(#REF!*#REF!))/(#REF!+#REF!+#REF!)","v":{"$error":"#VALUE!"}},{"$f":"((AA843*#REF!)+(#REF!*#REF!)+(#REF!*#REF!))/(#REF!+#REF!+#REF!)","v":{"$error":"#VALUE!"}},{"$f":"((AA843*#REF!)+(#REF!*#REF!)+(#REF!*#REF!))/(#REF!+#REF!+#REF!)","v":{"$error":"#VALUE!"}},{"$f":"((AA843*#REF!)+(#REF!*#REF!)+(#REF!*#REF!))/(#REF!+#REF!+#REF!)","v":{"$error":"#VALUE!"}},{"$f":"((AA843*#REF!)+(#REF!*#REF!)+(#REF!*#REF!))/(#REF!+#REF!+#REF!)","v":{"$error":"#VALUE!"}},{"$f":"((AA843*#REF!)+(#REF!*#REF!)+(#REF!*#REF!))/(#REF!+#REF!+#REF!)","v":{"$error":"#VALUE!"}}]
[null,null,null,null,null,null,null,null,null,null,null,null,null,null,null,null,null,null,null,null,null,842,{"$error":"#VALUE!"},{"$f":"AVERAGE($W$3:W844)","v":{"$error":"#VALUE!"}},null,{"$error":"#VALUE!"},{"$error":"#VALUE!"},{"$f":"AVERAGE($AA$3:AA844)","v":{"$error":"#VALUE!"}},null,null,null,{"$f":"((AA844*#REF!)+(#REF!*#REF!)+(#REF!*#REF!))/(#REF!+#REF!+#REF!)","v":{"$error":"#VALUE!"}},{"$f":"((AA844*#REF!)+(#REF!*#REF!)+(#REF!*#REF!))/(#REF!+#REF!+#REF!)","v":{"$error":"#VALUE!"}},{"$f":"((AA844*#REF!)+(#REF!*#REF!)+(#REF!*#REF!))/(#REF!+#REF!+#REF!)","v":{"$error":"#VALUE!"}},{"$f":"((AA844*#REF!)+(#REF!*#REF!)+(#REF!*#REF!))/(#REF!+#REF!+#REF!)","v":{"$error":"#VALUE!"}},{"$f":"((AA844*#REF!)+(#REF!*#REF!)+(#REF!*#REF!))/(#REF!+#REF!+#REF!)","v":{"$error":"#VALUE!"}},{"$f":"((AA844*#REF!)+(#REF!*#REF!)+(#REF!*#REF!))/(#REF!+#REF!+#REF!)","v":{"$error":"#VALUE!"}},{"$f":"((AA844*#REF!)+(#REF!*#REF!)+(#REF!*#REF!))/(#REF!+#REF!+#REF!)","v":{"$error":"#VALUE!"}}]
[null,null,null,null,null,null,null,null,null,null,null,null,null,null,null,null,null,null,null,null,null,843,{"$error":"#VALUE!"},{"$f":"AVERAGE($W$3:W845)","v":{"$error":"#VALUE!"}},null,{"$error":"#VALUE!"},{"$error":"#VALUE!"},{"$f":"AVERAGE($AA$3:AA845)","v":{"$error":"#VALUE!"}},null,null,null,{"$f":"((AA845*#REF!)+(#REF!*#REF!)+(#REF!*#REF!))/(#REF!+#REF!+#REF!)","v":{"$error":"#VALUE!"}},{"$f":"((AA845*#REF!)+(#REF!*#REF!)+(#REF!*#REF!))/(#REF!+#REF!+#REF!)","v":{"$error":"#VALUE!"}},{"$f":"((AA845*#REF!)+(#REF!*#REF!)+(#REF!*#REF!))/(#REF!+#REF!+#REF!)","v":{"$error":"#VALUE!"}},{"$f":"((AA845*#REF!)+(#REF!*#REF!)+(#REF!*#REF!))/(#REF!+#REF!+#REF!)","v":{"$error":"#VALUE!"}},{"$f":"((AA845*#REF!)+(#REF!*#REF!)+(#REF!*#REF!))/(#REF!+#REF!+#REF!)","v":{"$error":"#VALUE!"}},{"$f":"((AA845*#REF!)+(#REF!*#REF!)+(#REF!*#REF!))/(#REF!+#REF!+#REF!)","v":{"$error":"#VALUE!"}},{"$f":"((AA845*#REF!)+(#REF!*#REF!)+(#REF!*#REF!))/(#REF!+#REF!+#REF!)","v":{"$error":"#VALUE!"}}]
[null,null,null,null,null,null,null,null,null,null,null,null,null,null,null,null,null,null,null,null,null,844,{"$error":"#VALUE!"},{"$f":"AVERAGE($W$3:W846)","v":{"$error":"#VALUE!"}},null,{"$error":"#VALUE!"},{"$error":"#VALUE!"},{"$f":"AVERAGE($AA$3:AA846)","v":{"$error":"#VALUE!"}},null,null,null,{"$f":"((AA846*#REF!)+(#REF!*#REF!)+(#REF!*#REF!))/(#REF!+#REF!+#REF!)","v":{"$error":"#VALUE!"}},{"$f":"((AA846*#REF!)+(#REF!*#REF!)+(#REF!*#REF!))/(#REF!+#REF!+#REF!)","v":{"$error":"#VALUE!"}},{"$f":"((AA846*#REF!)+(#REF!*#REF!)+(#REF!*#REF!))/(#REF!+#REF!+#REF!)","v":{"$error":"#VALUE!"}},{"$f":"((AA846*#REF!)+(#REF!*#REF!)+(#REF!*#REF!))/(#REF!+#REF!+#REF!)","v":{"$error":"#VALUE!"}},{"$f":"((AA846*#REF!)+(#REF!*#REF!)+(#REF!*#REF!))/(#REF!+#REF!+#REF!)","v":{"$error":"#VALUE!"}},{"$f":"((AA846*#REF!)+(#REF!*#REF!)+(#REF!*#REF!))/(#REF!+#REF!+#REF!)","v":{"$error":"#VALUE!"}},{"$f":"((AA846*#REF!)+(#REF!*#REF!)+(#REF!*#REF!))/(#REF!+#REF!+#REF!)","v":{"$error":"#VALUE!"}}]
[null,null,null,null,null,null,null,null,null,null,null,null,null,null,null,null,null,null,null,null,null,845,{"$error":"#VALUE!"},{"$f":"AVERAGE($W$3:W847)","v":{"$error":"#VALUE!"}},null,{"$error":"#VALUE!"},{"$error":"#VALUE!"},{"$f":"AVERAGE($AA$3:AA847)","v":{"$error":"#VALUE!"}},null,null,null,{"$f":"((AA847*#REF!)+(#REF!*#REF!)+(#REF!*#REF!))/(#REF!+#REF!+#REF!)","v":{"$error":"#VALUE!"}},{"$f":"((AA847*#REF!)+(#REF!*#REF!)+(#REF!*#REF!))/(#REF!+#REF!+#REF!)","v":{"$error":"#VALUE!"}},{"$f":"((AA847*#REF!)+(#REF!*#REF!)+(#REF!*#REF!))/(#REF!+#REF!+#REF!)","v":{"$error":"#VALUE!"}},{"$f":"((AA847*#REF!)+(#REF!*#REF!)+(#REF!*#REF!))/(#REF!+#REF!+#REF!)","v":{"$error":"#VALUE!"}},{"$f":"((AA847*#REF!)+(#REF!*#REF!)+(#REF!*#REF!))/(#REF!+#REF!+#REF!)","v":{"$error":"#VALUE!"}},{"$f":"((AA847*#REF!)+(#REF!*#REF!)+(#REF!*#REF!))/(#REF!+#REF!+#REF!)","v":{"$error":"#VALUE!"}},{"$f":"((AA847*#REF!)+(#REF!*#REF!)+(#REF!*#REF!))/(#REF!+#REF!+#REF!)","v":{"$error":"#VALUE!"}}]
[null,null,null,null,null,null,null,null,null,null,null,null,null,null,null,null,null,null,null,null,null,846,{"$error":"#VALUE!"},{"$f":"AVERAGE($W$3:W848)","v":{"$error":"#VALUE!"}},null,{"$error":"#VALUE!"},{"$error":"#VALUE!"},{"$f":"AVERAGE($AA$3:AA848)","v":{"$error":"#VALUE!"}},null,null,null,{"$f":"((AA848*#REF!)+(#REF!*#REF!)+(#REF!*#REF!))/(#REF!+#REF!+#REF!)","v":{"$error":"#VALUE!"}},{"$f":"((AA848*#REF!)+(#REF!*#REF!)+(#REF!*#REF!))/(#REF!+#REF!+#REF!)","v":{"$error":"#VALUE!"}},{"$f":"((AA848*#REF!)+(#REF!*#REF!)+(#REF!*#REF!))/(#REF!+#REF!+#REF!)","v":{"$error":"#VALUE!"}},{"$f":"((AA848*#REF!)+(#REF!*#REF!)+(#REF!*#REF!))/(#REF!+#REF!+#REF!)","v":{"$error":"#VALUE!"}},{"$f":"((AA848*#REF!)+(#REF!*#REF!)+(#REF!*#REF!))/(#REF!+#REF!+#REF!)","v":{"$error":"#VALUE!"}},{"$f":"((AA848*#REF!)+(#REF!*#REF!)+(#REF!*#REF!))/(#REF!+#REF!+#REF!)","v":{"$error":"#VALUE!"}},{"$f":"((AA848*#REF!)+(#REF!*#REF!)+(#REF!*#REF!))/(#REF!+#REF!+#REF!)","v":{"$error":"#VALUE!"}}]
[null,null,null,null,null,null,null,null,null,null,null,null,null,null,null,null,null,null,null,null,null,847,{"$error":"#VALUE!"},{"$f":"AVERAGE($W$3:W849)","v":{"$error":"#VALUE!"}},null,{"$error":"#VALUE!"},{"$error":"#VALUE!"},{"$f":"AVERAGE($AA$3:AA849)","v":{"$error":"#VALUE!"}},null,null,null,{"$f":"((AA849*#REF!)+(#REF!*#REF!)+(#REF!*#REF!))/(#REF!+#REF!+#REF!)","v":{"$error":"#VALUE!"}},{"$f":"((AA849*#REF!)+(#REF!*#REF!)+(#REF!*#REF!))/(#REF!+#REF!+#REF!)","v":{"$error":"#VALUE!"}},{"$f":"((AA849*#REF!)+(#REF!*#REF!)+(#REF!*#REF!))/(#REF!+#REF!+#REF!)","v":{"$error":"#VALUE!"}},{"$f":"((AA849*#REF!)+(#REF!*#REF!)+(#REF!*#REF!))/(#REF!+#REF!+#REF!)","v":{"$error":"#VALUE!"}},{"$f":"((AA849*#REF!)+(#REF!*#REF!)+(#REF!*#REF!))/(#REF!+#REF!+#REF!)","v":{"$error":"#VALUE!"}},{"$f":"((AA849*#REF!)+(#REF!*#REF!)+(#REF!*#REF!))/(#REF!+#REF!+#REF!)","v":{"$error":"#VALUE!"}},{"$f":"((AA849*#REF!)+(#REF!*#REF!)+(#REF!*#REF!))/(#REF!+#REF!+#REF!)","v":{"$error":"#VALUE!"}}]
[null,null,null,null,null,null,null,null,null,null,null,null,null,null,null,null,null,null,null,null,null,848,{"$error":"#VALUE!"},{"$f":"AVERAGE($W$3:W850)","v":{"$error":"#VALUE!"}},null,{"$error":"#VALUE!"},{"$error":"#VALUE!"},{"$f":"AVERAGE($AA$3:AA850)","v":{"$error":"#VALUE!"}},null,null,null,{"$f":"((AA850*#REF!)+(#REF!*#REF!)+(#REF!*#REF!))/(#REF!+#REF!+#REF!)","v":{"$error":"#VALUE!"}},{"$f":"((AA850*#REF!)+(#REF!*#REF!)+(#REF!*#REF!))/(#REF!+#REF!+#REF!)","v":{"$error":"#VALUE!"}},{"$f":"((AA850*#REF!)+(#REF!*#REF!)+(#REF!*#REF!))/(#REF!+#REF!+#REF!)","v":{"$error":"#VALUE!"}},{"$f":"((AA850*#REF!)+(#REF!*#REF!)+(#REF!*#REF!))/(#REF!+#REF!+#REF!)","v":{"$error":"#VALUE!"}},{"$f":"((AA850*#REF!)+(#REF!*#REF!)+(#REF!*#REF!))/(#REF!+#REF!+#REF!)","v":{"$error":"#VALUE!"}},{"$f":"((AA850*#REF!)+(#REF!*#REF!)+(#REF!*#REF!))/(#REF!+#REF!+#REF!)","v":{"$error":"#VALUE!"}},{"$f":"((AA850*#REF!)+(#REF!*#REF!)+(#REF!*#REF!))/(#REF!+#REF!+#REF!)","v":{"$error":"#VALUE!"}}]
[null,null,null,null,null,null,null,null,null,null,null,null,null,null,null,null,null,null,null,null,null,849,{"$error":"#VALUE!"},{"$f":"AVERAGE($W$3:W851)","v":{"$error":"#VALUE!"}},null,{"$error":"#VALUE!"},{"$error":"#VALUE!"},{"$f":"AVERAGE($AA$3:AA851)","v":{"$error":"#VALUE!"}},null,null,null,{"$f":"((AA851*#REF!)+(#REF!*#REF!)+(#REF!*#REF!))/(#REF!+#REF!+#REF!)","v":{"$error":"#VALUE!"}},{"$f":"((AA851*#REF!)+(#REF!*#REF!)+(#REF!*#REF!))/(#REF!+#REF!+#REF!)","v":{"$error":"#VALUE!"}},{"$f":"((AA851*#REF!)+(#REF!*#REF!)+(#REF!*#REF!))/(#REF!+#REF!+#REF!)","v":{"$error":"#VALUE!"}},{"$f":"((AA851*#REF!)+(#REF!*#REF!)+(#REF!*#REF!))/(#REF!+#REF!+#REF!)","v":{"$error":"#VALUE!"}},{"$f":"((AA851*#REF!)+(#REF!*#REF!)+(#REF!*#REF!))/(#REF!+#REF!+#REF!)","v":{"$error":"#VALUE!"}},{"$f":"((AA851*#REF!)+(#REF!*#REF!)+(#REF!*#REF!))/(#REF!+#REF!+#REF!)","v":{"$error":"#VALUE!"}},{"$f":"((AA851*#REF!)+(#REF!*#REF!)+(#REF!*#REF!))/(#REF!+#REF!+#REF!)","v":{"$error":"#VALUE!"}}]
[null,null,null,null,null,null,null,null,null,null,null,null,null,null,null,null,null,null,null,null,null,850,{"$error":"#VALUE!"},{"$f":"AVERAGE($W$3:W852)","v":{"$error":"#VALUE!"}},null,{"$error":"#VALUE!"},{"$error":"#VALUE!"},{"$f":"AVERAGE($AA$3:AA852)","v":{"$error":"#VALUE!"}},null,null,null,{"$f":"((AA852*#REF!)+(#REF!*#REF!)+(#REF!*#REF!))/(#REF!+#REF!+#REF!)","v":{"$error":"#VALUE!"}},{"$f":"((AA852*#REF!)+(#REF!*#REF!)+(#REF!*#REF!))/(#REF!+#REF!+#REF!)","v":{"$error":"#VALUE!"}},{"$f":"((AA852*#REF!)+(#REF!*#REF!)+(#REF!*#REF!))/(#REF!+#REF!+#REF!)","v":{"$error":"#VALUE!"}},{"$f":"((AA852*#REF!)+(#REF!*#REF!)+(#REF!*#REF!))/(#REF!+#REF!+#REF!)","v":{"$error":"#VALUE!"}},{"$f":"((AA852*#REF!)+(#REF!*#REF!)+(#REF!*#REF!))/(#REF!+#REF!+#REF!)","v":{"$error":"#VALUE!"}},{"$f":"((AA852*#REF!)+(#REF!*#REF!)+(#REF!*#REF!))/(#REF!+#REF!+#REF!)","v":{"$error":"#VALUE!"}},{"$f":"((AA852*#REF!)+(#REF!*#REF!)+(#REF!*#REF!))/(#REF!+#REF!+#REF!)","v":{"$error":"#VALUE!"}}]
[null,null,null,null,null,null,null,null,null,null,null,null,null,null,null,null,null,null,null,null,null,851,{"$error":"#VALUE!"},{"$f":"AVERAGE($W$3:W853)","v":{"$error":"#VALUE!"}},null,{"$error":"#VALUE!"},{"$error":"#VALUE!"},{"$f":"AVERAGE($AA$3:AA853)","v":{"$error":"#VALUE!"}},null,null,null,{"$f":"((AA853*#REF!)+(#REF!*#REF!)+(#REF!*#REF!))/(#REF!+#REF!+#REF!)","v":{"$error":"#VALUE!"}},{"$f":"((AA853*#REF!)+(#REF!*#REF!)+(#REF!*#REF!))/(#REF!+#REF!+#REF!)","v":{"$error":"#VALUE!"}},{"$f":"((AA853*#REF!)+(#REF!*#REF!)+(#REF!*#REF!))/(#REF!+#REF!+#REF!)","v":{"$error":"#VALUE!"}},{"$f":"((AA853*#REF!)+(#REF!*#REF!)+(#REF!*#REF!))/(#REF!+#REF!+#REF!)","v":{"$error":"#VALUE!"}},{"$f":"((AA853*#REF!)+(#REF!*#REF!)+(#REF!*#REF!))/(#REF!+#REF!+#REF!)","v":{"$error":"#VALUE!"}},{"$f":"((AA853*#REF!)+(#REF!*#REF!)+(#REF!*#REF!))/(#REF!+#REF!+#REF!)","v":{"$error":"#VALUE!"}},{"$f":"((AA853*#REF!)+(#REF!*#REF!)+(#REF!*#REF!))/(#REF!+#REF!+#REF!)","v":{"$error":"#VALUE!"}}]
[null,null,null,null,null,null,null,null,null,null,null,null,null,null,null,null,null,null,null,null,null,852,{"$error":"#VALUE!"},{"$f":"AVERAGE($W$3:W854)","v":{"$error":"#VALUE!"}},null,{"$error":"#VALUE!"},{"$error":"#VALUE!"},{"$f":"AVERAGE($AA$3:AA854)","v":{"$error":"#VALUE!"}},null,null,null,{"$f":"((AA854*#REF!)+(#REF!*#REF!)+(#REF!*#REF!))/(#REF!+#REF!+#REF!)","v":{"$error":"#VALUE!"}},{"$f":"((AA854*#REF!)+(#REF!*#REF!)+(#REF!*#REF!))/(#REF!+#REF!+#REF!)","v":{"$error":"#VALUE!"}},{"$f":"((AA854*#REF!)+(#REF!*#REF!)+(#REF!*#REF!))/(#REF!+#REF!+#REF!)","v":{"$error":"#VALUE!"}},{"$f":"((AA854*#REF!)+(#REF!*#REF!)+(#REF!*#REF!))/(#REF!+#REF!+#REF!)","v":{"$error":"#VALUE!"}},{"$f":"((AA854*#REF!)+(#REF!*#REF!)+(#REF!*#REF!))/(#REF!+#REF!+#REF!)","v":{"$error":"#VALUE!"}},{"$f":"((AA854*#REF!)+(#REF!*#REF!)+(#REF!*#REF!))/(#REF!+#REF!+#REF!)","v":{"$error":"#VALUE!"}},{"$f":"((AA854*#REF!)+(#REF!*#REF!)+(#REF!*#REF!))/(#REF!+#REF!+#REF!)","v":{"$error":"#VALUE!"}}]
[null,null,null,null,null,null,null,null,null,null,null,null,null,null,null,null,null,null,null,null,null,853,{"$error":"#VALUE!"},{"$f":"AVERAGE($W$3:W855)","v":{"$error":"#VALUE!"}},null,{"$error":"#VALUE!"},{"$error":"#VALUE!"},{"$f":"AVERAGE($AA$3:AA855)","v":{"$error":"#VALUE!"}},null,null,null,{"$f":"((AA855*#REF!)+(#REF!*#REF!)+(#REF!*#REF!))/(#REF!+#REF!+#REF!)","v":{"$error":"#VALUE!"}},{"$f":"((AA855*#REF!)+(#REF!*#REF!)+(#REF!*#REF!))/(#REF!+#REF!+#REF!)","v":{"$error":"#VALUE!"}},{"$f":"((AA855*#REF!)+(#REF!*#REF!)+(#REF!*#REF!))/(#REF!+#REF!+#REF!)","v":{"$error":"#VALUE!"}},{"$f":"((AA855*#REF!)+(#REF!*#REF!)+(#REF!*#REF!))/(#REF!+#REF!+#REF!)","v":{"$error":"#VALUE!"}},{"$f":"((AA855*#REF!)+(#REF!*#REF!)+(#REF!*#REF!))/(#REF!+#REF!+#REF!)","v":{"$error":"#VALUE!"}},{"$f":"((AA855*#REF!)+(#REF!*#REF!)+(#REF!*#REF!))/(#REF!+#REF!+#REF!)","v":{"$error":"#VALUE!"}},{"$f":"((AA855*#REF!)+(#REF!*#REF!)+(#REF!*#REF!))/(#REF!+#REF!+#REF!)","v":{"$error":"#VALUE!"}}]
[null,null,null,null,null,null,null,null,null,null,null,null,null,null,null,null,null,null,null,null,null,854,{"$error":"#VALUE!"},{"$f":"AVERAGE($W$3:W856)","v":{"$error":"#VALUE!"}},null,{"$error":"#VALUE!"},{"$error":"#VALUE!"},{"$f":"AVERAGE($AA$3:AA856)","v":{"$error":"#VALUE!"}},null,null,null,{"$f":"((AA856*#REF!)+(#REF!*#REF!)+(#REF!*#REF!))/(#REF!+#REF!+#REF!)","v":{"$error":"#VALUE!"}},{"$f":"((AA856*#REF!)+(#REF!*#REF!)+(#REF!*#REF!))/(#REF!+#REF!+#REF!)","v":{"$error":"#VALUE!"}},{"$f":"((AA856*#REF!)+(#REF!*#REF!)+(#REF!*#REF!))/(#REF!+#REF!+#REF!)","v":{"$error":"#VALUE!"}},{"$f":"((AA856*#REF!)+(#REF!*#REF!)+(#REF!*#REF!))/(#REF!+#REF!+#REF!)","v":{"$error":"#VALUE!"}},{"$f":"((AA856*#REF!)+(#REF!*#REF!)+(#REF!*#REF!))/(#REF!+#REF!+#REF!)","v":{"$error":"#VALUE!"}},{"$f":"((AA856*#REF!)+(#REF!*#REF!)+(#REF!*#REF!))/(#REF!+#REF!+#REF!)","v":{"$error":"#VALUE!"}},{"$f":"((AA856*#REF!)+(#REF!*#REF!)+(#REF!*#REF!))/(#REF!+#REF!+#REF!)","v":{"$error":"#VALUE!"}}]
[null,null,null,null,null,null,null,null,null,null,null,null,null,null,null,null,null,null,null,null,null,855,{"$error":"#VALUE!"},{"$f":"AVERAGE($W$3:W857)","v":{"$error":"#VALUE!"}},null,{"$error":"#VALUE!"},{"$error":"#VALUE!"},{"$f":"AVERAGE($AA$3:AA857)","v":{"$error":"#VALUE!"}},null,null,null,{"$f":"((AA857*#REF!)+(#REF!*#REF!)+(#REF!*#REF!))/(#REF!+#REF!+#REF!)","v":{"$error":"#VALUE!"}},{"$f":"((AA857*#REF!)+(#REF!*#REF!)+(#REF!*#REF!))/(#REF!+#REF!+#REF!)","v":{"$error":"#VALUE!"}},{"$f":"((AA857*#REF!)+(#REF!*#REF!)+(#REF!*#REF!))/(#REF!+#REF!+#REF!)","v":{"$error":"#VALUE!"}},{"$f":"((AA857*#REF!)+(#REF!*#REF!)+(#REF!*#REF!))/(#REF!+#REF!+#REF!)","v":{"$error":"#VALUE!"}},{"$f":"((AA857*#REF!)+(#REF!*#REF!)+(#REF!*#REF!))/(#REF!+#REF!+#REF!)","v":{"$error":"#VALUE!"}},{"$f":"((AA857*#REF!)+(#REF!*#REF!)+(#REF!*#REF!))/(#REF!+#REF!+#REF!)","v":{"$error":"#VALUE!"}},{"$f":"((AA857*#REF!)+(#REF!*#REF!)+(#REF!*#REF!))/(#REF!+#REF!+#REF!)","v":{"$error":"#VALUE!"}}]
[null,null,null,null,null,null,null,null,null,null,null,null,null,null,null,null,null,null,null,null,null,856,{"$error":"#VALUE!"},{"$f":"AVERAGE($W$3:W858)","v":{"$error":"#VALUE!"}},null,{"$error":"#VALUE!"},{"$error":"#VALUE!"},{"$f":"AVERAGE($AA$3:AA858)","v":{"$error":"#VALUE!"}},null,null,null,{"$f":"((AA858*#REF!)+(#REF!*#REF!)+(#REF!*#REF!))/(#REF!+#REF!+#REF!)","v":{"$error":"#VALUE!"}},{"$f":"((AA858*#REF!)+(#REF!*#REF!)+(#REF!*#REF!))/(#REF!+#REF!+#REF!)","v":{"$error":"#VALUE!"}},{"$f":"((AA858*#REF!)+(#REF!*#REF!)+(#REF!*#REF!))/(#REF!+#REF!+#REF!)","v":{"$error":"#VALUE!"}},{"$f":"((AA858*#REF!)+(#REF!*#REF!)+(#REF!*#REF!))/(#REF!+#REF!+#REF!)","v":{"$error":"#VALUE!"}},{"$f":"((AA858*#REF!)+(#REF!*#REF!)+(#REF!*#REF!))/(#REF!+#REF!+#REF!)","v":{"$error":"#VALUE!"}},{"$f":"((AA858*#REF!)+(#REF!*#REF!)+(#REF!*#REF!))/(#REF!+#REF!+#REF!)","v":{"$error":"#VALUE!"}},{"$f":"((AA858*#REF!)+(#REF!*#REF!)+(#REF!*#REF!))/(#REF!+#REF!+#REF!)","v":{"$error":"#VALUE!"}}]
[null,null,null,null,null,null,null,null,null,null,null,null,null,null,null,null,null,null,null,null,null,857,{"$error":"#VALUE!"},{"$f":"AVERAGE($W$3:W859)","v":{"$error":"#VALUE!"}},null,{"$error":"#VALUE!"},{"$error":"#VALUE!"},{"$f":"AVERAGE($AA$3:AA859)","v":{"$error":"#VALUE!"}},null,null,null,{"$f":"((AA859*#REF!)+(#REF!*#REF!)+(#REF!*#REF!))/(#REF!+#REF!+#REF!)","v":{"$error":"#VALUE!"}},{"$f":"((AA859*#REF!)+(#REF!*#REF!)+(#REF!*#REF!))/(#REF!+#REF!+#REF!)","v":{"$error":"#VALUE!"}},{"$f":"((AA859*#REF!)+(#REF!*#REF!)+(#REF!*#REF!))/(#REF!+#REF!+#REF!)","v":{"$error":"#VALUE!"}},{"$f":"((AA859*#REF!)+(#REF!*#REF!)+(#REF!*#REF!))/(#REF!+#REF!+#REF!)","v":{"$error":"#VALUE!"}},{"$f":"((AA859*#REF!)+(#REF!*#REF!)+(#REF!*#REF!))/(#REF!+#REF!+#REF!)","v":{"$error":"#VALUE!"}},{"$f":"((AA859*#REF!)+(#REF!*#REF!)+(#REF!*#REF!))/(#REF!+#REF!+#REF!)","v":{"$error":"#VALUE!"}},{"$f":"((AA859*#REF!)+(#REF!*#REF!)+(#REF!*#REF!))/(#REF!+#REF!+#REF!)","v":{"$error":"#VALUE!"}}]
[null,null,null,null,null,null,null,null,null,null,null,null,null,null,null,null,null,null,null,null,null,858,{"$error":"#VALUE!"},{"$f":"AVERAGE($W$3:W860)","v":{"$error":"#VALUE!"}},null,{"$error":"#VALUE!"},{"$error":"#VALUE!"},{"$f":"AVERAGE($AA$3:AA860)","v":{"$error":"#VALUE!"}},null,null,null,{"$f":"((AA860*#REF!)+(#REF!*#REF!)+(#REF!*#REF!))/(#REF!+#REF!+#REF!)","v":{"$error":"#VALUE!"}},{"$f":"((AA860*#REF!)+(#REF!*#REF!)+(#REF!*#REF!))/(#REF!+#REF!+#REF!)","v":{"$error":"#VALUE!"}},{"$f":"((AA860*#REF!)+(#REF!*#REF!)+(#REF!*#REF!))/(#REF!+#REF!+#REF!)","v":{"$error":"#VALUE!"}},{"$f":"((AA860*#REF!)+(#REF!*#REF!)+(#REF!*#REF!))/(#REF!+#REF!+#REF!)","v":{"$error":"#VALUE!"}},{"$f":"((AA860*#REF!)+(#REF!*#REF!)+(#REF!*#REF!))/(#REF!+#REF!+#REF!)","v":{"$error":"#VALUE!"}},{"$f":"((AA860*#REF!)+(#REF!*#REF!)+(#REF!*#REF!))/(#REF!+#REF!+#REF!)","v":{"$error":"#VALUE!"}},{"$f":"((AA860*#REF!)+(#REF!*#REF!)+(#REF!*#REF!))/(#REF!+#REF!+#REF!)","v":{"$error":"#VALUE!"}}]
[null,null,null,null,null,null,null,null,null,null,null,null,null,null,null,null,null,null,null,null,null,859,{"$error":"#VALUE!"},{"$f":"AVERAGE($W$3:W861)","v":{"$error":"#VALUE!"}},null,{"$error":"#VALUE!"},{"$error":"#VALUE!"},{"$f":"AVERAGE($AA$3:AA861)","v":{"$error":"#VALUE!"}},null,null,null,{"$f":"((AA861*#REF!)+(#REF!*#REF!)+(#REF!*#REF!))/(#REF!+#REF!+#REF!)","v":{"$error":"#VALUE!"}},{"$f":"((AA861*#REF!)+(#REF!*#REF!)+(#REF!*#REF!))/(#REF!+#REF!+#REF!)","v":{"$error":"#VALUE!"}},{"$f":"((AA861*#REF!)+(#REF!*#REF!)+(#REF!*#REF!))/(#REF!+#REF!+#REF!)","v":{"$error":"#VALUE!"}},{"$f":"((AA861*#REF!)+(#REF!*#REF!)+(#REF!*#REF!))/(#REF!+#REF!+#REF!)","v":{"$error":"#VALUE!"}},{"$f":"((AA861*#REF!)+(#REF!*#REF!)+(#REF!*#REF!))/(#REF!+#REF!+#REF!)","v":{"$error":"#VALUE!"}},{"$f":"((AA861*#REF!)+(#REF!*#REF!)+(#REF!*#REF!))/(#REF!+#REF!+#REF!)","v":{"$error":"#VALUE!"}},{"$f":"((AA861*#REF!)+(#REF!*#REF!)+(#REF!*#REF!))/(#REF!+#REF!+#REF!)","v":{"$error":"#VALUE!"}}]
[null,null,null,null,null,null,null,null,null,null,null,null,null,null,null,null,null,null,null,null,null,860,{"$error":"#VALUE!"},{"$f":"AVERAGE($W$3:W862)","v":{"$error":"#VALUE!"}},null,{"$error":"#VALUE!"},{"$error":"#VALUE!"},{"$f":"AVERAGE($AA$3:AA862)","v":{"$error":"#VALUE!"}},null,null,null,{"$f":"((AA862*#REF!)+(#REF!*#REF!)+(#REF!*#REF!))/(#REF!+#REF!+#REF!)","v":{"$error":"#VALUE!"}},{"$f":"((AA862*#REF!)+(#REF!*#REF!)+(#REF!*#REF!))/(#REF!+#REF!+#REF!)","v":{"$error":"#VALUE!"}},{"$f":"((AA862*#REF!)+(#REF!*#REF!)+(#REF!*#REF!))/(#REF!+#REF!+#REF!)","v":{"$error":"#VALUE!"}},{"$f":"((AA862*#REF!)+(#REF!*#REF!)+(#REF!*#REF!))/(#REF!+#REF!+#REF!)","v":{"$error":"#VALUE!"}},{"$f":"((AA862*#REF!)+(#REF!*#REF!)+(#REF!*#REF!))/(#REF!+#REF!+#REF!)","v":{"$error":"#VALUE!"}},{"$f":"((AA862*#REF!)+(#REF!*#REF!)+(#REF!*#REF!))/(#REF!+#REF!+#REF!)","v":{"$error":"#VALUE!"}},{"$f":"((AA862*#REF!)+(#REF!*#REF!)+(#REF!*#REF!))/(#REF!+#REF!+#REF!)","v":{"$error":"#VALUE!"}}]
[null,null,null,null,null,null,null,null,null,null,null,null,null,null,null,null,null,null,null,null,null,861,{"$error":"#VALUE!"},{"$f":"AVERAGE($W$3:W863)","v":{"$error":"#VALUE!"}},null,{"$error":"#VALUE!"},{"$error":"#VALUE!"},{"$f":"AVERAGE($AA$3:AA863)","v":{"$error":"#VALUE!"}},null,null,null,{"$f":"((AA863*#REF!)+(#REF!*#REF!)+(#REF!*#REF!))/(#REF!+#REF!+#REF!)","v":{"$error":"#VALUE!"}},{"$f":"((AA863*#REF!)+(#REF!*#REF!)+(#REF!*#REF!))/(#REF!+#REF!+#REF!)","v":{"$error":"#VALUE!"}},{"$f":"((AA863*#REF!)+(#REF!*#REF!)+(#REF!*#REF!))/(#REF!+#REF!+#REF!)","v":{"$error":"#VALUE!"}},{"$f":"((AA863*#REF!)+(#REF!*#REF!)+(#REF!*#REF!))/(#REF!+#REF!+#REF!)","v":{"$error":"#VALUE!"}},{"$f":"((AA863*#REF!)+(#REF!*#REF!)+(#REF!*#REF!))/(#REF!+#REF!+#REF!)","v":{"$error":"#VALUE!"}},{"$f":"((AA863*#REF!)+(#REF!*#REF!)+(#REF!*#REF!))/(#REF!+#REF!+#REF!)","v":{"$error":"#VALUE!"}},{"$f":"((AA863*#REF!)+(#REF!*#REF!)+(#REF!*#REF!))/(#REF!+#REF!+#REF!)","v":{"$error":"#VALUE!"}}]
[null,null,null,null,null,null,null,null,null,null,null,null,null,null,null,null,null,null,null,null,null,862,{"$error":"#VALUE!"},{"$f":"AVERAGE($W$3:W864)","v":{"$error":"#VALUE!"}},null,{"$error":"#VALUE!"},{"$error":"#VALUE!"},{"$f":"AVERAGE($AA$3:AA864)","v":{"$error":"#VALUE!"}},null,null,null,{"$f":"((AA864*#REF!)+(#REF!*#REF!)+(#REF!*#REF!))/(#REF!+#REF!+#REF!)","v":{"$error":"#VALUE!"}},{"$f":"((AA864*#REF!)+(#REF!*#REF!)+(#REF!*#REF!))/(#REF!+#REF!+#REF!)","v":{"$error":"#VALUE!"}},{"$f":"((AA864*#REF!)+(#REF!*#REF!)+(#REF!*#REF!))/(#REF!+#REF!+#REF!)","v":{"$error":"#VALUE!"}},{"$f":"((AA864*#REF!)+(#REF!*#REF!)+(#REF!*#REF!))/(#REF!+#REF!+#REF!)","v":{"$error":"#VALUE!"}},{"$f":"((AA864*#REF!)+(#REF!*#REF!)+(#REF!*#REF!))/(#REF!+#REF!+#REF!)","v":{"$error":"#VALUE!"}},{"$f":"((AA864*#REF!)+(#REF!*#REF!)+(#REF!*#REF!))/(#REF!+#REF!+#REF!)","v":{"$error":"#VALUE!"}},{"$f":"((AA864*#REF!)+(#REF!*#REF!)+(#REF!*#REF!))/(#REF!+#REF!+#REF!)","v":{"$error":"#VALUE!"}}]
[null,null,null,null,null,null,null,null,null,null,null,null,null,null,null,null,null,null,null,null,null,863,{"$error":"#VALUE!"},{"$f":"AVERAGE($W$3:W865)","v":{"$error":"#VALUE!"}},null,{"$error":"#VALUE!"},{"$error":"#VALUE!"},{"$f":"AVERAGE($AA$3:AA865)","v":{"$error":"#VALUE!"}},null,null,null,{"$f":"((AA865*#REF!)+(#REF!*#REF!)+(#REF!*#REF!))/(#REF!+#REF!+#REF!)","v":{"$error":"#VALUE!"}},{"$f":"((AA865*#REF!)+(#REF!*#REF!)+(#REF!*#REF!))/(#REF!+#REF!+#REF!)","v":{"$error":"#VALUE!"}},{"$f":"((AA865*#REF!)+(#REF!*#REF!)+(#REF!*#REF!))/(#REF!+#REF!+#REF!)","v":{"$error":"#VALUE!"}},{"$f":"((AA865*#REF!)+(#REF!*#REF!)+(#REF!*#REF!))/(#REF!+#REF!+#REF!)","v":{"$error":"#VALUE!"}},{"$f":"((AA865*#REF!)+(#REF!*#REF!)+(#REF!*#REF!))/(#REF!+#REF!+#REF!)","v":{"$error":"#VALUE!"}},{"$f":"((AA865*#REF!)+(#REF!*#REF!)+(#REF!*#REF!))/(#REF!+#REF!+#REF!)","v":{"$error":"#VALUE!"}},{"$f":"((AA865*#REF!)+(#REF!*#REF!)+(#REF!*#REF!))/(#REF!+#REF!+#REF!)","v":{"$error":"#VALUE!"}}]
[null,null,null,null,null,null,null,null,null,null,null,null,null,null,null,null,null,null,null,null,null,864,{"$error":"#VALUE!"},{"$f":"AVERAGE($W$3:W866)","v":{"$error":"#VALUE!"}},null,{"$error":"#VALUE!"},{"$error":"#VALUE!"},{"$f":"AVERAGE($AA$3:AA866)","v":{"$error":"#VALUE!"}},null,null,null,{"$f":"((AA866*#REF!)+(#REF!*#REF!)+(#REF!*#REF!))/(#REF!+#REF!+#REF!)","v":{"$error":"#VALUE!"}},{"$f":"((AA866*#REF!)+(#REF!*#REF!)+(#REF!*#REF!))/(#REF!+#REF!+#REF!)","v":{"$error":"#VALUE!"}},{"$f":"((AA866*#REF!)+(#REF!*#REF!)+(#REF!*#REF!))/(#REF!+#REF!+#REF!)","v":{"$error":"#VALUE!"}},{"$f":"((AA866*#REF!)+(#REF!*#REF!)+(#REF!*#REF!))/(#REF!+#REF!+#REF!)","v":{"$error":"#VALUE!"}},{"$f":"((AA866*#REF!)+(#REF!*#REF!)+(#REF!*#REF!))/(#REF!+#REF!+#REF!)","v":{"$error":"#VALUE!"}},{"$f":"((AA866*#REF!)+(#REF!*#REF!)+(#REF!*#REF!))/(#REF!+#REF!+#REF!)","v":{"$error":"#VALUE!"}},{"$f":"((AA866*#REF!)+(#REF!*#REF!)+(#REF!*#REF!))/(#REF!+#REF!+#REF!)","v":{"$error":"#VALUE!"}}]
[null,null,null,null,null,null,null,null,null,null,null,null,null,null,null,null,null,null,null,null,null,865,{"$error":"#VALUE!"},{"$f":"AVERAGE($W$3:W867)","v":{"$error":"#VALUE!"}},null,{"$error":"#VALUE!"},{"$error":"#VALUE!"},{"$f":"AVERAGE($AA$3:AA867)","v":{"$error":"#VALUE!"}},null,null,null,{"$f":"((AA867*#REF!)+(#REF!*#REF!)+(#REF!*#REF!))/(#REF!+#REF!+#REF!)","v":{"$error":"#VALUE!"}},{"$f":"((AA867*#REF!)+(#REF!*#REF!)+(#REF!*#REF!))/(#REF!+#REF!+#REF!)","v":{"$error":"#VALUE!"}},{"$f":"((AA867*#REF!)+(#REF!*#REF!)+(#REF!*#REF!))/(#REF!+#REF!+#REF!)","v":{"$error":"#VALUE!"}},{"$f":"((AA867*#REF!)+(#REF!*#REF!)+(#REF!*#REF!))/(#REF!+#REF!+#REF!)","v":{"$error":"#VALUE!"}},{"$f":"((AA867*#REF!)+(#REF!*#REF!)+(#REF!*#REF!))/(#REF!+#REF!+#REF!)","v":{"$error":"#VALUE!"}},{"$f":"((AA867*#REF!)+(#REF!*#REF!)+(#REF!*#REF!))/(#REF!+#REF!+#REF!)","v":{"$error":"#VALUE!"}},{"$f":"((AA867*#REF!)+(#REF!*#REF!)+(#REF!*#REF!))/(#REF!+#REF!+#REF!)","v":{"$error":"#VALUE!"}}]
[null,null,null,null,null,null,null,null,null,null,null,null,null,null,null,null,null,null,null,null,null,866,{"$error":"#VALUE!"},{"$f":"AVERAGE($W$3:W868)","v":{"$error":"#VALUE!"}},null,{"$error":"#VALUE!"},{"$error":"#VALUE!"},{"$f":"AVERAGE($AA$3:AA868)","v":{"$error":"#VALUE!"}},null,null,null,{"$f":"((AA868*#REF!)+(#REF!*#REF!)+(#REF!*#REF!))/(#REF!+#REF!+#REF!)","v":{"$error":"#VALUE!"}},{"$f":"((AA868*#REF!)+(#REF!*#REF!)+(#REF!*#REF!))/(#REF!+#REF!+#REF!)","v":{"$error":"#VALUE!"}},{"$f":"((AA868*#REF!)+(#REF!*#REF!)+(#REF!*#REF!))/(#REF!+#REF!+#REF!)","v":{"$error":"#VALUE!"}},{"$f":"((AA868*#REF!)+(#REF!*#REF!)+(#REF!*#REF!))/(#REF!+#REF!+#REF!)","v":{"$error":"#VALUE!"}},{"$f":"((AA868*#REF!)+(#REF!*#REF!)+(#REF!*#REF!))/(#REF!+#REF!+#REF!)","v":{"$error":"#VALUE!"}},{"$f":"((AA868*#REF!)+(#REF!*#REF!)+(#REF!*#REF!))/(#REF!+#REF!+#REF!)","v":{"$error":"#VALUE!"}},{"$f":"((AA868*#REF!)+(#REF!*#REF!)+(#REF!*#REF!))/(#REF!+#REF!+#REF!)","v":{"$error":"#VALUE!"}}]
[null,null,null,null,null,null,null,null,null,null,null,null,null,null,null,null,null,null,null,null,null,867,{"$error":"#VALUE!"},{"$f":"AVERAGE($W$3:W869)","v":{"$error":"#VALUE!"}},null,{"$error":"#VALUE!"},{"$error":"#VALUE!"},{"$f":"AVERAGE($AA$3:AA869)","v":{"$error":"#VALUE!"}},null,null,null,{"$f":"((AA869*#REF!)+(#REF!*#REF!)+(#REF!*#REF!))/(#REF!+#REF!+#REF!)","v":{"$error":"#VALUE!"}},{"$f":"((AA869*#REF!)+(#REF!*#REF!)+(#REF!*#REF!))/(#REF!+#REF!+#REF!)","v":{"$error":"#VALUE!"}},{"$f":"((AA869*#REF!)+(#REF!*#REF!)+(#REF!*#REF!))/(#REF!+#REF!+#REF!)","v":{"$error":"#VALUE!"}},{"$f":"((AA869*#REF!)+(#REF!*#REF!)+(#REF!*#REF!))/(#REF!+#REF!+#REF!)","v":{"$error":"#VALUE!"}},{"$f":"((AA869*#REF!)+(#REF!*#REF!)+(#REF!*#REF!))/(#REF!+#REF!+#REF!)","v":{"$error":"#VALUE!"}},{"$f":"((AA869*#REF!)+(#REF!*#REF!)+(#REF!*#REF!))/(#REF!+#REF!+#REF!)","v":{"$error":"#VALUE!"}},{"$f":"((AA869*#REF!)+(#REF!*#REF!)+(#REF!*#REF!))/(#REF!+#REF!+#REF!)","v":{"$error":"#VALUE!"}}]
[null,null,null,null,null,null,null,null,null,null,null,null,null,null,null,null,null,null,null,null,null,868,{"$error":"#VALUE!"},{"$f":"AVERAGE($W$3:W870)","v":{"$error":"#VALUE!"}},null,{"$error":"#VALUE!"},{"$error":"#VALUE!"},{"$f":"AVERAGE($AA$3:AA870)","v":{"$error":"#VALUE!"}},null,null,null,{"$f":"((AA870*#REF!)+(#REF!*#REF!)+(#REF!*#REF!))/(#REF!+#REF!+#REF!)","v":{"$error":"#VALUE!"}},{"$f":"((AA870*#REF!)+(#REF!*#REF!)+(#REF!*#REF!))/(#REF!+#REF!+#REF!)","v":{"$error":"#VALUE!"}},{"$f":"((AA870*#REF!)+(#REF!*#REF!)+(#REF!*#REF!))/(#REF!+#REF!+#REF!)","v":{"$error":"#VALUE!"}},{"$f":"((AA870*#REF!)+(#REF!*#REF!)+(#REF!*#REF!))/(#REF!+#REF!+#REF!)","v":{"$error":"#VALUE!"}},{"$f":"((AA870*#REF!)+(#REF!*#REF!)+(#REF!*#REF!))/(#REF!+#REF!+#REF!)","v":{"$error":"#VALUE!"}},{"$f":"((AA870*#REF!)+(#REF!*#REF!)+(#REF!*#REF!))/(#REF!+#REF!+#REF!)","v":{"$error":"#VALUE!"}},{"$f":"((AA870*#REF!)+(#REF!*#REF!)+(#REF!*#REF!))/(#REF!+#REF!+#REF!)","v":{"$error":"#VALUE!"}}]
[null,null,null,null,null,null,null,null,null,null,null,null,null,null,null,null,null,null,null,null,null,869,{"$error":"#VALUE!"},{"$f":"AVERAGE($W$3:W871)","v":{"$error":"#VALUE!"}},null,{"$error":"#VALUE!"},{"$error":"#VALUE!"},{"$f":"AVERAGE($AA$3:AA871)","v":{"$error":"#VALUE!"}},null,null,null,{"$f":"((AA871*#REF!)+(#REF!*#REF!)+(#REF!*#REF!))/(#REF!+#REF!+#REF!)","v":{"$error":"#VALUE!"}},{"$f":"((AA871*#REF!)+(#REF!*#REF!)+(#REF!*#REF!))/(#REF!+#REF!+#REF!)","v":{"$error":"#VALUE!"}},{"$f":"((AA871*#REF!)+(#REF!*#REF!)+(#REF!*#REF!))/(#REF!+#REF!+#REF!)","v":{"$error":"#VALUE!"}},{"$f":"((AA871*#REF!)+(#REF!*#REF!)+(#REF!*#REF!))/(#REF!+#REF!+#REF!)","v":{"$error":"#VALUE!"}},{"$f":"((AA871*#REF!)+(#REF!*#REF!)+(#REF!*#REF!))/(#REF!+#REF!+#REF!)","v":{"$error":"#VALUE!"}},{"$f":"((AA871*#REF!)+(#REF!*#REF!)+(#REF!*#REF!))/(#REF!+#REF!+#REF!)","v":{"$error":"#VALUE!"}},{"$f":"((AA871*#REF!)+(#REF!*#REF!)+(#REF!*#REF!))/(#REF!+#REF!+#REF!)","v":{"$error":"#VALUE!"}}]
[null,null,null,null,null,null,null,null,null,null,null,null,null,null,null,null,null,null,null,null,null,870,{"$error":"#VALUE!"},{"$f":"AVERAGE($W$3:W872)","v":{"$error":"#VALUE!"}},null,{"$error":"#VALUE!"},{"$error":"#VALUE!"},{"$f":"AVERAGE($AA$3:AA872)","v":{"$error":"#VALUE!"}},null,null,null,{"$f":"((AA872*#REF!)+(#REF!*#REF!)+(#REF!*#REF!))/(#REF!+#REF!+#REF!)","v":{"$error":"#VALUE!"}},{"$f":"((AA872*#REF!)+(#REF!*#REF!)+(#REF!*#REF!))/(#REF!+#REF!+#REF!)","v":{"$error":"#VALUE!"}},{"$f":"((AA872*#REF!)+(#REF!*#REF!)+(#REF!*#REF!))/(#REF!+#REF!+#REF!)","v":{"$error":"#VALUE!"}},{"$f":"((AA872*#REF!)+(#REF!*#REF!)+(#REF!*#REF!))/(#REF!+#REF!+#REF!)","v":{"$error":"#VALUE!"}},{"$f":"((AA872*#REF!)+(#REF!*#REF!)+(#REF!*#REF!))/(#REF!+#REF!+#REF!)","v":{"$error":"#VALUE!"}},{"$f":"((AA872*#REF!)+(#REF!*#REF!)+(#REF!*#REF!))/(#REF!+#REF!+#REF!)","v":{"$error":"#VALUE!"}},{"$f":"((AA872*#REF!)+(#REF!*#REF!)+(#REF!*#REF!))/(#REF!+#REF!+#REF!)","v":{"$error":"#VALUE!"}}]
[null,null,null,null,null,null,null,null,null,null,null,null,null,null,null,null,null,null,null,null,null,871,{"$error":"#VALUE!"},{"$f":"AVERAGE($W$3:W873)","v":{"$error":"#VALUE!"}},null,{"$error":"#VALUE!"},{"$error":"#VALUE!"},{"$f":"AVERAGE($AA$3:AA873)","v":{"$error":"#VALUE!"}},null,null,null,{"$f":"((AA873*#REF!)+(#REF!*#REF!)+(#REF!*#REF!))/(#REF!+#REF!+#REF!)","v":{"$error":"#VALUE!"}},{"$f":"((AA873*#REF!)+(#REF!*#REF!)+(#REF!*#REF!))/(#REF!+#REF!+#REF!)","v":{"$error":"#VALUE!"}},{"$f":"((AA873*#REF!)+(#REF!*#REF!)+(#REF!*#REF!))/(#REF!+#REF!+#REF!)","v":{"$error":"#VALUE!"}},{"$f":"((AA873*#REF!)+(#REF!*#REF!)+(#REF!*#REF!))/(#REF!+#REF!+#REF!)","v":{"$error":"#VALUE!"}},{"$f":"((AA873*#REF!)+(#REF!*#REF!)+(#REF!*#REF!))/(#REF!+#REF!+#REF!)","v":{"$error":"#VALUE!"}},{"$f":"((AA873*#REF!)+(#REF!*#REF!)+(#REF!*#REF!))/(#REF!+#REF!+#REF!)","v":{"$error":"#VALUE!"}},{"$f":"((AA873*#REF!)+(#REF!*#REF!)+(#REF!*#REF!))/(#REF!+#REF!+#REF!)","v":{"$error":"#VALUE!"}}]
[null,null,null,null,null,null,null,null,null,null,null,null,null,null,null,null,null,null,null,null,null,872,{"$error":"#VALUE!"},{"$f":"AVERAGE($W$3:W874)","v":{"$error":"#VALUE!"}},null,{"$error":"#VALUE!"},{"$error":"#VALUE!"},{"$f":"AVERAGE($AA$3:AA874)","v":{"$error":"#VALUE!"}},null,null,null,{"$f":"((AA874*#REF!)+(#REF!*#REF!)+(#REF!*#REF!))/(#REF!+#REF!+#REF!)","v":{"$error":"#VALUE!"}},{"$f":"((AA874*#REF!)+(#REF!*#REF!)+(#REF!*#REF!))/(#REF!+#REF!+#REF!)","v":{"$error":"#VALUE!"}},{"$f":"((AA874*#REF!)+(#REF!*#REF!)+(#REF!*#REF!))/(#REF!+#REF!+#REF!)","v":{"$error":"#VALUE!"}},{"$f":"((AA874*#REF!)+(#REF!*#REF!)+(#REF!*#REF!))/(#REF!+#REF!+#REF!)","v":{"$error":"#VALUE!"}},{"$f":"((AA874*#REF!)+(#REF!*#REF!)+(#REF!*#REF!))/(#REF!+#REF!+#REF!)","v":{"$error":"#VALUE!"}},{"$f":"((AA874*#REF!)+(#REF!*#REF!)+(#REF!*#REF!))/(#REF!+#REF!+#REF!)","v":{"$error":"#VALUE!"}},{"$f":"((AA874*#REF!)+(#REF!*#REF!)+(#REF!*#REF!))/(#REF!+#REF!+#REF!)","v":{"$error":"#VALUE!"}}]
[null,null,null,null,null,null,null,null,null,null,null,null,null,null,null,null,null,null,null,null,null,873,{"$error":"#VALUE!"},{"$f":"AVERAGE($W$3:W875)","v":{"$error":"#VALUE!"}},null,{"$error":"#VALUE!"},{"$error":"#VALUE!"},{"$f":"AVERAGE($AA$3:AA875)","v":{"$error":"#VALUE!"}},null,null,null,{"$f":"((AA875*#REF!)+(#REF!*#REF!)+(#REF!*#REF!))/(#REF!+#REF!+#REF!)","v":{"$error":"#VALUE!"}},{"$f":"((AA875*#REF!)+(#REF!*#REF!)+(#REF!*#REF!))/(#REF!+#REF!+#REF!)","v":{"$error":"#VALUE!"}},{"$f":"((AA875*#REF!)+(#REF!*#REF!)+(#REF!*#REF!))/(#REF!+#REF!+#REF!)","v":{"$error":"#VALUE!"}},{"$f":"((AA875*#REF!)+(#REF!*#REF!)+(#REF!*#REF!))/(#REF!+#REF!+#REF!)","v":{"$error":"#VALUE!"}},{"$f":"((AA875*#REF!)+(#REF!*#REF!)+(#REF!*#REF!))/(#REF!+#REF!+#REF!)","v":{"$error":"#VALUE!"}},{"$f":"((AA875*#REF!)+(#REF!*#REF!)+(#REF!*#REF!))/(#REF!+#REF!+#REF!)","v":{"$error":"#VALUE!"}},{"$f":"((AA875*#REF!)+(#REF!*#REF!)+(#REF!*#REF!))/(#REF!+#REF!+#REF!)","v":{"$error":"#VALUE!"}}]
[null,null,null,null,null,null,null,null,null,null,null,null,null,null,null,null,null,null,null,null,null,874,{"$error":"#VALUE!"},{"$f":"AVERAGE($W$3:W876)","v":{"$error":"#VALUE!"}},null,{"$error":"#VALUE!"},{"$error":"#VALUE!"},{"$f":"AVERAGE($AA$3:AA876)","v":{"$error":"#VALUE!"}},null,null,null,{"$f":"((AA876*#REF!)+(#REF!*#REF!)+(#REF!*#REF!))/(#REF!+#REF!+#REF!)","v":{"$error":"#VALUE!"}},{"$f":"((AA876*#REF!)+(#REF!*#REF!)+(#REF!*#REF!))/(#REF!+#REF!+#REF!)","v":{"$error":"#VALUE!"}},{"$f":"((AA876*#REF!)+(#REF!*#REF!)+(#REF!*#REF!))/(#REF!+#REF!+#REF!)","v":{"$error":"#VALUE!"}},{"$f":"((AA876*#REF!)+(#REF!*#REF!)+(#REF!*#REF!))/(#REF!+#REF!+#REF!)","v":{"$error":"#VALUE!"}},{"$f":"((AA876*#REF!)+(#REF!*#REF!)+(#REF!*#REF!))/(#REF!+#REF!+#REF!)","v":{"$error":"#VALUE!"}},{"$f":"((AA876*#REF!)+(#REF!*#REF!)+(#REF!*#REF!))/(#REF!+#REF!+#REF!)","v":{"$error":"#VALUE!"}},{"$f":"((AA876*#REF!)+(#REF!*#REF!)+(#REF!*#REF!))/(#REF!+#REF!+#REF!)","v":{"$error":"#VALUE!"}}]
[null,null,null,null,null,null,null,null,null,null,null,null,null,null,null,null,null,null,null,null,null,875,{"$error":"#VALUE!"},{"$f":"AVERAGE($W$3:W877)","v":{"$error":"#VALUE!"}},null,{"$error":"#VALUE!"},{"$error":"#VALUE!"},{"$f":"AVERAGE($AA$3:AA877)","v":{"$error":"#VALUE!"}},null,null,null,{"$f":"((AA877*#REF!)+(#REF!*#REF!)+(#REF!*#REF!))/(#REF!+#REF!+#REF!)","v":{"$error":"#VALUE!"}},{"$f":"((AA877*#REF!)+(#REF!*#REF!)+(#REF!*#REF!))/(#REF!+#REF!+#REF!)","v":{"$error":"#VALUE!"}},{"$f":"((AA877*#REF!)+(#REF!*#REF!)+(#REF!*#REF!))/(#REF!+#REF!+#REF!)","v":{"$error":"#VALUE!"}},{"$f":"((AA877*#REF!)+(#REF!*#REF!)+(#REF!*#REF!))/(#REF!+#REF!+#REF!)","v":{"$error":"#VALUE!"}},{"$f":"((AA877*#REF!)+(#REF!*#REF!)+(#REF!*#REF!))/(#REF!+#REF!+#REF!)","v":{"$error":"#VALUE!"}},{"$f":"((AA877*#REF!)+(#REF!*#REF!)+(#REF!*#REF!))/(#REF!+#REF!+#REF!)","v":{"$error":"#VALUE!"}},{"$f":"((AA877*#REF!)+(#REF!*#REF!)+(#REF!*#REF!))/(#REF!+#REF!+#REF!)","v":{"$error":"#VALUE!"}}]
[null,null,null,null,null,null,null,null,null,null,null,null,null,null,null,null,null,null,null,null,null,876,{"$error":"#VALUE!"},{"$f":"AVERAGE($W$3:W878)","v":{"$error":"#VALUE!"}},null,{"$error":"#VALUE!"},{"$error":"#VALUE!"},{"$f":"AVERAGE($AA$3:AA878)","v":{"$error":"#VALUE!"}},null,null,null,{"$f":"((AA878*#REF!)+(#REF!*#REF!)+(#REF!*#REF!))/(#REF!+#REF!+#REF!)","v":{"$error":"#VALUE!"}},{"$f":"((AA878*#REF!)+(#REF!*#REF!)+(#REF!*#REF!))/(#REF!+#REF!+#REF!)","v":{"$error":"#VALUE!"}},{"$f":"((AA878*#REF!)+(#REF!*#REF!)+(#REF!*#REF!))/(#REF!+#REF!+#REF!)","v":{"$error":"#VALUE!"}},{"$f":"((AA878*#REF!)+(#REF!*#REF!)+(#REF!*#REF!))/(#REF!+#REF!+#REF!)","v":{"$error":"#VALUE!"}},{"$f":"((AA878*#REF!)+(#REF!*#REF!)+(#REF!*#REF!))/(#REF!+#REF!+#REF!)","v":{"$error":"#VALUE!"}},{"$f":"((AA878*#REF!)+(#REF!*#REF!)+(#REF!*#REF!))/(#REF!+#REF!+#REF!)","v":{"$error":"#VALUE!"}},{"$f":"((AA878*#REF!)+(#REF!*#REF!)+(#REF!*#REF!))/(#REF!+#REF!+#REF!)","v":{"$error":"#VALUE!"}}]
[null,null,null,null,null,null,null,null,null,null,null,null,null,null,null,null,null,null,null,null,null,877,{"$error":"#VALUE!"},{"$f":"AVERAGE($W$3:W879)","v":{"$error":"#VALUE!"}},null,{"$error":"#VALUE!"},{"$error":"#VALUE!"},{"$f":"AVERAGE($AA$3:AA879)","v":{"$error":"#VALUE!"}},null,null,null,{"$f":"((AA879*#REF!)+(#REF!*#REF!)+(#REF!*#REF!))/(#REF!+#REF!+#REF!)","v":{"$error":"#VALUE!"}},{"$f":"((AA879*#REF!)+(#REF!*#REF!)+(#REF!*#REF!))/(#REF!+#REF!+#REF!)","v":{"$error":"#VALUE!"}},{"$f":"((AA879*#REF!)+(#REF!*#REF!)+(#REF!*#REF!))/(#REF!+#REF!+#REF!)","v":{"$error":"#VALUE!"}},{"$f":"((AA879*#REF!)+(#REF!*#REF!)+(#REF!*#REF!))/(#REF!+#REF!+#REF!)","v":{"$error":"#VALUE!"}},{"$f":"((AA879*#REF!)+(#REF!*#REF!)+(#REF!*#REF!))/(#REF!+#REF!+#REF!)","v":{"$error":"#VALUE!"}},{"$f":"((AA879*#REF!)+(#REF!*#REF!)+(#REF!*#REF!))/(#REF!+#REF!+#REF!)","v":{"$error":"#VALUE!"}},{"$f":"((AA879*#REF!)+(#REF!*#REF!)+(#REF!*#REF!))/(#REF!+#REF!+#REF!)","v":{"$error":"#VALUE!"}}]
[null,null,null,null,null,null,null,null,null,null,null,null,null,null,null,null,null,null,null,null,null,878,{"$error":"#VALUE!"},{"$f":"AVERAGE($W$3:W880)","v":{"$error":"#VALUE!"}},null,{"$error":"#VALUE!"},{"$error":"#VALUE!"},{"$f":"AVERAGE($AA$3:AA880)","v":{"$error":"#VALUE!"}},null,null,null,{"$f":"((AA880*#REF!)+(#REF!*#REF!)+(#REF!*#REF!))/(#REF!+#REF!+#REF!)","v":{"$error":"#VALUE!"}},{"$f":"((AA880*#REF!)+(#REF!*#REF!)+(#REF!*#REF!))/(#REF!+#REF!+#REF!)","v":{"$error":"#VALUE!"}},{"$f":"((AA880*#REF!)+(#REF!*#REF!)+(#REF!*#REF!))/(#REF!+#REF!+#REF!)","v":{"$error":"#VALUE!"}},{"$f":"((AA880*#REF!)+(#REF!*#REF!)+(#REF!*#REF!))/(#REF!+#REF!+#REF!)","v":{"$error":"#VALUE!"}},{"$f":"((AA880*#REF!)+(#REF!*#REF!)+(#REF!*#REF!))/(#REF!+#REF!+#REF!)","v":{"$error":"#VALUE!"}},{"$f":"((AA880*#REF!)+(#REF!*#REF!)+(#REF!*#REF!))/(#REF!+#REF!+#REF!)","v":{"$error":"#VALUE!"}},{"$f":"((AA880*#REF!)+(#REF!*#REF!)+(#REF!*#REF!))/(#REF!+#REF!+#REF!)","v":{"$error":"#VALUE!"}}]
[null,null,null,null,null,null,null,null,null,null,null,null,null,null,null,null,null,null,null,null,null,879,{"$error":"#VALUE!"},{"$f":"AVERAGE($W$3:W881)","v":{"$error":"#VALUE!"}},null,{"$error":"#VALUE!"},{"$error":"#VALUE!"},{"$f":"AVERAGE($AA$3:AA881)","v":{"$error":"#VALUE!"}},null,null,null,{"$f":"((AA881*#REF!)+(#REF!*#REF!)+(#REF!*#REF!))/(#REF!+#REF!+#REF!)","v":{"$error":"#VALUE!"}},{"$f":"((AA881*#REF!)+(#REF!*#REF!)+(#REF!*#REF!))/(#REF!+#REF!+#REF!)","v":{"$error":"#VALUE!"}},{"$f":"((AA881*#REF!)+(#REF!*#REF!)+(#REF!*#REF!))/(#REF!+#REF!+#REF!)","v":{"$error":"#VALUE!"}},{"$f":"((AA881*#REF!)+(#REF!*#REF!)+(#REF!*#REF!))/(#REF!+#REF!+#REF!)","v":{"$error":"#VALUE!"}},{"$f":"((AA881*#REF!)+(#REF!*#REF!)+(#REF!*#REF!))/(#REF!+#REF!+#REF!)","v":{"$error":"#VALUE!"}},{"$f":"((AA881*#REF!)+(#REF!*#REF!)+(#REF!*#REF!))/(#REF!+#REF!+#REF!)","v":{"$error":"#VALUE!"}},{"$f":"((AA881*#REF!)+(#REF!*#REF!)+(#REF!*#REF!))/(#REF!+#REF!+#REF!)","v":{"$error":"#VALUE!"}}]
[null,null,null,null,null,null,null,null,null,null,null,null,null,null,null,null,null,null,null,null,null,880,{"$error":"#VALUE!"},{"$f":"AVERAGE($W$3:W882)","v":{"$error":"#VALUE!"}},null,{"$error":"#VALUE!"},{"$error":"#VALUE!"},{"$f":"AVERAGE($AA$3:AA882)","v":{"$error":"#VALUE!"}},null,null,null,{"$f":"((AA882*#REF!)+(#REF!*#REF!)+(#REF!*#REF!))/(#REF!+#REF!+#REF!)","v":{"$error":"#VALUE!"}},{"$f":"((AA882*#REF!)+(#REF!*#REF!)+(#REF!*#REF!))/(#REF!+#REF!+#REF!)","v":{"$error":"#VALUE!"}},{"$f":"((AA882*#REF!)+(#REF!*#REF!)+(#REF!*#REF!))/(#REF!+#REF!+#REF!)","v":{"$error":"#VALUE!"}},{"$f":"((AA882*#REF!)+(#REF!*#REF!)+(#REF!*#REF!))/(#REF!+#REF!+#REF!)","v":{"$error":"#VALUE!"}},{"$f":"((AA882*#REF!)+(#REF!*#REF!)+(#REF!*#REF!))/(#REF!+#REF!+#REF!)","v":{"$error":"#VALUE!"}},{"$f":"((AA882*#REF!)+(#REF!*#REF!)+(#REF!*#REF!))/(#REF!+#REF!+#REF!)","v":{"$error":"#VALUE!"}},{"$f":"((AA882*#REF!)+(#REF!*#REF!)+(#REF!*#REF!))/(#REF!+#REF!+#REF!)","v":{"$error":"#VALUE!"}}]
[null,null,null,null,null,null,null,null,null,null,null,null,null,null,null,null,null,null,null,null,null,881,{"$error":"#VALUE!"},{"$f":"AVERAGE($W$3:W883)","v":{"$error":"#VALUE!"}},null,{"$error":"#VALUE!"},{"$error":"#VALUE!"},{"$f":"AVERAGE($AA$3:AA883)","v":{"$error":"#VALUE!"}},null,null,null,{"$f":"((AA883*#REF!)+(#REF!*#REF!)+(#REF!*#REF!))/(#REF!+#REF!+#REF!)","v":{"$error":"#VALUE!"}},{"$f":"((AA883*#REF!)+(#REF!*#REF!)+(#REF!*#REF!))/(#REF!+#REF!+#REF!)","v":{"$error":"#VALUE!"}},{"$f":"((AA883*#REF!)+(#REF!*#REF!)+(#REF!*#REF!))/(#REF!+#REF!+#REF!)","v":{"$error":"#VALUE!"}},{"$f":"((AA883*#REF!)+(#REF!*#REF!)+(#REF!*#REF!))/(#REF!+#REF!+#REF!)","v":{"$error":"#VALUE!"}},{"$f":"((AA883*#REF!)+(#REF!*#REF!)+(#REF!*#REF!))/(#REF!+#REF!+#REF!)","v":{"$error":"#VALUE!"}},{"$f":"((AA883*#REF!)+(#REF!*#REF!)+(#REF!*#REF!))/(#REF!+#REF!+#REF!)","v":{"$error":"#VALUE!"}},{"$f":"((AA883*#REF!)+(#REF!*#REF!)+(#REF!*#REF!))/(#REF!+#REF!+#REF!)","v":{"$error":"#VALUE!"}}]
[null,null,null,null,null,null,null,null,null,null,null,null,null,null,null,null,null,null,null,null,null,882,{"$error":"#VALUE!"},{"$f":"AVERAGE($W$3:W884)","v":{"$error":"#VALUE!"}},null,{"$error":"#VALUE!"},{"$error":"#VALUE!"},{"$f":"AVERAGE($AA$3:AA884)","v":{"$error":"#VALUE!"}},null,null,null,{"$f":"((AA884*#REF!)+(#REF!*#REF!)+(#REF!*#REF!))/(#REF!+#REF!+#REF!)","v":{"$error":"#VALUE!"}},{"$f":"((AA884*#REF!)+(#REF!*#REF!)+(#REF!*#REF!))/(#REF!+#REF!+#REF!)","v":{"$error":"#VALUE!"}},{"$f":"((AA884*#REF!)+(#REF!*#REF!)+(#REF!*#REF!))/(#REF!+#REF!+#REF!)","v":{"$error":"#VALUE!"}},{"$f":"((AA884*#REF!)+(#REF!*#REF!)+(#REF!*#REF!))/(#REF!+#REF!+#REF!)","v":{"$error":"#VALUE!"}},{"$f":"((AA884*#REF!)+(#REF!*#REF!)+(#REF!*#REF!))/(#REF!+#REF!+#REF!)","v":{"$error":"#VALUE!"}},{"$f":"((AA884*#REF!)+(#REF!*#REF!)+(#REF!*#REF!))/(#REF!+#REF!+#REF!)","v":{"$error":"#VALUE!"}},{"$f":"((AA884*#REF!)+(#REF!*#REF!)+(#REF!*#REF!))/(#REF!+#REF!+#REF!)","v":{"$error":"#VALUE!"}}]
[null,null,null,null,null,null,null,null,null,null,null,null,null,null,null,null,null,null,null,null,null,883,{"$error":"#VALUE!"},{"$f":"AVERAGE($W$3:W885)","v":{"$error":"#VALUE!"}},null,{"$error":"#VALUE!"},{"$error":"#VALUE!"},{"$f":"AVERAGE($AA$3:AA885)","v":{"$error":"#VALUE!"}},null,null,null,{"$f":"((AA885*#REF!)+(#REF!*#REF!)+(#REF!*#REF!))/(#REF!+#REF!+#REF!)","v":{"$error":"#VALUE!"}},{"$f":"((AA885*#REF!)+(#REF!*#REF!)+(#REF!*#REF!))/(#REF!+#REF!+#REF!)","v":{"$error":"#VALUE!"}},{"$f":"((AA885*#REF!)+(#REF!*#REF!)+(#REF!*#REF!))/(#REF!+#REF!+#REF!)","v":{"$error":"#VALUE!"}},{"$f":"((AA885*#REF!)+(#REF!*#REF!)+(#REF!*#REF!))/(#REF!+#REF!+#REF!)","v":{"$error":"#VALUE!"}},{"$f":"((AA885*#REF!)+(#REF!*#REF!)+(#REF!*#REF!))/(#REF!+#REF!+#REF!)","v":{"$error":"#VALUE!"}},{"$f":"((AA885*#REF!)+(#REF!*#REF!)+(#REF!*#REF!))/(#REF!+#REF!+#REF!)","v":{"$error":"#VALUE!"}},{"$f":"((AA885*#REF!)+(#REF!*#REF!)+(#REF!*#REF!))/(#REF!+#REF!+#REF!)","v":{"$error":"#VALUE!"}}]
[null,null,null,null,null,null,null,null,null,null,null,null,null,null,null,null,null,null,null,null,null,884,{"$error":"#VALUE!"},{"$f":"AVERAGE($W$3:W886)","v":{"$error":"#VALUE!"}},null,{"$error":"#VALUE!"},{"$error":"#VALUE!"},{"$f":"AVERAGE($AA$3:AA886)","v":{"$error":"#VALUE!"}},null,null,null,{"$f":"((AA886*#REF!)+(#REF!*#REF!)+(#REF!*#REF!))/(#REF!+#REF!+#REF!)","v":{"$error":"#VALUE!"}},{"$f":"((AA886*#REF!)+(#REF!*#REF!)+(#REF!*#REF!))/(#REF!+#REF!+#REF!)","v":{"$error":"#VALUE!"}},{"$f":"((AA886*#REF!)+(#REF!*#REF!)+(#REF!*#REF!))/(#REF!+#REF!+#REF!)","v":{"$error":"#VALUE!"}},{"$f":"((AA886*#REF!)+(#REF!*#REF!)+(#REF!*#REF!))/(#REF!+#REF!+#REF!)","v":{"$error":"#VALUE!"}},{"$f":"((AA886*#REF!)+(#REF!*#REF!)+(#REF!*#REF!))/(#REF!+#REF!+#REF!)","v":{"$error":"#VALUE!"}},{"$f":"((AA886*#REF!)+(#REF!*#REF!)+(#REF!*#REF!))/(#REF!+#REF!+#REF!)","v":{"$error":"#VALUE!"}},{"$f":"((AA886*#REF!)+(#REF!*#REF!)+(#REF!*#REF!))/(#REF!+#REF!+#REF!)","v":{"$error":"#VALUE!"}}]
[null,null,null,null,null,null,null,null,null,null,null,null,null,null,null,null,null,null,null,null,null,885,{"$error":"#VALUE!"},{"$f":"AVERAGE($W$3:W887)","v":{"$error":"#VALUE!"}},null,{"$error":"#VALUE!"},{"$error":"#VALUE!"},{"$f":"AVERAGE($AA$3:AA887)","v":{"$error":"#VALUE!"}},null,null,null,{"$f":"((AA887*#REF!)+(#REF!*#REF!)+(#REF!*#REF!))/(#REF!+#REF!+#REF!)","v":{"$error":"#VALUE!"}},{"$f":"((AA887*#REF!)+(#REF!*#REF!)+(#REF!*#REF!))/(#REF!+#REF!+#REF!)","v":{"$error":"#VALUE!"}},{"$f":"((AA887*#REF!)+(#REF!*#REF!)+(#REF!*#REF!))/(#REF!+#REF!+#REF!)","v":{"$error":"#VALUE!"}},{"$f":"((AA887*#REF!)+(#REF!*#REF!)+(#REF!*#REF!))/(#REF!+#REF!+#REF!)","v":{"$error":"#VALUE!"}},{"$f":"((AA887*#REF!)+(#REF!*#REF!)+(#REF!*#REF!))/(#REF!+#REF!+#REF!)","v":{"$error":"#VALUE!"}},{"$f":"((AA887*#REF!)+(#REF!*#REF!)+(#REF!*#REF!))/(#REF!+#REF!+#REF!)","v":{"$error":"#VALUE!"}},{"$f":"((AA887*#REF!)+(#REF!*#REF!)+(#REF!*#REF!))/(#REF!+#REF!+#REF!)","v":{"$error":"#VALUE!"}}]
[null,null,null,null,null,null,null,null,null,null,null,null,null,null,null,null,null,null,null,null,null,886,{"$error":"#VALUE!"},{"$f":"AVERAGE($W$3:W888)","v":{"$error":"#VALUE!"}},null,{"$error":"#VALUE!"},{"$error":"#VALUE!"},{"$f":"AVERAGE($AA$3:AA888)","v":{"$error":"#VALUE!"}},null,null,null,{"$f":"((AA888*#REF!)+(#REF!*#REF!)+(#REF!*#REF!))/(#REF!+#REF!+#REF!)","v":{"$error":"#VALUE!"}},{"$f":"((AA888*#REF!)+(#REF!*#REF!)+(#REF!*#REF!))/(#REF!+#REF!+#REF!)","v":{"$error":"#VALUE!"}},{"$f":"((AA888*#REF!)+(#REF!*#REF!)+(#REF!*#REF!))/(#REF!+#REF!+#REF!)","v":{"$error":"#VALUE!"}},{"$f":"((AA888*#REF!)+(#REF!*#REF!)+(#REF!*#REF!))/(#REF!+#REF!+#REF!)","v":{"$error":"#VALUE!"}},{"$f":"((AA888*#REF!)+(#REF!*#REF!)+(#REF!*#REF!))/(#REF!+#REF!+#REF!)","v":{"$error":"#VALUE!"}},{"$f":"((AA888*#REF!)+(#REF!*#REF!)+(#REF!*#REF!))/(#REF!+#REF!+#REF!)","v":{"$error":"#VALUE!"}},{"$f":"((AA888*#REF!)+(#REF!*#REF!)+(#REF!*#REF!))/(#REF!+#REF!+#REF!)","v":{"$error":"#VALUE!"}}]
[null,null,null,null,null,null,null,null,null,null,null,null,null,null,null,null,null,null,null,null,null,887,{"$error":"#VALUE!"},{"$f":"AVERAGE($W$3:W889)","v":{"$error":"#VALUE!"}},null,{"$error":"#VALUE!"},{"$error":"#VALUE!"},{"$f":"AVERAGE($AA$3:AA889)","v":{"$error":"#VALUE!"}},null,null,null,{"$f":"((AA889*#REF!)+(#REF!*#REF!)+(#REF!*#REF!))/(#REF!+#REF!+#REF!)","v":{"$error":"#VALUE!"}},{"$f":"((AA889*#REF!)+(#REF!*#REF!)+(#REF!*#REF!))/(#REF!+#REF!+#REF!)","v":{"$error":"#VALUE!"}},{"$f":"((AA889*#REF!)+(#REF!*#REF!)+(#REF!*#REF!))/(#REF!+#REF!+#REF!)","v":{"$error":"#VALUE!"}},{"$f":"((AA889*#REF!)+(#REF!*#REF!)+(#REF!*#REF!))/(#REF!+#REF!+#REF!)","v":{"$error":"#VALUE!"}},{"$f":"((AA889*#REF!)+(#REF!*#REF!)+(#REF!*#REF!))/(#REF!+#REF!+#REF!)","v":{"$error":"#VALUE!"}},{"$f":"((AA889*#REF!)+(#REF!*#REF!)+(#REF!*#REF!))/(#REF!+#REF!+#REF!)","v":{"$error":"#VALUE!"}},{"$f":"((AA889*#REF!)+(#REF!*#REF!)+(#REF!*#REF!))/(#REF!+#REF!+#REF!)","v":{"$error":"#VALUE!"}}]
[null,null,null,null,null,null,null,null,null,null,null,null,null,null,null,null,null,null,null,null,null,888,{"$error":"#VALUE!"},{"$f":"AVERAGE($W$3:W890)","v":{"$error":"#VALUE!"}},null,{"$error":"#VALUE!"},{"$error":"#VALUE!"},{"$f":"AVERAGE($AA$3:AA890)","v":{"$error":"#VALUE!"}},null,null,null,{"$f":"((AA890*#REF!)+(#REF!*#REF!)+(#REF!*#REF!))/(#REF!+#REF!+#REF!)","v":{"$error":"#VALUE!"}},{"$f":"((AA890*#REF!)+(#REF!*#REF!)+(#REF!*#REF!))/(#REF!+#REF!+#REF!)","v":{"$error":"#VALUE!"}},{"$f":"((AA890*#REF!)+(#REF!*#REF!)+(#REF!*#REF!))/(#REF!+#REF!+#REF!)","v":{"$error":"#VALUE!"}},{"$f":"((AA890*#REF!)+(#REF!*#REF!)+(#REF!*#REF!))/(#REF!+#REF!+#REF!)","v":{"$error":"#VALUE!"}},{"$f":"((AA890*#REF!)+(#REF!*#REF!)+(#REF!*#REF!))/(#REF!+#REF!+#REF!)","v":{"$error":"#VALUE!"}},{"$f":"((AA890*#REF!)+(#REF!*#REF!)+(#REF!*#REF!))/(#REF!+#REF!+#REF!)","v":{"$error":"#VALUE!"}},{"$f":"((AA890*#REF!)+(#REF!*#REF!)+(#REF!*#REF!))/(#REF!+#REF!+#REF!)","v":{"$error":"#VALUE!"}}]
[null,null,null,null,null,null,null,null,null,null,null,null,null,null,null,null,null,null,null,null,null,889,{"$error":"#VALUE!"},{"$f":"AVERAGE($W$3:W891)","v":{"$error":"#VALUE!"}},null,{"$error":"#VALUE!"},{"$error":"#VALUE!"},{"$f":"AVERAGE($AA$3:AA891)","v":{"$error":"#VALUE!"}},null,null,null,{"$f":"((AA891*#REF!)+(#REF!*#REF!)+(#REF!*#REF!))/(#REF!+#REF!+#REF!)","v":{"$error":"#VALUE!"}},{"$f":"((AA891*#REF!)+(#REF!*#REF!)+(#REF!*#REF!))/(#REF!+#REF!+#REF!)","v":{"$error":"#VALUE!"}},{"$f":"((AA891*#REF!)+(#REF!*#REF!)+(#REF!*#REF!))/(#REF!+#REF!+#REF!)","v":{"$error":"#VALUE!"}},{"$f":"((AA891*#REF!)+(#REF!*#REF!)+(#REF!*#REF!))/(#REF!+#REF!+#REF!)","v":{"$error":"#VALUE!"}},{"$f":"((AA891*#REF!)+(#REF!*#REF!)+(#REF!*#REF!))/(#REF!+#REF!+#REF!)","v":{"$error":"#VALUE!"}},{"$f":"((AA891*#REF!)+(#REF!*#REF!)+(#REF!*#REF!))/(#REF!+#REF!+#REF!)","v":{"$error":"#VALUE!"}},{"$f":"((AA891*#REF!)+(#REF!*#REF!)+(#REF!*#REF!))/(#REF!+#REF!+#REF!)","v":{"$error":"#VALUE!"}}]
[null,null,null,null,null,null,null,null,null,null,null,null,null,null,null,null,null,null,null,null,null,890,{"$error":"#VALUE!"},{"$f":"AVERAGE($W$3:W892)","v":{"$error":"#VALUE!"}},null,{"$error":"#VALUE!"},{"$error":"#VALUE!"},{"$f":"AVERAGE($AA$3:AA892)","v":{"$error":"#VALUE!"}},null,null,null,{"$f":"((AA892*#REF!)+(#REF!*#REF!)+(#REF!*#REF!))/(#REF!+#REF!+#REF!)","v":{"$error":"#VALUE!"}},{"$f":"((AA892*#REF!)+(#REF!*#REF!)+(#REF!*#REF!))/(#REF!+#REF!+#REF!)","v":{"$error":"#VALUE!"}},{"$f":"((AA892*#REF!)+(#REF!*#REF!)+(#REF!*#REF!))/(#REF!+#REF!+#REF!)","v":{"$error":"#VALUE!"}},{"$f":"((AA892*#REF!)+(#REF!*#REF!)+(#REF!*#REF!))/(#REF!+#REF!+#REF!)","v":{"$error":"#VALUE!"}},{"$f":"((AA892*#REF!)+(#REF!*#REF!)+(#REF!*#REF!))/(#REF!+#REF!+#REF!)","v":{"$error":"#VALUE!"}},{"$f":"((AA892*#REF!)+(#REF!*#REF!)+(#REF!*#REF!))/(#REF!+#REF!+#REF!)","v":{"$error":"#VALUE!"}},{"$f":"((AA892*#REF!)+(#REF!*#REF!)+(#REF!*#REF!))/(#REF!+#REF!+#REF!)","v":{"$error":"#VALUE!"}}]
[null,null,null,null,null,null,null,null,null,null,null,null,null,null,null,null,null,null,null,null,null,891,{"$error":"#VALUE!"},{"$f":"AVERAGE($W$3:W893)","v":{"$error":"#VALUE!"}},null,{"$error":"#VALUE!"},{"$error":"#VALUE!"},{"$f":"AVERAGE($AA$3:AA893)","v":{"$error":"#VALUE!"}},null,null,null,{"$f":"((AA893*#REF!)+(#REF!*#REF!)+(#REF!*#REF!))/(#REF!+#REF!+#REF!)","v":{"$error":"#VALUE!"}},{"$f":"((AA893*#REF!)+(#REF!*#REF!)+(#REF!*#REF!))/(#REF!+#REF!+#REF!)","v":{"$error":"#VALUE!"}},{"$f":"((AA893*#REF!)+(#REF!*#REF!)+(#REF!*#REF!))/(#REF!+#REF!+#REF!)","v":{"$error":"#VALUE!"}},{"$f":"((AA893*#REF!)+(#REF!*#REF!)+(#REF!*#REF!))/(#REF!+#REF!+#REF!)","v":{"$error":"#VALUE!"}},{"$f":"((AA893*#REF!)+(#REF!*#REF!)+(#REF!*#REF!))/(#REF!+#REF!+#REF!)","v":{"$error":"#VALUE!"}},{"$f":"((AA893*#REF!)+(#REF!*#REF!)+(#REF!*#REF!))/(#REF!+#REF!+#REF!)","v":{"$error":"#VALUE!"}},{"$f":"((AA893*#REF!)+(#REF!*#REF!)+(#REF!*#REF!))/(#REF!+#REF!+#REF!)","v":{"$error":"#VALUE!"}}]
[null,null,null,null,null,null,null,null,null,null,null,null,null,null,null,null,null,null,null,null,null,892,{"$f":"IF(($M$7*LN(V894))+$M$8+$M$10>0,($M$7*LN(V894))+$M$8+$M$10,0)","v":{"$error":"#VALUE!"}},{"$f":"AVERAGE($W$3:W894)","v":{"$error":"#VALUE!"}},null,{"$error":"#VALUE!"},{"$error":"#VALUE!"},{"$f":"AVERAGE($AA$3:AA894)","v":{"$error":"#VALUE!"}},null,null,null,{"$f":"((AA894*#REF!)+(#REF!*#REF!)+(#REF!*#REF!))/(#REF!+#REF!+#REF!)","v":{"$error":"#VALUE!"}},{"$f":"((AA894*#REF!)+(#REF!*#REF!)+(#REF!*#REF!))/(#REF!+#REF!+#REF!)","v":{"$error":"#VALUE!"}},{"$f":"((AA894*#REF!)+(#REF!*#REF!)+(#REF!*#REF!))/(#REF!+#REF!+#REF!)","v":{"$error":"#VALUE!"}},{"$f":"((AA894*#REF!)+(#REF!*#REF!)+(#REF!*#REF!))/(#REF!+#REF!+#REF!)","v":{"$error":"#VALUE!"}},{"$f":"((AA894*#REF!)+(#REF!*#REF!)+(#REF!*#REF!))/(#REF!+#REF!+#REF!)","v":{"$error":"#VALUE!"}},{"$f":"((AA894*#REF!)+(#REF!*#REF!)+(#REF!*#REF!))/(#REF!+#REF!+#REF!)","v":{"$error":"#VALUE!"}},{"$f":"((AA894*#REF!)+(#REF!*#REF!)+(#REF!*#REF!))/(#REF!+#REF!+#REF!)","v":{"$error":"#VALUE!"}}]
[null,null,null,null,null,null,null,null,null,null,null,null,null,null,null,null,null,null,null,null,null,893,{"$error":"#VALUE!"},{"$f":"AVERAGE($W$3:W895)","v":{"$error":"#VALUE!"}},null,{"$error":"#VALUE!"},{"$error":"#VALUE!"},{"$f":"AVERAGE($AA$3:AA895)","v":{"$error":"#VALUE!"}},null,null,null,{"$f":"((AA895*#REF!)+(#REF!*#REF!)+(#REF!*#REF!))/(#REF!+#REF!+#REF!)","v":{"$error":"#VALUE!"}},{"$f":"((AA895*#REF!)+(#REF!*#REF!)+(#REF!*#REF!))/(#REF!+#REF!+#REF!)","v":{"$error":"#VALUE!"}},{"$f":"((AA895*#REF!)+(#REF!*#REF!)+(#REF!*#REF!))/(#REF!+#REF!+#REF!)","v":{"$error":"#VALUE!"}},{"$f":"((AA895*#REF!)+(#REF!*#REF!)+(#REF!*#REF!))/(#REF!+#REF!+#REF!)","v":{"$error":"#VALUE!"}},{"$f":"((AA895*#REF!)+(#REF!*#REF!)+(#REF!*#REF!))/(#REF!+#REF!+#REF!)","v":{"$error":"#VALUE!"}},{"$f":"((AA895*#REF!)+(#REF!*#REF!)+(#REF!*#REF!))/(#REF!+#REF!+#REF!)","v":{"$error":"#VALUE!"}},{"$f":"((AA895*#REF!)+(#REF!*#REF!)+(#REF!*#REF!))/(#REF!+#REF!+#REF!)","v":{"$error":"#VALUE!"}}]
[null,null,null,null,null,null,null,null,null,null,null,null,null,null,null,null,null,null,null,null,null,894,{"$error":"#VALUE!"},{"$f":"AVERAGE($W$3:W896)","v":{"$error":"#VALUE!"}},null,{"$error":"#VALUE!"},{"$error":"#VALUE!"},{"$f":"AVERAGE($AA$3:AA896)","v":{"$error":"#VALUE!"}},null,null,null,{"$f":"((AA896*#REF!)+(#REF!*#REF!)+(#REF!*#REF!))/(#REF!+#REF!+#REF!)","v":{"$error":"#VALUE!"}},{"$f":"((AA896*#REF!)+(#REF!*#REF!)+(#REF!*#REF!))/(#REF!+#REF!+#REF!)","v":{"$error":"#VALUE!"}},{"$f":"((AA896*#REF!)+(#REF!*#REF!)+(#REF!*#REF!))/(#REF!+#REF!+#REF!)","v":{"$error":"#VALUE!"}},{"$f":"((AA896*#REF!)+(#REF!*#REF!)+(#REF!*#REF!))/(#REF!+#REF!+#REF!)","v":{"$error":"#VALUE!"}},{"$f":"((AA896*#REF!)+(#REF!*#REF!)+(#REF!*#REF!))/(#REF!+#REF!+#REF!)","v":{"$error":"#VALUE!"}},{"$f":"((AA896*#REF!)+(#REF!*#REF!)+(#REF!*#REF!))/(#REF!+#REF!+#REF!)","v":{"$error":"#VALUE!"}},{"$f":"((AA896*#REF!)+(#REF!*#REF!)+(#REF!*#REF!))/(#REF!+#REF!+#REF!)","v":{"$error":"#VALUE!"}}]
[null,null,null,null,null,null,null,null,null,null,null,null,null,null,null,null,null,null,null,null,null,895,{"$error":"#VALUE!"},{"$f":"AVERAGE($W$3:W897)","v":{"$error":"#VALUE!"}},null,{"$error":"#VALUE!"},{"$error":"#VALUE!"},{"$f":"AVERAGE($AA$3:AA897)","v":{"$error":"#VALUE!"}},null,null,null,{"$f":"((AA897*#REF!)+(#REF!*#REF!)+(#REF!*#REF!))/(#REF!+#REF!+#REF!)","v":{"$error":"#VALUE!"}},{"$f":"((AA897*#REF!)+(#REF!*#REF!)+(#REF!*#REF!))/(#REF!+#REF!+#REF!)","v":{"$error":"#VALUE!"}},{"$f":"((AA897*#REF!)+(#REF!*#REF!)+(#REF!*#REF!))/(#REF!+#REF!+#REF!)","v":{"$error":"#VALUE!"}},{"$f":"((AA897*#REF!)+(#REF!*#REF!)+(#REF!*#REF!))/(#REF!+#REF!+#REF!)","v":{"$error":"#VALUE!"}},{"$f":"((AA897*#REF!)+(#REF!*#REF!)+(#REF!*#REF!))/(#REF!+#REF!+#REF!)","v":{"$error":"#VALUE!"}},{"$f":"((AA897*#REF!)+(#REF!*#REF!)+(#REF!*#REF!))/(#REF!+#REF!+#REF!)","v":{"$error":"#VALUE!"}},{"$f":"((AA897*#REF!)+(#REF!*#REF!)+(#REF!*#REF!))/(#REF!+#REF!+#REF!)","v":{"$error":"#VALUE!"}}]
[null,null,null,null,null,null,null,null,null,null,null,null,null,null,null,null,null,null,null,null,null,896,{"$error":"#VALUE!"},{"$f":"AVERAGE($W$3:W898)","v":{"$error":"#VALUE!"}},null,{"$error":"#VALUE!"},{"$error":"#VALUE!"},{"$f":"AVERAGE($AA$3:AA898)","v":{"$error":"#VALUE!"}},null,null,null,{"$f":"((AA898*#REF!)+(#REF!*#REF!)+(#REF!*#REF!))/(#REF!+#REF!+#REF!)","v":{"$error":"#VALUE!"}},{"$f":"((AA898*#REF!)+(#REF!*#REF!)+(#REF!*#REF!))/(#REF!+#REF!+#REF!)","v":{"$error":"#VALUE!"}},{"$f":"((AA898*#REF!)+(#REF!*#REF!)+(#REF!*#REF!))/(#REF!+#REF!+#REF!)","v":{"$error":"#VALUE!"}},{"$f":"((AA898*#REF!)+(#REF!*#REF!)+(#REF!*#REF!))/(#REF!+#REF!+#REF!)","v":{"$error":"#VALUE!"}},{"$f":"((AA898*#REF!)+(#REF!*#REF!)+(#REF!*#REF!))/(#REF!+#REF!+#REF!)","v":{"$error":"#VALUE!"}},{"$f":"((AA898*#REF!)+(#REF!*#REF!)+(#REF!*#REF!))/(#REF!+#REF!+#REF!)","v":{"$error":"#VALUE!"}},{"$f":"((AA898*#REF!)+(#REF!*#REF!)+(#REF!*#REF!))/(#REF!+#REF!+#REF!)","v":{"$error":"#VALUE!"}}]
[null,null,null,null,null,null,null,null,null,null,null,null,null,null,null,null,null,null,null,null,null,897,{"$error":"#VALUE!"},{"$f":"AVERAGE($W$3:W899)","v":{"$error":"#VALUE!"}},null,{"$error":"#VALUE!"},{"$error":"#VALUE!"},{"$f":"AVERAGE($AA$3:AA899)","v":{"$error":"#VALUE!"}},null,null,null,{"$f":"((AA899*#REF!)+(#REF!*#REF!)+(#REF!*#REF!))/(#REF!+#REF!+#REF!)","v":{"$error":"#VALUE!"}},{"$f":"((AA899*#REF!)+(#REF!*#REF!)+(#REF!*#REF!))/(#REF!+#REF!+#REF!)","v":{"$error":"#VALUE!"}},{"$f":"((AA899*#REF!)+(#REF!*#REF!)+(#REF!*#REF!))/(#REF!+#REF!+#REF!)","v":{"$error":"#VALUE!"}},{"$f":"((AA899*#REF!)+(#REF!*#REF!)+(#REF!*#REF!))/(#REF!+#REF!+#REF!)","v":{"$error":"#VALUE!"}},{"$f":"((AA899*#REF!)+(#REF!*#REF!)+(#REF!*#REF!))/(#REF!+#REF!+#REF!)","v":{"$error":"#VALUE!"}},{"$f":"((AA899*#REF!)+(#REF!*#REF!)+(#REF!*#REF!))/(#REF!+#REF!+#REF!)","v":{"$error":"#VALUE!"}},{"$f":"((AA899*#REF!)+(#REF!*#REF!)+(#REF!*#REF!))/(#REF!+#REF!+#REF!)","v":{"$error":"#VALUE!"}}]
[null,null,null,null,null,null,null,null,null,null,null,null,null,null,null,null,null,null,null,null,null,898,{"$error":"#VALUE!"},{"$f":"AVERAGE($W$3:W900)","v":{"$error":"#VALUE!"}},null,{"$f":"$M$2+W900","v":{"$error":"#VALUE!"}},{"$f":"(Z900*(9/5))+32","v":{"$error":"#VALUE!"}},{"$f":"AVERAGE($AA$3:AA900)","v":{"$error":"#VALUE!"}},null,null,null,{"$f":"((AA900*#REF!)+(#REF!*#REF!)+(#REF!*#REF!))/(#REF!+#REF!+#REF!)","v":{"$error":"#VALUE!"}},{"$f":"((AA900*#REF!)+(#REF!*#REF!)+(#REF!*#REF!))/(#REF!+#REF!+#REF!)","v":{"$error":"#VALUE!"}},{"$f":"((AA900*#REF!)+(#REF!*#REF!)+(#REF!*#REF!))/(#REF!+#REF!+#REF!)","v":{"$error":"#VALUE!"}},{"$f":"((AA900*#REF!)+(#REF!*#REF!)+(#REF!*#REF!))/(#REF!+#REF!+#REF!)","v":{"$error":"#VALUE!"}},{"$f":"((AA900*#REF!)+(#REF!*#REF!)+(#REF!*#REF!))/(#REF!+#REF!+#REF!)","v":{"$error":"#VALUE!"}},{"$f":"((AA900*#REF!)+(#REF!*#REF!)+(#REF!*#REF!))/(#REF!+#REF!+#REF!)","v":{"$error":"#VALUE!"}},{"$f":"((AA900*#REF!)+(#REF!*#REF!)+(#REF!*#REF!))/(#REF!+#REF!+#REF!)","v":{"$error":"#VALUE!"}}]
[null,null,null,null,null,null,null,null,null,null,null,null,null,null,null,null,null,null,null,null,null,899,{"$error":"#VALUE!"},{"$f":"AVERAGE($W$3:W901)","v":{"$error":"#VALUE!"}},null,{"$error":"#VALUE!"},{"$error":"#VALUE!"},{"$f":"AVERAGE($AA$3:AA901)","v":{"$error":"#VALUE!"}},null,null,null,{"$f":"((AA901*#REF!)+(#REF!*#REF!)+(#REF!*#REF!))/(#REF!+#REF!+#REF!)","v":{"$error":"#VALUE!"}},{"$f":"((AA901*#REF!)+(#REF!*#REF!)+(#REF!*#REF!))/(#REF!+#REF!+#REF!)","v":{"$error":"#VALUE!"}},{"$f":"((AA901*#REF!)+(#REF!*#REF!)+(#REF!*#REF!))/(#REF!+#REF!+#REF!)","v":{"$error":"#VALUE!"}},{"$f":"((AA901*#REF!)+(#REF!*#REF!)+(#REF!*#REF!))/(#REF!+#REF!+#REF!)","v":{"$error":"#VALUE!"}},{"$f":"((AA901*#REF!)+(#REF!*#REF!)+(#REF!*#REF!))/(#REF!+#REF!+#REF!)","v":{"$error":"#VALUE!"}},{"$f":"((AA901*#REF!)+(#REF!*#REF!)+(#REF!*#REF!))/(#REF!+#REF!+#REF!)","v":{"$error":"#VALUE!"}},{"$f":"((AA901*#REF!)+(#REF!*#REF!)+(#REF!*#REF!))/(#REF!+#REF!+#REF!)","v":{"$error":"#VALUE!"}}]
[null,null,null,null,null,null,null,null,null,null,null,null,null,null,null,null,null,null,null,null,null,900,{"$error":"#VALUE!"},{"$f":"AVERAGE($W$3:W902)","v":{"$error":"#VALUE!"}},null,{"$error":"#VALUE!"},{"$error":"#VALUE!"},{"$f":"AVERAGE($AA$3:AA902)","v":{"$error":"#VALUE!"}},null,null,null,{"$f":"((AA902*#REF!)+(#REF!*#REF!)+(#REF!*#REF!))/(#REF!+#REF!+#REF!)","v":{"$error":"#VALUE!"}},{"$f":"((AA902*#REF!)+(#REF!*#REF!)+(#REF!*#REF!))/(#REF!+#REF!+#REF!)","v":{"$error":"#VALUE!"}},{"$f":"((AA902*#REF!)+(#REF!*#REF!)+(#REF!*#REF!))/(#REF!+#REF!+#REF!)","v":{"$error":"#VALUE!"}},{"$f":"((AA902*#REF!)+(#REF!*#REF!)+(#REF!*#REF!))/(#REF!+#REF!+#REF!)","v":{"$error":"#VALUE!"}},{"$f":"((AA902*#REF!)+(#REF!*#REF!)+(#REF!*#REF!))/(#REF!+#REF!+#REF!)","v":{"$error":"#VALUE!"}},{"$f":"((AA902*#REF!)+(#REF!*#REF!)+(#REF!*#REF!))/(#REF!+#REF!+#REF!)","v":{"$error":"#VALUE!"}},{"$f":"((AA902*#REF!)+(#REF!*#REF!)+(#REF!*#REF!))/(#REF!+#REF!+#REF!)","v":{"$error":"#VALUE!"}}]
[null,null,null,null,null,null,null,null,null,null,null,null,null,null,null,null,null,null,null,null,null,901,{"$error":"#VALUE!"},{"$f":"AVERAGE($W$3:W903)","v":{"$error":"#VALUE!"}},null,{"$error":"#VALUE!"},{"$error":"#VALUE!"},{"$f":"AVERAGE($AA$3:AA903)","v":{"$error":"#VALUE!"}},null,null,null,{"$f":"((AA903*#REF!)+(#REF!*#REF!)+(#REF!*#REF!))/(#REF!+#REF!+#REF!)","v":{"$error":"#VALUE!"}},{"$f":"((AA903*#REF!)+(#REF!*#REF!)+(#REF!*#REF!))/(#REF!+#REF!+#REF!)","v":{"$error":"#VALUE!"}},{"$f":"((AA903*#REF!)+(#REF!*#REF!)+(#REF!*#REF!))/(#REF!+#REF!+#REF!)","v":{"$error":"#VALUE!"}},{"$f":"((AA903*#REF!)+(#REF!*#REF!)+(#REF!*#REF!))/(#REF!+#REF!+#REF!)","v":{"$error":"#VALUE!"}},{"$f":"((AA903*#REF!)+(#REF!*#REF!)+(#REF!*#REF!))/(#REF!+#REF!+#REF!)","v":{"$error":"#VALUE!"}},{"$f":"((AA903*#REF!)+(#REF!*#REF!)+(#REF!*#REF!))/(#REF!+#REF!+#REF!)","v":{"$error":"#VALUE!"}},{"$f":"((AA903*#REF!)+(#REF!*#REF!)+(#REF!*#REF!))/(#REF!+#REF!+#REF!)","v":{"$error":"#VALUE!"}}]
[null,null,null,null,null,null,null,null,null,null,null,null,null,null,null,null,null,null,null,null,null,902,{"$error":"#VALUE!"},{"$f":"AVERAGE($W$3:W904)","v":{"$error":"#VALUE!"}},null,{"$error":"#VALUE!"},{"$error":"#VALUE!"},{"$f":"AVERAGE($AA$3:AA904)","v":{"$error":"#VALUE!"}},null,null,null,{"$f":"((AA904*#REF!)+(#REF!*#REF!)+(#REF!*#REF!))/(#REF!+#REF!+#REF!)","v":{"$error":"#VALUE!"}},{"$f":"((AA904*#REF!)+(#REF!*#REF!)+(#REF!*#REF!))/(#REF!+#REF!+#REF!)","v":{"$error":"#VALUE!"}},{"$f":"((AA904*#REF!)+(#REF!*#REF!)+(#REF!*#REF!))/(#REF!+#REF!+#REF!)","v":{"$error":"#VALUE!"}},{"$f":"((AA904*#REF!)+(#REF!*#REF!)+(#REF!*#REF!))/(#REF!+#REF!+#REF!)","v":{"$error":"#VALUE!"}},{"$f":"((AA904*#REF!)+(#REF!*#REF!)+(#REF!*#REF!))/(#REF!+#REF!+#REF!)","v":{"$error":"#VALUE!"}},{"$f":"((AA904*#REF!)+(#REF!*#REF!)+(#REF!*#REF!))/(#REF!+#REF!+#REF!)","v":{"$error":"#VALUE!"}},{"$f":"((AA904*#REF!)+(#REF!*#REF!)+(#REF!*#REF!))/(#REF!+#REF!+#REF!)","v":{"$error":"#VALUE!"}}]
[null,null,null,null,null,null,null,null,null,null,null,null,null,null,null,null,null,null,null,null,null,903,{"$error":"#VALUE!"},{"$f":"AVERAGE($W$3:W905)","v":{"$error":"#VALUE!"}},null,{"$error":"#VALUE!"},{"$error":"#VALUE!"},{"$f":"AVERAGE($AA$3:AA905)","v":{"$error":"#VALUE!"}},null,null,null,{"$f":"((AA905*#REF!)+(#REF!*#REF!)+(#REF!*#REF!))/(#REF!+#REF!+#REF!)","v":{"$error":"#VALUE!"}},{"$f":"((AA905*#REF!)+(#REF!*#REF!)+(#REF!*#REF!))/(#REF!+#REF!+#REF!)","v":{"$error":"#VALUE!"}},{"$f":"((AA905*#REF!)+(#REF!*#REF!)+(#REF!*#REF!))/(#REF!+#REF!+#REF!)","v":{"$error":"#VALUE!"}},{"$f":"((AA905*#REF!)+(#REF!*#REF!)+(#REF!*#REF!))/(#REF!+#REF!+#REF!)","v":{"$error":"#VALUE!"}},{"$f":"((AA905*#REF!)+(#REF!*#REF!)+(#REF!*#REF!))/(#REF!+#REF!+#REF!)","v":{"$error":"#VALUE!"}},{"$f":"((AA905*#REF!)+(#REF!*#REF!)+(#REF!*#REF!))/(#REF!+#REF!+#REF!)","v":{"$error":"#VALUE!"}},{"$f":"((AA905*#REF!)+(#REF!*#REF!)+(#REF!*#REF!))/(#REF!+#REF!+#REF!)","v":{"$error":"#VALUE!"}}]
[null,null,null,null,null,null,null,null,null,null,null,null,null,null,null,null,null,null,null,null,null,904,{"$error":"#VALUE!"},{"$f":"AVERAGE($W$3:W906)","v":{"$error":"#VALUE!"}},null,{"$error":"#VALUE!"},{"$error":"#VALUE!"},{"$f":"AVERAGE($AA$3:AA906)","v":{"$error":"#VALUE!"}},null,null,null,{"$f":"((AA906*#REF!)+(#REF!*#REF!)+(#REF!*#REF!))/(#REF!+#REF!+#REF!)","v":{"$error":"#VALUE!"}},{"$f":"((AA906*#REF!)+(#REF!*#REF!)+(#REF!*#REF!))/(#REF!+#REF!+#REF!)","v":{"$error":"#VALUE!"}},{"$f":"((AA906*#REF!)+(#REF!*#REF!)+(#REF!*#REF!))/(#REF!+#REF!+#REF!)","v":{"$error":"#VALUE!"}},{"$f":"((AA906*#REF!)+(#REF!*#REF!)+(#REF!*#REF!))/(#REF!+#REF!+#REF!)","v":{"$error":"#VALUE!"}},{"$f":"((AA906*#REF!)+(#REF!*#REF!)+(#REF!*#REF!))/(#REF!+#REF!+#REF!)","v":{"$error":"#VALUE!"}},{"$f":"((AA906*#REF!)+(#REF!*#REF!)+(#REF!*#REF!))/(#REF!+#REF!+#REF!)","v":{"$error":"#VALUE!"}},{"$f":"((AA906*#REF!)+(#REF!*#REF!)+(#REF!*#REF!))/(#REF!+#REF!+#REF!)","v":{"$error":"#VALUE!"}}]
[null,null,null,null,null,null,null,null,null,null,null,null,null,null,null,null,null,null,null,null,null,905,{"$error":"#VALUE!"},{"$f":"AVERAGE($W$3:W907)","v":{"$error":"#VALUE!"}},null,{"$error":"#VALUE!"},{"$error":"#VALUE!"},{"$f":"AVERAGE($AA$3:AA907)","v":{"$error":"#VALUE!"}},null,null,null,{"$f":"((AA907*#REF!)+(#REF!*#REF!)+(#REF!*#REF!))/(#REF!+#REF!+#REF!)","v":{"$error":"#VALUE!"}},{"$f":"((AA907*#REF!)+(#REF!*#REF!)+(#REF!*#REF!))/(#REF!+#REF!+#REF!)","v":{"$error":"#VALUE!"}},{"$f":"((AA907*#REF!)+(#REF!*#REF!)+(#REF!*#REF!))/(#REF!+#REF!+#REF!)","v":{"$error":"#VALUE!"}},{"$f":"((AA907*#REF!)+(#REF!*#REF!)+(#REF!*#REF!))/(#REF!+#REF!+#REF!)","v":{"$error":"#VALUE!"}},{"$f":"((AA907*#REF!)+(#REF!*#REF!)+(#REF!*#REF!))/(#REF!+#REF!+#REF!)","v":{"$error":"#VALUE!"}},{"$f":"((AA907*#REF!)+(#REF!*#REF!)+(#REF!*#REF!))/(#REF!+#REF!+#REF!)","v":{"$error":"#VALUE!"}},{"$f":"((AA907*#REF!)+(#REF!*#REF!)+(#REF!*#REF!))/(#REF!+#REF!+#REF!)","v":{"$error":"#VALUE!"}}]
[null,null,null,null,null,null,null,null,null,null,null,null,null,null,null,null,null,null,null,null,null,906,{"$error":"#VALUE!"},{"$f":"AVERAGE($W$3:W908)","v":{"$error":"#VALUE!"}},null,{"$error":"#VALUE!"},{"$error":"#VALUE!"},{"$f":"AVERAGE($AA$3:AA908)","v":{"$error":"#VALUE!"}},null,null,null,{"$f":"((AA908*#REF!)+(#REF!*#REF!)+(#REF!*#REF!))/(#REF!+#REF!+#REF!)","v":{"$error":"#VALUE!"}},{"$f":"((AA908*#REF!)+(#REF!*#REF!)+(#REF!*#REF!))/(#REF!+#REF!+#REF!)","v":{"$error":"#VALUE!"}},{"$f":"((AA908*#REF!)+(#REF!*#REF!)+(#REF!*#REF!))/(#REF!+#REF!+#REF!)","v":{"$error":"#VALUE!"}},{"$f":"((AA908*#REF!)+(#REF!*#REF!)+(#REF!*#REF!))/(#REF!+#REF!+#REF!)","v":{"$error":"#VALUE!"}},{"$f":"((AA908*#REF!)+(#REF!*#REF!)+(#REF!*#REF!))/(#REF!+#REF!+#REF!)","v":{"$error":"#VALUE!"}},{"$f":"((AA908*#REF!)+(#REF!*#REF!)+(#REF!*#REF!))/(#REF!+#REF!+#REF!)","v":{"$error":"#VALUE!"}},{"$f":"((AA908*#REF!)+(#REF!*#REF!)+(#REF!*#REF!))/(#REF!+#REF!+#REF!)","v":{"$error":"#VALUE!"}}]
[null,null,null,null,null,null,null,null,null,null,null,null,null,null,null,null,null,null,null,null,null,907,{"$error":"#VALUE!"},{"$f":"AVERAGE($W$3:W909)","v":{"$error":"#VALUE!"}},null,{"$error":"#VALUE!"},{"$error":"#VALUE!"},{"$f":"AVERAGE($AA$3:AA909)","v":{"$error":"#VALUE!"}},null,null,null,{"$f":"((AA909*#REF!)+(#REF!*#REF!)+(#REF!*#REF!))/(#REF!+#REF!+#REF!)","v":{"$error":"#VALUE!"}},{"$f":"((AA909*#REF!)+(#REF!*#REF!)+(#REF!*#REF!))/(#REF!+#REF!+#REF!)","v":{"$error":"#VALUE!"}},{"$f":"((AA909*#REF!)+(#REF!*#REF!)+(#REF!*#REF!))/(#REF!+#REF!+#REF!)","v":{"$error":"#VALUE!"}},{"$f":"((AA909*#REF!)+(#REF!*#REF!)+(#REF!*#REF!))/(#REF!+#REF!+#REF!)","v":{"$error":"#VALUE!"}},{"$f":"((AA909*#REF!)+(#REF!*#REF!)+(#REF!*#REF!))/(#REF!+#REF!+#REF!)","v":{"$error":"#VALUE!"}},{"$f":"((AA909*#REF!)+(#REF!*#REF!)+(#REF!*#REF!))/(#REF!+#REF!+#REF!)","v":{"$error":"#VALUE!"}},{"$f":"((AA909*#REF!)+(#REF!*#REF!)+(#REF!*#REF!))/(#REF!+#REF!+#REF!)","v":{"$error":"#VALUE!"}}]
[null,null,null,null,null,null,null,null,null,null,null,null,null,null,null,null,null,null,null,null,null,908,{"$error":"#VALUE!"},{"$f":"AVERAGE($W$3:W910)","v":{"$error":"#VALUE!"}},null,{"$error":"#VALUE!"},{"$error":"#VALUE!"},{"$f":"AVERAGE($AA$3:AA910)","v":{"$error":"#VALUE!"}},null,null,null,{"$f":"((AA910*#REF!)+(#REF!*#REF!)+(#REF!*#REF!))/(#REF!+#REF!+#REF!)","v":{"$error":"#VALUE!"}},{"$f":"((AA910*#REF!)+(#REF!*#REF!)+(#REF!*#REF!))/(#REF!+#REF!+#REF!)","v":{"$error":"#VALUE!"}},{"$f":"((AA910*#REF!)+(#REF!*#REF!)+(#REF!*#REF!))/(#REF!+#REF!+#REF!)","v":{"$error":"#VALUE!"}},{"$f":"((AA910*#REF!)+(#REF!*#REF!)+(#REF!*#REF!))/(#REF!+#REF!+#REF!)","v":{"$error":"#VALUE!"}},{"$f":"((AA910*#REF!)+(#REF!*#REF!)+(#REF!*#REF!))/(#REF!+#REF!+#REF!)","v":{"$error":"#VALUE!"}},{"$f":"((AA910*#REF!)+(#REF!*#REF!)+(#REF!*#REF!))/(#REF!+#REF!+#REF!)","v":{"$error":"#VALUE!"}},{"$f":"((AA910*#REF!)+(#REF!*#REF!)+(#REF!*#REF!))/(#REF!+#REF!+#REF!)","v":{"$error":"#VALUE!"}}]
[null,null,null,null,null,null,null,null,null,null,null,null,null,null,null,null,null,null,null,null,null,909,{"$error":"#VALUE!"},{"$f":"AVERAGE($W$3:W911)","v":{"$error":"#VALUE!"}},null,{"$error":"#VALUE!"},{"$error":"#VALUE!"},{"$f":"AVERAGE($AA$3:AA911)","v":{"$error":"#VALUE!"}},null,null,null,{"$f":"((AA911*#REF!)+(#REF!*#REF!)+(#REF!*#REF!))/(#REF!+#REF!+#REF!)","v":{"$error":"#VALUE!"}},{"$f":"((AA911*#REF!)+(#REF!*#REF!)+(#REF!*#REF!))/(#REF!+#REF!+#REF!)","v":{"$error":"#VALUE!"}},{"$f":"((AA911*#REF!)+(#REF!*#REF!)+(#REF!*#REF!))/(#REF!+#REF!+#REF!)","v":{"$error":"#VALUE!"}},{"$f":"((AA911*#REF!)+(#REF!*#REF!)+(#REF!*#REF!))/(#REF!+#REF!+#REF!)","v":{"$error":"#VALUE!"}},{"$f":"((AA911*#REF!)+(#REF!*#REF!)+(#REF!*#REF!))/(#REF!+#REF!+#REF!)","v":{"$error":"#VALUE!"}},{"$f":"((AA911*#REF!)+(#REF!*#REF!)+(#REF!*#REF!))/(#REF!+#REF!+#REF!)","v":{"$error":"#VALUE!"}},{"$f":"((AA911*#REF!)+(#REF!*#REF!)+(#REF!*#REF!))/(#REF!+#REF!+#REF!)","v":{"$error":"#VALUE!"}}]
[null,null,null,null,null,null,null,null,null,null,null,null,null,null,null,null,null,null,null,null,null,910,{"$error":"#VALUE!"},{"$f":"AVERAGE($W$3:W912)","v":{"$error":"#VALUE!"}},null,{"$error":"#VALUE!"},{"$error":"#VALUE!"},{"$f":"AVERAGE($AA$3:AA912)","v":{"$error":"#VALUE!"}},null,null,null,{"$f":"((AA912*#REF!)+(#REF!*#REF!)+(#REF!*#REF!))/(#REF!+#REF!+#REF!)","v":{"$error":"#VALUE!"}},{"$f":"((AA912*#REF!)+(#REF!*#REF!)+(#REF!*#REF!))/(#REF!+#REF!+#REF!)","v":{"$error":"#VALUE!"}},{"$f":"((AA912*#REF!)+(#REF!*#REF!)+(#REF!*#REF!))/(#REF!+#REF!+#REF!)","v":{"$error":"#VALUE!"}},{"$f":"((AA912*#REF!)+(#REF!*#REF!)+(#REF!*#REF!))/(#REF!+#REF!+#REF!)","v":{"$error":"#VALUE!"}},{"$f":"((AA912*#REF!)+(#REF!*#REF!)+(#REF!*#REF!))/(#REF!+#REF!+#REF!)","v":{"$error":"#VALUE!"}},{"$f":"((AA912*#REF!)+(#REF!*#REF!)+(#REF!*#REF!))/(#REF!+#REF!+#REF!)","v":{"$error":"#VALUE!"}},{"$f":"((AA912*#REF!)+(#REF!*#REF!)+(#REF!*#REF!))/(#REF!+#REF!+#REF!)","v":{"$error":"#VALUE!"}}]
[null,null,null,null,null,null,null,null,null,null,null,null,null,null,null,null,null,null,null,null,null,911,{"$error":"#VALUE!"},{"$f":"AVERAGE($W$3:W913)","v":{"$error":"#VALUE!"}},null,{"$error":"#VALUE!"},{"$error":"#VALUE!"},{"$f":"AVERAGE($AA$3:AA913)","v":{"$error":"#VALUE!"}},null,null,null,{"$f":"((AA913*#REF!)+(#REF!*#REF!)+(#REF!*#REF!))/(#REF!+#REF!+#REF!)","v":{"$error":"#VALUE!"}},{"$f":"((AA913*#REF!)+(#REF!*#REF!)+(#REF!*#REF!))/(#REF!+#REF!+#REF!)","v":{"$error":"#VALUE!"}},{"$f":"((AA913*#REF!)+(#REF!*#REF!)+(#REF!*#REF!))/(#REF!+#REF!+#REF!)","v":{"$error":"#VALUE!"}},{"$f":"((AA913*#REF!)+(#REF!*#REF!)+(#REF!*#REF!))/(#REF!+#REF!+#REF!)","v":{"$error":"#VALUE!"}},{"$f":"((AA913*#REF!)+(#REF!*#REF!)+(#REF!*#REF!))/(#REF!+#REF!+#REF!)","v":{"$error":"#VALUE!"}},{"$f":"((AA913*#REF!)+(#REF!*#REF!)+(#REF!*#REF!))/(#REF!+#REF!+#REF!)","v":{"$error":"#VALUE!"}},{"$f":"((AA913*#REF!)+(#REF!*#REF!)+(#REF!*#REF!))/(#REF!+#REF!+#REF!)","v":{"$error":"#VALUE!"}}]
[null,null,null,null,null,null,null,null,null,null,null,null,null,null,null,null,null,null,null,null,null,912,{"$error":"#VALUE!"},{"$f":"AVERAGE($W$3:W914)","v":{"$error":"#VALUE!"}},null,{"$error":"#VALUE!"},{"$error":"#VALUE!"},{"$f":"AVERAGE($AA$3:AA914)","v":{"$error":"#VALUE!"}},null,null,null,{"$f":"((AA914*#REF!)+(#REF!*#REF!)+(#REF!*#REF!))/(#REF!+#REF!+#REF!)","v":{"$error":"#VALUE!"}},{"$f":"((AA914*#REF!)+(#REF!*#REF!)+(#REF!*#REF!))/(#REF!+#REF!+#REF!)","v":{"$error":"#VALUE!"}},{"$f":"((AA914*#REF!)+(#REF!*#REF!)+(#REF!*#REF!))/(#REF!+#REF!+#REF!)","v":{"$error":"#VALUE!"}},{"$f":"((AA914*#REF!)+(#REF!*#REF!)+(#REF!*#REF!))/(#REF!+#REF!+#REF!)","v":{"$error":"#VALUE!"}},{"$f":"((AA914*#REF!)+(#REF!*#REF!)+(#REF!*#REF!))/(#REF!+#REF!+#REF!)","v":{"$error":"#VALUE!"}},{"$f":"((AA914*#REF!)+(#REF!*#REF!)+(#REF!*#REF!))/(#REF!+#REF!+#REF!)","v":{"$error":"#VALUE!"}},{"$f":"((AA914*#REF!)+(#REF!*#REF!)+(#REF!*#REF!))/(#REF!+#REF!+#REF!)","v":{"$error":"#VALUE!"}}]
[null,null,null,null,null,null,null,null,null,null,null,null,null,null,null,null,null,null,null,null,null,913,{"$error":"#VALUE!"},{"$f":"AVERAGE($W$3:W915)","v":{"$error":"#VALUE!"}},null,{"$error":"#VALUE!"},{"$error":"#VALUE!"},{"$f":"AVERAGE($AA$3:AA915)","v":{"$error":"#VALUE!"}},null,null,null,{"$f":"((AA915*#REF!)+(#REF!*#REF!)+(#REF!*#REF!))/(#REF!+#REF!+#REF!)","v":{"$error":"#VALUE!"}},{"$f":"((AA915*#REF!)+(#REF!*#REF!)+(#REF!*#REF!))/(#REF!+#REF!+#REF!)","v":{"$error":"#VALUE!"}},{"$f":"((AA915*#REF!)+(#REF!*#REF!)+(#REF!*#REF!))/(#REF!+#REF!+#REF!)","v":{"$error":"#VALUE!"}},{"$f":"((AA915*#REF!)+(#REF!*#REF!)+(#REF!*#REF!))/(#REF!+#REF!+#REF!)","v":{"$error":"#VALUE!"}},{"$f":"((AA915*#REF!)+(#REF!*#REF!)+(#REF!*#REF!))/(#REF!+#REF!+#REF!)","v":{"$error":"#VALUE!"}},{"$f":"((AA915*#REF!)+(#REF!*#REF!)+(#REF!*#REF!))/(#REF!+#REF!+#REF!)","v":{"$error":"#VALUE!"}},{"$f":"((AA915*#REF!)+(#REF!*#REF!)+(#REF!*#REF!))/(#REF!+#REF!+#REF!)","v":{"$error":"#VALUE!"}}]
[null,null,null,null,null,null,null,null,null,null,null,null,null,null,null,null,null,null,null,null,null,914,{"$error":"#VALUE!"},{"$f":"AVERAGE($W$3:W916)","v":{"$error":"#VALUE!"}},null,{"$error":"#VALUE!"},{"$error":"#VALUE!"},{"$f":"AVERAGE($AA$3:AA916)","v":{"$error":"#VALUE!"}},null,null,null,{"$f":"((AA916*#REF!)+(#REF!*#REF!)+(#REF!*#REF!))/(#REF!+#REF!+#REF!)","v":{"$error":"#VALUE!"}},{"$f":"((AA916*#REF!)+(#REF!*#REF!)+(#REF!*#REF!))/(#REF!+#REF!+#REF!)","v":{"$error":"#VALUE!"}},{"$f":"((AA916*#REF!)+(#REF!*#REF!)+(#REF!*#REF!))/(#REF!+#REF!+#REF!)","v":{"$error":"#VALUE!"}},{"$f":"((AA916*#REF!)+(#REF!*#REF!)+(#REF!*#REF!))/(#REF!+#REF!+#REF!)","v":{"$error":"#VALUE!"}},{"$f":"((AA916*#REF!)+(#REF!*#REF!)+(#REF!*#REF!))/(#REF!+#REF!+#REF!)","v":{"$error":"#VALUE!"}},{"$f":"((AA916*#REF!)+(#REF!*#REF!)+(#REF!*#REF!))/(#REF!+#REF!+#REF!)","v":{"$error":"#VALUE!"}},{"$f":"((AA916*#REF!)+(#REF!*#REF!)+(#REF!*#REF!))/(#REF!+#REF!+#REF!)","v":{"$error":"#VALUE!"}}]
[null,null,null,null,null,null,null,null,null,null,null,null,null,null,null,null,null,null,null,null,null,915,{"$error":"#VALUE!"},{"$f":"AVERAGE($W$3:W917)","v":{"$error":"#VALUE!"}},null,{"$error":"#VALUE!"},{"$error":"#VALUE!"},{"$f":"AVERAGE($AA$3:AA917)","v":{"$error":"#VALUE!"}},null,null,null,{"$f":"((AA917*#REF!)+(#REF!*#REF!)+(#REF!*#REF!))/(#REF!+#REF!+#REF!)","v":{"$error":"#VALUE!"}},{"$f":"((AA917*#REF!)+(#REF!*#REF!)+(#REF!*#REF!))/(#REF!+#REF!+#REF!)","v":{"$error":"#VALUE!"}},{"$f":"((AA917*#REF!)+(#REF!*#REF!)+(#REF!*#REF!))/(#REF!+#REF!+#REF!)","v":{"$error":"#VALUE!"}},{"$f":"((AA917*#REF!)+(#REF!*#REF!)+(#REF!*#REF!))/(#REF!+#REF!+#REF!)","v":{"$error":"#VALUE!"}},{"$f":"((AA917*#REF!)+(#REF!*#REF!)+(#REF!*#REF!))/(#REF!+#REF!+#REF!)","v":{"$error":"#VALUE!"}},{"$f":"((AA917*#REF!)+(#REF!*#REF!)+(#REF!*#REF!))/(#REF!+#REF!+#REF!)","v":{"$error":"#VALUE!"}},{"$f":"((AA917*#REF!)+(#REF!*#REF!)+(#REF!*#REF!))/(#REF!+#REF!+#REF!)","v":{"$error":"#VALUE!"}}]
[null,null,null,null,null,null,null,null,null,null,null,null,null,null,null,null,null,null,null,null,null,916,{"$error":"#VALUE!"},{"$f":"AVERAGE($W$3:W918)","v":{"$error":"#VALUE!"}},null,{"$error":"#VALUE!"},{"$error":"#VALUE!"},{"$f":"AVERAGE($AA$3:AA918)","v":{"$error":"#VALUE!"}},null,null,null,{"$f":"((AA918*#REF!)+(#REF!*#REF!)+(#REF!*#REF!))/(#REF!+#REF!+#REF!)","v":{"$error":"#VALUE!"}},{"$f":"((AA918*#REF!)+(#REF!*#REF!)+(#REF!*#REF!))/(#REF!+#REF!+#REF!)","v":{"$error":"#VALUE!"}},{"$f":"((AA918*#REF!)+(#REF!*#REF!)+(#REF!*#REF!))/(#REF!+#REF!+#REF!)","v":{"$error":"#VALUE!"}},{"$f":"((AA918*#REF!)+(#REF!*#REF!)+(#REF!*#REF!))/(#REF!+#REF!+#REF!)","v":{"$error":"#VALUE!"}},{"$f":"((AA918*#REF!)+(#REF!*#REF!)+(#REF!*#REF!))/(#REF!+#REF!+#REF!)","v":{"$error":"#VALUE!"}},{"$f":"((AA918*#REF!)+(#REF!*#REF!)+(#REF!*#REF!))/(#REF!+#REF!+#REF!)","v":{"$error":"#VALUE!"}},{"$f":"((AA918*#REF!)+(#REF!*#REF!)+(#REF!*#REF!))/(#REF!+#REF!+#REF!)","v":{"$error":"#VALUE!"}}]
[null,null,null,null,null,null,null,null,null,null,null,null,null,null,null,null,null,null,null,null,null,917,{"$error":"#VALUE!"},{"$f":"AVERAGE($W$3:W919)","v":{"$error":"#VALUE!"}},null,{"$error":"#VALUE!"},{"$error":"#VALUE!"},{"$f":"AVERAGE($AA$3:AA919)","v":{"$error":"#VALUE!"}},null,null,null,{"$f":"((AA919*#REF!)+(#REF!*#REF!)+(#REF!*#REF!))/(#REF!+#REF!+#REF!)","v":{"$error":"#VALUE!"}},{"$f":"((AA919*#REF!)+(#REF!*#REF!)+(#REF!*#REF!))/(#REF!+#REF!+#REF!)","v":{"$error":"#VALUE!"}},{"$f":"((AA919*#REF!)+(#REF!*#REF!)+(#REF!*#REF!))/(#REF!+#REF!+#REF!)","v":{"$error":"#VALUE!"}},{"$f":"((AA919*#REF!)+(#REF!*#REF!)+(#REF!*#REF!))/(#REF!+#REF!+#REF!)","v":{"$error":"#VALUE!"}},{"$f":"((AA919*#REF!)+(#REF!*#REF!)+(#REF!*#REF!))/(#REF!+#REF!+#REF!)","v":{"$error":"#VALUE!"}},{"$f":"((AA919*#REF!)+(#REF!*#REF!)+(#REF!*#REF!))/(#REF!+#REF!+#REF!)","v":{"$error":"#VALUE!"}},{"$f":"((AA919*#REF!)+(#REF!*#REF!)+(#REF!*#REF!))/(#REF!+#REF!+#REF!)","v":{"$error":"#VALUE!"}}]
[null,null,null,null,null,null,null,null,null,null,null,null,null,null,null,null,null,null,null,null,null,918,{"$error":"#VALUE!"},{"$f":"AVERAGE($W$3:W920)","v":{"$error":"#VALUE!"}},null,{"$error":"#VALUE!"},{"$error":"#VALUE!"},{"$f":"AVERAGE($AA$3:AA920)","v":{"$error":"#VALUE!"}},null,null,null,{"$f":"((AA920*#REF!)+(#REF!*#REF!)+(#REF!*#REF!))/(#REF!+#REF!+#REF!)","v":{"$error":"#VALUE!"}},{"$f":"((AA920*#REF!)+(#REF!*#REF!)+(#REF!*#REF!))/(#REF!+#REF!+#REF!)","v":{"$error":"#VALUE!"}},{"$f":"((AA920*#REF!)+(#REF!*#REF!)+(#REF!*#REF!))/(#REF!+#REF!+#REF!)","v":{"$error":"#VALUE!"}},{"$f":"((AA920*#REF!)+(#REF!*#REF!)+(#REF!*#REF!))/(#REF!+#REF!+#REF!)","v":{"$error":"#VALUE!"}},{"$f":"((AA920*#REF!)+(#REF!*#REF!)+(#REF!*#REF!))/(#REF!+#REF!+#REF!)","v":{"$error":"#VALUE!"}},{"$f":"((AA920*#REF!)+(#REF!*#REF!)+(#REF!*#REF!))/(#REF!+#REF!+#REF!)","v":{"$error":"#VALUE!"}},{"$f":"((AA920*#REF!)+(#REF!*#REF!)+(#REF!*#REF!))/(#REF!+#REF!+#REF!)","v":{"$error":"#VALUE!"}}]
[null,null,null,null,null,null,null,null,null,null,null,null,null,null,null,null,null,null,null,null,null,919,{"$error":"#VALUE!"},{"$f":"AVERAGE($W$3:W921)","v":{"$error":"#VALUE!"}},null,{"$error":"#VALUE!"},{"$error":"#VALUE!"},{"$f":"AVERAGE($AA$3:AA921)","v":{"$error":"#VALUE!"}},null,null,null,{"$f":"((AA921*#REF!)+(#REF!*#REF!)+(#REF!*#REF!))/(#REF!+#REF!+#REF!)","v":{"$error":"#VALUE!"}},{"$f":"((AA921*#REF!)+(#REF!*#REF!)+(#REF!*#REF!))/(#REF!+#REF!+#REF!)","v":{"$error":"#VALUE!"}},{"$f":"((AA921*#REF!)+(#REF!*#REF!)+(#REF!*#REF!))/(#REF!+#REF!+#REF!)","v":{"$error":"#VALUE!"}},{"$f":"((AA921*#REF!)+(#REF!*#REF!)+(#REF!*#REF!))/(#REF!+#REF!+#REF!)","v":{"$error":"#VALUE!"}},{"$f":"((AA921*#REF!)+(#REF!*#REF!)+(#REF!*#REF!))/(#REF!+#REF!+#REF!)","v":{"$error":"#VALUE!"}},{"$f":"((AA921*#REF!)+(#REF!*#REF!)+(#REF!*#REF!))/(#REF!+#REF!+#REF!)","v":{"$error":"#VALUE!"}},{"$f":"((AA921*#REF!)+(#REF!*#REF!)+(#REF!*#REF!))/(#REF!+#REF!+#REF!)","v":{"$error":"#VALUE!"}}]
[null,null,null,null,null,null,null,null,null,null,null,null,null,null,null,null,null,null,null,null,null,920,{"$error":"#VALUE!"},{"$f":"AVERAGE($W$3:W922)","v":{"$error":"#VALUE!"}},null,{"$error":"#VALUE!"},{"$error":"#VALUE!"},{"$f":"AVERAGE($AA$3:AA922)","v":{"$error":"#VALUE!"}},null,null,null,{"$f":"((AA922*#REF!)+(#REF!*#REF!)+(#REF!*#REF!))/(#REF!+#REF!+#REF!)","v":{"$error":"#VALUE!"}},{"$f":"((AA922*#REF!)+(#REF!*#REF!)+(#REF!*#REF!))/(#REF!+#REF!+#REF!)","v":{"$error":"#VALUE!"}},{"$f":"((AA922*#REF!)+(#REF!*#REF!)+(#REF!*#REF!))/(#REF!+#REF!+#REF!)","v":{"$error":"#VALUE!"}},{"$f":"((AA922*#REF!)+(#REF!*#REF!)+(#REF!*#REF!))/(#REF!+#REF!+#REF!)","v":{"$error":"#VALUE!"}},{"$f":"((AA922*#REF!)+(#REF!*#REF!)+(#REF!*#REF!))/(#REF!+#REF!+#REF!)","v":{"$error":"#VALUE!"}},{"$f":"((AA922*#REF!)+(#REF!*#REF!)+(#REF!*#REF!))/(#REF!+#REF!+#REF!)","v":{"$error":"#VALUE!"}},{"$f":"((AA922*#REF!)+(#REF!*#REF!)+(#REF!*#REF!))/(#REF!+#REF!+#REF!)","v":{"$error":"#VALUE!"}}]
[null,null,null,null,null,null,null,null,null,null,null,null,null,null,null,null,null,null,null,null,null,921,{"$error":"#VALUE!"},{"$f":"AVERAGE($W$3:W923)","v":{"$error":"#VALUE!"}},null,{"$error":"#VALUE!"},{"$error":"#VALUE!"},{"$f":"AVERAGE($AA$3:AA923)","v":{"$error":"#VALUE!"}},null,null,null,{"$f":"((AA923*#REF!)+(#REF!*#REF!)+(#REF!*#REF!))/(#REF!+#REF!+#REF!)","v":{"$error":"#VALUE!"}},{"$f":"((AA923*#REF!)+(#REF!*#REF!)+(#REF!*#REF!))/(#REF!+#REF!+#REF!)","v":{"$error":"#VALUE!"}},{"$f":"((AA923*#REF!)+(#REF!*#REF!)+(#REF!*#REF!))/(#REF!+#REF!+#REF!)","v":{"$error":"#VALUE!"}},{"$f":"((AA923*#REF!)+(#REF!*#REF!)+(#REF!*#REF!))/(#REF!+#REF!+#REF!)","v":{"$error":"#VALUE!"}},{"$f":"((AA923*#REF!)+(#REF!*#REF!)+(#REF!*#REF!))/(#REF!+#REF!+#REF!)","v":{"$error":"#VALUE!"}},{"$f":"((AA923*#REF!)+(#REF!*#REF!)+(#REF!*#REF!))/(#REF!+#REF!+#REF!)","v":{"$error":"#VALUE!"}},{"$f":"((AA923*#REF!)+(#REF!*#REF!)+(#REF!*#REF!))/(#REF!+#REF!+#REF!)","v":{"$error":"#VALUE!"}}]
[null,null,null,null,null,null,null,null,null,null,null,null,null,null,null,null,null,null,null,null,null,922,{"$error":"#VALUE!"},{"$f":"AVERAGE($W$3:W924)","v":{"$error":"#VALUE!"}},null,{"$error":"#VALUE!"},{"$error":"#VALUE!"},{"$f":"AVERAGE($AA$3:AA924)","v":{"$error":"#VALUE!"}},null,null,null,{"$f":"((AA924*#REF!)+(#REF!*#REF!)+(#REF!*#REF!))/(#REF!+#REF!+#REF!)","v":{"$error":"#VALUE!"}},{"$f":"((AA924*#REF!)+(#REF!*#REF!)+(#REF!*#REF!))/(#REF!+#REF!+#REF!)","v":{"$error":"#VALUE!"}},{"$f":"((AA924*#REF!)+(#REF!*#REF!)+(#REF!*#REF!))/(#REF!+#REF!+#REF!)","v":{"$error":"#VALUE!"}},{"$f":"((AA924*#REF!)+(#REF!*#REF!)+(#REF!*#REF!))/(#REF!+#REF!+#REF!)","v":{"$error":"#VALUE!"}},{"$f":"((AA924*#REF!)+(#REF!*#REF!)+(#REF!*#REF!))/(#REF!+#REF!+#REF!)","v":{"$error":"#VALUE!"}},{"$f":"((AA924*#REF!)+(#REF!*#REF!)+(#REF!*#REF!))/(#REF!+#REF!+#REF!)","v":{"$error":"#VALUE!"}},{"$f":"((AA924*#REF!)+(#REF!*#REF!)+(#REF!*#REF!))/(#REF!+#REF!+#REF!)","v":{"$error":"#VALUE!"}}]
[null,null,null,null,null,null,null,null,null,null,null,null,null,null,null,null,null,null,null,null,null,923,{"$error":"#VALUE!"},{"$f":"AVERAGE($W$3:W925)","v":{"$error":"#VALUE!"}},null,{"$error":"#VALUE!"},{"$error":"#VALUE!"},{"$f":"AVERAGE($AA$3:AA925)","v":{"$error":"#VALUE!"}},null,null,null,{"$f":"((AA925*#REF!)+(#REF!*#REF!)+(#REF!*#REF!))/(#REF!+#REF!+#REF!)","v":{"$error":"#VALUE!"}},{"$f":"((AA925*#REF!)+(#REF!*#REF!)+(#REF!*#REF!))/(#REF!+#REF!+#REF!)","v":{"$error":"#VALUE!"}},{"$f":"((AA925*#REF!)+(#REF!*#REF!)+(#REF!*#REF!))/(#REF!+#REF!+#REF!)","v":{"$error":"#VALUE!"}},{"$f":"((AA925*#REF!)+(#REF!*#REF!)+(#REF!*#REF!))/(#REF!+#REF!+#REF!)","v":{"$error":"#VALUE!"}},{"$f":"((AA925*#REF!)+(#REF!*#REF!)+(#REF!*#REF!))/(#REF!+#REF!+#REF!)","v":{"$error":"#VALUE!"}},{"$f":"((AA925*#REF!)+(#REF!*#REF!)+(#REF!*#REF!))/(#REF!+#REF!+#REF!)","v":{"$error":"#VALUE!"}},{"$f":"((AA925*#REF!)+(#REF!*#REF!)+(#REF!*#REF!))/(#REF!+#REF!+#REF!)","v":{"$error":"#VALUE!"}}]
[null,null,null,null,null,null,null,null,null,null,null,null,null,null,null,null,null,null,null,null,null,924,{"$error":"#VALUE!"},{"$f":"AVERAGE($W$3:W926)","v":{"$error":"#VALUE!"}},null,{"$error":"#VALUE!"},{"$error":"#VALUE!"},{"$f":"AVERAGE($AA$3:AA926)","v":{"$error":"#VALUE!"}},null,null,null,{"$f":"((AA926*#REF!)+(#REF!*#REF!)+(#REF!*#REF!))/(#REF!+#REF!+#REF!)","v":{"$error":"#VALUE!"}},{"$f":"((AA926*#REF!)+(#REF!*#REF!)+(#REF!*#REF!))/(#REF!+#REF!+#REF!)","v":{"$error":"#VALUE!"}},{"$f":"((AA926*#REF!)+(#REF!*#REF!)+(#REF!*#REF!))/(#REF!+#REF!+#REF!)","v":{"$error":"#VALUE!"}},{"$f":"((AA926*#REF!)+(#REF!*#REF!)+(#REF!*#REF!))/(#REF!+#REF!+#REF!)","v":{"$error":"#VALUE!"}},{"$f":"((AA926*#REF!)+(#REF!*#REF!)+(#REF!*#REF!))/(#REF!+#REF!+#REF!)","v":{"$error":"#VALUE!"}},{"$f":"((AA926*#REF!)+(#REF!*#REF!)+(#REF!*#REF!))/(#REF!+#REF!+#REF!)","v":{"$error":"#VALUE!"}},{"$f":"((AA926*#REF!)+(#REF!*#REF!)+(#REF!*#REF!))/(#REF!+#REF!+#REF!)","v":{"$error":"#VALUE!"}}]
[null,null,null,null,null,null,null,null,null,null,null,null,null,null,null,null,null,null,null,null,null,925,{"$error":"#VALUE!"},{"$f":"AVERAGE($W$3:W927)","v":{"$error":"#VALUE!"}},null,{"$error":"#VALUE!"},{"$error":"#VALUE!"},{"$f":"AVERAGE($AA$3:AA927)","v":{"$error":"#VALUE!"}},null,null,null,{"$f":"((AA927*#REF!)+(#REF!*#REF!)+(#REF!*#REF!))/(#REF!+#REF!+#REF!)","v":{"$error":"#VALUE!"}},{"$f":"((AA927*#REF!)+(#REF!*#REF!)+(#REF!*#REF!))/(#REF!+#REF!+#REF!)","v":{"$error":"#VALUE!"}},{"$f":"((AA927*#REF!)+(#REF!*#REF!)+(#REF!*#REF!))/(#REF!+#REF!+#REF!)","v":{"$error":"#VALUE!"}},{"$f":"((AA927*#REF!)+(#REF!*#REF!)+(#REF!*#REF!))/(#REF!+#REF!+#REF!)","v":{"$error":"#VALUE!"}},{"$f":"((AA927*#REF!)+(#REF!*#REF!)+(#REF!*#REF!))/(#REF!+#REF!+#REF!)","v":{"$error":"#VALUE!"}},{"$f":"((AA927*#REF!)+(#REF!*#REF!)+(#REF!*#REF!))/(#REF!+#REF!+#REF!)","v":{"$error":"#VALUE!"}},{"$f":"((AA927*#REF!)+(#REF!*#REF!)+(#REF!*#REF!))/(#REF!+#REF!+#REF!)","v":{"$error":"#VALUE!"}}]
[null,null,null,null,null,null,null,null,null,null,null,null,null,null,null,null,null,null,null,null,null,926,{"$error":"#VALUE!"},{"$f":"AVERAGE($W$3:W928)","v":{"$error":"#VALUE!"}},null,{"$error":"#VALUE!"},{"$error":"#VALUE!"},{"$f":"AVERAGE($AA$3:AA928)","v":{"$error":"#VALUE!"}},null,null,null,{"$f":"((AA928*#REF!)+(#REF!*#REF!)+(#REF!*#REF!))/(#REF!+#REF!+#REF!)","v":{"$error":"#VALUE!"}},{"$f":"((AA928*#REF!)+(#REF!*#REF!)+(#REF!*#REF!))/(#REF!+#REF!+#REF!)","v":{"$error":"#VALUE!"}},{"$f":"((AA928*#REF!)+(#REF!*#REF!)+(#REF!*#REF!))/(#REF!+#REF!+#REF!)","v":{"$error":"#VALUE!"}},{"$f":"((AA928*#REF!)+(#REF!*#REF!)+(#REF!*#REF!))/(#REF!+#REF!+#REF!)","v":{"$error":"#VALUE!"}},{"$f":"((AA928*#REF!)+(#REF!*#REF!)+(#REF!*#REF!))/(#REF!+#REF!+#REF!)","v":{"$error":"#VALUE!"}},{"$f":"((AA928*#REF!)+(#REF!*#REF!)+(#REF!*#REF!))/(#REF!+#REF!+#REF!)","v":{"$error":"#VALUE!"}},{"$f":"((AA928*#REF!)+(#REF!*#REF!)+(#REF!*#REF!))/(#REF!+#REF!+#REF!)","v":{"$error":"#VALUE!"}}]
[null,null,null,null,null,null,null,null,null,null,null,null,null,null,null,null,null,null,null,null,null,927,{"$error":"#VALUE!"},{"$f":"AVERAGE($W$3:W929)","v":{"$error":"#VALUE!"}},null,{"$error":"#VALUE!"},{"$error":"#VALUE!"},{"$f":"AVERAGE($AA$3:AA929)","v":{"$error":"#VALUE!"}},null,null,null,{"$f":"((AA929*#REF!)+(#REF!*#REF!)+(#REF!*#REF!))/(#REF!+#REF!+#REF!)","v":{"$error":"#VALUE!"}},{"$f":"((AA929*#REF!)+(#REF!*#REF!)+(#REF!*#REF!))/(#REF!+#REF!+#REF!)","v":{"$error":"#VALUE!"}},{"$f":"((AA929*#REF!)+(#REF!*#REF!)+(#REF!*#REF!))/(#REF!+#REF!+#REF!)","v":{"$error":"#VALUE!"}},{"$f":"((AA929*#REF!)+(#REF!*#REF!)+(#REF!*#REF!))/(#REF!+#REF!+#REF!)","v":{"$error":"#VALUE!"}},{"$f":"((AA929*#REF!)+(#REF!*#REF!)+(#REF!*#REF!))/(#REF!+#REF!+#REF!)","v":{"$error":"#VALUE!"}},{"$f":"((AA929*#REF!)+(#REF!*#REF!)+(#REF!*#REF!))/(#REF!+#REF!+#REF!)","v":{"$error":"#VALUE!"}},{"$f":"((AA929*#REF!)+(#REF!*#REF!)+(#REF!*#REF!))/(#REF!+#REF!+#REF!)","v":{"$error":"#VALUE!"}}]
[null,null,null,null,null,null,null,null,null,null,null,null,null,null,null,null,null,null,null,null,null,928,{"$error":"#VALUE!"},{"$f":"AVERAGE($W$3:W930)","v":{"$error":"#VALUE!"}},null,{"$error":"#VALUE!"},{"$error":"#VALUE!"},{"$f":"AVERAGE($AA$3:AA930)","v":{"$error":"#VALUE!"}},null,null,null,{"$f":"((AA930*#REF!)+(#REF!*#REF!)+(#REF!*#REF!))/(#REF!+#REF!+#REF!)","v":{"$error":"#VALUE!"}},{"$f":"((AA930*#REF!)+(#REF!*#REF!)+(#REF!*#REF!))/(#REF!+#REF!+#REF!)","v":{"$error":"#VALUE!"}},{"$f":"((AA930*#REF!)+(#REF!*#REF!)+(#REF!*#REF!))/(#REF!+#REF!+#REF!)","v":{"$error":"#VALUE!"}},{"$f":"((AA930*#REF!)+(#REF!*#REF!)+(#REF!*#REF!))/(#REF!+#REF!+#REF!)","v":{"$error":"#VALUE!"}},{"$f":"((AA930*#REF!)+(#REF!*#REF!)+(#REF!*#REF!))/(#REF!+#REF!+#REF!)","v":{"$error":"#VALUE!"}},{"$f":"((AA930*#REF!)+(#REF!*#REF!)+(#REF!*#REF!))/(#REF!+#REF!+#REF!)","v":{"$error":"#VALUE!"}},{"$f":"((AA930*#REF!)+(#REF!*#REF!)+(#REF!*#REF!))/(#REF!+#REF!+#REF!)","v":{"$error":"#VALUE!"}}]
[null,null,null,null,null,null,null,null,null,null,null,null,null,null,null,null,null,null,null,null,null,929,{"$error":"#VALUE!"},{"$f":"AVERAGE($W$3:W931)","v":{"$error":"#VALUE!"}},null,{"$error":"#VALUE!"},{"$error":"#VALUE!"},{"$f":"AVERAGE($AA$3:AA931)","v":{"$error":"#VALUE!"}},null,null,null,{"$f":"((AA931*#REF!)+(#REF!*#REF!)+(#REF!*#REF!))/(#REF!+#REF!+#REF!)","v":{"$error":"#VALUE!"}},{"$f":"((AA931*#REF!)+(#REF!*#REF!)+(#REF!*#REF!))/(#REF!+#REF!+#REF!)","v":{"$error":"#VALUE!"}},{"$f":"((AA931*#REF!)+(#REF!*#REF!)+(#REF!*#REF!))/(#REF!+#REF!+#REF!)","v":{"$error":"#VALUE!"}},{"$f":"((AA931*#REF!)+(#REF!*#REF!)+(#REF!*#REF!))/(#REF!+#REF!+#REF!)","v":{"$error":"#VALUE!"}},{"$f":"((AA931*#REF!)+(#REF!*#REF!)+(#REF!*#REF!))/(#REF!+#REF!+#REF!)","v":{"$error":"#VALUE!"}},{"$f":"((AA931*#REF!)+(#REF!*#REF!)+(#REF!*#REF!))/(#REF!+#REF!+#REF!)","v":{"$error":"#VALUE!"}},{"$f":"((AA931*#REF!)+(#REF!*#REF!)+(#REF!*#REF!))/(#REF!+#REF!+#REF!)","v":{"$error":"#VALUE!"}}]
[null,null,null,null,null,null,null,null,null,null,null,null,null,null,null,null,null,null,null,null,null,930,{"$error":"#VALUE!"},{"$f":"AVERAGE($W$3:W932)","v":{"$error":"#VALUE!"}},null,{"$error":"#VALUE!"},{"$error":"#VALUE!"},{"$f":"AVERAGE($AA$3:AA932)","v":{"$error":"#VALUE!"}},null,null,null,{"$f":"((AA932*#REF!)+(#REF!*#REF!)+(#REF!*#REF!))/(#REF!+#REF!+#REF!)","v":{"$error":"#VALUE!"}},{"$f":"((AA932*#REF!)+(#REF!*#REF!)+(#REF!*#REF!))/(#REF!+#REF!+#REF!)","v":{"$error":"#VALUE!"}},{"$f":"((AA932*#REF!)+(#REF!*#REF!)+(#REF!*#REF!))/(#REF!+#REF!+#REF!)","v":{"$error":"#VALUE!"}},{"$f":"((AA932*#REF!)+(#REF!*#REF!)+(#REF!*#REF!))/(#REF!+#REF!+#REF!)","v":{"$error":"#VALUE!"}},{"$f":"((AA932*#REF!)+(#REF!*#REF!)+(#REF!*#REF!))/(#REF!+#REF!+#REF!)","v":{"$error":"#VALUE!"}},{"$f":"((AA932*#REF!)+(#REF!*#REF!)+(#REF!*#REF!))/(#REF!+#REF!+#REF!)","v":{"$error":"#VALUE!"}},{"$f":"((AA932*#REF!)+(#REF!*#REF!)+(#REF!*#REF!))/(#REF!+#REF!+#REF!)","v":{"$error":"#VALUE!"}}]
[null,null,null,null,null,null,null,null,null,null,null,null,null,null,null,null,null,null,null,null,null,931,{"$error":"#VALUE!"},{"$f":"AVERAGE($W$3:W933)","v":{"$error":"#VALUE!"}},null,{"$error":"#VALUE!"},{"$error":"#VALUE!"},{"$f":"AVERAGE($AA$3:AA933)","v":{"$error":"#VALUE!"}},null,null,null,{"$f":"((AA933*#REF!)+(#REF!*#REF!)+(#REF!*#REF!))/(#REF!+#REF!+#REF!)","v":{"$error":"#VALUE!"}},{"$f":"((AA933*#REF!)+(#REF!*#REF!)+(#REF!*#REF!))/(#REF!+#REF!+#REF!)","v":{"$error":"#VALUE!"}},{"$f":"((AA933*#REF!)+(#REF!*#REF!)+(#REF!*#REF!))/(#REF!+#REF!+#REF!)","v":{"$error":"#VALUE!"}},{"$f":"((AA933*#REF!)+(#REF!*#REF!)+(#REF!*#REF!))/(#REF!+#REF!+#REF!)","v":{"$error":"#VALUE!"}},{"$f":"((AA933*#REF!)+(#REF!*#REF!)+(#REF!*#REF!))/(#REF!+#REF!+#REF!)","v":{"$error":"#VALUE!"}},{"$f":"((AA933*#REF!)+(#REF!*#REF!)+(#REF!*#REF!))/(#REF!+#REF!+#REF!)","v":{"$error":"#VALUE!"}},{"$f":"((AA933*#REF!)+(#REF!*#REF!)+(#REF!*#REF!))/(#REF!+#REF!+#REF!)","v":{"$error":"#VALUE!"}}]
[null,null,null,null,null,null,null,null,null,null,null,null,null,null,null,null,null,null,null,null,null,932,{"$error":"#VALUE!"},{"$f":"AVERAGE($W$3:W934)","v":{"$error":"#VALUE!"}},null,{"$error":"#VALUE!"},{"$error":"#VALUE!"},{"$f":"AVERAGE($AA$3:AA934)","v":{"$error":"#VALUE!"}},null,null,null,{"$f":"((AA934*#REF!)+(#REF!*#REF!)+(#REF!*#REF!))/(#REF!+#REF!+#REF!)","v":{"$error":"#VALUE!"}},{"$f":"((AA934*#REF!)+(#REF!*#REF!)+(#REF!*#REF!))/(#REF!+#REF!+#REF!)","v":{"$error":"#VALUE!"}},{"$f":"((AA934*#REF!)+(#REF!*#REF!)+(#REF!*#REF!))/(#REF!+#REF!+#REF!)","v":{"$error":"#VALUE!"}},{"$f":"((AA934*#REF!)+(#REF!*#REF!)+(#REF!*#REF!))/(#REF!+#REF!+#REF!)","v":{"$error":"#VALUE!"}},{"$f":"((AA934*#REF!)+(#REF!*#REF!)+(#REF!*#REF!))/(#REF!+#REF!+#REF!)","v":{"$error":"#VALUE!"}},{"$f":"((AA934*#REF!)+(#REF!*#REF!)+(#REF!*#REF!))/(#REF!+#REF!+#REF!)","v":{"$error":"#VALUE!"}},{"$f":"((AA934*#REF!)+(#REF!*#REF!)+(#REF!*#REF!))/(#REF!+#REF!+#REF!)","v":{"$error":"#VALUE!"}}]
[null,null,null,null,null,null,null,null,null,null,null,null,null,null,null,null,null,null,null,null,null,933,{"$error":"#VALUE!"},{"$f":"AVERAGE($W$3:W935)","v":{"$error":"#VALUE!"}},null,{"$error":"#VALUE!"},{"$error":"#VALUE!"},{"$f":"AVERAGE($AA$3:AA935)","v":{"$error":"#VALUE!"}},null,null,null,{"$f":"((AA935*#REF!)+(#REF!*#REF!)+(#REF!*#REF!))/(#REF!+#REF!+#REF!)","v":{"$error":"#VALUE!"}},{"$f":"((AA935*#REF!)+(#REF!*#REF!)+(#REF!*#REF!))/(#REF!+#REF!+#REF!)","v":{"$error":"#VALUE!"}},{"$f":"((AA935*#REF!)+(#REF!*#REF!)+(#REF!*#REF!))/(#REF!+#REF!+#REF!)","v":{"$error":"#VALUE!"}},{"$f":"((AA935*#REF!)+(#REF!*#REF!)+(#REF!*#REF!))/(#REF!+#REF!+#REF!)","v":{"$error":"#VALUE!"}},{"$f":"((AA935*#REF!)+(#REF!*#REF!)+(#REF!*#REF!))/(#REF!+#REF!+#REF!)","v":{"$error":"#VALUE!"}},{"$f":"((AA935*#REF!)+(#REF!*#REF!)+(#REF!*#REF!))/(#REF!+#REF!+#REF!)","v":{"$error":"#VALUE!"}},{"$f":"((AA935*#REF!)+(#REF!*#REF!)+(#REF!*#REF!))/(#REF!+#REF!+#REF!)","v":{"$error":"#VALUE!"}}]
[null,null,null,null,null,null,null,null,null,null,null,null,null,null,null,null,null,null,null,null,null,934,{"$error":"#VALUE!"},{"$f":"AVERAGE($W$3:W936)","v":{"$error":"#VALUE!"}},null,{"$error":"#VALUE!"},{"$error":"#VALUE!"},{"$f":"AVERAGE($AA$3:AA936)","v":{"$error":"#VALUE!"}},null,null,null,{"$f":"((AA936*#REF!)+(#REF!*#REF!)+(#REF!*#REF!))/(#REF!+#REF!+#REF!)","v":{"$error":"#VALUE!"}},{"$f":"((AA936*#REF!)+(#REF!*#REF!)+(#REF!*#REF!))/(#REF!+#REF!+#REF!)","v":{"$error":"#VALUE!"}},{"$f":"((AA936*#REF!)+(#REF!*#REF!)+(#REF!*#REF!))/(#REF!+#REF!+#REF!)","v":{"$error":"#VALUE!"}},{"$f":"((AA936*#REF!)+(#REF!*#REF!)+(#REF!*#REF!))/(#REF!+#REF!+#REF!)","v":{"$error":"#VALUE!"}},{"$f":"((AA936*#REF!)+(#REF!*#REF!)+(#REF!*#REF!))/(#REF!+#REF!+#REF!)","v":{"$error":"#VALUE!"}},{"$f":"((AA936*#REF!)+(#REF!*#REF!)+(#REF!*#REF!))/(#REF!+#REF!+#REF!)","v":{"$error":"#VALUE!"}},{"$f":"((AA936*#REF!)+(#REF!*#REF!)+(#REF!*#REF!))/(#REF!+#REF!+#REF!)","v":{"$error":"#VALUE!"}}]
[null,null,null,null,null,null,null,null,null,null,null,null,null,null,null,null,null,null,null,null,null,935,{"$error":"#VALUE!"},{"$f":"AVERAGE($W$3:W937)","v":{"$error":"#VALUE!"}},null,{"$error":"#VALUE!"},{"$error":"#VALUE!"},{"$f":"AVERAGE($AA$3:AA937)","v":{"$error":"#VALUE!"}},null,null,null,{"$f":"((AA937*#REF!)+(#REF!*#REF!)+(#REF!*#REF!))/(#REF!+#REF!+#REF!)","v":{"$error":"#VALUE!"}},{"$f":"((AA937*#REF!)+(#REF!*#REF!)+(#REF!*#REF!))/(#REF!+#REF!+#REF!)","v":{"$error":"#VALUE!"}},{"$f":"((AA937*#REF!)+(#REF!*#REF!)+(#REF!*#REF!))/(#REF!+#REF!+#REF!)","v":{"$error":"#VALUE!"}},{"$f":"((AA937*#REF!)+(#REF!*#REF!)+(#REF!*#REF!))/(#REF!+#REF!+#REF!)","v":{"$error":"#VALUE!"}},{"$f":"((AA937*#REF!)+(#REF!*#REF!)+(#REF!*#REF!))/(#REF!+#REF!+#REF!)","v":{"$error":"#VALUE!"}},{"$f":"((AA937*#REF!)+(#REF!*#REF!)+(#REF!*#REF!))/(#REF!+#REF!+#REF!)","v":{"$error":"#VALUE!"}},{"$f":"((AA937*#REF!)+(#REF!*#REF!)+(#REF!*#REF!))/(#REF!+#REF!+#REF!)","v":{"$error":"#VALUE!"}}]
[null,null,null,null,null,null,null,null,null,null,null,null,null,null,null,null,null,null,null,null,null,936,{"$error":"#VALUE!"},{"$f":"AVERAGE($W$3:W938)","v":{"$error":"#VALUE!"}},null,{"$error":"#VALUE!"},{"$error":"#VALUE!"},{"$f":"AVERAGE($AA$3:AA938)","v":{"$error":"#VALUE!"}},null,null,null,{"$f":"((AA938*#REF!)+(#REF!*#REF!)+(#REF!*#REF!))/(#REF!+#REF!+#REF!)","v":{"$error":"#VALUE!"}},{"$f":"((AA938*#REF!)+(#REF!*#REF!)+(#REF!*#REF!))/(#REF!+#REF!+#REF!)","v":{"$error":"#VALUE!"}},{"$f":"((AA938*#REF!)+(#REF!*#REF!)+(#REF!*#REF!))/(#REF!+#REF!+#REF!)","v":{"$error":"#VALUE!"}},{"$f":"((AA938*#REF!)+(#REF!*#REF!)+(#REF!*#REF!))/(#REF!+#REF!+#REF!)","v":{"$error":"#VALUE!"}},{"$f":"((AA938*#REF!)+(#REF!*#REF!)+(#REF!*#REF!))/(#REF!+#REF!+#REF!)","v":{"$error":"#VALUE!"}},{"$f":"((AA938*#REF!)+(#REF!*#REF!)+(#REF!*#REF!))/(#REF!+#REF!+#REF!)","v":{"$error":"#VALUE!"}},{"$f":"((AA938*#REF!)+(#REF!*#REF!)+(#REF!*#REF!))/(#REF!+#REF!+#REF!)","v":{"$error":"#VALUE!"}}]
[null,null,null,null,null,null,null,null,null,null,null,null,null,null,null,null,null,null,null,null,null,937,{"$error":"#VALUE!"},{"$f":"AVERAGE($W$3:W939)","v":{"$error":"#VALUE!"}},null,{"$error":"#VALUE!"},{"$error":"#VALUE!"},{"$f":"AVERAGE($AA$3:AA939)","v":{"$error":"#VALUE!"}},null,null,null,{"$f":"((AA939*#REF!)+(#REF!*#REF!)+(#REF!*#REF!))/(#REF!+#REF!+#REF!)","v":{"$error":"#VALUE!"}},{"$f":"((AA939*#REF!)+(#REF!*#REF!)+(#REF!*#REF!))/(#REF!+#REF!+#REF!)","v":{"$error":"#VALUE!"}},{"$f":"((AA939*#REF!)+(#REF!*#REF!)+(#REF!*#REF!))/(#REF!+#REF!+#REF!)","v":{"$error":"#VALUE!"}},{"$f":"((AA939*#REF!)+(#REF!*#REF!)+(#REF!*#REF!))/(#REF!+#REF!+#REF!)","v":{"$error":"#VALUE!"}},{"$f":"((AA939*#REF!)+(#REF!*#REF!)+(#REF!*#REF!))/(#REF!+#REF!+#REF!)","v":{"$error":"#VALUE!"}},{"$f":"((AA939*#REF!)+(#REF!*#REF!)+(#REF!*#REF!))/(#REF!+#REF!+#REF!)","v":{"$error":"#VALUE!"}},{"$f":"((AA939*#REF!)+(#REF!*#REF!)+(#REF!*#REF!))/(#REF!+#REF!+#REF!)","v":{"$error":"#VALUE!"}}]
[null,null,null,null,null,null,null,null,null,null,null,null,null,null,null,null,null,null,null,null,null,938,{"$error":"#VALUE!"},{"$f":"AVERAGE($W$3:W940)","v":{"$error":"#VALUE!"}},null,{"$error":"#VALUE!"},{"$error":"#VALUE!"},{"$f":"AVERAGE($AA$3:AA940)","v":{"$error":"#VALUE!"}},null,null,null,{"$f":"((AA940*#REF!)+(#REF!*#REF!)+(#REF!*#REF!))/(#REF!+#REF!+#REF!)","v":{"$error":"#VALUE!"}},{"$f":"((AA940*#REF!)+(#REF!*#REF!)+(#REF!*#REF!))/(#REF!+#REF!+#REF!)","v":{"$error":"#VALUE!"}},{"$f":"((AA940*#REF!)+(#REF!*#REF!)+(#REF!*#REF!))/(#REF!+#REF!+#REF!)","v":{"$error":"#VALUE!"}},{"$f":"((AA940*#REF!)+(#REF!*#REF!)+(#REF!*#REF!))/(#REF!+#REF!+#REF!)","v":{"$error":"#VALUE!"}},{"$f":"((AA940*#REF!)+(#REF!*#REF!)+(#REF!*#REF!))/(#REF!+#REF!+#REF!)","v":{"$error":"#VALUE!"}},{"$f":"((AA940*#REF!)+(#REF!*#REF!)+(#REF!*#REF!))/(#REF!+#REF!+#REF!)","v":{"$error":"#VALUE!"}},{"$f":"((AA940*#REF!)+(#REF!*#REF!)+(#REF!*#REF!))/(#REF!+#REF!+#REF!)","v":{"$error":"#VALUE!"}}]
[null,null,null,null,null,null,null,null,null,null,null,null,null,null,null,null,null,null,null,null,null,939,{"$error":"#VALUE!"},{"$f":"AVERAGE($W$3:W941)","v":{"$error":"#VALUE!"}},null,{"$error":"#VALUE!"},{"$error":"#VALUE!"},{"$f":"AVERAGE($AA$3:AA941)","v":{"$error":"#VALUE!"}},null,null,null,{"$f":"((AA941*#REF!)+(#REF!*#REF!)+(#REF!*#REF!))/(#REF!+#REF!+#REF!)","v":{"$error":"#VALUE!"}},{"$f":"((AA941*#REF!)+(#REF!*#REF!)+(#REF!*#REF!))/(#REF!+#REF!+#REF!)","v":{"$error":"#VALUE!"}},{"$f":"((AA941*#REF!)+(#REF!*#REF!)+(#REF!*#REF!))/(#REF!+#REF!+#REF!)","v":{"$error":"#VALUE!"}},{"$f":"((AA941*#REF!)+(#REF!*#REF!)+(#REF!*#REF!))/(#REF!+#REF!+#REF!)","v":{"$error":"#VALUE!"}},{"$f":"((AA941*#REF!)+(#REF!*#REF!)+(#REF!*#REF!))/(#REF!+#REF!+#REF!)","v":{"$error":"#VALUE!"}},{"$f":"((AA941*#REF!)+(#REF!*#REF!)+(#REF!*#REF!))/(#REF!+#REF!+#REF!)","v":{"$error":"#VALUE!"}},{"$f":"((AA941*#REF!)+(#REF!*#REF!)+(#REF!*#REF!))/(#REF!+#REF!+#REF!)","v":{"$error":"#VALUE!"}}]
[null,null,null,null,null,null,null,null,null,null,null,null,null,null,null,null,null,null,null,null,null,940,{"$error":"#VALUE!"},{"$f":"AVERAGE($W$3:W942)","v":{"$error":"#VALUE!"}},null,{"$error":"#VALUE!"},{"$error":"#VALUE!"},{"$f":"AVERAGE($AA$3:AA942)","v":{"$error":"#VALUE!"}},null,null,null,{"$f":"((AA942*#REF!)+(#REF!*#REF!)+(#REF!*#REF!))/(#REF!+#REF!+#REF!)","v":{"$error":"#VALUE!"}},{"$f":"((AA942*#REF!)+(#REF!*#REF!)+(#REF!*#REF!))/(#REF!+#REF!+#REF!)","v":{"$error":"#VALUE!"}},{"$f":"((AA942*#REF!)+(#REF!*#REF!)+(#REF!*#REF!))/(#REF!+#REF!+#REF!)","v":{"$error":"#VALUE!"}},{"$f":"((AA942*#REF!)+(#REF!*#REF!)+(#REF!*#REF!))/(#REF!+#REF!+#REF!)","v":{"$error":"#VALUE!"}},{"$f":"((AA942*#REF!)+(#REF!*#REF!)+(#REF!*#REF!))/(#REF!+#REF!+#REF!)","v":{"$error":"#VALUE!"}},{"$f":"((AA942*#REF!)+(#REF!*#REF!)+(#REF!*#REF!))/(#REF!+#REF!+#REF!)","v":{"$error":"#VALUE!"}},{"$f":"((AA942*#REF!)+(#REF!*#REF!)+(#REF!*#REF!))/(#REF!+#REF!+#REF!)","v":{"$error":"#VALUE!"}}]
[null,null,null,null,null,null,null,null,null,null,null,null,null,null,null,null,null,null,null,null,null,941,{"$error":"#VALUE!"},{"$f":"AVERAGE($W$3:W943)","v":{"$error":"#VALUE!"}},null,{"$error":"#VALUE!"},{"$error":"#VALUE!"},{"$f":"AVERAGE($AA$3:AA943)","v":{"$error":"#VALUE!"}},null,null,null,{"$f":"((AA943*#REF!)+(#REF!*#REF!)+(#REF!*#REF!))/(#REF!+#REF!+#REF!)","v":{"$error":"#VALUE!"}},{"$f":"((AA943*#REF!)+(#REF!*#REF!)+(#REF!*#REF!))/(#REF!+#REF!+#REF!)","v":{"$error":"#VALUE!"}},{"$f":"((AA943*#REF!)+(#REF!*#REF!)+(#REF!*#REF!))/(#REF!+#REF!+#REF!)","v":{"$error":"#VALUE!"}},{"$f":"((AA943*#REF!)+(#REF!*#REF!)+(#REF!*#REF!))/(#REF!+#REF!+#REF!)","v":{"$error":"#VALUE!"}},{"$f":"((AA943*#REF!)+(#REF!*#REF!)+(#REF!*#REF!))/(#REF!+#REF!+#REF!)","v":{"$error":"#VALUE!"}},{"$f":"((AA943*#REF!)+(#REF!*#REF!)+(#REF!*#REF!))/(#REF!+#REF!+#REF!)","v":{"$error":"#VALUE!"}},{"$f":"((AA943*#REF!)+(#REF!*#REF!)+(#REF!*#REF!))/(#REF!+#REF!+#REF!)","v":{"$error":"#VALUE!"}}]
[null,null,null,null,null,null,null,null,null,null,null,null,null,null,null,null,null,null,null,null,null,942,{"$error":"#VALUE!"},{"$f":"AVERAGE($W$3:W944)","v":{"$error":"#VALUE!"}},null,{"$error":"#VALUE!"},{"$error":"#VALUE!"},{"$f":"AVERAGE($AA$3:AA944)","v":{"$error":"#VALUE!"}},null,null,null,{"$f":"((AA944*#REF!)+(#REF!*#REF!)+(#REF!*#REF!))/(#REF!+#REF!+#REF!)","v":{"$error":"#VALUE!"}},{"$f":"((AA944*#REF!)+(#REF!*#REF!)+(#REF!*#REF!))/(#REF!+#REF!+#REF!)","v":{"$error":"#VALUE!"}},{"$f":"((AA944*#REF!)+(#REF!*#REF!)+(#REF!*#REF!))/(#REF!+#REF!+#REF!)","v":{"$error":"#VALUE!"}},{"$f":"((AA944*#REF!)+(#REF!*#REF!)+(#REF!*#REF!))/(#REF!+#REF!+#REF!)","v":{"$error":"#VALUE!"}},{"$f":"((AA944*#REF!)+(#REF!*#REF!)+(#REF!*#REF!))/(#REF!+#REF!+#REF!)","v":{"$error":"#VALUE!"}},{"$f":"((AA944*#REF!)+(#REF!*#REF!)+(#REF!*#REF!))/(#REF!+#REF!+#REF!)","v":{"$error":"#VALUE!"}},{"$f":"((AA944*#REF!)+(#REF!*#REF!)+(#REF!*#REF!))/(#REF!+#REF!+#REF!)","v":{"$error":"#VALUE!"}}]
[null,null,null,null,null,null,null,null,null,null,null,null,null,null,null,null,null,null,null,null,null,943,{"$error":"#VALUE!"},{"$f":"AVERAGE($W$3:W945)","v":{"$error":"#VALUE!"}},null,{"$error":"#VALUE!"},{"$error":"#VALUE!"},{"$f":"AVERAGE($AA$3:AA945)","v":{"$error":"#VALUE!"}},null,null,null,{"$f":"((AA945*#REF!)+(#REF!*#REF!)+(#REF!*#REF!))/(#REF!+#REF!+#REF!)","v":{"$error":"#VALUE!"}},{"$f":"((AA945*#REF!)+(#REF!*#REF!)+(#REF!*#REF!))/(#REF!+#REF!+#REF!)","v":{"$error":"#VALUE!"}},{"$f":"((AA945*#REF!)+(#REF!*#REF!)+(#REF!*#REF!))/(#REF!+#REF!+#REF!)","v":{"$error":"#VALUE!"}},{"$f":"((AA945*#REF!)+(#REF!*#REF!)+(#REF!*#REF!))/(#REF!+#REF!+#REF!)","v":{"$error":"#VALUE!"}},{"$f":"((AA945*#REF!)+(#REF!*#REF!)+(#REF!*#REF!))/(#REF!+#REF!+#REF!)","v":{"$error":"#VALUE!"}},{"$f":"((AA945*#REF!)+(#REF!*#REF!)+(#REF!*#REF!))/(#REF!+#REF!+#REF!)","v":{"$error":"#VALUE!"}},{"$f":"((AA945*#REF!)+(#REF!*#REF!)+(#REF!*#REF!))/(#REF!+#REF!+#REF!)","v":{"$error":"#VALUE!"}}]
[null,null,null,null,null,null,null,null,null,null,null,null,null,null,null,null,null,null,null,null,null,944,{"$error":"#VALUE!"},{"$f":"AVERAGE($W$3:W946)","v":{"$error":"#VALUE!"}},null,{"$error":"#VALUE!"},{"$error":"#VALUE!"},{"$f":"AVERAGE($AA$3:AA946)","v":{"$error":"#VALUE!"}},null,null,null,{"$f":"((AA946*#REF!)+(#REF!*#REF!)+(#REF!*#REF!))/(#REF!+#REF!+#REF!)","v":{"$error":"#VALUE!"}},{"$f":"((AA946*#REF!)+(#REF!*#REF!)+(#REF!*#REF!))/(#REF!+#REF!+#REF!)","v":{"$error":"#VALUE!"}},{"$f":"((AA946*#REF!)+(#REF!*#REF!)+(#REF!*#REF!))/(#REF!+#REF!+#REF!)","v":{"$error":"#VALUE!"}},{"$f":"((AA946*#REF!)+(#REF!*#REF!)+(#REF!*#REF!))/(#REF!+#REF!+#REF!)","v":{"$error":"#VALUE!"}},{"$f":"((AA946*#REF!)+(#REF!*#REF!)+(#REF!*#REF!))/(#REF!+#REF!+#REF!)","v":{"$error":"#VALUE!"}},{"$f":"((AA946*#REF!)+(#REF!*#REF!)+(#REF!*#REF!))/(#REF!+#REF!+#REF!)","v":{"$error":"#VALUE!"}},{"$f":"((AA946*#REF!)+(#REF!*#REF!)+(#REF!*#REF!))/(#REF!+#REF!+#REF!)","v":{"$error":"#VALUE!"}}]
[null,null,null,null,null,null,null,null,null,null,null,null,null,null,null,null,null,null,null,null,null,945,{"$error":"#VALUE!"},{"$f":"AVERAGE($W$3:W947)","v":{"$error":"#VALUE!"}},null,{"$error":"#VALUE!"},{"$error":"#VALUE!"},{"$f":"AVERAGE($AA$3:AA947)","v":{"$error":"#VALUE!"}},null,null,null,{"$f":"((AA947*#REF!)+(#REF!*#REF!)+(#REF!*#REF!))/(#REF!+#REF!+#REF!)","v":{"$error":"#VALUE!"}},{"$f":"((AA947*#REF!)+(#REF!*#REF!)+(#REF!*#REF!))/(#REF!+#REF!+#REF!)","v":{"$error":"#VALUE!"}},{"$f":"((AA947*#REF!)+(#REF!*#REF!)+(#REF!*#REF!))/(#REF!+#REF!+#REF!)","v":{"$error":"#VALUE!"}},{"$f":"((AA947*#REF!)+(#REF!*#REF!)+(#REF!*#REF!))/(#REF!+#REF!+#REF!)","v":{"$error":"#VALUE!"}},{"$f":"((AA947*#REF!)+(#REF!*#REF!)+(#REF!*#REF!))/(#REF!+#REF!+#REF!)","v":{"$error":"#VALUE!"}},{"$f":"((AA947*#REF!)+(#REF!*#REF!)+(#REF!*#REF!))/(#REF!+#REF!+#REF!)","v":{"$error":"#VALUE!"}},{"$f":"((AA947*#REF!)+(#REF!*#REF!)+(#REF!*#REF!))/(#REF!+#REF!+#REF!)","v":{"$error":"#VALUE!"}}]
[null,null,null,null,null,null,null,null,null,null,null,null,null,null,null,null,null,null,null,null,null,946,{"$error":"#VALUE!"},{"$f":"AVERAGE($W$3:W948)","v":{"$error":"#VALUE!"}},null,{"$error":"#VALUE!"},{"$error":"#VALUE!"},{"$f":"AVERAGE($AA$3:AA948)","v":{"$error":"#VALUE!"}},null,null,null,{"$f":"((AA948*#REF!)+(#REF!*#REF!)+(#REF!*#REF!))/(#REF!+#REF!+#REF!)","v":{"$error":"#VALUE!"}},{"$f":"((AA948*#REF!)+(#REF!*#REF!)+(#REF!*#REF!))/(#REF!+#REF!+#REF!)","v":{"$error":"#VALUE!"}},{"$f":"((AA948*#REF!)+(#REF!*#REF!)+(#REF!*#REF!))/(#REF!+#REF!+#REF!)","v":{"$error":"#VALUE!"}},{"$f":"((AA948*#REF!)+(#REF!*#REF!)+(#REF!*#REF!))/(#REF!+#REF!+#REF!)","v":{"$error":"#VALUE!"}},{"$f":"((AA948*#REF!)+(#REF!*#REF!)+(#REF!*#REF!))/(#REF!+#REF!+#REF!)","v":{"$error":"#VALUE!"}},{"$f":"((AA948*#REF!)+(#REF!*#REF!)+(#REF!*#REF!))/(#REF!+#REF!+#REF!)","v":{"$error":"#VALUE!"}},{"$f":"((AA948*#REF!)+(#REF!*#REF!)+(#REF!*#REF!))/(#REF!+#REF!+#REF!)","v":{"$error":"#VALUE!"}}]
[null,null,null,null,null,null,null,null,null,null,null,null,null,null,null,null,null,null,null,null,null,947,{"$error":"#VALUE!"},{"$f":"AVERAGE($W$3:W949)","v":{"$error":"#VALUE!"}},null,{"$error":"#VALUE!"},{"$error":"#VALUE!"},{"$f":"AVERAGE($AA$3:AA949)","v":{"$error":"#VALUE!"}},null,null,null,{"$f":"((AA949*#REF!)+(#REF!*#REF!)+(#REF!*#REF!))/(#REF!+#REF!+#REF!)","v":{"$error":"#VALUE!"}},{"$f":"((AA949*#REF!)+(#REF!*#REF!)+(#REF!*#REF!))/(#REF!+#REF!+#REF!)","v":{"$error":"#VALUE!"}},{"$f":"((AA949*#REF!)+(#REF!*#REF!)+(#REF!*#REF!))/(#REF!+#REF!+#REF!)","v":{"$error":"#VALUE!"}},{"$f":"((AA949*#REF!)+(#REF!*#REF!)+(#REF!*#REF!))/(#REF!+#REF!+#REF!)","v":{"$error":"#VALUE!"}},{"$f":"((AA949*#REF!)+(#REF!*#REF!)+(#REF!*#REF!))/(#REF!+#REF!+#REF!)","v":{"$error":"#VALUE!"}},{"$f":"((AA949*#REF!)+(#REF!*#REF!)+(#REF!*#REF!))/(#REF!+#REF!+#REF!)","v":{"$error":"#VALUE!"}},{"$f":"((AA949*#REF!)+(#REF!*#REF!)+(#REF!*#REF!))/(#REF!+#REF!+#REF!)","v":{"$error":"#VALUE!"}}]
[null,null,null,null,null,null,null,null,null,null,null,null,null,null,null,null,null,null,null,null,null,948,{"$error":"#VALUE!"},{"$f":"AVERAGE($W$3:W950)","v":{"$error":"#VALUE!"}},null,{"$error":"#VALUE!"},{"$error":"#VALUE!"},{"$f":"AVERAGE($AA$3:AA950)","v":{"$error":"#VALUE!"}},null,null,null,{"$f":"((AA950*#REF!)+(#REF!*#REF!)+(#REF!*#REF!))/(#REF!+#REF!+#REF!)","v":{"$error":"#VALUE!"}},{"$f":"((AA950*#REF!)+(#REF!*#REF!)+(#REF!*#REF!))/(#REF!+#REF!+#REF!)","v":{"$error":"#VALUE!"}},{"$f":"((AA950*#REF!)+(#REF!*#REF!)+(#REF!*#REF!))/(#REF!+#REF!+#REF!)","v":{"$error":"#VALUE!"}},{"$f":"((AA950*#REF!)+(#REF!*#REF!)+(#REF!*#REF!))/(#REF!+#REF!+#REF!)","v":{"$error":"#VALUE!"}},{"$f":"((AA950*#REF!)+(#REF!*#REF!)+(#REF!*#REF!))/(#REF!+#REF!+#REF!)","v":{"$error":"#VALUE!"}},{"$f":"((AA950*#REF!)+(#REF!*#REF!)+(#REF!*#REF!))/(#REF!+#REF!+#REF!)","v":{"$error":"#VALUE!"}},{"$f":"((AA950*#REF!)+(#REF!*#REF!)+(#REF!*#REF!))/(#REF!+#REF!+#REF!)","v":{"$error":"#VALUE!"}}]
[null,null,null,null,null,null,null,null,null,null,null,null,null,null,null,null,null,null,null,null,null,949,{"$error":"#VALUE!"},{"$f":"AVERAGE($W$3:W951)","v":{"$error":"#VALUE!"}},null,{"$error":"#VALUE!"},{"$error":"#VALUE!"},{"$f":"AVERAGE($AA$3:AA951)","v":{"$error":"#VALUE!"}},null,null,null,{"$f":"((AA951*#REF!)+(#REF!*#REF!)+(#REF!*#REF!))/(#REF!+#REF!+#REF!)","v":{"$error":"#VALUE!"}},{"$f":"((AA951*#REF!)+(#REF!*#REF!)+(#REF!*#REF!))/(#REF!+#REF!+#REF!)","v":{"$error":"#VALUE!"}},{"$f":"((AA951*#REF!)+(#REF!*#REF!)+(#REF!*#REF!))/(#REF!+#REF!+#REF!)","v":{"$error":"#VALUE!"}},{"$f":"((AA951*#REF!)+(#REF!*#REF!)+(#REF!*#REF!))/(#REF!+#REF!+#REF!)","v":{"$error":"#VALUE!"}},{"$f":"((AA951*#REF!)+(#REF!*#REF!)+(#REF!*#REF!))/(#REF!+#REF!+#REF!)","v":{"$error":"#VALUE!"}},{"$f":"((AA951*#REF!)+(#REF!*#REF!)+(#REF!*#REF!))/(#REF!+#REF!+#REF!)","v":{"$error":"#VALUE!"}},{"$f":"((AA951*#REF!)+(#REF!*#REF!)+(#REF!*#REF!))/(#REF!+#REF!+#REF!)","v":{"$error":"#VALUE!"}}]
[null,null,null,null,null,null,null,null,null,null,null,null,null,null,null,null,null,null,null,null,null,950,{"$error":"#VALUE!"},{"$f":"AVERAGE($W$3:W952)","v":{"$error":"#VALUE!"}},null,{"$error":"#VALUE!"},{"$error":"#VALUE!"},{"$f":"AVERAGE($AA$3:AA952)","v":{"$error":"#VALUE!"}},null,null,null,{"$f":"((AA952*#REF!)+(#REF!*#REF!)+(#REF!*#REF!))/(#REF!+#REF!+#REF!)","v":{"$error":"#VALUE!"}},{"$f":"((AA952*#REF!)+(#REF!*#REF!)+(#REF!*#REF!))/(#REF!+#REF!+#REF!)","v":{"$error":"#VALUE!"}},{"$f":"((AA952*#REF!)+(#REF!*#REF!)+(#REF!*#REF!))/(#REF!+#REF!+#REF!)","v":{"$error":"#VALUE!"}},{"$f":"((AA952*#REF!)+(#REF!*#REF!)+(#REF!*#REF!))/(#REF!+#REF!+#REF!)","v":{"$error":"#VALUE!"}},{"$f":"((AA952*#REF!)+(#REF!*#REF!)+(#REF!*#REF!))/(#REF!+#REF!+#REF!)","v":{"$error":"#VALUE!"}},{"$f":"((AA952*#REF!)+(#REF!*#REF!)+(#REF!*#REF!))/(#REF!+#REF!+#REF!)","v":{"$error":"#VALUE!"}},{"$f":"((AA952*#REF!)+(#REF!*#REF!)+(#REF!*#REF!))/(#REF!+#REF!+#REF!)","v":{"$error":"#VALUE!"}}]
[null,null,null,null,null,null,null,null,null,null,null,null,null,null,null,null,null,null,null,null,null,951,{"$error":"#VALUE!"},{"$f":"AVERAGE($W$3:W953)","v":{"$error":"#VALUE!"}},null,{"$error":"#VALUE!"},{"$error":"#VALUE!"},{"$f":"AVERAGE($AA$3:AA953)","v":{"$error":"#VALUE!"}},null,null,null,{"$f":"((AA953*#REF!)+(#REF!*#REF!)+(#REF!*#REF!))/(#REF!+#REF!+#REF!)","v":{"$error":"#VALUE!"}},{"$f":"((AA953*#REF!)+(#REF!*#REF!)+(#REF!*#REF!))/(#REF!+#REF!+#REF!)","v":{"$error":"#VALUE!"}},{"$f":"((AA953*#REF!)+(#REF!*#REF!)+(#REF!*#REF!))/(#REF!+#REF!+#REF!)","v":{"$error":"#VALUE!"}},{"$f":"((AA953*#REF!)+(#REF!*#REF!)+(#REF!*#REF!))/(#REF!+#REF!+#REF!)","v":{"$error":"#VALUE!"}},{"$f":"((AA953*#REF!)+(#REF!*#REF!)+(#REF!*#REF!))/(#REF!+#REF!+#REF!)","v":{"$error":"#VALUE!"}},{"$f":"((AA953*#REF!)+(#REF!*#REF!)+(#REF!*#REF!))/(#REF!+#REF!+#REF!)","v":{"$error":"#VALUE!"}},{"$f":"((AA953*#REF!)+(#REF!*#REF!)+(#REF!*#REF!))/(#REF!+#REF!+#REF!)","v":{"$error":"#VALUE!"}}]
[null,null,null,null,null,null,null,null,null,null,null,null,null,null,null,null,null,null,null,null,null,952,{"$error":"#VALUE!"},{"$f":"AVERAGE($W$3:W954)","v":{"$error":"#VALUE!"}},null,{"$error":"#VALUE!"},{"$error":"#VALUE!"},{"$f":"AVERAGE($AA$3:AA954)","v":{"$error":"#VALUE!"}},null,null,null,{"$f":"((AA954*#REF!)+(#REF!*#REF!)+(#REF!*#REF!))/(#REF!+#REF!+#REF!)","v":{"$error":"#VALUE!"}},{"$f":"((AA954*#REF!)+(#REF!*#REF!)+(#REF!*#REF!))/(#REF!+#REF!+#REF!)","v":{"$error":"#VALUE!"}},{"$f":"((AA954*#REF!)+(#REF!*#REF!)+(#REF!*#REF!))/(#REF!+#REF!+#REF!)","v":{"$error":"#VALUE!"}},{"$f":"((AA954*#REF!)+(#REF!*#REF!)+(#REF!*#REF!))/(#REF!+#REF!+#REF!)","v":{"$error":"#VALUE!"}},{"$f":"((AA954*#REF!)+(#REF!*#REF!)+(#REF!*#REF!))/(#REF!+#REF!+#REF!)","v":{"$error":"#VALUE!"}},{"$f":"((AA954*#REF!)+(#REF!*#REF!)+(#REF!*#REF!))/(#REF!+#REF!+#REF!)","v":{"$error":"#VALUE!"}},{"$f":"((AA954*#REF!)+(#REF!*#REF!)+(#REF!*#REF!))/(#REF!+#REF!+#REF!)","v":{"$error":"#VALUE!"}}]
[null,null,null,null,null,null,null,null,null,null,null,null,null,null,null,null,null,null,null,null,null,953,{"$error":"#VALUE!"},{"$f":"AVERAGE($W$3:W955)","v":{"$error":"#VALUE!"}},null,{"$error":"#VALUE!"},{"$error":"#VALUE!"},{"$f":"AVERAGE($AA$3:AA955)","v":{"$error":"#VALUE!"}},null,null,null,{"$f":"((AA955*#REF!)+(#REF!*#REF!)+(#REF!*#REF!))/(#REF!+#REF!+#REF!)","v":{"$error":"#VALUE!"}},{"$f":"((AA955*#REF!)+(#REF!*#REF!)+(#REF!*#REF!))/(#REF!+#REF!+#REF!)","v":{"$error":"#VALUE!"}},{"$f":"((AA955*#REF!)+(#REF!*#REF!)+(#REF!*#REF!))/(#REF!+#REF!+#REF!)","v":{"$error":"#VALUE!"}},{"$f":"((AA955*#REF!)+(#REF!*#REF!)+(#REF!*#REF!))/(#REF!+#REF!+#REF!)","v":{"$error":"#VALUE!"}},{"$f":"((AA955*#REF!)+(#REF!*#REF!)+(#REF!*#REF!))/(#REF!+#REF!+#REF!)","v":{"$error":"#VALUE!"}},{"$f":"((AA955*#REF!)+(#REF!*#REF!)+(#REF!*#REF!))/(#REF!+#REF!+#REF!)","v":{"$error":"#VALUE!"}},{"$f":"((AA955*#REF!)+(#REF!*#REF!)+(#REF!*#REF!))/(#REF!+#REF!+#REF!)","v":{"$error":"#VALUE!"}}]
[null,null,null,null,null,null,null,null,null,null,null,null,null,null,null,null,null,null,null,null,null,954,{"$error":"#VALUE!"},{"$f":"AVERAGE($W$3:W956)","v":{"$error":"#VALUE!"}},null,{"$error":"#VALUE!"},{"$error":"#VALUE!"},{"$f":"AVERAGE($AA$3:AA956)","v":{"$error":"#VALUE!"}},null,null,null,{"$f":"((AA956*#REF!)+(#REF!*#REF!)+(#REF!*#REF!))/(#REF!+#REF!+#REF!)","v":{"$error":"#VALUE!"}},{"$f":"((AA956*#REF!)+(#REF!*#REF!)+(#REF!*#REF!))/(#REF!+#REF!+#REF!)","v":{"$error":"#VALUE!"}},{"$f":"((AA956*#REF!)+(#REF!*#REF!)+(#REF!*#REF!))/(#REF!+#REF!+#REF!)","v":{"$error":"#VALUE!"}},{"$f":"((AA956*#REF!)+(#REF!*#REF!)+(#REF!*#REF!))/(#REF!+#REF!+#REF!)","v":{"$error":"#VALUE!"}},{"$f":"((AA956*#REF!)+(#REF!*#REF!)+(#REF!*#REF!))/(#REF!+#REF!+#REF!)","v":{"$error":"#VALUE!"}},{"$f":"((AA956*#REF!)+(#REF!*#REF!)+(#REF!*#REF!))/(#REF!+#REF!+#REF!)","v":{"$error":"#VALUE!"}},{"$f":"((AA956*#REF!)+(#REF!*#REF!)+(#REF!*#REF!))/(#REF!+#REF!+#REF!)","v":{"$error":"#VALUE!"}}]
[null,null,null,null,null,null,null,null,null,null,null,null,null,null,null,null,null,null,null,null,null,955,{"$error":"#VALUE!"},{"$f":"AVERAGE($W$3:W957)","v":{"$error":"#VALUE!"}},null,{"$error":"#VALUE!"},{"$error":"#VALUE!"},{"$f":"AVERAGE($AA$3:AA957)","v":{"$error":"#VALUE!"}},null,null,null,{"$f":"((AA957*#REF!)+(#REF!*#REF!)+(#REF!*#REF!))/(#REF!+#REF!+#REF!)","v":{"$error":"#VALUE!"}},{"$f":"((AA957*#REF!)+(#REF!*#REF!)+(#REF!*#REF!))/(#REF!+#REF!+#REF!)","v":{"$error":"#VALUE!"}},{"$f":"((AA957*#REF!)+(#REF!*#REF!)+(#REF!*#REF!))/(#REF!+#REF!+#REF!)","v":{"$error":"#VALUE!"}},{"$f":"((AA957*#REF!)+(#REF!*#REF!)+(#REF!*#REF!))/(#REF!+#REF!+#REF!)","v":{"$error":"#VALUE!"}},{"$f":"((AA957*#REF!)+(#REF!*#REF!)+(#REF!*#REF!))/(#REF!+#REF!+#REF!)","v":{"$error":"#VALUE!"}},{"$f":"((AA957*#REF!)+(#REF!*#REF!)+(#REF!*#REF!))/(#REF!+#REF!+#REF!)","v":{"$error":"#VALUE!"}},{"$f":"((AA957*#REF!)+(#REF!*#REF!)+(#REF!*#REF!))/(#REF!+#REF!+#REF!)","v":{"$error":"#VALUE!"}}]
[null,null,null,null,null,null,null,null,null,null,null,null,null,null,null,null,null,null,null,null,null,956,{"$f":"IF(($M$7*LN(V958))+$M$8+$M$10>0,($M$7*LN(V958))+$M$8+$M$10,0)","v":{"$error":"#VALUE!"}},{"$f":"AVERAGE($W$3:W958)","v":{"$error":"#VALUE!"}},null,{"$error":"#VALUE!"},{"$error":"#VALUE!"},{"$f":"AVERAGE($AA$3:AA958)","v":{"$error":"#VALUE!"}},null,null,null,{"$f":"((AA958*#REF!)+(#REF!*#REF!)+(#REF!*#REF!))/(#REF!+#REF!+#REF!)","v":{"$error":"#VALUE!"}},{"$f":"((AA958*#REF!)+(#REF!*#REF!)+(#REF!*#REF!))/(#REF!+#REF!+#REF!)","v":{"$error":"#VALUE!"}},{"$f":"((AA958*#REF!)+(#REF!*#REF!)+(#REF!*#REF!))/(#REF!+#REF!+#REF!)","v":{"$error":"#VALUE!"}},{"$f":"((AA958*#REF!)+(#REF!*#REF!)+(#REF!*#REF!))/(#REF!+#REF!+#REF!)","v":{"$error":"#VALUE!"}},{"$f":"((AA958*#REF!)+(#REF!*#REF!)+(#REF!*#REF!))/(#REF!+#REF!+#REF!)","v":{"$error":"#VALUE!"}},{"$f":"((AA958*#REF!)+(#REF!*#REF!)+(#REF!*#REF!))/(#REF!+#REF!+#REF!)","v":{"$error":"#VALUE!"}},{"$f":"((AA958*#REF!)+(#REF!*#REF!)+(#REF!*#REF!))/(#REF!+#REF!+#REF!)","v":{"$error":"#VALUE!"}}]
[null,null,null,null,null,null,null,null,null,null,null,null,null,null,null,null,null,null,null,null,null,957,{"$error":"#VALUE!"},{"$f":"AVERAGE($W$3:W959)","v":{"$error":"#VALUE!"}},null,{"$error":"#VALUE!"},{"$error":"#VALUE!"},{"$f":"AVERAGE($AA$3:AA959)","v":{"$error":"#VALUE!"}},null,null,null,{"$f":"((AA959*#REF!)+(#REF!*#REF!)+(#REF!*#REF!))/(#REF!+#REF!+#REF!)","v":{"$error":"#VALUE!"}},{"$f":"((AA959*#REF!)+(#REF!*#REF!)+(#REF!*#REF!))/(#REF!+#REF!+#REF!)","v":{"$error":"#VALUE!"}},{"$f":"((AA959*#REF!)+(#REF!*#REF!)+(#REF!*#REF!))/(#REF!+#REF!+#REF!)","v":{"$error":"#VALUE!"}},{"$f":"((AA959*#REF!)+(#REF!*#REF!)+(#REF!*#REF!))/(#REF!+#REF!+#REF!)","v":{"$error":"#VALUE!"}},{"$f":"((AA959*#REF!)+(#REF!*#REF!)+(#REF!*#REF!))/(#REF!+#REF!+#REF!)","v":{"$error":"#VALUE!"}},{"$f":"((AA959*#REF!)+(#REF!*#REF!)+(#REF!*#REF!))/(#REF!+#REF!+#REF!)","v":{"$error":"#VALUE!"}},{"$f":"((AA959*#REF!)+(#REF!*#REF!)+(#REF!*#REF!))/(#REF!+#REF!+#REF!)","v":{"$error":"#VALUE!"}}]
[null,null,null,null,null,null,null,null,null,null,null,null,null,null,null,null,null,null,null,null,null,958,{"$error":"#VALUE!"},{"$f":"AVERAGE($W$3:W960)","v":{"$error":"#VALUE!"}},null,{"$error":"#VALUE!"},{"$error":"#VALUE!"},{"$f":"AVERAGE($AA$3:AA960)","v":{"$error":"#VALUE!"}},null,null,null,{"$f":"((AA960*#REF!)+(#REF!*#REF!)+(#REF!*#REF!))/(#REF!+#REF!+#REF!)","v":{"$error":"#VALUE!"}},{"$f":"((AA960*#REF!)+(#REF!*#REF!)+(#REF!*#REF!))/(#REF!+#REF!+#REF!)","v":{"$error":"#VALUE!"}},{"$f":"((AA960*#REF!)+(#REF!*#REF!)+(#REF!*#REF!))/(#REF!+#REF!+#REF!)","v":{"$error":"#VALUE!"}},{"$f":"((AA960*#REF!)+(#REF!*#REF!)+(#REF!*#REF!))/(#REF!+#REF!+#REF!)","v":{"$error":"#VALUE!"}},{"$f":"((AA960*#REF!)+(#REF!*#REF!)+(#REF!*#REF!))/(#REF!+#REF!+#REF!)","v":{"$error":"#VALUE!"}},{"$f":"((AA960*#REF!)+(#REF!*#REF!)+(#REF!*#REF!))/(#REF!+#REF!+#REF!)","v":{"$error":"#VALUE!"}},{"$f":"((AA960*#REF!)+(#REF!*#REF!)+(#REF!*#REF!))/(#REF!+#REF!+#REF!)","v":{"$error":"#VALUE!"}}]
[null,null,null,null,null,null,null,null,null,null,null,null,null,null,null,null,null,null,null,null,null,959,{"$error":"#VALUE!"},{"$f":"AVERAGE($W$3:W961)","v":{"$error":"#VALUE!"}},null,{"$error":"#VALUE!"},{"$error":"#VALUE!"},{"$f":"AVERAGE($AA$3:AA961)","v":{"$error":"#VALUE!"}},null,null,null,{"$f":"((AA961*#REF!)+(#REF!*#REF!)+(#REF!*#REF!))/(#REF!+#REF!+#REF!)","v":{"$error":"#VALUE!"}},{"$f":"((AA961*#REF!)+(#REF!*#REF!)+(#REF!*#REF!))/(#REF!+#REF!+#REF!)","v":{"$error":"#VALUE!"}},{"$f":"((AA961*#REF!)+(#REF!*#REF!)+(#REF!*#REF!))/(#REF!+#REF!+#REF!)","v":{"$error":"#VALUE!"}},{"$f":"((AA961*#REF!)+(#REF!*#REF!)+(#REF!*#REF!))/(#REF!+#REF!+#REF!)","v":{"$error":"#VALUE!"}},{"$f":"((AA961*#REF!)+(#REF!*#REF!)+(#REF!*#REF!))/(#REF!+#REF!+#REF!)","v":{"$error":"#VALUE!"}},{"$f":"((AA961*#REF!)+(#REF!*#REF!)+(#REF!*#REF!))/(#REF!+#REF!+#REF!)","v":{"$error":"#VALUE!"}},{"$f":"((AA961*#REF!)+(#REF!*#REF!)+(#REF!*#REF!))/(#REF!+#REF!+#REF!)","v":{"$error":"#VALUE!"}}]
[null,null,null,null,null,null,null,null,null,null,null,null,null,null,null,null,null,null,null,null,null,960,{"$error":"#VALUE!"},{"$f":"AVERAGE($W$3:W962)","v":{"$error":"#VALUE!"}},null,{"$error":"#VALUE!"},{"$error":"#VALUE!"},{"$f":"AVERAGE($AA$3:AA962)","v":{"$error":"#VALUE!"}},null,null,null,{"$f":"((AA962*#REF!)+(#REF!*#REF!)+(#REF!*#REF!))/(#REF!+#REF!+#REF!)","v":{"$error":"#VALUE!"}},{"$f":"((AA962*#REF!)+(#REF!*#REF!)+(#REF!*#REF!))/(#REF!+#REF!+#REF!)","v":{"$error":"#VALUE!"}},{"$f":"((AA962*#REF!)+(#REF!*#REF!)+(#REF!*#REF!))/(#REF!+#REF!+#REF!)","v":{"$error":"#VALUE!"}},{"$f":"((AA962*#REF!)+(#REF!*#REF!)+(#REF!*#REF!))/(#REF!+#REF!+#REF!)","v":{"$error":"#VALUE!"}},{"$f":"((AA962*#REF!)+(#REF!*#REF!)+(#REF!*#REF!))/(#REF!+#REF!+#REF!)","v":{"$error":"#VALUE!"}},{"$f":"((AA962*#REF!)+(#REF!*#REF!)+(#REF!*#REF!))/(#REF!+#REF!+#REF!)","v":{"$error":"#VALUE!"}},{"$f":"((AA962*#REF!)+(#REF!*#REF!)+(#REF!*#REF!))/(#REF!+#REF!+#REF!)","v":{"$error":"#VALUE!"}}]
[null,null,null,null,null,null,null,null,null,null,null,null,null,null,null,null,null,null,null,null,null,961,{"$error":"#VALUE!"},{"$f":"AVERAGE($W$3:W963)","v":{"$error":"#VALUE!"}},null,{"$error":"#VALUE!"},{"$error":"#VALUE!"},{"$f":"AVERAGE($AA$3:AA963)","v":{"$error":"#VALUE!"}},null,null,null,{"$f":"((AA963*#REF!)+(#REF!*#REF!)+(#REF!*#REF!))/(#REF!+#REF!+#REF!)","v":{"$error":"#VALUE!"}},{"$f":"((AA963*#REF!)+(#REF!*#REF!)+(#REF!*#REF!))/(#REF!+#REF!+#REF!)","v":{"$error":"#VALUE!"}},{"$f":"((AA963*#REF!)+(#REF!*#REF!)+(#REF!*#REF!))/(#REF!+#REF!+#REF!)","v":{"$error":"#VALUE!"}},{"$f":"((AA963*#REF!)+(#REF!*#REF!)+(#REF!*#REF!))/(#REF!+#REF!+#REF!)","v":{"$error":"#VALUE!"}},{"$f":"((AA963*#REF!)+(#REF!*#REF!)+(#REF!*#REF!))/(#REF!+#REF!+#REF!)","v":{"$error":"#VALUE!"}},{"$f":"((AA963*#REF!)+(#REF!*#REF!)+(#REF!*#REF!))/(#REF!+#REF!+#REF!)","v":{"$error":"#VALUE!"}},{"$f":"((AA963*#REF!)+(#REF!*#REF!)+(#REF!*#REF!))/(#REF!+#REF!+#REF!)","v":{"$error":"#VALUE!"}}]
[null,null,null,null,null,null,null,null,null,null,null,null,null,null,null,null,null,null,null,null,null,962,{"$error":"#VALUE!"},{"$f":"AVERAGE($W$3:W964)","v":{"$error":"#VALUE!"}},null,{"$f":"$M$2+W964","v":{"$error":"#VALUE!"}},{"$f":"(Z964*(9/5))+32","v":{"$error":"#VALUE!"}},{"$f":"AVERAGE($AA$3:AA964)","v":{"$error":"#VALUE!"}},null,null,null,{"$f":"((AA964*#REF!)+(#REF!*#REF!)+(#REF!*#REF!))/(#REF!+#REF!+#REF!)","v":{"$error":"#VALUE!"}},{"$f":"((AA964*#REF!)+(#REF!*#REF!)+(#REF!*#REF!))/(#REF!+#REF!+#REF!)","v":{"$error":"#VALUE!"}},{"$f":"((AA964*#REF!)+(#REF!*#REF!)+(#REF!*#REF!))/(#REF!+#REF!+#REF!)","v":{"$error":"#VALUE!"}},{"$f":"((AA964*#REF!)+(#REF!*#REF!)+(#REF!*#REF!))/(#REF!+#REF!+#REF!)","v":{"$error":"#VALUE!"}},{"$f":"((AA964*#REF!)+(#REF!*#REF!)+(#REF!*#REF!))/(#REF!+#REF!+#REF!)","v":{"$error":"#VALUE!"}},{"$f":"((AA964*#REF!)+(#REF!*#REF!)+(#REF!*#REF!))/(#REF!+#REF!+#REF!)","v":{"$error":"#VALUE!"}},{"$f":"((AA964*#REF!)+(#REF!*#REF!)+(#REF!*#REF!))/(#REF!+#REF!+#REF!)","v":{"$error":"#VALUE!"}}]
[null,null,null,null,null,null,null,null,null,null,null,null,null,null,null,null,null,null,null,null,null,963,{"$error":"#VALUE!"},{"$f":"AVERAGE($W$3:W965)","v":{"$error":"#VALUE!"}},null,{"$error":"#VALUE!"},{"$error":"#VALUE!"},{"$f":"AVERAGE($AA$3:AA965)","v":{"$error":"#VALUE!"}},null,null,null,{"$f":"((AA965*#REF!)+(#REF!*#REF!)+(#REF!*#REF!))/(#REF!+#REF!+#REF!)","v":{"$error":"#VALUE!"}},{"$f":"((AA965*#REF!)+(#REF!*#REF!)+(#REF!*#REF!))/(#REF!+#REF!+#REF!)","v":{"$error":"#VALUE!"}},{"$f":"((AA965*#REF!)+(#REF!*#REF!)+(#REF!*#REF!))/(#REF!+#REF!+#REF!)","v":{"$error":"#VALUE!"}},{"$f":"((AA965*#REF!)+(#REF!*#REF!)+(#REF!*#REF!))/(#REF!+#REF!+#REF!)","v":{"$error":"#VALUE!"}},{"$f":"((AA965*#REF!)+(#REF!*#REF!)+(#REF!*#REF!))/(#REF!+#REF!+#REF!)","v":{"$error":"#VALUE!"}},{"$f":"((AA965*#REF!)+(#REF!*#REF!)+(#REF!*#REF!))/(#REF!+#REF!+#REF!)","v":{"$error":"#VALUE!"}},{"$f":"((AA965*#REF!)+(#REF!*#REF!)+(#REF!*#REF!))/(#REF!+#REF!+#REF!)","v":{"$error":"#VALUE!"}}]
[null,null,null,null,null,null,null,null,null,null,null,null,null,null,null,null,null,null,null,null,null,964,{"$error":"#VALUE!"},{"$f":"AVERAGE($W$3:W966)","v":{"$error":"#VALUE!"}},null,{"$error":"#VALUE!"},{"$error":"#VALUE!"},{"$f":"AVERAGE($AA$3:AA966)","v":{"$error":"#VALUE!"}},null,null,null,{"$f":"((AA966*#REF!)+(#REF!*#REF!)+(#REF!*#REF!))/(#REF!+#REF!+#REF!)","v":{"$error":"#VALUE!"}},{"$f":"((AA966*#REF!)+(#REF!*#REF!)+(#REF!*#REF!))/(#REF!+#REF!+#REF!)","v":{"$error":"#VALUE!"}},{"$f":"((AA966*#REF!)+(#REF!*#REF!)+(#REF!*#REF!))/(#REF!+#REF!+#REF!)","v":{"$error":"#VALUE!"}},{"$f":"((AA966*#REF!)+(#REF!*#REF!)+(#REF!*#REF!))/(#REF!+#REF!+#REF!)","v":{"$error":"#VALUE!"}},{"$f":"((AA966*#REF!)+(#REF!*#REF!)+(#REF!*#REF!))/(#REF!+#REF!+#REF!)","v":{"$error":"#VALUE!"}},{"$f":"((AA966*#REF!)+(#REF!*#REF!)+(#REF!*#REF!))/(#REF!+#REF!+#REF!)","v":{"$error":"#VALUE!"}},{"$f":"((AA966*#REF!)+(#REF!*#REF!)+(#REF!*#REF!))/(#REF!+#REF!+#REF!)","v":{"$error":"#VALUE!"}}]
[null,null,null,null,null,null,null,null,null,null,null,null,null,null,null,null,null,null,null,null,null,965,{"$error":"#VALUE!"},{"$f":"AVERAGE($W$3:W967)","v":{"$error":"#VALUE!"}},null,{"$error":"#VALUE!"},{"$error":"#VALUE!"},{"$f":"AVERAGE($AA$3:AA967)","v":{"$error":"#VALUE!"}},null,null,null,{"$f":"((AA967*#REF!)+(#REF!*#REF!)+(#REF!*#REF!))/(#REF!+#REF!+#REF!)","v":{"$error":"#VALUE!"}},{"$f":"((AA967*#REF!)+(#REF!*#REF!)+(#REF!*#REF!))/(#REF!+#REF!+#REF!)","v":{"$error":"#VALUE!"}},{"$f":"((AA967*#REF!)+(#REF!*#REF!)+(#REF!*#REF!))/(#REF!+#REF!+#REF!)","v":{"$error":"#VALUE!"}},{"$f":"((AA967*#REF!)+(#REF!*#REF!)+(#REF!*#REF!))/(#REF!+#REF!+#REF!)","v":{"$error":"#VALUE!"}},{"$f":"((AA967*#REF!)+(#REF!*#REF!)+(#REF!*#REF!))/(#REF!+#REF!+#REF!)","v":{"$error":"#VALUE!"}},{"$f":"((AA967*#REF!)+(#REF!*#REF!)+(#REF!*#REF!))/(#REF!+#REF!+#REF!)","v":{"$error":"#VALUE!"}},{"$f":"((AA967*#REF!)+(#REF!*#REF!)+(#REF!*#REF!))/(#REF!+#REF!+#REF!)","v":{"$error":"#VALUE!"}}]
[null,null,null,null,null,null,null,null,null,null,null,null,null,null,null,null,null,null,null,null,null,966,{"$error":"#VALUE!"},{"$f":"AVERAGE($W$3:W968)","v":{"$error":"#VALUE!"}},null,{"$error":"#VALUE!"},{"$error":"#VALUE!"},{"$f":"AVERAGE($AA$3:AA968)","v":{"$error":"#VALUE!"}},null,null,null,{"$f":"((AA968*#REF!)+(#REF!*#REF!)+(#REF!*#REF!))/(#REF!+#REF!+#REF!)","v":{"$error":"#VALUE!"}},{"$f":"((AA968*#REF!)+(#REF!*#REF!)+(#REF!*#REF!))/(#REF!+#REF!+#REF!)","v":{"$error":"#VALUE!"}},{"$f":"((AA968*#REF!)+(#REF!*#REF!)+(#REF!*#REF!))/(#REF!+#REF!+#REF!)","v":{"$error":"#VALUE!"}},{"$f":"((AA968*#REF!)+(#REF!*#REF!)+(#REF!*#REF!))/(#REF!+#REF!+#REF!)","v":{"$error":"#VALUE!"}},{"$f":"((AA968*#REF!)+(#REF!*#REF!)+(#REF!*#REF!))/(#REF!+#REF!+#REF!)","v":{"$error":"#VALUE!"}},{"$f":"((AA968*#REF!)+(#REF!*#REF!)+(#REF!*#REF!))/(#REF!+#REF!+#REF!)","v":{"$error":"#VALUE!"}},{"$f":"((AA968*#REF!)+(#REF!*#REF!)+(#REF!*#REF!))/(#REF!+#REF!+#REF!)","v":{"$error":"#VALUE!"}}]
[null,null,null,null,null,null,null,null,null,null,null,null,null,null,null,null,null,null,null,null,null,967,{"$error":"#VALUE!"},{"$f":"AVERAGE($W$3:W969)","v":{"$error":"#VALUE!"}},null,{"$error":"#VALUE!"},{"$error":"#VALUE!"},{"$f":"AVERAGE($AA$3:AA969)","v":{"$error":"#VALUE!"}},null,null,null,{"$f":"((AA969*#REF!)+(#REF!*#REF!)+(#REF!*#REF!))/(#REF!+#REF!+#REF!)","v":{"$error":"#VALUE!"}},{"$f":"((AA969*#REF!)+(#REF!*#REF!)+(#REF!*#REF!))/(#REF!+#REF!+#REF!)","v":{"$error":"#VALUE!"}},{"$f":"((AA969*#REF!)+(#REF!*#REF!)+(#REF!*#REF!))/(#REF!+#REF!+#REF!)","v":{"$error":"#VALUE!"}},{"$f":"((AA969*#REF!)+(#REF!*#REF!)+(#REF!*#REF!))/(#REF!+#REF!+#REF!)","v":{"$error":"#VALUE!"}},{"$f":"((AA969*#REF!)+(#REF!*#REF!)+(#REF!*#REF!))/(#REF!+#REF!+#REF!)","v":{"$error":"#VALUE!"}},{"$f":"((AA969*#REF!)+(#REF!*#REF!)+(#REF!*#REF!))/(#REF!+#REF!+#REF!)","v":{"$error":"#VALUE!"}},{"$f":"((AA969*#REF!)+(#REF!*#REF!)+(#REF!*#REF!))/(#REF!+#REF!+#REF!)","v":{"$error":"#VALUE!"}}]
[null,null,null,null,null,null,null,null,null,null,null,null,null,null,null,null,null,null,null,null,null,968,{"$error":"#VALUE!"},{"$f":"AVERAGE($W$3:W970)","v":{"$error":"#VALUE!"}},null,{"$error":"#VALUE!"},{"$error":"#VALUE!"},{"$f":"AVERAGE($AA$3:AA970)","v":{"$error":"#VALUE!"}},null,null,null,{"$f":"((AA970*#REF!)+(#REF!*#REF!)+(#REF!*#REF!))/(#REF!+#REF!+#REF!)","v":{"$error":"#VALUE!"}},{"$f":"((AA970*#REF!)+(#REF!*#REF!)+(#REF!*#REF!))/(#REF!+#REF!+#REF!)","v":{"$error":"#VALUE!"}},{"$f":"((AA970*#REF!)+(#REF!*#REF!)+(#REF!*#REF!))/(#REF!+#REF!+#REF!)","v":{"$error":"#VALUE!"}},{"$f":"((AA970*#REF!)+(#REF!*#REF!)+(#REF!*#REF!))/(#REF!+#REF!+#REF!)","v":{"$error":"#VALUE!"}},{"$f":"((AA970*#REF!)+(#REF!*#REF!)+(#REF!*#REF!))/(#REF!+#REF!+#REF!)","v":{"$error":"#VALUE!"}},{"$f":"((AA970*#REF!)+(#REF!*#REF!)+(#REF!*#REF!))/(#REF!+#REF!+#REF!)","v":{"$error":"#VALUE!"}},{"$f":"((AA970*#REF!)+(#REF!*#REF!)+(#REF!*#REF!))/(#REF!+#REF!+#REF!)","v":{"$error":"#VALUE!"}}]
[null,null,null,null,null,null,null,null,null,null,null,null,null,null,null,null,null,null,null,null,null,969,{"$error":"#VALUE!"},{"$f":"AVERAGE($W$3:W971)","v":{"$error":"#VALUE!"}},null,{"$error":"#VALUE!"},{"$error":"#VALUE!"},{"$f":"AVERAGE($AA$3:AA971)","v":{"$error":"#VALUE!"}},null,null,null,{"$f":"((AA971*#REF!)+(#REF!*#REF!)+(#REF!*#REF!))/(#REF!+#REF!+#REF!)","v":{"$error":"#VALUE!"}},{"$f":"((AA971*#REF!)+(#REF!*#REF!)+(#REF!*#REF!))/(#REF!+#REF!+#REF!)","v":{"$error":"#VALUE!"}},{"$f":"((AA971*#REF!)+(#REF!*#REF!)+(#REF!*#REF!))/(#REF!+#REF!+#REF!)","v":{"$error":"#VALUE!"}},{"$f":"((AA971*#REF!)+(#REF!*#REF!)+(#REF!*#REF!))/(#REF!+#REF!+#REF!)","v":{"$error":"#VALUE!"}},{"$f":"((AA971*#REF!)+(#REF!*#REF!)+(#REF!*#REF!))/(#REF!+#REF!+#REF!)","v":{"$error":"#VALUE!"}},{"$f":"((AA971*#REF!)+(#REF!*#REF!)+(#REF!*#REF!))/(#REF!+#REF!+#REF!)","v":{"$error":"#VALUE!"}},{"$f":"((AA971*#REF!)+(#REF!*#REF!)+(#REF!*#REF!))/(#REF!+#REF!+#REF!)","v":{"$error":"#VALUE!"}}]
[null,null,null,null,null,null,null,null,null,null,null,null,null,null,null,null,null,null,null,null,null,970,{"$error":"#VALUE!"},{"$f":"AVERAGE($W$3:W972)","v":{"$error":"#VALUE!"}},null,{"$error":"#VALUE!"},{"$error":"#VALUE!"},{"$f":"AVERAGE($AA$3:AA972)","v":{"$error":"#VALUE!"}},null,null,null,{"$f":"((AA972*#REF!)+(#REF!*#REF!)+(#REF!*#REF!))/(#REF!+#REF!+#REF!)","v":{"$error":"#VALUE!"}},{"$f":"((AA972*#REF!)+(#REF!*#REF!)+(#REF!*#REF!))/(#REF!+#REF!+#REF!)","v":{"$error":"#VALUE!"}},{"$f":"((AA972*#REF!)+(#REF!*#REF!)+(#REF!*#REF!))/(#REF!+#REF!+#REF!)","v":{"$error":"#VALUE!"}},{"$f":"((AA972*#REF!)+(#REF!*#REF!)+(#REF!*#REF!))/(#REF!+#REF!+#REF!)","v":{"$error":"#VALUE!"}},{"$f":"((AA972*#REF!)+(#REF!*#REF!)+(#REF!*#REF!))/(#REF!+#REF!+#REF!)","v":{"$error":"#VALUE!"}},{"$f":"((AA972*#REF!)+(#REF!*#REF!)+(#REF!*#REF!))/(#REF!+#REF!+#REF!)","v":{"$error":"#VALUE!"}},{"$f":"((AA972*#REF!)+(#REF!*#REF!)+(#REF!*#REF!))/(#REF!+#REF!+#REF!)","v":{"$error":"#VALUE!"}}]
[null,null,null,null,null,null,null,null,null,null,null,null,null,null,null,null,null,null,null,null,null,971,{"$error":"#VALUE!"},{"$f":"AVERAGE($W$3:W973)","v":{"$error":"#VALUE!"}},null,{"$error":"#VALUE!"},{"$error":"#VALUE!"},{"$f":"AVERAGE($AA$3:AA973)","v":{"$error":"#VALUE!"}},null,null,null,{"$f":"((AA973*#REF!)+(#REF!*#REF!)+(#REF!*#REF!))/(#REF!+#REF!+#REF!)","v":{"$error":"#VALUE!"}},{"$f":"((AA973*#REF!)+(#REF!*#REF!)+(#REF!*#REF!))/(#REF!+#REF!+#REF!)","v":{"$error":"#VALUE!"}},{"$f":"((AA973*#REF!)+(#REF!*#REF!)+(#REF!*#REF!))/(#REF!+#REF!+#REF!)","v":{"$error":"#VALUE!"}},{"$f":"((AA973*#REF!)+(#REF!*#REF!)+(#REF!*#REF!))/(#REF!+#REF!+#REF!)","v":{"$error":"#VALUE!"}},{"$f":"((AA973*#REF!)+(#REF!*#REF!)+(#REF!*#REF!))/(#REF!+#REF!+#REF!)","v":{"$error":"#VALUE!"}},{"$f":"((AA973*#REF!)+(#REF!*#REF!)+(#REF!*#REF!))/(#REF!+#REF!+#REF!)","v":{"$error":"#VALUE!"}},{"$f":"((AA973*#REF!)+(#REF!*#REF!)+(#REF!*#REF!))/(#REF!+#REF!+#REF!)","v":{"$error":"#VALUE!"}}]
[null,null,null,null,null,null,null,null,null,null,null,null,null,null,null,null,null,null,null,null,null,972,{"$error":"#VALUE!"},{"$f":"AVERAGE($W$3:W974)","v":{"$error":"#VALUE!"}},null,{"$error":"#VALUE!"},{"$error":"#VALUE!"},{"$f":"AVERAGE($AA$3:AA974)","v":{"$error":"#VALUE!"}},null,null,null,{"$f":"((AA974*#REF!)+(#REF!*#REF!)+(#REF!*#REF!))/(#REF!+#REF!+#REF!)","v":{"$error":"#VALUE!"}},{"$f":"((AA974*#REF!)+(#REF!*#REF!)+(#REF!*#REF!))/(#REF!+#REF!+#REF!)","v":{"$error":"#VALUE!"}},{"$f":"((AA974*#REF!)+(#REF!*#REF!)+(#REF!*#REF!))/(#REF!+#REF!+#REF!)","v":{"$error":"#VALUE!"}},{"$f":"((AA974*#REF!)+(#REF!*#REF!)+(#REF!*#REF!))/(#REF!+#REF!+#REF!)","v":{"$error":"#VALUE!"}},{"$f":"((AA974*#REF!)+(#REF!*#REF!)+(#REF!*#REF!))/(#REF!+#REF!+#REF!)","v":{"$error":"#VALUE!"}},{"$f":"((AA974*#REF!)+(#REF!*#REF!)+(#REF!*#REF!))/(#REF!+#REF!+#REF!)","v":{"$error":"#VALUE!"}},{"$f":"((AA974*#REF!)+(#REF!*#REF!)+(#REF!*#REF!))/(#REF!+#REF!+#REF!)","v":{"$error":"#VALUE!"}}]
[null,null,null,null,null,null,null,null,null,null,null,null,null,null,null,null,null,null,null,null,null,973,{"$error":"#VALUE!"},{"$f":"AVERAGE($W$3:W975)","v":{"$error":"#VALUE!"}},null,{"$error":"#VALUE!"},{"$error":"#VALUE!"},{"$f":"AVERAGE($AA$3:AA975)","v":{"$error":"#VALUE!"}},null,null,null,{"$f":"((AA975*#REF!)+(#REF!*#REF!)+(#REF!*#REF!))/(#REF!+#REF!+#REF!)","v":{"$error":"#VALUE!"}},{"$f":"((AA975*#REF!)+(#REF!*#REF!)+(#REF!*#REF!))/(#REF!+#REF!+#REF!)","v":{"$error":"#VALUE!"}},{"$f":"((AA975*#REF!)+(#REF!*#REF!)+(#REF!*#REF!))/(#REF!+#REF!+#REF!)","v":{"$error":"#VALUE!"}},{"$f":"((AA975*#REF!)+(#REF!*#REF!)+(#REF!*#REF!))/(#REF!+#REF!+#REF!)","v":{"$error":"#VALUE!"}},{"$f":"((AA975*#REF!)+(#REF!*#REF!)+(#REF!*#REF!))/(#REF!+#REF!+#REF!)","v":{"$error":"#VALUE!"}},{"$f":"((AA975*#REF!)+(#REF!*#REF!)+(#REF!*#REF!))/(#REF!+#REF!+#REF!)","v":{"$error":"#VALUE!"}},{"$f":"((AA975*#REF!)+(#REF!*#REF!)+(#REF!*#REF!))/(#REF!+#REF!+#REF!)","v":{"$error":"#VALUE!"}}]
[null,null,null,null,null,null,null,null,null,null,null,null,null,null,null,null,null,null,null,null,null,974,{"$error":"#VALUE!"},{"$f":"AVERAGE($W$3:W976)","v":{"$error":"#VALUE!"}},null,{"$error":"#VALUE!"},{"$error":"#VALUE!"},{"$f":"AVERAGE($AA$3:AA976)","v":{"$error":"#VALUE!"}},null,null,null,{"$f":"((AA976*#REF!)+(#REF!*#REF!)+(#REF!*#REF!))/(#REF!+#REF!+#REF!)","v":{"$error":"#VALUE!"}},{"$f":"((AA976*#REF!)+(#REF!*#REF!)+(#REF!*#REF!))/(#REF!+#REF!+#REF!)","v":{"$error":"#VALUE!"}},{"$f":"((AA976*#REF!)+(#REF!*#REF!)+(#REF!*#REF!))/(#REF!+#REF!+#REF!)","v":{"$error":"#VALUE!"}},{"$f":"((AA976*#REF!)+(#REF!*#REF!)+(#REF!*#REF!))/(#REF!+#REF!+#REF!)","v":{"$error":"#VALUE!"}},{"$f":"((AA976*#REF!)+(#REF!*#REF!)+(#REF!*#REF!))/(#REF!+#REF!+#REF!)","v":{"$error":"#VALUE!"}},{"$f":"((AA976*#REF!)+(#REF!*#REF!)+(#REF!*#REF!))/(#REF!+#REF!+#REF!)","v":{"$error":"#VALUE!"}},{"$f":"((AA976*#REF!)+(#REF!*#REF!)+(#REF!*#REF!))/(#REF!+#REF!+#REF!)","v":{"$error":"#VALUE!"}}]
[null,null,null,null,null,null,null,null,null,null,null,null,null,null,null,null,null,null,null,null,null,975,{"$error":"#VALUE!"},{"$f":"AVERAGE($W$3:W977)","v":{"$error":"#VALUE!"}},null,{"$error":"#VALUE!"},{"$error":"#VALUE!"},{"$f":"AVERAGE($AA$3:AA977)","v":{"$error":"#VALUE!"}},null,null,null,{"$f":"((AA977*#REF!)+(#REF!*#REF!)+(#REF!*#REF!))/(#REF!+#REF!+#REF!)","v":{"$error":"#VALUE!"}},{"$f":"((AA977*#REF!)+(#REF!*#REF!)+(#REF!*#REF!))/(#REF!+#REF!+#REF!)","v":{"$error":"#VALUE!"}},{"$f":"((AA977*#REF!)+(#REF!*#REF!)+(#REF!*#REF!))/(#REF!+#REF!+#REF!)","v":{"$error":"#VALUE!"}},{"$f":"((AA977*#REF!)+(#REF!*#REF!)+(#REF!*#REF!))/(#REF!+#REF!+#REF!)","v":{"$error":"#VALUE!"}},{"$f":"((AA977*#REF!)+(#REF!*#REF!)+(#REF!*#REF!))/(#REF!+#REF!+#REF!)","v":{"$error":"#VALUE!"}},{"$f":"((AA977*#REF!)+(#REF!*#REF!)+(#REF!*#REF!))/(#REF!+#REF!+#REF!)","v":{"$error":"#VALUE!"}},{"$f":"((AA977*#REF!)+(#REF!*#REF!)+(#REF!*#REF!))/(#REF!+#REF!+#REF!)","v":{"$error":"#VALUE!"}}]
[null,null,null,null,null,null,null,null,null,null,null,null,null,null,null,null,null,null,null,null,null,976,{"$error":"#VALUE!"},{"$f":"AVERAGE($W$3:W978)","v":{"$error":"#VALUE!"}},null,{"$error":"#VALUE!"},{"$error":"#VALUE!"},{"$f":"AVERAGE($AA$3:AA978)","v":{"$error":"#VALUE!"}},null,null,null,{"$f":"((AA978*#REF!)+(#REF!*#REF!)+(#REF!*#REF!))/(#REF!+#REF!+#REF!)","v":{"$error":"#VALUE!"}},{"$f":"((AA978*#REF!)+(#REF!*#REF!)+(#REF!*#REF!))/(#REF!+#REF!+#REF!)","v":{"$error":"#VALUE!"}},{"$f":"((AA978*#REF!)+(#REF!*#REF!)+(#REF!*#REF!))/(#REF!+#REF!+#REF!)","v":{"$error":"#VALUE!"}},{"$f":"((AA978*#REF!)+(#REF!*#REF!)+(#REF!*#REF!))/(#REF!+#REF!+#REF!)","v":{"$error":"#VALUE!"}},{"$f":"((AA978*#REF!)+(#REF!*#REF!)+(#REF!*#REF!))/(#REF!+#REF!+#REF!)","v":{"$error":"#VALUE!"}},{"$f":"((AA978*#REF!)+(#REF!*#REF!)+(#REF!*#REF!))/(#REF!+#REF!+#REF!)","v":{"$error":"#VALUE!"}},{"$f":"((AA978*#REF!)+(#REF!*#REF!)+(#REF!*#REF!))/(#REF!+#REF!+#REF!)","v":{"$error":"#VALUE!"}}]
[null,null,null,null,null,null,null,null,null,null,null,null,null,null,null,null,null,null,null,null,null,977,{"$error":"#VALUE!"},{"$f":"AVERAGE($W$3:W979)","v":{"$error":"#VALUE!"}},null,{"$error":"#VALUE!"},{"$error":"#VALUE!"},{"$f":"AVERAGE($AA$3:AA979)","v":{"$error":"#VALUE!"}},null,null,null,{"$f":"((AA979*#REF!)+(#REF!*#REF!)+(#REF!*#REF!))/(#REF!+#REF!+#REF!)","v":{"$error":"#VALUE!"}},{"$f":"((AA979*#REF!)+(#REF!*#REF!)+(#REF!*#REF!))/(#REF!+#REF!+#REF!)","v":{"$error":"#VALUE!"}},{"$f":"((AA979*#REF!)+(#REF!*#REF!)+(#REF!*#REF!))/(#REF!+#REF!+#REF!)","v":{"$error":"#VALUE!"}},{"$f":"((AA979*#REF!)+(#REF!*#REF!)+(#REF!*#REF!))/(#REF!+#REF!+#REF!)","v":{"$error":"#VALUE!"}},{"$f":"((AA979*#REF!)+(#REF!*#REF!)+(#REF!*#REF!))/(#REF!+#REF!+#REF!)","v":{"$error":"#VALUE!"}},{"$f":"((AA979*#REF!)+(#REF!*#REF!)+(#REF!*#REF!))/(#REF!+#REF!+#REF!)","v":{"$error":"#VALUE!"}},{"$f":"((AA979*#REF!)+(#REF!*#REF!)+(#REF!*#REF!))/(#REF!+#REF!+#REF!)","v":{"$error":"#VALUE!"}}]
[null,null,null,null,null,null,null,null,null,null,null,null,null,null,null,null,null,null,null,null,null,978,{"$error":"#VALUE!"},{"$f":"AVERAGE($W$3:W980)","v":{"$error":"#VALUE!"}},null,{"$error":"#VALUE!"},{"$error":"#VALUE!"},{"$f":"AVERAGE($AA$3:AA980)","v":{"$error":"#VALUE!"}},null,null,null,{"$f":"((AA980*#REF!)+(#REF!*#REF!)+(#REF!*#REF!))/(#REF!+#REF!+#REF!)","v":{"$error":"#VALUE!"}},{"$f":"((AA980*#REF!)+(#REF!*#REF!)+(#REF!*#REF!))/(#REF!+#REF!+#REF!)","v":{"$error":"#VALUE!"}},{"$f":"((AA980*#REF!)+(#REF!*#REF!)+(#REF!*#REF!))/(#REF!+#REF!+#REF!)","v":{"$error":"#VALUE!"}},{"$f":"((AA980*#REF!)+(#REF!*#REF!)+(#REF!*#REF!))/(#REF!+#REF!+#REF!)","v":{"$error":"#VALUE!"}},{"$f":"((AA980*#REF!)+(#REF!*#REF!)+(#REF!*#REF!))/(#REF!+#REF!+#REF!)","v":{"$error":"#VALUE!"}},{"$f":"((AA980*#REF!)+(#REF!*#REF!)+(#REF!*#REF!))/(#REF!+#REF!+#REF!)","v":{"$error":"#VALUE!"}},{"$f":"((AA980*#REF!)+(#REF!*#REF!)+(#REF!*#REF!))/(#REF!+#REF!+#REF!)","v":{"$error":"#VALUE!"}}]
[null,null,null,null,null,null,null,null,null,null,null,null,null,null,null,null,null,null,null,null,null,979,{"$error":"#VALUE!"},{"$f":"AVERAGE($W$3:W981)","v":{"$error":"#VALUE!"}},null,{"$error":"#VALUE!"},{"$error":"#VALUE!"},{"$f":"AVERAGE($AA$3:AA981)","v":{"$error":"#VALUE!"}},null,null,null,{"$f":"((AA981*#REF!)+(#REF!*#REF!)+(#REF!*#REF!))/(#REF!+#REF!+#REF!)","v":{"$error":"#VALUE!"}},{"$f":"((AA981*#REF!)+(#REF!*#REF!)+(#REF!*#REF!))/(#REF!+#REF!+#REF!)","v":{"$error":"#VALUE!"}},{"$f":"((AA981*#REF!)+(#REF!*#REF!)+(#REF!*#REF!))/(#REF!+#REF!+#REF!)","v":{"$error":"#VALUE!"}},{"$f":"((AA981*#REF!)+(#REF!*#REF!)+(#REF!*#REF!))/(#REF!+#REF!+#REF!)","v":{"$error":"#VALUE!"}},{"$f":"((AA981*#REF!)+(#REF!*#REF!)+(#REF!*#REF!))/(#REF!+#REF!+#REF!)","v":{"$error":"#VALUE!"}},{"$f":"((AA981*#REF!)+(#REF!*#REF!)+(#REF!*#REF!))/(#REF!+#REF!+#REF!)","v":{"$error":"#VALUE!"}},{"$f":"((AA981*#REF!)+(#REF!*#REF!)+(#REF!*#REF!))/(#REF!+#REF!+#REF!)","v":{"$error":"#VALUE!"}}]
[null,null,null,null,null,null,null,null,null,null,null,null,null,null,null,null,null,null,null,null,null,980,{"$error":"#VALUE!"},{"$f":"AVERAGE($W$3:W982)","v":{"$error":"#VALUE!"}},null,{"$error":"#VALUE!"},{"$error":"#VALUE!"},{"$f":"AVERAGE($AA$3:AA982)","v":{"$error":"#VALUE!"}},null,null,null,{"$f":"((AA982*#REF!)+(#REF!*#REF!)+(#REF!*#REF!))/(#REF!+#REF!+#REF!)","v":{"$error":"#VALUE!"}},{"$f":"((AA982*#REF!)+(#REF!*#REF!)+(#REF!*#REF!))/(#REF!+#REF!+#REF!)","v":{"$error":"#VALUE!"}},{"$f":"((AA982*#REF!)+(#REF!*#REF!)+(#REF!*#REF!))/(#REF!+#REF!+#REF!)","v":{"$error":"#VALUE!"}},{"$f":"((AA982*#REF!)+(#REF!*#REF!)+(#REF!*#REF!))/(#REF!+#REF!+#REF!)","v":{"$error":"#VALUE!"}},{"$f":"((AA982*#REF!)+(#REF!*#REF!)+(#REF!*#REF!))/(#REF!+#REF!+#REF!)","v":{"$error":"#VALUE!"}},{"$f":"((AA982*#REF!)+(#REF!*#REF!)+(#REF!*#REF!))/(#REF!+#REF!+#REF!)","v":{"$error":"#VALUE!"}},{"$f":"((AA982*#REF!)+(#REF!*#REF!)+(#REF!*#REF!))/(#REF!+#REF!+#REF!)","v":{"$error":"#VALUE!"}}]
[null,null,null,null,null,null,null,null,null,null,null,null,null,null,null,null,null,null,null,null,null,981,{"$error":"#VALUE!"},{"$f":"AVERAGE($W$3:W983)","v":{"$error":"#VALUE!"}},null,{"$error":"#VALUE!"},{"$error":"#VALUE!"},{"$f":"AVERAGE($AA$3:AA983)","v":{"$error":"#VALUE!"}},null,null,null,{"$f":"((AA983*#REF!)+(#REF!*#REF!)+(#REF!*#REF!))/(#REF!+#REF!+#REF!)","v":{"$error":"#VALUE!"}},{"$f":"((AA983*#REF!)+(#REF!*#REF!)+(#REF!*#REF!))/(#REF!+#REF!+#REF!)","v":{"$error":"#VALUE!"}},{"$f":"((AA983*#REF!)+(#REF!*#REF!)+(#REF!*#REF!))/(#REF!+#REF!+#REF!)","v":{"$error":"#VALUE!"}},{"$f":"((AA983*#REF!)+(#REF!*#REF!)+(#REF!*#REF!))/(#REF!+#REF!+#REF!)","v":{"$error":"#VALUE!"}},{"$f":"((AA983*#REF!)+(#REF!*#REF!)+(#REF!*#REF!))/(#REF!+#REF!+#REF!)","v":{"$error":"#VALUE!"}},{"$f":"((AA983*#REF!)+(#REF!*#REF!)+(#REF!*#REF!))/(#REF!+#REF!+#REF!)","v":{"$error":"#VALUE!"}},{"$f":"((AA983*#REF!)+(#REF!*#REF!)+(#REF!*#REF!))/(#REF!+#REF!+#REF!)","v":{"$error":"#VALUE!"}}]
[null,null,null,null,null,null,null,null,null,null,null,null,null,null,null,null,null,null,null,null,null,982,{"$error":"#VALUE!"},{"$f":"AVERAGE($W$3:W984)","v":{"$error":"#VALUE!"}},null,{"$error":"#VALUE!"},{"$error":"#VALUE!"},{"$f":"AVERAGE($AA$3:AA984)","v":{"$error":"#VALUE!"}},null,null,null,{"$f":"((AA984*#REF!)+(#REF!*#REF!)+(#REF!*#REF!))/(#REF!+#REF!+#REF!)","v":{"$error":"#VALUE!"}},{"$f":"((AA984*#REF!)+(#REF!*#REF!)+(#REF!*#REF!))/(#REF!+#REF!+#REF!)","v":{"$error":"#VALUE!"}},{"$f":"((AA984*#REF!)+(#REF!*#REF!)+(#REF!*#REF!))/(#REF!+#REF!+#REF!)","v":{"$error":"#VALUE!"}},{"$f":"((AA984*#REF!)+(#REF!*#REF!)+(#REF!*#REF!))/(#REF!+#REF!+#REF!)","v":{"$error":"#VALUE!"}},{"$f":"((AA984*#REF!)+(#REF!*#REF!)+(#REF!*#REF!))/(#REF!+#REF!+#REF!)","v":{"$error":"#VALUE!"}},{"$f":"((AA984*#REF!)+(#REF!*#REF!)+(#REF!*#REF!))/(#REF!+#REF!+#REF!)","v":{"$error":"#VALUE!"}},{"$f":"((AA984*#REF!)+(#REF!*#REF!)+(#REF!*#REF!))/(#REF!+#REF!+#REF!)","v":{"$error":"#VALUE!"}}]
[null,null,null,null,null,null,null,null,null,null,null,null,null,null,null,null,null,null,null,null,null,983,{"$error":"#VALUE!"},{"$f":"AVERAGE($W$3:W985)","v":{"$error":"#VALUE!"}},null,{"$error":"#VALUE!"},{"$error":"#VALUE!"},{"$f":"AVERAGE($AA$3:AA985)","v":{"$error":"#VALUE!"}},null,null,null,{"$f":"((AA985*#REF!)+(#REF!*#REF!)+(#REF!*#REF!))/(#REF!+#REF!+#REF!)","v":{"$error":"#VALUE!"}},{"$f":"((AA985*#REF!)+(#REF!*#REF!)+(#REF!*#REF!))/(#REF!+#REF!+#REF!)","v":{"$error":"#VALUE!"}},{"$f":"((AA985*#REF!)+(#REF!*#REF!)+(#REF!*#REF!))/(#REF!+#REF!+#REF!)","v":{"$error":"#VALUE!"}},{"$f":"((AA985*#REF!)+(#REF!*#REF!)+(#REF!*#REF!))/(#REF!+#REF!+#REF!)","v":{"$error":"#VALUE!"}},{"$f":"((AA985*#REF!)+(#REF!*#REF!)+(#REF!*#REF!))/(#REF!+#REF!+#REF!)","v":{"$error":"#VALUE!"}},{"$f":"((AA985*#REF!)+(#REF!*#REF!)+(#REF!*#REF!))/(#REF!+#REF!+#REF!)","v":{"$error":"#VALUE!"}},{"$f":"((AA985*#REF!)+(#REF!*#REF!)+(#REF!*#REF!))/(#REF!+#REF!+#REF!)","v":{"$error":"#VALUE!"}}]
[null,null,null,null,null,null,null,null,null,null,null,null,null,null,null,null,null,null,null,null,null,984,{"$error":"#VALUE!"},{"$f":"AVERAGE($W$3:W986)","v":{"$error":"#VALUE!"}},null,{"$error":"#VALUE!"},{"$error":"#VALUE!"},{"$f":"AVERAGE($AA$3:AA986)","v":{"$error":"#VALUE!"}},null,null,null,{"$f":"((AA986*#REF!)+(#REF!*#REF!)+(#REF!*#REF!))/(#REF!+#REF!+#REF!)","v":{"$error":"#VALUE!"}},{"$f":"((AA986*#REF!)+(#REF!*#REF!)+(#REF!*#REF!))/(#REF!+#REF!+#REF!)","v":{"$error":"#VALUE!"}},{"$f":"((AA986*#REF!)+(#REF!*#REF!)+(#REF!*#REF!))/(#REF!+#REF!+#REF!)","v":{"$error":"#VALUE!"}},{"$f":"((AA986*#REF!)+(#REF!*#REF!)+(#REF!*#REF!))/(#REF!+#REF!+#REF!)","v":{"$error":"#VALUE!"}},{"$f":"((AA986*#REF!)+(#REF!*#REF!)+(#REF!*#REF!))/(#REF!+#REF!+#REF!)","v":{"$error":"#VALUE!"}},{"$f":"((AA986*#REF!)+(#REF!*#REF!)+(#REF!*#REF!))/(#REF!+#REF!+#REF!)","v":{"$error":"#VALUE!"}},{"$f":"((AA986*#REF!)+(#REF!*#REF!)+(#REF!*#REF!))/(#REF!+#REF!+#REF!)","v":{"$error":"#VALUE!"}}]
[null,null,null,null,null,null,null,null,null,null,null,null,null,null,null,null,null,null,null,null,null,985,{"$error":"#VALUE!"},{"$f":"AVERAGE($W$3:W987)","v":{"$error":"#VALUE!"}},null,{"$error":"#VALUE!"},{"$error":"#VALUE!"},{"$f":"AVERAGE($AA$3:AA987)","v":{"$error":"#VALUE!"}},null,null,null,{"$f":"((AA987*#REF!)+(#REF!*#REF!)+(#REF!*#REF!))/(#REF!+#REF!+#REF!)","v":{"$error":"#VALUE!"}},{"$f":"((AA987*#REF!)+(#REF!*#REF!)+(#REF!*#REF!))/(#REF!+#REF!+#REF!)","v":{"$error":"#VALUE!"}},{"$f":"((AA987*#REF!)+(#REF!*#REF!)+(#REF!*#REF!))/(#REF!+#REF!+#REF!)","v":{"$error":"#VALUE!"}},{"$f":"((AA987*#REF!)+(#REF!*#REF!)+(#REF!*#REF!))/(#REF!+#REF!+#REF!)","v":{"$error":"#VALUE!"}},{"$f":"((AA987*#REF!)+(#REF!*#REF!)+(#REF!*#REF!))/(#REF!+#REF!+#REF!)","v":{"$error":"#VALUE!"}},{"$f":"((AA987*#REF!)+(#REF!*#REF!)+(#REF!*#REF!))/(#REF!+#REF!+#REF!)","v":{"$error":"#VALUE!"}},{"$f":"((AA987*#REF!)+(#REF!*#REF!)+(#REF!*#REF!))/(#REF!+#REF!+#REF!)","v":{"$error":"#VALUE!"}}]
[null,null,null,null,null,null,null,null,null,null,null,null,null,null,null,null,null,null,null,null,null,986,{"$error":"#VALUE!"},{"$f":"AVERAGE($W$3:W988)","v":{"$error":"#VALUE!"}},null,{"$error":"#VALUE!"},{"$error":"#VALUE!"},{"$f":"AVERAGE($AA$3:AA988)","v":{"$error":"#VALUE!"}},null,null,null,{"$f":"((AA988*#REF!)+(#REF!*#REF!)+(#REF!*#REF!))/(#REF!+#REF!+#REF!)","v":{"$error":"#VALUE!"}},{"$f":"((AA988*#REF!)+(#REF!*#REF!)+(#REF!*#REF!))/(#REF!+#REF!+#REF!)","v":{"$error":"#VALUE!"}},{"$f":"((AA988*#REF!)+(#REF!*#REF!)+(#REF!*#REF!))/(#REF!+#REF!+#REF!)","v":{"$error":"#VALUE!"}},{"$f":"((AA988*#REF!)+(#REF!*#REF!)+(#REF!*#REF!))/(#REF!+#REF!+#REF!)","v":{"$error":"#VALUE!"}},{"$f":"((AA988*#REF!)+(#REF!*#REF!)+(#REF!*#REF!))/(#REF!+#REF!+#REF!)","v":{"$error":"#VALUE!"}},{"$f":"((AA988*#REF!)+(#REF!*#REF!)+(#REF!*#REF!))/(#REF!+#REF!+#REF!)","v":{"$error":"#VALUE!"}},{"$f":"((AA988*#REF!)+(#REF!*#REF!)+(#REF!*#REF!))/(#REF!+#REF!+#REF!)","v":{"$error":"#VALUE!"}}]
[null,null,null,null,null,null,null,null,null,null,null,null,null,null,null,null,null,null,null,null,null,987,{"$error":"#VALUE!"},{"$f":"AVERAGE($W$3:W989)","v":{"$error":"#VALUE!"}},null,{"$error":"#VALUE!"},{"$error":"#VALUE!"},{"$f":"AVERAGE($AA$3:AA989)","v":{"$error":"#VALUE!"}},null,null,null,{"$f":"((AA989*#REF!)+(#REF!*#REF!)+(#REF!*#REF!))/(#REF!+#REF!+#REF!)","v":{"$error":"#VALUE!"}},{"$f":"((AA989*#REF!)+(#REF!*#REF!)+(#REF!*#REF!))/(#REF!+#REF!+#REF!)","v":{"$error":"#VALUE!"}},{"$f":"((AA989*#REF!)+(#REF!*#REF!)+(#REF!*#REF!))/(#REF!+#REF!+#REF!)","v":{"$error":"#VALUE!"}},{"$f":"((AA989*#REF!)+(#REF!*#REF!)+(#REF!*#REF!))/(#REF!+#REF!+#REF!)","v":{"$error":"#VALUE!"}},{"$f":"((AA989*#REF!)+(#REF!*#REF!)+(#REF!*#REF!))/(#REF!+#REF!+#REF!)","v":{"$error":"#VALUE!"}},{"$f":"((AA989*#REF!)+(#REF!*#REF!)+(#REF!*#REF!))/(#REF!+#REF!+#REF!)","v":{"$error":"#VALUE!"}},{"$f":"((AA989*#REF!)+(#REF!*#REF!)+(#REF!*#REF!))/(#REF!+#REF!+#REF!)","v":{"$error":"#VALUE!"}}]
[null,null,null,null,null,null,null,null,null,null,null,null,null,null,null,null,null,null,null,null,null,988,{"$error":"#VALUE!"},{"$f":"AVERAGE($W$3:W990)","v":{"$error":"#VALUE!"}},null,{"$error":"#VALUE!"},{"$error":"#VALUE!"},{"$f":"AVERAGE($AA$3:AA990)","v":{"$error":"#VALUE!"}},null,null,null,{"$f":"((AA990*#REF!)+(#REF!*#REF!)+(#REF!*#REF!))/(#REF!+#REF!+#REF!)","v":{"$error":"#VALUE!"}},{"$f":"((AA990*#REF!)+(#REF!*#REF!)+(#REF!*#REF!))/(#REF!+#REF!+#REF!)","v":{"$error":"#VALUE!"}},{"$f":"((AA990*#REF!)+(#REF!*#REF!)+(#REF!*#REF!))/(#REF!+#REF!+#REF!)","v":{"$error":"#VALUE!"}},{"$f":"((AA990*#REF!)+(#REF!*#REF!)+(#REF!*#REF!))/(#REF!+#REF!+#REF!)","v":{"$error":"#VALUE!"}},{"$f":"((AA990*#REF!)+(#REF!*#REF!)+(#REF!*#REF!))/(#REF!+#REF!+#REF!)","v":{"$error":"#VALUE!"}},{"$f":"((AA990*#REF!)+(#REF!*#REF!)+(#REF!*#REF!))/(#REF!+#REF!+#REF!)","v":{"$error":"#VALUE!"}},{"$f":"((AA990*#REF!)+(#REF!*#REF!)+(#REF!*#REF!))/(#REF!+#REF!+#REF!)","v":{"$error":"#VALUE!"}}]
[null,null,null,null,null,null,null,null,null,null,null,null,null,null,null,null,null,null,null,null,null,989,{"$error":"#VALUE!"},{"$f":"AVERAGE($W$3:W991)","v":{"$error":"#VALUE!"}},null,{"$error":"#VALUE!"},{"$error":"#VALUE!"},{"$f":"AVERAGE($AA$3:AA991)","v":{"$error":"#VALUE!"}},null,null,null,{"$f":"((AA991*#REF!)+(#REF!*#REF!)+(#REF!*#REF!))/(#REF!+#REF!+#REF!)","v":{"$error":"#VALUE!"}},{"$f":"((AA991*#REF!)+(#REF!*#REF!)+(#REF!*#REF!))/(#REF!+#REF!+#REF!)","v":{"$error":"#VALUE!"}},{"$f":"((AA991*#REF!)+(#REF!*#REF!)+(#REF!*#REF!))/(#REF!+#REF!+#REF!)","v":{"$error":"#VALUE!"}},{"$f":"((AA991*#REF!)+(#REF!*#REF!)+(#REF!*#REF!))/(#REF!+#REF!+#REF!)","v":{"$error":"#VALUE!"}},{"$f":"((AA991*#REF!)+(#REF!*#REF!)+(#REF!*#REF!))/(#REF!+#REF!+#REF!)","v":{"$error":"#VALUE!"}},{"$f":"((AA991*#REF!)+(#REF!*#REF!)+(#REF!*#REF!))/(#REF!+#REF!+#REF!)","v":{"$error":"#VALUE!"}},{"$f":"((AA991*#REF!)+(#REF!*#REF!)+(#REF!*#REF!))/(#REF!+#REF!+#REF!)","v":{"$error":"#VALUE!"}}]
[null,null,null,null,null,null,null,null,null,null,null,null,null,null,null,null,null,null,null,null,null,990,{"$error":"#VALUE!"},{"$f":"AVERAGE($W$3:W992)","v":{"$error":"#VALUE!"}},null,{"$error":"#VALUE!"},{"$error":"#VALUE!"},{"$f":"AVERAGE($AA$3:AA992)","v":{"$error":"#VALUE!"}},null,null,null,{"$f":"((AA992*#REF!)+(#REF!*#REF!)+(#REF!*#REF!))/(#REF!+#REF!+#REF!)","v":{"$error":"#VALUE!"}},{"$f":"((AA992*#REF!)+(#REF!*#REF!)+(#REF!*#REF!))/(#REF!+#REF!+#REF!)","v":{"$error":"#VALUE!"}},{"$f":"((AA992*#REF!)+(#REF!*#REF!)+(#REF!*#REF!))/(#REF!+#REF!+#REF!)","v":{"$error":"#VALUE!"}},{"$f":"((AA992*#REF!)+(#REF!*#REF!)+(#REF!*#REF!))/(#REF!+#REF!+#REF!)","v":{"$error":"#VALUE!"}},{"$f":"((AA992*#REF!)+(#REF!*#REF!)+(#REF!*#REF!))/(#REF!+#REF!+#REF!)","v":{"$error":"#VALUE!"}},{"$f":"((AA992*#REF!)+(#REF!*#REF!)+(#REF!*#REF!))/(#REF!+#REF!+#REF!)","v":{"$error":"#VALUE!"}},{"$f":"((AA992*#REF!)+(#REF!*#REF!)+(#REF!*#REF!))/(#REF!+#REF!+#REF!)","v":{"$error":"#VALUE!"}}]
[null,null,null,null,null,null,null,null,null,null,null,null,null,null,null,null,null,null,null,null,null,991,{"$error":"#VALUE!"},{"$f":"AVERAGE($W$3:W993)","v":{"$error":"#VALUE!"}},null,{"$error":"#VALUE!"},{"$error":"#VALUE!"},{"$f":"AVERAGE($AA$3:AA993)","v":{"$error":"#VALUE!"}},null,null,null,{"$f":"((AA993*#REF!)+(#REF!*#REF!)+(#REF!*#REF!))/(#REF!+#REF!+#REF!)","v":{"$error":"#VALUE!"}},{"$f":"((AA993*#REF!)+(#REF!*#REF!)+(#REF!*#REF!))/(#REF!+#REF!+#REF!)","v":{"$error":"#VALUE!"}},{"$f":"((AA993*#REF!)+(#REF!*#REF!)+(#REF!*#REF!))/(#REF!+#REF!+#REF!)","v":{"$error":"#VALUE!"}},{"$f":"((AA993*#REF!)+(#REF!*#REF!)+(#REF!*#REF!))/(#REF!+#REF!+#REF!)","v":{"$error":"#VALUE!"}},{"$f":"((AA993*#REF!)+(#REF!*#REF!)+(#REF!*#REF!))/(#REF!+#REF!+#REF!)","v":{"$error":"#VALUE!"}},{"$f":"((AA993*#REF!)+(#REF!*#REF!)+(#REF!*#REF!))/(#REF!+#REF!+#REF!)","v":{"$error":"#VALUE!"}},{"$f":"((AA993*#REF!)+(#REF!*#REF!)+(#REF!*#REF!))/(#REF!+#REF!+#REF!)","v":{"$error":"#VALUE!"}}]
[null,null,null,null,null,null,null,null,null,null,null,null,null,null,null,null,null,null,null,null,null,992,{"$error":"#VALUE!"},{"$f":"AVERAGE($W$3:W994)","v":{"$error":"#VALUE!"}},null,{"$error":"#VALUE!"},{"$error":"#VALUE!"},{"$f":"AVERAGE($AA$3:AA994)","v":{"$error":"#VALUE!"}},null,null,null,{"$f":"((AA994*#REF!)+(#REF!*#REF!)+(#REF!*#REF!))/(#REF!+#REF!+#REF!)","v":{"$error":"#VALUE!"}},{"$f":"((AA994*#REF!)+(#REF!*#REF!)+(#REF!*#REF!))/(#REF!+#REF!+#REF!)","v":{"$error":"#VALUE!"}},{"$f":"((AA994*#REF!)+(#REF!*#REF!)+(#REF!*#REF!))/(#REF!+#REF!+#REF!)","v":{"$error":"#VALUE!"}},{"$f":"((AA994*#REF!)+(#REF!*#REF!)+(#REF!*#REF!))/(#REF!+#REF!+#REF!)","v":{"$error":"#VALUE!"}},{"$f":"((AA994*#REF!)+(#REF!*#REF!)+(#REF!*#REF!))/(#REF!+#REF!+#REF!)","v":{"$error":"#VALUE!"}},{"$f":"((AA994*#REF!)+(#REF!*#REF!)+(#REF!*#REF!))/(#REF!+#REF!+#REF!)","v":{"$error":"#VALUE!"}},{"$f":"((AA994*#REF!)+(#REF!*#REF!)+(#REF!*#REF!))/(#REF!+#REF!+#REF!)","v":{"$error":"#VALUE!"}}]
[null,null,null,null,null,null,null,null,null,null,null,null,null,null,null,null,null,null,null,null,null,993,{"$error":"#VALUE!"},{"$f":"AVERAGE($W$3:W995)","v":{"$error":"#VALUE!"}},null,{"$error":"#VALUE!"},{"$error":"#VALUE!"},{"$f":"AVERAGE($AA$3:AA995)","v":{"$error":"#VALUE!"}},null,null,null,{"$f":"((AA995*#REF!)+(#REF!*#REF!)+(#REF!*#REF!))/(#REF!+#REF!+#REF!)","v":{"$error":"#VALUE!"}},{"$f":"((AA995*#REF!)+(#REF!*#REF!)+(#REF!*#REF!))/(#REF!+#REF!+#REF!)","v":{"$error":"#VALUE!"}},{"$f":"((AA995*#REF!)+(#REF!*#REF!)+(#REF!*#REF!))/(#REF!+#REF!+#REF!)","v":{"$error":"#VALUE!"}},{"$f":"((AA995*#REF!)+(#REF!*#REF!)+(#REF!*#REF!))/(#REF!+#REF!+#REF!)","v":{"$error":"#VALUE!"}},{"$f":"((AA995*#REF!)+(#REF!*#REF!)+(#REF!*#REF!))/(#REF!+#REF!+#REF!)","v":{"$error":"#VALUE!"}},{"$f":"((AA995*#REF!)+(#REF!*#REF!)+(#REF!*#REF!))/(#REF!+#REF!+#REF!)","v":{"$error":"#VALUE!"}},{"$f":"((AA995*#REF!)+(#REF!*#REF!)+(#REF!*#REF!))/(#REF!+#REF!+#REF!)","v":{"$error":"#VALUE!"}}]
[null,null,null,null,null,null,null,null,null,null,null,null,null,null,null,null,null,null,null,null,null,994,{"$error":"#VALUE!"},{"$f":"AVERAGE($W$3:W996)","v":{"$error":"#VALUE!"}},null,{"$error":"#VALUE!"},{"$error":"#VALUE!"},{"$f":"AVERAGE($AA$3:AA996)","v":{"$error":"#VALUE!"}},null,null,null,{"$f":"((AA996*#REF!)+(#REF!*#REF!)+(#REF!*#REF!))/(#REF!+#REF!+#REF!)","v":{"$error":"#VALUE!"}},{"$f":"((AA996*#REF!)+(#REF!*#REF!)+(#REF!*#REF!))/(#REF!+#REF!+#REF!)","v":{"$error":"#VALUE!"}},{"$f":"((AA996*#REF!)+(#REF!*#REF!)+(#REF!*#REF!))/(#REF!+#REF!+#REF!)","v":{"$error":"#VALUE!"}},{"$f":"((AA996*#REF!)+(#REF!*#REF!)+(#REF!*#REF!))/(#REF!+#REF!+#REF!)","v":{"$error":"#VALUE!"}},{"$f":"((AA996*#REF!)+(#REF!*#REF!)+(#REF!*#REF!))/(#REF!+#REF!+#REF!)","v":{"$error":"#VALUE!"}},{"$f":"((AA996*#REF!)+(#REF!*#REF!)+(#REF!*#REF!))/(#REF!+#REF!+#REF!)","v":{"$error":"#VALUE!"}},{"$f":"((AA996*#REF!)+(#REF!*#REF!)+(#REF!*#REF!))/(#REF!+#REF!+#REF!)","v":{"$error":"#VALUE!"}}]
[null,null,null,null,null,null,null,null,null,null,null,null,null,null,null,null,null,null,null,null,null,995,{"$error":"#VALUE!"},{"$f":"AVERAGE($W$3:W997)","v":{"$error":"#VALUE!"}},null,{"$error":"#VALUE!"},{"$error":"#VALUE!"},{"$f":"AVERAGE($AA$3:AA997)","v":{"$error":"#VALUE!"}},null,null,null,{"$f":"((AA997*#REF!)+(#REF!*#REF!)+(#REF!*#REF!))/(#REF!+#REF!+#REF!)","v":{"$error":"#VALUE!"}},{"$f":"((AA997*#REF!)+(#REF!*#REF!)+(#REF!*#REF!))/(#REF!+#REF!+#REF!)","v":{"$error":"#VALUE!"}},{"$f":"((AA997*#REF!)+(#REF!*#REF!)+(#REF!*#REF!))/(#REF!+#REF!+#REF!)","v":{"$error":"#VALUE!"}},{"$f":"((AA997*#REF!)+(#REF!*#REF!)+(#REF!*#REF!))/(#REF!+#REF!+#REF!)","v":{"$error":"#VALUE!"}},{"$f":"((AA997*#REF!)+(#REF!*#REF!)+(#REF!*#REF!))/(#REF!+#REF!+#REF!)","v":{"$error":"#VALUE!"}},{"$f":"((AA997*#REF!)+(#REF!*#REF!)+(#REF!*#REF!))/(#REF!+#REF!+#REF!)","v":{"$error":"#VALUE!"}},{"$f":"((AA997*#REF!)+(#REF!*#REF!)+(#REF!*#REF!))/(#REF!+#REF!+#REF!)","v":{"$error":"#VALUE!"}}]
[null,null,null,null,null,null,null,null,null,null,null,null,null,null,null,null,null,null,null,null,null,996,{"$error":"#VALUE!"},{"$f":"AVERAGE($W$3:W998)","v":{"$error":"#VALUE!"}},null,{"$error":"#VALUE!"},{"$error":"#VALUE!"},{"$f":"AVERAGE($AA$3:AA998)","v":{"$error":"#VALUE!"}},null,null,null,{"$f":"((AA998*#REF!)+(#REF!*#REF!)+(#REF!*#REF!))/(#REF!+#REF!+#REF!)","v":{"$error":"#VALUE!"}},{"$f":"((AA998*#REF!)+(#REF!*#REF!)+(#REF!*#REF!))/(#REF!+#REF!+#REF!)","v":{"$error":"#VALUE!"}},{"$f":"((AA998*#REF!)+(#REF!*#REF!)+(#REF!*#REF!))/(#REF!+#REF!+#REF!)","v":{"$error":"#VALUE!"}},{"$f":"((AA998*#REF!)+(#REF!*#REF!)+(#REF!*#REF!))/(#REF!+#REF!+#REF!)","v":{"$error":"#VALUE!"}},{"$f":"((AA998*#REF!)+(#REF!*#REF!)+(#REF!*#REF!))/(#REF!+#REF!+#REF!)","v":{"$error":"#VALUE!"}},{"$f":"((AA998*#REF!)+(#REF!*#REF!)+(#REF!*#REF!))/(#REF!+#REF!+#REF!)","v":{"$error":"#VALUE!"}},{"$f":"((AA998*#REF!)+(#REF!*#REF!)+(#REF!*#REF!))/(#REF!+#REF!+#REF!)","v":{"$error":"#VALUE!"}}]
[null,null,null,null,null,null,null,null,null,null,null,null,null,null,null,null,null,null,null,null,null,997,{"$error":"#VALUE!"},{"$f":"AVERAGE($W$3:W999)","v":{"$error":"#VALUE!"}},null,{"$error":"#VALUE!"},{"$error":"#VALUE!"},{"$f":"AVERAGE($AA$3:AA999)","v":{"$error":"#VALUE!"}},null,null,null,{"$f":"((AA999*#REF!)+(#REF!*#REF!)+(#REF!*#REF!))/(#REF!+#REF!+#REF!)","v":{"$error":"#VALUE!"}},{"$f":"((AA999*#REF!)+(#REF!*#REF!)+(#REF!*#REF!))/(#REF!+#REF!+#REF!)","v":{"$error":"#VALUE!"}},{"$f":"((AA999*#REF!)+(#REF!*#REF!)+(#REF!*#REF!))/(#REF!+#REF!+#REF!)","v":{"$error":"#VALUE!"}},{"$f":"((AA999*#REF!)+(#REF!*#REF!)+(#REF!*#REF!))/(#REF!+#REF!+#REF!)","v":{"$error":"#VALUE!"}},{"$f":"((AA999*#REF!)+(#REF!*#REF!)+(#REF!*#REF!))/(#REF!+#REF!+#REF!)","v":{"$error":"#VALUE!"}},{"$f":"((AA999*#REF!)+(#REF!*#REF!)+(#REF!*#REF!))/(#REF!+#REF!+#REF!)","v":{"$error":"#VALUE!"}},{"$f":"((AA999*#REF!)+(#REF!*#REF!)+(#REF!*#REF!))/(#REF!+#REF!+#REF!)","v":{"$error":"#VALUE!"}}]
[null,null,null,null,null,null,null,null,null,null,null,null,null,null,null,null,null,null,null,null,null,998,{"$error":"#VALUE!"},{"$f":"AVERAGE($W$3:W1000)","v":{"$error":"#VALUE!"}},null,{"$error":"#VALUE!"},{"$error":"#VALUE!"},{"$f":"AVERAGE($AA$3:AA1000)","v":{"$error":"#VALUE!"}},null,null,null,{"$f":"((AA1000*#REF!)+(#REF!*#REF!)+(#REF!*#REF!))/(#REF!+#REF!+#REF!)","v":{"$error":"#VALUE!"}},{"$f":"((AA1000*#REF!)+(#REF!*#REF!)+(#REF!*#REF!))/(#REF!+#REF!+#REF!)","v":{"$error":"#VALUE!"}},{"$f":"((AA1000*#REF!)+(#REF!*#REF!)+(#REF!*#REF!))/(#REF!+#REF!+#REF!)","v":{"$error":"#VALUE!"}},{"$f":"((AA1000*#REF!)+(#REF!*#REF!)+(#REF!*#REF!))/(#REF!+#REF!+#REF!)","v":{"$error":"#VALUE!"}},{"$f":"((AA1000*#REF!)+(#REF!*#REF!)+(#REF!*#REF!))/(#REF!+#REF!+#REF!)","v":{"$error":"#VALUE!"}},{"$f":"((AA1000*#REF!)+(#REF!*#REF!)+(#REF!*#REF!))/(#REF!+#REF!+#REF!)","v":{"$error":"#VALUE!"}},{"$f":"((AA1000*#REF!)+(#REF!*#REF!)+(#REF!*#REF!))/(#REF!+#REF!+#REF!)","v":{"$error":"#VALUE!"}}]
[null,null,null,null,null,null,null,null,null,null,null,null,null,null,null,null,null,null,null,null,null,999,{"$error":"#VALUE!"},{"$f":"AVERAGE($W$3:W1001)","v":{"$error":"#VALUE!"}},null,{"$error":"#VALUE!"},{"$error":"#VALUE!"},{"$f":"AVERAGE($AA$3:AA1001)","v":{"$error":"#VALUE!"}},null,null,null,{"$f":"((AA1001*#REF!)+(#REF!*#REF!)+(#REF!*#REF!))/(#REF!+#REF!+#REF!)","v":{"$error":"#VALUE!"}},{"$f":"((AA1001*#REF!)+(#REF!*#REF!)+(#REF!*#REF!))/(#REF!+#REF!+#REF!)","v":{"$error":"#VALUE!"}},{"$f":"((AA1001*#REF!)+(#REF!*#REF!)+(#REF!*#REF!))/(#REF!+#REF!+#REF!)","v":{"$error":"#VALUE!"}},{"$f":"((AA1001*#REF!)+(#REF!*#REF!)+(#REF!*#REF!))/(#REF!+#REF!+#REF!)","v":{"$error":"#VALUE!"}},{"$f":"((AA1001*#REF!)+(#REF!*#REF!)+(#REF!*#REF!))/(#REF!+#REF!+#REF!)","v":{"$error":"#VALUE!"}},{"$f":"((AA1001*#REF!)+(#REF!*#REF!)+(#REF!*#REF!))/(#REF!+#REF!+#REF!)","v":{"$error":"#VALUE!"}},{"$f":"((AA1001*#REF!)+(#REF!*#REF!)+(#REF!*#REF!))/(#REF!+#REF!+#REF!)","v":{"$error":"#VALUE!"}}]
[null,null,null,null,null,null,null,null,null,null,null,null,null,null,null,null,null,null,null,null,null,1000,{"$error":"#VALUE!"},{"$f":"AVERAGE($W$3:W1002)","v":{"$error":"#VALUE!"}},null,{"$error":"#VALUE!"},{"$error":"#VALUE!"},{"$f":"AVERAGE($AA$3:AA1002)","v":{"$error":"#VALUE!"}},null,null,null,{"$f":"((AA1002*#REF!)+(#REF!*#REF!)+(#REF!*#REF!))/(#REF!+#REF!+#REF!)","v":{"$error":"#VALUE!"}},{"$f":"((AA1002*#REF!)+(#REF!*#REF!)+(#REF!*#REF!))/(#REF!+#REF!+#REF!)","v":{"$error":"#VALUE!"}},{"$f":"((AA1002*#REF!)+(#REF!*#REF!)+(#REF!*#REF!))/(#REF!+#REF!+#REF!)","v":{"$error":"#VALUE!"}},{"$f":"((AA1002*#REF!)+(#REF!*#REF!)+(#REF!*#REF!))/(#REF!+#REF!+#REF!)","v":{"$error":"#VALUE!"}},{"$f":"((AA1002*#REF!)+(#REF!*#REF!)+(#REF!*#REF!))/(#REF!+#REF!+#REF!)","v":{"$error":"#VALUE!"}},{"$f":"((AA1002*#REF!)+(#REF!*#REF!)+(#REF!*#REF!))/(#REF!+#REF!+#REF!)","v":{"$error":"#VALUE!"}},{"$f":"((AA1002*#REF!)+(#REF!*#REF!)+(#REF!*#REF!))/(#REF!+#REF!+#REF!)","v":{"$error":"#VALUE!"}}]
[null,null,null,null,null,null,null,null,null,null,null,null,null,null,null,null,null,null,null,null,null,1001,{"$error":"#VALUE!"},{"$f":"AVERAGE($W$3:W1003)","v":{"$error":"#VALUE!"}},null,{"$error":"#VALUE!"},{"$error":"#VALUE!"},{"$f":"AVERAGE($AA$3:AA1003)","v":{"$error":"#VALUE!"}},null,null,null,{"$f":"((AA1003*#REF!)+(#REF!*#REF!)+(#REF!*#REF!))/(#REF!+#REF!+#REF!)","v":{"$error":"#VALUE!"}},{"$f":"((AA1003*#REF!)+(#REF!*#REF!)+(#REF!*#REF!))/(#REF!+#REF!+#REF!)","v":{"$error":"#VALUE!"}},{"$f":"((AA1003*#REF!)+(#REF!*#REF!)+(#REF!*#REF!))/(#REF!+#REF!+#REF!)","v":{"$error":"#VALUE!"}},{"$f":"((AA1003*#REF!)+(#REF!*#REF!)+(#REF!*#REF!))/(#REF!+#REF!+#REF!)","v":{"$error":"#VALUE!"}},{"$f":"((AA1003*#REF!)+(#REF!*#REF!)+(#REF!*#REF!))/(#REF!+#REF!+#REF!)","v":{"$error":"#VALUE!"}},{"$f":"((AA1003*#REF!)+(#REF!*#REF!)+(#REF!*#REF!))/(#REF!+#REF!+#REF!)","v":{"$error":"#VALUE!"}},{"$f":"((AA1003*#REF!)+(#REF!*#REF!)+(#REF!*#REF!))/(#REF!+#REF!+#REF!)","v":{"$error":"#VALUE!"}}]
[null,null,null,null,null,null,null,null,null,null,null,null,null,null,null,null,null,null,null,null,null,1002,{"$error":"#VALUE!"},{"$f":"AVERAGE($W$3:W1004)","v":{"$error":"#VALUE!"}},null,{"$error":"#VALUE!"},{"$error":"#VALUE!"},{"$f":"AVERAGE($AA$3:AA1004)","v":{"$error":"#VALUE!"}},null,null,null,{"$f":"((AA1004*#REF!)+(#REF!*#REF!)+(#REF!*#REF!))/(#REF!+#REF!+#REF!)","v":{"$error":"#VALUE!"}},{"$f":"((AA1004*#REF!)+(#REF!*#REF!)+(#REF!*#REF!))/(#REF!+#REF!+#REF!)","v":{"$error":"#VALUE!"}},{"$f":"((AA1004*#REF!)+(#REF!*#REF!)+(#REF!*#REF!))/(#REF!+#REF!+#REF!)","v":{"$error":"#VALUE!"}},{"$f":"((AA1004*#REF!)+(#REF!*#REF!)+(#REF!*#REF!))/(#REF!+#REF!+#REF!)","v":{"$error":"#VALUE!"}},{"$f":"((AA1004*#REF!)+(#REF!*#REF!)+(#REF!*#REF!))/(#REF!+#REF!+#REF!)","v":{"$error":"#VALUE!"}},{"$f":"((AA1004*#REF!)+(#REF!*#REF!)+(#REF!*#REF!))/(#REF!+#REF!+#REF!)","v":{"$error":"#VALUE!"}},{"$f":"((AA1004*#REF!)+(#REF!*#REF!)+(#REF!*#REF!))/(#REF!+#REF!+#REF!)","v":{"$error":"#VALUE!"}}]
[null,null,null,null,null,null,null,null,null,null,null,null,null,null,null,null,null,null,null,null,null,1003,{"$error":"#VALUE!"},{"$f":"AVERAGE($W$3:W1005)","v":{"$error":"#VALUE!"}},null,{"$error":"#VALUE!"},{"$error":"#VALUE!"},{"$f":"AVERAGE($AA$3:AA1005)","v":{"$error":"#VALUE!"}},null,null,null,{"$f":"((AA1005*#REF!)+(#REF!*#REF!)+(#REF!*#REF!))/(#REF!+#REF!+#REF!)","v":{"$error":"#VALUE!"}},{"$f":"((AA1005*#REF!)+(#REF!*#REF!)+(#REF!*#REF!))/(#REF!+#REF!+#REF!)","v":{"$error":"#VALUE!"}},{"$f":"((AA1005*#REF!)+(#REF!*#REF!)+(#REF!*#REF!))/(#REF!+#REF!+#REF!)","v":{"$error":"#VALUE!"}},{"$f":"((AA1005*#REF!)+(#REF!*#REF!)+(#REF!*#REF!))/(#REF!+#REF!+#REF!)","v":{"$error":"#VALUE!"}},{"$f":"((AA1005*#REF!)+(#REF!*#REF!)+(#REF!*#REF!))/(#REF!+#REF!+#REF!)","v":{"$error":"#VALUE!"}},{"$f":"((AA1005*#REF!)+(#REF!*#REF!)+(#REF!*#REF!))/(#REF!+#REF!+#REF!)","v":{"$error":"#VALUE!"}},{"$f":"((AA1005*#REF!)+(#REF!*#REF!)+(#REF!*#REF!))/(#REF!+#REF!+#REF!)","v":{"$error":"#VALUE!"}}]
[null,null,null,null,null,null,null,null,null,null,null,null,null,null,null,null,null,null,null,null,null,1004,{"$error":"#VALUE!"},{"$f":"AVERAGE($W$3:W1006)","v":{"$error":"#VALUE!"}},null,{"$error":"#VALUE!"},{"$error":"#VALUE!"},{"$f":"AVERAGE($AA$3:AA1006)","v":{"$error":"#VALUE!"}},null,null,null,{"$f":"((AA1006*#REF!)+(#REF!*#REF!)+(#REF!*#REF!))/(#REF!+#REF!+#REF!)","v":{"$error":"#VALUE!"}},{"$f":"((AA1006*#REF!)+(#REF!*#REF!)+(#REF!*#REF!))/(#REF!+#REF!+#REF!)","v":{"$error":"#VALUE!"}},{"$f":"((AA1006*#REF!)+(#REF!*#REF!)+(#REF!*#REF!))/(#REF!+#REF!+#REF!)","v":{"$error":"#VALUE!"}},{"$f":"((AA1006*#REF!)+(#REF!*#REF!)+(#REF!*#REF!))/(#REF!+#REF!+#REF!)","v":{"$error":"#VALUE!"}},{"$f":"((AA1006*#REF!)+(#REF!*#REF!)+(#REF!*#REF!))/(#REF!+#REF!+#REF!)","v":{"$error":"#VALUE!"}},{"$f":"((AA1006*#REF!)+(#REF!*#REF!)+(#REF!*#REF!))/(#REF!+#REF!+#REF!)","v":{"$error":"#VALUE!"}},{"$f":"((AA1006*#REF!)+(#REF!*#REF!)+(#REF!*#REF!))/(#REF!+#REF!+#REF!)","v":{"$error":"#VALUE!"}}]
[null,null,null,null,null,null,null,null,null,null,null,null,null,null,null,null,null,null,null,null,null,1005,{"$error":"#VALUE!"},{"$f":"AVERAGE($W$3:W1007)","v":{"$error":"#VALUE!"}},null,{"$error":"#VALUE!"},{"$error":"#VALUE!"},{"$f":"AVERAGE($AA$3:AA1007)","v":{"$error":"#VALUE!"}},null,null,null,{"$f":"((AA1007*#REF!)+(#REF!*#REF!)+(#REF!*#REF!))/(#REF!+#REF!+#REF!)","v":{"$error":"#VALUE!"}},{"$f":"((AA1007*#REF!)+(#REF!*#REF!)+(#REF!*#REF!))/(#REF!+#REF!+#REF!)","v":{"$error":"#VALUE!"}},{"$f":"((AA1007*#REF!)+(#REF!*#REF!)+(#REF!*#REF!))/(#REF!+#REF!+#REF!)","v":{"$error":"#VALUE!"}},{"$f":"((AA1007*#REF!)+(#REF!*#REF!)+(#REF!*#REF!))/(#REF!+#REF!+#REF!)","v":{"$error":"#VALUE!"}},{"$f":"((AA1007*#REF!)+(#REF!*#REF!)+(#REF!*#REF!))/(#REF!+#REF!+#REF!)","v":{"$error":"#VALUE!"}},{"$f":"((AA1007*#REF!)+(#REF!*#REF!)+(#REF!*#REF!))/(#REF!+#REF!+#REF!)","v":{"$error":"#VALUE!"}},{"$f":"((AA1007*#REF!)+(#REF!*#REF!)+(#REF!*#REF!))/(#REF!+#REF!+#REF!)","v":{"$error":"#VALUE!"}}]
[null,null,null,null,null,null,null,null,null,null,null,null,null,null,null,null,null,null,null,null,null,1006,{"$error":"#VALUE!"},{"$f":"AVERAGE($W$3:W1008)","v":{"$error":"#VALUE!"}},null,{"$error":"#VALUE!"},{"$error":"#VALUE!"},{"$f":"AVERAGE($AA$3:AA1008)","v":{"$error":"#VALUE!"}},null,null,null,{"$f":"((AA1008*#REF!)+(#REF!*#REF!)+(#REF!*#REF!))/(#REF!+#REF!+#REF!)","v":{"$error":"#VALUE!"}},{"$f":"((AA1008*#REF!)+(#REF!*#REF!)+(#REF!*#REF!))/(#REF!+#REF!+#REF!)","v":{"$error":"#VALUE!"}},{"$f":"((AA1008*#REF!)+(#REF!*#REF!)+(#REF!*#REF!))/(#REF!+#REF!+#REF!)","v":{"$error":"#VALUE!"}},{"$f":"((AA1008*#REF!)+(#REF!*#REF!)+(#REF!*#REF!))/(#REF!+#REF!+#REF!)","v":{"$error":"#VALUE!"}},{"$f":"((AA1008*#REF!)+(#REF!*#REF!)+(#REF!*#REF!))/(#REF!+#REF!+#REF!)","v":{"$error":"#VALUE!"}},{"$f":"((AA1008*#REF!)+(#REF!*#REF!)+(#REF!*#REF!))/(#REF!+#REF!+#REF!)","v":{"$error":"#VALUE!"}},{"$f":"((AA1008*#REF!)+(#REF!*#REF!)+(#REF!*#REF!))/(#REF!+#REF!+#REF!)","v":{"$error":"#VALUE!"}}]
[null,null,null,null,null,null,null,null,null,null,null,null,null,null,null,null,null,null,null,null,null,1007,{"$error":"#VALUE!"},{"$f":"AVERAGE($W$3:W1009)","v":{"$error":"#VALUE!"}},null,{"$error":"#VALUE!"},{"$error":"#VALUE!"},{"$f":"AVERAGE($AA$3:AA1009)","v":{"$error":"#VALUE!"}},null,null,null,{"$f":"((AA1009*#REF!)+(#REF!*#REF!)+(#REF!*#REF!))/(#REF!+#REF!+#REF!)","v":{"$error":"#VALUE!"}},{"$f":"((AA1009*#REF!)+(#REF!*#REF!)+(#REF!*#REF!))/(#REF!+#REF!+#REF!)","v":{"$error":"#VALUE!"}},{"$f":"((AA1009*#REF!)+(#REF!*#REF!)+(#REF!*#REF!))/(#REF!+#REF!+#REF!)","v":{"$error":"#VALUE!"}},{"$f":"((AA1009*#REF!)+(#REF!*#REF!)+(#REF!*#REF!))/(#REF!+#REF!+#REF!)","v":{"$error":"#VALUE!"}},{"$f":"((AA1009*#REF!)+(#REF!*#REF!)+(#REF!*#REF!))/(#REF!+#REF!+#REF!)","v":{"$error":"#VALUE!"}},{"$f":"((AA1009*#REF!)+(#REF!*#REF!)+(#REF!*#REF!))/(#REF!+#REF!+#REF!)","v":{"$error":"#VALUE!"}},{"$f":"((AA1009*#REF!)+(#REF!*#REF!)+(#REF!*#REF!))/(#REF!+#REF!+#REF!)","v":{"$error":"#VALUE!"}}]
[null,null,null,null,null,null,null,null,null,null,null,null,null,null,null,null,null,null,null,null,null,1008,{"$error":"#VALUE!"},{"$f":"AVERAGE($W$3:W1010)","v":{"$error":"#VALUE!"}},null,{"$error":"#VALUE!"},{"$error":"#VALUE!"},{"$f":"AVERAGE($AA$3:AA1010)","v":{"$error":"#VALUE!"}},null,null,null,{"$f":"((AA1010*#REF!)+(#REF!*#REF!)+(#REF!*#REF!))/(#REF!+#REF!+#REF!)","v":{"$error":"#VALUE!"}},{"$f":"((AA1010*#REF!)+(#REF!*#REF!)+(#REF!*#REF!))/(#REF!+#REF!+#REF!)","v":{"$error":"#VALUE!"}},{"$f":"((AA1010*#REF!)+(#REF!*#REF!)+(#REF!*#REF!))/(#REF!+#REF!+#REF!)","v":{"$error":"#VALUE!"}},{"$f":"((AA1010*#REF!)+(#REF!*#REF!)+(#REF!*#REF!))/(#REF!+#REF!+#REF!)","v":{"$error":"#VALUE!"}},{"$f":"((AA1010*#REF!)+(#REF!*#REF!)+(#REF!*#REF!))/(#REF!+#REF!+#REF!)","v":{"$error":"#VALUE!"}},{"$f":"((AA1010*#REF!)+(#REF!*#REF!)+(#REF!*#REF!))/(#REF!+#REF!+#REF!)","v":{"$error":"#VALUE!"}},{"$f":"((AA1010*#REF!)+(#REF!*#REF!)+(#REF!*#REF!))/(#REF!+#REF!+#REF!)","v":{"$error":"#VALUE!"}}]
[null,null,null,null,null,null,null,null,null,null,null,null,null,null,null,null,null,null,null,null,null,1009,{"$error":"#VALUE!"},{"$f":"AVERAGE($W$3:W1011)","v":{"$error":"#VALUE!"}},null,{"$error":"#VALUE!"},{"$error":"#VALUE!"},{"$f":"AVERAGE($AA$3:AA1011)","v":{"$error":"#VALUE!"}},null,null,null,{"$f":"((AA1011*#REF!)+(#REF!*#REF!)+(#REF!*#REF!))/(#REF!+#REF!+#REF!)","v":{"$error":"#VALUE!"}},{"$f":"((AA1011*#REF!)+(#REF!*#REF!)+(#REF!*#REF!))/(#REF!+#REF!+#REF!)","v":{"$error":"#VALUE!"}},{"$f":"((AA1011*#REF!)+(#REF!*#REF!)+(#REF!*#REF!))/(#REF!+#REF!+#REF!)","v":{"$error":"#VALUE!"}},{"$f":"((AA1011*#REF!)+(#REF!*#REF!)+(#REF!*#REF!))/(#REF!+#REF!+#REF!)","v":{"$error":"#VALUE!"}},{"$f":"((AA1011*#REF!)+(#REF!*#REF!)+(#REF!*#REF!))/(#REF!+#REF!+#REF!)","v":{"$error":"#VALUE!"}},{"$f":"((AA1011*#REF!)+(#REF!*#REF!)+(#REF!*#REF!))/(#REF!+#REF!+#REF!)","v":{"$error":"#VALUE!"}},{"$f":"((AA1011*#REF!)+(#REF!*#REF!)+(#REF!*#REF!))/(#REF!+#REF!+#REF!)","v":{"$error":"#VALUE!"}}]
[null,null,null,null,null,null,null,null,null,null,null,null,null,null,null,null,null,null,null,null,null,1010,{"$error":"#VALUE!"},{"$f":"AVERAGE($W$3:W1012)","v":{"$error":"#VALUE!"}},null,{"$error":"#VALUE!"},{"$error":"#VALUE!"},{"$f":"AVERAGE($AA$3:AA1012)","v":{"$error":"#VALUE!"}},null,null,null,{"$f":"((AA1012*#REF!)+(#REF!*#REF!)+(#REF!*#REF!))/(#REF!+#REF!+#REF!)","v":{"$error":"#VALUE!"}},{"$f":"((AA1012*#REF!)+(#REF!*#REF!)+(#REF!*#REF!))/(#REF!+#REF!+#REF!)","v":{"$error":"#VALUE!"}},{"$f":"((AA1012*#REF!)+(#REF!*#REF!)+(#REF!*#REF!))/(#REF!+#REF!+#REF!)","v":{"$error":"#VALUE!"}},{"$f":"((AA1012*#REF!)+(#REF!*#REF!)+(#REF!*#REF!))/(#REF!+#REF!+#REF!)","v":{"$error":"#VALUE!"}},{"$f":"((AA1012*#REF!)+(#REF!*#REF!)+(#REF!*#REF!))/(#REF!+#REF!+#REF!)","v":{"$error":"#VALUE!"}},{"$f":"((AA1012*#REF!)+(#REF!*#REF!)+(#REF!*#REF!))/(#REF!+#REF!+#REF!)","v":{"$error":"#VALUE!"}},{"$f":"((AA1012*#REF!)+(#REF!*#REF!)+(#REF!*#REF!))/(#REF!+#REF!+#REF!)","v":{"$error":"#VALUE!"}}]
[null,null,null,null,null,null,null,null,null,null,null,null,null,null,null,null,null,null,null,null,null,1011,{"$error":"#VALUE!"},{"$f":"AVERAGE($W$3:W1013)","v":{"$error":"#VALUE!"}},null,{"$error":"#VALUE!"},{"$error":"#VALUE!"},{"$f":"AVERAGE($AA$3:AA1013)","v":{"$error":"#VALUE!"}},null,null,null,{"$f":"((AA1013*#REF!)+(#REF!*#REF!)+(#REF!*#REF!))/(#REF!+#REF!+#REF!)","v":{"$error":"#VALUE!"}},{"$f":"((AA1013*#REF!)+(#REF!*#REF!)+(#REF!*#REF!))/(#REF!+#REF!+#REF!)","v":{"$error":"#VALUE!"}},{"$f":"((AA1013*#REF!)+(#REF!*#REF!)+(#REF!*#REF!))/(#REF!+#REF!+#REF!)","v":{"$error":"#VALUE!"}},{"$f":"((AA1013*#REF!)+(#REF!*#REF!)+(#REF!*#REF!))/(#REF!+#REF!+#REF!)","v":{"$error":"#VALUE!"}},{"$f":"((AA1013*#REF!)+(#REF!*#REF!)+(#REF!*#REF!))/(#REF!+#REF!+#REF!)","v":{"$error":"#VALUE!"}},{"$f":"((AA1013*#REF!)+(#REF!*#REF!)+(#REF!*#REF!))/(#REF!+#REF!+#REF!)","v":{"$error":"#VALUE!"}},{"$f":"((AA1013*#REF!)+(#REF!*#REF!)+(#REF!*#REF!))/(#REF!+#REF!+#REF!)","v":{"$error":"#VALUE!"}}]
[null,null,null,null,null,null,null,null,null,null,null,null,null,null,null,null,null,null,null,null,null,1012,{"$error":"#VALUE!"},{"$f":"AVERAGE($W$3:W1014)","v":{"$error":"#VALUE!"}},null,{"$error":"#VALUE!"},{"$error":"#VALUE!"},{"$f":"AVERAGE($AA$3:AA1014)","v":{"$error":"#VALUE!"}},null,null,null,{"$f":"((AA1014*#REF!)+(#REF!*#REF!)+(#REF!*#REF!))/(#REF!+#REF!+#REF!)","v":{"$error":"#VALUE!"}},{"$f":"((AA1014*#REF!)+(#REF!*#REF!)+(#REF!*#REF!))/(#REF!+#REF!+#REF!)","v":{"$error":"#VALUE!"}},{"$f":"((AA1014*#REF!)+(#REF!*#REF!)+(#REF!*#REF!))/(#REF!+#REF!+#REF!)","v":{"$error":"#VALUE!"}},{"$f":"((AA1014*#REF!)+(#REF!*#REF!)+(#REF!*#REF!))/(#REF!+#REF!+#REF!)","v":{"$error":"#VALUE!"}},{"$f":"((AA1014*#REF!)+(#REF!*#REF!)+(#REF!*#REF!))/(#REF!+#REF!+#REF!)","v":{"$error":"#VALUE!"}},{"$f":"((AA1014*#REF!)+(#REF!*#REF!)+(#REF!*#REF!))/(#REF!+#REF!+#REF!)","v":{"$error":"#VALUE!"}},{"$f":"((AA1014*#REF!)+(#REF!*#REF!)+(#REF!*#REF!))/(#REF!+#REF!+#REF!)","v":{"$error":"#VALUE!"}}]
[null,null,null,null,null,null,null,null,null,null,null,null,null,null,null,null,null,null,null,null,null,1013,{"$error":"#VALUE!"},{"$f":"AVERAGE($W$3:W1015)","v":{"$error":"#VALUE!"}},null,{"$error":"#VALUE!"},{"$error":"#VALUE!"},{"$f":"AVERAGE($AA$3:AA1015)","v":{"$error":"#VALUE!"}},null,null,null,{"$f":"((AA1015*#REF!)+(#REF!*#REF!)+(#REF!*#REF!))/(#REF!+#REF!+#REF!)","v":{"$error":"#VALUE!"}},{"$f":"((AA1015*#REF!)+(#REF!*#REF!)+(#REF!*#REF!))/(#REF!+#REF!+#REF!)","v":{"$error":"#VALUE!"}},{"$f":"((AA1015*#REF!)+(#REF!*#REF!)+(#REF!*#REF!))/(#REF!+#REF!+#REF!)","v":{"$error":"#VALUE!"}},{"$f":"((AA1015*#REF!)+(#REF!*#REF!)+(#REF!*#REF!))/(#REF!+#REF!+#REF!)","v":{"$error":"#VALUE!"}},{"$f":"((AA1015*#REF!)+(#REF!*#REF!)+(#REF!*#REF!))/(#REF!+#REF!+#REF!)","v":{"$error":"#VALUE!"}},{"$f":"((AA1015*#REF!)+(#REF!*#REF!)+(#REF!*#REF!))/(#REF!+#REF!+#REF!)","v":{"$error":"#VALUE!"}},{"$f":"((AA1015*#REF!)+(#REF!*#REF!)+(#REF!*#REF!))/(#REF!+#REF!+#REF!)","v":{"$error":"#VALUE!"}}]
[null,null,null,null,null,null,null,null,null,null,null,null,null,null,null,null,null,null,null,null,null,1014,{"$error":"#VALUE!"},{"$f":"AVERAGE($W$3:W1016)","v":{"$error":"#VALUE!"}},null,{"$error":"#VALUE!"},{"$error":"#VALUE!"},{"$f":"AVERAGE($AA$3:AA1016)","v":{"$error":"#VALUE!"}},null,null,null,{"$f":"((AA1016*#REF!)+(#REF!*#REF!)+(#REF!*#REF!))/(#REF!+#REF!+#REF!)","v":{"$error":"#VALUE!"}},{"$f":"((AA1016*#REF!)+(#REF!*#REF!)+(#REF!*#REF!))/(#REF!+#REF!+#REF!)","v":{"$error":"#VALUE!"}},{"$f":"((AA1016*#REF!)+(#REF!*#REF!)+(#REF!*#REF!))/(#REF!+#REF!+#REF!)","v":{"$error":"#VALUE!"}},{"$f":"((AA1016*#REF!)+(#REF!*#REF!)+(#REF!*#REF!))/(#REF!+#REF!+#REF!)","v":{"$error":"#VALUE!"}},{"$f":"((AA1016*#REF!)+(#REF!*#REF!)+(#REF!*#REF!))/(#REF!+#REF!+#REF!)","v":{"$error":"#VALUE!"}},{"$f":"((AA1016*#REF!)+(#REF!*#REF!)+(#REF!*#REF!))/(#REF!+#REF!+#REF!)","v":{"$error":"#VALUE!"}},{"$f":"((AA1016*#REF!)+(#REF!*#REF!)+(#REF!*#REF!))/(#REF!+#REF!+#REF!)","v":{"$error":"#VALUE!"}}]
[null,null,null,null,null,null,null,null,null,null,null,null,null,null,null,null,null,null,null,null,null,1015,{"$error":"#VALUE!"},{"$f":"AVERAGE($W$3:W1017)","v":{"$error":"#VALUE!"}},null,{"$error":"#VALUE!"},{"$error":"#VALUE!"},{"$f":"AVERAGE($AA$3:AA1017)","v":{"$error":"#VALUE!"}},null,null,null,{"$f":"((AA1017*#REF!)+(#REF!*#REF!)+(#REF!*#REF!))/(#REF!+#REF!+#REF!)","v":{"$error":"#VALUE!"}},{"$f":"((AA1017*#REF!)+(#REF!*#REF!)+(#REF!*#REF!))/(#REF!+#REF!+#REF!)","v":{"$error":"#VALUE!"}},{"$f":"((AA1017*#REF!)+(#REF!*#REF!)+(#REF!*#REF!))/(#REF!+#REF!+#REF!)","v":{"$error":"#VALUE!"}},{"$f":"((AA1017*#REF!)+(#REF!*#REF!)+(#REF!*#REF!))/(#REF!+#REF!+#REF!)","v":{"$error":"#VALUE!"}},{"$f":"((AA1017*#REF!)+(#REF!*#REF!)+(#REF!*#REF!))/(#REF!+#REF!+#REF!)","v":{"$error":"#VALUE!"}},{"$f":"((AA1017*#REF!)+(#REF!*#REF!)+(#REF!*#REF!))/(#REF!+#REF!+#REF!)","v":{"$error":"#VALUE!"}},{"$f":"((AA1017*#REF!)+(#REF!*#REF!)+(#REF!*#REF!))/(#REF!+#REF!+#REF!)","v":{"$error":"#VALUE!"}}]
[null,null,null,null,null,null,null,null,null,null,null,null,null,null,null,null,null,null,null,null,null,1016,{"$error":"#VALUE!"},{"$f":"AVERAGE($W$3:W1018)","v":{"$error":"#VALUE!"}},null,{"$error":"#VALUE!"},{"$error":"#VALUE!"},{"$f":"AVERAGE($AA$3:AA1018)","v":{"$error":"#VALUE!"}},null,null,null,{"$f":"((AA1018*#REF!)+(#REF!*#REF!)+(#REF!*#REF!))/(#REF!+#REF!+#REF!)","v":{"$error":"#VALUE!"}},{"$f":"((AA1018*#REF!)+(#REF!*#REF!)+(#REF!*#REF!))/(#REF!+#REF!+#REF!)","v":{"$error":"#VALUE!"}},{"$f":"((AA1018*#REF!)+(#REF!*#REF!)+(#REF!*#REF!))/(#REF!+#REF!+#REF!)","v":{"$error":"#VALUE!"}},{"$f":"((AA1018*#REF!)+(#REF!*#REF!)+(#REF!*#REF!))/(#REF!+#REF!+#REF!)","v":{"$error":"#VALUE!"}},{"$f":"((AA1018*#REF!)+(#REF!*#REF!)+(#REF!*#REF!))/(#REF!+#REF!+#REF!)","v":{"$error":"#VALUE!"}},{"$f":"((AA1018*#REF!)+(#REF!*#REF!)+(#REF!*#REF!))/(#REF!+#REF!+#REF!)","v":{"$error":"#VALUE!"}},{"$f":"((AA1018*#REF!)+(#REF!*#REF!)+(#REF!*#REF!))/(#REF!+#REF!+#REF!)","v":{"$error":"#VALUE!"}}]
[null,null,null,null,null,null,null,null,null,null,null,null,null,null,null,null,null,null,null,null,null,1017,{"$error":"#VALUE!"},{"$f":"AVERAGE($W$3:W1019)","v":{"$error":"#VALUE!"}},null,{"$error":"#VALUE!"},{"$error":"#VALUE!"},{"$f":"AVERAGE($AA$3:AA1019)","v":{"$error":"#VALUE!"}},null,null,null,{"$f":"((AA1019*#REF!)+(#REF!*#REF!)+(#REF!*#REF!))/(#REF!+#REF!+#REF!)","v":{"$error":"#VALUE!"}},{"$f":"((AA1019*#REF!)+(#REF!*#REF!)+(#REF!*#REF!))/(#REF!+#REF!+#REF!)","v":{"$error":"#VALUE!"}},{"$f":"((AA1019*#REF!)+(#REF!*#REF!)+(#REF!*#REF!))/(#REF!+#REF!+#REF!)","v":{"$error":"#VALUE!"}},{"$f":"((AA1019*#REF!)+(#REF!*#REF!)+(#REF!*#REF!))/(#REF!+#REF!+#REF!)","v":{"$error":"#VALUE!"}},{"$f":"((AA1019*#REF!)+(#REF!*#REF!)+(#REF!*#REF!))/(#REF!+#REF!+#REF!)","v":{"$error":"#VALUE!"}},{"$f":"((AA1019*#REF!)+(#REF!*#REF!)+(#REF!*#REF!))/(#REF!+#REF!+#REF!)","v":{"$error":"#VALUE!"}},{"$f":"((AA1019*#REF!)+(#REF!*#REF!)+(#REF!*#REF!))/(#REF!+#REF!+#REF!)","v":{"$error":"#VALUE!"}}]
[null,null,null,null,null,null,null,null,null,null,null,null,null,null,null,null,null,null,null,null,null,1018,{"$error":"#VALUE!"},{"$f":"AVERAGE($W$3:W1020)","v":{"$error":"#VALUE!"}},null,{"$error":"#VALUE!"},{"$error":"#VALUE!"},{"$f":"AVERAGE($AA$3:AA1020)","v":{"$error":"#VALUE!"}},null,null,null,{"$f":"((AA1020*#REF!)+(#REF!*#REF!)+(#REF!*#REF!))/(#REF!+#REF!+#REF!)","v":{"$error":"#VALUE!"}},{"$f":"((AA1020*#REF!)+(#REF!*#REF!)+(#REF!*#REF!))/(#REF!+#REF!+#REF!)","v":{"$error":"#VALUE!"}},{"$f":"((AA1020*#REF!)+(#REF!*#REF!)+(#REF!*#REF!))/(#REF!+#REF!+#REF!)","v":{"$error":"#VALUE!"}},{"$f":"((AA1020*#REF!)+(#REF!*#REF!)+(#REF!*#REF!))/(#REF!+#REF!+#REF!)","v":{"$error":"#VALUE!"}},{"$f":"((AA1020*#REF!)+(#REF!*#REF!)+(#REF!*#REF!))/(#REF!+#REF!+#REF!)","v":{"$error":"#VALUE!"}},{"$f":"((AA1020*#REF!)+(#REF!*#REF!)+(#REF!*#REF!))/(#REF!+#REF!+#REF!)","v":{"$error":"#VALUE!"}},{"$f":"((AA1020*#REF!)+(#REF!*#REF!)+(#REF!*#REF!))/(#REF!+#REF!+#REF!)","v":{"$error":"#VALUE!"}}]
[null,null,null,null,null,null,null,null,null,null,null,null,null,null,null,null,null,null,null,null,null,1019,{"$error":"#VALUE!"},{"$f":"AVERAGE($W$3:W1021)","v":{"$error":"#VALUE!"}},null,{"$error":"#VALUE!"},{"$error":"#VALUE!"},{"$f":"AVERAGE($AA$3:AA1021)","v":{"$error":"#VALUE!"}},null,null,null,{"$f":"((AA1021*#REF!)+(#REF!*#REF!)+(#REF!*#REF!))/(#REF!+#REF!+#REF!)","v":{"$error":"#VALUE!"}},{"$f":"((AA1021*#REF!)+(#REF!*#REF!)+(#REF!*#REF!))/(#REF!+#REF!+#REF!)","v":{"$error":"#VALUE!"}},{"$f":"((AA1021*#REF!)+(#REF!*#REF!)+(#REF!*#REF!))/(#REF!+#REF!+#REF!)","v":{"$error":"#VALUE!"}},{"$f":"((AA1021*#REF!)+(#REF!*#REF!)+(#REF!*#REF!))/(#REF!+#REF!+#REF!)","v":{"$error":"#VALUE!"}},{"$f":"((AA1021*#REF!)+(#REF!*#REF!)+(#REF!*#REF!))/(#REF!+#REF!+#REF!)","v":{"$error":"#VALUE!"}},{"$f":"((AA1021*#REF!)+(#REF!*#REF!)+(#REF!*#REF!))/(#REF!+#REF!+#REF!)","v":{"$error":"#VALUE!"}},{"$f":"((AA1021*#REF!)+(#REF!*#REF!)+(#REF!*#REF!))/(#REF!+#REF!+#REF!)","v":{"$error":"#VALUE!"}}]
[null,null,null,null,null,null,null,null,null,null,null,null,null,null,null,null,null,null,null,null,null,1020,{"$f":"IF(($M$7*LN(V1022))+$M$8+$M$10>0,($M$7*LN(V1022))+$M$8+$M$10,0)","v":{"$error":"#VALUE!"}},{"$f":"AVERAGE($W$3:W1022)","v":{"$error":"#VALUE!"}},null,{"$error":"#VALUE!"},{"$error":"#VALUE!"},{"$f":"AVERAGE($AA$3:AA1022)","v":{"$error":"#VALUE!"}},null,null,null,{"$f":"((AA1022*#REF!)+(#REF!*#REF!)+(#REF!*#REF!))/(#REF!+#REF!+#REF!)","v":{"$error":"#VALUE!"}},{"$f":"((AA1022*#REF!)+(#REF!*#REF!)+(#REF!*#REF!))/(#REF!+#REF!+#REF!)","v":{"$error":"#VALUE!"}},{"$f":"((AA1022*#REF!)+(#REF!*#REF!)+(#REF!*#REF!))/(#REF!+#REF!+#REF!)","v":{"$error":"#VALUE!"}},{"$f":"((AA1022*#REF!)+(#REF!*#REF!)+(#REF!*#REF!))/(#REF!+#REF!+#REF!)","v":{"$error":"#VALUE!"}},{"$f":"((AA1022*#REF!)+(#REF!*#REF!)+(#REF!*#REF!))/(#REF!+#REF!+#REF!)","v":{"$error":"#VALUE!"}},{"$f":"((AA1022*#REF!)+(#REF!*#REF!)+(#REF!*#REF!))/(#REF!+#REF!+#REF!)","v":{"$error":"#VALUE!"}},{"$f":"((AA1022*#REF!)+(#REF!*#REF!)+(#REF!*#REF!))/(#REF!+#REF!+#REF!)","v":{"$error":"#VALUE!"}}]
[null,null,null,null,null,null,null,null,null,null,null,null,null,null,null,null,null,null,null,null,null,1021,{"$error":"#VALUE!"},{"$f":"AVERAGE($W$3:W1023)","v":{"$error":"#VALUE!"}},null,{"$error":"#VALUE!"},{"$error":"#VALUE!"},{"$f":"AVERAGE($AA$3:AA1023)","v":{"$error":"#VALUE!"}},null,null,null,{"$f":"((AA1023*#REF!)+(#REF!*#REF!)+(#REF!*#REF!))/(#REF!+#REF!+#REF!)","v":{"$error":"#VALUE!"}},{"$f":"((AA1023*#REF!)+(#REF!*#REF!)+(#REF!*#REF!))/(#REF!+#REF!+#REF!)","v":{"$error":"#VALUE!"}},{"$f":"((AA1023*#REF!)+(#REF!*#REF!)+(#REF!*#REF!))/(#REF!+#REF!+#REF!)","v":{"$error":"#VALUE!"}},{"$f":"((AA1023*#REF!)+(#REF!*#REF!)+(#REF!*#REF!))/(#REF!+#REF!+#REF!)","v":{"$error":"#VALUE!"}},{"$f":"((AA1023*#REF!)+(#REF!*#REF!)+(#REF!*#REF!))/(#REF!+#REF!+#REF!)","v":{"$error":"#VALUE!"}},{"$f":"((AA1023*#REF!)+(#REF!*#REF!)+(#REF!*#REF!))/(#REF!+#REF!+#REF!)","v":{"$error":"#VALUE!"}},{"$f":"((AA1023*#REF!)+(#REF!*#REF!)+(#REF!*#REF!))/(#REF!+#REF!+#REF!)","v":{"$error":"#VALUE!"}}]
[null,null,null,null,null,null,null,null,null,null,null,null,null,null,null,null,null,null,null,null,null,1022,{"$error":"#VALUE!"},{"$f":"AVERAGE($W$3:W1024)","v":{"$error":"#VALUE!"}},null,{"$error":"#VALUE!"},{"$error":"#VALUE!"},{"$f":"AVERAGE($AA$3:AA1024)","v":{"$error":"#VALUE!"}},null,null,null,{"$f":"((AA1024*#REF!)+(#REF!*#REF!)+(#REF!*#REF!))/(#REF!+#REF!+#REF!)","v":{"$error":"#VALUE!"}},{"$f":"((AA1024*#REF!)+(#REF!*#REF!)+(#REF!*#REF!))/(#REF!+#REF!+#REF!)","v":{"$error":"#VALUE!"}},{"$f":"((AA1024*#REF!)+(#REF!*#REF!)+(#REF!*#REF!))/(#REF!+#REF!+#REF!)","v":{"$error":"#VALUE!"}},{"$f":"((AA1024*#REF!)+(#REF!*#REF!)+(#REF!*#REF!))/(#REF!+#REF!+#REF!)","v":{"$error":"#VALUE!"}},{"$f":"((AA1024*#REF!)+(#REF!*#REF!)+(#REF!*#REF!))/(#REF!+#REF!+#REF!)","v":{"$error":"#VALUE!"}},{"$f":"((AA1024*#REF!)+(#REF!*#REF!)+(#REF!*#REF!))/(#REF!+#REF!+#REF!)","v":{"$error":"#VALUE!"}},{"$f":"((AA1024*#REF!)+(#REF!*#REF!)+(#REF!*#REF!))/(#REF!+#REF!+#REF!)","v":{"$error":"#VALUE!"}}]
[null,null,null,null,null,null,null,null,null,null,null,null,null,null,null,null,null,null,null,null,null,1023,{"$error":"#VALUE!"},{"$f":"AVERAGE($W$3:W1025)","v":{"$error":"#VALUE!"}},null,{"$error":"#VALUE!"},{"$error":"#VALUE!"},{"$f":"AVERAGE($AA$3:AA1025)","v":{"$error":"#VALUE!"}},null,null,null,{"$f":"((AA1025*#REF!)+(#REF!*#REF!)+(#REF!*#REF!))/(#REF!+#REF!+#REF!)","v":{"$error":"#VALUE!"}},{"$f":"((AA1025*#REF!)+(#REF!*#REF!)+(#REF!*#REF!))/(#REF!+#REF!+#REF!)","v":{"$error":"#VALUE!"}},{"$f":"((AA1025*#REF!)+(#REF!*#REF!)+(#REF!*#REF!))/(#REF!+#REF!+#REF!)","v":{"$error":"#VALUE!"}},{"$f":"((AA1025*#REF!)+(#REF!*#REF!)+(#REF!*#REF!))/(#REF!+#REF!+#REF!)","v":{"$error":"#VALUE!"}},{"$f":"((AA1025*#REF!)+(#REF!*#REF!)+(#REF!*#REF!))/(#REF!+#REF!+#REF!)","v":{"$error":"#VALUE!"}},{"$f":"((AA1025*#REF!)+(#REF!*#REF!)+(#REF!*#REF!))/(#REF!+#REF!+#REF!)","v":{"$error":"#VALUE!"}},{"$f":"((AA1025*#REF!)+(#REF!*#REF!)+(#REF!*#REF!))/(#REF!+#REF!+#REF!)","v":{"$error":"#VALUE!"}}]
[null,null,null,null,null,null,null,null,null,null,null,null,null,null,null,null,null,null,null,null,null,1024,{"$error":"#VALUE!"},{"$f":"AVERAGE($W$3:W1026)","v":{"$error":"#VALUE!"}},null,{"$error":"#VALUE!"},{"$error":"#VALUE!"},{"$f":"AVERAGE($AA$3:AA1026)","v":{"$error":"#VALUE!"}},null,null,null,{"$f":"((AA1026*#REF!)+(#REF!*#REF!)+(#REF!*#REF!))/(#REF!+#REF!+#REF!)","v":{"$error":"#VALUE!"}},{"$f":"((AA1026*#REF!)+(#REF!*#REF!)+(#REF!*#REF!))/(#REF!+#REF!+#REF!)","v":{"$error":"#VALUE!"}},{"$f":"((AA1026*#REF!)+(#REF!*#REF!)+(#REF!*#REF!))/(#REF!+#REF!+#REF!)","v":{"$error":"#VALUE!"}},{"$f":"((AA1026*#REF!)+(#REF!*#REF!)+(#REF!*#REF!))/(#REF!+#REF!+#REF!)","v":{"$error":"#VALUE!"}},{"$f":"((AA1026*#REF!)+(#REF!*#REF!)+(#REF!*#REF!))/(#REF!+#REF!+#REF!)","v":{"$error":"#VALUE!"}},{"$f":"((AA1026*#REF!)+(#REF!*#REF!)+(#REF!*#REF!))/(#REF!+#REF!+#REF!)","v":{"$error":"#VALUE!"}},{"$f":"((AA1026*#REF!)+(#REF!*#REF!)+(#REF!*#REF!))/(#REF!+#REF!+#REF!)","v":{"$error":"#VALUE!"}}]
[null,null,null,null,null,null,null,null,null,null,null,null,null,null,null,null,null,null,null,null,null,1025,{"$error":"#VALUE!"},{"$f":"AVERAGE($W$3:W1027)","v":{"$error":"#VALUE!"}},null,{"$error":"#VALUE!"},{"$error":"#VALUE!"},{"$f":"AVERAGE($AA$3:AA1027)","v":{"$error":"#VALUE!"}},null,null,null,{"$f":"((AA1027*#REF!)+(#REF!*#REF!)+(#REF!*#REF!))/(#REF!+#REF!+#REF!)","v":{"$error":"#VALUE!"}},{"$f":"((AA1027*#REF!)+(#REF!*#REF!)+(#REF!*#REF!))/(#REF!+#REF!+#REF!)","v":{"$error":"#VALUE!"}},{"$f":"((AA1027*#REF!)+(#REF!*#REF!)+(#REF!*#REF!))/(#REF!+#REF!+#REF!)","v":{"$error":"#VALUE!"}},{"$f":"((AA1027*#REF!)+(#REF!*#REF!)+(#REF!*#REF!))/(#REF!+#REF!+#REF!)","v":{"$error":"#VALUE!"}},{"$f":"((AA1027*#REF!)+(#REF!*#REF!)+(#REF!*#REF!))/(#REF!+#REF!+#REF!)","v":{"$error":"#VALUE!"}},{"$f":"((AA1027*#REF!)+(#REF!*#REF!)+(#REF!*#REF!))/(#REF!+#REF!+#REF!)","v":{"$error":"#VALUE!"}},{"$f":"((AA1027*#REF!)+(#REF!*#REF!)+(#REF!*#REF!))/(#REF!+#REF!+#REF!)","v":{"$error":"#VALUE!"}}]
[null,null,null,null,null,null,null,null,null,null,null,null,null,null,null,null,null,null,null,null,null,1026,{"$error":"#VALUE!"},{"$f":"AVERAGE($W$3:W1028)","v":{"$error":"#VALUE!"}},null,{"$f":"$M$2+W1028","v":{"$error":"#VALUE!"}},{"$f":"(Z1028*(9/5))+32","v":{"$error":"#VALUE!"}},{"$f":"AVERAGE($AA$3:AA1028)","v":{"$error":"#VALUE!"}},null,null,null,{"$f":"((AA1028*#REF!)+(#REF!*#REF!)+(#REF!*#REF!))/(#REF!+#REF!+#REF!)","v":{"$error":"#VALUE!"}},{"$f":"((AA1028*#REF!)+(#REF!*#REF!)+(#REF!*#REF!))/(#REF!+#REF!+#REF!)","v":{"$error":"#VALUE!"}},{"$f":"((AA1028*#REF!)+(#REF!*#REF!)+(#REF!*#REF!))/(#REF!+#REF!+#REF!)","v":{"$error":"#VALUE!"}},{"$f":"((AA1028*#REF!)+(#REF!*#REF!)+(#REF!*#REF!))/(#REF!+#REF!+#REF!)","v":{"$error":"#VALUE!"}},{"$f":"((AA1028*#REF!)+(#REF!*#REF!)+(#REF!*#REF!))/(#REF!+#REF!+#REF!)","v":{"$error":"#VALUE!"}},{"$f":"((AA1028*#REF!)+(#REF!*#REF!)+(#REF!*#REF!))/(#REF!+#REF!+#REF!)","v":{"$error":"#VALUE!"}},{"$f":"((AA1028*#REF!)+(#REF!*#REF!)+(#REF!*#REF!))/(#REF!+#REF!+#REF!)","v":{"$error":"#VALUE!"}}]
[null,null,null,null,null,null,null,null,null,null,null,null,null,null,null,null,null,null,null,null,null,1027,{"$error":"#VALUE!"},{"$f":"AVERAGE($W$3:W1029)","v":{"$error":"#VALUE!"}},null,{"$error":"#VALUE!"},{"$error":"#VALUE!"},{"$f":"AVERAGE($AA$3:AA1029)","v":{"$error":"#VALUE!"}},null,null,null,{"$f":"((AA1029*#REF!)+(#REF!*#REF!)+(#REF!*#REF!))/(#REF!+#REF!+#REF!)","v":{"$error":"#VALUE!"}},{"$f":"((AA1029*#REF!)+(#REF!*#REF!)+(#REF!*#REF!))/(#REF!+#REF!+#REF!)","v":{"$error":"#VALUE!"}},{"$f":"((AA1029*#REF!)+(#REF!*#REF!)+(#REF!*#REF!))/(#REF!+#REF!+#REF!)","v":{"$error":"#VALUE!"}},{"$f":"((AA1029*#REF!)+(#REF!*#REF!)+(#REF!*#REF!))/(#REF!+#REF!+#REF!)","v":{"$error":"#VALUE!"}},{"$f":"((AA1029*#REF!)+(#REF!*#REF!)+(#REF!*#REF!))/(#REF!+#REF!+#REF!)","v":{"$error":"#VALUE!"}},{"$f":"((AA1029*#REF!)+(#REF!*#REF!)+(#REF!*#REF!))/(#REF!+#REF!+#REF!)","v":{"$error":"#VALUE!"}},{"$f":"((AA1029*#REF!)+(#REF!*#REF!)+(#REF!*#REF!))/(#REF!+#REF!+#REF!)","v":{"$error":"#VALUE!"}}]
[null,null,null,null,null,null,null,null,null,null,null,null,null,null,null,null,null,null,null,null,null,1028,{"$error":"#VALUE!"},{"$f":"AVERAGE($W$3:W1030)","v":{"$error":"#VALUE!"}},null,{"$error":"#VALUE!"},{"$error":"#VALUE!"},{"$f":"AVERAGE($AA$3:AA1030)","v":{"$error":"#VALUE!"}},null,null,null,{"$f":"((AA1030*#REF!)+(#REF!*#REF!)+(#REF!*#REF!))/(#REF!+#REF!+#REF!)","v":{"$error":"#VALUE!"}},{"$f":"((AA1030*#REF!)+(#REF!*#REF!)+(#REF!*#REF!))/(#REF!+#REF!+#REF!)","v":{"$error":"#VALUE!"}},{"$f":"((AA1030*#REF!)+(#REF!*#REF!)+(#REF!*#REF!))/(#REF!+#REF!+#REF!)","v":{"$error":"#VALUE!"}},{"$f":"((AA1030*#REF!)+(#REF!*#REF!)+(#REF!*#REF!))/(#REF!+#REF!+#REF!)","v":{"$error":"#VALUE!"}},{"$f":"((AA1030*#REF!)+(#REF!*#REF!)+(#REF!*#REF!))/(#REF!+#REF!+#REF!)","v":{"$error":"#VALUE!"}},{"$f":"((AA1030*#REF!)+(#REF!*#REF!)+(#REF!*#REF!))/(#REF!+#REF!+#REF!)","v":{"$error":"#VALUE!"}},{"$f":"((AA1030*#REF!)+(#REF!*#REF!)+(#REF!*#REF!))/(#REF!+#REF!+#REF!)","v":{"$error":"#VALUE!"}}]
[null,null,null,null,null,null,null,null,null,null,null,null,null,null,null,null,null,null,null,null,null,1029,{"$error":"#VALUE!"},{"$f":"AVERAGE($W$3:W1031)","v":{"$error":"#VALUE!"}},null,{"$error":"#VALUE!"},{"$error":"#VALUE!"},{"$f":"AVERAGE($AA$3:AA1031)","v":{"$error":"#VALUE!"}},null,null,null,{"$f":"((AA1031*#REF!)+(#REF!*#REF!)+(#REF!*#REF!))/(#REF!+#REF!+#REF!)","v":{"$error":"#VALUE!"}},{"$f":"((AA1031*#REF!)+(#REF!*#REF!)+(#REF!*#REF!))/(#REF!+#REF!+#REF!)","v":{"$error":"#VALUE!"}},{"$f":"((AA1031*#REF!)+(#REF!*#REF!)+(#REF!*#REF!))/(#REF!+#REF!+#REF!)","v":{"$error":"#VALUE!"}},{"$f":"((AA1031*#REF!)+(#REF!*#REF!)+(#REF!*#REF!))/(#REF!+#REF!+#REF!)","v":{"$error":"#VALUE!"}},{"$f":"((AA1031*#REF!)+(#REF!*#REF!)+(#REF!*#REF!))/(#REF!+#REF!+#REF!)","v":{"$error":"#VALUE!"}},{"$f":"((AA1031*#REF!)+(#REF!*#REF!)+(#REF!*#REF!))/(#REF!+#REF!+#REF!)","v":{"$error":"#VALUE!"}},{"$f":"((AA1031*#REF!)+(#REF!*#REF!)+(#REF!*#REF!))/(#REF!+#REF!+#REF!)","v":{"$error":"#VALUE!"}}]
[null,null,null,null,null,null,null,null,null,null,null,null,null,null,null,null,null,null,null,null,null,1030,{"$error":"#VALUE!"},{"$f":"AVERAGE($W$3:W1032)","v":{"$error":"#VALUE!"}},null,{"$error":"#VALUE!"},{"$error":"#VALUE!"},{"$f":"AVERAGE($AA$3:AA1032)","v":{"$error":"#VALUE!"}},null,null,null,{"$f":"((AA1032*#REF!)+(#REF!*#REF!)+(#REF!*#REF!))/(#REF!+#REF!+#REF!)","v":{"$error":"#VALUE!"}},{"$f":"((AA1032*#REF!)+(#REF!*#REF!)+(#REF!*#REF!))/(#REF!+#REF!+#REF!)","v":{"$error":"#VALUE!"}},{"$f":"((AA1032*#REF!)+(#REF!*#REF!)+(#REF!*#REF!))/(#REF!+#REF!+#REF!)","v":{"$error":"#VALUE!"}},{"$f":"((AA1032*#REF!)+(#REF!*#REF!)+(#REF!*#REF!))/(#REF!+#REF!+#REF!)","v":{"$error":"#VALUE!"}},{"$f":"((AA1032*#REF!)+(#REF!*#REF!)+(#REF!*#REF!))/(#REF!+#REF!+#REF!)","v":{"$error":"#VALUE!"}},{"$f":"((AA1032*#REF!)+(#REF!*#REF!)+(#REF!*#REF!))/(#REF!+#REF!+#REF!)","v":{"$error":"#VALUE!"}},{"$f":"((AA1032*#REF!)+(#REF!*#REF!)+(#REF!*#REF!))/(#REF!+#REF!+#REF!)","v":{"$error":"#VALUE!"}}]
[null,null,null,null,null,null,null,null,null,null,null,null,null,null,null,null,null,null,null,null,null,1031,{"$error":"#VALUE!"},{"$f":"AVERAGE($W$3:W1033)","v":{"$error":"#VALUE!"}},null,{"$error":"#VALUE!"},{"$error":"#VALUE!"},{"$f":"AVERAGE($AA$3:AA1033)","v":{"$error":"#VALUE!"}},null,null,null,{"$f":"((AA1033*#REF!)+(#REF!*#REF!)+(#REF!*#REF!))/(#REF!+#REF!+#REF!)","v":{"$error":"#VALUE!"}},{"$f":"((AA1033*#REF!)+(#REF!*#REF!)+(#REF!*#REF!))/(#REF!+#REF!+#REF!)","v":{"$error":"#VALUE!"}},{"$f":"((AA1033*#REF!)+(#REF!*#REF!)+(#REF!*#REF!))/(#REF!+#REF!+#REF!)","v":{"$error":"#VALUE!"}},{"$f":"((AA1033*#REF!)+(#REF!*#REF!)+(#REF!*#REF!))/(#REF!+#REF!+#REF!)","v":{"$error":"#VALUE!"}},{"$f":"((AA1033*#REF!)+(#REF!*#REF!)+(#REF!*#REF!))/(#REF!+#REF!+#REF!)","v":{"$error":"#VALUE!"}},{"$f":"((AA1033*#REF!)+(#REF!*#REF!)+(#REF!*#REF!))/(#REF!+#REF!+#REF!)","v":{"$error":"#VALUE!"}},{"$f":"((AA1033*#REF!)+(#REF!*#REF!)+(#REF!*#REF!))/(#REF!+#REF!+#REF!)","v":{"$error":"#VALUE!"}}]
[null,null,null,null,null,null,null,null,null,null,null,null,null,null,null,null,null,null,null,null,null,1032,{"$error":"#VALUE!"},{"$f":"AVERAGE($W$3:W1034)","v":{"$error":"#VALUE!"}},null,{"$error":"#VALUE!"},{"$error":"#VALUE!"},{"$f":"AVERAGE($AA$3:AA1034)","v":{"$error":"#VALUE!"}},null,null,null,{"$f":"((AA1034*#REF!)+(#REF!*#REF!)+(#REF!*#REF!))/(#REF!+#REF!+#REF!)","v":{"$error":"#VALUE!"}},{"$f":"((AA1034*#REF!)+(#REF!*#REF!)+(#REF!*#REF!))/(#REF!+#REF!+#REF!)","v":{"$error":"#VALUE!"}},{"$f":"((AA1034*#REF!)+(#REF!*#REF!)+(#REF!*#REF!))/(#REF!+#REF!+#REF!)","v":{"$error":"#VALUE!"}},{"$f":"((AA1034*#REF!)+(#REF!*#REF!)+(#REF!*#REF!))/(#REF!+#REF!+#REF!)","v":{"$error":"#VALUE!"}},{"$f":"((AA1034*#REF!)+(#REF!*#REF!)+(#REF!*#REF!))/(#REF!+#REF!+#REF!)","v":{"$error":"#VALUE!"}},{"$f":"((AA1034*#REF!)+(#REF!*#REF!)+(#REF!*#REF!))/(#REF!+#REF!+#REF!)","v":{"$error":"#VALUE!"}},{"$f":"((AA1034*#REF!)+(#REF!*#REF!)+(#REF!*#REF!))/(#REF!+#REF!+#REF!)","v":{"$error":"#VALUE!"}}]
[null,null,null,null,null,null,null,null,null,null,null,null,null,null,null,null,null,null,null,null,null,1033,{"$error":"#VALUE!"},{"$f":"AVERAGE($W$3:W1035)","v":{"$error":"#VALUE!"}},null,{"$error":"#VALUE!"},{"$error":"#VALUE!"},{"$f":"AVERAGE($AA$3:AA1035)","v":{"$error":"#VALUE!"}},null,null,null,{"$f":"((AA1035*#REF!)+(#REF!*#REF!)+(#REF!*#REF!))/(#REF!+#REF!+#REF!)","v":{"$error":"#VALUE!"}},{"$f":"((AA1035*#REF!)+(#REF!*#REF!)+(#REF!*#REF!))/(#REF!+#REF!+#REF!)","v":{"$error":"#VALUE!"}},{"$f":"((AA1035*#REF!)+(#REF!*#REF!)+(#REF!*#REF!))/(#REF!+#REF!+#REF!)","v":{"$error":"#VALUE!"}},{"$f":"((AA1035*#REF!)+(#REF!*#REF!)+(#REF!*#REF!))/(#REF!+#REF!+#REF!)","v":{"$error":"#VALUE!"}},{"$f":"((AA1035*#REF!)+(#REF!*#REF!)+(#REF!*#REF!))/(#REF!+#REF!+#REF!)","v":{"$error":"#VALUE!"}},{"$f":"((AA1035*#REF!)+(#REF!*#REF!)+(#REF!*#REF!))/(#REF!+#REF!+#REF!)","v":{"$error":"#VALUE!"}},{"$f":"((AA1035*#REF!)+(#REF!*#REF!)+(#REF!*#REF!))/(#REF!+#REF!+#REF!)","v":{"$error":"#VALUE!"}}]
[null,null,null,null,null,null,null,null,null,null,null,null,null,null,null,null,null,null,null,null,null,1034,{"$error":"#VALUE!"},{"$f":"AVERAGE($W$3:W1036)","v":{"$error":"#VALUE!"}},null,{"$error":"#VALUE!"},{"$error":"#VALUE!"},{"$f":"AVERAGE($AA$3:AA1036)","v":{"$error":"#VALUE!"}},null,null,null,{"$f":"((AA1036*#REF!)+(#REF!*#REF!)+(#REF!*#REF!))/(#REF!+#REF!+#REF!)","v":{"$error":"#VALUE!"}},{"$f":"((AA1036*#REF!)+(#REF!*#REF!)+(#REF!*#REF!))/(#REF!+#REF!+#REF!)","v":{"$error":"#VALUE!"}},{"$f":"((AA1036*#REF!)+(#REF!*#REF!)+(#REF!*#REF!))/(#REF!+#REF!+#REF!)","v":{"$error":"#VALUE!"}},{"$f":"((AA1036*#REF!)+(#REF!*#REF!)+(#REF!*#REF!))/(#REF!+#REF!+#REF!)","v":{"$error":"#VALUE!"}},{"$f":"((AA1036*#REF!)+(#REF!*#REF!)+(#REF!*#REF!))/(#REF!+#REF!+#REF!)","v":{"$error":"#VALUE!"}},{"$f":"((AA1036*#REF!)+(#REF!*#REF!)+(#REF!*#REF!))/(#REF!+#REF!+#REF!)","v":{"$error":"#VALUE!"}},{"$f":"((AA1036*#REF!)+(#REF!*#REF!)+(#REF!*#REF!))/(#REF!+#REF!+#REF!)","v":{"$error":"#VALUE!"}}]
[null,null,null,null,null,null,null,null,null,null,null,null,null,null,null,null,null,null,null,null,null,1035,{"$error":"#VALUE!"},{"$f":"AVERAGE($W$3:W1037)","v":{"$error":"#VALUE!"}},null,{"$error":"#VALUE!"},{"$error":"#VALUE!"},{"$f":"AVERAGE($AA$3:AA1037)","v":{"$error":"#VALUE!"}},null,null,null,{"$f":"((AA1037*#REF!)+(#REF!*#REF!)+(#REF!*#REF!))/(#REF!+#REF!+#REF!)","v":{"$error":"#VALUE!"}},{"$f":"((AA1037*#REF!)+(#REF!*#REF!)+(#REF!*#REF!))/(#REF!+#REF!+#REF!)","v":{"$error":"#VALUE!"}},{"$f":"((AA1037*#REF!)+(#REF!*#REF!)+(#REF!*#REF!))/(#REF!+#REF!+#REF!)","v":{"$error":"#VALUE!"}},{"$f":"((AA1037*#REF!)+(#REF!*#REF!)+(#REF!*#REF!))/(#REF!+#REF!+#REF!)","v":{"$error":"#VALUE!"}},{"$f":"((AA1037*#REF!)+(#REF!*#REF!)+(#REF!*#REF!))/(#REF!+#REF!+#REF!)","v":{"$error":"#VALUE!"}},{"$f":"((AA1037*#REF!)+(#REF!*#REF!)+(#REF!*#REF!))/(#REF!+#REF!+#REF!)","v":{"$error":"#VALUE!"}},{"$f":"((AA1037*#REF!)+(#REF!*#REF!)+(#REF!*#REF!))/(#REF!+#REF!+#REF!)","v":{"$error":"#VALUE!"}}]
[null,null,null,null,null,null,null,null,null,null,null,null,null,null,null,null,null,null,null,null,null,1036,{"$error":"#VALUE!"},{"$f":"AVERAGE($W$3:W1038)","v":{"$error":"#VALUE!"}},null,{"$error":"#VALUE!"},{"$error":"#VALUE!"},{"$f":"AVERAGE($AA$3:AA1038)","v":{"$error":"#VALUE!"}},null,null,null,{"$f":"((AA1038*#REF!)+(#REF!*#REF!)+(#REF!*#REF!))/(#REF!+#REF!+#REF!)","v":{"$error":"#VALUE!"}},{"$f":"((AA1038*#REF!)+(#REF!*#REF!)+(#REF!*#REF!))/(#REF!+#REF!+#REF!)","v":{"$error":"#VALUE!"}},{"$f":"((AA1038*#REF!)+(#REF!*#REF!)+(#REF!*#REF!))/(#REF!+#REF!+#REF!)","v":{"$error":"#VALUE!"}},{"$f":"((AA1038*#REF!)+(#REF!*#REF!)+(#REF!*#REF!))/(#REF!+#REF!+#REF!)","v":{"$error":"#VALUE!"}},{"$f":"((AA1038*#REF!)+(#REF!*#REF!)+(#REF!*#REF!))/(#REF!+#REF!+#REF!)","v":{"$error":"#VALUE!"}},{"$f":"((AA1038*#REF!)+(#REF!*#REF!)+(#REF!*#REF!))/(#REF!+#REF!+#REF!)","v":{"$error":"#VALUE!"}},{"$f":"((AA1038*#REF!)+(#REF!*#REF!)+(#REF!*#REF!))/(#REF!+#REF!+#REF!)","v":{"$error":"#VALUE!"}}]
[null,null,null,null,null,null,null,null,null,null,null,null,null,null,null,null,null,null,null,null,null,1037,{"$error":"#VALUE!"},{"$f":"AVERAGE($W$3:W1039)","v":{"$error":"#VALUE!"}},null,{"$error":"#VALUE!"},{"$error":"#VALUE!"},{"$f":"AVERAGE($AA$3:AA1039)","v":{"$error":"#VALUE!"}},null,null,null,{"$f":"((AA1039*#REF!)+(#REF!*#REF!)+(#REF!*#REF!))/(#REF!+#REF!+#REF!)","v":{"$error":"#VALUE!"}},{"$f":"((AA1039*#REF!)+(#REF!*#REF!)+(#REF!*#REF!))/(#REF!+#REF!+#REF!)","v":{"$error":"#VALUE!"}},{"$f":"((AA1039*#REF!)+(#REF!*#REF!)+(#REF!*#REF!))/(#REF!+#REF!+#REF!)","v":{"$error":"#VALUE!"}},{"$f":"((AA1039*#REF!)+(#REF!*#REF!)+(#REF!*#REF!))/(#REF!+#REF!+#REF!)","v":{"$error":"#VALUE!"}},{"$f":"((AA1039*#REF!)+(#REF!*#REF!)+(#REF!*#REF!))/(#REF!+#REF!+#REF!)","v":{"$error":"#VALUE!"}},{"$f":"((AA1039*#REF!)+(#REF!*#REF!)+(#REF!*#REF!))/(#REF!+#REF!+#REF!)","v":{"$error":"#VALUE!"}},{"$f":"((AA1039*#REF!)+(#REF!*#REF!)+(#REF!*#REF!))/(#REF!+#REF!+#REF!)","v":{"$error":"#VALUE!"}}]
[null,null,null,null,null,null,null,null,null,null,null,null,null,null,null,null,null,null,null,null,null,1038,{"$error":"#VALUE!"},{"$f":"AVERAGE($W$3:W1040)","v":{"$error":"#VALUE!"}},null,{"$error":"#VALUE!"},{"$error":"#VALUE!"},{"$f":"AVERAGE($AA$3:AA1040)","v":{"$error":"#VALUE!"}},null,null,null,{"$f":"((AA1040*#REF!)+(#REF!*#REF!)+(#REF!*#REF!))/(#REF!+#REF!+#REF!)","v":{"$error":"#VALUE!"}},{"$f":"((AA1040*#REF!)+(#REF!*#REF!)+(#REF!*#REF!))/(#REF!+#REF!+#REF!)","v":{"$error":"#VALUE!"}},{"$f":"((AA1040*#REF!)+(#REF!*#REF!)+(#REF!*#REF!))/(#REF!+#REF!+#REF!)","v":{"$error":"#VALUE!"}},{"$f":"((AA1040*#REF!)+(#REF!*#REF!)+(#REF!*#REF!))/(#REF!+#REF!+#REF!)","v":{"$error":"#VALUE!"}},{"$f":"((AA1040*#REF!)+(#REF!*#REF!)+(#REF!*#REF!))/(#REF!+#REF!+#REF!)","v":{"$error":"#VALUE!"}},{"$f":"((AA1040*#REF!)+(#REF!*#REF!)+(#REF!*#REF!))/(#REF!+#REF!+#REF!)","v":{"$error":"#VALUE!"}},{"$f":"((AA1040*#REF!)+(#REF!*#REF!)+(#REF!*#REF!))/(#REF!+#REF!+#REF!)","v":{"$error":"#VALUE!"}}]
[null,null,null,null,null,null,null,null,null,null,null,null,null,null,null,null,null,null,null,null,null,1039,{"$error":"#VALUE!"},{"$f":"AVERAGE($W$3:W1041)","v":{"$error":"#VALUE!"}},null,{"$error":"#VALUE!"},{"$error":"#VALUE!"},{"$f":"AVERAGE($AA$3:AA1041)","v":{"$error":"#VALUE!"}},null,null,null,{"$f":"((AA1041*#REF!)+(#REF!*#REF!)+(#REF!*#REF!))/(#REF!+#REF!+#REF!)","v":{"$error":"#VALUE!"}},{"$f":"((AA1041*#REF!)+(#REF!*#REF!)+(#REF!*#REF!))/(#REF!+#REF!+#REF!)","v":{"$error":"#VALUE!"}},{"$f":"((AA1041*#REF!)+(#REF!*#REF!)+(#REF!*#REF!))/(#REF!+#REF!+#REF!)","v":{"$error":"#VALUE!"}},{"$f":"((AA1041*#REF!)+(#REF!*#REF!)+(#REF!*#REF!))/(#REF!+#REF!+#REF!)","v":{"$error":"#VALUE!"}},{"$f":"((AA1041*#REF!)+(#REF!*#REF!)+(#REF!*#REF!))/(#REF!+#REF!+#REF!)","v":{"$error":"#VALUE!"}},{"$f":"((AA1041*#REF!)+(#REF!*#REF!)+(#REF!*#REF!))/(#REF!+#REF!+#REF!)","v":{"$error":"#VALUE!"}},{"$f":"((AA1041*#REF!)+(#REF!*#REF!)+(#REF!*#REF!))/(#REF!+#REF!+#REF!)","v":{"$error":"#VALUE!"}}]
[null,null,null,null,null,null,null,null,null,null,null,null,null,null,null,null,null,null,null,null,null,1040,{"$error":"#VALUE!"},{"$f":"AVERAGE($W$3:W1042)","v":{"$error":"#VALUE!"}},null,{"$error":"#VALUE!"},{"$error":"#VALUE!"},{"$f":"AVERAGE($AA$3:AA1042)","v":{"$error":"#VALUE!"}},null,null,null,{"$f":"((AA1042*#REF!)+(#REF!*#REF!)+(#REF!*#REF!))/(#REF!+#REF!+#REF!)","v":{"$error":"#VALUE!"}},{"$f":"((AA1042*#REF!)+(#REF!*#REF!)+(#REF!*#REF!))/(#REF!+#REF!+#REF!)","v":{"$error":"#VALUE!"}},{"$f":"((AA1042*#REF!)+(#REF!*#REF!)+(#REF!*#REF!))/(#REF!+#REF!+#REF!)","v":{"$error":"#VALUE!"}},{"$f":"((AA1042*#REF!)+(#REF!*#REF!)+(#REF!*#REF!))/(#REF!+#REF!+#REF!)","v":{"$error":"#VALUE!"}},{"$f":"((AA1042*#REF!)+(#REF!*#REF!)+(#REF!*#REF!))/(#REF!+#REF!+#REF!)","v":{"$error":"#VALUE!"}},{"$f":"((AA1042*#REF!)+(#REF!*#REF!)+(#REF!*#REF!))/(#REF!+#REF!+#REF!)","v":{"$error":"#VALUE!"}},{"$f":"((AA1042*#REF!)+(#REF!*#REF!)+(#REF!*#REF!))/(#REF!+#REF!+#REF!)","v":{"$error":"#VALUE!"}}]
[null,null,null,null,null,null,null,null,null,null,null,null,null,null,null,null,null,null,null,null,null,1041,{"$error":"#VALUE!"},{"$f":"AVERAGE($W$3:W1043)","v":{"$error":"#VALUE!"}},null,{"$error":"#VALUE!"},{"$error":"#VALUE!"},{"$f":"AVERAGE($AA$3:AA1043)","v":{"$error":"#VALUE!"}},null,null,null,{"$f":"((AA1043*#REF!)+(#REF!*#REF!)+(#REF!*#REF!))/(#REF!+#REF!+#REF!)","v":{"$error":"#VALUE!"}},{"$f":"((AA1043*#REF!)+(#REF!*#REF!)+(#REF!*#REF!))/(#REF!+#REF!+#REF!)","v":{"$error":"#VALUE!"}},{"$f":"((AA1043*#REF!)+(#REF!*#REF!)+(#REF!*#REF!))/(#REF!+#REF!+#REF!)","v":{"$error":"#VALUE!"}},{"$f":"((AA1043*#REF!)+(#REF!*#REF!)+(#REF!*#REF!))/(#REF!+#REF!+#REF!)","v":{"$error":"#VALUE!"}},{"$f":"((AA1043*#REF!)+(#REF!*#REF!)+(#REF!*#REF!))/(#REF!+#REF!+#REF!)","v":{"$error":"#VALUE!"}},{"$f":"((AA1043*#REF!)+(#REF!*#REF!)+(#REF!*#REF!))/(#REF!+#REF!+#REF!)","v":{"$error":"#VALUE!"}},{"$f":"((AA1043*#REF!)+(#REF!*#REF!)+(#REF!*#REF!))/(#REF!+#REF!+#REF!)","v":{"$error":"#VALUE!"}}]
[null,null,null,null,null,null,null,null,null,null,null,null,null,null,null,null,null,null,null,null,null,1042,{"$error":"#VALUE!"},{"$f":"AVERAGE($W$3:W1044)","v":{"$error":"#VALUE!"}},null,{"$error":"#VALUE!"},{"$error":"#VALUE!"},{"$f":"AVERAGE($AA$3:AA1044)","v":{"$error":"#VALUE!"}},null,null,null,{"$f":"((AA1044*#REF!)+(#REF!*#REF!)+(#REF!*#REF!))/(#REF!+#REF!+#REF!)","v":{"$error":"#VALUE!"}},{"$f":"((AA1044*#REF!)+(#REF!*#REF!)+(#REF!*#REF!))/(#REF!+#REF!+#REF!)","v":{"$error":"#VALUE!"}},{"$f":"((AA1044*#REF!)+(#REF!*#REF!)+(#REF!*#REF!))/(#REF!+#REF!+#REF!)","v":{"$error":"#VALUE!"}},{"$f":"((AA1044*#REF!)+(#REF!*#REF!)+(#REF!*#REF!))/(#REF!+#REF!+#REF!)","v":{"$error":"#VALUE!"}},{"$f":"((AA1044*#REF!)+(#REF!*#REF!)+(#REF!*#REF!))/(#REF!+#REF!+#REF!)","v":{"$error":"#VALUE!"}},{"$f":"((AA1044*#REF!)+(#REF!*#REF!)+(#REF!*#REF!))/(#REF!+#REF!+#REF!)","v":{"$error":"#VALUE!"}},{"$f":"((AA1044*#REF!)+(#REF!*#REF!)+(#REF!*#REF!))/(#REF!+#REF!+#REF!)","v":{"$error":"#VALUE!"}}]
[null,null,null,null,null,null,null,null,null,null,null,null,null,null,null,null,null,null,null,null,null,1043,{"$error":"#VALUE!"},{"$f":"AVERAGE($W$3:W1045)","v":{"$error":"#VALUE!"}},null,{"$error":"#VALUE!"},{"$error":"#VALUE!"},{"$f":"AVERAGE($AA$3:AA1045)","v":{"$error":"#VALUE!"}},null,null,null,{"$f":"((AA1045*#REF!)+(#REF!*#REF!)+(#REF!*#REF!))/(#REF!+#REF!+#REF!)","v":{"$error":"#VALUE!"}},{"$f":"((AA1045*#REF!)+(#REF!*#REF!)+(#REF!*#REF!))/(#REF!+#REF!+#REF!)","v":{"$error":"#VALUE!"}},{"$f":"((AA1045*#REF!)+(#REF!*#REF!)+(#REF!*#REF!))/(#REF!+#REF!+#REF!)","v":{"$error":"#VALUE!"}},{"$f":"((AA1045*#REF!)+(#REF!*#REF!)+(#REF!*#REF!))/(#REF!+#REF!+#REF!)","v":{"$error":"#VALUE!"}},{"$f":"((AA1045*#REF!)+(#REF!*#REF!)+(#REF!*#REF!))/(#REF!+#REF!+#REF!)","v":{"$error":"#VALUE!"}},{"$f":"((AA1045*#REF!)+(#REF!*#REF!)+(#REF!*#REF!))/(#REF!+#REF!+#REF!)","v":{"$error":"#VALUE!"}},{"$f":"((AA1045*#REF!)+(#REF!*#REF!)+(#REF!*#REF!))/(#REF!+#REF!+#REF!)","v":{"$error":"#VALUE!"}}]
[null,null,null,null,null,null,null,null,null,null,null,null,null,null,null,null,null,null,null,null,null,1044,{"$error":"#VALUE!"},{"$f":"AVERAGE($W$3:W1046)","v":{"$error":"#VALUE!"}},null,{"$error":"#VALUE!"},{"$error":"#VALUE!"},{"$f":"AVERAGE($AA$3:AA1046)","v":{"$error":"#VALUE!"}},null,null,null,{"$f":"((AA1046*#REF!)+(#REF!*#REF!)+(#REF!*#REF!))/(#REF!+#REF!+#REF!)","v":{"$error":"#VALUE!"}},{"$f":"((AA1046*#REF!)+(#REF!*#REF!)+(#REF!*#REF!))/(#REF!+#REF!+#REF!)","v":{"$error":"#VALUE!"}},{"$f":"((AA1046*#REF!)+(#REF!*#REF!)+(#REF!*#REF!))/(#REF!+#REF!+#REF!)","v":{"$error":"#VALUE!"}},{"$f":"((AA1046*#REF!)+(#REF!*#REF!)+(#REF!*#REF!))/(#REF!+#REF!+#REF!)","v":{"$error":"#VALUE!"}},{"$f":"((AA1046*#REF!)+(#REF!*#REF!)+(#REF!*#REF!))/(#REF!+#REF!+#REF!)","v":{"$error":"#VALUE!"}},{"$f":"((AA1046*#REF!)+(#REF!*#REF!)+(#REF!*#REF!))/(#REF!+#REF!+#REF!)","v":{"$error":"#VALUE!"}},{"$f":"((AA1046*#REF!)+(#REF!*#REF!)+(#REF!*#REF!))/(#REF!+#REF!+#REF!)","v":{"$error":"#VALUE!"}}]
[null,null,null,null,null,null,null,null,null,null,null,null,null,null,null,null,null,null,null,null,null,1045,{"$error":"#VALUE!"},{"$f":"AVERAGE($W$3:W1047)","v":{"$error":"#VALUE!"}},null,{"$error":"#VALUE!"},{"$error":"#VALUE!"},{"$f":"AVERAGE($AA$3:AA1047)","v":{"$error":"#VALUE!"}},null,null,null,{"$f":"((AA1047*#REF!)+(#REF!*#REF!)+(#REF!*#REF!))/(#REF!+#REF!+#REF!)","v":{"$error":"#VALUE!"}},{"$f":"((AA1047*#REF!)+(#REF!*#REF!)+(#REF!*#REF!))/(#REF!+#REF!+#REF!)","v":{"$error":"#VALUE!"}},{"$f":"((AA1047*#REF!)+(#REF!*#REF!)+(#REF!*#REF!))/(#REF!+#REF!+#REF!)","v":{"$error":"#VALUE!"}},{"$f":"((AA1047*#REF!)+(#REF!*#REF!)+(#REF!*#REF!))/(#REF!+#REF!+#REF!)","v":{"$error":"#VALUE!"}},{"$f":"((AA1047*#REF!)+(#REF!*#REF!)+(#REF!*#REF!))/(#REF!+#REF!+#REF!)","v":{"$error":"#VALUE!"}},{"$f":"((AA1047*#REF!)+(#REF!*#REF!)+(#REF!*#REF!))/(#REF!+#REF!+#REF!)","v":{"$error":"#VALUE!"}},{"$f":"((AA1047*#REF!)+(#REF!*#REF!)+(#REF!*#REF!))/(#REF!+#REF!+#REF!)","v":{"$error":"#VALUE!"}}]
[null,null,null,null,null,null,null,null,null,null,null,null,null,null,null,null,null,null,null,null,null,1046,{"$error":"#VALUE!"},{"$f":"AVERAGE($W$3:W1048)","v":{"$error":"#VALUE!"}},null,{"$error":"#VALUE!"},{"$error":"#VALUE!"},{"$f":"AVERAGE($AA$3:AA1048)","v":{"$error":"#VALUE!"}},null,null,null,{"$f":"((AA1048*#REF!)+(#REF!*#REF!)+(#REF!*#REF!))/(#REF!+#REF!+#REF!)","v":{"$error":"#VALUE!"}},{"$f":"((AA1048*#REF!)+(#REF!*#REF!)+(#REF!*#REF!))/(#REF!+#REF!+#REF!)","v":{"$error":"#VALUE!"}},{"$f":"((AA1048*#REF!)+(#REF!*#REF!)+(#REF!*#REF!))/(#REF!+#REF!+#REF!)","v":{"$error":"#VALUE!"}},{"$f":"((AA1048*#REF!)+(#REF!*#REF!)+(#REF!*#REF!))/(#REF!+#REF!+#REF!)","v":{"$error":"#VALUE!"}},{"$f":"((AA1048*#REF!)+(#REF!*#REF!)+(#REF!*#REF!))/(#REF!+#REF!+#REF!)","v":{"$error":"#VALUE!"}},{"$f":"((AA1048*#REF!)+(#REF!*#REF!)+(#REF!*#REF!))/(#REF!+#REF!+#REF!)","v":{"$error":"#VALUE!"}},{"$f":"((AA1048*#REF!)+(#REF!*#REF!)+(#REF!*#REF!))/(#REF!+#REF!+#REF!)","v":{"$error":"#VALUE!"}}]
[null,null,null,null,null,null,null,null,null,null,null,null,null,null,null,null,null,null,null,null,null,1047,{"$error":"#VALUE!"},{"$f":"AVERAGE($W$3:W1049)","v":{"$error":"#VALUE!"}},null,{"$error":"#VALUE!"},{"$error":"#VALUE!"},{"$f":"AVERAGE($AA$3:AA1049)","v":{"$error":"#VALUE!"}},null,null,null,{"$f":"((AA1049*#REF!)+(#REF!*#REF!)+(#REF!*#REF!))/(#REF!+#REF!+#REF!)","v":{"$error":"#VALUE!"}},{"$f":"((AA1049*#REF!)+(#REF!*#REF!)+(#REF!*#REF!))/(#REF!+#REF!+#REF!)","v":{"$error":"#VALUE!"}},{"$f":"((AA1049*#REF!)+(#REF!*#REF!)+(#REF!*#REF!))/(#REF!+#REF!+#REF!)","v":{"$error":"#VALUE!"}},{"$f":"((AA1049*#REF!)+(#REF!*#REF!)+(#REF!*#REF!))/(#REF!+#REF!+#REF!)","v":{"$error":"#VALUE!"}},{"$f":"((AA1049*#REF!)+(#REF!*#REF!)+(#REF!*#REF!))/(#REF!+#REF!+#REF!)","v":{"$error":"#VALUE!"}},{"$f":"((AA1049*#REF!)+(#REF!*#REF!)+(#REF!*#REF!))/(#REF!+#REF!+#REF!)","v":{"$error":"#VALUE!"}},{"$f":"((AA1049*#REF!)+(#REF!*#REF!)+(#REF!*#REF!))/(#REF!+#REF!+#REF!)","v":{"$error":"#VALUE!"}}]
[null,null,null,null,null,null,null,null,null,null,null,null,null,null,null,null,null,null,null,null,null,1048,{"$error":"#VALUE!"},{"$f":"AVERAGE($W$3:W1050)","v":{"$error":"#VALUE!"}},null,{"$error":"#VALUE!"},{"$error":"#VALUE!"},{"$f":"AVERAGE($AA$3:AA1050)","v":{"$error":"#VALUE!"}},null,null,null,{"$f":"((AA1050*#REF!)+(#REF!*#REF!)+(#REF!*#REF!))/(#REF!+#REF!+#REF!)","v":{"$error":"#VALUE!"}},{"$f":"((AA1050*#REF!)+(#REF!*#REF!)+(#REF!*#REF!))/(#REF!+#REF!+#REF!)","v":{"$error":"#VALUE!"}},{"$f":"((AA1050*#REF!)+(#REF!*#REF!)+(#REF!*#REF!))/(#REF!+#REF!+#REF!)","v":{"$error":"#VALUE!"}},{"$f":"((AA1050*#REF!)+(#REF!*#REF!)+(#REF!*#REF!))/(#REF!+#REF!+#REF!)","v":{"$error":"#VALUE!"}},{"$f":"((AA1050*#REF!)+(#REF!*#REF!)+(#REF!*#REF!))/(#REF!+#REF!+#REF!)","v":{"$error":"#VALUE!"}},{"$f":"((AA1050*#REF!)+(#REF!*#REF!)+(#REF!*#REF!))/(#REF!+#REF!+#REF!)","v":{"$error":"#VALUE!"}},{"$f":"((AA1050*#REF!)+(#REF!*#REF!)+(#REF!*#REF!))/(#REF!+#REF!+#REF!)","v":{"$error":"#VALUE!"}}]
[null,null,null,null,null,null,null,null,null,null,null,null,null,null,null,null,null,null,null,null,null,1049,{"$error":"#VALUE!"},{"$f":"AVERAGE($W$3:W1051)","v":{"$error":"#VALUE!"}},null,{"$error":"#VALUE!"},{"$error":"#VALUE!"},{"$f":"AVERAGE($AA$3:AA1051)","v":{"$error":"#VALUE!"}},null,null,null,{"$f":"((AA1051*#REF!)+(#REF!*#REF!)+(#REF!*#REF!))/(#REF!+#REF!+#REF!)","v":{"$error":"#VALUE!"}},{"$f":"((AA1051*#REF!)+(#REF!*#REF!)+(#REF!*#REF!))/(#REF!+#REF!+#REF!)","v":{"$error":"#VALUE!"}},{"$f":"((AA1051*#REF!)+(#REF!*#REF!)+(#REF!*#REF!))/(#REF!+#REF!+#REF!)","v":{"$error":"#VALUE!"}},{"$f":"((AA1051*#REF!)+(#REF!*#REF!)+(#REF!*#REF!))/(#REF!+#REF!+#REF!)","v":{"$error":"#VALUE!"}},{"$f":"((AA1051*#REF!)+(#REF!*#REF!)+(#REF!*#REF!))/(#REF!+#REF!+#REF!)","v":{"$error":"#VALUE!"}},{"$f":"((AA1051*#REF!)+(#REF!*#REF!)+(#REF!*#REF!))/(#REF!+#REF!+#REF!)","v":{"$error":"#VALUE!"}},{"$f":"((AA1051*#REF!)+(#REF!*#REF!)+(#REF!*#REF!))/(#REF!+#REF!+#REF!)","v":{"$error":"#VALUE!"}}]
[null,null,null,null,null,null,null,null,null,null,null,null,null,null,null,null,null,null,null,null,null,1050,{"$error":"#VALUE!"},{"$f":"AVERAGE($W$3:W1052)","v":{"$error":"#VALUE!"}},null,{"$error":"#VALUE!"},{"$error":"#VALUE!"},{"$f":"AVERAGE($AA$3:AA1052)","v":{"$error":"#VALUE!"}},null,null,null,{"$f":"((AA1052*#REF!)+(#REF!*#REF!)+(#REF!*#REF!))/(#REF!+#REF!+#REF!)","v":{"$error":"#VALUE!"}},{"$f":"((AA1052*#REF!)+(#REF!*#REF!)+(#REF!*#REF!))/(#REF!+#REF!+#REF!)","v":{"$error":"#VALUE!"}},{"$f":"((AA1052*#REF!)+(#REF!*#REF!)+(#REF!*#REF!))/(#REF!+#REF!+#REF!)","v":{"$error":"#VALUE!"}},{"$f":"((AA1052*#REF!)+(#REF!*#REF!)+(#REF!*#REF!))/(#REF!+#REF!+#REF!)","v":{"$error":"#VALUE!"}},{"$f":"((AA1052*#REF!)+(#REF!*#REF!)+(#REF!*#REF!))/(#REF!+#REF!+#REF!)","v":{"$error":"#VALUE!"}},{"$f":"((AA1052*#REF!)+(#REF!*#REF!)+(#REF!*#REF!))/(#REF!+#REF!+#REF!)","v":{"$error":"#VALUE!"}},{"$f":"((AA1052*#REF!)+(#REF!*#REF!)+(#REF!*#REF!))/(#REF!+#REF!+#REF!)","v":{"$error":"#VALUE!"}}]
[null,null,null,null,null,null,null,null,null,null,null,null,null,null,null,null,null,null,null,null,null,1051,{"$error":"#VALUE!"},{"$f":"AVERAGE($W$3:W1053)","v":{"$error":"#VALUE!"}},null,{"$error":"#VALUE!"},{"$error":"#VALUE!"},{"$f":"AVERAGE($AA$3:AA1053)","v":{"$error":"#VALUE!"}},null,null,null,{"$f":"((AA1053*#REF!)+(#REF!*#REF!)+(#REF!*#REF!))/(#REF!+#REF!+#REF!)","v":{"$error":"#VALUE!"}},{"$f":"((AA1053*#REF!)+(#REF!*#REF!)+(#REF!*#REF!))/(#REF!+#REF!+#REF!)","v":{"$error":"#VALUE!"}},{"$f":"((AA1053*#REF!)+(#REF!*#REF!)+(#REF!*#REF!))/(#REF!+#REF!+#REF!)","v":{"$error":"#VALUE!"}},{"$f":"((AA1053*#REF!)+(#REF!*#REF!)+(#REF!*#REF!))/(#REF!+#REF!+#REF!)","v":{"$error":"#VALUE!"}},{"$f":"((AA1053*#REF!)+(#REF!*#REF!)+(#REF!*#REF!))/(#REF!+#REF!+#REF!)","v":{"$error":"#VALUE!"}},{"$f":"((AA1053*#REF!)+(#REF!*#REF!)+(#REF!*#REF!))/(#REF!+#REF!+#REF!)","v":{"$error":"#VALUE!"}},{"$f":"((AA1053*#REF!)+(#REF!*#REF!)+(#REF!*#REF!))/(#REF!+#REF!+#REF!)","v":{"$error":"#VALUE!"}}]
[null,null,null,null,null,null,null,null,null,null,null,null,null,null,null,null,null,null,null,null,null,1052,{"$error":"#VALUE!"},{"$f":"AVERAGE($W$3:W1054)","v":{"$error":"#VALUE!"}},null,{"$error":"#VALUE!"},{"$error":"#VALUE!"},{"$f":"AVERAGE($AA$3:AA1054)","v":{"$error":"#VALUE!"}},null,null,null,{"$f":"((AA1054*#REF!)+(#REF!*#REF!)+(#REF!*#REF!))/(#REF!+#REF!+#REF!)","v":{"$error":"#VALUE!"}},{"$f":"((AA1054*#REF!)+(#REF!*#REF!)+(#REF!*#REF!))/(#REF!+#REF!+#REF!)","v":{"$error":"#VALUE!"}},{"$f":"((AA1054*#REF!)+(#REF!*#REF!)+(#REF!*#REF!))/(#REF!+#REF!+#REF!)","v":{"$error":"#VALUE!"}},{"$f":"((AA1054*#REF!)+(#REF!*#REF!)+(#REF!*#REF!))/(#REF!+#REF!+#REF!)","v":{"$error":"#VALUE!"}},{"$f":"((AA1054*#REF!)+(#REF!*#REF!)+(#REF!*#REF!))/(#REF!+#REF!+#REF!)","v":{"$error":"#VALUE!"}},{"$f":"((AA1054*#REF!)+(#REF!*#REF!)+(#REF!*#REF!))/(#REF!+#REF!+#REF!)","v":{"$error":"#VALUE!"}},{"$f":"((AA1054*#REF!)+(#REF!*#REF!)+(#REF!*#REF!))/(#REF!+#REF!+#REF!)","v":{"$error":"#VALUE!"}}]
[null,null,null,null,null,null,null,null,null,null,null,null,null,null,null,null,null,null,null,null,null,1053,{"$error":"#VALUE!"},{"$f":"AVERAGE($W$3:W1055)","v":{"$error":"#VALUE!"}},null,{"$error":"#VALUE!"},{"$error":"#VALUE!"},{"$f":"AVERAGE($AA$3:AA1055)","v":{"$error":"#VALUE!"}},null,null,null,{"$f":"((AA1055*#REF!)+(#REF!*#REF!)+(#REF!*#REF!))/(#REF!+#REF!+#REF!)","v":{"$error":"#VALUE!"}},{"$f":"((AA1055*#REF!)+(#REF!*#REF!)+(#REF!*#REF!))/(#REF!+#REF!+#REF!)","v":{"$error":"#VALUE!"}},{"$f":"((AA1055*#REF!)+(#REF!*#REF!)+(#REF!*#REF!))/(#REF!+#REF!+#REF!)","v":{"$error":"#VALUE!"}},{"$f":"((AA1055*#REF!)+(#REF!*#REF!)+(#REF!*#REF!))/(#REF!+#REF!+#REF!)","v":{"$error":"#VALUE!"}},{"$f":"((AA1055*#REF!)+(#REF!*#REF!)+(#REF!*#REF!))/(#REF!+#REF!+#REF!)","v":{"$error":"#VALUE!"}},{"$f":"((AA1055*#REF!)+(#REF!*#REF!)+(#REF!*#REF!))/(#REF!+#REF!+#REF!)","v":{"$error":"#VALUE!"}},{"$f":"((AA1055*#REF!)+(#REF!*#REF!)+(#REF!*#REF!))/(#REF!+#REF!+#REF!)","v":{"$error":"#VALUE!"}}]
[null,null,null,null,null,null,null,null,null,null,null,null,null,null,null,null,null,null,null,null,null,1054,{"$error":"#VALUE!"},{"$f":"AVERAGE($W$3:W1056)","v":{"$error":"#VALUE!"}},null,{"$error":"#VALUE!"},{"$error":"#VALUE!"},{"$f":"AVERAGE($AA$3:AA1056)","v":{"$error":"#VALUE!"}},null,null,null,{"$f":"((AA1056*#REF!)+(#REF!*#REF!)+(#REF!*#REF!))/(#REF!+#REF!+#REF!)","v":{"$error":"#VALUE!"}},{"$f":"((AA1056*#REF!)+(#REF!*#REF!)+(#REF!*#REF!))/(#REF!+#REF!+#REF!)","v":{"$error":"#VALUE!"}},{"$f":"((AA1056*#REF!)+(#REF!*#REF!)+(#REF!*#REF!))/(#REF!+#REF!+#REF!)","v":{"$error":"#VALUE!"}},{"$f":"((AA1056*#REF!)+(#REF!*#REF!)+(#REF!*#REF!))/(#REF!+#REF!+#REF!)","v":{"$error":"#VALUE!"}},{"$f":"((AA1056*#REF!)+(#REF!*#REF!)+(#REF!*#REF!))/(#REF!+#REF!+#REF!)","v":{"$error":"#VALUE!"}},{"$f":"((AA1056*#REF!)+(#REF!*#REF!)+(#REF!*#REF!))/(#REF!+#REF!+#REF!)","v":{"$error":"#VALUE!"}},{"$f":"((AA1056*#REF!)+(#REF!*#REF!)+(#REF!*#REF!))/(#REF!+#REF!+#REF!)","v":{"$error":"#VALUE!"}}]
[null,null,null,null,null,null,null,null,null,null,null,null,null,null,null,null,null,null,null,null,null,1055,{"$error":"#VALUE!"},{"$f":"AVERAGE($W$3:W1057)","v":{"$error":"#VALUE!"}},null,{"$error":"#VALUE!"},{"$error":"#VALUE!"},{"$f":"AVERAGE($AA$3:AA1057)","v":{"$error":"#VALUE!"}},null,null,null,{"$f":"((AA1057*#REF!)+(#REF!*#REF!)+(#REF!*#REF!))/(#REF!+#REF!+#REF!)","v":{"$error":"#VALUE!"}},{"$f":"((AA1057*#REF!)+(#REF!*#REF!)+(#REF!*#REF!))/(#REF!+#REF!+#REF!)","v":{"$error":"#VALUE!"}},{"$f":"((AA1057*#REF!)+(#REF!*#REF!)+(#REF!*#REF!))/(#REF!+#REF!+#REF!)","v":{"$error":"#VALUE!"}},{"$f":"((AA1057*#REF!)+(#REF!*#REF!)+(#REF!*#REF!))/(#REF!+#REF!+#REF!)","v":{"$error":"#VALUE!"}},{"$f":"((AA1057*#REF!)+(#REF!*#REF!)+(#REF!*#REF!))/(#REF!+#REF!+#REF!)","v":{"$error":"#VALUE!"}},{"$f":"((AA1057*#REF!)+(#REF!*#REF!)+(#REF!*#REF!))/(#REF!+#REF!+#REF!)","v":{"$error":"#VALUE!"}},{"$f":"((AA1057*#REF!)+(#REF!*#REF!)+(#REF!*#REF!))/(#REF!+#REF!+#REF!)","v":{"$error":"#VALUE!"}}]
[null,null,null,null,null,null,null,null,null,null,null,null,null,null,null,null,null,null,null,null,null,1056,{"$error":"#VALUE!"},{"$f":"AVERAGE($W$3:W1058)","v":{"$error":"#VALUE!"}},null,{"$error":"#VALUE!"},{"$error":"#VALUE!"},{"$f":"AVERAGE($AA$3:AA1058)","v":{"$error":"#VALUE!"}},null,null,null,{"$f":"((AA1058*#REF!)+(#REF!*#REF!)+(#REF!*#REF!))/(#REF!+#REF!+#REF!)","v":{"$error":"#VALUE!"}},{"$f":"((AA1058*#REF!)+(#REF!*#REF!)+(#REF!*#REF!))/(#REF!+#REF!+#REF!)","v":{"$error":"#VALUE!"}},{"$f":"((AA1058*#REF!)+(#REF!*#REF!)+(#REF!*#REF!))/(#REF!+#REF!+#REF!)","v":{"$error":"#VALUE!"}},{"$f":"((AA1058*#REF!)+(#REF!*#REF!)+(#REF!*#REF!))/(#REF!+#REF!+#REF!)","v":{"$error":"#VALUE!"}},{"$f":"((AA1058*#REF!)+(#REF!*#REF!)+(#REF!*#REF!))/(#REF!+#REF!+#REF!)","v":{"$error":"#VALUE!"}},{"$f":"((AA1058*#REF!)+(#REF!*#REF!)+(#REF!*#REF!))/(#REF!+#REF!+#REF!)","v":{"$error":"#VALUE!"}},{"$f":"((AA1058*#REF!)+(#REF!*#REF!)+(#REF!*#REF!))/(#REF!+#REF!+#REF!)","v":{"$error":"#VALUE!"}}]
[null,null,null,null,null,null,null,null,null,null,null,null,null,null,null,null,null,null,null,null,null,1057,{"$error":"#VALUE!"},{"$f":"AVERAGE($W$3:W1059)","v":{"$error":"#VALUE!"}},null,{"$error":"#VALUE!"},{"$error":"#VALUE!"},{"$f":"AVERAGE($AA$3:AA1059)","v":{"$error":"#VALUE!"}},null,null,null,{"$f":"((AA1059*#REF!)+(#REF!*#REF!)+(#REF!*#REF!))/(#REF!+#REF!+#REF!)","v":{"$error":"#VALUE!"}},{"$f":"((AA1059*#REF!)+(#REF!*#REF!)+(#REF!*#REF!))/(#REF!+#REF!+#REF!)","v":{"$error":"#VALUE!"}},{"$f":"((AA1059*#REF!)+(#REF!*#REF!)+(#REF!*#REF!))/(#REF!+#REF!+#REF!)","v":{"$error":"#VALUE!"}},{"$f":"((AA1059*#REF!)+(#REF!*#REF!)+(#REF!*#REF!))/(#REF!+#REF!+#REF!)","v":{"$error":"#VALUE!"}},{"$f":"((AA1059*#REF!)+(#REF!*#REF!)+(#REF!*#REF!))/(#REF!+#REF!+#REF!)","v":{"$error":"#VALUE!"}},{"$f":"((AA1059*#REF!)+(#REF!*#REF!)+(#REF!*#REF!))/(#REF!+#REF!+#REF!)","v":{"$error":"#VALUE!"}},{"$f":"((AA1059*#REF!)+(#REF!*#REF!)+(#REF!*#REF!))/(#REF!+#REF!+#REF!)","v":{"$error":"#VALUE!"}}]
[null,null,null,null,null,null,null,null,null,null,null,null,null,null,null,null,null,null,null,null,null,1058,{"$error":"#VALUE!"},{"$f":"AVERAGE($W$3:W1060)","v":{"$error":"#VALUE!"}},null,{"$error":"#VALUE!"},{"$error":"#VALUE!"},{"$f":"AVERAGE($AA$3:AA1060)","v":{"$error":"#VALUE!"}},null,null,null,{"$f":"((AA1060*#REF!)+(#REF!*#REF!)+(#REF!*#REF!))/(#REF!+#REF!+#REF!)","v":{"$error":"#VALUE!"}},{"$f":"((AA1060*#REF!)+(#REF!*#REF!)+(#REF!*#REF!))/(#REF!+#REF!+#REF!)","v":{"$error":"#VALUE!"}},{"$f":"((AA1060*#REF!)+(#REF!*#REF!)+(#REF!*#REF!))/(#REF!+#REF!+#REF!)","v":{"$error":"#VALUE!"}},{"$f":"((AA1060*#REF!)+(#REF!*#REF!)+(#REF!*#REF!))/(#REF!+#REF!+#REF!)","v":{"$error":"#VALUE!"}},{"$f":"((AA1060*#REF!)+(#REF!*#REF!)+(#REF!*#REF!))/(#REF!+#REF!+#REF!)","v":{"$error":"#VALUE!"}},{"$f":"((AA1060*#REF!)+(#REF!*#REF!)+(#REF!*#REF!))/(#REF!+#REF!+#REF!)","v":{"$error":"#VALUE!"}},{"$f":"((AA1060*#REF!)+(#REF!*#REF!)+(#REF!*#REF!))/(#REF!+#REF!+#REF!)","v":{"$error":"#VALUE!"}}]
[null,null,null,null,null,null,null,null,null,null,null,null,null,null,null,null,null,null,null,null,null,1059,{"$error":"#VALUE!"},{"$f":"AVERAGE($W$3:W1061)","v":{"$error":"#VALUE!"}},null,{"$error":"#VALUE!"},{"$error":"#VALUE!"},{"$f":"AVERAGE($AA$3:AA1061)","v":{"$error":"#VALUE!"}},null,null,null,{"$f":"((AA1061*#REF!)+(#REF!*#REF!)+(#REF!*#REF!))/(#REF!+#REF!+#REF!)","v":{"$error":"#VALUE!"}},{"$f":"((AA1061*#REF!)+(#REF!*#REF!)+(#REF!*#REF!))/(#REF!+#REF!+#REF!)","v":{"$error":"#VALUE!"}},{"$f":"((AA1061*#REF!)+(#REF!*#REF!)+(#REF!*#REF!))/(#REF!+#REF!+#REF!)","v":{"$error":"#VALUE!"}},{"$f":"((AA1061*#REF!)+(#REF!*#REF!)+(#REF!*#REF!))/(#REF!+#REF!+#REF!)","v":{"$error":"#VALUE!"}},{"$f":"((AA1061*#REF!)+(#REF!*#REF!)+(#REF!*#REF!))/(#REF!+#REF!+#REF!)","v":{"$error":"#VALUE!"}},{"$f":"((AA1061*#REF!)+(#REF!*#REF!)+(#REF!*#REF!))/(#REF!+#REF!+#REF!)","v":{"$error":"#VALUE!"}},{"$f":"((AA1061*#REF!)+(#REF!*#REF!)+(#REF!*#REF!))/(#REF!+#REF!+#REF!)","v":{"$error":"#VALUE!"}}]
[null,null,null,null,null,null,null,null,null,null,null,null,null,null,null,null,null,null,null,null,null,1060,{"$error":"#VALUE!"},{"$f":"AVERAGE($W$3:W1062)","v":{"$error":"#VALUE!"}},null,{"$error":"#VALUE!"},{"$error":"#VALUE!"},{"$f":"AVERAGE($AA$3:AA1062)","v":{"$error":"#VALUE!"}},null,null,null,{"$f":"((AA1062*#REF!)+(#REF!*#REF!)+(#REF!*#REF!))/(#REF!+#REF!+#REF!)","v":{"$error":"#VALUE!"}},{"$f":"((AA1062*#REF!)+(#REF!*#REF!)+(#REF!*#REF!))/(#REF!+#REF!+#REF!)","v":{"$error":"#VALUE!"}},{"$f":"((AA1062*#REF!)+(#REF!*#REF!)+(#REF!*#REF!))/(#REF!+#REF!+#REF!)","v":{"$error":"#VALUE!"}},{"$f":"((AA1062*#REF!)+(#REF!*#REF!)+(#REF!*#REF!))/(#REF!+#REF!+#REF!)","v":{"$error":"#VALUE!"}},{"$f":"((AA1062*#REF!)+(#REF!*#REF!)+(#REF!*#REF!))/(#REF!+#REF!+#REF!)","v":{"$error":"#VALUE!"}},{"$f":"((AA1062*#REF!)+(#REF!*#REF!)+(#REF!*#REF!))/(#REF!+#REF!+#REF!)","v":{"$error":"#VALUE!"}},{"$f":"((AA1062*#REF!)+(#REF!*#REF!)+(#REF!*#REF!))/(#REF!+#REF!+#REF!)","v":{"$error":"#VALUE!"}}]
[null,null,null,null,null,null,null,null,null,null,null,null,null,null,null,null,null,null,null,null,null,1061,{"$error":"#VALUE!"},{"$f":"AVERAGE($W$3:W1063)","v":{"$error":"#VALUE!"}},null,{"$error":"#VALUE!"},{"$error":"#VALUE!"},{"$f":"AVERAGE($AA$3:AA1063)","v":{"$error":"#VALUE!"}},null,null,null,{"$f":"((AA1063*#REF!)+(#REF!*#REF!)+(#REF!*#REF!))/(#REF!+#REF!+#REF!)","v":{"$error":"#VALUE!"}},{"$f":"((AA1063*#REF!)+(#REF!*#REF!)+(#REF!*#REF!))/(#REF!+#REF!+#REF!)","v":{"$error":"#VALUE!"}},{"$f":"((AA1063*#REF!)+(#REF!*#REF!)+(#REF!*#REF!))/(#REF!+#REF!+#REF!)","v":{"$error":"#VALUE!"}},{"$f":"((AA1063*#REF!)+(#REF!*#REF!)+(#REF!*#REF!))/(#REF!+#REF!+#REF!)","v":{"$error":"#VALUE!"}},{"$f":"((AA1063*#REF!)+(#REF!*#REF!)+(#REF!*#REF!))/(#REF!+#REF!+#REF!)","v":{"$error":"#VALUE!"}},{"$f":"((AA1063*#REF!)+(#REF!*#REF!)+(#REF!*#REF!))/(#REF!+#REF!+#REF!)","v":{"$error":"#VALUE!"}},{"$f":"((AA1063*#REF!)+(#REF!*#REF!)+(#REF!*#REF!))/(#REF!+#REF!+#REF!)","v":{"$error":"#VALUE!"}}]
[null,null,null,null,null,null,null,null,null,null,null,null,null,null,null,null,null,null,null,null,null,1062,{"$error":"#VALUE!"},{"$f":"AVERAGE($W$3:W1064)","v":{"$error":"#VALUE!"}},null,{"$error":"#VALUE!"},{"$error":"#VALUE!"},{"$f":"AVERAGE($AA$3:AA1064)","v":{"$error":"#VALUE!"}},null,null,null,{"$f":"((AA1064*#REF!)+(#REF!*#REF!)+(#REF!*#REF!))/(#REF!+#REF!+#REF!)","v":{"$error":"#VALUE!"}},{"$f":"((AA1064*#REF!)+(#REF!*#REF!)+(#REF!*#REF!))/(#REF!+#REF!+#REF!)","v":{"$error":"#VALUE!"}},{"$f":"((AA1064*#REF!)+(#REF!*#REF!)+(#REF!*#REF!))/(#REF!+#REF!+#REF!)","v":{"$error":"#VALUE!"}},{"$f":"((AA1064*#REF!)+(#REF!*#REF!)+(#REF!*#REF!))/(#REF!+#REF!+#REF!)","v":{"$error":"#VALUE!"}},{"$f":"((AA1064*#REF!)+(#REF!*#REF!)+(#REF!*#REF!))/(#REF!+#REF!+#REF!)","v":{"$error":"#VALUE!"}},{"$f":"((AA1064*#REF!)+(#REF!*#REF!)+(#REF!*#REF!))/(#REF!+#REF!+#REF!)","v":{"$error":"#VALUE!"}},{"$f":"((AA1064*#REF!)+(#REF!*#REF!)+(#REF!*#REF!))/(#REF!+#REF!+#REF!)","v":{"$error":"#VALUE!"}}]
[null,null,null,null,null,null,null,null,null,null,null,null,null,null,null,null,null,null,null,null,null,1063,{"$error":"#VALUE!"},{"$f":"AVERAGE($W$3:W1065)","v":{"$error":"#VALUE!"}},null,{"$error":"#VALUE!"},{"$error":"#VALUE!"},{"$f":"AVERAGE($AA$3:AA1065)","v":{"$error":"#VALUE!"}},null,null,null,{"$f":"((AA1065*#REF!)+(#REF!*#REF!)+(#REF!*#REF!))/(#REF!+#REF!+#REF!)","v":{"$error":"#VALUE!"}},{"$f":"((AA1065*#REF!)+(#REF!*#REF!)+(#REF!*#REF!))/(#REF!+#REF!+#REF!)","v":{"$error":"#VALUE!"}},{"$f":"((AA1065*#REF!)+(#REF!*#REF!)+(#REF!*#REF!))/(#REF!+#REF!+#REF!)","v":{"$error":"#VALUE!"}},{"$f":"((AA1065*#REF!)+(#REF!*#REF!)+(#REF!*#REF!))/(#REF!+#REF!+#REF!)","v":{"$error":"#VALUE!"}},{"$f":"((AA1065*#REF!)+(#REF!*#REF!)+(#REF!*#REF!))/(#REF!+#REF!+#REF!)","v":{"$error":"#VALUE!"}},{"$f":"((AA1065*#REF!)+(#REF!*#REF!)+(#REF!*#REF!))/(#REF!+#REF!+#REF!)","v":{"$error":"#VALUE!"}},{"$f":"((AA1065*#REF!)+(#REF!*#REF!)+(#REF!*#REF!))/(#REF!+#REF!+#REF!)","v":{"$error":"#VALUE!"}}]
[null,null,null,null,null,null,null,null,null,null,null,null,null,null,null,null,null,null,null,null,null,1064,{"$error":"#VALUE!"},{"$f":"AVERAGE($W$3:W1066)","v":{"$error":"#VALUE!"}},null,{"$error":"#VALUE!"},{"$error":"#VALUE!"},{"$f":"AVERAGE($AA$3:AA1066)","v":{"$error":"#VALUE!"}},null,null,null,{"$f":"((AA1066*#REF!)+(#REF!*#REF!)+(#REF!*#REF!))/(#REF!+#REF!+#REF!)","v":{"$error":"#VALUE!"}},{"$f":"((AA1066*#REF!)+(#REF!*#REF!)+(#REF!*#REF!))/(#REF!+#REF!+#REF!)","v":{"$error":"#VALUE!"}},{"$f":"((AA1066*#REF!)+(#REF!*#REF!)+(#REF!*#REF!))/(#REF!+#REF!+#REF!)","v":{"$error":"#VALUE!"}},{"$f":"((AA1066*#REF!)+(#REF!*#REF!)+(#REF!*#REF!))/(#REF!+#REF!+#REF!)","v":{"$error":"#VALUE!"}},{"$f":"((AA1066*#REF!)+(#REF!*#REF!)+(#REF!*#REF!))/(#REF!+#REF!+#REF!)","v":{"$error":"#VALUE!"}},{"$f":"((AA1066*#REF!)+(#REF!*#REF!)+(#REF!*#REF!))/(#REF!+#REF!+#REF!)","v":{"$error":"#VALUE!"}},{"$f":"((AA1066*#REF!)+(#REF!*#REF!)+(#REF!*#REF!))/(#REF!+#REF!+#REF!)","v":{"$error":"#VALUE!"}}]
[null,null,null,null,null,null,null,null,null,null,null,null,null,null,null,null,null,null,null,null,null,1065,{"$error":"#VALUE!"},{"$f":"AVERAGE($W$3:W1067)","v":{"$error":"#VALUE!"}},null,{"$error":"#VALUE!"},{"$error":"#VALUE!"},{"$f":"AVERAGE($AA$3:AA1067)","v":{"$error":"#VALUE!"}},null,null,null,{"$f":"((AA1067*#REF!)+(#REF!*#REF!)+(#REF!*#REF!))/(#REF!+#REF!+#REF!)","v":{"$error":"#VALUE!"}},{"$f":"((AA1067*#REF!)+(#REF!*#REF!)+(#REF!*#REF!))/(#REF!+#REF!+#REF!)","v":{"$error":"#VALUE!"}},{"$f":"((AA1067*#REF!)+(#REF!*#REF!)+(#REF!*#REF!))/(#REF!+#REF!+#REF!)","v":{"$error":"#VALUE!"}},{"$f":"((AA1067*#REF!)+(#REF!*#REF!)+(#REF!*#REF!))/(#REF!+#REF!+#REF!)","v":{"$error":"#VALUE!"}},{"$f":"((AA1067*#REF!)+(#REF!*#REF!)+(#REF!*#REF!))/(#REF!+#REF!+#REF!)","v":{"$error":"#VALUE!"}},{"$f":"((AA1067*#REF!)+(#REF!*#REF!)+(#REF!*#REF!))/(#REF!+#REF!+#REF!)","v":{"$error":"#VALUE!"}},{"$f":"((AA1067*#REF!)+(#REF!*#REF!)+(#REF!*#REF!))/(#REF!+#REF!+#REF!)","v":{"$error":"#VALUE!"}}]
[null,null,null,null,null,null,null,null,null,null,null,null,null,null,null,null,null,null,null,null,null,1066,{"$error":"#VALUE!"},{"$f":"AVERAGE($W$3:W1068)","v":{"$error":"#VALUE!"}},null,{"$error":"#VALUE!"},{"$error":"#VALUE!"},{"$f":"AVERAGE($AA$3:AA1068)","v":{"$error":"#VALUE!"}},null,null,null,{"$f":"((AA1068*#REF!)+(#REF!*#REF!)+(#REF!*#REF!))/(#REF!+#REF!+#REF!)","v":{"$error":"#VALUE!"}},{"$f":"((AA1068*#REF!)+(#REF!*#REF!)+(#REF!*#REF!))/(#REF!+#REF!+#REF!)","v":{"$error":"#VALUE!"}},{"$f":"((AA1068*#REF!)+(#REF!*#REF!)+(#REF!*#REF!))/(#REF!+#REF!+#REF!)","v":{"$error":"#VALUE!"}},{"$f":"((AA1068*#REF!)+(#REF!*#REF!)+(#REF!*#REF!))/(#REF!+#REF!+#REF!)","v":{"$error":"#VALUE!"}},{"$f":"((AA1068*#REF!)+(#REF!*#REF!)+(#REF!*#REF!))/(#REF!+#REF!+#REF!)","v":{"$error":"#VALUE!"}},{"$f":"((AA1068*#REF!)+(#REF!*#REF!)+(#REF!*#REF!))/(#REF!+#REF!+#REF!)","v":{"$error":"#VALUE!"}},{"$f":"((AA1068*#REF!)+(#REF!*#REF!)+(#REF!*#REF!))/(#REF!+#REF!+#REF!)","v":{"$error":"#VALUE!"}}]
[null,null,null,null,null,null,null,null,null,null,null,null,null,null,null,null,null,null,null,null,null,1067,{"$error":"#VALUE!"},{"$f":"AVERAGE($W$3:W1069)","v":{"$error":"#VALUE!"}},null,{"$error":"#VALUE!"},{"$error":"#VALUE!"},{"$f":"AVERAGE($AA$3:AA1069)","v":{"$error":"#VALUE!"}},null,null,null,{"$f":"((AA1069*#REF!)+(#REF!*#REF!)+(#REF!*#REF!))/(#REF!+#REF!+#REF!)","v":{"$error":"#VALUE!"}},{"$f":"((AA1069*#REF!)+(#REF!*#REF!)+(#REF!*#REF!))/(#REF!+#REF!+#REF!)","v":{"$error":"#VALUE!"}},{"$f":"((AA1069*#REF!)+(#REF!*#REF!)+(#REF!*#REF!))/(#REF!+#REF!+#REF!)","v":{"$error":"#VALUE!"}},{"$f":"((AA1069*#REF!)+(#REF!*#REF!)+(#REF!*#REF!))/(#REF!+#REF!+#REF!)","v":{"$error":"#VALUE!"}},{"$f":"((AA1069*#REF!)+(#REF!*#REF!)+(#REF!*#REF!))/(#REF!+#REF!+#REF!)","v":{"$error":"#VALUE!"}},{"$f":"((AA1069*#REF!)+(#REF!*#REF!)+(#REF!*#REF!))/(#REF!+#REF!+#REF!)","v":{"$error":"#VALUE!"}},{"$f":"((AA1069*#REF!)+(#REF!*#REF!)+(#REF!*#REF!))/(#REF!+#REF!+#REF!)","v":{"$error":"#VALUE!"}}]
[null,null,null,null,null,null,null,null,null,null,null,null,null,null,null,null,null,null,null,null,null,1068,{"$error":"#VALUE!"},{"$f":"AVERAGE($W$3:W1070)","v":{"$error":"#VALUE!"}},null,{"$error":"#VALUE!"},{"$error":"#VALUE!"},{"$f":"AVERAGE($AA$3:AA1070)","v":{"$error":"#VALUE!"}},null,null,null,{"$f":"((AA1070*#REF!)+(#REF!*#REF!)+(#REF!*#REF!))/(#REF!+#REF!+#REF!)","v":{"$error":"#VALUE!"}},{"$f":"((AA1070*#REF!)+(#REF!*#REF!)+(#REF!*#REF!))/(#REF!+#REF!+#REF!)","v":{"$error":"#VALUE!"}},{"$f":"((AA1070*#REF!)+(#REF!*#REF!)+(#REF!*#REF!))/(#REF!+#REF!+#REF!)","v":{"$error":"#VALUE!"}},{"$f":"((AA1070*#REF!)+(#REF!*#REF!)+(#REF!*#REF!))/(#REF!+#REF!+#REF!)","v":{"$error":"#VALUE!"}},{"$f":"((AA1070*#REF!)+(#REF!*#REF!)+(#REF!*#REF!))/(#REF!+#REF!+#REF!)","v":{"$error":"#VALUE!"}},{"$f":"((AA1070*#REF!)+(#REF!*#REF!)+(#REF!*#REF!))/(#REF!+#REF!+#REF!)","v":{"$error":"#VALUE!"}},{"$f":"((AA1070*#REF!)+(#REF!*#REF!)+(#REF!*#REF!))/(#REF!+#REF!+#REF!)","v":{"$error":"#VALUE!"}}]
[null,null,null,null,null,null,null,null,null,null,null,null,null,null,null,null,null,null,null,null,null,1069,{"$error":"#VALUE!"},{"$f":"AVERAGE($W$3:W1071)","v":{"$error":"#VALUE!"}},null,{"$error":"#VALUE!"},{"$error":"#VALUE!"},{"$f":"AVERAGE($AA$3:AA1071)","v":{"$error":"#VALUE!"}},null,null,null,{"$f":"((AA1071*#REF!)+(#REF!*#REF!)+(#REF!*#REF!))/(#REF!+#REF!+#REF!)","v":{"$error":"#VALUE!"}},{"$f":"((AA1071*#REF!)+(#REF!*#REF!)+(#REF!*#REF!))/(#REF!+#REF!+#REF!)","v":{"$error":"#VALUE!"}},{"$f":"((AA1071*#REF!)+(#REF!*#REF!)+(#REF!*#REF!))/(#REF!+#REF!+#REF!)","v":{"$error":"#VALUE!"}},{"$f":"((AA1071*#REF!)+(#REF!*#REF!)+(#REF!*#REF!))/(#REF!+#REF!+#REF!)","v":{"$error":"#VALUE!"}},{"$f":"((AA1071*#REF!)+(#REF!*#REF!)+(#REF!*#REF!))/(#REF!+#REF!+#REF!)","v":{"$error":"#VALUE!"}},{"$f":"((AA1071*#REF!)+(#REF!*#REF!)+(#REF!*#REF!))/(#REF!+#REF!+#REF!)","v":{"$error":"#VALUE!"}},{"$f":"((AA1071*#REF!)+(#REF!*#REF!)+(#REF!*#REF!))/(#REF!+#REF!+#REF!)","v":{"$error":"#VALUE!"}}]
[null,null,null,null,null,null,null,null,null,null,null,null,null,null,null,null,null,null,null,null,null,1070,{"$error":"#VALUE!"},{"$f":"AVERAGE($W$3:W1072)","v":{"$error":"#VALUE!"}},null,{"$error":"#VALUE!"},{"$error":"#VALUE!"},{"$f":"AVERAGE($AA$3:AA1072)","v":{"$error":"#VALUE!"}},null,null,null,{"$f":"((AA1072*#REF!)+(#REF!*#REF!)+(#REF!*#REF!))/(#REF!+#REF!+#REF!)","v":{"$error":"#VALUE!"}},{"$f":"((AA1072*#REF!)+(#REF!*#REF!)+(#REF!*#REF!))/(#REF!+#REF!+#REF!)","v":{"$error":"#VALUE!"}},{"$f":"((AA1072*#REF!)+(#REF!*#REF!)+(#REF!*#REF!))/(#REF!+#REF!+#REF!)","v":{"$error":"#VALUE!"}},{"$f":"((AA1072*#REF!)+(#REF!*#REF!)+(#REF!*#REF!))/(#REF!+#REF!+#REF!)","v":{"$error":"#VALUE!"}},{"$f":"((AA1072*#REF!)+(#REF!*#REF!)+(#REF!*#REF!))/(#REF!+#REF!+#REF!)","v":{"$error":"#VALUE!"}},{"$f":"((AA1072*#REF!)+(#REF!*#REF!)+(#REF!*#REF!))/(#REF!+#REF!+#REF!)","v":{"$error":"#VALUE!"}},{"$f":"((AA1072*#REF!)+(#REF!*#REF!)+(#REF!*#REF!))/(#REF!+#REF!+#REF!)","v":{"$error":"#VALUE!"}}]
[null,null,null,null,null,null,null,null,null,null,null,null,null,null,null,null,null,null,null,null,null,1071,{"$error":"#VALUE!"},{"$f":"AVERAGE($W$3:W1073)","v":{"$error":"#VALUE!"}},null,{"$error":"#VALUE!"},{"$error":"#VALUE!"},{"$f":"AVERAGE($AA$3:AA1073)","v":{"$error":"#VALUE!"}},null,null,null,{"$f":"((AA1073*#REF!)+(#REF!*#REF!)+(#REF!*#REF!))/(#REF!+#REF!+#REF!)","v":{"$error":"#VALUE!"}},{"$f":"((AA1073*#REF!)+(#REF!*#REF!)+(#REF!*#REF!))/(#REF!+#REF!+#REF!)","v":{"$error":"#VALUE!"}},{"$f":"((AA1073*#REF!)+(#REF!*#REF!)+(#REF!*#REF!))/(#REF!+#REF!+#REF!)","v":{"$error":"#VALUE!"}},{"$f":"((AA1073*#REF!)+(#REF!*#REF!)+(#REF!*#REF!))/(#REF!+#REF!+#REF!)","v":{"$error":"#VALUE!"}},{"$f":"((AA1073*#REF!)+(#REF!*#REF!)+(#REF!*#REF!))/(#REF!+#REF!+#REF!)","v":{"$error":"#VALUE!"}},{"$f":"((AA1073*#REF!)+(#REF!*#REF!)+(#REF!*#REF!))/(#REF!+#REF!+#REF!)","v":{"$error":"#VALUE!"}},{"$f":"((AA1073*#REF!)+(#REF!*#REF!)+(#REF!*#REF!))/(#REF!+#REF!+#REF!)","v":{"$error":"#VALUE!"}}]
[null,null,null,null,null,null,null,null,null,null,null,null,null,null,null,null,null,null,null,null,null,1072,{"$error":"#VALUE!"},{"$f":"AVERAGE($W$3:W1074)","v":{"$error":"#VALUE!"}},null,{"$error":"#VALUE!"},{"$error":"#VALUE!"},{"$f":"AVERAGE($AA$3:AA1074)","v":{"$error":"#VALUE!"}},null,null,null,{"$f":"((AA1074*#REF!)+(#REF!*#REF!)+(#REF!*#REF!))/(#REF!+#REF!+#REF!)","v":{"$error":"#VALUE!"}},{"$f":"((AA1074*#REF!)+(#REF!*#REF!)+(#REF!*#REF!))/(#REF!+#REF!+#REF!)","v":{"$error":"#VALUE!"}},{"$f":"((AA1074*#REF!)+(#REF!*#REF!)+(#REF!*#REF!))/(#REF!+#REF!+#REF!)","v":{"$error":"#VALUE!"}},{"$f":"((AA1074*#REF!)+(#REF!*#REF!)+(#REF!*#REF!))/(#REF!+#REF!+#REF!)","v":{"$error":"#VALUE!"}},{"$f":"((AA1074*#REF!)+(#REF!*#REF!)+(#REF!*#REF!))/(#REF!+#REF!+#REF!)","v":{"$error":"#VALUE!"}},{"$f":"((AA1074*#REF!)+(#REF!*#REF!)+(#REF!*#REF!))/(#REF!+#REF!+#REF!)","v":{"$error":"#VALUE!"}},{"$f":"((AA1074*#REF!)+(#REF!*#REF!)+(#REF!*#REF!))/(#REF!+#REF!+#REF!)","v":{"$error":"#VALUE!"}}]
[null,null,null,null,null,null,null,null,null,null,null,null,null,null,null,null,null,null,null,null,null,1073,{"$error":"#VALUE!"},{"$f":"AVERAGE($W$3:W1075)","v":{"$error":"#VALUE!"}},null,{"$error":"#VALUE!"},{"$error":"#VALUE!"},{"$f":"AVERAGE($AA$3:AA1075)","v":{"$error":"#VALUE!"}},null,null,null,{"$f":"((AA1075*#REF!)+(#REF!*#REF!)+(#REF!*#REF!))/(#REF!+#REF!+#REF!)","v":{"$error":"#VALUE!"}},{"$f":"((AA1075*#REF!)+(#REF!*#REF!)+(#REF!*#REF!))/(#REF!+#REF!+#REF!)","v":{"$error":"#VALUE!"}},{"$f":"((AA1075*#REF!)+(#REF!*#REF!)+(#REF!*#REF!))/(#REF!+#REF!+#REF!)","v":{"$error":"#VALUE!"}},{"$f":"((AA1075*#REF!)+(#REF!*#REF!)+(#REF!*#REF!))/(#REF!+#REF!+#REF!)","v":{"$error":"#VALUE!"}},{"$f":"((AA1075*#REF!)+(#REF!*#REF!)+(#REF!*#REF!))/(#REF!+#REF!+#REF!)","v":{"$error":"#VALUE!"}},{"$f":"((AA1075*#REF!)+(#REF!*#REF!)+(#REF!*#REF!))/(#REF!+#REF!+#REF!)","v":{"$error":"#VALUE!"}},{"$f":"((AA1075*#REF!)+(#REF!*#REF!)+(#REF!*#REF!))/(#REF!+#REF!+#REF!)","v":{"$error":"#VALUE!"}}]
[null,null,null,null,null,null,null,null,null,null,null,null,null,null,null,null,null,null,null,null,null,1074,{"$error":"#VALUE!"},{"$f":"AVERAGE($W$3:W1076)","v":{"$error":"#VALUE!"}},null,{"$error":"#VALUE!"},{"$error":"#VALUE!"},{"$f":"AVERAGE($AA$3:AA1076)","v":{"$error":"#VALUE!"}},null,null,null,{"$f":"((AA1076*#REF!)+(#REF!*#REF!)+(#REF!*#REF!))/(#REF!+#REF!+#REF!)","v":{"$error":"#VALUE!"}},{"$f":"((AA1076*#REF!)+(#REF!*#REF!)+(#REF!*#REF!))/(#REF!+#REF!+#REF!)","v":{"$error":"#VALUE!"}},{"$f":"((AA1076*#REF!)+(#REF!*#REF!)+(#REF!*#REF!))/(#REF!+#REF!+#REF!)","v":{"$error":"#VALUE!"}},{"$f":"((AA1076*#REF!)+(#REF!*#REF!)+(#REF!*#REF!))/(#REF!+#REF!+#REF!)","v":{"$error":"#VALUE!"}},{"$f":"((AA1076*#REF!)+(#REF!*#REF!)+(#REF!*#REF!))/(#REF!+#REF!+#REF!)","v":{"$error":"#VALUE!"}},{"$f":"((AA1076*#REF!)+(#REF!*#REF!)+(#REF!*#REF!))/(#REF!+#REF!+#REF!)","v":{"$error":"#VALUE!"}},{"$f":"((AA1076*#REF!)+(#REF!*#REF!)+(#REF!*#REF!))/(#REF!+#REF!+#REF!)","v":{"$error":"#VALUE!"}}]
[null,null,null,null,null,null,null,null,null,null,null,null,null,null,null,null,null,null,null,null,null,1075,{"$error":"#VALUE!"},{"$f":"AVERAGE($W$3:W1077)","v":{"$error":"#VALUE!"}},null,{"$error":"#VALUE!"},{"$error":"#VALUE!"},{"$f":"AVERAGE($AA$3:AA1077)","v":{"$error":"#VALUE!"}},null,null,null,{"$f":"((AA1077*#REF!)+(#REF!*#REF!)+(#REF!*#REF!))/(#REF!+#REF!+#REF!)","v":{"$error":"#VALUE!"}},{"$f":"((AA1077*#REF!)+(#REF!*#REF!)+(#REF!*#REF!))/(#REF!+#REF!+#REF!)","v":{"$error":"#VALUE!"}},{"$f":"((AA1077*#REF!)+(#REF!*#REF!)+(#REF!*#REF!))/(#REF!+#REF!+#REF!)","v":{"$error":"#VALUE!"}},{"$f":"((AA1077*#REF!)+(#REF!*#REF!)+(#REF!*#REF!))/(#REF!+#REF!+#REF!)","v":{"$error":"#VALUE!"}},{"$f":"((AA1077*#REF!)+(#REF!*#REF!)+(#REF!*#REF!))/(#REF!+#REF!+#REF!)","v":{"$error":"#VALUE!"}},{"$f":"((AA1077*#REF!)+(#REF!*#REF!)+(#REF!*#REF!))/(#REF!+#REF!+#REF!)","v":{"$error":"#VALUE!"}},{"$f":"((AA1077*#REF!)+(#REF!*#REF!)+(#REF!*#REF!))/(#REF!+#REF!+#REF!)","v":{"$error":"#VALUE!"}}]
[null,null,null,null,null,null,null,null,null,null,null,null,null,null,null,null,null,null,null,null,null,1076,{"$error":"#VALUE!"},{"$f":"AVERAGE($W$3:W1078)","v":{"$error":"#VALUE!"}},null,{"$error":"#VALUE!"},{"$error":"#VALUE!"},{"$f":"AVERAGE($AA$3:AA1078)","v":{"$error":"#VALUE!"}},null,null,null,{"$f":"((AA1078*#REF!)+(#REF!*#REF!)+(#REF!*#REF!))/(#REF!+#REF!+#REF!)","v":{"$error":"#VALUE!"}},{"$f":"((AA1078*#REF!)+(#REF!*#REF!)+(#REF!*#REF!))/(#REF!+#REF!+#REF!)","v":{"$error":"#VALUE!"}},{"$f":"((AA1078*#REF!)+(#REF!*#REF!)+(#REF!*#REF!))/(#REF!+#REF!+#REF!)","v":{"$error":"#VALUE!"}},{"$f":"((AA1078*#REF!)+(#REF!*#REF!)+(#REF!*#REF!))/(#REF!+#REF!+#REF!)","v":{"$error":"#VALUE!"}},{"$f":"((AA1078*#REF!)+(#REF!*#REF!)+(#REF!*#REF!))/(#REF!+#REF!+#REF!)","v":{"$error":"#VALUE!"}},{"$f":"((AA1078*#REF!)+(#REF!*#REF!)+(#REF!*#REF!))/(#REF!+#REF!+#REF!)","v":{"$error":"#VALUE!"}},{"$f":"((AA1078*#REF!)+(#REF!*#REF!)+(#REF!*#REF!))/(#REF!+#REF!+#REF!)","v":{"$error":"#VALUE!"}}]
[null,null,null,null,null,null,null,null,null,null,null,null,null,null,null,null,null,null,null,null,null,1077,{"$error":"#VALUE!"},{"$f":"AVERAGE($W$3:W1079)","v":{"$error":"#VALUE!"}},null,{"$error":"#VALUE!"},{"$error":"#VALUE!"},{"$f":"AVERAGE($AA$3:AA1079)","v":{"$error":"#VALUE!"}},null,null,null,{"$f":"((AA1079*#REF!)+(#REF!*#REF!)+(#REF!*#REF!))/(#REF!+#REF!+#REF!)","v":{"$error":"#VALUE!"}},{"$f":"((AA1079*#REF!)+(#REF!*#REF!)+(#REF!*#REF!))/(#REF!+#REF!+#REF!)","v":{"$error":"#VALUE!"}},{"$f":"((AA1079*#REF!)+(#REF!*#REF!)+(#REF!*#REF!))/(#REF!+#REF!+#REF!)","v":{"$error":"#VALUE!"}},{"$f":"((AA1079*#REF!)+(#REF!*#REF!)+(#REF!*#REF!))/(#REF!+#REF!+#REF!)","v":{"$error":"#VALUE!"}},{"$f":"((AA1079*#REF!)+(#REF!*#REF!)+(#REF!*#REF!))/(#REF!+#REF!+#REF!)","v":{"$error":"#VALUE!"}},{"$f":"((AA1079*#REF!)+(#REF!*#REF!)+(#REF!*#REF!))/(#REF!+#REF!+#REF!)","v":{"$error":"#VALUE!"}},{"$f":"((AA1079*#REF!)+(#REF!*#REF!)+(#REF!*#REF!))/(#REF!+#REF!+#REF!)","v":{"$error":"#VALUE!"}}]
[null,null,null,null,null,null,null,null,null,null,null,null,null,null,null,null,null,null,null,null,null,1078,{"$error":"#VALUE!"},{"$f":"AVERAGE($W$3:W1080)","v":{"$error":"#VALUE!"}},null,{"$error":"#VALUE!"},{"$error":"#VALUE!"},{"$f":"AVERAGE($AA$3:AA1080)","v":{"$error":"#VALUE!"}},null,null,null,{"$f":"((AA1080*#REF!)+(#REF!*#REF!)+(#REF!*#REF!))/(#REF!+#REF!+#REF!)","v":{"$error":"#VALUE!"}},{"$f":"((AA1080*#REF!)+(#REF!*#REF!)+(#REF!*#REF!))/(#REF!+#REF!+#REF!)","v":{"$error":"#VALUE!"}},{"$f":"((AA1080*#REF!)+(#REF!*#REF!)+(#REF!*#REF!))/(#REF!+#REF!+#REF!)","v":{"$error":"#VALUE!"}},{"$f":"((AA1080*#REF!)+(#REF!*#REF!)+(#REF!*#REF!))/(#REF!+#REF!+#REF!)","v":{"$error":"#VALUE!"}},{"$f":"((AA1080*#REF!)+(#REF!*#REF!)+(#REF!*#REF!))/(#REF!+#REF!+#REF!)","v":{"$error":"#VALUE!"}},{"$f":"((AA1080*#REF!)+(#REF!*#REF!)+(#REF!*#REF!))/(#REF!+#REF!+#REF!)","v":{"$error":"#VALUE!"}},{"$f":"((AA1080*#REF!)+(#REF!*#REF!)+(#REF!*#REF!))/(#REF!+#REF!+#REF!)","v":{"$error":"#VALUE!"}}]
[null,null,null,null,null,null,null,null,null,null,null,null,null,null,null,null,null,null,null,null,null,1079,{"$error":"#VALUE!"},{"$f":"AVERAGE($W$3:W1081)","v":{"$error":"#VALUE!"}},null,{"$error":"#VALUE!"},{"$error":"#VALUE!"},{"$f":"AVERAGE($AA$3:AA1081)","v":{"$error":"#VALUE!"}},null,null,null,{"$f":"((AA1081*#REF!)+(#REF!*#REF!)+(#REF!*#REF!))/(#REF!+#REF!+#REF!)","v":{"$error":"#VALUE!"}},{"$f":"((AA1081*#REF!)+(#REF!*#REF!)+(#REF!*#REF!))/(#REF!+#REF!+#REF!)","v":{"$error":"#VALUE!"}},{"$f":"((AA1081*#REF!)+(#REF!*#REF!)+(#REF!*#REF!))/(#REF!+#REF!+#REF!)","v":{"$error":"#VALUE!"}},{"$f":"((AA1081*#REF!)+(#REF!*#REF!)+(#REF!*#REF!))/(#REF!+#REF!+#REF!)","v":{"$error":"#VALUE!"}},{"$f":"((AA1081*#REF!)+(#REF!*#REF!)+(#REF!*#REF!))/(#REF!+#REF!+#REF!)","v":{"$error":"#VALUE!"}},{"$f":"((AA1081*#REF!)+(#REF!*#REF!)+(#REF!*#REF!))/(#REF!+#REF!+#REF!)","v":{"$error":"#VALUE!"}},{"$f":"((AA1081*#REF!)+(#REF!*#REF!)+(#REF!*#REF!))/(#REF!+#REF!+#REF!)","v":{"$error":"#VALUE!"}}]
[null,null,null,null,null,null,null,null,null,null,null,null,null,null,null,null,null,null,null,null,null,1080,{"$error":"#VALUE!"},{"$f":"AVERAGE($W$3:W1082)","v":{"$error":"#VALUE!"}},null,{"$error":"#VALUE!"},{"$error":"#VALUE!"},{"$f":"AVERAGE($AA$3:AA1082)","v":{"$error":"#VALUE!"}},null,null,null,{"$f":"((AA1082*#REF!)+(#REF!*#REF!)+(#REF!*#REF!))/(#REF!+#REF!+#REF!)","v":{"$error":"#VALUE!"}},{"$f":"((AA1082*#REF!)+(#REF!*#REF!)+(#REF!*#REF!))/(#REF!+#REF!+#REF!)","v":{"$error":"#VALUE!"}},{"$f":"((AA1082*#REF!)+(#REF!*#REF!)+(#REF!*#REF!))/(#REF!+#REF!+#REF!)","v":{"$error":"#VALUE!"}},{"$f":"((AA1082*#REF!)+(#REF!*#REF!)+(#REF!*#REF!))/(#REF!+#REF!+#REF!)","v":{"$error":"#VALUE!"}},{"$f":"((AA1082*#REF!)+(#REF!*#REF!)+(#REF!*#REF!))/(#REF!+#REF!+#REF!)","v":{"$error":"#VALUE!"}},{"$f":"((AA1082*#REF!)+(#REF!*#REF!)+(#REF!*#REF!))/(#REF!+#REF!+#REF!)","v":{"$error":"#VALUE!"}},{"$f":"((AA1082*#REF!)+(#REF!*#REF!)+(#REF!*#REF!))/(#REF!+#REF!+#REF!)","v":{"$error":"#VALUE!"}}]
[null,null,null,null,null,null,null,null,null,null,null,null,null,null,null,null,null,null,null,null,null,1081,{"$error":"#VALUE!"},{"$f":"AVERAGE($W$3:W1083)","v":{"$error":"#VALUE!"}},null,{"$error":"#VALUE!"},{"$error":"#VALUE!"},{"$f":"AVERAGE($AA$3:AA1083)","v":{"$error":"#VALUE!"}},null,null,null,{"$f":"((AA1083*#REF!)+(#REF!*#REF!)+(#REF!*#REF!))/(#REF!+#REF!+#REF!)","v":{"$error":"#VALUE!"}},{"$f":"((AA1083*#REF!)+(#REF!*#REF!)+(#REF!*#REF!))/(#REF!+#REF!+#REF!)","v":{"$error":"#VALUE!"}},{"$f":"((AA1083*#REF!)+(#REF!*#REF!)+(#REF!*#REF!))/(#REF!+#REF!+#REF!)","v":{"$error":"#VALUE!"}},{"$f":"((AA1083*#REF!)+(#REF!*#REF!)+(#REF!*#REF!))/(#REF!+#REF!+#REF!)","v":{"$error":"#VALUE!"}},{"$f":"((AA1083*#REF!)+(#REF!*#REF!)+(#REF!*#REF!))/(#REF!+#REF!+#REF!)","v":{"$error":"#VALUE!"}},{"$f":"((AA1083*#REF!)+(#REF!*#REF!)+(#REF!*#REF!))/(#REF!+#REF!+#REF!)","v":{"$error":"#VALUE!"}},{"$f":"((AA1083*#REF!)+(#REF!*#REF!)+(#REF!*#REF!))/(#REF!+#REF!+#REF!)","v":{"$error":"#VALUE!"}}]
[null,null,null,null,null,null,null,null,null,null,null,null,null,null,null,null,null,null,null,null,null,1082,{"$error":"#VALUE!"},{"$f":"AVERAGE($W$3:W1084)","v":{"$error":"#VALUE!"}},null,{"$error":"#VALUE!"},{"$error":"#VALUE!"},{"$f":"AVERAGE($AA$3:AA1084)","v":{"$error":"#VALUE!"}},null,null,null,{"$f":"((AA1084*#REF!)+(#REF!*#REF!)+(#REF!*#REF!))/(#REF!+#REF!+#REF!)","v":{"$error":"#VALUE!"}},{"$f":"((AA1084*#REF!)+(#REF!*#REF!)+(#REF!*#REF!))/(#REF!+#REF!+#REF!)","v":{"$error":"#VALUE!"}},{"$f":"((AA1084*#REF!)+(#REF!*#REF!)+(#REF!*#REF!))/(#REF!+#REF!+#REF!)","v":{"$error":"#VALUE!"}},{"$f":"((AA1084*#REF!)+(#REF!*#REF!)+(#REF!*#REF!))/(#REF!+#REF!+#REF!)","v":{"$error":"#VALUE!"}},{"$f":"((AA1084*#REF!)+(#REF!*#REF!)+(#REF!*#REF!))/(#REF!+#REF!+#REF!)","v":{"$error":"#VALUE!"}},{"$f":"((AA1084*#REF!)+(#REF!*#REF!)+(#REF!*#REF!))/(#REF!+#REF!+#REF!)","v":{"$error":"#VALUE!"}},{"$f":"((AA1084*#REF!)+(#REF!*#REF!)+(#REF!*#REF!))/(#REF!+#REF!+#REF!)","v":{"$error":"#VALUE!"}}]
[null,null,null,null,null,null,null,null,null,null,null,null,null,null,null,null,null,null,null,null,null,1083,{"$error":"#VALUE!"},{"$f":"AVERAGE($W$3:W1085)","v":{"$error":"#VALUE!"}},null,{"$error":"#VALUE!"},{"$error":"#VALUE!"},{"$f":"AVERAGE($AA$3:AA1085)","v":{"$error":"#VALUE!"}},null,null,null,{"$f":"((AA1085*#REF!)+(#REF!*#REF!)+(#REF!*#REF!))/(#REF!+#REF!+#REF!)","v":{"$error":"#VALUE!"}},{"$f":"((AA1085*#REF!)+(#REF!*#REF!)+(#REF!*#REF!))/(#REF!+#REF!+#REF!)","v":{"$error":"#VALUE!"}},{"$f":"((AA1085*#REF!)+(#REF!*#REF!)+(#REF!*#REF!))/(#REF!+#REF!+#REF!)","v":{"$error":"#VALUE!"}},{"$f":"((AA1085*#REF!)+(#REF!*#REF!)+(#REF!*#REF!))/(#REF!+#REF!+#REF!)","v":{"$error":"#VALUE!"}},{"$f":"((AA1085*#REF!)+(#REF!*#REF!)+(#REF!*#REF!))/(#REF!+#REF!+#REF!)","v":{"$error":"#VALUE!"}},{"$f":"((AA1085*#REF!)+(#REF!*#REF!)+(#REF!*#REF!))/(#REF!+#REF!+#REF!)","v":{"$error":"#VALUE!"}},{"$f":"((AA1085*#REF!)+(#REF!*#REF!)+(#REF!*#REF!))/(#REF!+#REF!+#REF!)","v":{"$error":"#VALUE!"}}]
[null,null,null,null,null,null,null,null,null,null,null,null,null,null,null,null,null,null,null,null,null,1084,{"$f":"IF(($M$7*LN(V1086))+$M$8+$M$10>0,($M$7*LN(V1086))+$M$8+$M$10,0)","v":{"$error":"#VALUE!"}},{"$f":"AVERAGE($W$3:W1086)","v":{"$error":"#VALUE!"}},null,{"$error":"#VALUE!"},{"$error":"#VALUE!"},{"$f":"AVERAGE($AA$3:AA1086)","v":{"$error":"#VALUE!"}},null,null,null,{"$f":"((AA1086*#REF!)+(#REF!*#REF!)+(#REF!*#REF!))/(#REF!+#REF!+#REF!)","v":{"$error":"#VALUE!"}},{"$f":"((AA1086*#REF!)+(#REF!*#REF!)+(#REF!*#REF!))/(#REF!+#REF!+#REF!)","v":{"$error":"#VALUE!"}},{"$f":"((AA1086*#REF!)+(#REF!*#REF!)+(#REF!*#REF!))/(#REF!+#REF!+#REF!)","v":{"$error":"#VALUE!"}},{"$f":"((AA1086*#REF!)+(#REF!*#REF!)+(#REF!*#REF!))/(#REF!+#REF!+#REF!)","v":{"$error":"#VALUE!"}},{"$f":"((AA1086*#REF!)+(#REF!*#REF!)+(#REF!*#REF!))/(#REF!+#REF!+#REF!)","v":{"$error":"#VALUE!"}},{"$f":"((AA1086*#REF!)+(#REF!*#REF!)+(#REF!*#REF!))/(#REF!+#REF!+#REF!)","v":{"$error":"#VALUE!"}},{"$f":"((AA1086*#REF!)+(#REF!*#REF!)+(#REF!*#REF!))/(#REF!+#REF!+#REF!)","v":{"$error":"#VALUE!"}}]
[null,null,null,null,null,null,null,null,null,null,null,null,null,null,null,null,null,null,null,null,null,1085,{"$error":"#VALUE!"},{"$f":"AVERAGE($W$3:W1087)","v":{"$error":"#VALUE!"}},null,{"$error":"#VALUE!"},{"$error":"#VALUE!"},{"$f":"AVERAGE($AA$3:AA1087)","v":{"$error":"#VALUE!"}},null,null,null,{"$f":"((AA1087*#REF!)+(#REF!*#REF!)+(#REF!*#REF!))/(#REF!+#REF!+#REF!)","v":{"$error":"#VALUE!"}},{"$f":"((AA1087*#REF!)+(#REF!*#REF!)+(#REF!*#REF!))/(#REF!+#REF!+#REF!)","v":{"$error":"#VALUE!"}},{"$f":"((AA1087*#REF!)+(#REF!*#REF!)+(#REF!*#REF!))/(#REF!+#REF!+#REF!)","v":{"$error":"#VALUE!"}},{"$f":"((AA1087*#REF!)+(#REF!*#REF!)+(#REF!*#REF!))/(#REF!+#REF!+#REF!)","v":{"$error":"#VALUE!"}},{"$f":"((AA1087*#REF!)+(#REF!*#REF!)+(#REF!*#REF!))/(#REF!+#REF!+#REF!)","v":{"$error":"#VALUE!"}},{"$f":"((AA1087*#REF!)+(#REF!*#REF!)+(#REF!*#REF!))/(#REF!+#REF!+#REF!)","v":{"$error":"#VALUE!"}},{"$f":"((AA1087*#REF!)+(#REF!*#REF!)+(#REF!*#REF!))/(#REF!+#REF!+#REF!)","v":{"$error":"#VALUE!"}}]
[null,null,null,null,null,null,null,null,null,null,null,null,null,null,null,null,null,null,null,null,null,1086,{"$error":"#VALUE!"},{"$f":"AVERAGE($W$3:W1088)","v":{"$error":"#VALUE!"}},null,{"$error":"#VALUE!"},{"$error":"#VALUE!"},{"$f":"AVERAGE($AA$3:AA1088)","v":{"$error":"#VALUE!"}},null,null,null,{"$f":"((AA1088*#REF!)+(#REF!*#REF!)+(#REF!*#REF!))/(#REF!+#REF!+#REF!)","v":{"$error":"#VALUE!"}},{"$f":"((AA1088*#REF!)+(#REF!*#REF!)+(#REF!*#REF!))/(#REF!+#REF!+#REF!)","v":{"$error":"#VALUE!"}},{"$f":"((AA1088*#REF!)+(#REF!*#REF!)+(#REF!*#REF!))/(#REF!+#REF!+#REF!)","v":{"$error":"#VALUE!"}},{"$f":"((AA1088*#REF!)+(#REF!*#REF!)+(#REF!*#REF!))/(#REF!+#REF!+#REF!)","v":{"$error":"#VALUE!"}},{"$f":"((AA1088*#REF!)+(#REF!*#REF!)+(#REF!*#REF!))/(#REF!+#REF!+#REF!)","v":{"$error":"#VALUE!"}},{"$f":"((AA1088*#REF!)+(#REF!*#REF!)+(#REF!*#REF!))/(#REF!+#REF!+#REF!)","v":{"$error":"#VALUE!"}},{"$f":"((AA1088*#REF!)+(#REF!*#REF!)+(#REF!*#REF!))/(#REF!+#REF!+#REF!)","v":{"$error":"#VALUE!"}}]
[null,null,null,null,null,null,null,null,null,null,null,null,null,null,null,null,null,null,null,null,null,1087,{"$error":"#VALUE!"},{"$f":"AVERAGE($W$3:W1089)","v":{"$error":"#VALUE!"}},null,{"$error":"#VALUE!"},{"$error":"#VALUE!"},{"$f":"AVERAGE($AA$3:AA1089)","v":{"$error":"#VALUE!"}},null,null,null,{"$f":"((AA1089*#REF!)+(#REF!*#REF!)+(#REF!*#REF!))/(#REF!+#REF!+#REF!)","v":{"$error":"#VALUE!"}},{"$f":"((AA1089*#REF!)+(#REF!*#REF!)+(#REF!*#REF!))/(#REF!+#REF!+#REF!)","v":{"$error":"#VALUE!"}},{"$f":"((AA1089*#REF!)+(#REF!*#REF!)+(#REF!*#REF!))/(#REF!+#REF!+#REF!)","v":{"$error":"#VALUE!"}},{"$f":"((AA1089*#REF!)+(#REF!*#REF!)+(#REF!*#REF!))/(#REF!+#REF!+#REF!)","v":{"$error":"#VALUE!"}},{"$f":"((AA1089*#REF!)+(#REF!*#REF!)+(#REF!*#REF!))/(#REF!+#REF!+#REF!)","v":{"$error":"#VALUE!"}},{"$f":"((AA1089*#REF!)+(#REF!*#REF!)+(#REF!*#REF!))/(#REF!+#REF!+#REF!)","v":{"$error":"#VALUE!"}},{"$f":"((AA1089*#REF!)+(#REF!*#REF!)+(#REF!*#REF!))/(#REF!+#REF!+#REF!)","v":{"$error":"#VALUE!"}}]
[null,null,null,null,null,null,null,null,null,null,null,null,null,null,null,null,null,null,null,null,null,1088,{"$error":"#VALUE!"},{"$f":"AVERAGE($W$3:W1090)","v":{"$error":"#VALUE!"}},null,{"$error":"#VALUE!"},{"$error":"#VALUE!"},{"$f":"AVERAGE($AA$3:AA1090)","v":{"$error":"#VALUE!"}},null,null,null,{"$f":"((AA1090*#REF!)+(#REF!*#REF!)+(#REF!*#REF!))/(#REF!+#REF!+#REF!)","v":{"$error":"#VALUE!"}},{"$f":"((AA1090*#REF!)+(#REF!*#REF!)+(#REF!*#REF!))/(#REF!+#REF!+#REF!)","v":{"$error":"#VALUE!"}},{"$f":"((AA1090*#REF!)+(#REF!*#REF!)+(#REF!*#REF!))/(#REF!+#REF!+#REF!)","v":{"$error":"#VALUE!"}},{"$f":"((AA1090*#REF!)+(#REF!*#REF!)+(#REF!*#REF!))/(#REF!+#REF!+#REF!)","v":{"$error":"#VALUE!"}},{"$f":"((AA1090*#REF!)+(#REF!*#REF!)+(#REF!*#REF!))/(#REF!+#REF!+#REF!)","v":{"$error":"#VALUE!"}},{"$f":"((AA1090*#REF!)+(#REF!*#REF!)+(#REF!*#REF!))/(#REF!+#REF!+#REF!)","v":{"$error":"#VALUE!"}},{"$f":"((AA1090*#REF!)+(#REF!*#REF!)+(#REF!*#REF!))/(#REF!+#REF!+#REF!)","v":{"$error":"#VALUE!"}}]
[null,null,null,null,null,null,null,null,null,null,null,null,null,null,null,null,null,null,null,null,null,1089,{"$error":"#VALUE!"},{"$f":"AVERAGE($W$3:W1091)","v":{"$error":"#VALUE!"}},null,{"$error":"#VALUE!"},{"$error":"#VALUE!"},{"$f":"AVERAGE($AA$3:AA1091)","v":{"$error":"#VALUE!"}},null,null,null,{"$f":"((AA1091*#REF!)+(#REF!*#REF!)+(#REF!*#REF!))/(#REF!+#REF!+#REF!)","v":{"$error":"#VALUE!"}},{"$f":"((AA1091*#REF!)+(#REF!*#REF!)+(#REF!*#REF!))/(#REF!+#REF!+#REF!)","v":{"$error":"#VALUE!"}},{"$f":"((AA1091*#REF!)+(#REF!*#REF!)+(#REF!*#REF!))/(#REF!+#REF!+#REF!)","v":{"$error":"#VALUE!"}},{"$f":"((AA1091*#REF!)+(#REF!*#REF!)+(#REF!*#REF!))/(#REF!+#REF!+#REF!)","v":{"$error":"#VALUE!"}},{"$f":"((AA1091*#REF!)+(#REF!*#REF!)+(#REF!*#REF!))/(#REF!+#REF!+#REF!)","v":{"$error":"#VALUE!"}},{"$f":"((AA1091*#REF!)+(#REF!*#REF!)+(#REF!*#REF!))/(#REF!+#REF!+#REF!)","v":{"$error":"#VALUE!"}},{"$f":"((AA1091*#REF!)+(#REF!*#REF!)+(#REF!*#REF!))/(#REF!+#REF!+#REF!)","v":{"$error":"#VALUE!"}}]
[null,null,null,null,null,null,null,null,null,null,null,null,null,null,null,null,null,null,null,null,null,1090,{"$error":"#VALUE!"},{"$f":"AVERAGE($W$3:W1092)","v":{"$error":"#VALUE!"}},null,{"$f":"$M$2+W1092","v":{"$error":"#VALUE!"}},{"$f":"(Z1092*(9/5))+32","v":{"$error":"#VALUE!"}},{"$f":"AVERAGE($AA$3:AA1092)","v":{"$error":"#VALUE!"}},null,null,null,{"$f":"((AA1092*#REF!)+(#REF!*#REF!)+(#REF!*#REF!))/(#REF!+#REF!+#REF!)","v":{"$error":"#VALUE!"}},{"$f":"((AA1092*#REF!)+(#REF!*#REF!)+(#REF!*#REF!))/(#REF!+#REF!+#REF!)","v":{"$error":"#VALUE!"}},{"$f":"((AA1092*#REF!)+(#REF!*#REF!)+(#REF!*#REF!))/(#REF!+#REF!+#REF!)","v":{"$error":"#VALUE!"}},{"$f":"((AA1092*#REF!)+(#REF!*#REF!)+(#REF!*#REF!))/(#REF!+#REF!+#REF!)","v":{"$error":"#VALUE!"}},{"$f":"((AA1092*#REF!)+(#REF!*#REF!)+(#REF!*#REF!))/(#REF!+#REF!+#REF!)","v":{"$error":"#VALUE!"}},{"$f":"((AA1092*#REF!)+(#REF!*#REF!)+(#REF!*#REF!))/(#REF!+#REF!+#REF!)","v":{"$error":"#VALUE!"}},{"$f":"((AA1092*#REF!)+(#REF!*#REF!)+(#REF!*#REF!))/(#REF!+#REF!+#REF!)","v":{"$error":"#VALUE!"}}]
[null,null,null,null,null,null,null,null,null,null,null,null,null,null,null,null,null,null,null,null,null,1091,{"$error":"#VALUE!"},{"$f":"AVERAGE($W$3:W1093)","v":{"$error":"#VALUE!"}},null,{"$error":"#VALUE!"},{"$error":"#VALUE!"},{"$f":"AVERAGE($AA$3:AA1093)","v":{"$error":"#VALUE!"}},null,null,null,{"$f":"((AA1093*#REF!)+(#REF!*#REF!)+(#REF!*#REF!))/(#REF!+#REF!+#REF!)","v":{"$error":"#VALUE!"}},{"$f":"((AA1093*#REF!)+(#REF!*#REF!)+(#REF!*#REF!))/(#REF!+#REF!+#REF!)","v":{"$error":"#VALUE!"}},{"$f":"((AA1093*#REF!)+(#REF!*#REF!)+(#REF!*#REF!))/(#REF!+#REF!+#REF!)","v":{"$error":"#VALUE!"}},{"$f":"((AA1093*#REF!)+(#REF!*#REF!)+(#REF!*#REF!))/(#REF!+#REF!+#REF!)","v":{"$error":"#VALUE!"}},{"$f":"((AA1093*#REF!)+(#REF!*#REF!)+(#REF!*#REF!))/(#REF!+#REF!+#REF!)","v":{"$error":"#VALUE!"}},{"$f":"((AA1093*#REF!)+(#REF!*#REF!)+(#REF!*#REF!))/(#REF!+#REF!+#REF!)","v":{"$error":"#VALUE!"}},{"$f":"((AA1093*#REF!)+(#REF!*#REF!)+(#REF!*#REF!))/(#REF!+#REF!+#REF!)","v":{"$error":"#VALUE!"}}]
[null,null,null,null,null,null,null,null,null,null,null,null,null,null,null,null,null,null,null,null,null,1092,{"$error":"#VALUE!"},{"$f":"AVERAGE($W$3:W1094)","v":{"$error":"#VALUE!"}},null,{"$error":"#VALUE!"},{"$error":"#VALUE!"},{"$f":"AVERAGE($AA$3:AA1094)","v":{"$error":"#VALUE!"}},null,null,null,{"$f":"((AA1094*#REF!)+(#REF!*#REF!)+(#REF!*#REF!))/(#REF!+#REF!+#REF!)","v":{"$error":"#VALUE!"}},{"$f":"((AA1094*#REF!)+(#REF!*#REF!)+(#REF!*#REF!))/(#REF!+#REF!+#REF!)","v":{"$error":"#VALUE!"}},{"$f":"((AA1094*#REF!)+(#REF!*#REF!)+(#REF!*#REF!))/(#REF!+#REF!+#REF!)","v":{"$error":"#VALUE!"}},{"$f":"((AA1094*#REF!)+(#REF!*#REF!)+(#REF!*#REF!))/(#REF!+#REF!+#REF!)","v":{"$error":"#VALUE!"}},{"$f":"((AA1094*#REF!)+(#REF!*#REF!)+(#REF!*#REF!))/(#REF!+#REF!+#REF!)","v":{"$error":"#VALUE!"}},{"$f":"((AA1094*#REF!)+(#REF!*#REF!)+(#REF!*#REF!))/(#REF!+#REF!+#REF!)","v":{"$error":"#VALUE!"}},{"$f":"((AA1094*#REF!)+(#REF!*#REF!)+(#REF!*#REF!))/(#REF!+#REF!+#REF!)","v":{"$error":"#VALUE!"}}]
[null,null,null,null,null,null,null,null,null,null,null,null,null,null,null,null,null,null,null,null,null,1093,{"$error":"#VALUE!"},{"$f":"AVERAGE($W$3:W1095)","v":{"$error":"#VALUE!"}},null,{"$error":"#VALUE!"},{"$error":"#VALUE!"},{"$f":"AVERAGE($AA$3:AA1095)","v":{"$error":"#VALUE!"}},null,null,null,{"$f":"((AA1095*#REF!)+(#REF!*#REF!)+(#REF!*#REF!))/(#REF!+#REF!+#REF!)","v":{"$error":"#VALUE!"}},{"$f":"((AA1095*#REF!)+(#REF!*#REF!)+(#REF!*#REF!))/(#REF!+#REF!+#REF!)","v":{"$error":"#VALUE!"}},{"$f":"((AA1095*#REF!)+(#REF!*#REF!)+(#REF!*#REF!))/(#REF!+#REF!+#REF!)","v":{"$error":"#VALUE!"}},{"$f":"((AA1095*#REF!)+(#REF!*#REF!)+(#REF!*#REF!))/(#REF!+#REF!+#REF!)","v":{"$error":"#VALUE!"}},{"$f":"((AA1095*#REF!)+(#REF!*#REF!)+(#REF!*#REF!))/(#REF!+#REF!+#REF!)","v":{"$error":"#VALUE!"}},{"$f":"((AA1095*#REF!)+(#REF!*#REF!)+(#REF!*#REF!))/(#REF!+#REF!+#REF!)","v":{"$error":"#VALUE!"}},{"$f":"((AA1095*#REF!)+(#REF!*#REF!)+(#REF!*#REF!))/(#REF!+#REF!+#REF!)","v":{"$error":"#VALUE!"}}]
[null,null,null,null,null,null,null,null,null,null,null,null,null,null,null,null,null,null,null,null,null,1094,{"$error":"#VALUE!"},{"$f":"AVERAGE($W$3:W1096)","v":{"$error":"#VALUE!"}},null,{"$error":"#VALUE!"},{"$error":"#VALUE!"},{"$f":"AVERAGE($AA$3:AA1096)","v":{"$error":"#VALUE!"}},null,null,null,{"$f":"((AA1096*#REF!)+(#REF!*#REF!)+(#REF!*#REF!))/(#REF!+#REF!+#REF!)","v":{"$error":"#VALUE!"}},{"$f":"((AA1096*#REF!)+(#REF!*#REF!)+(#REF!*#REF!))/(#REF!+#REF!+#REF!)","v":{"$error":"#VALUE!"}},{"$f":"((AA1096*#REF!)+(#REF!*#REF!)+(#REF!*#REF!))/(#REF!+#REF!+#REF!)","v":{"$error":"#VALUE!"}},{"$f":"((AA1096*#REF!)+(#REF!*#REF!)+(#REF!*#REF!))/(#REF!+#REF!+#REF!)","v":{"$error":"#VALUE!"}},{"$f":"((AA1096*#REF!)+(#REF!*#REF!)+(#REF!*#REF!))/(#REF!+#REF!+#REF!)","v":{"$error":"#VALUE!"}},{"$f":"((AA1096*#REF!)+(#REF!*#REF!)+(#REF!*#REF!))/(#REF!+#REF!+#REF!)","v":{"$error":"#VALUE!"}},{"$f":"((AA1096*#REF!)+(#REF!*#REF!)+(#REF!*#REF!))/(#REF!+#REF!+#REF!)","v":{"$error":"#VALUE!"}}]
[null,null,null,null,null,null,null,null,null,null,null,null,null,null,null,null,null,null,null,null,null,1095,{"$error":"#VALUE!"},{"$f":"AVERAGE($W$3:W1097)","v":{"$error":"#VALUE!"}},null,{"$error":"#VALUE!"},{"$error":"#VALUE!"},{"$f":"AVERAGE($AA$3:AA1097)","v":{"$error":"#VALUE!"}},null,null,null,{"$f":"((AA1097*#REF!)+(#REF!*#REF!)+(#REF!*#REF!))/(#REF!+#REF!+#REF!)","v":{"$error":"#VALUE!"}},{"$f":"((AA1097*#REF!)+(#REF!*#REF!)+(#REF!*#REF!))/(#REF!+#REF!+#REF!)","v":{"$error":"#VALUE!"}},{"$f":"((AA1097*#REF!)+(#REF!*#REF!)+(#REF!*#REF!))/(#REF!+#REF!+#REF!)","v":{"$error":"#VALUE!"}},{"$f":"((AA1097*#REF!)+(#REF!*#REF!)+(#REF!*#REF!))/(#REF!+#REF!+#REF!)","v":{"$error":"#VALUE!"}},{"$f":"((AA1097*#REF!)+(#REF!*#REF!)+(#REF!*#REF!))/(#REF!+#REF!+#REF!)","v":{"$error":"#VALUE!"}},{"$f":"((AA1097*#REF!)+(#REF!*#REF!)+(#REF!*#REF!))/(#REF!+#REF!+#REF!)","v":{"$error":"#VALUE!"}},{"$f":"((AA1097*#REF!)+(#REF!*#REF!)+(#REF!*#REF!))/(#REF!+#REF!+#REF!)","v":{"$error":"#VALUE!"}}]
[null,null,null,null,null,null,null,null,null,null,null,null,null,null,null,null,null,null,null,null,null,1096,{"$error":"#VALUE!"},{"$f":"AVERAGE($W$3:W1098)","v":{"$error":"#VALUE!"}},null,{"$error":"#VALUE!"},{"$error":"#VALUE!"},{"$f":"AVERAGE($AA$3:AA1098)","v":{"$error":"#VALUE!"}},null,null,null,{"$f":"((AA1098*#REF!)+(#REF!*#REF!)+(#REF!*#REF!))/(#REF!+#REF!+#REF!)","v":{"$error":"#VALUE!"}},{"$f":"((AA1098*#REF!)+(#REF!*#REF!)+(#REF!*#REF!))/(#REF!+#REF!+#REF!)","v":{"$error":"#VALUE!"}},{"$f":"((AA1098*#REF!)+(#REF!*#REF!)+(#REF!*#REF!))/(#REF!+#REF!+#REF!)","v":{"$error":"#VALUE!"}},{"$f":"((AA1098*#REF!)+(#REF!*#REF!)+(#REF!*#REF!))/(#REF!+#REF!+#REF!)","v":{"$error":"#VALUE!"}},{"$f":"((AA1098*#REF!)+(#REF!*#REF!)+(#REF!*#REF!))/(#REF!+#REF!+#REF!)","v":{"$error":"#VALUE!"}},{"$f":"((AA1098*#REF!)+(#REF!*#REF!)+(#REF!*#REF!))/(#REF!+#REF!+#REF!)","v":{"$error":"#VALUE!"}},{"$f":"((AA1098*#REF!)+(#REF!*#REF!)+(#REF!*#REF!))/(#REF!+#REF!+#REF!)","v":{"$error":"#VALUE!"}}]
[null,null,null,null,null,null,null,null,null,null,null,null,null,null,null,null,null,null,null,null,null,1097,{"$error":"#VALUE!"},{"$f":"AVERAGE($W$3:W1099)","v":{"$error":"#VALUE!"}},null,{"$error":"#VALUE!"},{"$error":"#VALUE!"},{"$f":"AVERAGE($AA$3:AA1099)","v":{"$error":"#VALUE!"}},null,null,null,{"$f":"((AA1099*#REF!)+(#REF!*#REF!)+(#REF!*#REF!))/(#REF!+#REF!+#REF!)","v":{"$error":"#VALUE!"}},{"$f":"((AA1099*#REF!)+(#REF!*#REF!)+(#REF!*#REF!))/(#REF!+#REF!+#REF!)","v":{"$error":"#VALUE!"}},{"$f":"((AA1099*#REF!)+(#REF!*#REF!)+(#REF!*#REF!))/(#REF!+#REF!+#REF!)","v":{"$error":"#VALUE!"}},{"$f":"((AA1099*#REF!)+(#REF!*#REF!)+(#REF!*#REF!))/(#REF!+#REF!+#REF!)","v":{"$error":"#VALUE!"}},{"$f":"((AA1099*#REF!)+(#REF!*#REF!)+(#REF!*#REF!))/(#REF!+#REF!+#REF!)","v":{"$error":"#VALUE!"}},{"$f":"((AA1099*#REF!)+(#REF!*#REF!)+(#REF!*#REF!))/(#REF!+#REF!+#REF!)","v":{"$error":"#VALUE!"}},{"$f":"((AA1099*#REF!)+(#REF!*#REF!)+(#REF!*#REF!))/(#REF!+#REF!+#REF!)","v":{"$error":"#VALUE!"}}]
[null,null,null,null,null,null,null,null,null,null,null,null,null,null,null,null,null,null,null,null,null,1098,{"$error":"#VALUE!"},{"$f":"AVERAGE($W$3:W1100)","v":{"$error":"#VALUE!"}},null,{"$error":"#VALUE!"},{"$error":"#VALUE!"},{"$f":"AVERAGE($AA$3:AA1100)","v":{"$error":"#VALUE!"}},null,null,null,{"$f":"((AA1100*#REF!)+(#REF!*#REF!)+(#REF!*#REF!))/(#REF!+#REF!+#REF!)","v":{"$error":"#VALUE!"}},{"$f":"((AA1100*#REF!)+(#REF!*#REF!)+(#REF!*#REF!))/(#REF!+#REF!+#REF!)","v":{"$error":"#VALUE!"}},{"$f":"((AA1100*#REF!)+(#REF!*#REF!)+(#REF!*#REF!))/(#REF!+#REF!+#REF!)","v":{"$error":"#VALUE!"}},{"$f":"((AA1100*#REF!)+(#REF!*#REF!)+(#REF!*#REF!))/(#REF!+#REF!+#REF!)","v":{"$error":"#VALUE!"}},{"$f":"((AA1100*#REF!)+(#REF!*#REF!)+(#REF!*#REF!))/(#REF!+#REF!+#REF!)","v":{"$error":"#VALUE!"}},{"$f":"((AA1100*#REF!)+(#REF!*#REF!)+(#REF!*#REF!))/(#REF!+#REF!+#REF!)","v":{"$error":"#VALUE!"}},{"$f":"((AA1100*#REF!)+(#REF!*#REF!)+(#REF!*#REF!))/(#REF!+#REF!+#REF!)","v":{"$error":"#VALUE!"}}]
[null,null,null,null,null,null,null,null,null,null,null,null,null,null,null,null,null,null,null,null,null,1099,{"$error":"#VALUE!"},{"$f":"AVERAGE($W$3:W1101)","v":{"$error":"#VALUE!"}},null,{"$error":"#VALUE!"},{"$error":"#VALUE!"},{"$f":"AVERAGE($AA$3:AA1101)","v":{"$error":"#VALUE!"}},null,null,null,{"$f":"((AA1101*#REF!)+(#REF!*#REF!)+(#REF!*#REF!))/(#REF!+#REF!+#REF!)","v":{"$error":"#VALUE!"}},{"$f":"((AA1101*#REF!)+(#REF!*#REF!)+(#REF!*#REF!))/(#REF!+#REF!+#REF!)","v":{"$error":"#VALUE!"}},{"$f":"((AA1101*#REF!)+(#REF!*#REF!)+(#REF!*#REF!))/(#REF!+#REF!+#REF!)","v":{"$error":"#VALUE!"}},{"$f":"((AA1101*#REF!)+(#REF!*#REF!)+(#REF!*#REF!))/(#REF!+#REF!+#REF!)","v":{"$error":"#VALUE!"}},{"$f":"((AA1101*#REF!)+(#REF!*#REF!)+(#REF!*#REF!))/(#REF!+#REF!+#REF!)","v":{"$error":"#VALUE!"}},{"$f":"((AA1101*#REF!)+(#REF!*#REF!)+(#REF!*#REF!))/(#REF!+#REF!+#REF!)","v":{"$error":"#VALUE!"}},{"$f":"((AA1101*#REF!)+(#REF!*#REF!)+(#REF!*#REF!))/(#REF!+#REF!+#REF!)","v":{"$error":"#VALUE!"}}]
[null,null,null,null,null,null,null,null,null,null,null,null,null,null,null,null,null,null,null,null,null,1100,{"$error":"#VALUE!"},{"$f":"AVERAGE($W$3:W1102)","v":{"$error":"#VALUE!"}},null,{"$error":"#VALUE!"},{"$error":"#VALUE!"},{"$f":"AVERAGE($AA$3:AA1102)","v":{"$error":"#VALUE!"}},null,null,null,{"$f":"((AA1102*#REF!)+(#REF!*#REF!)+(#REF!*#REF!))/(#REF!+#REF!+#REF!)","v":{"$error":"#VALUE!"}},{"$f":"((AA1102*#REF!)+(#REF!*#REF!)+(#REF!*#REF!))/(#REF!+#REF!+#REF!)","v":{"$error":"#VALUE!"}},{"$f":"((AA1102*#REF!)+(#REF!*#REF!)+(#REF!*#REF!))/(#REF!+#REF!+#REF!)","v":{"$error":"#VALUE!"}},{"$f":"((AA1102*#REF!)+(#REF!*#REF!)+(#REF!*#REF!))/(#REF!+#REF!+#REF!)","v":{"$error":"#VALUE!"}},{"$f":"((AA1102*#REF!)+(#REF!*#REF!)+(#REF!*#REF!))/(#REF!+#REF!+#REF!)","v":{"$error":"#VALUE!"}},{"$f":"((AA1102*#REF!)+(#REF!*#REF!)+(#REF!*#REF!))/(#REF!+#REF!+#REF!)","v":{"$error":"#VALUE!"}},{"$f":"((AA1102*#REF!)+(#REF!*#REF!)+(#REF!*#REF!))/(#REF!+#REF!+#REF!)","v":{"$error":"#VALUE!"}}]
[null,null,null,null,null,null,null,null,null,null,null,null,null,null,null,null,null,null,null,null,null,1101,{"$error":"#VALUE!"},{"$f":"AVERAGE($W$3:W1103)","v":{"$error":"#VALUE!"}},null,{"$error":"#VALUE!"},{"$error":"#VALUE!"},{"$f":"AVERAGE($AA$3:AA1103)","v":{"$error":"#VALUE!"}},null,null,null,{"$f":"((AA1103*#REF!)+(#REF!*#REF!)+(#REF!*#REF!))/(#REF!+#REF!+#REF!)","v":{"$error":"#VALUE!"}},{"$f":"((AA1103*#REF!)+(#REF!*#REF!)+(#REF!*#REF!))/(#REF!+#REF!+#REF!)","v":{"$error":"#VALUE!"}},{"$f":"((AA1103*#REF!)+(#REF!*#REF!)+(#REF!*#REF!))/(#REF!+#REF!+#REF!)","v":{"$error":"#VALUE!"}},{"$f":"((AA1103*#REF!)+(#REF!*#REF!)+(#REF!*#REF!))/(#REF!+#REF!+#REF!)","v":{"$error":"#VALUE!"}},{"$f":"((AA1103*#REF!)+(#REF!*#REF!)+(#REF!*#REF!))/(#REF!+#REF!+#REF!)","v":{"$error":"#VALUE!"}},{"$f":"((AA1103*#REF!)+(#REF!*#REF!)+(#REF!*#REF!))/(#REF!+#REF!+#REF!)","v":{"$error":"#VALUE!"}},{"$f":"((AA1103*#REF!)+(#REF!*#REF!)+(#REF!*#REF!))/(#REF!+#REF!+#REF!)","v":{"$error":"#VALUE!"}}]
[null,null,null,null,null,null,null,null,null,null,null,null,null,null,null,null,null,null,null,null,null,1102,{"$error":"#VALUE!"},{"$f":"AVERAGE($W$3:W1104)","v":{"$error":"#VALUE!"}},null,{"$error":"#VALUE!"},{"$error":"#VALUE!"},{"$f":"AVERAGE($AA$3:AA1104)","v":{"$error":"#VALUE!"}},null,null,null,{"$f":"((AA1104*#REF!)+(#REF!*#REF!)+(#REF!*#REF!))/(#REF!+#REF!+#REF!)","v":{"$error":"#VALUE!"}},{"$f":"((AA1104*#REF!)+(#REF!*#REF!)+(#REF!*#REF!))/(#REF!+#REF!+#REF!)","v":{"$error":"#VALUE!"}},{"$f":"((AA1104*#REF!)+(#REF!*#REF!)+(#REF!*#REF!))/(#REF!+#REF!+#REF!)","v":{"$error":"#VALUE!"}},{"$f":"((AA1104*#REF!)+(#REF!*#REF!)+(#REF!*#REF!))/(#REF!+#REF!+#REF!)","v":{"$error":"#VALUE!"}},{"$f":"((AA1104*#REF!)+(#REF!*#REF!)+(#REF!*#REF!))/(#REF!+#REF!+#REF!)","v":{"$error":"#VALUE!"}},{"$f":"((AA1104*#REF!)+(#REF!*#REF!)+(#REF!*#REF!))/(#REF!+#REF!+#REF!)","v":{"$error":"#VALUE!"}},{"$f":"((AA1104*#REF!)+(#REF!*#REF!)+(#REF!*#REF!))/(#REF!+#REF!+#REF!)","v":{"$error":"#VALUE!"}}]
[null,null,null,null,null,null,null,null,null,null,null,null,null,null,null,null,null,null,null,null,null,1103,{"$error":"#VALUE!"},{"$f":"AVERAGE($W$3:W1105)","v":{"$error":"#VALUE!"}},null,{"$error":"#VALUE!"},{"$error":"#VALUE!"},{"$f":"AVERAGE($AA$3:AA1105)","v":{"$error":"#VALUE!"}},null,null,null,{"$f":"((AA1105*#REF!)+(#REF!*#REF!)+(#REF!*#REF!))/(#REF!+#REF!+#REF!)","v":{"$error":"#VALUE!"}},{"$f":"((AA1105*#REF!)+(#REF!*#REF!)+(#REF!*#REF!))/(#REF!+#REF!+#REF!)","v":{"$error":"#VALUE!"}},{"$f":"((AA1105*#REF!)+(#REF!*#REF!)+(#REF!*#REF!))/(#REF!+#REF!+#REF!)","v":{"$error":"#VALUE!"}},{"$f":"((AA1105*#REF!)+(#REF!*#REF!)+(#REF!*#REF!))/(#REF!+#REF!+#REF!)","v":{"$error":"#VALUE!"}},{"$f":"((AA1105*#REF!)+(#REF!*#REF!)+(#REF!*#REF!))/(#REF!+#REF!+#REF!)","v":{"$error":"#VALUE!"}},{"$f":"((AA1105*#REF!)+(#REF!*#REF!)+(#REF!*#REF!))/(#REF!+#REF!+#REF!)","v":{"$error":"#VALUE!"}},{"$f":"((AA1105*#REF!)+(#REF!*#REF!)+(#REF!*#REF!))/(#REF!+#REF!+#REF!)","v":{"$error":"#VALUE!"}}]
[null,null,null,null,null,null,null,null,null,null,null,null,null,null,null,null,null,null,null,null,null,1104,{"$error":"#VALUE!"},{"$f":"AVERAGE($W$3:W1106)","v":{"$error":"#VALUE!"}},null,{"$error":"#VALUE!"},{"$error":"#VALUE!"},{"$f":"AVERAGE($AA$3:AA1106)","v":{"$error":"#VALUE!"}},null,null,null,{"$f":"((AA1106*#REF!)+(#REF!*#REF!)+(#REF!*#REF!))/(#REF!+#REF!+#REF!)","v":{"$error":"#VALUE!"}},{"$f":"((AA1106*#REF!)+(#REF!*#REF!)+(#REF!*#REF!))/(#REF!+#REF!+#REF!)","v":{"$error":"#VALUE!"}},{"$f":"((AA1106*#REF!)+(#REF!*#REF!)+(#REF!*#REF!))/(#REF!+#REF!+#REF!)","v":{"$error":"#VALUE!"}},{"$f":"((AA1106*#REF!)+(#REF!*#REF!)+(#REF!*#REF!))/(#REF!+#REF!+#REF!)","v":{"$error":"#VALUE!"}},{"$f":"((AA1106*#REF!)+(#REF!*#REF!)+(#REF!*#REF!))/(#REF!+#REF!+#REF!)","v":{"$error":"#VALUE!"}},{"$f":"((AA1106*#REF!)+(#REF!*#REF!)+(#REF!*#REF!))/(#REF!+#REF!+#REF!)","v":{"$error":"#VALUE!"}},{"$f":"((AA1106*#REF!)+(#REF!*#REF!)+(#REF!*#REF!))/(#REF!+#REF!+#REF!)","v":{"$error":"#VALUE!"}}]
[null,null,null,null,null,null,null,null,null,null,null,null,null,null,null,null,null,null,null,null,null,1105,{"$error":"#VALUE!"},{"$f":"AVERAGE($W$3:W1107)","v":{"$error":"#VALUE!"}},null,{"$error":"#VALUE!"},{"$error":"#VALUE!"},{"$f":"AVERAGE($AA$3:AA1107)","v":{"$error":"#VALUE!"}},null,null,null,{"$f":"((AA1107*#REF!)+(#REF!*#REF!)+(#REF!*#REF!))/(#REF!+#REF!+#REF!)","v":{"$error":"#VALUE!"}},{"$f":"((AA1107*#REF!)+(#REF!*#REF!)+(#REF!*#REF!))/(#REF!+#REF!+#REF!)","v":{"$error":"#VALUE!"}},{"$f":"((AA1107*#REF!)+(#REF!*#REF!)+(#REF!*#REF!))/(#REF!+#REF!+#REF!)","v":{"$error":"#VALUE!"}},{"$f":"((AA1107*#REF!)+(#REF!*#REF!)+(#REF!*#REF!))/(#REF!+#REF!+#REF!)","v":{"$error":"#VALUE!"}},{"$f":"((AA1107*#REF!)+(#REF!*#REF!)+(#REF!*#REF!))/(#REF!+#REF!+#REF!)","v":{"$error":"#VALUE!"}},{"$f":"((AA1107*#REF!)+(#REF!*#REF!)+(#REF!*#REF!))/(#REF!+#REF!+#REF!)","v":{"$error":"#VALUE!"}},{"$f":"((AA1107*#REF!)+(#REF!*#REF!)+(#REF!*#REF!))/(#REF!+#REF!+#REF!)","v":{"$error":"#VALUE!"}}]
[null,null,null,null,null,null,null,null,null,null,null,null,null,null,null,null,null,null,null,null,null,1106,{"$error":"#VALUE!"},{"$f":"AVERAGE($W$3:W1108)","v":{"$error":"#VALUE!"}},null,{"$error":"#VALUE!"},{"$error":"#VALUE!"},{"$f":"AVERAGE($AA$3:AA1108)","v":{"$error":"#VALUE!"}},null,null,null,{"$f":"((AA1108*#REF!)+(#REF!*#REF!)+(#REF!*#REF!))/(#REF!+#REF!+#REF!)","v":{"$error":"#VALUE!"}},{"$f":"((AA1108*#REF!)+(#REF!*#REF!)+(#REF!*#REF!))/(#REF!+#REF!+#REF!)","v":{"$error":"#VALUE!"}},{"$f":"((AA1108*#REF!)+(#REF!*#REF!)+(#REF!*#REF!))/(#REF!+#REF!+#REF!)","v":{"$error":"#VALUE!"}},{"$f":"((AA1108*#REF!)+(#REF!*#REF!)+(#REF!*#REF!))/(#REF!+#REF!+#REF!)","v":{"$error":"#VALUE!"}},{"$f":"((AA1108*#REF!)+(#REF!*#REF!)+(#REF!*#REF!))/(#REF!+#REF!+#REF!)","v":{"$error":"#VALUE!"}},{"$f":"((AA1108*#REF!)+(#REF!*#REF!)+(#REF!*#REF!))/(#REF!+#REF!+#REF!)","v":{"$error":"#VALUE!"}},{"$f":"((AA1108*#REF!)+(#REF!*#REF!)+(#REF!*#REF!))/(#REF!+#REF!+#REF!)","v":{"$error":"#VALUE!"}}]
[null,null,null,null,null,null,null,null,null,null,null,null,null,null,null,null,null,null,null,null,null,1107,{"$error":"#VALUE!"},{"$f":"AVERAGE($W$3:W1109)","v":{"$error":"#VALUE!"}},null,{"$error":"#VALUE!"},{"$error":"#VALUE!"},{"$f":"AVERAGE($AA$3:AA1109)","v":{"$error":"#VALUE!"}},null,null,null,{"$f":"((AA1109*#REF!)+(#REF!*#REF!)+(#REF!*#REF!))/(#REF!+#REF!+#REF!)","v":{"$error":"#VALUE!"}},{"$f":"((AA1109*#REF!)+(#REF!*#REF!)+(#REF!*#REF!))/(#REF!+#REF!+#REF!)","v":{"$error":"#VALUE!"}},{"$f":"((AA1109*#REF!)+(#REF!*#REF!)+(#REF!*#REF!))/(#REF!+#REF!+#REF!)","v":{"$error":"#VALUE!"}},{"$f":"((AA1109*#REF!)+(#REF!*#REF!)+(#REF!*#REF!))/(#REF!+#REF!+#REF!)","v":{"$error":"#VALUE!"}},{"$f":"((AA1109*#REF!)+(#REF!*#REF!)+(#REF!*#REF!))/(#REF!+#REF!+#REF!)","v":{"$error":"#VALUE!"}},{"$f":"((AA1109*#REF!)+(#REF!*#REF!)+(#REF!*#REF!))/(#REF!+#REF!+#REF!)","v":{"$error":"#VALUE!"}},{"$f":"((AA1109*#REF!)+(#REF!*#REF!)+(#REF!*#REF!))/(#REF!+#REF!+#REF!)","v":{"$error":"#VALUE!"}}]
[null,null,null,null,null,null,null,null,null,null,null,null,null,null,null,null,null,null,null,null,null,1108,{"$error":"#VALUE!"},{"$f":"AVERAGE($W$3:W1110)","v":{"$error":"#VALUE!"}},null,{"$error":"#VALUE!"},{"$error":"#VALUE!"},{"$f":"AVERAGE($AA$3:AA1110)","v":{"$error":"#VALUE!"}},null,null,null,{"$f":"((AA1110*#REF!)+(#REF!*#REF!)+(#REF!*#REF!))/(#REF!+#REF!+#REF!)","v":{"$error":"#VALUE!"}},{"$f":"((AA1110*#REF!)+(#REF!*#REF!)+(#REF!*#REF!))/(#REF!+#REF!+#REF!)","v":{"$error":"#VALUE!"}},{"$f":"((AA1110*#REF!)+(#REF!*#REF!)+(#REF!*#REF!))/(#REF!+#REF!+#REF!)","v":{"$error":"#VALUE!"}},{"$f":"((AA1110*#REF!)+(#REF!*#REF!)+(#REF!*#REF!))/(#REF!+#REF!+#REF!)","v":{"$error":"#VALUE!"}},{"$f":"((AA1110*#REF!)+(#REF!*#REF!)+(#REF!*#REF!))/(#REF!+#REF!+#REF!)","v":{"$error":"#VALUE!"}},{"$f":"((AA1110*#REF!)+(#REF!*#REF!)+(#REF!*#REF!))/(#REF!+#REF!+#REF!)","v":{"$error":"#VALUE!"}},{"$f":"((AA1110*#REF!)+(#REF!*#REF!)+(#REF!*#REF!))/(#REF!+#REF!+#REF!)","v":{"$error":"#VALUE!"}}]
[null,null,null,null,null,null,null,null,null,null,null,null,null,null,null,null,null,null,null,null,null,1109,{"$error":"#VALUE!"},{"$f":"AVERAGE($W$3:W1111)","v":{"$error":"#VALUE!"}},null,{"$error":"#VALUE!"},{"$error":"#VALUE!"},{"$f":"AVERAGE($AA$3:AA1111)","v":{"$error":"#VALUE!"}},null,null,null,{"$f":"((AA1111*#REF!)+(#REF!*#REF!)+(#REF!*#REF!))/(#REF!+#REF!+#REF!)","v":{"$error":"#VALUE!"}},{"$f":"((AA1111*#REF!)+(#REF!*#REF!)+(#REF!*#REF!))/(#REF!+#REF!+#REF!)","v":{"$error":"#VALUE!"}},{"$f":"((AA1111*#REF!)+(#REF!*#REF!)+(#REF!*#REF!))/(#REF!+#REF!+#REF!)","v":{"$error":"#VALUE!"}},{"$f":"((AA1111*#REF!)+(#REF!*#REF!)+(#REF!*#REF!))/(#REF!+#REF!+#REF!)","v":{"$error":"#VALUE!"}},{"$f":"((AA1111*#REF!)+(#REF!*#REF!)+(#REF!*#REF!))/(#REF!+#REF!+#REF!)","v":{"$error":"#VALUE!"}},{"$f":"((AA1111*#REF!)+(#REF!*#REF!)+(#REF!*#REF!))/(#REF!+#REF!+#REF!)","v":{"$error":"#VALUE!"}},{"$f":"((AA1111*#REF!)+(#REF!*#REF!)+(#REF!*#REF!))/(#REF!+#REF!+#REF!)","v":{"$error":"#VALUE!"}}]
[null,null,null,null,null,null,null,null,null,null,null,null,null,null,null,null,null,null,null,null,null,1110,{"$error":"#VALUE!"},{"$f":"AVERAGE($W$3:W1112)","v":{"$error":"#VALUE!"}},null,{"$error":"#VALUE!"},{"$error":"#VALUE!"},{"$f":"AVERAGE($AA$3:AA1112)","v":{"$error":"#VALUE!"}},null,null,null,{"$f":"((AA1112*#REF!)+(#REF!*#REF!)+(#REF!*#REF!))/(#REF!+#REF!+#REF!)","v":{"$error":"#VALUE!"}},{"$f":"((AA1112*#REF!)+(#REF!*#REF!)+(#REF!*#REF!))/(#REF!+#REF!+#REF!)","v":{"$error":"#VALUE!"}},{"$f":"((AA1112*#REF!)+(#REF!*#REF!)+(#REF!*#REF!))/(#REF!+#REF!+#REF!)","v":{"$error":"#VALUE!"}},{"$f":"((AA1112*#REF!)+(#REF!*#REF!)+(#REF!*#REF!))/(#REF!+#REF!+#REF!)","v":{"$error":"#VALUE!"}},{"$f":"((AA1112*#REF!)+(#REF!*#REF!)+(#REF!*#REF!))/(#REF!+#REF!+#REF!)","v":{"$error":"#VALUE!"}},{"$f":"((AA1112*#REF!)+(#REF!*#REF!)+(#REF!*#REF!))/(#REF!+#REF!+#REF!)","v":{"$error":"#VALUE!"}},{"$f":"((AA1112*#REF!)+(#REF!*#REF!)+(#REF!*#REF!))/(#REF!+#REF!+#REF!)","v":{"$error":"#VALUE!"}}]
[null,null,null,null,null,null,null,null,null,null,null,null,null,null,null,null,null,null,null,null,null,1111,{"$error":"#VALUE!"},{"$f":"AVERAGE($W$3:W1113)","v":{"$error":"#VALUE!"}},null,{"$error":"#VALUE!"},{"$error":"#VALUE!"},{"$f":"AVERAGE($AA$3:AA1113)","v":{"$error":"#VALUE!"}},null,null,null,{"$f":"((AA1113*#REF!)+(#REF!*#REF!)+(#REF!*#REF!))/(#REF!+#REF!+#REF!)","v":{"$error":"#VALUE!"}},{"$f":"((AA1113*#REF!)+(#REF!*#REF!)+(#REF!*#REF!))/(#REF!+#REF!+#REF!)","v":{"$error":"#VALUE!"}},{"$f":"((AA1113*#REF!)+(#REF!*#REF!)+(#REF!*#REF!))/(#REF!+#REF!+#REF!)","v":{"$error":"#VALUE!"}},{"$f":"((AA1113*#REF!)+(#REF!*#REF!)+(#REF!*#REF!))/(#REF!+#REF!+#REF!)","v":{"$error":"#VALUE!"}},{"$f":"((AA1113*#REF!)+(#REF!*#REF!)+(#REF!*#REF!))/(#REF!+#REF!+#REF!)","v":{"$error":"#VALUE!"}},{"$f":"((AA1113*#REF!)+(#REF!*#REF!)+(#REF!*#REF!))/(#REF!+#REF!+#REF!)","v":{"$error":"#VALUE!"}},{"$f":"((AA1113*#REF!)+(#REF!*#REF!)+(#REF!*#REF!))/(#REF!+#REF!+#REF!)","v":{"$error":"#VALUE!"}}]
[null,null,null,null,null,null,null,null,null,null,null,null,null,null,null,null,null,null,null,null,null,1112,{"$error":"#VALUE!"},{"$f":"AVERAGE($W$3:W1114)","v":{"$error":"#VALUE!"}},null,{"$error":"#VALUE!"},{"$error":"#VALUE!"},{"$f":"AVERAGE($AA$3:AA1114)","v":{"$error":"#VALUE!"}},null,null,null,{"$f":"((AA1114*#REF!)+(#REF!*#REF!)+(#REF!*#REF!))/(#REF!+#REF!+#REF!)","v":{"$error":"#VALUE!"}},{"$f":"((AA1114*#REF!)+(#REF!*#REF!)+(#REF!*#REF!))/(#REF!+#REF!+#REF!)","v":{"$error":"#VALUE!"}},{"$f":"((AA1114*#REF!)+(#REF!*#REF!)+(#REF!*#REF!))/(#REF!+#REF!+#REF!)","v":{"$error":"#VALUE!"}},{"$f":"((AA1114*#REF!)+(#REF!*#REF!)+(#REF!*#REF!))/(#REF!+#REF!+#REF!)","v":{"$error":"#VALUE!"}},{"$f":"((AA1114*#REF!)+(#REF!*#REF!)+(#REF!*#REF!))/(#REF!+#REF!+#REF!)","v":{"$error":"#VALUE!"}},{"$f":"((AA1114*#REF!)+(#REF!*#REF!)+(#REF!*#REF!))/(#REF!+#REF!+#REF!)","v":{"$error":"#VALUE!"}},{"$f":"((AA1114*#REF!)+(#REF!*#REF!)+(#REF!*#REF!))/(#REF!+#REF!+#REF!)","v":{"$error":"#VALUE!"}}]
[null,null,null,null,null,null,null,null,null,null,null,null,null,null,null,null,null,null,null,null,null,1113,{"$error":"#VALUE!"},{"$f":"AVERAGE($W$3:W1115)","v":{"$error":"#VALUE!"}},null,{"$error":"#VALUE!"},{"$error":"#VALUE!"},{"$f":"AVERAGE($AA$3:AA1115)","v":{"$error":"#VALUE!"}},null,null,null,{"$f":"((AA1115*#REF!)+(#REF!*#REF!)+(#REF!*#REF!))/(#REF!+#REF!+#REF!)","v":{"$error":"#VALUE!"}},{"$f":"((AA1115*#REF!)+(#REF!*#REF!)+(#REF!*#REF!))/(#REF!+#REF!+#REF!)","v":{"$error":"#VALUE!"}},{"$f":"((AA1115*#REF!)+(#REF!*#REF!)+(#REF!*#REF!))/(#REF!+#REF!+#REF!)","v":{"$error":"#VALUE!"}},{"$f":"((AA1115*#REF!)+(#REF!*#REF!)+(#REF!*#REF!))/(#REF!+#REF!+#REF!)","v":{"$error":"#VALUE!"}},{"$f":"((AA1115*#REF!)+(#REF!*#REF!)+(#REF!*#REF!))/(#REF!+#REF!+#REF!)","v":{"$error":"#VALUE!"}},{"$f":"((AA1115*#REF!)+(#REF!*#REF!)+(#REF!*#REF!))/(#REF!+#REF!+#REF!)","v":{"$error":"#VALUE!"}},{"$f":"((AA1115*#REF!)+(#REF!*#REF!)+(#REF!*#REF!))/(#REF!+#REF!+#REF!)","v":{"$error":"#VALUE!"}}]
[null,null,null,null,null,null,null,null,null,null,null,null,null,null,null,null,null,null,null,null,null,1114,{"$error":"#VALUE!"},{"$f":"AVERAGE($W$3:W1116)","v":{"$error":"#VALUE!"}},null,{"$error":"#VALUE!"},{"$error":"#VALUE!"},{"$f":"AVERAGE($AA$3:AA1116)","v":{"$error":"#VALUE!"}},null,null,null,{"$f":"((AA1116*#REF!)+(#REF!*#REF!)+(#REF!*#REF!))/(#REF!+#REF!+#REF!)","v":{"$error":"#VALUE!"}},{"$f":"((AA1116*#REF!)+(#REF!*#REF!)+(#REF!*#REF!))/(#REF!+#REF!+#REF!)","v":{"$error":"#VALUE!"}},{"$f":"((AA1116*#REF!)+(#REF!*#REF!)+(#REF!*#REF!))/(#REF!+#REF!+#REF!)","v":{"$error":"#VALUE!"}},{"$f":"((AA1116*#REF!)+(#REF!*#REF!)+(#REF!*#REF!))/(#REF!+#REF!+#REF!)","v":{"$error":"#VALUE!"}},{"$f":"((AA1116*#REF!)+(#REF!*#REF!)+(#REF!*#REF!))/(#REF!+#REF!+#REF!)","v":{"$error":"#VALUE!"}},{"$f":"((AA1116*#REF!)+(#REF!*#REF!)+(#REF!*#REF!))/(#REF!+#REF!+#REF!)","v":{"$error":"#VALUE!"}},{"$f":"((AA1116*#REF!)+(#REF!*#REF!)+(#REF!*#REF!))/(#REF!+#REF!+#REF!)","v":{"$error":"#VALUE!"}}]
[null,null,null,null,null,null,null,null,null,null,null,null,null,null,null,null,null,null,null,null,null,1115,{"$error":"#VALUE!"},{"$f":"AVERAGE($W$3:W1117)","v":{"$error":"#VALUE!"}},null,{"$error":"#VALUE!"},{"$error":"#VALUE!"},{"$f":"AVERAGE($AA$3:AA1117)","v":{"$error":"#VALUE!"}},null,null,null,{"$f":"((AA1117*#REF!)+(#REF!*#REF!)+(#REF!*#REF!))/(#REF!+#REF!+#REF!)","v":{"$error":"#VALUE!"}},{"$f":"((AA1117*#REF!)+(#REF!*#REF!)+(#REF!*#REF!))/(#REF!+#REF!+#REF!)","v":{"$error":"#VALUE!"}},{"$f":"((AA1117*#REF!)+(#REF!*#REF!)+(#REF!*#REF!))/(#REF!+#REF!+#REF!)","v":{"$error":"#VALUE!"}},{"$f":"((AA1117*#REF!)+(#REF!*#REF!)+(#REF!*#REF!))/(#REF!+#REF!+#REF!)","v":{"$error":"#VALUE!"}},{"$f":"((AA1117*#REF!)+(#REF!*#REF!)+(#REF!*#REF!))/(#REF!+#REF!+#REF!)","v":{"$error":"#VALUE!"}},{"$f":"((AA1117*#REF!)+(#REF!*#REF!)+(#REF!*#REF!))/(#REF!+#REF!+#REF!)","v":{"$error":"#VALUE!"}},{"$f":"((AA1117*#REF!)+(#REF!*#REF!)+(#REF!*#REF!))/(#REF!+#REF!+#REF!)","v":{"$error":"#VALUE!"}}]
[null,null,null,null,null,null,null,null,null,null,null,null,null,null,null,null,null,null,null,null,null,1116,{"$error":"#VALUE!"},{"$f":"AVERAGE($W$3:W1118)","v":{"$error":"#VALUE!"}},null,{"$error":"#VALUE!"},{"$error":"#VALUE!"},{"$f":"AVERAGE($AA$3:AA1118)","v":{"$error":"#VALUE!"}},null,null,null,{"$f":"((AA1118*#REF!)+(#REF!*#REF!)+(#REF!*#REF!))/(#REF!+#REF!+#REF!)","v":{"$error":"#VALUE!"}},{"$f":"((AA1118*#REF!)+(#REF!*#REF!)+(#REF!*#REF!))/(#REF!+#REF!+#REF!)","v":{"$error":"#VALUE!"}},{"$f":"((AA1118*#REF!)+(#REF!*#REF!)+(#REF!*#REF!))/(#REF!+#REF!+#REF!)","v":{"$error":"#VALUE!"}},{"$f":"((AA1118*#REF!)+(#REF!*#REF!)+(#REF!*#REF!))/(#REF!+#REF!+#REF!)","v":{"$error":"#VALUE!"}},{"$f":"((AA1118*#REF!)+(#REF!*#REF!)+(#REF!*#REF!))/(#REF!+#REF!+#REF!)","v":{"$error":"#VALUE!"}},{"$f":"((AA1118*#REF!)+(#REF!*#REF!)+(#REF!*#REF!))/(#REF!+#REF!+#REF!)","v":{"$error":"#VALUE!"}},{"$f":"((AA1118*#REF!)+(#REF!*#REF!)+(#REF!*#REF!))/(#REF!+#REF!+#REF!)","v":{"$error":"#VALUE!"}}]
[null,null,null,null,null,null,null,null,null,null,null,null,null,null,null,null,null,null,null,null,null,1117,{"$error":"#VALUE!"},{"$f":"AVERAGE($W$3:W1119)","v":{"$error":"#VALUE!"}},null,{"$error":"#VALUE!"},{"$error":"#VALUE!"},{"$f":"AVERAGE($AA$3:AA1119)","v":{"$error":"#VALUE!"}},null,null,null,{"$f":"((AA1119*#REF!)+(#REF!*#REF!)+(#REF!*#REF!))/(#REF!+#REF!+#REF!)","v":{"$error":"#VALUE!"}},{"$f":"((AA1119*#REF!)+(#REF!*#REF!)+(#REF!*#REF!))/(#REF!+#REF!+#REF!)","v":{"$error":"#VALUE!"}},{"$f":"((AA1119*#REF!)+(#REF!*#REF!)+(#REF!*#REF!))/(#REF!+#REF!+#REF!)","v":{"$error":"#VALUE!"}},{"$f":"((AA1119*#REF!)+(#REF!*#REF!)+(#REF!*#REF!))/(#REF!+#REF!+#REF!)","v":{"$error":"#VALUE!"}},{"$f":"((AA1119*#REF!)+(#REF!*#REF!)+(#REF!*#REF!))/(#REF!+#REF!+#REF!)","v":{"$error":"#VALUE!"}},{"$f":"((AA1119*#REF!)+(#REF!*#REF!)+(#REF!*#REF!))/(#REF!+#REF!+#REF!)","v":{"$error":"#VALUE!"}},{"$f":"((AA1119*#REF!)+(#REF!*#REF!)+(#REF!*#REF!))/(#REF!+#REF!+#REF!)","v":{"$error":"#VALUE!"}}]
[null,null,null,null,null,null,null,null,null,null,null,null,null,null,null,null,null,null,null,null,null,1118,{"$error":"#VALUE!"},{"$f":"AVERAGE($W$3:W1120)","v":{"$error":"#VALUE!"}},null,{"$error":"#VALUE!"},{"$error":"#VALUE!"},{"$f":"AVERAGE($AA$3:AA1120)","v":{"$error":"#VALUE!"}},null,null,null,{"$f":"((AA1120*#REF!)+(#REF!*#REF!)+(#REF!*#REF!))/(#REF!+#REF!+#REF!)","v":{"$error":"#VALUE!"}},{"$f":"((AA1120*#REF!)+(#REF!*#REF!)+(#REF!*#REF!))/(#REF!+#REF!+#REF!)","v":{"$error":"#VALUE!"}},{"$f":"((AA1120*#REF!)+(#REF!*#REF!)+(#REF!*#REF!))/(#REF!+#REF!+#REF!)","v":{"$error":"#VALUE!"}},{"$f":"((AA1120*#REF!)+(#REF!*#REF!)+(#REF!*#REF!))/(#REF!+#REF!+#REF!)","v":{"$error":"#VALUE!"}},{"$f":"((AA1120*#REF!)+(#REF!*#REF!)+(#REF!*#REF!))/(#REF!+#REF!+#REF!)","v":{"$error":"#VALUE!"}},{"$f":"((AA1120*#REF!)+(#REF!*#REF!)+(#REF!*#REF!))/(#REF!+#REF!+#REF!)","v":{"$error":"#VALUE!"}},{"$f":"((AA1120*#REF!)+(#REF!*#REF!)+(#REF!*#REF!))/(#REF!+#REF!+#REF!)","v":{"$error":"#VALUE!"}}]
[null,null,null,null,null,null,null,null,null,null,null,null,null,null,null,null,null,null,null,null,null,1119,{"$error":"#VALUE!"},{"$f":"AVERAGE($W$3:W1121)","v":{"$error":"#VALUE!"}},null,{"$error":"#VALUE!"},{"$error":"#VALUE!"},{"$f":"AVERAGE($AA$3:AA1121)","v":{"$error":"#VALUE!"}},null,null,null,{"$f":"((AA1121*#REF!)+(#REF!*#REF!)+(#REF!*#REF!))/(#REF!+#REF!+#REF!)","v":{"$error":"#VALUE!"}},{"$f":"((AA1121*#REF!)+(#REF!*#REF!)+(#REF!*#REF!))/(#REF!+#REF!+#REF!)","v":{"$error":"#VALUE!"}},{"$f":"((AA1121*#REF!)+(#REF!*#REF!)+(#REF!*#REF!))/(#REF!+#REF!+#REF!)","v":{"$error":"#VALUE!"}},{"$f":"((AA1121*#REF!)+(#REF!*#REF!)+(#REF!*#REF!))/(#REF!+#REF!+#REF!)","v":{"$error":"#VALUE!"}},{"$f":"((AA1121*#REF!)+(#REF!*#REF!)+(#REF!*#REF!))/(#REF!+#REF!+#REF!)","v":{"$error":"#VALUE!"}},{"$f":"((AA1121*#REF!)+(#REF!*#REF!)+(#REF!*#REF!))/(#REF!+#REF!+#REF!)","v":{"$error":"#VALUE!"}},{"$f":"((AA1121*#REF!)+(#REF!*#REF!)+(#REF!*#REF!))/(#REF!+#REF!+#REF!)","v":{"$error":"#VALUE!"}}]
[null,null,null,null,null,null,null,null,null,null,null,null,null,null,null,null,null,null,null,null,null,1120,{"$error":"#VALUE!"},{"$f":"AVERAGE($W$3:W1122)","v":{"$error":"#VALUE!"}},null,{"$error":"#VALUE!"},{"$error":"#VALUE!"},{"$f":"AVERAGE($AA$3:AA1122)","v":{"$error":"#VALUE!"}},null,null,null,{"$f":"((AA1122*#REF!)+(#REF!*#REF!)+(#REF!*#REF!))/(#REF!+#REF!+#REF!)","v":{"$error":"#VALUE!"}},{"$f":"((AA1122*#REF!)+(#REF!*#REF!)+(#REF!*#REF!))/(#REF!+#REF!+#REF!)","v":{"$error":"#VALUE!"}},{"$f":"((AA1122*#REF!)+(#REF!*#REF!)+(#REF!*#REF!))/(#REF!+#REF!+#REF!)","v":{"$error":"#VALUE!"}},{"$f":"((AA1122*#REF!)+(#REF!*#REF!)+(#REF!*#REF!))/(#REF!+#REF!+#REF!)","v":{"$error":"#VALUE!"}},{"$f":"((AA1122*#REF!)+(#REF!*#REF!)+(#REF!*#REF!))/(#REF!+#REF!+#REF!)","v":{"$error":"#VALUE!"}},{"$f":"((AA1122*#REF!)+(#REF!*#REF!)+(#REF!*#REF!))/(#REF!+#REF!+#REF!)","v":{"$error":"#VALUE!"}},{"$f":"((AA1122*#REF!)+(#REF!*#REF!)+(#REF!*#REF!))/(#REF!+#REF!+#REF!)","v":{"$error":"#VALUE!"}}]
[null,null,null,null,null,null,null,null,null,null,null,null,null,null,null,null,null,null,null,null,null,1121,{"$error":"#VALUE!"},{"$f":"AVERAGE($W$3:W1123)","v":{"$error":"#VALUE!"}},null,{"$error":"#VALUE!"},{"$error":"#VALUE!"},{"$f":"AVERAGE($AA$3:AA1123)","v":{"$error":"#VALUE!"}},null,null,null,{"$f":"((AA1123*#REF!)+(#REF!*#REF!)+(#REF!*#REF!))/(#REF!+#REF!+#REF!)","v":{"$error":"#VALUE!"}},{"$f":"((AA1123*#REF!)+(#REF!*#REF!)+(#REF!*#REF!))/(#REF!+#REF!+#REF!)","v":{"$error":"#VALUE!"}},{"$f":"((AA1123*#REF!)+(#REF!*#REF!)+(#REF!*#REF!))/(#REF!+#REF!+#REF!)","v":{"$error":"#VALUE!"}},{"$f":"((AA1123*#REF!)+(#REF!*#REF!)+(#REF!*#REF!))/(#REF!+#REF!+#REF!)","v":{"$error":"#VALUE!"}},{"$f":"((AA1123*#REF!)+(#REF!*#REF!)+(#REF!*#REF!))/(#REF!+#REF!+#REF!)","v":{"$error":"#VALUE!"}},{"$f":"((AA1123*#REF!)+(#REF!*#REF!)+(#REF!*#REF!))/(#REF!+#REF!+#REF!)","v":{"$error":"#VALUE!"}},{"$f":"((AA1123*#REF!)+(#REF!*#REF!)+(#REF!*#REF!))/(#REF!+#REF!+#REF!)","v":{"$error":"#VALUE!"}}]
[null,null,null,null,null,null,null,null,null,null,null,null,null,null,null,null,null,null,null,null,null,1122,{"$error":"#VALUE!"},{"$f":"AVERAGE($W$3:W1124)","v":{"$error":"#VALUE!"}},null,{"$error":"#VALUE!"},{"$error":"#VALUE!"},{"$f":"AVERAGE($AA$3:AA1124)","v":{"$error":"#VALUE!"}},null,null,null,{"$f":"((AA1124*#REF!)+(#REF!*#REF!)+(#REF!*#REF!))/(#REF!+#REF!+#REF!)","v":{"$error":"#VALUE!"}},{"$f":"((AA1124*#REF!)+(#REF!*#REF!)+(#REF!*#REF!))/(#REF!+#REF!+#REF!)","v":{"$error":"#VALUE!"}},{"$f":"((AA1124*#REF!)+(#REF!*#REF!)+(#REF!*#REF!))/(#REF!+#REF!+#REF!)","v":{"$error":"#VALUE!"}},{"$f":"((AA1124*#REF!)+(#REF!*#REF!)+(#REF!*#REF!))/(#REF!+#REF!+#REF!)","v":{"$error":"#VALUE!"}},{"$f":"((AA1124*#REF!)+(#REF!*#REF!)+(#REF!*#REF!))/(#REF!+#REF!+#REF!)","v":{"$error":"#VALUE!"}},{"$f":"((AA1124*#REF!)+(#REF!*#REF!)+(#REF!*#REF!))/(#REF!+#REF!+#REF!)","v":{"$error":"#VALUE!"}},{"$f":"((AA1124*#REF!)+(#REF!*#REF!)+(#REF!*#REF!))/(#REF!+#REF!+#REF!)","v":{"$error":"#VALUE!"}}]
[null,null,null,null,null,null,null,null,null,null,null,null,null,null,null,null,null,null,null,null,null,1123,{"$error":"#VALUE!"},{"$f":"AVERAGE($W$3:W1125)","v":{"$error":"#VALUE!"}},null,{"$error":"#VALUE!"},{"$error":"#VALUE!"},{"$f":"AVERAGE($AA$3:AA1125)","v":{"$error":"#VALUE!"}},null,null,null,{"$f":"((AA1125*#REF!)+(#REF!*#REF!)+(#REF!*#REF!))/(#REF!+#REF!+#REF!)","v":{"$error":"#VALUE!"}},{"$f":"((AA1125*#REF!)+(#REF!*#REF!)+(#REF!*#REF!))/(#REF!+#REF!+#REF!)","v":{"$error":"#VALUE!"}},{"$f":"((AA1125*#REF!)+(#REF!*#REF!)+(#REF!*#REF!))/(#REF!+#REF!+#REF!)","v":{"$error":"#VALUE!"}},{"$f":"((AA1125*#REF!)+(#REF!*#REF!)+(#REF!*#REF!))/(#REF!+#REF!+#REF!)","v":{"$error":"#VALUE!"}},{"$f":"((AA1125*#REF!)+(#REF!*#REF!)+(#REF!*#REF!))/(#REF!+#REF!+#REF!)","v":{"$error":"#VALUE!"}},{"$f":"((AA1125*#REF!)+(#REF!*#REF!)+(#REF!*#REF!))/(#REF!+#REF!+#REF!)","v":{"$error":"#VALUE!"}},{"$f":"((AA1125*#REF!)+(#REF!*#REF!)+(#REF!*#REF!))/(#REF!+#REF!+#REF!)","v":{"$error":"#VALUE!"}}]
[null,null,null,null,null,null,null,null,null,null,null,null,null,null,null,null,null,null,null,null,null,1124,{"$error":"#VALUE!"},{"$f":"AVERAGE($W$3:W1126)","v":{"$error":"#VALUE!"}},null,{"$error":"#VALUE!"},{"$error":"#VALUE!"},{"$f":"AVERAGE($AA$3:AA1126)","v":{"$error":"#VALUE!"}},null,null,null,{"$f":"((AA1126*#REF!)+(#REF!*#REF!)+(#REF!*#REF!))/(#REF!+#REF!+#REF!)","v":{"$error":"#VALUE!"}},{"$f":"((AA1126*#REF!)+(#REF!*#REF!)+(#REF!*#REF!))/(#REF!+#REF!+#REF!)","v":{"$error":"#VALUE!"}},{"$f":"((AA1126*#REF!)+(#REF!*#REF!)+(#REF!*#REF!))/(#REF!+#REF!+#REF!)","v":{"$error":"#VALUE!"}},{"$f":"((AA1126*#REF!)+(#REF!*#REF!)+(#REF!*#REF!))/(#REF!+#REF!+#REF!)","v":{"$error":"#VALUE!"}},{"$f":"((AA1126*#REF!)+(#REF!*#REF!)+(#REF!*#REF!))/(#REF!+#REF!+#REF!)","v":{"$error":"#VALUE!"}},{"$f":"((AA1126*#REF!)+(#REF!*#REF!)+(#REF!*#REF!))/(#REF!+#REF!+#REF!)","v":{"$error":"#VALUE!"}},{"$f":"((AA1126*#REF!)+(#REF!*#REF!)+(#REF!*#REF!))/(#REF!+#REF!+#REF!)","v":{"$error":"#VALUE!"}}]
[null,null,null,null,null,null,null,null,null,null,null,null,null,null,null,null,null,null,null,null,null,1125,{"$error":"#VALUE!"},{"$f":"AVERAGE($W$3:W1127)","v":{"$error":"#VALUE!"}},null,{"$error":"#VALUE!"},{"$error":"#VALUE!"},{"$f":"AVERAGE($AA$3:AA1127)","v":{"$error":"#VALUE!"}},null,null,null,{"$f":"((AA1127*#REF!)+(#REF!*#REF!)+(#REF!*#REF!))/(#REF!+#REF!+#REF!)","v":{"$error":"#VALUE!"}},{"$f":"((AA1127*#REF!)+(#REF!*#REF!)+(#REF!*#REF!))/(#REF!+#REF!+#REF!)","v":{"$error":"#VALUE!"}},{"$f":"((AA1127*#REF!)+(#REF!*#REF!)+(#REF!*#REF!))/(#REF!+#REF!+#REF!)","v":{"$error":"#VALUE!"}},{"$f":"((AA1127*#REF!)+(#REF!*#REF!)+(#REF!*#REF!))/(#REF!+#REF!+#REF!)","v":{"$error":"#VALUE!"}},{"$f":"((AA1127*#REF!)+(#REF!*#REF!)+(#REF!*#REF!))/(#REF!+#REF!+#REF!)","v":{"$error":"#VALUE!"}},{"$f":"((AA1127*#REF!)+(#REF!*#REF!)+(#REF!*#REF!))/(#REF!+#REF!+#REF!)","v":{"$error":"#VALUE!"}},{"$f":"((AA1127*#REF!)+(#REF!*#REF!)+(#REF!*#REF!))/(#REF!+#REF!+#REF!)","v":{"$error":"#VALUE!"}}]
[null,null,null,null,null,null,null,null,null,null,null,null,null,null,null,null,null,null,null,null,null,1126,{"$error":"#VALUE!"},{"$f":"AVERAGE($W$3:W1128)","v":{"$error":"#VALUE!"}},null,{"$error":"#VALUE!"},{"$error":"#VALUE!"},{"$f":"AVERAGE($AA$3:AA1128)","v":{"$error":"#VALUE!"}},null,null,null,{"$f":"((AA1128*#REF!)+(#REF!*#REF!)+(#REF!*#REF!))/(#REF!+#REF!+#REF!)","v":{"$error":"#VALUE!"}},{"$f":"((AA1128*#REF!)+(#REF!*#REF!)+(#REF!*#REF!))/(#REF!+#REF!+#REF!)","v":{"$error":"#VALUE!"}},{"$f":"((AA1128*#REF!)+(#REF!*#REF!)+(#REF!*#REF!))/(#REF!+#REF!+#REF!)","v":{"$error":"#VALUE!"}},{"$f":"((AA1128*#REF!)+(#REF!*#REF!)+(#REF!*#REF!))/(#REF!+#REF!+#REF!)","v":{"$error":"#VALUE!"}},{"$f":"((AA1128*#REF!)+(#REF!*#REF!)+(#REF!*#REF!))/(#REF!+#REF!+#REF!)","v":{"$error":"#VALUE!"}},{"$f":"((AA1128*#REF!)+(#REF!*#REF!)+(#REF!*#REF!))/(#REF!+#REF!+#REF!)","v":{"$error":"#VALUE!"}},{"$f":"((AA1128*#REF!)+(#REF!*#REF!)+(#REF!*#REF!))/(#REF!+#REF!+#REF!)","v":{"$error":"#VALUE!"}}]
[null,null,null,null,null,null,null,null,null,null,null,null,null,null,null,null,null,null,null,null,null,1127,{"$error":"#VALUE!"},{"$f":"AVERAGE($W$3:W1129)","v":{"$error":"#VALUE!"}},null,{"$error":"#VALUE!"},{"$error":"#VALUE!"},{"$f":"AVERAGE($AA$3:AA1129)","v":{"$error":"#VALUE!"}},null,null,null,{"$f":"((AA1129*#REF!)+(#REF!*#REF!)+(#REF!*#REF!))/(#REF!+#REF!+#REF!)","v":{"$error":"#VALUE!"}},{"$f":"((AA1129*#REF!)+(#REF!*#REF!)+(#REF!*#REF!))/(#REF!+#REF!+#REF!)","v":{"$error":"#VALUE!"}},{"$f":"((AA1129*#REF!)+(#REF!*#REF!)+(#REF!*#REF!))/(#REF!+#REF!+#REF!)","v":{"$error":"#VALUE!"}},{"$f":"((AA1129*#REF!)+(#REF!*#REF!)+(#REF!*#REF!))/(#REF!+#REF!+#REF!)","v":{"$error":"#VALUE!"}},{"$f":"((AA1129*#REF!)+(#REF!*#REF!)+(#REF!*#REF!))/(#REF!+#REF!+#REF!)","v":{"$error":"#VALUE!"}},{"$f":"((AA1129*#REF!)+(#REF!*#REF!)+(#REF!*#REF!))/(#REF!+#REF!+#REF!)","v":{"$error":"#VALUE!"}},{"$f":"((AA1129*#REF!)+(#REF!*#REF!)+(#REF!*#REF!))/(#REF!+#REF!+#REF!)","v":{"$error":"#VALUE!"}}]
[null,null,null,null,null,null,null,null,null,null,null,null,null,null,null,null,null,null,null,null,null,1128,{"$error":"#VALUE!"},{"$f":"AVERAGE($W$3:W1130)","v":{"$error":"#VALUE!"}},null,{"$error":"#VALUE!"},{"$error":"#VALUE!"},{"$f":"AVERAGE($AA$3:AA1130)","v":{"$error":"#VALUE!"}},null,null,null,{"$f":"((AA1130*#REF!)+(#REF!*#REF!)+(#REF!*#REF!))/(#REF!+#REF!+#REF!)","v":{"$error":"#VALUE!"}},{"$f":"((AA1130*#REF!)+(#REF!*#REF!)+(#REF!*#REF!))/(#REF!+#REF!+#REF!)","v":{"$error":"#VALUE!"}},{"$f":"((AA1130*#REF!)+(#REF!*#REF!)+(#REF!*#REF!))/(#REF!+#REF!+#REF!)","v":{"$error":"#VALUE!"}},{"$f":"((AA1130*#REF!)+(#REF!*#REF!)+(#REF!*#REF!))/(#REF!+#REF!+#REF!)","v":{"$error":"#VALUE!"}},{"$f":"((AA1130*#REF!)+(#REF!*#REF!)+(#REF!*#REF!))/(#REF!+#REF!+#REF!)","v":{"$error":"#VALUE!"}},{"$f":"((AA1130*#REF!)+(#REF!*#REF!)+(#REF!*#REF!))/(#REF!+#REF!+#REF!)","v":{"$error":"#VALUE!"}},{"$f":"((AA1130*#REF!)+(#REF!*#REF!)+(#REF!*#REF!))/(#REF!+#REF!+#REF!)","v":{"$error":"#VALUE!"}}]
[null,null,null,null,null,null,null,null,null,null,null,null,null,null,null,null,null,null,null,null,null,1129,{"$error":"#VALUE!"},{"$f":"AVERAGE($W$3:W1131)","v":{"$error":"#VALUE!"}},null,{"$error":"#VALUE!"},{"$error":"#VALUE!"},{"$f":"AVERAGE($AA$3:AA1131)","v":{"$error":"#VALUE!"}},null,null,null,{"$f":"((AA1131*#REF!)+(#REF!*#REF!)+(#REF!*#REF!))/(#REF!+#REF!+#REF!)","v":{"$error":"#VALUE!"}},{"$f":"((AA1131*#REF!)+(#REF!*#REF!)+(#REF!*#REF!))/(#REF!+#REF!+#REF!)","v":{"$error":"#VALUE!"}},{"$f":"((AA1131*#REF!)+(#REF!*#REF!)+(#REF!*#REF!))/(#REF!+#REF!+#REF!)","v":{"$error":"#VALUE!"}},{"$f":"((AA1131*#REF!)+(#REF!*#REF!)+(#REF!*#REF!))/(#REF!+#REF!+#REF!)","v":{"$error":"#VALUE!"}},{"$f":"((AA1131*#REF!)+(#REF!*#REF!)+(#REF!*#REF!))/(#REF!+#REF!+#REF!)","v":{"$error":"#VALUE!"}},{"$f":"((AA1131*#REF!)+(#REF!*#REF!)+(#REF!*#REF!))/(#REF!+#REF!+#REF!)","v":{"$error":"#VALUE!"}},{"$f":"((AA1131*#REF!)+(#REF!*#REF!)+(#REF!*#REF!))/(#REF!+#REF!+#REF!)","v":{"$error":"#VALUE!"}}]
[null,null,null,null,null,null,null,null,null,null,null,null,null,null,null,null,null,null,null,null,null,1130,{"$error":"#VALUE!"},{"$f":"AVERAGE($W$3:W1132)","v":{"$error":"#VALUE!"}},null,{"$error":"#VALUE!"},{"$error":"#VALUE!"},{"$f":"AVERAGE($AA$3:AA1132)","v":{"$error":"#VALUE!"}},null,null,null,{"$f":"((AA1132*#REF!)+(#REF!*#REF!)+(#REF!*#REF!))/(#REF!+#REF!+#REF!)","v":{"$error":"#VALUE!"}},{"$f":"((AA1132*#REF!)+(#REF!*#REF!)+(#REF!*#REF!))/(#REF!+#REF!+#REF!)","v":{"$error":"#VALUE!"}},{"$f":"((AA1132*#REF!)+(#REF!*#REF!)+(#REF!*#REF!))/(#REF!+#REF!+#REF!)","v":{"$error":"#VALUE!"}},{"$f":"((AA1132*#REF!)+(#REF!*#REF!)+(#REF!*#REF!))/(#REF!+#REF!+#REF!)","v":{"$error":"#VALUE!"}},{"$f":"((AA1132*#REF!)+(#REF!*#REF!)+(#REF!*#REF!))/(#REF!+#REF!+#REF!)","v":{"$error":"#VALUE!"}},{"$f":"((AA1132*#REF!)+(#REF!*#REF!)+(#REF!*#REF!))/(#REF!+#REF!+#REF!)","v":{"$error":"#VALUE!"}},{"$f":"((AA1132*#REF!)+(#REF!*#REF!)+(#REF!*#REF!))/(#REF!+#REF!+#REF!)","v":{"$error":"#VALUE!"}}]
[null,null,null,null,null,null,null,null,null,null,null,null,null,null,null,null,null,null,null,null,null,1131,{"$error":"#VALUE!"},{"$f":"AVERAGE($W$3:W1133)","v":{"$error":"#VALUE!"}},null,{"$error":"#VALUE!"},{"$error":"#VALUE!"},{"$f":"AVERAGE($AA$3:AA1133)","v":{"$error":"#VALUE!"}},null,null,null,{"$f":"((AA1133*#REF!)+(#REF!*#REF!)+(#REF!*#REF!))/(#REF!+#REF!+#REF!)","v":{"$error":"#VALUE!"}},{"$f":"((AA1133*#REF!)+(#REF!*#REF!)+(#REF!*#REF!))/(#REF!+#REF!+#REF!)","v":{"$error":"#VALUE!"}},{"$f":"((AA1133*#REF!)+(#REF!*#REF!)+(#REF!*#REF!))/(#REF!+#REF!+#REF!)","v":{"$error":"#VALUE!"}},{"$f":"((AA1133*#REF!)+(#REF!*#REF!)+(#REF!*#REF!))/(#REF!+#REF!+#REF!)","v":{"$error":"#VALUE!"}},{"$f":"((AA1133*#REF!)+(#REF!*#REF!)+(#REF!*#REF!))/(#REF!+#REF!+#REF!)","v":{"$error":"#VALUE!"}},{"$f":"((AA1133*#REF!)+(#REF!*#REF!)+(#REF!*#REF!))/(#REF!+#REF!+#REF!)","v":{"$error":"#VALUE!"}},{"$f":"((AA1133*#REF!)+(#REF!*#REF!)+(#REF!*#REF!))/(#REF!+#REF!+#REF!)","v":{"$error":"#VALUE!"}}]
[null,null,null,null,null,null,null,null,null,null,null,null,null,null,null,null,null,null,null,null,null,1132,{"$error":"#VALUE!"},{"$f":"AVERAGE($W$3:W1134)","v":{"$error":"#VALUE!"}},null,{"$error":"#VALUE!"},{"$error":"#VALUE!"},{"$f":"AVERAGE($AA$3:AA1134)","v":{"$error":"#VALUE!"}},null,null,null,{"$f":"((AA1134*#REF!)+(#REF!*#REF!)+(#REF!*#REF!))/(#REF!+#REF!+#REF!)","v":{"$error":"#VALUE!"}},{"$f":"((AA1134*#REF!)+(#REF!*#REF!)+(#REF!*#REF!))/(#REF!+#REF!+#REF!)","v":{"$error":"#VALUE!"}},{"$f":"((AA1134*#REF!)+(#REF!*#REF!)+(#REF!*#REF!))/(#REF!+#REF!+#REF!)","v":{"$error":"#VALUE!"}},{"$f":"((AA1134*#REF!)+(#REF!*#REF!)+(#REF!*#REF!))/(#REF!+#REF!+#REF!)","v":{"$error":"#VALUE!"}},{"$f":"((AA1134*#REF!)+(#REF!*#REF!)+(#REF!*#REF!))/(#REF!+#REF!+#REF!)","v":{"$error":"#VALUE!"}},{"$f":"((AA1134*#REF!)+(#REF!*#REF!)+(#REF!*#REF!))/(#REF!+#REF!+#REF!)","v":{"$error":"#VALUE!"}},{"$f":"((AA1134*#REF!)+(#REF!*#REF!)+(#REF!*#REF!))/(#REF!+#REF!+#REF!)","v":{"$error":"#VALUE!"}}]
[null,null,null,null,null,null,null,null,null,null,null,null,null,null,null,null,null,null,null,null,null,1133,{"$error":"#VALUE!"},{"$f":"AVERAGE($W$3:W1135)","v":{"$error":"#VALUE!"}},null,{"$error":"#VALUE!"},{"$error":"#VALUE!"},{"$f":"AVERAGE($AA$3:AA1135)","v":{"$error":"#VALUE!"}},null,null,null,{"$f":"((AA1135*#REF!)+(#REF!*#REF!)+(#REF!*#REF!))/(#REF!+#REF!+#REF!)","v":{"$error":"#VALUE!"}},{"$f":"((AA1135*#REF!)+(#REF!*#REF!)+(#REF!*#REF!))/(#REF!+#REF!+#REF!)","v":{"$error":"#VALUE!"}},{"$f":"((AA1135*#REF!)+(#REF!*#REF!)+(#REF!*#REF!))/(#REF!+#REF!+#REF!)","v":{"$error":"#VALUE!"}},{"$f":"((AA1135*#REF!)+(#REF!*#REF!)+(#REF!*#REF!))/(#REF!+#REF!+#REF!)","v":{"$error":"#VALUE!"}},{"$f":"((AA1135*#REF!)+(#REF!*#REF!)+(#REF!*#REF!))/(#REF!+#REF!+#REF!)","v":{"$error":"#VALUE!"}},{"$f":"((AA1135*#REF!)+(#REF!*#REF!)+(#REF!*#REF!))/(#REF!+#REF!+#REF!)","v":{"$error":"#VALUE!"}},{"$f":"((AA1135*#REF!)+(#REF!*#REF!)+(#REF!*#REF!))/(#REF!+#REF!+#REF!)","v":{"$error":"#VALUE!"}}]
[null,null,null,null,null,null,null,null,null,null,null,null,null,null,null,null,null,null,null,null,null,1134,{"$error":"#VALUE!"},{"$f":"AVERAGE($W$3:W1136)","v":{"$error":"#VALUE!"}},null,{"$error":"#VALUE!"},{"$error":"#VALUE!"},{"$f":"AVERAGE($AA$3:AA1136)","v":{"$error":"#VALUE!"}},null,null,null,{"$f":"((AA1136*#REF!)+(#REF!*#REF!)+(#REF!*#REF!))/(#REF!+#REF!+#REF!)","v":{"$error":"#VALUE!"}},{"$f":"((AA1136*#REF!)+(#REF!*#REF!)+(#REF!*#REF!))/(#REF!+#REF!+#REF!)","v":{"$error":"#VALUE!"}},{"$f":"((AA1136*#REF!)+(#REF!*#REF!)+(#REF!*#REF!))/(#REF!+#REF!+#REF!)","v":{"$error":"#VALUE!"}},{"$f":"((AA1136*#REF!)+(#REF!*#REF!)+(#REF!*#REF!))/(#REF!+#REF!+#REF!)","v":{"$error":"#VALUE!"}},{"$f":"((AA1136*#REF!)+(#REF!*#REF!)+(#REF!*#REF!))/(#REF!+#REF!+#REF!)","v":{"$error":"#VALUE!"}},{"$f":"((AA1136*#REF!)+(#REF!*#REF!)+(#REF!*#REF!))/(#REF!+#REF!+#REF!)","v":{"$error":"#VALUE!"}},{"$f":"((AA1136*#REF!)+(#REF!*#REF!)+(#REF!*#REF!))/(#REF!+#REF!+#REF!)","v":{"$error":"#VALUE!"}}]
[null,null,null,null,null,null,null,null,null,null,null,null,null,null,null,null,null,null,null,null,null,1135,{"$error":"#VALUE!"},{"$f":"AVERAGE($W$3:W1137)","v":{"$error":"#VALUE!"}},null,{"$error":"#VALUE!"},{"$error":"#VALUE!"},{"$f":"AVERAGE($AA$3:AA1137)","v":{"$error":"#VALUE!"}},null,null,null,{"$f":"((AA1137*#REF!)+(#REF!*#REF!)+(#REF!*#REF!))/(#REF!+#REF!+#REF!)","v":{"$error":"#VALUE!"}},{"$f":"((AA1137*#REF!)+(#REF!*#REF!)+(#REF!*#REF!))/(#REF!+#REF!+#REF!)","v":{"$error":"#VALUE!"}},{"$f":"((AA1137*#REF!)+(#REF!*#REF!)+(#REF!*#REF!))/(#REF!+#REF!+#REF!)","v":{"$error":"#VALUE!"}},{"$f":"((AA1137*#REF!)+(#REF!*#REF!)+(#REF!*#REF!))/(#REF!+#REF!+#REF!)","v":{"$error":"#VALUE!"}},{"$f":"((AA1137*#REF!)+(#REF!*#REF!)+(#REF!*#REF!))/(#REF!+#REF!+#REF!)","v":{"$error":"#VALUE!"}},{"$f":"((AA1137*#REF!)+(#REF!*#REF!)+(#REF!*#REF!))/(#REF!+#REF!+#REF!)","v":{"$error":"#VALUE!"}},{"$f":"((AA1137*#REF!)+(#REF!*#REF!)+(#REF!*#REF!))/(#REF!+#REF!+#REF!)","v":{"$error":"#VALUE!"}}]
[null,null,null,null,null,null,null,null,null,null,null,null,null,null,null,null,null,null,null,null,null,1136,{"$error":"#VALUE!"},{"$f":"AVERAGE($W$3:W1138)","v":{"$error":"#VALUE!"}},null,{"$error":"#VALUE!"},{"$error":"#VALUE!"},{"$f":"AVERAGE($AA$3:AA1138)","v":{"$error":"#VALUE!"}},null,null,null,{"$f":"((AA1138*#REF!)+(#REF!*#REF!)+(#REF!*#REF!))/(#REF!+#REF!+#REF!)","v":{"$error":"#VALUE!"}},{"$f":"((AA1138*#REF!)+(#REF!*#REF!)+(#REF!*#REF!))/(#REF!+#REF!+#REF!)","v":{"$error":"#VALUE!"}},{"$f":"((AA1138*#REF!)+(#REF!*#REF!)+(#REF!*#REF!))/(#REF!+#REF!+#REF!)","v":{"$error":"#VALUE!"}},{"$f":"((AA1138*#REF!)+(#REF!*#REF!)+(#REF!*#REF!))/(#REF!+#REF!+#REF!)","v":{"$error":"#VALUE!"}},{"$f":"((AA1138*#REF!)+(#REF!*#REF!)+(#REF!*#REF!))/(#REF!+#REF!+#REF!)","v":{"$error":"#VALUE!"}},{"$f":"((AA1138*#REF!)+(#REF!*#REF!)+(#REF!*#REF!))/(#REF!+#REF!+#REF!)","v":{"$error":"#VALUE!"}},{"$f":"((AA1138*#REF!)+(#REF!*#REF!)+(#REF!*#REF!))/(#REF!+#REF!+#REF!)","v":{"$error":"#VALUE!"}}]
[null,null,null,null,null,null,null,null,null,null,null,null,null,null,null,null,null,null,null,null,null,1137,{"$error":"#VALUE!"},{"$f":"AVERAGE($W$3:W1139)","v":{"$error":"#VALUE!"}},null,{"$error":"#VALUE!"},{"$error":"#VALUE!"},{"$f":"AVERAGE($AA$3:AA1139)","v":{"$error":"#VALUE!"}},null,null,null,{"$f":"((AA1139*#REF!)+(#REF!*#REF!)+(#REF!*#REF!))/(#REF!+#REF!+#REF!)","v":{"$error":"#VALUE!"}},{"$f":"((AA1139*#REF!)+(#REF!*#REF!)+(#REF!*#REF!))/(#REF!+#REF!+#REF!)","v":{"$error":"#VALUE!"}},{"$f":"((AA1139*#REF!)+(#REF!*#REF!)+(#REF!*#REF!))/(#REF!+#REF!+#REF!)","v":{"$error":"#VALUE!"}},{"$f":"((AA1139*#REF!)+(#REF!*#REF!)+(#REF!*#REF!))/(#REF!+#REF!+#REF!)","v":{"$error":"#VALUE!"}},{"$f":"((AA1139*#REF!)+(#REF!*#REF!)+(#REF!*#REF!))/(#REF!+#REF!+#REF!)","v":{"$error":"#VALUE!"}},{"$f":"((AA1139*#REF!)+(#REF!*#REF!)+(#REF!*#REF!))/(#REF!+#REF!+#REF!)","v":{"$error":"#VALUE!"}},{"$f":"((AA1139*#REF!)+(#REF!*#REF!)+(#REF!*#REF!))/(#REF!+#REF!+#REF!)","v":{"$error":"#VALUE!"}}]
[null,null,null,null,null,null,null,null,null,null,null,null,null,null,null,null,null,null,null,null,null,1138,{"$error":"#VALUE!"},{"$f":"AVERAGE($W$3:W1140)","v":{"$error":"#VALUE!"}},null,{"$error":"#VALUE!"},{"$error":"#VALUE!"},{"$f":"AVERAGE($AA$3:AA1140)","v":{"$error":"#VALUE!"}},null,null,null,{"$f":"((AA1140*#REF!)+(#REF!*#REF!)+(#REF!*#REF!))/(#REF!+#REF!+#REF!)","v":{"$error":"#VALUE!"}},{"$f":"((AA1140*#REF!)+(#REF!*#REF!)+(#REF!*#REF!))/(#REF!+#REF!+#REF!)","v":{"$error":"#VALUE!"}},{"$f":"((AA1140*#REF!)+(#REF!*#REF!)+(#REF!*#REF!))/(#REF!+#REF!+#REF!)","v":{"$error":"#VALUE!"}},{"$f":"((AA1140*#REF!)+(#REF!*#REF!)+(#REF!*#REF!))/(#REF!+#REF!+#REF!)","v":{"$error":"#VALUE!"}},{"$f":"((AA1140*#REF!)+(#REF!*#REF!)+(#REF!*#REF!))/(#REF!+#REF!+#REF!)","v":{"$error":"#VALUE!"}},{"$f":"((AA1140*#REF!)+(#REF!*#REF!)+(#REF!*#REF!))/(#REF!+#REF!+#REF!)","v":{"$error":"#VALUE!"}},{"$f":"((AA1140*#REF!)+(#REF!*#REF!)+(#REF!*#REF!))/(#REF!+#REF!+#REF!)","v":{"$error":"#VALUE!"}}]
[null,null,null,null,null,null,null,null,null,null,null,null,null,null,null,null,null,null,null,null,null,1139,{"$error":"#VALUE!"},{"$f":"AVERAGE($W$3:W1141)","v":{"$error":"#VALUE!"}},null,{"$error":"#VALUE!"},{"$error":"#VALUE!"},{"$f":"AVERAGE($AA$3:AA1141)","v":{"$error":"#VALUE!"}},null,null,null,{"$f":"((AA1141*#REF!)+(#REF!*#REF!)+(#REF!*#REF!))/(#REF!+#REF!+#REF!)","v":{"$error":"#VALUE!"}},{"$f":"((AA1141*#REF!)+(#REF!*#REF!)+(#REF!*#REF!))/(#REF!+#REF!+#REF!)","v":{"$error":"#VALUE!"}},{"$f":"((AA1141*#REF!)+(#REF!*#REF!)+(#REF!*#REF!))/(#REF!+#REF!+#REF!)","v":{"$error":"#VALUE!"}},{"$f":"((AA1141*#REF!)+(#REF!*#REF!)+(#REF!*#REF!))/(#REF!+#REF!+#REF!)","v":{"$error":"#VALUE!"}},{"$f":"((AA1141*#REF!)+(#REF!*#REF!)+(#REF!*#REF!))/(#REF!+#REF!+#REF!)","v":{"$error":"#VALUE!"}},{"$f":"((AA1141*#REF!)+(#REF!*#REF!)+(#REF!*#REF!))/(#REF!+#REF!+#REF!)","v":{"$error":"#VALUE!"}},{"$f":"((AA1141*#REF!)+(#REF!*#REF!)+(#REF!*#REF!))/(#REF!+#REF!+#REF!)","v":{"$error":"#VALUE!"}}]
[null,null,null,null,null,null,null,null,null,null,null,null,null,null,null,null,null,null,null,null,null,1140,{"$error":"#VALUE!"},{"$f":"AVERAGE($W$3:W1142)","v":{"$error":"#VALUE!"}},null,{"$error":"#VALUE!"},{"$error":"#VALUE!"},{"$f":"AVERAGE($AA$3:AA1142)","v":{"$error":"#VALUE!"}},null,null,null,{"$f":"((AA1142*#REF!)+(#REF!*#REF!)+(#REF!*#REF!))/(#REF!+#REF!+#REF!)","v":{"$error":"#VALUE!"}},{"$f":"((AA1142*#REF!)+(#REF!*#REF!)+(#REF!*#REF!))/(#REF!+#REF!+#REF!)","v":{"$error":"#VALUE!"}},{"$f":"((AA1142*#REF!)+(#REF!*#REF!)+(#REF!*#REF!))/(#REF!+#REF!+#REF!)","v":{"$error":"#VALUE!"}},{"$f":"((AA1142*#REF!)+(#REF!*#REF!)+(#REF!*#REF!))/(#REF!+#REF!+#REF!)","v":{"$error":"#VALUE!"}},{"$f":"((AA1142*#REF!)+(#REF!*#REF!)+(#REF!*#REF!))/(#REF!+#REF!+#REF!)","v":{"$error":"#VALUE!"}},{"$f":"((AA1142*#REF!)+(#REF!*#REF!)+(#REF!*#REF!))/(#REF!+#REF!+#REF!)","v":{"$error":"#VALUE!"}},{"$f":"((AA1142*#REF!)+(#REF!*#REF!)+(#REF!*#REF!))/(#REF!+#REF!+#REF!)","v":{"$error":"#VALUE!"}}]
[null,null,null,null,null,null,null,null,null,null,null,null,null,null,null,null,null,null,null,null,null,1141,{"$error":"#VALUE!"},{"$f":"AVERAGE($W$3:W1143)","v":{"$error":"#VALUE!"}},null,{"$error":"#VALUE!"},{"$error":"#VALUE!"},{"$f":"AVERAGE($AA$3:AA1143)","v":{"$error":"#VALUE!"}},null,null,null,{"$f":"((AA1143*#REF!)+(#REF!*#REF!)+(#REF!*#REF!))/(#REF!+#REF!+#REF!)","v":{"$error":"#VALUE!"}},{"$f":"((AA1143*#REF!)+(#REF!*#REF!)+(#REF!*#REF!))/(#REF!+#REF!+#REF!)","v":{"$error":"#VALUE!"}},{"$f":"((AA1143*#REF!)+(#REF!*#REF!)+(#REF!*#REF!))/(#REF!+#REF!+#REF!)","v":{"$error":"#VALUE!"}},{"$f":"((AA1143*#REF!)+(#REF!*#REF!)+(#REF!*#REF!))/(#REF!+#REF!+#REF!)","v":{"$error":"#VALUE!"}},{"$f":"((AA1143*#REF!)+(#REF!*#REF!)+(#REF!*#REF!))/(#REF!+#REF!+#REF!)","v":{"$error":"#VALUE!"}},{"$f":"((AA1143*#REF!)+(#REF!*#REF!)+(#REF!*#REF!))/(#REF!+#REF!+#REF!)","v":{"$error":"#VALUE!"}},{"$f":"((AA1143*#REF!)+(#REF!*#REF!)+(#REF!*#REF!))/(#REF!+#REF!+#REF!)","v":{"$error":"#VALUE!"}}]
[null,null,null,null,null,null,null,null,null,null,null,null,null,null,null,null,null,null,null,null,null,1142,{"$error":"#VALUE!"},{"$f":"AVERAGE($W$3:W1144)","v":{"$error":"#VALUE!"}},null,{"$error":"#VALUE!"},{"$error":"#VALUE!"},{"$f":"AVERAGE($AA$3:AA1144)","v":{"$error":"#VALUE!"}},null,null,null,{"$f":"((AA1144*#REF!)+(#REF!*#REF!)+(#REF!*#REF!))/(#REF!+#REF!+#REF!)","v":{"$error":"#VALUE!"}},{"$f":"((AA1144*#REF!)+(#REF!*#REF!)+(#REF!*#REF!))/(#REF!+#REF!+#REF!)","v":{"$error":"#VALUE!"}},{"$f":"((AA1144*#REF!)+(#REF!*#REF!)+(#REF!*#REF!))/(#REF!+#REF!+#REF!)","v":{"$error":"#VALUE!"}},{"$f":"((AA1144*#REF!)+(#REF!*#REF!)+(#REF!*#REF!))/(#REF!+#REF!+#REF!)","v":{"$error":"#VALUE!"}},{"$f":"((AA1144*#REF!)+(#REF!*#REF!)+(#REF!*#REF!))/(#REF!+#REF!+#REF!)","v":{"$error":"#VALUE!"}},{"$f":"((AA1144*#REF!)+(#REF!*#REF!)+(#REF!*#REF!))/(#REF!+#REF!+#REF!)","v":{"$error":"#VALUE!"}},{"$f":"((AA1144*#REF!)+(#REF!*#REF!)+(#REF!*#REF!))/(#REF!+#REF!+#REF!)","v":{"$error":"#VALUE!"}}]
[null,null,null,null,null,null,null,null,null,null,null,null,null,null,null,null,null,null,null,null,null,1143,{"$error":"#VALUE!"},{"$f":"AVERAGE($W$3:W1145)","v":{"$error":"#VALUE!"}},null,{"$error":"#VALUE!"},{"$error":"#VALUE!"},{"$f":"AVERAGE($AA$3:AA1145)","v":{"$error":"#VALUE!"}},null,null,null,{"$f":"((AA1145*#REF!)+(#REF!*#REF!)+(#REF!*#REF!))/(#REF!+#REF!+#REF!)","v":{"$error":"#VALUE!"}},{"$f":"((AA1145*#REF!)+(#REF!*#REF!)+(#REF!*#REF!))/(#REF!+#REF!+#REF!)","v":{"$error":"#VALUE!"}},{"$f":"((AA1145*#REF!)+(#REF!*#REF!)+(#REF!*#REF!))/(#REF!+#REF!+#REF!)","v":{"$error":"#VALUE!"}},{"$f":"((AA1145*#REF!)+(#REF!*#REF!)+(#REF!*#REF!))/(#REF!+#REF!+#REF!)","v":{"$error":"#VALUE!"}},{"$f":"((AA1145*#REF!)+(#REF!*#REF!)+(#REF!*#REF!))/(#REF!+#REF!+#REF!)","v":{"$error":"#VALUE!"}},{"$f":"((AA1145*#REF!)+(#REF!*#REF!)+(#REF!*#REF!))/(#REF!+#REF!+#REF!)","v":{"$error":"#VALUE!"}},{"$f":"((AA1145*#REF!)+(#REF!*#REF!)+(#REF!*#REF!))/(#REF!+#REF!+#REF!)","v":{"$error":"#VALUE!"}}]
[null,null,null,null,null,null,null,null,null,null,null,null,null,null,null,null,null,null,null,null,null,1144,{"$error":"#VALUE!"},{"$f":"AVERAGE($W$3:W1146)","v":{"$error":"#VALUE!"}},null,{"$error":"#VALUE!"},{"$error":"#VALUE!"},{"$f":"AVERAGE($AA$3:AA1146)","v":{"$error":"#VALUE!"}},null,null,null,{"$f":"((AA1146*#REF!)+(#REF!*#REF!)+(#REF!*#REF!))/(#REF!+#REF!+#REF!)","v":{"$error":"#VALUE!"}},{"$f":"((AA1146*#REF!)+(#REF!*#REF!)+(#REF!*#REF!))/(#REF!+#REF!+#REF!)","v":{"$error":"#VALUE!"}},{"$f":"((AA1146*#REF!)+(#REF!*#REF!)+(#REF!*#REF!))/(#REF!+#REF!+#REF!)","v":{"$error":"#VALUE!"}},{"$f":"((AA1146*#REF!)+(#REF!*#REF!)+(#REF!*#REF!))/(#REF!+#REF!+#REF!)","v":{"$error":"#VALUE!"}},{"$f":"((AA1146*#REF!)+(#REF!*#REF!)+(#REF!*#REF!))/(#REF!+#REF!+#REF!)","v":{"$error":"#VALUE!"}},{"$f":"((AA1146*#REF!)+(#REF!*#REF!)+(#REF!*#REF!))/(#REF!+#REF!+#REF!)","v":{"$error":"#VALUE!"}},{"$f":"((AA1146*#REF!)+(#REF!*#REF!)+(#REF!*#REF!))/(#REF!+#REF!+#REF!)","v":{"$error":"#VALUE!"}}]
[null,null,null,null,null,null,null,null,null,null,null,null,null,null,null,null,null,null,null,null,null,1145,{"$error":"#VALUE!"},{"$f":"AVERAGE($W$3:W1147)","v":{"$error":"#VALUE!"}},null,{"$error":"#VALUE!"},{"$error":"#VALUE!"},{"$f":"AVERAGE($AA$3:AA1147)","v":{"$error":"#VALUE!"}},null,null,null,{"$f":"((AA1147*#REF!)+(#REF!*#REF!)+(#REF!*#REF!))/(#REF!+#REF!+#REF!)","v":{"$error":"#VALUE!"}},{"$f":"((AA1147*#REF!)+(#REF!*#REF!)+(#REF!*#REF!))/(#REF!+#REF!+#REF!)","v":{"$error":"#VALUE!"}},{"$f":"((AA1147*#REF!)+(#REF!*#REF!)+(#REF!*#REF!))/(#REF!+#REF!+#REF!)","v":{"$error":"#VALUE!"}},{"$f":"((AA1147*#REF!)+(#REF!*#REF!)+(#REF!*#REF!))/(#REF!+#REF!+#REF!)","v":{"$error":"#VALUE!"}},{"$f":"((AA1147*#REF!)+(#REF!*#REF!)+(#REF!*#REF!))/(#REF!+#REF!+#REF!)","v":{"$error":"#VALUE!"}},{"$f":"((AA1147*#REF!)+(#REF!*#REF!)+(#REF!*#REF!))/(#REF!+#REF!+#REF!)","v":{"$error":"#VALUE!"}},{"$f":"((AA1147*#REF!)+(#REF!*#REF!)+(#REF!*#REF!))/(#REF!+#REF!+#REF!)","v":{"$error":"#VALUE!"}}]
[null,null,null,null,null,null,null,null,null,null,null,null,null,null,null,null,null,null,null,null,null,1146,{"$error":"#VALUE!"},{"$f":"AVERAGE($W$3:W1148)","v":{"$error":"#VALUE!"}},null,{"$error":"#VALUE!"},{"$error":"#VALUE!"},{"$f":"AVERAGE($AA$3:AA1148)","v":{"$error":"#VALUE!"}},null,null,null,{"$f":"((AA1148*#REF!)+(#REF!*#REF!)+(#REF!*#REF!))/(#REF!+#REF!+#REF!)","v":{"$error":"#VALUE!"}},{"$f":"((AA1148*#REF!)+(#REF!*#REF!)+(#REF!*#REF!))/(#REF!+#REF!+#REF!)","v":{"$error":"#VALUE!"}},{"$f":"((AA1148*#REF!)+(#REF!*#REF!)+(#REF!*#REF!))/(#REF!+#REF!+#REF!)","v":{"$error":"#VALUE!"}},{"$f":"((AA1148*#REF!)+(#REF!*#REF!)+(#REF!*#REF!))/(#REF!+#REF!+#REF!)","v":{"$error":"#VALUE!"}},{"$f":"((AA1148*#REF!)+(#REF!*#REF!)+(#REF!*#REF!))/(#REF!+#REF!+#REF!)","v":{"$error":"#VALUE!"}},{"$f":"((AA1148*#REF!)+(#REF!*#REF!)+(#REF!*#REF!))/(#REF!+#REF!+#REF!)","v":{"$error":"#VALUE!"}},{"$f":"((AA1148*#REF!)+(#REF!*#REF!)+(#REF!*#REF!))/(#REF!+#REF!+#REF!)","v":{"$error":"#VALUE!"}}]
[null,null,null,null,null,null,null,null,null,null,null,null,null,null,null,null,null,null,null,null,null,1147,{"$error":"#VALUE!"},{"$f":"AVERAGE($W$3:W1149)","v":{"$error":"#VALUE!"}},null,{"$error":"#VALUE!"},{"$error":"#VALUE!"},{"$f":"AVERAGE($AA$3:AA1149)","v":{"$error":"#VALUE!"}},null,null,null,{"$f":"((AA1149*#REF!)+(#REF!*#REF!)+(#REF!*#REF!))/(#REF!+#REF!+#REF!)","v":{"$error":"#VALUE!"}},{"$f":"((AA1149*#REF!)+(#REF!*#REF!)+(#REF!*#REF!))/(#REF!+#REF!+#REF!)","v":{"$error":"#VALUE!"}},{"$f":"((AA1149*#REF!)+(#REF!*#REF!)+(#REF!*#REF!))/(#REF!+#REF!+#REF!)","v":{"$error":"#VALUE!"}},{"$f":"((AA1149*#REF!)+(#REF!*#REF!)+(#REF!*#REF!))/(#REF!+#REF!+#REF!)","v":{"$error":"#VALUE!"}},{"$f":"((AA1149*#REF!)+(#REF!*#REF!)+(#REF!*#REF!))/(#REF!+#REF!+#REF!)","v":{"$error":"#VALUE!"}},{"$f":"((AA1149*#REF!)+(#REF!*#REF!)+(#REF!*#REF!))/(#REF!+#REF!+#REF!)","v":{"$error":"#VALUE!"}},{"$f":"((AA1149*#REF!)+(#REF!*#REF!)+(#REF!*#REF!))/(#REF!+#REF!+#REF!)","v":{"$error":"#VALUE!"}}]
[null,null,null,null,null,null,null,null,null,null,null,null,null,null,null,null,null,null,null,null,null,1148,{"$f":"IF(($M$7*LN(V1150))+$M$8+$M$10>0,($M$7*LN(V1150))+$M$8+$M$10,0)","v":{"$error":"#VALUE!"}},{"$f":"AVERAGE($W$3:W1150)","v":{"$error":"#VALUE!"}},null,{"$error":"#VALUE!"},{"$error":"#VALUE!"},{"$f":"AVERAGE($AA$3:AA1150)","v":{"$error":"#VALUE!"}},null,null,null,{"$f":"((AA1150*#REF!)+(#REF!*#REF!)+(#REF!*#REF!))/(#REF!+#REF!+#REF!)","v":{"$error":"#VALUE!"}},{"$f":"((AA1150*#REF!)+(#REF!*#REF!)+(#REF!*#REF!))/(#REF!+#REF!+#REF!)","v":{"$error":"#VALUE!"}},{"$f":"((AA1150*#REF!)+(#REF!*#REF!)+(#REF!*#REF!))/(#REF!+#REF!+#REF!)","v":{"$error":"#VALUE!"}},{"$f":"((AA1150*#REF!)+(#REF!*#REF!)+(#REF!*#REF!))/(#REF!+#REF!+#REF!)","v":{"$error":"#VALUE!"}},{"$f":"((AA1150*#REF!)+(#REF!*#REF!)+(#REF!*#REF!))/(#REF!+#REF!+#REF!)","v":{"$error":"#VALUE!"}},{"$f":"((AA1150*#REF!)+(#REF!*#REF!)+(#REF!*#REF!))/(#REF!+#REF!+#REF!)","v":{"$error":"#VALUE!"}},{"$f":"((AA1150*#REF!)+(#REF!*#REF!)+(#REF!*#REF!))/(#REF!+#REF!+#REF!)","v":{"$error":"#VALUE!"}}]
[null,null,null,null,null,null,null,null,null,null,null,null,null,null,null,null,null,null,null,null,null,1149,{"$error":"#VALUE!"},{"$f":"AVERAGE($W$3:W1151)","v":{"$error":"#VALUE!"}},null,{"$error":"#VALUE!"},{"$error":"#VALUE!"},{"$f":"AVERAGE($AA$3:AA1151)","v":{"$error":"#VALUE!"}},null,null,null,{"$f":"((AA1151*#REF!)+(#REF!*#REF!)+(#REF!*#REF!))/(#REF!+#REF!+#REF!)","v":{"$error":"#VALUE!"}},{"$f":"((AA1151*#REF!)+(#REF!*#REF!)+(#REF!*#REF!))/(#REF!+#REF!+#REF!)","v":{"$error":"#VALUE!"}},{"$f":"((AA1151*#REF!)+(#REF!*#REF!)+(#REF!*#REF!))/(#REF!+#REF!+#REF!)","v":{"$error":"#VALUE!"}},{"$f":"((AA1151*#REF!)+(#REF!*#REF!)+(#REF!*#REF!))/(#REF!+#REF!+#REF!)","v":{"$error":"#VALUE!"}},{"$f":"((AA1151*#REF!)+(#REF!*#REF!)+(#REF!*#REF!))/(#REF!+#REF!+#REF!)","v":{"$error":"#VALUE!"}},{"$f":"((AA1151*#REF!)+(#REF!*#REF!)+(#REF!*#REF!))/(#REF!+#REF!+#REF!)","v":{"$error":"#VALUE!"}},{"$f":"((AA1151*#REF!)+(#REF!*#REF!)+(#REF!*#REF!))/(#REF!+#REF!+#REF!)","v":{"$error":"#VALUE!"}}]
[null,null,null,null,null,null,null,null,null,null,null,null,null,null,null,null,null,null,null,null,null,1150,{"$error":"#VALUE!"},{"$f":"AVERAGE($W$3:W1152)","v":{"$error":"#VALUE!"}},null,{"$error":"#VALUE!"},{"$error":"#VALUE!"},{"$f":"AVERAGE($AA$3:AA1152)","v":{"$error":"#VALUE!"}},null,null,null,{"$f":"((AA1152*#REF!)+(#REF!*#REF!)+(#REF!*#REF!))/(#REF!+#REF!+#REF!)","v":{"$error":"#VALUE!"}},{"$f":"((AA1152*#REF!)+(#REF!*#REF!)+(#REF!*#REF!))/(#REF!+#REF!+#REF!)","v":{"$error":"#VALUE!"}},{"$f":"((AA1152*#REF!)+(#REF!*#REF!)+(#REF!*#REF!))/(#REF!+#REF!+#REF!)","v":{"$error":"#VALUE!"}},{"$f":"((AA1152*#REF!)+(#REF!*#REF!)+(#REF!*#REF!))/(#REF!+#REF!+#REF!)","v":{"$error":"#VALUE!"}},{"$f":"((AA1152*#REF!)+(#REF!*#REF!)+(#REF!*#REF!))/(#REF!+#REF!+#REF!)","v":{"$error":"#VALUE!"}},{"$f":"((AA1152*#REF!)+(#REF!*#REF!)+(#REF!*#REF!))/(#REF!+#REF!+#REF!)","v":{"$error":"#VALUE!"}},{"$f":"((AA1152*#REF!)+(#REF!*#REF!)+(#REF!*#REF!))/(#REF!+#REF!+#REF!)","v":{"$error":"#VALUE!"}}]
[null,null,null,null,null,null,null,null,null,null,null,null,null,null,null,null,null,null,null,null,null,1151,{"$error":"#VALUE!"},{"$f":"AVERAGE($W$3:W1153)","v":{"$error":"#VALUE!"}},null,{"$error":"#VALUE!"},{"$error":"#VALUE!"},{"$f":"AVERAGE($AA$3:AA1153)","v":{"$error":"#VALUE!"}},null,null,null,{"$f":"((AA1153*#REF!)+(#REF!*#REF!)+(#REF!*#REF!))/(#REF!+#REF!+#REF!)","v":{"$error":"#VALUE!"}},{"$f":"((AA1153*#REF!)+(#REF!*#REF!)+(#REF!*#REF!))/(#REF!+#REF!+#REF!)","v":{"$error":"#VALUE!"}},{"$f":"((AA1153*#REF!)+(#REF!*#REF!)+(#REF!*#REF!))/(#REF!+#REF!+#REF!)","v":{"$error":"#VALUE!"}},{"$f":"((AA1153*#REF!)+(#REF!*#REF!)+(#REF!*#REF!))/(#REF!+#REF!+#REF!)","v":{"$error":"#VALUE!"}},{"$f":"((AA1153*#REF!)+(#REF!*#REF!)+(#REF!*#REF!))/(#REF!+#REF!+#REF!)","v":{"$error":"#VALUE!"}},{"$f":"((AA1153*#REF!)+(#REF!*#REF!)+(#REF!*#REF!))/(#REF!+#REF!+#REF!)","v":{"$error":"#VALUE!"}},{"$f":"((AA1153*#REF!)+(#REF!*#REF!)+(#REF!*#REF!))/(#REF!+#REF!+#REF!)","v":{"$error":"#VALUE!"}}]
[null,null,null,null,null,null,null,null,null,null,null,null,null,null,null,null,null,null,null,null,null,1152,{"$error":"#VALUE!"},{"$f":"AVERAGE($W$3:W1154)","v":{"$error":"#VALUE!"}},null,{"$error":"#VALUE!"},{"$error":"#VALUE!"},{"$f":"AVERAGE($AA$3:AA1154)","v":{"$error":"#VALUE!"}},null,null,null,{"$f":"((AA1154*#REF!)+(#REF!*#REF!)+(#REF!*#REF!))/(#REF!+#REF!+#REF!)","v":{"$error":"#VALUE!"}},{"$f":"((AA1154*#REF!)+(#REF!*#REF!)+(#REF!*#REF!))/(#REF!+#REF!+#REF!)","v":{"$error":"#VALUE!"}},{"$f":"((AA1154*#REF!)+(#REF!*#REF!)+(#REF!*#REF!))/(#REF!+#REF!+#REF!)","v":{"$error":"#VALUE!"}},{"$f":"((AA1154*#REF!)+(#REF!*#REF!)+(#REF!*#REF!))/(#REF!+#REF!+#REF!)","v":{"$error":"#VALUE!"}},{"$f":"((AA1154*#REF!)+(#REF!*#REF!)+(#REF!*#REF!))/(#REF!+#REF!+#REF!)","v":{"$error":"#VALUE!"}},{"$f":"((AA1154*#REF!)+(#REF!*#REF!)+(#REF!*#REF!))/(#REF!+#REF!+#REF!)","v":{"$error":"#VALUE!"}},{"$f":"((AA1154*#REF!)+(#REF!*#REF!)+(#REF!*#REF!))/(#REF!+#REF!+#REF!)","v":{"$error":"#VALUE!"}}]
[null,null,null,null,null,null,null,null,null,null,null,null,null,null,null,null,null,null,null,null,null,1153,{"$error":"#VALUE!"},{"$f":"AVERAGE($W$3:W1155)","v":{"$error":"#VALUE!"}},null,{"$error":"#VALUE!"},{"$error":"#VALUE!"},{"$f":"AVERAGE($AA$3:AA1155)","v":{"$error":"#VALUE!"}},null,null,null,{"$f":"((AA1155*#REF!)+(#REF!*#REF!)+(#REF!*#REF!))/(#REF!+#REF!+#REF!)","v":{"$error":"#VALUE!"}},{"$f":"((AA1155*#REF!)+(#REF!*#REF!)+(#REF!*#REF!))/(#REF!+#REF!+#REF!)","v":{"$error":"#VALUE!"}},{"$f":"((AA1155*#REF!)+(#REF!*#REF!)+(#REF!*#REF!))/(#REF!+#REF!+#REF!)","v":{"$error":"#VALUE!"}},{"$f":"((AA1155*#REF!)+(#REF!*#REF!)+(#REF!*#REF!))/(#REF!+#REF!+#REF!)","v":{"$error":"#VALUE!"}},{"$f":"((AA1155*#REF!)+(#REF!*#REF!)+(#REF!*#REF!))/(#REF!+#REF!+#REF!)","v":{"$error":"#VALUE!"}},{"$f":"((AA1155*#REF!)+(#REF!*#REF!)+(#REF!*#REF!))/(#REF!+#REF!+#REF!)","v":{"$error":"#VALUE!"}},{"$f":"((AA1155*#REF!)+(#REF!*#REF!)+(#REF!*#REF!))/(#REF!+#REF!+#REF!)","v":{"$error":"#VALUE!"}}]
[null,null,null,null,null,null,null,null,null,null,null,null,null,null,null,null,null,null,null,null,null,1154,{"$error":"#VALUE!"},{"$f":"AVERAGE($W$3:W1156)","v":{"$error":"#VALUE!"}},null,{"$f":"$M$2+W1156","v":{"$error":"#VALUE!"}},{"$f":"(Z1156*(9/5))+32","v":{"$error":"#VALUE!"}},{"$f":"AVERAGE($AA$3:AA1156)","v":{"$error":"#VALUE!"}},null,null,null,{"$f":"((AA1156*#REF!)+(#REF!*#REF!)+(#REF!*#REF!))/(#REF!+#REF!+#REF!)","v":{"$error":"#VALUE!"}},{"$f":"((AA1156*#REF!)+(#REF!*#REF!)+(#REF!*#REF!))/(#REF!+#REF!+#REF!)","v":{"$error":"#VALUE!"}},{"$f":"((AA1156*#REF!)+(#REF!*#REF!)+(#REF!*#REF!))/(#REF!+#REF!+#REF!)","v":{"$error":"#VALUE!"}},{"$f":"((AA1156*#REF!)+(#REF!*#REF!)+(#REF!*#REF!))/(#REF!+#REF!+#REF!)","v":{"$error":"#VALUE!"}},{"$f":"((AA1156*#REF!)+(#REF!*#REF!)+(#REF!*#REF!))/(#REF!+#REF!+#REF!)","v":{"$error":"#VALUE!"}},{"$f":"((AA1156*#REF!)+(#REF!*#REF!)+(#REF!*#REF!))/(#REF!+#REF!+#REF!)","v":{"$error":"#VALUE!"}},{"$f":"((AA1156*#REF!)+(#REF!*#REF!)+(#REF!*#REF!))/(#REF!+#REF!+#REF!)","v":{"$error":"#VALUE!"}}]
[null,null,null,null,null,null,null,null,null,null,null,null,null,null,null,null,null,null,null,null,null,1155,{"$error":"#VALUE!"},{"$f":"AVERAGE($W$3:W1157)","v":{"$error":"#VALUE!"}},null,{"$error":"#VALUE!"},{"$error":"#VALUE!"},{"$f":"AVERAGE($AA$3:AA1157)","v":{"$error":"#VALUE!"}},null,null,null,{"$f":"((AA1157*#REF!)+(#REF!*#REF!)+(#REF!*#REF!))/(#REF!+#REF!+#REF!)","v":{"$error":"#VALUE!"}},{"$f":"((AA1157*#REF!)+(#REF!*#REF!)+(#REF!*#REF!))/(#REF!+#REF!+#REF!)","v":{"$error":"#VALUE!"}},{"$f":"((AA1157*#REF!)+(#REF!*#REF!)+(#REF!*#REF!))/(#REF!+#REF!+#REF!)","v":{"$error":"#VALUE!"}},{"$f":"((AA1157*#REF!)+(#REF!*#REF!)+(#REF!*#REF!))/(#REF!+#REF!+#REF!)","v":{"$error":"#VALUE!"}},{"$f":"((AA1157*#REF!)+(#REF!*#REF!)+(#REF!*#REF!))/(#REF!+#REF!+#REF!)","v":{"$error":"#VALUE!"}},{"$f":"((AA1157*#REF!)+(#REF!*#REF!)+(#REF!*#REF!))/(#REF!+#REF!+#REF!)","v":{"$error":"#VALUE!"}},{"$f":"((AA1157*#REF!)+(#REF!*#REF!)+(#REF!*#REF!))/(#REF!+#REF!+#REF!)","v":{"$error":"#VALUE!"}}]
[null,null,null,null,null,null,null,null,null,null,null,null,null,null,null,null,null,null,null,null,null,1156,{"$error":"#VALUE!"},{"$f":"AVERAGE($W$3:W1158)","v":{"$error":"#VALUE!"}},null,{"$error":"#VALUE!"},{"$error":"#VALUE!"},{"$f":"AVERAGE($AA$3:AA1158)","v":{"$error":"#VALUE!"}},null,null,null,{"$f":"((AA1158*#REF!)+(#REF!*#REF!)+(#REF!*#REF!))/(#REF!+#REF!+#REF!)","v":{"$error":"#VALUE!"}},{"$f":"((AA1158*#REF!)+(#REF!*#REF!)+(#REF!*#REF!))/(#REF!+#REF!+#REF!)","v":{"$error":"#VALUE!"}},{"$f":"((AA1158*#REF!)+(#REF!*#REF!)+(#REF!*#REF!))/(#REF!+#REF!+#REF!)","v":{"$error":"#VALUE!"}},{"$f":"((AA1158*#REF!)+(#REF!*#REF!)+(#REF!*#REF!))/(#REF!+#REF!+#REF!)","v":{"$error":"#VALUE!"}},{"$f":"((AA1158*#REF!)+(#REF!*#REF!)+(#REF!*#REF!))/(#REF!+#REF!+#REF!)","v":{"$error":"#VALUE!"}},{"$f":"((AA1158*#REF!)+(#REF!*#REF!)+(#REF!*#REF!))/(#REF!+#REF!+#REF!)","v":{"$error":"#VALUE!"}},{"$f":"((AA1158*#REF!)+(#REF!*#REF!)+(#REF!*#REF!))/(#REF!+#REF!+#REF!)","v":{"$error":"#VALUE!"}}]
[null,null,null,null,null,null,null,null,null,null,null,null,null,null,null,null,null,null,null,null,null,1157,{"$error":"#VALUE!"},{"$f":"AVERAGE($W$3:W1159)","v":{"$error":"#VALUE!"}},null,{"$error":"#VALUE!"},{"$error":"#VALUE!"},{"$f":"AVERAGE($AA$3:AA1159)","v":{"$error":"#VALUE!"}},null,null,null,{"$f":"((AA1159*#REF!)+(#REF!*#REF!)+(#REF!*#REF!))/(#REF!+#REF!+#REF!)","v":{"$error":"#VALUE!"}},{"$f":"((AA1159*#REF!)+(#REF!*#REF!)+(#REF!*#REF!))/(#REF!+#REF!+#REF!)","v":{"$error":"#VALUE!"}},{"$f":"((AA1159*#REF!)+(#REF!*#REF!)+(#REF!*#REF!))/(#REF!+#REF!+#REF!)","v":{"$error":"#VALUE!"}},{"$f":"((AA1159*#REF!)+(#REF!*#REF!)+(#REF!*#REF!))/(#REF!+#REF!+#REF!)","v":{"$error":"#VALUE!"}},{"$f":"((AA1159*#REF!)+(#REF!*#REF!)+(#REF!*#REF!))/(#REF!+#REF!+#REF!)","v":{"$error":"#VALUE!"}},{"$f":"((AA1159*#REF!)+(#REF!*#REF!)+(#REF!*#REF!))/(#REF!+#REF!+#REF!)","v":{"$error":"#VALUE!"}},{"$f":"((AA1159*#REF!)+(#REF!*#REF!)+(#REF!*#REF!))/(#REF!+#REF!+#REF!)","v":{"$error":"#VALUE!"}}]
[null,null,null,null,null,null,null,null,null,null,null,null,null,null,null,null,null,null,null,null,null,1158,{"$error":"#VALUE!"},{"$f":"AVERAGE($W$3:W1160)","v":{"$error":"#VALUE!"}},null,{"$error":"#VALUE!"},{"$error":"#VALUE!"},{"$f":"AVERAGE($AA$3:AA1160)","v":{"$error":"#VALUE!"}},null,null,null,{"$f":"((AA1160*#REF!)+(#REF!*#REF!)+(#REF!*#REF!))/(#REF!+#REF!+#REF!)","v":{"$error":"#VALUE!"}},{"$f":"((AA1160*#REF!)+(#REF!*#REF!)+(#REF!*#REF!))/(#REF!+#REF!+#REF!)","v":{"$error":"#VALUE!"}},{"$f":"((AA1160*#REF!)+(#REF!*#REF!)+(#REF!*#REF!))/(#REF!+#REF!+#REF!)","v":{"$error":"#VALUE!"}},{"$f":"((AA1160*#REF!)+(#REF!*#REF!)+(#REF!*#REF!))/(#REF!+#REF!+#REF!)","v":{"$error":"#VALUE!"}},{"$f":"((AA1160*#REF!)+(#REF!*#REF!)+(#REF!*#REF!))/(#REF!+#REF!+#REF!)","v":{"$error":"#VALUE!"}},{"$f":"((AA1160*#REF!)+(#REF!*#REF!)+(#REF!*#REF!))/(#REF!+#REF!+#REF!)","v":{"$error":"#VALUE!"}},{"$f":"((AA1160*#REF!)+(#REF!*#REF!)+(#REF!*#REF!))/(#REF!+#REF!+#REF!)","v":{"$error":"#VALUE!"}}]
[null,null,null,null,null,null,null,null,null,null,null,null,null,null,null,null,null,null,null,null,null,1159,{"$error":"#VALUE!"},{"$f":"AVERAGE($W$3:W1161)","v":{"$error":"#VALUE!"}},null,{"$error":"#VALUE!"},{"$error":"#VALUE!"},{"$f":"AVERAGE($AA$3:AA1161)","v":{"$error":"#VALUE!"}},null,null,null,{"$f":"((AA1161*#REF!)+(#REF!*#REF!)+(#REF!*#REF!))/(#REF!+#REF!+#REF!)","v":{"$error":"#VALUE!"}},{"$f":"((AA1161*#REF!)+(#REF!*#REF!)+(#REF!*#REF!))/(#REF!+#REF!+#REF!)","v":{"$error":"#VALUE!"}},{"$f":"((AA1161*#REF!)+(#REF!*#REF!)+(#REF!*#REF!))/(#REF!+#REF!+#REF!)","v":{"$error":"#VALUE!"}},{"$f":"((AA1161*#REF!)+(#REF!*#REF!)+(#REF!*#REF!))/(#REF!+#REF!+#REF!)","v":{"$error":"#VALUE!"}},{"$f":"((AA1161*#REF!)+(#REF!*#REF!)+(#REF!*#REF!))/(#REF!+#REF!+#REF!)","v":{"$error":"#VALUE!"}},{"$f":"((AA1161*#REF!)+(#REF!*#REF!)+(#REF!*#REF!))/(#REF!+#REF!+#REF!)","v":{"$error":"#VALUE!"}},{"$f":"((AA1161*#REF!)+(#REF!*#REF!)+(#REF!*#REF!))/(#REF!+#REF!+#REF!)","v":{"$error":"#VALUE!"}}]
[null,null,null,null,null,null,null,null,null,null,null,null,null,null,null,null,null,null,null,null,null,1160,{"$error":"#VALUE!"},{"$f":"AVERAGE($W$3:W1162)","v":{"$error":"#VALUE!"}},null,{"$error":"#VALUE!"},{"$error":"#VALUE!"},{"$f":"AVERAGE($AA$3:AA1162)","v":{"$error":"#VALUE!"}},null,null,null,{"$f":"((AA1162*#REF!)+(#REF!*#REF!)+(#REF!*#REF!))/(#REF!+#REF!+#REF!)","v":{"$error":"#VALUE!"}},{"$f":"((AA1162*#REF!)+(#REF!*#REF!)+(#REF!*#REF!))/(#REF!+#REF!+#REF!)","v":{"$error":"#VALUE!"}},{"$f":"((AA1162*#REF!)+(#REF!*#REF!)+(#REF!*#REF!))/(#REF!+#REF!+#REF!)","v":{"$error":"#VALUE!"}},{"$f":"((AA1162*#REF!)+(#REF!*#REF!)+(#REF!*#REF!))/(#REF!+#REF!+#REF!)","v":{"$error":"#VALUE!"}},{"$f":"((AA1162*#REF!)+(#REF!*#REF!)+(#REF!*#REF!))/(#REF!+#REF!+#REF!)","v":{"$error":"#VALUE!"}},{"$f":"((AA1162*#REF!)+(#REF!*#REF!)+(#REF!*#REF!))/(#REF!+#REF!+#REF!)","v":{"$error":"#VALUE!"}},{"$f":"((AA1162*#REF!)+(#REF!*#REF!)+(#REF!*#REF!))/(#REF!+#REF!+#REF!)","v":{"$error":"#VALUE!"}}]
[null,null,null,null,null,null,null,null,null,null,null,null,null,null,null,null,null,null,null,null,null,1161,{"$error":"#VALUE!"},{"$f":"AVERAGE($W$3:W1163)","v":{"$error":"#VALUE!"}},null,{"$error":"#VALUE!"},{"$error":"#VALUE!"},{"$f":"AVERAGE($AA$3:AA1163)","v":{"$error":"#VALUE!"}},null,null,null,{"$f":"((AA1163*#REF!)+(#REF!*#REF!)+(#REF!*#REF!))/(#REF!+#REF!+#REF!)","v":{"$error":"#VALUE!"}},{"$f":"((AA1163*#REF!)+(#REF!*#REF!)+(#REF!*#REF!))/(#REF!+#REF!+#REF!)","v":{"$error":"#VALUE!"}},{"$f":"((AA1163*#REF!)+(#REF!*#REF!)+(#REF!*#REF!))/(#REF!+#REF!+#REF!)","v":{"$error":"#VALUE!"}},{"$f":"((AA1163*#REF!)+(#REF!*#REF!)+(#REF!*#REF!))/(#REF!+#REF!+#REF!)","v":{"$error":"#VALUE!"}},{"$f":"((AA1163*#REF!)+(#REF!*#REF!)+(#REF!*#REF!))/(#REF!+#REF!+#REF!)","v":{"$error":"#VALUE!"}},{"$f":"((AA1163*#REF!)+(#REF!*#REF!)+(#REF!*#REF!))/(#REF!+#REF!+#REF!)","v":{"$error":"#VALUE!"}},{"$f":"((AA1163*#REF!)+(#REF!*#REF!)+(#REF!*#REF!))/(#REF!+#REF!+#REF!)","v":{"$error":"#VALUE!"}}]
[null,null,null,null,null,null,null,null,null,null,null,null,null,null,null,null,null,null,null,null,null,1162,{"$error":"#VALUE!"},{"$f":"AVERAGE($W$3:W1164)","v":{"$error":"#VALUE!"}},null,{"$error":"#VALUE!"},{"$error":"#VALUE!"},{"$f":"AVERAGE($AA$3:AA1164)","v":{"$error":"#VALUE!"}},null,null,null,{"$f":"((AA1164*#REF!)+(#REF!*#REF!)+(#REF!*#REF!))/(#REF!+#REF!+#REF!)","v":{"$error":"#VALUE!"}},{"$f":"((AA1164*#REF!)+(#REF!*#REF!)+(#REF!*#REF!))/(#REF!+#REF!+#REF!)","v":{"$error":"#VALUE!"}},{"$f":"((AA1164*#REF!)+(#REF!*#REF!)+(#REF!*#REF!))/(#REF!+#REF!+#REF!)","v":{"$error":"#VALUE!"}},{"$f":"((AA1164*#REF!)+(#REF!*#REF!)+(#REF!*#REF!))/(#REF!+#REF!+#REF!)","v":{"$error":"#VALUE!"}},{"$f":"((AA1164*#REF!)+(#REF!*#REF!)+(#REF!*#REF!))/(#REF!+#REF!+#REF!)","v":{"$error":"#VALUE!"}},{"$f":"((AA1164*#REF!)+(#REF!*#REF!)+(#REF!*#REF!))/(#REF!+#REF!+#REF!)","v":{"$error":"#VALUE!"}},{"$f":"((AA1164*#REF!)+(#REF!*#REF!)+(#REF!*#REF!))/(#REF!+#REF!+#REF!)","v":{"$error":"#VALUE!"}}]
[null,null,null,null,null,null,null,null,null,null,null,null,null,null,null,null,null,null,null,null,null,1163,{"$error":"#VALUE!"},{"$f":"AVERAGE($W$3:W1165)","v":{"$error":"#VALUE!"}},null,{"$error":"#VALUE!"},{"$error":"#VALUE!"},{"$f":"AVERAGE($AA$3:AA1165)","v":{"$error":"#VALUE!"}},null,null,null,{"$f":"((AA1165*#REF!)+(#REF!*#REF!)+(#REF!*#REF!))/(#REF!+#REF!+#REF!)","v":{"$error":"#VALUE!"}},{"$f":"((AA1165*#REF!)+(#REF!*#REF!)+(#REF!*#REF!))/(#REF!+#REF!+#REF!)","v":{"$error":"#VALUE!"}},{"$f":"((AA1165*#REF!)+(#REF!*#REF!)+(#REF!*#REF!))/(#REF!+#REF!+#REF!)","v":{"$error":"#VALUE!"}},{"$f":"((AA1165*#REF!)+(#REF!*#REF!)+(#REF!*#REF!))/(#REF!+#REF!+#REF!)","v":{"$error":"#VALUE!"}},{"$f":"((AA1165*#REF!)+(#REF!*#REF!)+(#REF!*#REF!))/(#REF!+#REF!+#REF!)","v":{"$error":"#VALUE!"}},{"$f":"((AA1165*#REF!)+(#REF!*#REF!)+(#REF!*#REF!))/(#REF!+#REF!+#REF!)","v":{"$error":"#VALUE!"}},{"$f":"((AA1165*#REF!)+(#REF!*#REF!)+(#REF!*#REF!))/(#REF!+#REF!+#REF!)","v":{"$error":"#VALUE!"}}]
[null,null,null,null,null,null,null,null,null,null,null,null,null,null,null,null,null,null,null,null,null,1164,{"$error":"#VALUE!"},{"$f":"AVERAGE($W$3:W1166)","v":{"$error":"#VALUE!"}},null,{"$error":"#VALUE!"},{"$error":"#VALUE!"},{"$f":"AVERAGE($AA$3:AA1166)","v":{"$error":"#VALUE!"}},null,null,null,{"$f":"((AA1166*#REF!)+(#REF!*#REF!)+(#REF!*#REF!))/(#REF!+#REF!+#REF!)","v":{"$error":"#VALUE!"}},{"$f":"((AA1166*#REF!)+(#REF!*#REF!)+(#REF!*#REF!))/(#REF!+#REF!+#REF!)","v":{"$error":"#VALUE!"}},{"$f":"((AA1166*#REF!)+(#REF!*#REF!)+(#REF!*#REF!))/(#REF!+#REF!+#REF!)","v":{"$error":"#VALUE!"}},{"$f":"((AA1166*#REF!)+(#REF!*#REF!)+(#REF!*#REF!))/(#REF!+#REF!+#REF!)","v":{"$error":"#VALUE!"}},{"$f":"((AA1166*#REF!)+(#REF!*#REF!)+(#REF!*#REF!))/(#REF!+#REF!+#REF!)","v":{"$error":"#VALUE!"}},{"$f":"((AA1166*#REF!)+(#REF!*#REF!)+(#REF!*#REF!))/(#REF!+#REF!+#REF!)","v":{"$error":"#VALUE!"}},{"$f":"((AA1166*#REF!)+(#REF!*#REF!)+(#REF!*#REF!))/(#REF!+#REF!+#REF!)","v":{"$error":"#VALUE!"}}]
[null,null,null,null,null,null,null,null,null,null,null,null,null,null,null,null,null,null,null,null,null,1165,{"$error":"#VALUE!"},{"$f":"AVERAGE($W$3:W1167)","v":{"$error":"#VALUE!"}},null,{"$error":"#VALUE!"},{"$error":"#VALUE!"},{"$f":"AVERAGE($AA$3:AA1167)","v":{"$error":"#VALUE!"}},null,null,null,{"$f":"((AA1167*#REF!)+(#REF!*#REF!)+(#REF!*#REF!))/(#REF!+#REF!+#REF!)","v":{"$error":"#VALUE!"}},{"$f":"((AA1167*#REF!)+(#REF!*#REF!)+(#REF!*#REF!))/(#REF!+#REF!+#REF!)","v":{"$error":"#VALUE!"}},{"$f":"((AA1167*#REF!)+(#REF!*#REF!)+(#REF!*#REF!))/(#REF!+#REF!+#REF!)","v":{"$error":"#VALUE!"}},{"$f":"((AA1167*#REF!)+(#REF!*#REF!)+(#REF!*#REF!))/(#REF!+#REF!+#REF!)","v":{"$error":"#VALUE!"}},{"$f":"((AA1167*#REF!)+(#REF!*#REF!)+(#REF!*#REF!))/(#REF!+#REF!+#REF!)","v":{"$error":"#VALUE!"}},{"$f":"((AA1167*#REF!)+(#REF!*#REF!)+(#REF!*#REF!))/(#REF!+#REF!+#REF!)","v":{"$error":"#VALUE!"}},{"$f":"((AA1167*#REF!)+(#REF!*#REF!)+(#REF!*#REF!))/(#REF!+#REF!+#REF!)","v":{"$error":"#VALUE!"}}]
[null,null,null,null,null,null,null,null,null,null,null,null,null,null,null,null,null,null,null,null,null,1166,{"$error":"#VALUE!"},{"$f":"AVERAGE($W$3:W1168)","v":{"$error":"#VALUE!"}},null,{"$error":"#VALUE!"},{"$error":"#VALUE!"},{"$f":"AVERAGE($AA$3:AA1168)","v":{"$error":"#VALUE!"}},null,null,null,{"$f":"((AA1168*#REF!)+(#REF!*#REF!)+(#REF!*#REF!))/(#REF!+#REF!+#REF!)","v":{"$error":"#VALUE!"}},{"$f":"((AA1168*#REF!)+(#REF!*#REF!)+(#REF!*#REF!))/(#REF!+#REF!+#REF!)","v":{"$error":"#VALUE!"}},{"$f":"((AA1168*#REF!)+(#REF!*#REF!)+(#REF!*#REF!))/(#REF!+#REF!+#REF!)","v":{"$error":"#VALUE!"}},{"$f":"((AA1168*#REF!)+(#REF!*#REF!)+(#REF!*#REF!))/(#REF!+#REF!+#REF!)","v":{"$error":"#VALUE!"}},{"$f":"((AA1168*#REF!)+(#REF!*#REF!)+(#REF!*#REF!))/(#REF!+#REF!+#REF!)","v":{"$error":"#VALUE!"}},{"$f":"((AA1168*#REF!)+(#REF!*#REF!)+(#REF!*#REF!))/(#REF!+#REF!+#REF!)","v":{"$error":"#VALUE!"}},{"$f":"((AA1168*#REF!)+(#REF!*#REF!)+(#REF!*#REF!))/(#REF!+#REF!+#REF!)","v":{"$error":"#VALUE!"}}]
[null,null,null,null,null,null,null,null,null,null,null,null,null,null,null,null,null,null,null,null,null,1167,{"$error":"#VALUE!"},{"$f":"AVERAGE($W$3:W1169)","v":{"$error":"#VALUE!"}},null,{"$error":"#VALUE!"},{"$error":"#VALUE!"},{"$f":"AVERAGE($AA$3:AA1169)","v":{"$error":"#VALUE!"}},null,null,null,{"$f":"((AA1169*#REF!)+(#REF!*#REF!)+(#REF!*#REF!))/(#REF!+#REF!+#REF!)","v":{"$error":"#VALUE!"}},{"$f":"((AA1169*#REF!)+(#REF!*#REF!)+(#REF!*#REF!))/(#REF!+#REF!+#REF!)","v":{"$error":"#VALUE!"}},{"$f":"((AA1169*#REF!)+(#REF!*#REF!)+(#REF!*#REF!))/(#REF!+#REF!+#REF!)","v":{"$error":"#VALUE!"}},{"$f":"((AA1169*#REF!)+(#REF!*#REF!)+(#REF!*#REF!))/(#REF!+#REF!+#REF!)","v":{"$error":"#VALUE!"}},{"$f":"((AA1169*#REF!)+(#REF!*#REF!)+(#REF!*#REF!))/(#REF!+#REF!+#REF!)","v":{"$error":"#VALUE!"}},{"$f":"((AA1169*#REF!)+(#REF!*#REF!)+(#REF!*#REF!))/(#REF!+#REF!+#REF!)","v":{"$error":"#VALUE!"}},{"$f":"((AA1169*#REF!)+(#REF!*#REF!)+(#REF!*#REF!))/(#REF!+#REF!+#REF!)","v":{"$error":"#VALUE!"}}]
[null,null,null,null,null,null,null,null,null,null,null,null,null,null,null,null,null,null,null,null,null,1168,{"$error":"#VALUE!"},{"$f":"AVERAGE($W$3:W1170)","v":{"$error":"#VALUE!"}},null,{"$error":"#VALUE!"},{"$error":"#VALUE!"},{"$f":"AVERAGE($AA$3:AA1170)","v":{"$error":"#VALUE!"}},null,null,null,{"$f":"((AA1170*#REF!)+(#REF!*#REF!)+(#REF!*#REF!))/(#REF!+#REF!+#REF!)","v":{"$error":"#VALUE!"}},{"$f":"((AA1170*#REF!)+(#REF!*#REF!)+(#REF!*#REF!))/(#REF!+#REF!+#REF!)","v":{"$error":"#VALUE!"}},{"$f":"((AA1170*#REF!)+(#REF!*#REF!)+(#REF!*#REF!))/(#REF!+#REF!+#REF!)","v":{"$error":"#VALUE!"}},{"$f":"((AA1170*#REF!)+(#REF!*#REF!)+(#REF!*#REF!))/(#REF!+#REF!+#REF!)","v":{"$error":"#VALUE!"}},{"$f":"((AA1170*#REF!)+(#REF!*#REF!)+(#REF!*#REF!))/(#REF!+#REF!+#REF!)","v":{"$error":"#VALUE!"}},{"$f":"((AA1170*#REF!)+(#REF!*#REF!)+(#REF!*#REF!))/(#REF!+#REF!+#REF!)","v":{"$error":"#VALUE!"}},{"$f":"((AA1170*#REF!)+(#REF!*#REF!)+(#REF!*#REF!))/(#REF!+#REF!+#REF!)","v":{"$error":"#VALUE!"}}]
[null,null,null,null,null,null,null,null,null,null,null,null,null,null,null,null,null,null,null,null,null,1169,{"$error":"#VALUE!"},{"$f":"AVERAGE($W$3:W1171)","v":{"$error":"#VALUE!"}},null,{"$error":"#VALUE!"},{"$error":"#VALUE!"},{"$f":"AVERAGE($AA$3:AA1171)","v":{"$error":"#VALUE!"}},null,null,null,{"$f":"((AA1171*#REF!)+(#REF!*#REF!)+(#REF!*#REF!))/(#REF!+#REF!+#REF!)","v":{"$error":"#VALUE!"}},{"$f":"((AA1171*#REF!)+(#REF!*#REF!)+(#REF!*#REF!))/(#REF!+#REF!+#REF!)","v":{"$error":"#VALUE!"}},{"$f":"((AA1171*#REF!)+(#REF!*#REF!)+(#REF!*#REF!))/(#REF!+#REF!+#REF!)","v":{"$error":"#VALUE!"}},{"$f":"((AA1171*#REF!)+(#REF!*#REF!)+(#REF!*#REF!))/(#REF!+#REF!+#REF!)","v":{"$error":"#VALUE!"}},{"$f":"((AA1171*#REF!)+(#REF!*#REF!)+(#REF!*#REF!))/(#REF!+#REF!+#REF!)","v":{"$error":"#VALUE!"}},{"$f":"((AA1171*#REF!)+(#REF!*#REF!)+(#REF!*#REF!))/(#REF!+#REF!+#REF!)","v":{"$error":"#VALUE!"}},{"$f":"((AA1171*#REF!)+(#REF!*#REF!)+(#REF!*#REF!))/(#REF!+#REF!+#REF!)","v":{"$error":"#VALUE!"}}]
[null,null,null,null,null,null,null,null,null,null,null,null,null,null,null,null,null,null,null,null,null,1170,{"$error":"#VALUE!"},{"$f":"AVERAGE($W$3:W1172)","v":{"$error":"#VALUE!"}},null,{"$error":"#VALUE!"},{"$error":"#VALUE!"},{"$f":"AVERAGE($AA$3:AA1172)","v":{"$error":"#VALUE!"}},null,null,null,{"$f":"((AA1172*#REF!)+(#REF!*#REF!)+(#REF!*#REF!))/(#REF!+#REF!+#REF!)","v":{"$error":"#VALUE!"}},{"$f":"((AA1172*#REF!)+(#REF!*#REF!)+(#REF!*#REF!))/(#REF!+#REF!+#REF!)","v":{"$error":"#VALUE!"}},{"$f":"((AA1172*#REF!)+(#REF!*#REF!)+(#REF!*#REF!))/(#REF!+#REF!+#REF!)","v":{"$error":"#VALUE!"}},{"$f":"((AA1172*#REF!)+(#REF!*#REF!)+(#REF!*#REF!))/(#REF!+#REF!+#REF!)","v":{"$error":"#VALUE!"}},{"$f":"((AA1172*#REF!)+(#REF!*#REF!)+(#REF!*#REF!))/(#REF!+#REF!+#REF!)","v":{"$error":"#VALUE!"}},{"$f":"((AA1172*#REF!)+(#REF!*#REF!)+(#REF!*#REF!))/(#REF!+#REF!+#REF!)","v":{"$error":"#VALUE!"}},{"$f":"((AA1172*#REF!)+(#REF!*#REF!)+(#REF!*#REF!))/(#REF!+#REF!+#REF!)","v":{"$error":"#VALUE!"}}]
[null,null,null,null,null,null,null,null,null,null,null,null,null,null,null,null,null,null,null,null,null,1171,{"$error":"#VALUE!"},{"$f":"AVERAGE($W$3:W1173)","v":{"$error":"#VALUE!"}},null,{"$error":"#VALUE!"},{"$error":"#VALUE!"},{"$f":"AVERAGE($AA$3:AA1173)","v":{"$error":"#VALUE!"}},null,null,null,{"$f":"((AA1173*#REF!)+(#REF!*#REF!)+(#REF!*#REF!))/(#REF!+#REF!+#REF!)","v":{"$error":"#VALUE!"}},{"$f":"((AA1173*#REF!)+(#REF!*#REF!)+(#REF!*#REF!))/(#REF!+#REF!+#REF!)","v":{"$error":"#VALUE!"}},{"$f":"((AA1173*#REF!)+(#REF!*#REF!)+(#REF!*#REF!))/(#REF!+#REF!+#REF!)","v":{"$error":"#VALUE!"}},{"$f":"((AA1173*#REF!)+(#REF!*#REF!)+(#REF!*#REF!))/(#REF!+#REF!+#REF!)","v":{"$error":"#VALUE!"}},{"$f":"((AA1173*#REF!)+(#REF!*#REF!)+(#REF!*#REF!))/(#REF!+#REF!+#REF!)","v":{"$error":"#VALUE!"}},{"$f":"((AA1173*#REF!)+(#REF!*#REF!)+(#REF!*#REF!))/(#REF!+#REF!+#REF!)","v":{"$error":"#VALUE!"}},{"$f":"((AA1173*#REF!)+(#REF!*#REF!)+(#REF!*#REF!))/(#REF!+#REF!+#REF!)","v":{"$error":"#VALUE!"}}]
[null,null,null,null,null,null,null,null,null,null,null,null,null,null,null,null,null,null,null,null,null,1172,{"$error":"#VALUE!"},{"$f":"AVERAGE($W$3:W1174)","v":{"$error":"#VALUE!"}},null,{"$error":"#VALUE!"},{"$error":"#VALUE!"},{"$f":"AVERAGE($AA$3:AA1174)","v":{"$error":"#VALUE!"}},null,null,null,{"$f":"((AA1174*#REF!)+(#REF!*#REF!)+(#REF!*#REF!))/(#REF!+#REF!+#REF!)","v":{"$error":"#VALUE!"}},{"$f":"((AA1174*#REF!)+(#REF!*#REF!)+(#REF!*#REF!))/(#REF!+#REF!+#REF!)","v":{"$error":"#VALUE!"}},{"$f":"((AA1174*#REF!)+(#REF!*#REF!)+(#REF!*#REF!))/(#REF!+#REF!+#REF!)","v":{"$error":"#VALUE!"}},{"$f":"((AA1174*#REF!)+(#REF!*#REF!)+(#REF!*#REF!))/(#REF!+#REF!+#REF!)","v":{"$error":"#VALUE!"}},{"$f":"((AA1174*#REF!)+(#REF!*#REF!)+(#REF!*#REF!))/(#REF!+#REF!+#REF!)","v":{"$error":"#VALUE!"}},{"$f":"((AA1174*#REF!)+(#REF!*#REF!)+(#REF!*#REF!))/(#REF!+#REF!+#REF!)","v":{"$error":"#VALUE!"}},{"$f":"((AA1174*#REF!)+(#REF!*#REF!)+(#REF!*#REF!))/(#REF!+#REF!+#REF!)","v":{"$error":"#VALUE!"}}]
[null,null,null,null,null,null,null,null,null,null,null,null,null,null,null,null,null,null,null,null,null,1173,{"$error":"#VALUE!"},{"$f":"AVERAGE($W$3:W1175)","v":{"$error":"#VALUE!"}},null,{"$error":"#VALUE!"},{"$error":"#VALUE!"},{"$f":"AVERAGE($AA$3:AA1175)","v":{"$error":"#VALUE!"}},null,null,null,{"$f":"((AA1175*#REF!)+(#REF!*#REF!)+(#REF!*#REF!))/(#REF!+#REF!+#REF!)","v":{"$error":"#VALUE!"}},{"$f":"((AA1175*#REF!)+(#REF!*#REF!)+(#REF!*#REF!))/(#REF!+#REF!+#REF!)","v":{"$error":"#VALUE!"}},{"$f":"((AA1175*#REF!)+(#REF!*#REF!)+(#REF!*#REF!))/(#REF!+#REF!+#REF!)","v":{"$error":"#VALUE!"}},{"$f":"((AA1175*#REF!)+(#REF!*#REF!)+(#REF!*#REF!))/(#REF!+#REF!+#REF!)","v":{"$error":"#VALUE!"}},{"$f":"((AA1175*#REF!)+(#REF!*#REF!)+(#REF!*#REF!))/(#REF!+#REF!+#REF!)","v":{"$error":"#VALUE!"}},{"$f":"((AA1175*#REF!)+(#REF!*#REF!)+(#REF!*#REF!))/(#REF!+#REF!+#REF!)","v":{"$error":"#VALUE!"}},{"$f":"((AA1175*#REF!)+(#REF!*#REF!)+(#REF!*#REF!))/(#REF!+#REF!+#REF!)","v":{"$error":"#VALUE!"}}]
[null,null,null,null,null,null,null,null,null,null,null,null,null,null,null,null,null,null,null,null,null,1174,{"$error":"#VALUE!"},{"$f":"AVERAGE($W$3:W1176)","v":{"$error":"#VALUE!"}},null,{"$error":"#VALUE!"},{"$error":"#VALUE!"},{"$f":"AVERAGE($AA$3:AA1176)","v":{"$error":"#VALUE!"}},null,null,null,{"$f":"((AA1176*#REF!)+(#REF!*#REF!)+(#REF!*#REF!))/(#REF!+#REF!+#REF!)","v":{"$error":"#VALUE!"}},{"$f":"((AA1176*#REF!)+(#REF!*#REF!)+(#REF!*#REF!))/(#REF!+#REF!+#REF!)","v":{"$error":"#VALUE!"}},{"$f":"((AA1176*#REF!)+(#REF!*#REF!)+(#REF!*#REF!))/(#REF!+#REF!+#REF!)","v":{"$error":"#VALUE!"}},{"$f":"((AA1176*#REF!)+(#REF!*#REF!)+(#REF!*#REF!))/(#REF!+#REF!+#REF!)","v":{"$error":"#VALUE!"}},{"$f":"((AA1176*#REF!)+(#REF!*#REF!)+(#REF!*#REF!))/(#REF!+#REF!+#REF!)","v":{"$error":"#VALUE!"}},{"$f":"((AA1176*#REF!)+(#REF!*#REF!)+(#REF!*#REF!))/(#REF!+#REF!+#REF!)","v":{"$error":"#VALUE!"}},{"$f":"((AA1176*#REF!)+(#REF!*#REF!)+(#REF!*#REF!))/(#REF!+#REF!+#REF!)","v":{"$error":"#VALUE!"}}]
[null,null,null,null,null,null,null,null,null,null,null,null,null,null,null,null,null,null,null,null,null,1175,{"$error":"#VALUE!"},{"$f":"AVERAGE($W$3:W1177)","v":{"$error":"#VALUE!"}},null,{"$error":"#VALUE!"},{"$error":"#VALUE!"},{"$f":"AVERAGE($AA$3:AA1177)","v":{"$error":"#VALUE!"}},null,null,null,{"$f":"((AA1177*#REF!)+(#REF!*#REF!)+(#REF!*#REF!))/(#REF!+#REF!+#REF!)","v":{"$error":"#VALUE!"}},{"$f":"((AA1177*#REF!)+(#REF!*#REF!)+(#REF!*#REF!))/(#REF!+#REF!+#REF!)","v":{"$error":"#VALUE!"}},{"$f":"((AA1177*#REF!)+(#REF!*#REF!)+(#REF!*#REF!))/(#REF!+#REF!+#REF!)","v":{"$error":"#VALUE!"}},{"$f":"((AA1177*#REF!)+(#REF!*#REF!)+(#REF!*#REF!))/(#REF!+#REF!+#REF!)","v":{"$error":"#VALUE!"}},{"$f":"((AA1177*#REF!)+(#REF!*#REF!)+(#REF!*#REF!))/(#REF!+#REF!+#REF!)","v":{"$error":"#VALUE!"}},{"$f":"((AA1177*#REF!)+(#REF!*#REF!)+(#REF!*#REF!))/(#REF!+#REF!+#REF!)","v":{"$error":"#VALUE!"}},{"$f":"((AA1177*#REF!)+(#REF!*#REF!)+(#REF!*#REF!))/(#REF!+#REF!+#REF!)","v":{"$error":"#VALUE!"}}]
[null,null,null,null,null,null,null,null,null,null,null,null,null,null,null,null,null,null,null,null,null,1176,{"$error":"#VALUE!"},{"$f":"AVERAGE($W$3:W1178)","v":{"$error":"#VALUE!"}},null,{"$error":"#VALUE!"},{"$error":"#VALUE!"},{"$f":"AVERAGE($AA$3:AA1178)","v":{"$error":"#VALUE!"}},null,null,null,{"$f":"((AA1178*#REF!)+(#REF!*#REF!)+(#REF!*#REF!))/(#REF!+#REF!+#REF!)","v":{"$error":"#VALUE!"}},{"$f":"((AA1178*#REF!)+(#REF!*#REF!)+(#REF!*#REF!))/(#REF!+#REF!+#REF!)","v":{"$error":"#VALUE!"}},{"$f":"((AA1178*#REF!)+(#REF!*#REF!)+(#REF!*#REF!))/(#REF!+#REF!+#REF!)","v":{"$error":"#VALUE!"}},{"$f":"((AA1178*#REF!)+(#REF!*#REF!)+(#REF!*#REF!))/(#REF!+#REF!+#REF!)","v":{"$error":"#VALUE!"}},{"$f":"((AA1178*#REF!)+(#REF!*#REF!)+(#REF!*#REF!))/(#REF!+#REF!+#REF!)","v":{"$error":"#VALUE!"}},{"$f":"((AA1178*#REF!)+(#REF!*#REF!)+(#REF!*#REF!))/(#REF!+#REF!+#REF!)","v":{"$error":"#VALUE!"}},{"$f":"((AA1178*#REF!)+(#REF!*#REF!)+(#REF!*#REF!))/(#REF!+#REF!+#REF!)","v":{"$error":"#VALUE!"}}]
[null,null,null,null,null,null,null,null,null,null,null,null,null,null,null,null,null,null,null,null,null,1177,{"$error":"#VALUE!"},{"$f":"AVERAGE($W$3:W1179)","v":{"$error":"#VALUE!"}},null,{"$error":"#VALUE!"},{"$error":"#VALUE!"},{"$f":"AVERAGE($AA$3:AA1179)","v":{"$error":"#VALUE!"}},null,null,null,{"$f":"((AA1179*#REF!)+(#REF!*#REF!)+(#REF!*#REF!))/(#REF!+#REF!+#REF!)","v":{"$error":"#VALUE!"}},{"$f":"((AA1179*#REF!)+(#REF!*#REF!)+(#REF!*#REF!))/(#REF!+#REF!+#REF!)","v":{"$error":"#VALUE!"}},{"$f":"((AA1179*#REF!)+(#REF!*#REF!)+(#REF!*#REF!))/(#REF!+#REF!+#REF!)","v":{"$error":"#VALUE!"}},{"$f":"((AA1179*#REF!)+(#REF!*#REF!)+(#REF!*#REF!))/(#REF!+#REF!+#REF!)","v":{"$error":"#VALUE!"}},{"$f":"((AA1179*#REF!)+(#REF!*#REF!)+(#REF!*#REF!))/(#REF!+#REF!+#REF!)","v":{"$error":"#VALUE!"}},{"$f":"((AA1179*#REF!)+(#REF!*#REF!)+(#REF!*#REF!))/(#REF!+#REF!+#REF!)","v":{"$error":"#VALUE!"}},{"$f":"((AA1179*#REF!)+(#REF!*#REF!)+(#REF!*#REF!))/(#REF!+#REF!+#REF!)","v":{"$error":"#VALUE!"}}]
[null,null,null,null,null,null,null,null,null,null,null,null,null,null,null,null,null,null,null,null,null,1178,{"$error":"#VALUE!"},{"$f":"AVERAGE($W$3:W1180)","v":{"$error":"#VALUE!"}},null,{"$error":"#VALUE!"},{"$error":"#VALUE!"},{"$f":"AVERAGE($AA$3:AA1180)","v":{"$error":"#VALUE!"}},null,null,null,{"$f":"((AA1180*#REF!)+(#REF!*#REF!)+(#REF!*#REF!))/(#REF!+#REF!+#REF!)","v":{"$error":"#VALUE!"}},{"$f":"((AA1180*#REF!)+(#REF!*#REF!)+(#REF!*#REF!))/(#REF!+#REF!+#REF!)","v":{"$error":"#VALUE!"}},{"$f":"((AA1180*#REF!)+(#REF!*#REF!)+(#REF!*#REF!))/(#REF!+#REF!+#REF!)","v":{"$error":"#VALUE!"}},{"$f":"((AA1180*#REF!)+(#REF!*#REF!)+(#REF!*#REF!))/(#REF!+#REF!+#REF!)","v":{"$error":"#VALUE!"}},{"$f":"((AA1180*#REF!)+(#REF!*#REF!)+(#REF!*#REF!))/(#REF!+#REF!+#REF!)","v":{"$error":"#VALUE!"}},{"$f":"((AA1180*#REF!)+(#REF!*#REF!)+(#REF!*#REF!))/(#REF!+#REF!+#REF!)","v":{"$error":"#VALUE!"}},{"$f":"((AA1180*#REF!)+(#REF!*#REF!)+(#REF!*#REF!))/(#REF!+#REF!+#REF!)","v":{"$error":"#VALUE!"}}]
[null,null,null,null,null,null,null,null,null,null,null,null,null,null,null,null,null,null,null,null,null,1179,{"$error":"#VALUE!"},{"$f":"AVERAGE($W$3:W1181)","v":{"$error":"#VALUE!"}},null,{"$error":"#VALUE!"},{"$error":"#VALUE!"},{"$f":"AVERAGE($AA$3:AA1181)","v":{"$error":"#VALUE!"}},null,null,null,{"$f":"((AA1181*#REF!)+(#REF!*#REF!)+(#REF!*#REF!))/(#REF!+#REF!+#REF!)","v":{"$error":"#VALUE!"}},{"$f":"((AA1181*#REF!)+(#REF!*#REF!)+(#REF!*#REF!))/(#REF!+#REF!+#REF!)","v":{"$error":"#VALUE!"}},{"$f":"((AA1181*#REF!)+(#REF!*#REF!)+(#REF!*#REF!))/(#REF!+#REF!+#REF!)","v":{"$error":"#VALUE!"}},{"$f":"((AA1181*#REF!)+(#REF!*#REF!)+(#REF!*#REF!))/(#REF!+#REF!+#REF!)","v":{"$error":"#VALUE!"}},{"$f":"((AA1181*#REF!)+(#REF!*#REF!)+(#REF!*#REF!))/(#REF!+#REF!+#REF!)","v":{"$error":"#VALUE!"}},{"$f":"((AA1181*#REF!)+(#REF!*#REF!)+(#REF!*#REF!))/(#REF!+#REF!+#REF!)","v":{"$error":"#VALUE!"}},{"$f":"((AA1181*#REF!)+(#REF!*#REF!)+(#REF!*#REF!))/(#REF!+#REF!+#REF!)","v":{"$error":"#VALUE!"}}]
[null,null,null,null,null,null,null,null,null,null,null,null,null,null,null,null,null,null,null,null,null,1180,{"$error":"#VALUE!"},{"$f":"AVERAGE($W$3:W1182)","v":{"$error":"#VALUE!"}},null,{"$error":"#VALUE!"},{"$error":"#VALUE!"},{"$f":"AVERAGE($AA$3:AA1182)","v":{"$error":"#VALUE!"}},null,null,null,{"$f":"((AA1182*#REF!)+(#REF!*#REF!)+(#REF!*#REF!))/(#REF!+#REF!+#REF!)","v":{"$error":"#VALUE!"}},{"$f":"((AA1182*#REF!)+(#REF!*#REF!)+(#REF!*#REF!))/(#REF!+#REF!+#REF!)","v":{"$error":"#VALUE!"}},{"$f":"((AA1182*#REF!)+(#REF!*#REF!)+(#REF!*#REF!))/(#REF!+#REF!+#REF!)","v":{"$error":"#VALUE!"}},{"$f":"((AA1182*#REF!)+(#REF!*#REF!)+(#REF!*#REF!))/(#REF!+#REF!+#REF!)","v":{"$error":"#VALUE!"}},{"$f":"((AA1182*#REF!)+(#REF!*#REF!)+(#REF!*#REF!))/(#REF!+#REF!+#REF!)","v":{"$error":"#VALUE!"}},{"$f":"((AA1182*#REF!)+(#REF!*#REF!)+(#REF!*#REF!))/(#REF!+#REF!+#REF!)","v":{"$error":"#VALUE!"}},{"$f":"((AA1182*#REF!)+(#REF!*#REF!)+(#REF!*#REF!))/(#REF!+#REF!+#REF!)","v":{"$error":"#VALUE!"}}]
[null,null,null,null,null,null,null,null,null,null,null,null,null,null,null,null,null,null,null,null,null,1181,{"$error":"#VALUE!"},{"$f":"AVERAGE($W$3:W1183)","v":{"$error":"#VALUE!"}},null,{"$error":"#VALUE!"},{"$error":"#VALUE!"},{"$f":"AVERAGE($AA$3:AA1183)","v":{"$error":"#VALUE!"}},null,null,null,{"$f":"((AA1183*#REF!)+(#REF!*#REF!)+(#REF!*#REF!))/(#REF!+#REF!+#REF!)","v":{"$error":"#VALUE!"}},{"$f":"((AA1183*#REF!)+(#REF!*#REF!)+(#REF!*#REF!))/(#REF!+#REF!+#REF!)","v":{"$error":"#VALUE!"}},{"$f":"((AA1183*#REF!)+(#REF!*#REF!)+(#REF!*#REF!))/(#REF!+#REF!+#REF!)","v":{"$error":"#VALUE!"}},{"$f":"((AA1183*#REF!)+(#REF!*#REF!)+(#REF!*#REF!))/(#REF!+#REF!+#REF!)","v":{"$error":"#VALUE!"}},{"$f":"((AA1183*#REF!)+(#REF!*#REF!)+(#REF!*#REF!))/(#REF!+#REF!+#REF!)","v":{"$error":"#VALUE!"}},{"$f":"((AA1183*#REF!)+(#REF!*#REF!)+(#REF!*#REF!))/(#REF!+#REF!+#REF!)","v":{"$error":"#VALUE!"}},{"$f":"((AA1183*#REF!)+(#REF!*#REF!)+(#REF!*#REF!))/(#REF!+#REF!+#REF!)","v":{"$error":"#VALUE!"}}]
[null,null,null,null,null,null,null,null,null,null,null,null,null,null,null,null,null,null,null,null,null,1182,{"$error":"#VALUE!"},{"$f":"AVERAGE($W$3:W1184)","v":{"$error":"#VALUE!"}},null,{"$error":"#VALUE!"},{"$error":"#VALUE!"},{"$f":"AVERAGE($AA$3:AA1184)","v":{"$error":"#VALUE!"}},null,null,null,{"$f":"((AA1184*#REF!)+(#REF!*#REF!)+(#REF!*#REF!))/(#REF!+#REF!+#REF!)","v":{"$error":"#VALUE!"}},{"$f":"((AA1184*#REF!)+(#REF!*#REF!)+(#REF!*#REF!))/(#REF!+#REF!+#REF!)","v":{"$error":"#VALUE!"}},{"$f":"((AA1184*#REF!)+(#REF!*#REF!)+(#REF!*#REF!))/(#REF!+#REF!+#REF!)","v":{"$error":"#VALUE!"}},{"$f":"((AA1184*#REF!)+(#REF!*#REF!)+(#REF!*#REF!))/(#REF!+#REF!+#REF!)","v":{"$error":"#VALUE!"}},{"$f":"((AA1184*#REF!)+(#REF!*#REF!)+(#REF!*#REF!))/(#REF!+#REF!+#REF!)","v":{"$error":"#VALUE!"}},{"$f":"((AA1184*#REF!)+(#REF!*#REF!)+(#REF!*#REF!))/(#REF!+#REF!+#REF!)","v":{"$error":"#VALUE!"}},{"$f":"((AA1184*#REF!)+(#REF!*#REF!)+(#REF!*#REF!))/(#REF!+#REF!+#REF!)","v":{"$error":"#VALUE!"}}]
[null,null,null,null,null,null,null,null,null,null,null,null,null,null,null,null,null,null,null,null,null,1183,{"$error":"#VALUE!"},{"$f":"AVERAGE($W$3:W1185)","v":{"$error":"#VALUE!"}},null,{"$error":"#VALUE!"},{"$error":"#VALUE!"},{"$f":"AVERAGE($AA$3:AA1185)","v":{"$error":"#VALUE!"}},null,null,null,{"$f":"((AA1185*#REF!)+(#REF!*#REF!)+(#REF!*#REF!))/(#REF!+#REF!+#REF!)","v":{"$error":"#VALUE!"}},{"$f":"((AA1185*#REF!)+(#REF!*#REF!)+(#REF!*#REF!))/(#REF!+#REF!+#REF!)","v":{"$error":"#VALUE!"}},{"$f":"((AA1185*#REF!)+(#REF!*#REF!)+(#REF!*#REF!))/(#REF!+#REF!+#REF!)","v":{"$error":"#VALUE!"}},{"$f":"((AA1185*#REF!)+(#REF!*#REF!)+(#REF!*#REF!))/(#REF!+#REF!+#REF!)","v":{"$error":"#VALUE!"}},{"$f":"((AA1185*#REF!)+(#REF!*#REF!)+(#REF!*#REF!))/(#REF!+#REF!+#REF!)","v":{"$error":"#VALUE!"}},{"$f":"((AA1185*#REF!)+(#REF!*#REF!)+(#REF!*#REF!))/(#REF!+#REF!+#REF!)","v":{"$error":"#VALUE!"}},{"$f":"((AA1185*#REF!)+(#REF!*#REF!)+(#REF!*#REF!))/(#REF!+#REF!+#REF!)","v":{"$error":"#VALUE!"}}]
[null,null,null,null,null,null,null,null,null,null,null,null,null,null,null,null,null,null,null,null,null,1184,{"$error":"#VALUE!"},{"$f":"AVERAGE($W$3:W1186)","v":{"$error":"#VALUE!"}},null,{"$error":"#VALUE!"},{"$error":"#VALUE!"},{"$f":"AVERAGE($AA$3:AA1186)","v":{"$error":"#VALUE!"}},null,null,null,{"$f":"((AA1186*#REF!)+(#REF!*#REF!)+(#REF!*#REF!))/(#REF!+#REF!+#REF!)","v":{"$error":"#VALUE!"}},{"$f":"((AA1186*#REF!)+(#REF!*#REF!)+(#REF!*#REF!))/(#REF!+#REF!+#REF!)","v":{"$error":"#VALUE!"}},{"$f":"((AA1186*#REF!)+(#REF!*#REF!)+(#REF!*#REF!))/(#REF!+#REF!+#REF!)","v":{"$error":"#VALUE!"}},{"$f":"((AA1186*#REF!)+(#REF!*#REF!)+(#REF!*#REF!))/(#REF!+#REF!+#REF!)","v":{"$error":"#VALUE!"}},{"$f":"((AA1186*#REF!)+(#REF!*#REF!)+(#REF!*#REF!))/(#REF!+#REF!+#REF!)","v":{"$error":"#VALUE!"}},{"$f":"((AA1186*#REF!)+(#REF!*#REF!)+(#REF!*#REF!))/(#REF!+#REF!+#REF!)","v":{"$error":"#VALUE!"}},{"$f":"((AA1186*#REF!)+(#REF!*#REF!)+(#REF!*#REF!))/(#REF!+#REF!+#REF!)","v":{"$error":"#VALUE!"}}]
[null,null,null,null,null,null,null,null,null,null,null,null,null,null,null,null,null,null,null,null,null,1185,{"$error":"#VALUE!"},{"$f":"AVERAGE($W$3:W1187)","v":{"$error":"#VALUE!"}},null,{"$error":"#VALUE!"},{"$error":"#VALUE!"},{"$f":"AVERAGE($AA$3:AA1187)","v":{"$error":"#VALUE!"}},null,null,null,{"$f":"((AA1187*#REF!)+(#REF!*#REF!)+(#REF!*#REF!))/(#REF!+#REF!+#REF!)","v":{"$error":"#VALUE!"}},{"$f":"((AA1187*#REF!)+(#REF!*#REF!)+(#REF!*#REF!))/(#REF!+#REF!+#REF!)","v":{"$error":"#VALUE!"}},{"$f":"((AA1187*#REF!)+(#REF!*#REF!)+(#REF!*#REF!))/(#REF!+#REF!+#REF!)","v":{"$error":"#VALUE!"}},{"$f":"((AA1187*#REF!)+(#REF!*#REF!)+(#REF!*#REF!))/(#REF!+#REF!+#REF!)","v":{"$error":"#VALUE!"}},{"$f":"((AA1187*#REF!)+(#REF!*#REF!)+(#REF!*#REF!))/(#REF!+#REF!+#REF!)","v":{"$error":"#VALUE!"}},{"$f":"((AA1187*#REF!)+(#REF!*#REF!)+(#REF!*#REF!))/(#REF!+#REF!+#REF!)","v":{"$error":"#VALUE!"}},{"$f":"((AA1187*#REF!)+(#REF!*#REF!)+(#REF!*#REF!))/(#REF!+#REF!+#REF!)","v":{"$error":"#VALUE!"}}]
[null,null,null,null,null,null,null,null,null,null,null,null,null,null,null,null,null,null,null,null,null,1186,{"$error":"#VALUE!"},{"$f":"AVERAGE($W$3:W1188)","v":{"$error":"#VALUE!"}},null,{"$error":"#VALUE!"},{"$error":"#VALUE!"},{"$f":"AVERAGE($AA$3:AA1188)","v":{"$error":"#VALUE!"}},null,null,null,{"$f":"((AA1188*#REF!)+(#REF!*#REF!)+(#REF!*#REF!))/(#REF!+#REF!+#REF!)","v":{"$error":"#VALUE!"}},{"$f":"((AA1188*#REF!)+(#REF!*#REF!)+(#REF!*#REF!))/(#REF!+#REF!+#REF!)","v":{"$error":"#VALUE!"}},{"$f":"((AA1188*#REF!)+(#REF!*#REF!)+(#REF!*#REF!))/(#REF!+#REF!+#REF!)","v":{"$error":"#VALUE!"}},{"$f":"((AA1188*#REF!)+(#REF!*#REF!)+(#REF!*#REF!))/(#REF!+#REF!+#REF!)","v":{"$error":"#VALUE!"}},{"$f":"((AA1188*#REF!)+(#REF!*#REF!)+(#REF!*#REF!))/(#REF!+#REF!+#REF!)","v":{"$error":"#VALUE!"}},{"$f":"((AA1188*#REF!)+(#REF!*#REF!)+(#REF!*#REF!))/(#REF!+#REF!+#REF!)","v":{"$error":"#VALUE!"}},{"$f":"((AA1188*#REF!)+(#REF!*#REF!)+(#REF!*#REF!))/(#REF!+#REF!+#REF!)","v":{"$error":"#VALUE!"}}]
[null,null,null,null,null,null,null,null,null,null,null,null,null,null,null,null,null,null,null,null,null,1187,{"$error":"#VALUE!"},{"$f":"AVERAGE($W$3:W1189)","v":{"$error":"#VALUE!"}},null,{"$error":"#VALUE!"},{"$error":"#VALUE!"},{"$f":"AVERAGE($AA$3:AA1189)","v":{"$error":"#VALUE!"}},null,null,null,{"$f":"((AA1189*#REF!)+(#REF!*#REF!)+(#REF!*#REF!))/(#REF!+#REF!+#REF!)","v":{"$error":"#VALUE!"}},{"$f":"((AA1189*#REF!)+(#REF!*#REF!)+(#REF!*#REF!))/(#REF!+#REF!+#REF!)","v":{"$error":"#VALUE!"}},{"$f":"((AA1189*#REF!)+(#REF!*#REF!)+(#REF!*#REF!))/(#REF!+#REF!+#REF!)","v":{"$error":"#VALUE!"}},{"$f":"((AA1189*#REF!)+(#REF!*#REF!)+(#REF!*#REF!))/(#REF!+#REF!+#REF!)","v":{"$error":"#VALUE!"}},{"$f":"((AA1189*#REF!)+(#REF!*#REF!)+(#REF!*#REF!))/(#REF!+#REF!+#REF!)","v":{"$error":"#VALUE!"}},{"$f":"((AA1189*#REF!)+(#REF!*#REF!)+(#REF!*#REF!))/(#REF!+#REF!+#REF!)","v":{"$error":"#VALUE!"}},{"$f":"((AA1189*#REF!)+(#REF!*#REF!)+(#REF!*#REF!))/(#REF!+#REF!+#REF!)","v":{"$error":"#VALUE!"}}]
[null,null,null,null,null,null,null,null,null,null,null,null,null,null,null,null,null,null,null,null,null,1188,{"$error":"#VALUE!"},{"$f":"AVERAGE($W$3:W1190)","v":{"$error":"#VALUE!"}},null,{"$error":"#VALUE!"},{"$error":"#VALUE!"},{"$f":"AVERAGE($AA$3:AA1190)","v":{"$error":"#VALUE!"}},null,null,null,{"$f":"((AA1190*#REF!)+(#REF!*#REF!)+(#REF!*#REF!))/(#REF!+#REF!+#REF!)","v":{"$error":"#VALUE!"}},{"$f":"((AA1190*#REF!)+(#REF!*#REF!)+(#REF!*#REF!))/(#REF!+#REF!+#REF!)","v":{"$error":"#VALUE!"}},{"$f":"((AA1190*#REF!)+(#REF!*#REF!)+(#REF!*#REF!))/(#REF!+#REF!+#REF!)","v":{"$error":"#VALUE!"}},{"$f":"((AA1190*#REF!)+(#REF!*#REF!)+(#REF!*#REF!))/(#REF!+#REF!+#REF!)","v":{"$error":"#VALUE!"}},{"$f":"((AA1190*#REF!)+(#REF!*#REF!)+(#REF!*#REF!))/(#REF!+#REF!+#REF!)","v":{"$error":"#VALUE!"}},{"$f":"((AA1190*#REF!)+(#REF!*#REF!)+(#REF!*#REF!))/(#REF!+#REF!+#REF!)","v":{"$error":"#VALUE!"}},{"$f":"((AA1190*#REF!)+(#REF!*#REF!)+(#REF!*#REF!))/(#REF!+#REF!+#REF!)","v":{"$error":"#VALUE!"}}]
[null,null,null,null,null,null,null,null,null,null,null,null,null,null,null,null,null,null,null,null,null,1189,{"$error":"#VALUE!"},{"$f":"AVERAGE($W$3:W1191)","v":{"$error":"#VALUE!"}},null,{"$error":"#VALUE!"},{"$error":"#VALUE!"},{"$f":"AVERAGE($AA$3:AA1191)","v":{"$error":"#VALUE!"}},null,null,null,{"$f":"((AA1191*#REF!)+(#REF!*#REF!)+(#REF!*#REF!))/(#REF!+#REF!+#REF!)","v":{"$error":"#VALUE!"}},{"$f":"((AA1191*#REF!)+(#REF!*#REF!)+(#REF!*#REF!))/(#REF!+#REF!+#REF!)","v":{"$error":"#VALUE!"}},{"$f":"((AA1191*#REF!)+(#REF!*#REF!)+(#REF!*#REF!))/(#REF!+#REF!+#REF!)","v":{"$error":"#VALUE!"}},{"$f":"((AA1191*#REF!)+(#REF!*#REF!)+(#REF!*#REF!))/(#REF!+#REF!+#REF!)","v":{"$error":"#VALUE!"}},{"$f":"((AA1191*#REF!)+(#REF!*#REF!)+(#REF!*#REF!))/(#REF!+#REF!+#REF!)","v":{"$error":"#VALUE!"}},{"$f":"((AA1191*#REF!)+(#REF!*#REF!)+(#REF!*#REF!))/(#REF!+#REF!+#REF!)","v":{"$error":"#VALUE!"}},{"$f":"((AA1191*#REF!)+(#REF!*#REF!)+(#REF!*#REF!))/(#REF!+#REF!+#REF!)","v":{"$error":"#VALUE!"}}]
[null,null,null,null,null,null,null,null,null,null,null,null,null,null,null,null,null,null,null,null,null,1190,{"$error":"#VALUE!"},{"$f":"AVERAGE($W$3:W1192)","v":{"$error":"#VALUE!"}},null,{"$error":"#VALUE!"},{"$error":"#VALUE!"},{"$f":"AVERAGE($AA$3:AA1192)","v":{"$error":"#VALUE!"}},null,null,null,{"$f":"((AA1192*#REF!)+(#REF!*#REF!)+(#REF!*#REF!))/(#REF!+#REF!+#REF!)","v":{"$error":"#VALUE!"}},{"$f":"((AA1192*#REF!)+(#REF!*#REF!)+(#REF!*#REF!))/(#REF!+#REF!+#REF!)","v":{"$error":"#VALUE!"}},{"$f":"((AA1192*#REF!)+(#REF!*#REF!)+(#REF!*#REF!))/(#REF!+#REF!+#REF!)","v":{"$error":"#VALUE!"}},{"$f":"((AA1192*#REF!)+(#REF!*#REF!)+(#REF!*#REF!))/(#REF!+#REF!+#REF!)","v":{"$error":"#VALUE!"}},{"$f":"((AA1192*#REF!)+(#REF!*#REF!)+(#REF!*#REF!))/(#REF!+#REF!+#REF!)","v":{"$error":"#VALUE!"}},{"$f":"((AA1192*#REF!)+(#REF!*#REF!)+(#REF!*#REF!))/(#REF!+#REF!+#REF!)","v":{"$error":"#VALUE!"}},{"$f":"((AA1192*#REF!)+(#REF!*#REF!)+(#REF!*#REF!))/(#REF!+#REF!+#REF!)","v":{"$error":"#VALUE!"}}]
[null,null,null,null,null,null,null,null,null,null,null,null,null,null,null,null,null,null,null,null,null,1191,{"$error":"#VALUE!"},{"$f":"AVERAGE($W$3:W1193)","v":{"$error":"#VALUE!"}},null,{"$error":"#VALUE!"},{"$error":"#VALUE!"},{"$f":"AVERAGE($AA$3:AA1193)","v":{"$error":"#VALUE!"}},null,null,null,{"$f":"((AA1193*#REF!)+(#REF!*#REF!)+(#REF!*#REF!))/(#REF!+#REF!+#REF!)","v":{"$error":"#VALUE!"}},{"$f":"((AA1193*#REF!)+(#REF!*#REF!)+(#REF!*#REF!))/(#REF!+#REF!+#REF!)","v":{"$error":"#VALUE!"}},{"$f":"((AA1193*#REF!)+(#REF!*#REF!)+(#REF!*#REF!))/(#REF!+#REF!+#REF!)","v":{"$error":"#VALUE!"}},{"$f":"((AA1193*#REF!)+(#REF!*#REF!)+(#REF!*#REF!))/(#REF!+#REF!+#REF!)","v":{"$error":"#VALUE!"}},{"$f":"((AA1193*#REF!)+(#REF!*#REF!)+(#REF!*#REF!))/(#REF!+#REF!+#REF!)","v":{"$error":"#VALUE!"}},{"$f":"((AA1193*#REF!)+(#REF!*#REF!)+(#REF!*#REF!))/(#REF!+#REF!+#REF!)","v":{"$error":"#VALUE!"}},{"$f":"((AA1193*#REF!)+(#REF!*#REF!)+(#REF!*#REF!))/(#REF!+#REF!+#REF!)","v":{"$error":"#VALUE!"}}]
[null,null,null,null,null,null,null,null,null,null,null,null,null,null,null,null,null,null,null,null,null,1192,{"$error":"#VALUE!"},{"$f":"AVERAGE($W$3:W1194)","v":{"$error":"#VALUE!"}},null,{"$error":"#VALUE!"},{"$error":"#VALUE!"},{"$f":"AVERAGE($AA$3:AA1194)","v":{"$error":"#VALUE!"}},null,null,null,{"$f":"((AA1194*#REF!)+(#REF!*#REF!)+(#REF!*#REF!))/(#REF!+#REF!+#REF!)","v":{"$error":"#VALUE!"}},{"$f":"((AA1194*#REF!)+(#REF!*#REF!)+(#REF!*#REF!))/(#REF!+#REF!+#REF!)","v":{"$error":"#VALUE!"}},{"$f":"((AA1194*#REF!)+(#REF!*#REF!)+(#REF!*#REF!))/(#REF!+#REF!+#REF!)","v":{"$error":"#VALUE!"}},{"$f":"((AA1194*#REF!)+(#REF!*#REF!)+(#REF!*#REF!))/(#REF!+#REF!+#REF!)","v":{"$error":"#VALUE!"}},{"$f":"((AA1194*#REF!)+(#REF!*#REF!)+(#REF!*#REF!))/(#REF!+#REF!+#REF!)","v":{"$error":"#VALUE!"}},{"$f":"((AA1194*#REF!)+(#REF!*#REF!)+(#REF!*#REF!))/(#REF!+#REF!+#REF!)","v":{"$error":"#VALUE!"}},{"$f":"((AA1194*#REF!)+(#REF!*#REF!)+(#REF!*#REF!))/(#REF!+#REF!+#REF!)","v":{"$error":"#VALUE!"}}]
[null,null,null,null,null,null,null,null,null,null,null,null,null,null,null,null,null,null,null,null,null,1193,{"$error":"#VALUE!"},{"$f":"AVERAGE($W$3:W1195)","v":{"$error":"#VALUE!"}},null,{"$error":"#VALUE!"},{"$error":"#VALUE!"},{"$f":"AVERAGE($AA$3:AA1195)","v":{"$error":"#VALUE!"}},null,null,null,{"$f":"((AA1195*#REF!)+(#REF!*#REF!)+(#REF!*#REF!))/(#REF!+#REF!+#REF!)","v":{"$error":"#VALUE!"}},{"$f":"((AA1195*#REF!)+(#REF!*#REF!)+(#REF!*#REF!))/(#REF!+#REF!+#REF!)","v":{"$error":"#VALUE!"}},{"$f":"((AA1195*#REF!)+(#REF!*#REF!)+(#REF!*#REF!))/(#REF!+#REF!+#REF!)","v":{"$error":"#VALUE!"}},{"$f":"((AA1195*#REF!)+(#REF!*#REF!)+(#REF!*#REF!))/(#REF!+#REF!+#REF!)","v":{"$error":"#VALUE!"}},{"$f":"((AA1195*#REF!)+(#REF!*#REF!)+(#REF!*#REF!))/(#REF!+#REF!+#REF!)","v":{"$error":"#VALUE!"}},{"$f":"((AA1195*#REF!)+(#REF!*#REF!)+(#REF!*#REF!))/(#REF!+#REF!+#REF!)","v":{"$error":"#VALUE!"}},{"$f":"((AA1195*#REF!)+(#REF!*#REF!)+(#REF!*#REF!))/(#REF!+#REF!+#REF!)","v":{"$error":"#VALUE!"}}]
[null,null,null,null,null,null,null,null,null,null,null,null,null,null,null,null,null,null,null,null,null,1194,{"$error":"#VALUE!"},{"$f":"AVERAGE($W$3:W1196)","v":{"$error":"#VALUE!"}},null,{"$error":"#VALUE!"},{"$error":"#VALUE!"},{"$f":"AVERAGE($AA$3:AA1196)","v":{"$error":"#VALUE!"}},null,null,null,{"$f":"((AA1196*#REF!)+(#REF!*#REF!)+(#REF!*#REF!))/(#REF!+#REF!+#REF!)","v":{"$error":"#VALUE!"}},{"$f":"((AA1196*#REF!)+(#REF!*#REF!)+(#REF!*#REF!))/(#REF!+#REF!+#REF!)","v":{"$error":"#VALUE!"}},{"$f":"((AA1196*#REF!)+(#REF!*#REF!)+(#REF!*#REF!))/(#REF!+#REF!+#REF!)","v":{"$error":"#VALUE!"}},{"$f":"((AA1196*#REF!)+(#REF!*#REF!)+(#REF!*#REF!))/(#REF!+#REF!+#REF!)","v":{"$error":"#VALUE!"}},{"$f":"((AA1196*#REF!)+(#REF!*#REF!)+(#REF!*#REF!))/(#REF!+#REF!+#REF!)","v":{"$error":"#VALUE!"}},{"$f":"((AA1196*#REF!)+(#REF!*#REF!)+(#REF!*#REF!))/(#REF!+#REF!+#REF!)","v":{"$error":"#VALUE!"}},{"$f":"((AA1196*#REF!)+(#REF!*#REF!)+(#REF!*#REF!))/(#REF!+#REF!+#REF!)","v":{"$error":"#VALUE!"}}]
[null,null,null,null,null,null,null,null,null,null,null,null,null,null,null,null,null,null,null,null,null,1195,{"$error":"#VALUE!"},{"$f":"AVERAGE($W$3:W1197)","v":{"$error":"#VALUE!"}},null,{"$error":"#VALUE!"},{"$error":"#VALUE!"},{"$f":"AVERAGE($AA$3:AA1197)","v":{"$error":"#VALUE!"}},null,null,null,{"$f":"((AA1197*#REF!)+(#REF!*#REF!)+(#REF!*#REF!))/(#REF!+#REF!+#REF!)","v":{"$error":"#VALUE!"}},{"$f":"((AA1197*#REF!)+(#REF!*#REF!)+(#REF!*#REF!))/(#REF!+#REF!+#REF!)","v":{"$error":"#VALUE!"}},{"$f":"((AA1197*#REF!)+(#REF!*#REF!)+(#REF!*#REF!))/(#REF!+#REF!+#REF!)","v":{"$error":"#VALUE!"}},{"$f":"((AA1197*#REF!)+(#REF!*#REF!)+(#REF!*#REF!))/(#REF!+#REF!+#REF!)","v":{"$error":"#VALUE!"}},{"$f":"((AA1197*#REF!)+(#REF!*#REF!)+(#REF!*#REF!))/(#REF!+#REF!+#REF!)","v":{"$error":"#VALUE!"}},{"$f":"((AA1197*#REF!)+(#REF!*#REF!)+(#REF!*#REF!))/(#REF!+#REF!+#REF!)","v":{"$error":"#VALUE!"}},{"$f":"((AA1197*#REF!)+(#REF!*#REF!)+(#REF!*#REF!))/(#REF!+#REF!+#REF!)","v":{"$error":"#VALUE!"}}]
[null,null,null,null,null,null,null,null,null,null,null,null,null,null,null,null,null,null,null,null,null,1196,{"$error":"#VALUE!"},{"$f":"AVERAGE($W$3:W1198)","v":{"$error":"#VALUE!"}},null,{"$error":"#VALUE!"},{"$error":"#VALUE!"},{"$f":"AVERAGE($AA$3:AA1198)","v":{"$error":"#VALUE!"}},null,null,null,{"$f":"((AA1198*#REF!)+(#REF!*#REF!)+(#REF!*#REF!))/(#REF!+#REF!+#REF!)","v":{"$error":"#VALUE!"}},{"$f":"((AA1198*#REF!)+(#REF!*#REF!)+(#REF!*#REF!))/(#REF!+#REF!+#REF!)","v":{"$error":"#VALUE!"}},{"$f":"((AA1198*#REF!)+(#REF!*#REF!)+(#REF!*#REF!))/(#REF!+#REF!+#REF!)","v":{"$error":"#VALUE!"}},{"$f":"((AA1198*#REF!)+(#REF!*#REF!)+(#REF!*#REF!))/(#REF!+#REF!+#REF!)","v":{"$error":"#VALUE!"}},{"$f":"((AA1198*#REF!)+(#REF!*#REF!)+(#REF!*#REF!))/(#REF!+#REF!+#REF!)","v":{"$error":"#VALUE!"}},{"$f":"((AA1198*#REF!)+(#REF!*#REF!)+(#REF!*#REF!))/(#REF!+#REF!+#REF!)","v":{"$error":"#VALUE!"}},{"$f":"((AA1198*#REF!)+(#REF!*#REF!)+(#REF!*#REF!))/(#REF!+#REF!+#REF!)","v":{"$error":"#VALUE!"}}]
[null,null,null,null,null,null,null,null,null,null,null,null,null,null,null,null,null,null,null,null,null,1197,{"$error":"#VALUE!"},{"$f":"AVERAGE($W$3:W1199)","v":{"$error":"#VALUE!"}},null,{"$error":"#VALUE!"},{"$error":"#VALUE!"},{"$f":"AVERAGE($AA$3:AA1199)","v":{"$error":"#VALUE!"}},null,null,null,{"$f":"((AA1199*#REF!)+(#REF!*#REF!)+(#REF!*#REF!))/(#REF!+#REF!+#REF!)","v":{"$error":"#VALUE!"}},{"$f":"((AA1199*#REF!)+(#REF!*#REF!)+(#REF!*#REF!))/(#REF!+#REF!+#REF!)","v":{"$error":"#VALUE!"}},{"$f":"((AA1199*#REF!)+(#REF!*#REF!)+(#REF!*#REF!))/(#REF!+#REF!+#REF!)","v":{"$error":"#VALUE!"}},{"$f":"((AA1199*#REF!)+(#REF!*#REF!)+(#REF!*#REF!))/(#REF!+#REF!+#REF!)","v":{"$error":"#VALUE!"}},{"$f":"((AA1199*#REF!)+(#REF!*#REF!)+(#REF!*#REF!))/(#REF!+#REF!+#REF!)","v":{"$error":"#VALUE!"}},{"$f":"((AA1199*#REF!)+(#REF!*#REF!)+(#REF!*#REF!))/(#REF!+#REF!+#REF!)","v":{"$error":"#VALUE!"}},{"$f":"((AA1199*#REF!)+(#REF!*#REF!)+(#REF!*#REF!))/(#REF!+#REF!+#REF!)","v":{"$error":"#VALUE!"}}]
[null,null,null,null,null,null,null,null,null,null,null,null,null,null,null,null,null,null,null,null,null,1198,{"$error":"#VALUE!"},{"$f":"AVERAGE($W$3:W1200)","v":{"$error":"#VALUE!"}},null,{"$error":"#VALUE!"},{"$error":"#VALUE!"},{"$f":"AVERAGE($AA$3:AA1200)","v":{"$error":"#VALUE!"}},null,null,null,{"$f":"((AA1200*#REF!)+(#REF!*#REF!)+(#REF!*#REF!))/(#REF!+#REF!+#REF!)","v":{"$error":"#VALUE!"}},{"$f":"((AA1200*#REF!)+(#REF!*#REF!)+(#REF!*#REF!))/(#REF!+#REF!+#REF!)","v":{"$error":"#VALUE!"}},{"$f":"((AA1200*#REF!)+(#REF!*#REF!)+(#REF!*#REF!))/(#REF!+#REF!+#REF!)","v":{"$error":"#VALUE!"}},{"$f":"((AA1200*#REF!)+(#REF!*#REF!)+(#REF!*#REF!))/(#REF!+#REF!+#REF!)","v":{"$error":"#VALUE!"}},{"$f":"((AA1200*#REF!)+(#REF!*#REF!)+(#REF!*#REF!))/(#REF!+#REF!+#REF!)","v":{"$error":"#VALUE!"}},{"$f":"((AA1200*#REF!)+(#REF!*#REF!)+(#REF!*#REF!))/(#REF!+#REF!+#REF!)","v":{"$error":"#VALUE!"}},{"$f":"((AA1200*#REF!)+(#REF!*#REF!)+(#REF!*#REF!))/(#REF!+#REF!+#REF!)","v":{"$error":"#VALUE!"}}]
[null,null,null,null,null,null,null,null,null,null,null,null,null,null,null,null,null,null,null,null,null,1199,{"$error":"#VALUE!"},{"$f":"AVERAGE($W$3:W1201)","v":{"$error":"#VALUE!"}},null,{"$error":"#VALUE!"},{"$error":"#VALUE!"},{"$f":"AVERAGE($AA$3:AA1201)","v":{"$error":"#VALUE!"}},null,null,null,{"$f":"((AA1201*#REF!)+(#REF!*#REF!)+(#REF!*#REF!))/(#REF!+#REF!+#REF!)","v":{"$error":"#VALUE!"}},{"$f":"((AA1201*#REF!)+(#REF!*#REF!)+(#REF!*#REF!))/(#REF!+#REF!+#REF!)","v":{"$error":"#VALUE!"}},{"$f":"((AA1201*#REF!)+(#REF!*#REF!)+(#REF!*#REF!))/(#REF!+#REF!+#REF!)","v":{"$error":"#VALUE!"}},{"$f":"((AA1201*#REF!)+(#REF!*#REF!)+(#REF!*#REF!))/(#REF!+#REF!+#REF!)","v":{"$error":"#VALUE!"}},{"$f":"((AA1201*#REF!)+(#REF!*#REF!)+(#REF!*#REF!))/(#REF!+#REF!+#REF!)","v":{"$error":"#VALUE!"}},{"$f":"((AA1201*#REF!)+(#REF!*#REF!)+(#REF!*#REF!))/(#REF!+#REF!+#REF!)","v":{"$error":"#VALUE!"}},{"$f":"((AA1201*#REF!)+(#REF!*#REF!)+(#REF!*#REF!))/(#REF!+#REF!+#REF!)","v":{"$error":"#VALUE!"}}]
[null,null,null,null,null,null,null,null,null,null,null,null,null,null,null,null,null,null,null,null,null,1200,{"$error":"#VALUE!"},{"$f":"AVERAGE($W$3:W1202)","v":{"$error":"#VALUE!"}},null,{"$error":"#VALUE!"},{"$error":"#VALUE!"},{"$f":"AVERAGE($AA$3:AA1202)","v":{"$error":"#VALUE!"}},null,null,null,{"$f":"((AA1202*#REF!)+(#REF!*#REF!)+(#REF!*#REF!))/(#REF!+#REF!+#REF!)","v":{"$error":"#VALUE!"}},{"$f":"((AA1202*#REF!)+(#REF!*#REF!)+(#REF!*#REF!))/(#REF!+#REF!+#REF!)","v":{"$error":"#VALUE!"}},{"$f":"((AA1202*#REF!)+(#REF!*#REF!)+(#REF!*#REF!))/(#REF!+#REF!+#REF!)","v":{"$error":"#VALUE!"}},{"$f":"((AA1202*#REF!)+(#REF!*#REF!)+(#REF!*#REF!))/(#REF!+#REF!+#REF!)","v":{"$error":"#VALUE!"}},{"$f":"((AA1202*#REF!)+(#REF!*#REF!)+(#REF!*#REF!))/(#REF!+#REF!+#REF!)","v":{"$error":"#VALUE!"}},{"$f":"((AA1202*#REF!)+(#REF!*#REF!)+(#REF!*#REF!))/(#REF!+#REF!+#REF!)","v":{"$error":"#VALUE!"}},{"$f":"((AA1202*#REF!)+(#REF!*#REF!)+(#REF!*#REF!))/(#REF!+#REF!+#REF!)","v":{"$error":"#VALUE!"}}]
[null,null,null,null,null,null,null,null,null,null,null,null,null,null,null,null,null,null,null,null,null,1201,{"$error":"#VALUE!"},{"$f":"AVERAGE($W$3:W1203)","v":{"$error":"#VALUE!"}},null,{"$error":"#VALUE!"},{"$error":"#VALUE!"},{"$f":"AVERAGE($AA$3:AA1203)","v":{"$error":"#VALUE!"}},null,null,null,{"$f":"((AA1203*#REF!)+(#REF!*#REF!)+(#REF!*#REF!))/(#REF!+#REF!+#REF!)","v":{"$error":"#VALUE!"}},{"$f":"((AA1203*#REF!)+(#REF!*#REF!)+(#REF!*#REF!))/(#REF!+#REF!+#REF!)","v":{"$error":"#VALUE!"}},{"$f":"((AA1203*#REF!)+(#REF!*#REF!)+(#REF!*#REF!))/(#REF!+#REF!+#REF!)","v":{"$error":"#VALUE!"}},{"$f":"((AA1203*#REF!)+(#REF!*#REF!)+(#REF!*#REF!))/(#REF!+#REF!+#REF!)","v":{"$error":"#VALUE!"}},{"$f":"((AA1203*#REF!)+(#REF!*#REF!)+(#REF!*#REF!))/(#REF!+#REF!+#REF!)","v":{"$error":"#VALUE!"}},{"$f":"((AA1203*#REF!)+(#REF!*#REF!)+(#REF!*#REF!))/(#REF!+#REF!+#REF!)","v":{"$error":"#VALUE!"}},{"$f":"((AA1203*#REF!)+(#REF!*#REF!)+(#REF!*#REF!))/(#REF!+#REF!+#REF!)","v":{"$error":"#VALUE!"}}]
[null,null,null,null,null,null,null,null,null,null,null,null,null,null,null,null,null,null,null,null,null,1202,{"$error":"#VALUE!"},{"$f":"AVERAGE($W$3:W1204)","v":{"$error":"#VALUE!"}},null,{"$error":"#VALUE!"},{"$error":"#VALUE!"},{"$f":"AVERAGE($AA$3:AA1204)","v":{"$error":"#VALUE!"}},null,null,null,{"$f":"((AA1204*#REF!)+(#REF!*#REF!)+(#REF!*#REF!))/(#REF!+#REF!+#REF!)","v":{"$error":"#VALUE!"}},{"$f":"((AA1204*#REF!)+(#REF!*#REF!)+(#REF!*#REF!))/(#REF!+#REF!+#REF!)","v":{"$error":"#VALUE!"}},{"$f":"((AA1204*#REF!)+(#REF!*#REF!)+(#REF!*#REF!))/(#REF!+#REF!+#REF!)","v":{"$error":"#VALUE!"}},{"$f":"((AA1204*#REF!)+(#REF!*#REF!)+(#REF!*#REF!))/(#REF!+#REF!+#REF!)","v":{"$error":"#VALUE!"}},{"$f":"((AA1204*#REF!)+(#REF!*#REF!)+(#REF!*#REF!))/(#REF!+#REF!+#REF!)","v":{"$error":"#VALUE!"}},{"$f":"((AA1204*#REF!)+(#REF!*#REF!)+(#REF!*#REF!))/(#REF!+#REF!+#REF!)","v":{"$error":"#VALUE!"}},{"$f":"((AA1204*#REF!)+(#REF!*#REF!)+(#REF!*#REF!))/(#REF!+#REF!+#REF!)","v":{"$error":"#VALUE!"}}]
[null,null,null,null,null,null,null,null,null,null,null,null,null,null,null,null,null,null,null,null,null,1203,{"$error":"#VALUE!"},{"$f":"AVERAGE($W$3:W1205)","v":{"$error":"#VALUE!"}},null,{"$error":"#VALUE!"},{"$error":"#VALUE!"},{"$f":"AVERAGE($AA$3:AA1205)","v":{"$error":"#VALUE!"}},null,null,null,{"$f":"((AA1205*#REF!)+(#REF!*#REF!)+(#REF!*#REF!))/(#REF!+#REF!+#REF!)","v":{"$error":"#VALUE!"}},{"$f":"((AA1205*#REF!)+(#REF!*#REF!)+(#REF!*#REF!))/(#REF!+#REF!+#REF!)","v":{"$error":"#VALUE!"}},{"$f":"((AA1205*#REF!)+(#REF!*#REF!)+(#REF!*#REF!))/(#REF!+#REF!+#REF!)","v":{"$error":"#VALUE!"}},{"$f":"((AA1205*#REF!)+(#REF!*#REF!)+(#REF!*#REF!))/(#REF!+#REF!+#REF!)","v":{"$error":"#VALUE!"}},{"$f":"((AA1205*#REF!)+(#REF!*#REF!)+(#REF!*#REF!))/(#REF!+#REF!+#REF!)","v":{"$error":"#VALUE!"}},{"$f":"((AA1205*#REF!)+(#REF!*#REF!)+(#REF!*#REF!))/(#REF!+#REF!+#REF!)","v":{"$error":"#VALUE!"}},{"$f":"((AA1205*#REF!)+(#REF!*#REF!)+(#REF!*#REF!))/(#REF!+#REF!+#REF!)","v":{"$error":"#VALUE!"}}]
[null,null,null,null,null,null,null,null,null,null,null,null,null,null,null,null,null,null,null,null,null,1204,{"$error":"#VALUE!"},{"$f":"AVERAGE($W$3:W1206)","v":{"$error":"#VALUE!"}},null,{"$error":"#VALUE!"},{"$error":"#VALUE!"},{"$f":"AVERAGE($AA$3:AA1206)","v":{"$error":"#VALUE!"}},null,null,null,{"$f":"((AA1206*#REF!)+(#REF!*#REF!)+(#REF!*#REF!))/(#REF!+#REF!+#REF!)","v":{"$error":"#VALUE!"}},{"$f":"((AA1206*#REF!)+(#REF!*#REF!)+(#REF!*#REF!))/(#REF!+#REF!+#REF!)","v":{"$error":"#VALUE!"}},{"$f":"((AA1206*#REF!)+(#REF!*#REF!)+(#REF!*#REF!))/(#REF!+#REF!+#REF!)","v":{"$error":"#VALUE!"}},{"$f":"((AA1206*#REF!)+(#REF!*#REF!)+(#REF!*#REF!))/(#REF!+#REF!+#REF!)","v":{"$error":"#VALUE!"}},{"$f":"((AA1206*#REF!)+(#REF!*#REF!)+(#REF!*#REF!))/(#REF!+#REF!+#REF!)","v":{"$error":"#VALUE!"}},{"$f":"((AA1206*#REF!)+(#REF!*#REF!)+(#REF!*#REF!))/(#REF!+#REF!+#REF!)","v":{"$error":"#VALUE!"}},{"$f":"((AA1206*#REF!)+(#REF!*#REF!)+(#REF!*#REF!))/(#REF!+#REF!+#REF!)","v":{"$error":"#VALUE!"}}]
[null,null,null,null,null,null,null,null,null,null,null,null,null,null,null,null,null,null,null,null,null,1205,{"$error":"#VALUE!"},{"$f":"AVERAGE($W$3:W1207)","v":{"$error":"#VALUE!"}},null,{"$error":"#VALUE!"},{"$error":"#VALUE!"},{"$f":"AVERAGE($AA$3:AA1207)","v":{"$error":"#VALUE!"}},null,null,null,{"$f":"((AA1207*#REF!)+(#REF!*#REF!)+(#REF!*#REF!))/(#REF!+#REF!+#REF!)","v":{"$error":"#VALUE!"}},{"$f":"((AA1207*#REF!)+(#REF!*#REF!)+(#REF!*#REF!))/(#REF!+#REF!+#REF!)","v":{"$error":"#VALUE!"}},{"$f":"((AA1207*#REF!)+(#REF!*#REF!)+(#REF!*#REF!))/(#REF!+#REF!+#REF!)","v":{"$error":"#VALUE!"}},{"$f":"((AA1207*#REF!)+(#REF!*#REF!)+(#REF!*#REF!))/(#REF!+#REF!+#REF!)","v":{"$error":"#VALUE!"}},{"$f":"((AA1207*#REF!)+(#REF!*#REF!)+(#REF!*#REF!))/(#REF!+#REF!+#REF!)","v":{"$error":"#VALUE!"}},{"$f":"((AA1207*#REF!)+(#REF!*#REF!)+(#REF!*#REF!))/(#REF!+#REF!+#REF!)","v":{"$error":"#VALUE!"}},{"$f":"((AA1207*#REF!)+(#REF!*#REF!)+(#REF!*#REF!))/(#REF!+#REF!+#REF!)","v":{"$error":"#VALUE!"}}]
[null,null,null,null,null,null,null,null,null,null,null,null,null,null,null,null,null,null,null,null,null,1206,{"$error":"#VALUE!"},{"$f":"AVERAGE($W$3:W1208)","v":{"$error":"#VALUE!"}},null,{"$error":"#VALUE!"},{"$error":"#VALUE!"},{"$f":"AVERAGE($AA$3:AA1208)","v":{"$error":"#VALUE!"}},null,null,null,{"$f":"((AA1208*#REF!)+(#REF!*#REF!)+(#REF!*#REF!))/(#REF!+#REF!+#REF!)","v":{"$error":"#VALUE!"}},{"$f":"((AA1208*#REF!)+(#REF!*#REF!)+(#REF!*#REF!))/(#REF!+#REF!+#REF!)","v":{"$error":"#VALUE!"}},{"$f":"((AA1208*#REF!)+(#REF!*#REF!)+(#REF!*#REF!))/(#REF!+#REF!+#REF!)","v":{"$error":"#VALUE!"}},{"$f":"((AA1208*#REF!)+(#REF!*#REF!)+(#REF!*#REF!))/(#REF!+#REF!+#REF!)","v":{"$error":"#VALUE!"}},{"$f":"((AA1208*#REF!)+(#REF!*#REF!)+(#REF!*#REF!))/(#REF!+#REF!+#REF!)","v":{"$error":"#VALUE!"}},{"$f":"((AA1208*#REF!)+(#REF!*#REF!)+(#REF!*#REF!))/(#REF!+#REF!+#REF!)","v":{"$error":"#VALUE!"}},{"$f":"((AA1208*#REF!)+(#REF!*#REF!)+(#REF!*#REF!))/(#REF!+#REF!+#REF!)","v":{"$error":"#VALUE!"}}]
[null,null,null,null,null,null,null,null,null,null,null,null,null,null,null,null,null,null,null,null,null,1207,{"$error":"#VALUE!"},{"$f":"AVERAGE($W$3:W1209)","v":{"$error":"#VALUE!"}},null,{"$error":"#VALUE!"},{"$error":"#VALUE!"},{"$f":"AVERAGE($AA$3:AA1209)","v":{"$error":"#VALUE!"}},null,null,null,{"$f":"((AA1209*#REF!)+(#REF!*#REF!)+(#REF!*#REF!))/(#REF!+#REF!+#REF!)","v":{"$error":"#VALUE!"}},{"$f":"((AA1209*#REF!)+(#REF!*#REF!)+(#REF!*#REF!))/(#REF!+#REF!+#REF!)","v":{"$error":"#VALUE!"}},{"$f":"((AA1209*#REF!)+(#REF!*#REF!)+(#REF!*#REF!))/(#REF!+#REF!+#REF!)","v":{"$error":"#VALUE!"}},{"$f":"((AA1209*#REF!)+(#REF!*#REF!)+(#REF!*#REF!))/(#REF!+#REF!+#REF!)","v":{"$error":"#VALUE!"}},{"$f":"((AA1209*#REF!)+(#REF!*#REF!)+(#REF!*#REF!))/(#REF!+#REF!+#REF!)","v":{"$error":"#VALUE!"}},{"$f":"((AA1209*#REF!)+(#REF!*#REF!)+(#REF!*#REF!))/(#REF!+#REF!+#REF!)","v":{"$error":"#VALUE!"}},{"$f":"((AA1209*#REF!)+(#REF!*#REF!)+(#REF!*#REF!))/(#REF!+#REF!+#REF!)","v":{"$error":"#VALUE!"}}]
[null,null,null,null,null,null,null,null,null,null,null,null,null,null,null,null,null,null,null,null,null,1208,{"$error":"#VALUE!"},{"$f":"AVERAGE($W$3:W1210)","v":{"$error":"#VALUE!"}},null,{"$error":"#VALUE!"},{"$error":"#VALUE!"},{"$f":"AVERAGE($AA$3:AA1210)","v":{"$error":"#VALUE!"}},null,null,null,{"$f":"((AA1210*#REF!)+(#REF!*#REF!)+(#REF!*#REF!))/(#REF!+#REF!+#REF!)","v":{"$error":"#VALUE!"}},{"$f":"((AA1210*#REF!)+(#REF!*#REF!)+(#REF!*#REF!))/(#REF!+#REF!+#REF!)","v":{"$error":"#VALUE!"}},{"$f":"((AA1210*#REF!)+(#REF!*#REF!)+(#REF!*#REF!))/(#REF!+#REF!+#REF!)","v":{"$error":"#VALUE!"}},{"$f":"((AA1210*#REF!)+(#REF!*#REF!)+(#REF!*#REF!))/(#REF!+#REF!+#REF!)","v":{"$error":"#VALUE!"}},{"$f":"((AA1210*#REF!)+(#REF!*#REF!)+(#REF!*#REF!))/(#REF!+#REF!+#REF!)","v":{"$error":"#VALUE!"}},{"$f":"((AA1210*#REF!)+(#REF!*#REF!)+(#REF!*#REF!))/(#REF!+#REF!+#REF!)","v":{"$error":"#VALUE!"}},{"$f":"((AA1210*#REF!)+(#REF!*#REF!)+(#REF!*#REF!))/(#REF!+#REF!+#REF!)","v":{"$error":"#VALUE!"}}]
[null,null,null,null,null,null,null,null,null,null,null,null,null,null,null,null,null,null,null,null,null,1209,{"$error":"#VALUE!"},{"$f":"AVERAGE($W$3:W1211)","v":{"$error":"#VALUE!"}},null,{"$error":"#VALUE!"},{"$error":"#VALUE!"},{"$f":"AVERAGE($AA$3:AA1211)","v":{"$error":"#VALUE!"}},null,null,null,{"$f":"((AA1211*#REF!)+(#REF!*#REF!)+(#REF!*#REF!))/(#REF!+#REF!+#REF!)","v":{"$error":"#VALUE!"}},{"$f":"((AA1211*#REF!)+(#REF!*#REF!)+(#REF!*#REF!))/(#REF!+#REF!+#REF!)","v":{"$error":"#VALUE!"}},{"$f":"((AA1211*#REF!)+(#REF!*#REF!)+(#REF!*#REF!))/(#REF!+#REF!+#REF!)","v":{"$error":"#VALUE!"}},{"$f":"((AA1211*#REF!)+(#REF!*#REF!)+(#REF!*#REF!))/(#REF!+#REF!+#REF!)","v":{"$error":"#VALUE!"}},{"$f":"((AA1211*#REF!)+(#REF!*#REF!)+(#REF!*#REF!))/(#REF!+#REF!+#REF!)","v":{"$error":"#VALUE!"}},{"$f":"((AA1211*#REF!)+(#REF!*#REF!)+(#REF!*#REF!))/(#REF!+#REF!+#REF!)","v":{"$error":"#VALUE!"}},{"$f":"((AA1211*#REF!)+(#REF!*#REF!)+(#REF!*#REF!))/(#REF!+#REF!+#REF!)","v":{"$error":"#VALUE!"}}]
[null,null,null,null,null,null,null,null,null,null,null,null,null,null,null,null,null,null,null,null,null,1210,{"$error":"#VALUE!"},{"$f":"AVERAGE($W$3:W1212)","v":{"$error":"#VALUE!"}},null,{"$error":"#VALUE!"},{"$error":"#VALUE!"},{"$f":"AVERAGE($AA$3:AA1212)","v":{"$error":"#VALUE!"}},null,null,null,{"$f":"((AA1212*#REF!)+(#REF!*#REF!)+(#REF!*#REF!))/(#REF!+#REF!+#REF!)","v":{"$error":"#VALUE!"}},{"$f":"((AA1212*#REF!)+(#REF!*#REF!)+(#REF!*#REF!))/(#REF!+#REF!+#REF!)","v":{"$error":"#VALUE!"}},{"$f":"((AA1212*#REF!)+(#REF!*#REF!)+(#REF!*#REF!))/(#REF!+#REF!+#REF!)","v":{"$error":"#VALUE!"}},{"$f":"((AA1212*#REF!)+(#REF!*#REF!)+(#REF!*#REF!))/(#REF!+#REF!+#REF!)","v":{"$error":"#VALUE!"}},{"$f":"((AA1212*#REF!)+(#REF!*#REF!)+(#REF!*#REF!))/(#REF!+#REF!+#REF!)","v":{"$error":"#VALUE!"}},{"$f":"((AA1212*#REF!)+(#REF!*#REF!)+(#REF!*#REF!))/(#REF!+#REF!+#REF!)","v":{"$error":"#VALUE!"}},{"$f":"((AA1212*#REF!)+(#REF!*#REF!)+(#REF!*#REF!))/(#REF!+#REF!+#REF!)","v":{"$error":"#VALUE!"}}]
[null,null,null,null,null,null,null,null,null,null,null,null,null,null,null,null,null,null,null,null,null,1211,{"$error":"#VALUE!"},{"$f":"AVERAGE($W$3:W1213)","v":{"$error":"#VALUE!"}},null,{"$error":"#VALUE!"},{"$error":"#VALUE!"},{"$f":"AVERAGE($AA$3:AA1213)","v":{"$error":"#VALUE!"}},null,null,null,{"$f":"((AA1213*#REF!)+(#REF!*#REF!)+(#REF!*#REF!))/(#REF!+#REF!+#REF!)","v":{"$error":"#VALUE!"}},{"$f":"((AA1213*#REF!)+(#REF!*#REF!)+(#REF!*#REF!))/(#REF!+#REF!+#REF!)","v":{"$error":"#VALUE!"}},{"$f":"((AA1213*#REF!)+(#REF!*#REF!)+(#REF!*#REF!))/(#REF!+#REF!+#REF!)","v":{"$error":"#VALUE!"}},{"$f":"((AA1213*#REF!)+(#REF!*#REF!)+(#REF!*#REF!))/(#REF!+#REF!+#REF!)","v":{"$error":"#VALUE!"}},{"$f":"((AA1213*#REF!)+(#REF!*#REF!)+(#REF!*#REF!))/(#REF!+#REF!+#REF!)","v":{"$error":"#VALUE!"}},{"$f":"((AA1213*#REF!)+(#REF!*#REF!)+(#REF!*#REF!))/(#REF!+#REF!+#REF!)","v":{"$error":"#VALUE!"}},{"$f":"((AA1213*#REF!)+(#REF!*#REF!)+(#REF!*#REF!))/(#REF!+#REF!+#REF!)","v":{"$error":"#VALUE!"}}]
[null,null,null,null,null,null,null,null,null,null,null,null,null,null,null,null,null,null,null,null,null,1212,{"$f":"IF(($M$7*LN(V1214))+$M$8+$M$10>0,($M$7*LN(V1214))+$M$8+$M$10,0)","v":{"$error":"#VALUE!"}},{"$f":"AVERAGE($W$3:W1214)","v":{"$error":"#VALUE!"}},null,{"$error":"#VALUE!"},{"$error":"#VALUE!"},{"$f":"AVERAGE($AA$3:AA1214)","v":{"$error":"#VALUE!"}},null,null,null,{"$f":"((AA1214*#REF!)+(#REF!*#REF!)+(#REF!*#REF!))/(#REF!+#REF!+#REF!)","v":{"$error":"#VALUE!"}},{"$f":"((AA1214*#REF!)+(#REF!*#REF!)+(#REF!*#REF!))/(#REF!+#REF!+#REF!)","v":{"$error":"#VALUE!"}},{"$f":"((AA1214*#REF!)+(#REF!*#REF!)+(#REF!*#REF!))/(#REF!+#REF!+#REF!)","v":{"$error":"#VALUE!"}},{"$f":"((AA1214*#REF!)+(#REF!*#REF!)+(#REF!*#REF!))/(#REF!+#REF!+#REF!)","v":{"$error":"#VALUE!"}},{"$f":"((AA1214*#REF!)+(#REF!*#REF!)+(#REF!*#REF!))/(#REF!+#REF!+#REF!)","v":{"$error":"#VALUE!"}},{"$f":"((AA1214*#REF!)+(#REF!*#REF!)+(#REF!*#REF!))/(#REF!+#REF!+#REF!)","v":{"$error":"#VALUE!"}},{"$f":"((AA1214*#REF!)+(#REF!*#REF!)+(#REF!*#REF!))/(#REF!+#REF!+#REF!)","v":{"$error":"#VALUE!"}}]
[null,null,null,null,null,null,null,null,null,null,null,null,null,null,null,null,null,null,null,null,null,1213,{"$error":"#VALUE!"},{"$f":"AVERAGE($W$3:W1215)","v":{"$error":"#VALUE!"}},null,{"$error":"#VALUE!"},{"$error":"#VALUE!"},{"$f":"AVERAGE($AA$3:AA1215)","v":{"$error":"#VALUE!"}},null,null,null,{"$f":"((AA1215*#REF!)+(#REF!*#REF!)+(#REF!*#REF!))/(#REF!+#REF!+#REF!)","v":{"$error":"#VALUE!"}},{"$f":"((AA1215*#REF!)+(#REF!*#REF!)+(#REF!*#REF!))/(#REF!+#REF!+#REF!)","v":{"$error":"#VALUE!"}},{"$f":"((AA1215*#REF!)+(#REF!*#REF!)+(#REF!*#REF!))/(#REF!+#REF!+#REF!)","v":{"$error":"#VALUE!"}},{"$f":"((AA1215*#REF!)+(#REF!*#REF!)+(#REF!*#REF!))/(#REF!+#REF!+#REF!)","v":{"$error":"#VALUE!"}},{"$f":"((AA1215*#REF!)+(#REF!*#REF!)+(#REF!*#REF!))/(#REF!+#REF!+#REF!)","v":{"$error":"#VALUE!"}},{"$f":"((AA1215*#REF!)+(#REF!*#REF!)+(#REF!*#REF!))/(#REF!+#REF!+#REF!)","v":{"$error":"#VALUE!"}},{"$f":"((AA1215*#REF!)+(#REF!*#REF!)+(#REF!*#REF!))/(#REF!+#REF!+#REF!)","v":{"$error":"#VALUE!"}}]
[null,null,null,null,null,null,null,null,null,null,null,null,null,null,null,null,null,null,null,null,null,1214,{"$error":"#VALUE!"},{"$f":"AVERAGE($W$3:W1216)","v":{"$error":"#VALUE!"}},null,{"$error":"#VALUE!"},{"$error":"#VALUE!"},{"$f":"AVERAGE($AA$3:AA1216)","v":{"$error":"#VALUE!"}},null,null,null,{"$f":"((AA1216*#REF!)+(#REF!*#REF!)+(#REF!*#REF!))/(#REF!+#REF!+#REF!)","v":{"$error":"#VALUE!"}},{"$f":"((AA1216*#REF!)+(#REF!*#REF!)+(#REF!*#REF!))/(#REF!+#REF!+#REF!)","v":{"$error":"#VALUE!"}},{"$f":"((AA1216*#REF!)+(#REF!*#REF!)+(#REF!*#REF!))/(#REF!+#REF!+#REF!)","v":{"$error":"#VALUE!"}},{"$f":"((AA1216*#REF!)+(#REF!*#REF!)+(#REF!*#REF!))/(#REF!+#REF!+#REF!)","v":{"$error":"#VALUE!"}},{"$f":"((AA1216*#REF!)+(#REF!*#REF!)+(#REF!*#REF!))/(#REF!+#REF!+#REF!)","v":{"$error":"#VALUE!"}},{"$f":"((AA1216*#REF!)+(#REF!*#REF!)+(#REF!*#REF!))/(#REF!+#REF!+#REF!)","v":{"$error":"#VALUE!"}},{"$f":"((AA1216*#REF!)+(#REF!*#REF!)+(#REF!*#REF!))/(#REF!+#REF!+#REF!)","v":{"$error":"#VALUE!"}}]
[null,null,null,null,null,null,null,null,null,null,null,null,null,null,null,null,null,null,null,null,null,1215,{"$error":"#VALUE!"},{"$f":"AVERAGE($W$3:W1217)","v":{"$error":"#VALUE!"}},null,{"$error":"#VALUE!"},{"$error":"#VALUE!"},{"$f":"AVERAGE($AA$3:AA1217)","v":{"$error":"#VALUE!"}},null,null,null,{"$f":"((AA1217*#REF!)+(#REF!*#REF!)+(#REF!*#REF!))/(#REF!+#REF!+#REF!)","v":{"$error":"#VALUE!"}},{"$f":"((AA1217*#REF!)+(#REF!*#REF!)+(#REF!*#REF!))/(#REF!+#REF!+#REF!)","v":{"$error":"#VALUE!"}},{"$f":"((AA1217*#REF!)+(#REF!*#REF!)+(#REF!*#REF!))/(#REF!+#REF!+#REF!)","v":{"$error":"#VALUE!"}},{"$f":"((AA1217*#REF!)+(#REF!*#REF!)+(#REF!*#REF!))/(#REF!+#REF!+#REF!)","v":{"$error":"#VALUE!"}},{"$f":"((AA1217*#REF!)+(#REF!*#REF!)+(#REF!*#REF!))/(#REF!+#REF!+#REF!)","v":{"$error":"#VALUE!"}},{"$f":"((AA1217*#REF!)+(#REF!*#REF!)+(#REF!*#REF!))/(#REF!+#REF!+#REF!)","v":{"$error":"#VALUE!"}},{"$f":"((AA1217*#REF!)+(#REF!*#REF!)+(#REF!*#REF!))/(#REF!+#REF!+#REF!)","v":{"$error":"#VALUE!"}}]
[null,null,null,null,null,null,null,null,null,null,null,null,null,null,null,null,null,null,null,null,null,1216,{"$error":"#VALUE!"},{"$f":"AVERAGE($W$3:W1218)","v":{"$error":"#VALUE!"}},null,{"$error":"#VALUE!"},{"$error":"#VALUE!"},{"$f":"AVERAGE($AA$3:AA1218)","v":{"$error":"#VALUE!"}},null,null,null,{"$f":"((AA1218*#REF!)+(#REF!*#REF!)+(#REF!*#REF!))/(#REF!+#REF!+#REF!)","v":{"$error":"#VALUE!"}},{"$f":"((AA1218*#REF!)+(#REF!*#REF!)+(#REF!*#REF!))/(#REF!+#REF!+#REF!)","v":{"$error":"#VALUE!"}},{"$f":"((AA1218*#REF!)+(#REF!*#REF!)+(#REF!*#REF!))/(#REF!+#REF!+#REF!)","v":{"$error":"#VALUE!"}},{"$f":"((AA1218*#REF!)+(#REF!*#REF!)+(#REF!*#REF!))/(#REF!+#REF!+#REF!)","v":{"$error":"#VALUE!"}},{"$f":"((AA1218*#REF!)+(#REF!*#REF!)+(#REF!*#REF!))/(#REF!+#REF!+#REF!)","v":{"$error":"#VALUE!"}},{"$f":"((AA1218*#REF!)+(#REF!*#REF!)+(#REF!*#REF!))/(#REF!+#REF!+#REF!)","v":{"$error":"#VALUE!"}},{"$f":"((AA1218*#REF!)+(#REF!*#REF!)+(#REF!*#REF!))/(#REF!+#REF!+#REF!)","v":{"$error":"#VALUE!"}}]
[null,null,null,null,null,null,null,null,null,null,null,null,null,null,null,null,null,null,null,null,null,1217,{"$error":"#VALUE!"},{"$f":"AVERAGE($W$3:W1219)","v":{"$error":"#VALUE!"}},null,{"$error":"#VALUE!"},{"$error":"#VALUE!"},{"$f":"AVERAGE($AA$3:AA1219)","v":{"$error":"#VALUE!"}},null,null,null,{"$f":"((AA1219*#REF!)+(#REF!*#REF!)+(#REF!*#REF!))/(#REF!+#REF!+#REF!)","v":{"$error":"#VALUE!"}},{"$f":"((AA1219*#REF!)+(#REF!*#REF!)+(#REF!*#REF!))/(#REF!+#REF!+#REF!)","v":{"$error":"#VALUE!"}},{"$f":"((AA1219*#REF!)+(#REF!*#REF!)+(#REF!*#REF!))/(#REF!+#REF!+#REF!)","v":{"$error":"#VALUE!"}},{"$f":"((AA1219*#REF!)+(#REF!*#REF!)+(#REF!*#REF!))/(#REF!+#REF!+#REF!)","v":{"$error":"#VALUE!"}},{"$f":"((AA1219*#REF!)+(#REF!*#REF!)+(#REF!*#REF!))/(#REF!+#REF!+#REF!)","v":{"$error":"#VALUE!"}},{"$f":"((AA1219*#REF!)+(#REF!*#REF!)+(#REF!*#REF!))/(#REF!+#REF!+#REF!)","v":{"$error":"#VALUE!"}},{"$f":"((AA1219*#REF!)+(#REF!*#REF!)+(#REF!*#REF!))/(#REF!+#REF!+#REF!)","v":{"$error":"#VALUE!"}}]
[null,null,null,null,null,null,null,null,null,null,null,null,null,null,null,null,null,null,null,null,null,1218,{"$error":"#VALUE!"},{"$f":"AVERAGE($W$3:W1220)","v":{"$error":"#VALUE!"}},null,{"$f":"$M$2+W1220","v":{"$error":"#VALUE!"}},{"$f":"(Z1220*(9/5))+32","v":{"$error":"#VALUE!"}},{"$f":"AVERAGE($AA$3:AA1220)","v":{"$error":"#VALUE!"}},null,null,null,{"$f":"((AA1220*#REF!)+(#REF!*#REF!)+(#REF!*#REF!))/(#REF!+#REF!+#REF!)","v":{"$error":"#VALUE!"}},{"$f":"((AA1220*#REF!)+(#REF!*#REF!)+(#REF!*#REF!))/(#REF!+#REF!+#REF!)","v":{"$error":"#VALUE!"}},{"$f":"((AA1220*#REF!)+(#REF!*#REF!)+(#REF!*#REF!))/(#REF!+#REF!+#REF!)","v":{"$error":"#VALUE!"}},{"$f":"((AA1220*#REF!)+(#REF!*#REF!)+(#REF!*#REF!))/(#REF!+#REF!+#REF!)","v":{"$error":"#VALUE!"}},{"$f":"((AA1220*#REF!)+(#REF!*#REF!)+(#REF!*#REF!))/(#REF!+#REF!+#REF!)","v":{"$error":"#VALUE!"}},{"$f":"((AA1220*#REF!)+(#REF!*#REF!)+(#REF!*#REF!))/(#REF!+#REF!+#REF!)","v":{"$error":"#VALUE!"}},{"$f":"((AA1220*#REF!)+(#REF!*#REF!)+(#REF!*#REF!))/(#REF!+#REF!+#REF!)","v":{"$error":"#VALUE!"}}]
[null,null,null,null,null,null,null,null,null,null,null,null,null,null,null,null,null,null,null,null,null,1219,{"$error":"#VALUE!"},{"$f":"AVERAGE($W$3:W1221)","v":{"$error":"#VALUE!"}},null,{"$error":"#VALUE!"},{"$error":"#VALUE!"},{"$f":"AVERAGE($AA$3:AA1221)","v":{"$error":"#VALUE!"}},null,null,null,{"$f":"((AA1221*#REF!)+(#REF!*#REF!)+(#REF!*#REF!))/(#REF!+#REF!+#REF!)","v":{"$error":"#VALUE!"}},{"$f":"((AA1221*#REF!)+(#REF!*#REF!)+(#REF!*#REF!))/(#REF!+#REF!+#REF!)","v":{"$error":"#VALUE!"}},{"$f":"((AA1221*#REF!)+(#REF!*#REF!)+(#REF!*#REF!))/(#REF!+#REF!+#REF!)","v":{"$error":"#VALUE!"}},{"$f":"((AA1221*#REF!)+(#REF!*#REF!)+(#REF!*#REF!))/(#REF!+#REF!+#REF!)","v":{"$error":"#VALUE!"}},{"$f":"((AA1221*#REF!)+(#REF!*#REF!)+(#REF!*#REF!))/(#REF!+#REF!+#REF!)","v":{"$error":"#VALUE!"}},{"$f":"((AA1221*#REF!)+(#REF!*#REF!)+(#REF!*#REF!))/(#REF!+#REF!+#REF!)","v":{"$error":"#VALUE!"}},{"$f":"((AA1221*#REF!)+(#REF!*#REF!)+(#REF!*#REF!))/(#REF!+#REF!+#REF!)","v":{"$error":"#VALUE!"}}]
[null,null,null,null,null,null,null,null,null,null,null,null,null,null,null,null,null,null,null,null,null,1220,{"$error":"#VALUE!"},{"$f":"AVERAGE($W$3:W1222)","v":{"$error":"#VALUE!"}},null,{"$error":"#VALUE!"},{"$error":"#VALUE!"},{"$f":"AVERAGE($AA$3:AA1222)","v":{"$error":"#VALUE!"}},null,null,null,{"$f":"((AA1222*#REF!)+(#REF!*#REF!)+(#REF!*#REF!))/(#REF!+#REF!+#REF!)","v":{"$error":"#VALUE!"}},{"$f":"((AA1222*#REF!)+(#REF!*#REF!)+(#REF!*#REF!))/(#REF!+#REF!+#REF!)","v":{"$error":"#VALUE!"}},{"$f":"((AA1222*#REF!)+(#REF!*#REF!)+(#REF!*#REF!))/(#REF!+#REF!+#REF!)","v":{"$error":"#VALUE!"}},{"$f":"((AA1222*#REF!)+(#REF!*#REF!)+(#REF!*#REF!))/(#REF!+#REF!+#REF!)","v":{"$error":"#VALUE!"}},{"$f":"((AA1222*#REF!)+(#REF!*#REF!)+(#REF!*#REF!))/(#REF!+#REF!+#REF!)","v":{"$error":"#VALUE!"}},{"$f":"((AA1222*#REF!)+(#REF!*#REF!)+(#REF!*#REF!))/(#REF!+#REF!+#REF!)","v":{"$error":"#VALUE!"}},{"$f":"((AA1222*#REF!)+(#REF!*#REF!)+(#REF!*#REF!))/(#REF!+#REF!+#REF!)","v":{"$error":"#VALUE!"}}]
[null,null,null,null,null,null,null,null,null,null,null,null,null,null,null,null,null,null,null,null,null,1221,{"$error":"#VALUE!"},{"$f":"AVERAGE($W$3:W1223)","v":{"$error":"#VALUE!"}},null,{"$error":"#VALUE!"},{"$error":"#VALUE!"},{"$f":"AVERAGE($AA$3:AA1223)","v":{"$error":"#VALUE!"}},null,null,null,{"$f":"((AA1223*#REF!)+(#REF!*#REF!)+(#REF!*#REF!))/(#REF!+#REF!+#REF!)","v":{"$error":"#VALUE!"}},{"$f":"((AA1223*#REF!)+(#REF!*#REF!)+(#REF!*#REF!))/(#REF!+#REF!+#REF!)","v":{"$error":"#VALUE!"}},{"$f":"((AA1223*#REF!)+(#REF!*#REF!)+(#REF!*#REF!))/(#REF!+#REF!+#REF!)","v":{"$error":"#VALUE!"}},{"$f":"((AA1223*#REF!)+(#REF!*#REF!)+(#REF!*#REF!))/(#REF!+#REF!+#REF!)","v":{"$error":"#VALUE!"}},{"$f":"((AA1223*#REF!)+(#REF!*#REF!)+(#REF!*#REF!))/(#REF!+#REF!+#REF!)","v":{"$error":"#VALUE!"}},{"$f":"((AA1223*#REF!)+(#REF!*#REF!)+(#REF!*#REF!))/(#REF!+#REF!+#REF!)","v":{"$error":"#VALUE!"}},{"$f":"((AA1223*#REF!)+(#REF!*#REF!)+(#REF!*#REF!))/(#REF!+#REF!+#REF!)","v":{"$error":"#VALUE!"}}]
[null,null,null,null,null,null,null,null,null,null,null,null,null,null,null,null,null,null,null,null,null,1222,{"$error":"#VALUE!"},{"$f":"AVERAGE($W$3:W1224)","v":{"$error":"#VALUE!"}},null,{"$error":"#VALUE!"},{"$error":"#VALUE!"},{"$f":"AVERAGE($AA$3:AA1224)","v":{"$error":"#VALUE!"}},null,null,null,{"$f":"((AA1224*#REF!)+(#REF!*#REF!)+(#REF!*#REF!))/(#REF!+#REF!+#REF!)","v":{"$error":"#VALUE!"}},{"$f":"((AA1224*#REF!)+(#REF!*#REF!)+(#REF!*#REF!))/(#REF!+#REF!+#REF!)","v":{"$error":"#VALUE!"}},{"$f":"((AA1224*#REF!)+(#REF!*#REF!)+(#REF!*#REF!))/(#REF!+#REF!+#REF!)","v":{"$error":"#VALUE!"}},{"$f":"((AA1224*#REF!)+(#REF!*#REF!)+(#REF!*#REF!))/(#REF!+#REF!+#REF!)","v":{"$error":"#VALUE!"}},{"$f":"((AA1224*#REF!)+(#REF!*#REF!)+(#REF!*#REF!))/(#REF!+#REF!+#REF!)","v":{"$error":"#VALUE!"}},{"$f":"((AA1224*#REF!)+(#REF!*#REF!)+(#REF!*#REF!))/(#REF!+#REF!+#REF!)","v":{"$error":"#VALUE!"}},{"$f":"((AA1224*#REF!)+(#REF!*#REF!)+(#REF!*#REF!))/(#REF!+#REF!+#REF!)","v":{"$error":"#VALUE!"}}]
[null,null,null,null,null,null,null,null,null,null,null,null,null,null,null,null,null,null,null,null,null,1223,{"$error":"#VALUE!"},{"$f":"AVERAGE($W$3:W1225)","v":{"$error":"#VALUE!"}},null,{"$error":"#VALUE!"},{"$error":"#VALUE!"},{"$f":"AVERAGE($AA$3:AA1225)","v":{"$error":"#VALUE!"}},null,null,null,{"$f":"((AA1225*#REF!)+(#REF!*#REF!)+(#REF!*#REF!))/(#REF!+#REF!+#REF!)","v":{"$error":"#VALUE!"}},{"$f":"((AA1225*#REF!)+(#REF!*#REF!)+(#REF!*#REF!))/(#REF!+#REF!+#REF!)","v":{"$error":"#VALUE!"}},{"$f":"((AA1225*#REF!)+(#REF!*#REF!)+(#REF!*#REF!))/(#REF!+#REF!+#REF!)","v":{"$error":"#VALUE!"}},{"$f":"((AA1225*#REF!)+(#REF!*#REF!)+(#REF!*#REF!))/(#REF!+#REF!+#REF!)","v":{"$error":"#VALUE!"}},{"$f":"((AA1225*#REF!)+(#REF!*#REF!)+(#REF!*#REF!))/(#REF!+#REF!+#REF!)","v":{"$error":"#VALUE!"}},{"$f":"((AA1225*#REF!)+(#REF!*#REF!)+(#REF!*#REF!))/(#REF!+#REF!+#REF!)","v":{"$error":"#VALUE!"}},{"$f":"((AA1225*#REF!)+(#REF!*#REF!)+(#REF!*#REF!))/(#REF!+#REF!+#REF!)","v":{"$error":"#VALUE!"}}]
[null,null,null,null,null,null,null,null,null,null,null,null,null,null,null,null,null,null,null,null,null,1224,{"$error":"#VALUE!"},{"$f":"AVERAGE($W$3:W1226)","v":{"$error":"#VALUE!"}},null,{"$error":"#VALUE!"},{"$error":"#VALUE!"},{"$f":"AVERAGE($AA$3:AA1226)","v":{"$error":"#VALUE!"}},null,null,null,{"$f":"((AA1226*#REF!)+(#REF!*#REF!)+(#REF!*#REF!))/(#REF!+#REF!+#REF!)","v":{"$error":"#VALUE!"}},{"$f":"((AA1226*#REF!)+(#REF!*#REF!)+(#REF!*#REF!))/(#REF!+#REF!+#REF!)","v":{"$error":"#VALUE!"}},{"$f":"((AA1226*#REF!)+(#REF!*#REF!)+(#REF!*#REF!))/(#REF!+#REF!+#REF!)","v":{"$error":"#VALUE!"}},{"$f":"((AA1226*#REF!)+(#REF!*#REF!)+(#REF!*#REF!))/(#REF!+#REF!+#REF!)","v":{"$error":"#VALUE!"}},{"$f":"((AA1226*#REF!)+(#REF!*#REF!)+(#REF!*#REF!))/(#REF!+#REF!+#REF!)","v":{"$error":"#VALUE!"}},{"$f":"((AA1226*#REF!)+(#REF!*#REF!)+(#REF!*#REF!))/(#REF!+#REF!+#REF!)","v":{"$error":"#VALUE!"}},{"$f":"((AA1226*#REF!)+(#REF!*#REF!)+(#REF!*#REF!))/(#REF!+#REF!+#REF!)","v":{"$error":"#VALUE!"}}]
[null,null,null,null,null,null,null,null,null,null,null,null,null,null,null,null,null,null,null,null,null,1225,{"$error":"#VALUE!"},{"$f":"AVERAGE($W$3:W1227)","v":{"$error":"#VALUE!"}},null,{"$error":"#VALUE!"},{"$error":"#VALUE!"},{"$f":"AVERAGE($AA$3:AA1227)","v":{"$error":"#VALUE!"}},null,null,null,{"$f":"((AA1227*#REF!)+(#REF!*#REF!)+(#REF!*#REF!))/(#REF!+#REF!+#REF!)","v":{"$error":"#VALUE!"}},{"$f":"((AA1227*#REF!)+(#REF!*#REF!)+(#REF!*#REF!))/(#REF!+#REF!+#REF!)","v":{"$error":"#VALUE!"}},{"$f":"((AA1227*#REF!)+(#REF!*#REF!)+(#REF!*#REF!))/(#REF!+#REF!+#REF!)","v":{"$error":"#VALUE!"}},{"$f":"((AA1227*#REF!)+(#REF!*#REF!)+(#REF!*#REF!))/(#REF!+#REF!+#REF!)","v":{"$error":"#VALUE!"}},{"$f":"((AA1227*#REF!)+(#REF!*#REF!)+(#REF!*#REF!))/(#REF!+#REF!+#REF!)","v":{"$error":"#VALUE!"}},{"$f":"((AA1227*#REF!)+(#REF!*#REF!)+(#REF!*#REF!))/(#REF!+#REF!+#REF!)","v":{"$error":"#VALUE!"}},{"$f":"((AA1227*#REF!)+(#REF!*#REF!)+(#REF!*#REF!))/(#REF!+#REF!+#REF!)","v":{"$error":"#VALUE!"}}]
[null,null,null,null,null,null,null,null,null,null,null,null,null,null,null,null,null,null,null,null,null,1226,{"$error":"#VALUE!"},{"$f":"AVERAGE($W$3:W1228)","v":{"$error":"#VALUE!"}},null,{"$error":"#VALUE!"},{"$error":"#VALUE!"},{"$f":"AVERAGE($AA$3:AA1228)","v":{"$error":"#VALUE!"}},null,null,null,{"$f":"((AA1228*#REF!)+(#REF!*#REF!)+(#REF!*#REF!))/(#REF!+#REF!+#REF!)","v":{"$error":"#VALUE!"}},{"$f":"((AA1228*#REF!)+(#REF!*#REF!)+(#REF!*#REF!))/(#REF!+#REF!+#REF!)","v":{"$error":"#VALUE!"}},{"$f":"((AA1228*#REF!)+(#REF!*#REF!)+(#REF!*#REF!))/(#REF!+#REF!+#REF!)","v":{"$error":"#VALUE!"}},{"$f":"((AA1228*#REF!)+(#REF!*#REF!)+(#REF!*#REF!))/(#REF!+#REF!+#REF!)","v":{"$error":"#VALUE!"}},{"$f":"((AA1228*#REF!)+(#REF!*#REF!)+(#REF!*#REF!))/(#REF!+#REF!+#REF!)","v":{"$error":"#VALUE!"}},{"$f":"((AA1228*#REF!)+(#REF!*#REF!)+(#REF!*#REF!))/(#REF!+#REF!+#REF!)","v":{"$error":"#VALUE!"}},{"$f":"((AA1228*#REF!)+(#REF!*#REF!)+(#REF!*#REF!))/(#REF!+#REF!+#REF!)","v":{"$error":"#VALUE!"}}]
[null,null,null,null,null,null,null,null,null,null,null,null,null,null,null,null,null,null,null,null,null,1227,{"$error":"#VALUE!"},{"$f":"AVERAGE($W$3:W1229)","v":{"$error":"#VALUE!"}},null,{"$error":"#VALUE!"},{"$error":"#VALUE!"},{"$f":"AVERAGE($AA$3:AA1229)","v":{"$error":"#VALUE!"}},null,null,null,{"$f":"((AA1229*#REF!)+(#REF!*#REF!)+(#REF!*#REF!))/(#REF!+#REF!+#REF!)","v":{"$error":"#VALUE!"}},{"$f":"((AA1229*#REF!)+(#REF!*#REF!)+(#REF!*#REF!))/(#REF!+#REF!+#REF!)","v":{"$error":"#VALUE!"}},{"$f":"((AA1229*#REF!)+(#REF!*#REF!)+(#REF!*#REF!))/(#REF!+#REF!+#REF!)","v":{"$error":"#VALUE!"}},{"$f":"((AA1229*#REF!)+(#REF!*#REF!)+(#REF!*#REF!))/(#REF!+#REF!+#REF!)","v":{"$error":"#VALUE!"}},{"$f":"((AA1229*#REF!)+(#REF!*#REF!)+(#REF!*#REF!))/(#REF!+#REF!+#REF!)","v":{"$error":"#VALUE!"}},{"$f":"((AA1229*#REF!)+(#REF!*#REF!)+(#REF!*#REF!))/(#REF!+#REF!+#REF!)","v":{"$error":"#VALUE!"}},{"$f":"((AA1229*#REF!)+(#REF!*#REF!)+(#REF!*#REF!))/(#REF!+#REF!+#REF!)","v":{"$error":"#VALUE!"}}]
[null,null,null,null,null,null,null,null,null,null,null,null,null,null,null,null,null,null,null,null,null,1228,{"$error":"#VALUE!"},{"$f":"AVERAGE($W$3:W1230)","v":{"$error":"#VALUE!"}},null,{"$error":"#VALUE!"},{"$error":"#VALUE!"},{"$f":"AVERAGE($AA$3:AA1230)","v":{"$error":"#VALUE!"}},null,null,null,{"$f":"((AA1230*#REF!)+(#REF!*#REF!)+(#REF!*#REF!))/(#REF!+#REF!+#REF!)","v":{"$error":"#VALUE!"}},{"$f":"((AA1230*#REF!)+(#REF!*#REF!)+(#REF!*#REF!))/(#REF!+#REF!+#REF!)","v":{"$error":"#VALUE!"}},{"$f":"((AA1230*#REF!)+(#REF!*#REF!)+(#REF!*#REF!))/(#REF!+#REF!+#REF!)","v":{"$error":"#VALUE!"}},{"$f":"((AA1230*#REF!)+(#REF!*#REF!)+(#REF!*#REF!))/(#REF!+#REF!+#REF!)","v":{"$error":"#VALUE!"}},{"$f":"((AA1230*#REF!)+(#REF!*#REF!)+(#REF!*#REF!))/(#REF!+#REF!+#REF!)","v":{"$error":"#VALUE!"}},{"$f":"((AA1230*#REF!)+(#REF!*#REF!)+(#REF!*#REF!))/(#REF!+#REF!+#REF!)","v":{"$error":"#VALUE!"}},{"$f":"((AA1230*#REF!)+(#REF!*#REF!)+(#REF!*#REF!))/(#REF!+#REF!+#REF!)","v":{"$error":"#VALUE!"}}]
[null,null,null,null,null,null,null,null,null,null,null,null,null,null,null,null,null,null,null,null,null,1229,{"$error":"#VALUE!"},{"$f":"AVERAGE($W$3:W1231)","v":{"$error":"#VALUE!"}},null,{"$error":"#VALUE!"},{"$error":"#VALUE!"},{"$f":"AVERAGE($AA$3:AA1231)","v":{"$error":"#VALUE!"}},null,null,null,{"$f":"((AA1231*#REF!)+(#REF!*#REF!)+(#REF!*#REF!))/(#REF!+#REF!+#REF!)","v":{"$error":"#VALUE!"}},{"$f":"((AA1231*#REF!)+(#REF!*#REF!)+(#REF!*#REF!))/(#REF!+#REF!+#REF!)","v":{"$error":"#VALUE!"}},{"$f":"((AA1231*#REF!)+(#REF!*#REF!)+(#REF!*#REF!))/(#REF!+#REF!+#REF!)","v":{"$error":"#VALUE!"}},{"$f":"((AA1231*#REF!)+(#REF!*#REF!)+(#REF!*#REF!))/(#REF!+#REF!+#REF!)","v":{"$error":"#VALUE!"}},{"$f":"((AA1231*#REF!)+(#REF!*#REF!)+(#REF!*#REF!))/(#REF!+#REF!+#REF!)","v":{"$error":"#VALUE!"}},{"$f":"((AA1231*#REF!)+(#REF!*#REF!)+(#REF!*#REF!))/(#REF!+#REF!+#REF!)","v":{"$error":"#VALUE!"}},{"$f":"((AA1231*#REF!)+(#REF!*#REF!)+(#REF!*#REF!))/(#REF!+#REF!+#REF!)","v":{"$error":"#VALUE!"}}]
[null,null,null,null,null,null,null,null,null,null,null,null,null,null,null,null,null,null,null,null,null,1230,{"$error":"#VALUE!"},{"$f":"AVERAGE($W$3:W1232)","v":{"$error":"#VALUE!"}},null,{"$error":"#VALUE!"},{"$error":"#VALUE!"},{"$f":"AVERAGE($AA$3:AA1232)","v":{"$error":"#VALUE!"}},null,null,null,{"$f":"((AA1232*#REF!)+(#REF!*#REF!)+(#REF!*#REF!))/(#REF!+#REF!+#REF!)","v":{"$error":"#VALUE!"}},{"$f":"((AA1232*#REF!)+(#REF!*#REF!)+(#REF!*#REF!))/(#REF!+#REF!+#REF!)","v":{"$error":"#VALUE!"}},{"$f":"((AA1232*#REF!)+(#REF!*#REF!)+(#REF!*#REF!))/(#REF!+#REF!+#REF!)","v":{"$error":"#VALUE!"}},{"$f":"((AA1232*#REF!)+(#REF!*#REF!)+(#REF!*#REF!))/(#REF!+#REF!+#REF!)","v":{"$error":"#VALUE!"}},{"$f":"((AA1232*#REF!)+(#REF!*#REF!)+(#REF!*#REF!))/(#REF!+#REF!+#REF!)","v":{"$error":"#VALUE!"}},{"$f":"((AA1232*#REF!)+(#REF!*#REF!)+(#REF!*#REF!))/(#REF!+#REF!+#REF!)","v":{"$error":"#VALUE!"}},{"$f":"((AA1232*#REF!)+(#REF!*#REF!)+(#REF!*#REF!))/(#REF!+#REF!+#REF!)","v":{"$error":"#VALUE!"}}]
[null,null,null,null,null,null,null,null,null,null,null,null,null,null,null,null,null,null,null,null,null,1231,{"$error":"#VALUE!"},{"$f":"AVERAGE($W$3:W1233)","v":{"$error":"#VALUE!"}},null,{"$error":"#VALUE!"},{"$error":"#VALUE!"},{"$f":"AVERAGE($AA$3:AA1233)","v":{"$error":"#VALUE!"}},null,null,null,{"$f":"((AA1233*#REF!)+(#REF!*#REF!)+(#REF!*#REF!))/(#REF!+#REF!+#REF!)","v":{"$error":"#VALUE!"}},{"$f":"((AA1233*#REF!)+(#REF!*#REF!)+(#REF!*#REF!))/(#REF!+#REF!+#REF!)","v":{"$error":"#VALUE!"}},{"$f":"((AA1233*#REF!)+(#REF!*#REF!)+(#REF!*#REF!))/(#REF!+#REF!+#REF!)","v":{"$error":"#VALUE!"}},{"$f":"((AA1233*#REF!)+(#REF!*#REF!)+(#REF!*#REF!))/(#REF!+#REF!+#REF!)","v":{"$error":"#VALUE!"}},{"$f":"((AA1233*#REF!)+(#REF!*#REF!)+(#REF!*#REF!))/(#REF!+#REF!+#REF!)","v":{"$error":"#VALUE!"}},{"$f":"((AA1233*#REF!)+(#REF!*#REF!)+(#REF!*#REF!))/(#REF!+#REF!+#REF!)","v":{"$error":"#VALUE!"}},{"$f":"((AA1233*#REF!)+(#REF!*#REF!)+(#REF!*#REF!))/(#REF!+#REF!+#REF!)","v":{"$error":"#VALUE!"}}]
[null,null,null,null,null,null,null,null,null,null,null,null,null,null,null,null,null,null,null,null,null,1232,{"$error":"#VALUE!"},{"$f":"AVERAGE($W$3:W1234)","v":{"$error":"#VALUE!"}},null,{"$error":"#VALUE!"},{"$error":"#VALUE!"},{"$f":"AVERAGE($AA$3:AA1234)","v":{"$error":"#VALUE!"}},null,null,null,{"$f":"((AA1234*#REF!)+(#REF!*#REF!)+(#REF!*#REF!))/(#REF!+#REF!+#REF!)","v":{"$error":"#VALUE!"}},{"$f":"((AA1234*#REF!)+(#REF!*#REF!)+(#REF!*#REF!))/(#REF!+#REF!+#REF!)","v":{"$error":"#VALUE!"}},{"$f":"((AA1234*#REF!)+(#REF!*#REF!)+(#REF!*#REF!))/(#REF!+#REF!+#REF!)","v":{"$error":"#VALUE!"}},{"$f":"((AA1234*#REF!)+(#REF!*#REF!)+(#REF!*#REF!))/(#REF!+#REF!+#REF!)","v":{"$error":"#VALUE!"}},{"$f":"((AA1234*#REF!)+(#REF!*#REF!)+(#REF!*#REF!))/(#REF!+#REF!+#REF!)","v":{"$error":"#VALUE!"}},{"$f":"((AA1234*#REF!)+(#REF!*#REF!)+(#REF!*#REF!))/(#REF!+#REF!+#REF!)","v":{"$error":"#VALUE!"}},{"$f":"((AA1234*#REF!)+(#REF!*#REF!)+(#REF!*#REF!))/(#REF!+#REF!+#REF!)","v":{"$error":"#VALUE!"}}]
[null,null,null,null,null,null,null,null,null,null,null,null,null,null,null,null,null,null,null,null,null,1233,{"$error":"#VALUE!"},{"$f":"AVERAGE($W$3:W1235)","v":{"$error":"#VALUE!"}},null,{"$error":"#VALUE!"},{"$error":"#VALUE!"},{"$f":"AVERAGE($AA$3:AA1235)","v":{"$error":"#VALUE!"}},null,null,null,{"$f":"((AA1235*#REF!)+(#REF!*#REF!)+(#REF!*#REF!))/(#REF!+#REF!+#REF!)","v":{"$error":"#VALUE!"}},{"$f":"((AA1235*#REF!)+(#REF!*#REF!)+(#REF!*#REF!))/(#REF!+#REF!+#REF!)","v":{"$error":"#VALUE!"}},{"$f":"((AA1235*#REF!)+(#REF!*#REF!)+(#REF!*#REF!))/(#REF!+#REF!+#REF!)","v":{"$error":"#VALUE!"}},{"$f":"((AA1235*#REF!)+(#REF!*#REF!)+(#REF!*#REF!))/(#REF!+#REF!+#REF!)","v":{"$error":"#VALUE!"}},{"$f":"((AA1235*#REF!)+(#REF!*#REF!)+(#REF!*#REF!))/(#REF!+#REF!+#REF!)","v":{"$error":"#VALUE!"}},{"$f":"((AA1235*#REF!)+(#REF!*#REF!)+(#REF!*#REF!))/(#REF!+#REF!+#REF!)","v":{"$error":"#VALUE!"}},{"$f":"((AA1235*#REF!)+(#REF!*#REF!)+(#REF!*#REF!))/(#REF!+#REF!+#REF!)","v":{"$error":"#VALUE!"}}]
[null,null,null,null,null,null,null,null,null,null,null,null,null,null,null,null,null,null,null,null,null,1234,{"$error":"#VALUE!"},{"$f":"AVERAGE($W$3:W1236)","v":{"$error":"#VALUE!"}},null,{"$error":"#VALUE!"},{"$error":"#VALUE!"},{"$f":"AVERAGE($AA$3:AA1236)","v":{"$error":"#VALUE!"}},null,null,null,{"$f":"((AA1236*#REF!)+(#REF!*#REF!)+(#REF!*#REF!))/(#REF!+#REF!+#REF!)","v":{"$error":"#VALUE!"}},{"$f":"((AA1236*#REF!)+(#REF!*#REF!)+(#REF!*#REF!))/(#REF!+#REF!+#REF!)","v":{"$error":"#VALUE!"}},{"$f":"((AA1236*#REF!)+(#REF!*#REF!)+(#REF!*#REF!))/(#REF!+#REF!+#REF!)","v":{"$error":"#VALUE!"}},{"$f":"((AA1236*#REF!)+(#REF!*#REF!)+(#REF!*#REF!))/(#REF!+#REF!+#REF!)","v":{"$error":"#VALUE!"}},{"$f":"((AA1236*#REF!)+(#REF!*#REF!)+(#REF!*#REF!))/(#REF!+#REF!+#REF!)","v":{"$error":"#VALUE!"}},{"$f":"((AA1236*#REF!)+(#REF!*#REF!)+(#REF!*#REF!))/(#REF!+#REF!+#REF!)","v":{"$error":"#VALUE!"}},{"$f":"((AA1236*#REF!)+(#REF!*#REF!)+(#REF!*#REF!))/(#REF!+#REF!+#REF!)","v":{"$error":"#VALUE!"}}]
[null,null,null,null,null,null,null,null,null,null,null,null,null,null,null,null,null,null,null,null,null,1235,{"$error":"#VALUE!"},{"$f":"AVERAGE($W$3:W1237)","v":{"$error":"#VALUE!"}},null,{"$error":"#VALUE!"},{"$error":"#VALUE!"},{"$f":"AVERAGE($AA$3:AA1237)","v":{"$error":"#VALUE!"}},null,null,null,{"$f":"((AA1237*#REF!)+(#REF!*#REF!)+(#REF!*#REF!))/(#REF!+#REF!+#REF!)","v":{"$error":"#VALUE!"}},{"$f":"((AA1237*#REF!)+(#REF!*#REF!)+(#REF!*#REF!))/(#REF!+#REF!+#REF!)","v":{"$error":"#VALUE!"}},{"$f":"((AA1237*#REF!)+(#REF!*#REF!)+(#REF!*#REF!))/(#REF!+#REF!+#REF!)","v":{"$error":"#VALUE!"}},{"$f":"((AA1237*#REF!)+(#REF!*#REF!)+(#REF!*#REF!))/(#REF!+#REF!+#REF!)","v":{"$error":"#VALUE!"}},{"$f":"((AA1237*#REF!)+(#REF!*#REF!)+(#REF!*#REF!))/(#REF!+#REF!+#REF!)","v":{"$error":"#VALUE!"}},{"$f":"((AA1237*#REF!)+(#REF!*#REF!)+(#REF!*#REF!))/(#REF!+#REF!+#REF!)","v":{"$error":"#VALUE!"}},{"$f":"((AA1237*#REF!)+(#REF!*#REF!)+(#REF!*#REF!))/(#REF!+#REF!+#REF!)","v":{"$error":"#VALUE!"}}]
[null,null,null,null,null,null,null,null,null,null,null,null,null,null,null,null,null,null,null,null,null,1236,{"$error":"#VALUE!"},{"$f":"AVERAGE($W$3:W1238)","v":{"$error":"#VALUE!"}},null,{"$error":"#VALUE!"},{"$error":"#VALUE!"},{"$f":"AVERAGE($AA$3:AA1238)","v":{"$error":"#VALUE!"}},null,null,null,{"$f":"((AA1238*#REF!)+(#REF!*#REF!)+(#REF!*#REF!))/(#REF!+#REF!+#REF!)","v":{"$error":"#VALUE!"}},{"$f":"((AA1238*#REF!)+(#REF!*#REF!)+(#REF!*#REF!))/(#REF!+#REF!+#REF!)","v":{"$error":"#VALUE!"}},{"$f":"((AA1238*#REF!)+(#REF!*#REF!)+(#REF!*#REF!))/(#REF!+#REF!+#REF!)","v":{"$error":"#VALUE!"}},{"$f":"((AA1238*#REF!)+(#REF!*#REF!)+(#REF!*#REF!))/(#REF!+#REF!+#REF!)","v":{"$error":"#VALUE!"}},{"$f":"((AA1238*#REF!)+(#REF!*#REF!)+(#REF!*#REF!))/(#REF!+#REF!+#REF!)","v":{"$error":"#VALUE!"}},{"$f":"((AA1238*#REF!)+(#REF!*#REF!)+(#REF!*#REF!))/(#REF!+#REF!+#REF!)","v":{"$error":"#VALUE!"}},{"$f":"((AA1238*#REF!)+(#REF!*#REF!)+(#REF!*#REF!))/(#REF!+#REF!+#REF!)","v":{"$error":"#VALUE!"}}]
[null,null,null,null,null,null,null,null,null,null,null,null,null,null,null,null,null,null,null,null,null,1237,{"$error":"#VALUE!"},{"$f":"AVERAGE($W$3:W1239)","v":{"$error":"#VALUE!"}},null,{"$error":"#VALUE!"},{"$error":"#VALUE!"},{"$f":"AVERAGE($AA$3:AA1239)","v":{"$error":"#VALUE!"}},null,null,null,{"$f":"((AA1239*#REF!)+(#REF!*#REF!)+(#REF!*#REF!))/(#REF!+#REF!+#REF!)","v":{"$error":"#VALUE!"}},{"$f":"((AA1239*#REF!)+(#REF!*#REF!)+(#REF!*#REF!))/(#REF!+#REF!+#REF!)","v":{"$error":"#VALUE!"}},{"$f":"((AA1239*#REF!)+(#REF!*#REF!)+(#REF!*#REF!))/(#REF!+#REF!+#REF!)","v":{"$error":"#VALUE!"}},{"$f":"((AA1239*#REF!)+(#REF!*#REF!)+(#REF!*#REF!))/(#REF!+#REF!+#REF!)","v":{"$error":"#VALUE!"}},{"$f":"((AA1239*#REF!)+(#REF!*#REF!)+(#REF!*#REF!))/(#REF!+#REF!+#REF!)","v":{"$error":"#VALUE!"}},{"$f":"((AA1239*#REF!)+(#REF!*#REF!)+(#REF!*#REF!))/(#REF!+#REF!+#REF!)","v":{"$error":"#VALUE!"}},{"$f":"((AA1239*#REF!)+(#REF!*#REF!)+(#REF!*#REF!))/(#REF!+#REF!+#REF!)","v":{"$error":"#VALUE!"}}]
[null,null,null,null,null,null,null,null,null,null,null,null,null,null,null,null,null,null,null,null,null,1238,{"$error":"#VALUE!"},{"$f":"AVERAGE($W$3:W1240)","v":{"$error":"#VALUE!"}},null,{"$error":"#VALUE!"},{"$error":"#VALUE!"},{"$f":"AVERAGE($AA$3:AA1240)","v":{"$error":"#VALUE!"}},null,null,null,{"$f":"((AA1240*#REF!)+(#REF!*#REF!)+(#REF!*#REF!))/(#REF!+#REF!+#REF!)","v":{"$error":"#VALUE!"}},{"$f":"((AA1240*#REF!)+(#REF!*#REF!)+(#REF!*#REF!))/(#REF!+#REF!+#REF!)","v":{"$error":"#VALUE!"}},{"$f":"((AA1240*#REF!)+(#REF!*#REF!)+(#REF!*#REF!))/(#REF!+#REF!+#REF!)","v":{"$error":"#VALUE!"}},{"$f":"((AA1240*#REF!)+(#REF!*#REF!)+(#REF!*#REF!))/(#REF!+#REF!+#REF!)","v":{"$error":"#VALUE!"}},{"$f":"((AA1240*#REF!)+(#REF!*#REF!)+(#REF!*#REF!))/(#REF!+#REF!+#REF!)","v":{"$error":"#VALUE!"}},{"$f":"((AA1240*#REF!)+(#REF!*#REF!)+(#REF!*#REF!))/(#REF!+#REF!+#REF!)","v":{"$error":"#VALUE!"}},{"$f":"((AA1240*#REF!)+(#REF!*#REF!)+(#REF!*#REF!))/(#REF!+#REF!+#REF!)","v":{"$error":"#VALUE!"}}]
[null,null,null,null,null,null,null,null,null,null,null,null,null,null,null,null,null,null,null,null,null,1239,{"$error":"#VALUE!"},{"$f":"AVERAGE($W$3:W1241)","v":{"$error":"#VALUE!"}},null,{"$error":"#VALUE!"},{"$error":"#VALUE!"},{"$f":"AVERAGE($AA$3:AA1241)","v":{"$error":"#VALUE!"}},null,null,null,{"$f":"((AA1241*#REF!)+(#REF!*#REF!)+(#REF!*#REF!))/(#REF!+#REF!+#REF!)","v":{"$error":"#VALUE!"}},{"$f":"((AA1241*#REF!)+(#REF!*#REF!)+(#REF!*#REF!))/(#REF!+#REF!+#REF!)","v":{"$error":"#VALUE!"}},{"$f":"((AA1241*#REF!)+(#REF!*#REF!)+(#REF!*#REF!))/(#REF!+#REF!+#REF!)","v":{"$error":"#VALUE!"}},{"$f":"((AA1241*#REF!)+(#REF!*#REF!)+(#REF!*#REF!))/(#REF!+#REF!+#REF!)","v":{"$error":"#VALUE!"}},{"$f":"((AA1241*#REF!)+(#REF!*#REF!)+(#REF!*#REF!))/(#REF!+#REF!+#REF!)","v":{"$error":"#VALUE!"}},{"$f":"((AA1241*#REF!)+(#REF!*#REF!)+(#REF!*#REF!))/(#REF!+#REF!+#REF!)","v":{"$error":"#VALUE!"}},{"$f":"((AA1241*#REF!)+(#REF!*#REF!)+(#REF!*#REF!))/(#REF!+#REF!+#REF!)","v":{"$error":"#VALUE!"}}]
[null,null,null,null,null,null,null,null,null,null,null,null,null,null,null,null,null,null,null,null,null,1240,{"$error":"#VALUE!"},{"$f":"AVERAGE($W$3:W1242)","v":{"$error":"#VALUE!"}},null,{"$error":"#VALUE!"},{"$error":"#VALUE!"},{"$f":"AVERAGE($AA$3:AA1242)","v":{"$error":"#VALUE!"}},null,null,null,{"$f":"((AA1242*#REF!)+(#REF!*#REF!)+(#REF!*#REF!))/(#REF!+#REF!+#REF!)","v":{"$error":"#VALUE!"}},{"$f":"((AA1242*#REF!)+(#REF!*#REF!)+(#REF!*#REF!))/(#REF!+#REF!+#REF!)","v":{"$error":"#VALUE!"}},{"$f":"((AA1242*#REF!)+(#REF!*#REF!)+(#REF!*#REF!))/(#REF!+#REF!+#REF!)","v":{"$error":"#VALUE!"}},{"$f":"((AA1242*#REF!)+(#REF!*#REF!)+(#REF!*#REF!))/(#REF!+#REF!+#REF!)","v":{"$error":"#VALUE!"}},{"$f":"((AA1242*#REF!)+(#REF!*#REF!)+(#REF!*#REF!))/(#REF!+#REF!+#REF!)","v":{"$error":"#VALUE!"}},{"$f":"((AA1242*#REF!)+(#REF!*#REF!)+(#REF!*#REF!))/(#REF!+#REF!+#REF!)","v":{"$error":"#VALUE!"}},{"$f":"((AA1242*#REF!)+(#REF!*#REF!)+(#REF!*#REF!))/(#REF!+#REF!+#REF!)","v":{"$error":"#VALUE!"}}]
[null,null,null,null,null,null,null,null,null,null,null,null,null,null,null,null,null,null,null,null,null,1241,{"$error":"#VALUE!"},{"$f":"AVERAGE($W$3:W1243)","v":{"$error":"#VALUE!"}},null,{"$error":"#VALUE!"},{"$error":"#VALUE!"},{"$f":"AVERAGE($AA$3:AA1243)","v":{"$error":"#VALUE!"}},null,null,null,{"$f":"((AA1243*#REF!)+(#REF!*#REF!)+(#REF!*#REF!))/(#REF!+#REF!+#REF!)","v":{"$error":"#VALUE!"}},{"$f":"((AA1243*#REF!)+(#REF!*#REF!)+(#REF!*#REF!))/(#REF!+#REF!+#REF!)","v":{"$error":"#VALUE!"}},{"$f":"((AA1243*#REF!)+(#REF!*#REF!)+(#REF!*#REF!))/(#REF!+#REF!+#REF!)","v":{"$error":"#VALUE!"}},{"$f":"((AA1243*#REF!)+(#REF!*#REF!)+(#REF!*#REF!))/(#REF!+#REF!+#REF!)","v":{"$error":"#VALUE!"}},{"$f":"((AA1243*#REF!)+(#REF!*#REF!)+(#REF!*#REF!))/(#REF!+#REF!+#REF!)","v":{"$error":"#VALUE!"}},{"$f":"((AA1243*#REF!)+(#REF!*#REF!)+(#REF!*#REF!))/(#REF!+#REF!+#REF!)","v":{"$error":"#VALUE!"}},{"$f":"((AA1243*#REF!)+(#REF!*#REF!)+(#REF!*#REF!))/(#REF!+#REF!+#REF!)","v":{"$error":"#VALUE!"}}]
[null,null,null,null,null,null,null,null,null,null,null,null,null,null,null,null,null,null,null,null,null,1242,{"$error":"#VALUE!"},{"$f":"AVERAGE($W$3:W1244)","v":{"$error":"#VALUE!"}},null,{"$error":"#VALUE!"},{"$error":"#VALUE!"},{"$f":"AVERAGE($AA$3:AA1244)","v":{"$error":"#VALUE!"}},null,null,null,{"$f":"((AA1244*#REF!)+(#REF!*#REF!)+(#REF!*#REF!))/(#REF!+#REF!+#REF!)","v":{"$error":"#VALUE!"}},{"$f":"((AA1244*#REF!)+(#REF!*#REF!)+(#REF!*#REF!))/(#REF!+#REF!+#REF!)","v":{"$error":"#VALUE!"}},{"$f":"((AA1244*#REF!)+(#REF!*#REF!)+(#REF!*#REF!))/(#REF!+#REF!+#REF!)","v":{"$error":"#VALUE!"}},{"$f":"((AA1244*#REF!)+(#REF!*#REF!)+(#REF!*#REF!))/(#REF!+#REF!+#REF!)","v":{"$error":"#VALUE!"}},{"$f":"((AA1244*#REF!)+(#REF!*#REF!)+(#REF!*#REF!))/(#REF!+#REF!+#REF!)","v":{"$error":"#VALUE!"}},{"$f":"((AA1244*#REF!)+(#REF!*#REF!)+(#REF!*#REF!))/(#REF!+#REF!+#REF!)","v":{"$error":"#VALUE!"}},{"$f":"((AA1244*#REF!)+(#REF!*#REF!)+(#REF!*#REF!))/(#REF!+#REF!+#REF!)","v":{"$error":"#VALUE!"}}]
[null,null,null,null,null,null,null,null,null,null,null,null,null,null,null,null,null,null,null,null,null,1243,{"$error":"#VALUE!"},{"$f":"AVERAGE($W$3:W1245)","v":{"$error":"#VALUE!"}},null,{"$error":"#VALUE!"},{"$error":"#VALUE!"},{"$f":"AVERAGE($AA$3:AA1245)","v":{"$error":"#VALUE!"}},null,null,null,{"$f":"((AA1245*#REF!)+(#REF!*#REF!)+(#REF!*#REF!))/(#REF!+#REF!+#REF!)","v":{"$error":"#VALUE!"}},{"$f":"((AA1245*#REF!)+(#REF!*#REF!)+(#REF!*#REF!))/(#REF!+#REF!+#REF!)","v":{"$error":"#VALUE!"}},{"$f":"((AA1245*#REF!)+(#REF!*#REF!)+(#REF!*#REF!))/(#REF!+#REF!+#REF!)","v":{"$error":"#VALUE!"}},{"$f":"((AA1245*#REF!)+(#REF!*#REF!)+(#REF!*#REF!))/(#REF!+#REF!+#REF!)","v":{"$error":"#VALUE!"}},{"$f":"((AA1245*#REF!)+(#REF!*#REF!)+(#REF!*#REF!))/(#REF!+#REF!+#REF!)","v":{"$error":"#VALUE!"}},{"$f":"((AA1245*#REF!)+(#REF!*#REF!)+(#REF!*#REF!))/(#REF!+#REF!+#REF!)","v":{"$error":"#VALUE!"}},{"$f":"((AA1245*#REF!)+(#REF!*#REF!)+(#REF!*#REF!))/(#REF!+#REF!+#REF!)","v":{"$error":"#VALUE!"}}]
[null,null,null,null,null,null,null,null,null,null,null,null,null,null,null,null,null,null,null,null,null,1244,{"$error":"#VALUE!"},{"$f":"AVERAGE($W$3:W1246)","v":{"$error":"#VALUE!"}},null,{"$error":"#VALUE!"},{"$error":"#VALUE!"},{"$f":"AVERAGE($AA$3:AA1246)","v":{"$error":"#VALUE!"}},null,null,null,{"$f":"((AA1246*#REF!)+(#REF!*#REF!)+(#REF!*#REF!))/(#REF!+#REF!+#REF!)","v":{"$error":"#VALUE!"}},{"$f":"((AA1246*#REF!)+(#REF!*#REF!)+(#REF!*#REF!))/(#REF!+#REF!+#REF!)","v":{"$error":"#VALUE!"}},{"$f":"((AA1246*#REF!)+(#REF!*#REF!)+(#REF!*#REF!))/(#REF!+#REF!+#REF!)","v":{"$error":"#VALUE!"}},{"$f":"((AA1246*#REF!)+(#REF!*#REF!)+(#REF!*#REF!))/(#REF!+#REF!+#REF!)","v":{"$error":"#VALUE!"}},{"$f":"((AA1246*#REF!)+(#REF!*#REF!)+(#REF!*#REF!))/(#REF!+#REF!+#REF!)","v":{"$error":"#VALUE!"}},{"$f":"((AA1246*#REF!)+(#REF!*#REF!)+(#REF!*#REF!))/(#REF!+#REF!+#REF!)","v":{"$error":"#VALUE!"}},{"$f":"((AA1246*#REF!)+(#REF!*#REF!)+(#REF!*#REF!))/(#REF!+#REF!+#REF!)","v":{"$error":"#VALUE!"}}]
[null,null,null,null,null,null,null,null,null,null,null,null,null,null,null,null,null,null,null,null,null,1245,{"$error":"#VALUE!"},{"$f":"AVERAGE($W$3:W1247)","v":{"$error":"#VALUE!"}},null,{"$error":"#VALUE!"},{"$error":"#VALUE!"},{"$f":"AVERAGE($AA$3:AA1247)","v":{"$error":"#VALUE!"}},null,null,null,{"$f":"((AA1247*#REF!)+(#REF!*#REF!)+(#REF!*#REF!))/(#REF!+#REF!+#REF!)","v":{"$error":"#VALUE!"}},{"$f":"((AA1247*#REF!)+(#REF!*#REF!)+(#REF!*#REF!))/(#REF!+#REF!+#REF!)","v":{"$error":"#VALUE!"}},{"$f":"((AA1247*#REF!)+(#REF!*#REF!)+(#REF!*#REF!))/(#REF!+#REF!+#REF!)","v":{"$error":"#VALUE!"}},{"$f":"((AA1247*#REF!)+(#REF!*#REF!)+(#REF!*#REF!))/(#REF!+#REF!+#REF!)","v":{"$error":"#VALUE!"}},{"$f":"((AA1247*#REF!)+(#REF!*#REF!)+(#REF!*#REF!))/(#REF!+#REF!+#REF!)","v":{"$error":"#VALUE!"}},{"$f":"((AA1247*#REF!)+(#REF!*#REF!)+(#REF!*#REF!))/(#REF!+#REF!+#REF!)","v":{"$error":"#VALUE!"}},{"$f":"((AA1247*#REF!)+(#REF!*#REF!)+(#REF!*#REF!))/(#REF!+#REF!+#REF!)","v":{"$error":"#VALUE!"}}]
[null,null,null,null,null,null,null,null,null,null,null,null,null,null,null,null,null,null,null,null,null,1246,{"$error":"#VALUE!"},{"$f":"AVERAGE($W$3:W1248)","v":{"$error":"#VALUE!"}},null,{"$error":"#VALUE!"},{"$error":"#VALUE!"},{"$f":"AVERAGE($AA$3:AA1248)","v":{"$error":"#VALUE!"}},null,null,null,{"$f":"((AA1248*#REF!)+(#REF!*#REF!)+(#REF!*#REF!))/(#REF!+#REF!+#REF!)","v":{"$error":"#VALUE!"}},{"$f":"((AA1248*#REF!)+(#REF!*#REF!)+(#REF!*#REF!))/(#REF!+#REF!+#REF!)","v":{"$error":"#VALUE!"}},{"$f":"((AA1248*#REF!)+(#REF!*#REF!)+(#REF!*#REF!))/(#REF!+#REF!+#REF!)","v":{"$error":"#VALUE!"}},{"$f":"((AA1248*#REF!)+(#REF!*#REF!)+(#REF!*#REF!))/(#REF!+#REF!+#REF!)","v":{"$error":"#VALUE!"}},{"$f":"((AA1248*#REF!)+(#REF!*#REF!)+(#REF!*#REF!))/(#REF!+#REF!+#REF!)","v":{"$error":"#VALUE!"}},{"$f":"((AA1248*#REF!)+(#REF!*#REF!)+(#REF!*#REF!))/(#REF!+#REF!+#REF!)","v":{"$error":"#VALUE!"}},{"$f":"((AA1248*#REF!)+(#REF!*#REF!)+(#REF!*#REF!))/(#REF!+#REF!+#REF!)","v":{"$error":"#VALUE!"}}]
[null,null,null,null,null,null,null,null,null,null,null,null,null,null,null,null,null,null,null,null,null,1247,{"$error":"#VALUE!"},{"$f":"AVERAGE($W$3:W1249)","v":{"$error":"#VALUE!"}},null,{"$error":"#VALUE!"},{"$error":"#VALUE!"},{"$f":"AVERAGE($AA$3:AA1249)","v":{"$error":"#VALUE!"}},null,null,null,{"$f":"((AA1249*#REF!)+(#REF!*#REF!)+(#REF!*#REF!))/(#REF!+#REF!+#REF!)","v":{"$error":"#VALUE!"}},{"$f":"((AA1249*#REF!)+(#REF!*#REF!)+(#REF!*#REF!))/(#REF!+#REF!+#REF!)","v":{"$error":"#VALUE!"}},{"$f":"((AA1249*#REF!)+(#REF!*#REF!)+(#REF!*#REF!))/(#REF!+#REF!+#REF!)","v":{"$error":"#VALUE!"}},{"$f":"((AA1249*#REF!)+(#REF!*#REF!)+(#REF!*#REF!))/(#REF!+#REF!+#REF!)","v":{"$error":"#VALUE!"}},{"$f":"((AA1249*#REF!)+(#REF!*#REF!)+(#REF!*#REF!))/(#REF!+#REF!+#REF!)","v":{"$error":"#VALUE!"}},{"$f":"((AA1249*#REF!)+(#REF!*#REF!)+(#REF!*#REF!))/(#REF!+#REF!+#REF!)","v":{"$error":"#VALUE!"}},{"$f":"((AA1249*#REF!)+(#REF!*#REF!)+(#REF!*#REF!))/(#REF!+#REF!+#REF!)","v":{"$error":"#VALUE!"}}]
[null,null,null,null,null,null,null,null,null,null,null,null,null,null,null,null,null,null,null,null,null,1248,{"$error":"#VALUE!"},{"$f":"AVERAGE($W$3:W1250)","v":{"$error":"#VALUE!"}},null,{"$error":"#VALUE!"},{"$error":"#VALUE!"},{"$f":"AVERAGE($AA$3:AA1250)","v":{"$error":"#VALUE!"}},null,null,null,{"$f":"((AA1250*#REF!)+(#REF!*#REF!)+(#REF!*#REF!))/(#REF!+#REF!+#REF!)","v":{"$error":"#VALUE!"}},{"$f":"((AA1250*#REF!)+(#REF!*#REF!)+(#REF!*#REF!))/(#REF!+#REF!+#REF!)","v":{"$error":"#VALUE!"}},{"$f":"((AA1250*#REF!)+(#REF!*#REF!)+(#REF!*#REF!))/(#REF!+#REF!+#REF!)","v":{"$error":"#VALUE!"}},{"$f":"((AA1250*#REF!)+(#REF!*#REF!)+(#REF!*#REF!))/(#REF!+#REF!+#REF!)","v":{"$error":"#VALUE!"}},{"$f":"((AA1250*#REF!)+(#REF!*#REF!)+(#REF!*#REF!))/(#REF!+#REF!+#REF!)","v":{"$error":"#VALUE!"}},{"$f":"((AA1250*#REF!)+(#REF!*#REF!)+(#REF!*#REF!))/(#REF!+#REF!+#REF!)","v":{"$error":"#VALUE!"}},{"$f":"((AA1250*#REF!)+(#REF!*#REF!)+(#REF!*#REF!))/(#REF!+#REF!+#REF!)","v":{"$error":"#VALUE!"}}]
[null,null,null,null,null,null,null,null,null,null,null,null,null,null,null,null,null,null,null,null,null,1249,{"$error":"#VALUE!"},{"$f":"AVERAGE($W$3:W1251)","v":{"$error":"#VALUE!"}},null,{"$error":"#VALUE!"},{"$error":"#VALUE!"},{"$f":"AVERAGE($AA$3:AA1251)","v":{"$error":"#VALUE!"}},null,null,null,{"$f":"((AA1251*#REF!)+(#REF!*#REF!)+(#REF!*#REF!))/(#REF!+#REF!+#REF!)","v":{"$error":"#VALUE!"}},{"$f":"((AA1251*#REF!)+(#REF!*#REF!)+(#REF!*#REF!))/(#REF!+#REF!+#REF!)","v":{"$error":"#VALUE!"}},{"$f":"((AA1251*#REF!)+(#REF!*#REF!)+(#REF!*#REF!))/(#REF!+#REF!+#REF!)","v":{"$error":"#VALUE!"}},{"$f":"((AA1251*#REF!)+(#REF!*#REF!)+(#REF!*#REF!))/(#REF!+#REF!+#REF!)","v":{"$error":"#VALUE!"}},{"$f":"((AA1251*#REF!)+(#REF!*#REF!)+(#REF!*#REF!))/(#REF!+#REF!+#REF!)","v":{"$error":"#VALUE!"}},{"$f":"((AA1251*#REF!)+(#REF!*#REF!)+(#REF!*#REF!))/(#REF!+#REF!+#REF!)","v":{"$error":"#VALUE!"}},{"$f":"((AA1251*#REF!)+(#REF!*#REF!)+(#REF!*#REF!))/(#REF!+#REF!+#REF!)","v":{"$error":"#VALUE!"}}]
[null,null,null,null,null,null,null,null,null,null,null,null,null,null,null,null,null,null,null,null,null,1250,{"$error":"#VALUE!"},{"$f":"AVERAGE($W$3:W1252)","v":{"$error":"#VALUE!"}},null,{"$error":"#VALUE!"},{"$error":"#VALUE!"},{"$f":"AVERAGE($AA$3:AA1252)","v":{"$error":"#VALUE!"}},null,null,null,{"$f":"((AA1252*#REF!)+(#REF!*#REF!)+(#REF!*#REF!))/(#REF!+#REF!+#REF!)","v":{"$error":"#VALUE!"}},{"$f":"((AA1252*#REF!)+(#REF!*#REF!)+(#REF!*#REF!))/(#REF!+#REF!+#REF!)","v":{"$error":"#VALUE!"}},{"$f":"((AA1252*#REF!)+(#REF!*#REF!)+(#REF!*#REF!))/(#REF!+#REF!+#REF!)","v":{"$error":"#VALUE!"}},{"$f":"((AA1252*#REF!)+(#REF!*#REF!)+(#REF!*#REF!))/(#REF!+#REF!+#REF!)","v":{"$error":"#VALUE!"}},{"$f":"((AA1252*#REF!)+(#REF!*#REF!)+(#REF!*#REF!))/(#REF!+#REF!+#REF!)","v":{"$error":"#VALUE!"}},{"$f":"((AA1252*#REF!)+(#REF!*#REF!)+(#REF!*#REF!))/(#REF!+#REF!+#REF!)","v":{"$error":"#VALUE!"}},{"$f":"((AA1252*#REF!)+(#REF!*#REF!)+(#REF!*#REF!))/(#REF!+#REF!+#REF!)","v":{"$error":"#VALUE!"}}]
[null,null,null,null,null,null,null,null,null,null,null,null,null,null,null,null,null,null,null,null,null,1251,{"$error":"#VALUE!"},{"$f":"AVERAGE($W$3:W1253)","v":{"$error":"#VALUE!"}},null,{"$error":"#VALUE!"},{"$error":"#VALUE!"},{"$f":"AVERAGE($AA$3:AA1253)","v":{"$error":"#VALUE!"}},null,null,null,{"$f":"((AA1253*#REF!)+(#REF!*#REF!)+(#REF!*#REF!))/(#REF!+#REF!+#REF!)","v":{"$error":"#VALUE!"}},{"$f":"((AA1253*#REF!)+(#REF!*#REF!)+(#REF!*#REF!))/(#REF!+#REF!+#REF!)","v":{"$error":"#VALUE!"}},{"$f":"((AA1253*#REF!)+(#REF!*#REF!)+(#REF!*#REF!))/(#REF!+#REF!+#REF!)","v":{"$error":"#VALUE!"}},{"$f":"((AA1253*#REF!)+(#REF!*#REF!)+(#REF!*#REF!))/(#REF!+#REF!+#REF!)","v":{"$error":"#VALUE!"}},{"$f":"((AA1253*#REF!)+(#REF!*#REF!)+(#REF!*#REF!))/(#REF!+#REF!+#REF!)","v":{"$error":"#VALUE!"}},{"$f":"((AA1253*#REF!)+(#REF!*#REF!)+(#REF!*#REF!))/(#REF!+#REF!+#REF!)","v":{"$error":"#VALUE!"}},{"$f":"((AA1253*#REF!)+(#REF!*#REF!)+(#REF!*#REF!))/(#REF!+#REF!+#REF!)","v":{"$error":"#VALUE!"}}]
[null,null,null,null,null,null,null,null,null,null,null,null,null,null,null,null,null,null,null,null,null,1252,{"$error":"#VALUE!"},{"$f":"AVERAGE($W$3:W1254)","v":{"$error":"#VALUE!"}},null,{"$error":"#VALUE!"},{"$error":"#VALUE!"},{"$f":"AVERAGE($AA$3:AA1254)","v":{"$error":"#VALUE!"}},null,null,null,{"$f":"((AA1254*#REF!)+(#REF!*#REF!)+(#REF!*#REF!))/(#REF!+#REF!+#REF!)","v":{"$error":"#VALUE!"}},{"$f":"((AA1254*#REF!)+(#REF!*#REF!)+(#REF!*#REF!))/(#REF!+#REF!+#REF!)","v":{"$error":"#VALUE!"}},{"$f":"((AA1254*#REF!)+(#REF!*#REF!)+(#REF!*#REF!))/(#REF!+#REF!+#REF!)","v":{"$error":"#VALUE!"}},{"$f":"((AA1254*#REF!)+(#REF!*#REF!)+(#REF!*#REF!))/(#REF!+#REF!+#REF!)","v":{"$error":"#VALUE!"}},{"$f":"((AA1254*#REF!)+(#REF!*#REF!)+(#REF!*#REF!))/(#REF!+#REF!+#REF!)","v":{"$error":"#VALUE!"}},{"$f":"((AA1254*#REF!)+(#REF!*#REF!)+(#REF!*#REF!))/(#REF!+#REF!+#REF!)","v":{"$error":"#VALUE!"}},{"$f":"((AA1254*#REF!)+(#REF!*#REF!)+(#REF!*#REF!))/(#REF!+#REF!+#REF!)","v":{"$error":"#VALUE!"}}]
[null,null,null,null,null,null,null,null,null,null,null,null,null,null,null,null,null,null,null,null,null,1253,{"$error":"#VALUE!"},{"$f":"AVERAGE($W$3:W1255)","v":{"$error":"#VALUE!"}},null,{"$error":"#VALUE!"},{"$error":"#VALUE!"},{"$f":"AVERAGE($AA$3:AA1255)","v":{"$error":"#VALUE!"}},null,null,null,{"$f":"((AA1255*#REF!)+(#REF!*#REF!)+(#REF!*#REF!))/(#REF!+#REF!+#REF!)","v":{"$error":"#VALUE!"}},{"$f":"((AA1255*#REF!)+(#REF!*#REF!)+(#REF!*#REF!))/(#REF!+#REF!+#REF!)","v":{"$error":"#VALUE!"}},{"$f":"((AA1255*#REF!)+(#REF!*#REF!)+(#REF!*#REF!))/(#REF!+#REF!+#REF!)","v":{"$error":"#VALUE!"}},{"$f":"((AA1255*#REF!)+(#REF!*#REF!)+(#REF!*#REF!))/(#REF!+#REF!+#REF!)","v":{"$error":"#VALUE!"}},{"$f":"((AA1255*#REF!)+(#REF!*#REF!)+(#REF!*#REF!))/(#REF!+#REF!+#REF!)","v":{"$error":"#VALUE!"}},{"$f":"((AA1255*#REF!)+(#REF!*#REF!)+(#REF!*#REF!))/(#REF!+#REF!+#REF!)","v":{"$error":"#VALUE!"}},{"$f":"((AA1255*#REF!)+(#REF!*#REF!)+(#REF!*#REF!))/(#REF!+#REF!+#REF!)","v":{"$error":"#VALUE!"}}]
[null,null,null,null,null,null,null,null,null,null,null,null,null,null,null,null,null,null,null,null,null,1254,{"$error":"#VALUE!"},{"$f":"AVERAGE($W$3:W1256)","v":{"$error":"#VALUE!"}},null,{"$error":"#VALUE!"},{"$error":"#VALUE!"},{"$f":"AVERAGE($AA$3:AA1256)","v":{"$error":"#VALUE!"}},null,null,null,{"$f":"((AA1256*#REF!)+(#REF!*#REF!)+(#REF!*#REF!))/(#REF!+#REF!+#REF!)","v":{"$error":"#VALUE!"}},{"$f":"((AA1256*#REF!)+(#REF!*#REF!)+(#REF!*#REF!))/(#REF!+#REF!+#REF!)","v":{"$error":"#VALUE!"}},{"$f":"((AA1256*#REF!)+(#REF!*#REF!)+(#REF!*#REF!))/(#REF!+#REF!+#REF!)","v":{"$error":"#VALUE!"}},{"$f":"((AA1256*#REF!)+(#REF!*#REF!)+(#REF!*#REF!))/(#REF!+#REF!+#REF!)","v":{"$error":"#VALUE!"}},{"$f":"((AA1256*#REF!)+(#REF!*#REF!)+(#REF!*#REF!))/(#REF!+#REF!+#REF!)","v":{"$error":"#VALUE!"}},{"$f":"((AA1256*#REF!)+(#REF!*#REF!)+(#REF!*#REF!))/(#REF!+#REF!+#REF!)","v":{"$error":"#VALUE!"}},{"$f":"((AA1256*#REF!)+(#REF!*#REF!)+(#REF!*#REF!))/(#REF!+#REF!+#REF!)","v":{"$error":"#VALUE!"}}]
[null,null,null,null,null,null,null,null,null,null,null,null,null,null,null,null,null,null,null,null,null,1255,{"$error":"#VALUE!"},{"$f":"AVERAGE($W$3:W1257)","v":{"$error":"#VALUE!"}},null,{"$error":"#VALUE!"},{"$error":"#VALUE!"},{"$f":"AVERAGE($AA$3:AA1257)","v":{"$error":"#VALUE!"}},null,null,null,{"$f":"((AA1257*#REF!)+(#REF!*#REF!)+(#REF!*#REF!))/(#REF!+#REF!+#REF!)","v":{"$error":"#VALUE!"}},{"$f":"((AA1257*#REF!)+(#REF!*#REF!)+(#REF!*#REF!))/(#REF!+#REF!+#REF!)","v":{"$error":"#VALUE!"}},{"$f":"((AA1257*#REF!)+(#REF!*#REF!)+(#REF!*#REF!))/(#REF!+#REF!+#REF!)","v":{"$error":"#VALUE!"}},{"$f":"((AA1257*#REF!)+(#REF!*#REF!)+(#REF!*#REF!))/(#REF!+#REF!+#REF!)","v":{"$error":"#VALUE!"}},{"$f":"((AA1257*#REF!)+(#REF!*#REF!)+(#REF!*#REF!))/(#REF!+#REF!+#REF!)","v":{"$error":"#VALUE!"}},{"$f":"((AA1257*#REF!)+(#REF!*#REF!)+(#REF!*#REF!))/(#REF!+#REF!+#REF!)","v":{"$error":"#VALUE!"}},{"$f":"((AA1257*#REF!)+(#REF!*#REF!)+(#REF!*#REF!))/(#REF!+#REF!+#REF!)","v":{"$error":"#VALUE!"}}]
[null,null,null,null,null,null,null,null,null,null,null,null,null,null,null,null,null,null,null,null,null,1256,{"$error":"#VALUE!"},{"$f":"AVERAGE($W$3:W1258)","v":{"$error":"#VALUE!"}},null,{"$error":"#VALUE!"},{"$error":"#VALUE!"},{"$f":"AVERAGE($AA$3:AA1258)","v":{"$error":"#VALUE!"}},null,null,null,{"$f":"((AA1258*#REF!)+(#REF!*#REF!)+(#REF!*#REF!))/(#REF!+#REF!+#REF!)","v":{"$error":"#VALUE!"}},{"$f":"((AA1258*#REF!)+(#REF!*#REF!)+(#REF!*#REF!))/(#REF!+#REF!+#REF!)","v":{"$error":"#VALUE!"}},{"$f":"((AA1258*#REF!)+(#REF!*#REF!)+(#REF!*#REF!))/(#REF!+#REF!+#REF!)","v":{"$error":"#VALUE!"}},{"$f":"((AA1258*#REF!)+(#REF!*#REF!)+(#REF!*#REF!))/(#REF!+#REF!+#REF!)","v":{"$error":"#VALUE!"}},{"$f":"((AA1258*#REF!)+(#REF!*#REF!)+(#REF!*#REF!))/(#REF!+#REF!+#REF!)","v":{"$error":"#VALUE!"}},{"$f":"((AA1258*#REF!)+(#REF!*#REF!)+(#REF!*#REF!))/(#REF!+#REF!+#REF!)","v":{"$error":"#VALUE!"}},{"$f":"((AA1258*#REF!)+(#REF!*#REF!)+(#REF!*#REF!))/(#REF!+#REF!+#REF!)","v":{"$error":"#VALUE!"}}]
[null,null,null,null,null,null,null,null,null,null,null,null,null,null,null,null,null,null,null,null,null,1257,{"$error":"#VALUE!"},{"$f":"AVERAGE($W$3:W1259)","v":{"$error":"#VALUE!"}},null,{"$error":"#VALUE!"},{"$error":"#VALUE!"},{"$f":"AVERAGE($AA$3:AA1259)","v":{"$error":"#VALUE!"}},null,null,null,{"$f":"((AA1259*#REF!)+(#REF!*#REF!)+(#REF!*#REF!))/(#REF!+#REF!+#REF!)","v":{"$error":"#VALUE!"}},{"$f":"((AA1259*#REF!)+(#REF!*#REF!)+(#REF!*#REF!))/(#REF!+#REF!+#REF!)","v":{"$error":"#VALUE!"}},{"$f":"((AA1259*#REF!)+(#REF!*#REF!)+(#REF!*#REF!))/(#REF!+#REF!+#REF!)","v":{"$error":"#VALUE!"}},{"$f":"((AA1259*#REF!)+(#REF!*#REF!)+(#REF!*#REF!))/(#REF!+#REF!+#REF!)","v":{"$error":"#VALUE!"}},{"$f":"((AA1259*#REF!)+(#REF!*#REF!)+(#REF!*#REF!))/(#REF!+#REF!+#REF!)","v":{"$error":"#VALUE!"}},{"$f":"((AA1259*#REF!)+(#REF!*#REF!)+(#REF!*#REF!))/(#REF!+#REF!+#REF!)","v":{"$error":"#VALUE!"}},{"$f":"((AA1259*#REF!)+(#REF!*#REF!)+(#REF!*#REF!))/(#REF!+#REF!+#REF!)","v":{"$error":"#VALUE!"}}]
[null,null,null,null,null,null,null,null,null,null,null,null,null,null,null,null,null,null,null,null,null,1258,{"$error":"#VALUE!"},{"$f":"AVERAGE($W$3:W1260)","v":{"$error":"#VALUE!"}},null,{"$error":"#VALUE!"},{"$error":"#VALUE!"},{"$f":"AVERAGE($AA$3:AA1260)","v":{"$error":"#VALUE!"}},null,null,null,{"$f":"((AA1260*#REF!)+(#REF!*#REF!)+(#REF!*#REF!))/(#REF!+#REF!+#REF!)","v":{"$error":"#VALUE!"}},{"$f":"((AA1260*#REF!)+(#REF!*#REF!)+(#REF!*#REF!))/(#REF!+#REF!+#REF!)","v":{"$error":"#VALUE!"}},{"$f":"((AA1260*#REF!)+(#REF!*#REF!)+(#REF!*#REF!))/(#REF!+#REF!+#REF!)","v":{"$error":"#VALUE!"}},{"$f":"((AA1260*#REF!)+(#REF!*#REF!)+(#REF!*#REF!))/(#REF!+#REF!+#REF!)","v":{"$error":"#VALUE!"}},{"$f":"((AA1260*#REF!)+(#REF!*#REF!)+(#REF!*#REF!))/(#REF!+#REF!+#REF!)","v":{"$error":"#VALUE!"}},{"$f":"((AA1260*#REF!)+(#REF!*#REF!)+(#REF!*#REF!))/(#REF!+#REF!+#REF!)","v":{"$error":"#VALUE!"}},{"$f":"((AA1260*#REF!)+(#REF!*#REF!)+(#REF!*#REF!))/(#REF!+#REF!+#REF!)","v":{"$error":"#VALUE!"}}]
[null,null,null,null,null,null,null,null,null,null,null,null,null,null,null,null,null,null,null,null,null,1259,{"$error":"#VALUE!"},{"$f":"AVERAGE($W$3:W1261)","v":{"$error":"#VALUE!"}},null,{"$error":"#VALUE!"},{"$error":"#VALUE!"},{"$f":"AVERAGE($AA$3:AA1261)","v":{"$error":"#VALUE!"}},null,null,null,{"$f":"((AA1261*#REF!)+(#REF!*#REF!)+(#REF!*#REF!))/(#REF!+#REF!+#REF!)","v":{"$error":"#VALUE!"}},{"$f":"((AA1261*#REF!)+(#REF!*#REF!)+(#REF!*#REF!))/(#REF!+#REF!+#REF!)","v":{"$error":"#VALUE!"}},{"$f":"((AA1261*#REF!)+(#REF!*#REF!)+(#REF!*#REF!))/(#REF!+#REF!+#REF!)","v":{"$error":"#VALUE!"}},{"$f":"((AA1261*#REF!)+(#REF!*#REF!)+(#REF!*#REF!))/(#REF!+#REF!+#REF!)","v":{"$error":"#VALUE!"}},{"$f":"((AA1261*#REF!)+(#REF!*#REF!)+(#REF!*#REF!))/(#REF!+#REF!+#REF!)","v":{"$error":"#VALUE!"}},{"$f":"((AA1261*#REF!)+(#REF!*#REF!)+(#REF!*#REF!))/(#REF!+#REF!+#REF!)","v":{"$error":"#VALUE!"}},{"$f":"((AA1261*#REF!)+(#REF!*#REF!)+(#REF!*#REF!))/(#REF!+#REF!+#REF!)","v":{"$error":"#VALUE!"}}]
[null,null,null,null,null,null,null,null,null,null,null,null,null,null,null,null,null,null,null,null,null,1260,{"$error":"#VALUE!"},{"$f":"AVERAGE($W$3:W1262)","v":{"$error":"#VALUE!"}},null,{"$error":"#VALUE!"},{"$error":"#VALUE!"},{"$f":"AVERAGE($AA$3:AA1262)","v":{"$error":"#VALUE!"}},null,null,null,{"$f":"((AA1262*#REF!)+(#REF!*#REF!)+(#REF!*#REF!))/(#REF!+#REF!+#REF!)","v":{"$error":"#VALUE!"}},{"$f":"((AA1262*#REF!)+(#REF!*#REF!)+(#REF!*#REF!))/(#REF!+#REF!+#REF!)","v":{"$error":"#VALUE!"}},{"$f":"((AA1262*#REF!)+(#REF!*#REF!)+(#REF!*#REF!))/(#REF!+#REF!+#REF!)","v":{"$error":"#VALUE!"}},{"$f":"((AA1262*#REF!)+(#REF!*#REF!)+(#REF!*#REF!))/(#REF!+#REF!+#REF!)","v":{"$error":"#VALUE!"}},{"$f":"((AA1262*#REF!)+(#REF!*#REF!)+(#REF!*#REF!))/(#REF!+#REF!+#REF!)","v":{"$error":"#VALUE!"}},{"$f":"((AA1262*#REF!)+(#REF!*#REF!)+(#REF!*#REF!))/(#REF!+#REF!+#REF!)","v":{"$error":"#VALUE!"}},{"$f":"((AA1262*#REF!)+(#REF!*#REF!)+(#REF!*#REF!))/(#REF!+#REF!+#REF!)","v":{"$error":"#VALUE!"}}]
[null,null,null,null,null,null,null,null,null,null,null,null,null,null,null,null,null,null,null,null,null,1261,{"$error":"#VALUE!"},{"$f":"AVERAGE($W$3:W1263)","v":{"$error":"#VALUE!"}},null,{"$error":"#VALUE!"},{"$error":"#VALUE!"},{"$f":"AVERAGE($AA$3:AA1263)","v":{"$error":"#VALUE!"}},null,null,null,{"$f":"((AA1263*#REF!)+(#REF!*#REF!)+(#REF!*#REF!))/(#REF!+#REF!+#REF!)","v":{"$error":"#VALUE!"}},{"$f":"((AA1263*#REF!)+(#REF!*#REF!)+(#REF!*#REF!))/(#REF!+#REF!+#REF!)","v":{"$error":"#VALUE!"}},{"$f":"((AA1263*#REF!)+(#REF!*#REF!)+(#REF!*#REF!))/(#REF!+#REF!+#REF!)","v":{"$error":"#VALUE!"}},{"$f":"((AA1263*#REF!)+(#REF!*#REF!)+(#REF!*#REF!))/(#REF!+#REF!+#REF!)","v":{"$error":"#VALUE!"}},{"$f":"((AA1263*#REF!)+(#REF!*#REF!)+(#REF!*#REF!))/(#REF!+#REF!+#REF!)","v":{"$error":"#VALUE!"}},{"$f":"((AA1263*#REF!)+(#REF!*#REF!)+(#REF!*#REF!))/(#REF!+#REF!+#REF!)","v":{"$error":"#VALUE!"}},{"$f":"((AA1263*#REF!)+(#REF!*#REF!)+(#REF!*#REF!))/(#REF!+#REF!+#REF!)","v":{"$error":"#VALUE!"}}]
[null,null,null,null,null,null,null,null,null,null,null,null,null,null,null,null,null,null,null,null,null,1262,{"$error":"#VALUE!"},{"$f":"AVERAGE($W$3:W1264)","v":{"$error":"#VALUE!"}},null,{"$error":"#VALUE!"},{"$error":"#VALUE!"},{"$f":"AVERAGE($AA$3:AA1264)","v":{"$error":"#VALUE!"}},null,null,null,{"$f":"((AA1264*#REF!)+(#REF!*#REF!)+(#REF!*#REF!))/(#REF!+#REF!+#REF!)","v":{"$error":"#VALUE!"}},{"$f":"((AA1264*#REF!)+(#REF!*#REF!)+(#REF!*#REF!))/(#REF!+#REF!+#REF!)","v":{"$error":"#VALUE!"}},{"$f":"((AA1264*#REF!)+(#REF!*#REF!)+(#REF!*#REF!))/(#REF!+#REF!+#REF!)","v":{"$error":"#VALUE!"}},{"$f":"((AA1264*#REF!)+(#REF!*#REF!)+(#REF!*#REF!))/(#REF!+#REF!+#REF!)","v":{"$error":"#VALUE!"}},{"$f":"((AA1264*#REF!)+(#REF!*#REF!)+(#REF!*#REF!))/(#REF!+#REF!+#REF!)","v":{"$error":"#VALUE!"}},{"$f":"((AA1264*#REF!)+(#REF!*#REF!)+(#REF!*#REF!))/(#REF!+#REF!+#REF!)","v":{"$error":"#VALUE!"}},{"$f":"((AA1264*#REF!)+(#REF!*#REF!)+(#REF!*#REF!))/(#REF!+#REF!+#REF!)","v":{"$error":"#VALUE!"}}]
[null,null,null,null,null,null,null,null,null,null,null,null,null,null,null,null,null,null,null,null,null,1263,{"$error":"#VALUE!"},{"$f":"AVERAGE($W$3:W1265)","v":{"$error":"#VALUE!"}},null,{"$error":"#VALUE!"},{"$error":"#VALUE!"},{"$f":"AVERAGE($AA$3:AA1265)","v":{"$error":"#VALUE!"}},null,null,null,{"$f":"((AA1265*#REF!)+(#REF!*#REF!)+(#REF!*#REF!))/(#REF!+#REF!+#REF!)","v":{"$error":"#VALUE!"}},{"$f":"((AA1265*#REF!)+(#REF!*#REF!)+(#REF!*#REF!))/(#REF!+#REF!+#REF!)","v":{"$error":"#VALUE!"}},{"$f":"((AA1265*#REF!)+(#REF!*#REF!)+(#REF!*#REF!))/(#REF!+#REF!+#REF!)","v":{"$error":"#VALUE!"}},{"$f":"((AA1265*#REF!)+(#REF!*#REF!)+(#REF!*#REF!))/(#REF!+#REF!+#REF!)","v":{"$error":"#VALUE!"}},{"$f":"((AA1265*#REF!)+(#REF!*#REF!)+(#REF!*#REF!))/(#REF!+#REF!+#REF!)","v":{"$error":"#VALUE!"}},{"$f":"((AA1265*#REF!)+(#REF!*#REF!)+(#REF!*#REF!))/(#REF!+#REF!+#REF!)","v":{"$error":"#VALUE!"}},{"$f":"((AA1265*#REF!)+(#REF!*#REF!)+(#REF!*#REF!))/(#REF!+#REF!+#REF!)","v":{"$error":"#VALUE!"}}]
[null,null,null,null,null,null,null,null,null,null,null,null,null,null,null,null,null,null,null,null,null,1264,{"$error":"#VALUE!"},{"$f":"AVERAGE($W$3:W1266)","v":{"$error":"#VALUE!"}},null,{"$error":"#VALUE!"},{"$error":"#VALUE!"},{"$f":"AVERAGE($AA$3:AA1266)","v":{"$error":"#VALUE!"}},null,null,null,{"$f":"((AA1266*#REF!)+(#REF!*#REF!)+(#REF!*#REF!))/(#REF!+#REF!+#REF!)","v":{"$error":"#VALUE!"}},{"$f":"((AA1266*#REF!)+(#REF!*#REF!)+(#REF!*#REF!))/(#REF!+#REF!+#REF!)","v":{"$error":"#VALUE!"}},{"$f":"((AA1266*#REF!)+(#REF!*#REF!)+(#REF!*#REF!))/(#REF!+#REF!+#REF!)","v":{"$error":"#VALUE!"}},{"$f":"((AA1266*#REF!)+(#REF!*#REF!)+(#REF!*#REF!))/(#REF!+#REF!+#REF!)","v":{"$error":"#VALUE!"}},{"$f":"((AA1266*#REF!)+(#REF!*#REF!)+(#REF!*#REF!))/(#REF!+#REF!+#REF!)","v":{"$error":"#VALUE!"}},{"$f":"((AA1266*#REF!)+(#REF!*#REF!)+(#REF!*#REF!))/(#REF!+#REF!+#REF!)","v":{"$error":"#VALUE!"}},{"$f":"((AA1266*#REF!)+(#REF!*#REF!)+(#REF!*#REF!))/(#REF!+#REF!+#REF!)","v":{"$error":"#VALUE!"}}]
[null,null,null,null,null,null,null,null,null,null,null,null,null,null,null,null,null,null,null,null,null,1265,{"$error":"#VALUE!"},{"$f":"AVERAGE($W$3:W1267)","v":{"$error":"#VALUE!"}},null,{"$error":"#VALUE!"},{"$error":"#VALUE!"},{"$f":"AVERAGE($AA$3:AA1267)","v":{"$error":"#VALUE!"}},null,null,null,{"$f":"((AA1267*#REF!)+(#REF!*#REF!)+(#REF!*#REF!))/(#REF!+#REF!+#REF!)","v":{"$error":"#VALUE!"}},{"$f":"((AA1267*#REF!)+(#REF!*#REF!)+(#REF!*#REF!))/(#REF!+#REF!+#REF!)","v":{"$error":"#VALUE!"}},{"$f":"((AA1267*#REF!)+(#REF!*#REF!)+(#REF!*#REF!))/(#REF!+#REF!+#REF!)","v":{"$error":"#VALUE!"}},{"$f":"((AA1267*#REF!)+(#REF!*#REF!)+(#REF!*#REF!))/(#REF!+#REF!+#REF!)","v":{"$error":"#VALUE!"}},{"$f":"((AA1267*#REF!)+(#REF!*#REF!)+(#REF!*#REF!))/(#REF!+#REF!+#REF!)","v":{"$error":"#VALUE!"}},{"$f":"((AA1267*#REF!)+(#REF!*#REF!)+(#REF!*#REF!))/(#REF!+#REF!+#REF!)","v":{"$error":"#VALUE!"}},{"$f":"((AA1267*#REF!)+(#REF!*#REF!)+(#REF!*#REF!))/(#REF!+#REF!+#REF!)","v":{"$error":"#VALUE!"}}]
[null,null,null,null,null,null,null,null,null,null,null,null,null,null,null,null,null,null,null,null,null,1266,{"$error":"#VALUE!"},{"$f":"AVERAGE($W$3:W1268)","v":{"$error":"#VALUE!"}},null,{"$error":"#VALUE!"},{"$error":"#VALUE!"},{"$f":"AVERAGE($AA$3:AA1268)","v":{"$error":"#VALUE!"}},null,null,null,{"$f":"((AA1268*#REF!)+(#REF!*#REF!)+(#REF!*#REF!))/(#REF!+#REF!+#REF!)","v":{"$error":"#VALUE!"}},{"$f":"((AA1268*#REF!)+(#REF!*#REF!)+(#REF!*#REF!))/(#REF!+#REF!+#REF!)","v":{"$error":"#VALUE!"}},{"$f":"((AA1268*#REF!)+(#REF!*#REF!)+(#REF!*#REF!))/(#REF!+#REF!+#REF!)","v":{"$error":"#VALUE!"}},{"$f":"((AA1268*#REF!)+(#REF!*#REF!)+(#REF!*#REF!))/(#REF!+#REF!+#REF!)","v":{"$error":"#VALUE!"}},{"$f":"((AA1268*#REF!)+(#REF!*#REF!)+(#REF!*#REF!))/(#REF!+#REF!+#REF!)","v":{"$error":"#VALUE!"}},{"$f":"((AA1268*#REF!)+(#REF!*#REF!)+(#REF!*#REF!))/(#REF!+#REF!+#REF!)","v":{"$error":"#VALUE!"}},{"$f":"((AA1268*#REF!)+(#REF!*#REF!)+(#REF!*#REF!))/(#REF!+#REF!+#REF!)","v":{"$error":"#VALUE!"}}]
[null,null,null,null,null,null,null,null,null,null,null,null,null,null,null,null,null,null,null,null,null,1267,{"$error":"#VALUE!"},{"$f":"AVERAGE($W$3:W1269)","v":{"$error":"#VALUE!"}},null,{"$error":"#VALUE!"},{"$error":"#VALUE!"},{"$f":"AVERAGE($AA$3:AA1269)","v":{"$error":"#VALUE!"}},null,null,null,{"$f":"((AA1269*#REF!)+(#REF!*#REF!)+(#REF!*#REF!))/(#REF!+#REF!+#REF!)","v":{"$error":"#VALUE!"}},{"$f":"((AA1269*#REF!)+(#REF!*#REF!)+(#REF!*#REF!))/(#REF!+#REF!+#REF!)","v":{"$error":"#VALUE!"}},{"$f":"((AA1269*#REF!)+(#REF!*#REF!)+(#REF!*#REF!))/(#REF!+#REF!+#REF!)","v":{"$error":"#VALUE!"}},{"$f":"((AA1269*#REF!)+(#REF!*#REF!)+(#REF!*#REF!))/(#REF!+#REF!+#REF!)","v":{"$error":"#VALUE!"}},{"$f":"((AA1269*#REF!)+(#REF!*#REF!)+(#REF!*#REF!))/(#REF!+#REF!+#REF!)","v":{"$error":"#VALUE!"}},{"$f":"((AA1269*#REF!)+(#REF!*#REF!)+(#REF!*#REF!))/(#REF!+#REF!+#REF!)","v":{"$error":"#VALUE!"}},{"$f":"((AA1269*#REF!)+(#REF!*#REF!)+(#REF!*#REF!))/(#REF!+#REF!+#REF!)","v":{"$error":"#VALUE!"}}]
[null,null,null,null,null,null,null,null,null,null,null,null,null,null,null,null,null,null,null,null,null,1268,{"$error":"#VALUE!"},{"$f":"AVERAGE($W$3:W1270)","v":{"$error":"#VALUE!"}},null,{"$error":"#VALUE!"},{"$error":"#VALUE!"},{"$f":"AVERAGE($AA$3:AA1270)","v":{"$error":"#VALUE!"}},null,null,null,{"$f":"((AA1270*#REF!)+(#REF!*#REF!)+(#REF!*#REF!))/(#REF!+#REF!+#REF!)","v":{"$error":"#VALUE!"}},{"$f":"((AA1270*#REF!)+(#REF!*#REF!)+(#REF!*#REF!))/(#REF!+#REF!+#REF!)","v":{"$error":"#VALUE!"}},{"$f":"((AA1270*#REF!)+(#REF!*#REF!)+(#REF!*#REF!))/(#REF!+#REF!+#REF!)","v":{"$error":"#VALUE!"}},{"$f":"((AA1270*#REF!)+(#REF!*#REF!)+(#REF!*#REF!))/(#REF!+#REF!+#REF!)","v":{"$error":"#VALUE!"}},{"$f":"((AA1270*#REF!)+(#REF!*#REF!)+(#REF!*#REF!))/(#REF!+#REF!+#REF!)","v":{"$error":"#VALUE!"}},{"$f":"((AA1270*#REF!)+(#REF!*#REF!)+(#REF!*#REF!))/(#REF!+#REF!+#REF!)","v":{"$error":"#VALUE!"}},{"$f":"((AA1270*#REF!)+(#REF!*#REF!)+(#REF!*#REF!))/(#REF!+#REF!+#REF!)","v":{"$error":"#VALUE!"}}]
[null,null,null,null,null,null,null,null,null,null,null,null,null,null,null,null,null,null,null,null,null,1269,{"$error":"#VALUE!"},{"$f":"AVERAGE($W$3:W1271)","v":{"$error":"#VALUE!"}},null,{"$error":"#VALUE!"},{"$error":"#VALUE!"},{"$f":"AVERAGE($AA$3:AA1271)","v":{"$error":"#VALUE!"}},null,null,null,{"$f":"((AA1271*#REF!)+(#REF!*#REF!)+(#REF!*#REF!))/(#REF!+#REF!+#REF!)","v":{"$error":"#VALUE!"}},{"$f":"((AA1271*#REF!)+(#REF!*#REF!)+(#REF!*#REF!))/(#REF!+#REF!+#REF!)","v":{"$error":"#VALUE!"}},{"$f":"((AA1271*#REF!)+(#REF!*#REF!)+(#REF!*#REF!))/(#REF!+#REF!+#REF!)","v":{"$error":"#VALUE!"}},{"$f":"((AA1271*#REF!)+(#REF!*#REF!)+(#REF!*#REF!))/(#REF!+#REF!+#REF!)","v":{"$error":"#VALUE!"}},{"$f":"((AA1271*#REF!)+(#REF!*#REF!)+(#REF!*#REF!))/(#REF!+#REF!+#REF!)","v":{"$error":"#VALUE!"}},{"$f":"((AA1271*#REF!)+(#REF!*#REF!)+(#REF!*#REF!))/(#REF!+#REF!+#REF!)","v":{"$error":"#VALUE!"}},{"$f":"((AA1271*#REF!)+(#REF!*#REF!)+(#REF!*#REF!))/(#REF!+#REF!+#REF!)","v":{"$error":"#VALUE!"}}]
[null,null,null,null,null,null,null,null,null,null,null,null,null,null,null,null,null,null,null,null,null,1270,{"$error":"#VALUE!"},{"$f":"AVERAGE($W$3:W1272)","v":{"$error":"#VALUE!"}},null,{"$error":"#VALUE!"},{"$error":"#VALUE!"},{"$f":"AVERAGE($AA$3:AA1272)","v":{"$error":"#VALUE!"}},null,null,null,{"$f":"((AA1272*#REF!)+(#REF!*#REF!)+(#REF!*#REF!))/(#REF!+#REF!+#REF!)","v":{"$error":"#VALUE!"}},{"$f":"((AA1272*#REF!)+(#REF!*#REF!)+(#REF!*#REF!))/(#REF!+#REF!+#REF!)","v":{"$error":"#VALUE!"}},{"$f":"((AA1272*#REF!)+(#REF!*#REF!)+(#REF!*#REF!))/(#REF!+#REF!+#REF!)","v":{"$error":"#VALUE!"}},{"$f":"((AA1272*#REF!)+(#REF!*#REF!)+(#REF!*#REF!))/(#REF!+#REF!+#REF!)","v":{"$error":"#VALUE!"}},{"$f":"((AA1272*#REF!)+(#REF!*#REF!)+(#REF!*#REF!))/(#REF!+#REF!+#REF!)","v":{"$error":"#VALUE!"}},{"$f":"((AA1272*#REF!)+(#REF!*#REF!)+(#REF!*#REF!))/(#REF!+#REF!+#REF!)","v":{"$error":"#VALUE!"}},{"$f":"((AA1272*#REF!)+(#REF!*#REF!)+(#REF!*#REF!))/(#REF!+#REF!+#REF!)","v":{"$error":"#VALUE!"}}]
[null,null,null,null,null,null,null,null,null,null,null,null,null,null,null,null,null,null,null,null,null,1271,{"$error":"#VALUE!"},{"$f":"AVERAGE($W$3:W1273)","v":{"$error":"#VALUE!"}},null,{"$error":"#VALUE!"},{"$error":"#VALUE!"},{"$f":"AVERAGE($AA$3:AA1273)","v":{"$error":"#VALUE!"}},null,null,null,{"$f":"((AA1273*#REF!)+(#REF!*#REF!)+(#REF!*#REF!))/(#REF!+#REF!+#REF!)","v":{"$error":"#VALUE!"}},{"$f":"((AA1273*#REF!)+(#REF!*#REF!)+(#REF!*#REF!))/(#REF!+#REF!+#REF!)","v":{"$error":"#VALUE!"}},{"$f":"((AA1273*#REF!)+(#REF!*#REF!)+(#REF!*#REF!))/(#REF!+#REF!+#REF!)","v":{"$error":"#VALUE!"}},{"$f":"((AA1273*#REF!)+(#REF!*#REF!)+(#REF!*#REF!))/(#REF!+#REF!+#REF!)","v":{"$error":"#VALUE!"}},{"$f":"((AA1273*#REF!)+(#REF!*#REF!)+(#REF!*#REF!))/(#REF!+#REF!+#REF!)","v":{"$error":"#VALUE!"}},{"$f":"((AA1273*#REF!)+(#REF!*#REF!)+(#REF!*#REF!))/(#REF!+#REF!+#REF!)","v":{"$error":"#VALUE!"}},{"$f":"((AA1273*#REF!)+(#REF!*#REF!)+(#REF!*#REF!))/(#REF!+#REF!+#REF!)","v":{"$error":"#VALUE!"}}]
[null,null,null,null,null,null,null,null,null,null,null,null,null,null,null,null,null,null,null,null,null,1272,{"$error":"#VALUE!"},{"$f":"AVERAGE($W$3:W1274)","v":{"$error":"#VALUE!"}},null,{"$error":"#VALUE!"},{"$error":"#VALUE!"},{"$f":"AVERAGE($AA$3:AA1274)","v":{"$error":"#VALUE!"}},null,null,null,{"$f":"((AA1274*#REF!)+(#REF!*#REF!)+(#REF!*#REF!))/(#REF!+#REF!+#REF!)","v":{"$error":"#VALUE!"}},{"$f":"((AA1274*#REF!)+(#REF!*#REF!)+(#REF!*#REF!))/(#REF!+#REF!+#REF!)","v":{"$error":"#VALUE!"}},{"$f":"((AA1274*#REF!)+(#REF!*#REF!)+(#REF!*#REF!))/(#REF!+#REF!+#REF!)","v":{"$error":"#VALUE!"}},{"$f":"((AA1274*#REF!)+(#REF!*#REF!)+(#REF!*#REF!))/(#REF!+#REF!+#REF!)","v":{"$error":"#VALUE!"}},{"$f":"((AA1274*#REF!)+(#REF!*#REF!)+(#REF!*#REF!))/(#REF!+#REF!+#REF!)","v":{"$error":"#VALUE!"}},{"$f":"((AA1274*#REF!)+(#REF!*#REF!)+(#REF!*#REF!))/(#REF!+#REF!+#REF!)","v":{"$error":"#VALUE!"}},{"$f":"((AA1274*#REF!)+(#REF!*#REF!)+(#REF!*#REF!))/(#REF!+#REF!+#REF!)","v":{"$error":"#VALUE!"}}]
[null,null,null,null,null,null,null,null,null,null,null,null,null,null,null,null,null,null,null,null,null,1273,{"$error":"#VALUE!"},{"$f":"AVERAGE($W$3:W1275)","v":{"$error":"#VALUE!"}},null,{"$error":"#VALUE!"},{"$error":"#VALUE!"},{"$f":"AVERAGE($AA$3:AA1275)","v":{"$error":"#VALUE!"}},null,null,null,{"$f":"((AA1275*#REF!)+(#REF!*#REF!)+(#REF!*#REF!))/(#REF!+#REF!+#REF!)","v":{"$error":"#VALUE!"}},{"$f":"((AA1275*#REF!)+(#REF!*#REF!)+(#REF!*#REF!))/(#REF!+#REF!+#REF!)","v":{"$error":"#VALUE!"}},{"$f":"((AA1275*#REF!)+(#REF!*#REF!)+(#REF!*#REF!))/(#REF!+#REF!+#REF!)","v":{"$error":"#VALUE!"}},{"$f":"((AA1275*#REF!)+(#REF!*#REF!)+(#REF!*#REF!))/(#REF!+#REF!+#REF!)","v":{"$error":"#VALUE!"}},{"$f":"((AA1275*#REF!)+(#REF!*#REF!)+(#REF!*#REF!))/(#REF!+#REF!+#REF!)","v":{"$error":"#VALUE!"}},{"$f":"((AA1275*#REF!)+(#REF!*#REF!)+(#REF!*#REF!))/(#REF!+#REF!+#REF!)","v":{"$error":"#VALUE!"}},{"$f":"((AA1275*#REF!)+(#REF!*#REF!)+(#REF!*#REF!))/(#REF!+#REF!+#REF!)","v":{"$error":"#VALUE!"}}]
[null,null,null,null,null,null,null,null,null,null,null,null,null,null,null,null,null,null,null,null,null,1274,{"$error":"#VALUE!"},{"$f":"AVERAGE($W$3:W1276)","v":{"$error":"#VALUE!"}},null,{"$error":"#VALUE!"},{"$error":"#VALUE!"},{"$f":"AVERAGE($AA$3:AA1276)","v":{"$error":"#VALUE!"}},null,null,null,{"$f":"((AA1276*#REF!)+(#REF!*#REF!)+(#REF!*#REF!))/(#REF!+#REF!+#REF!)","v":{"$error":"#VALUE!"}},{"$f":"((AA1276*#REF!)+(#REF!*#REF!)+(#REF!*#REF!))/(#REF!+#REF!+#REF!)","v":{"$error":"#VALUE!"}},{"$f":"((AA1276*#REF!)+(#REF!*#REF!)+(#REF!*#REF!))/(#REF!+#REF!+#REF!)","v":{"$error":"#VALUE!"}},{"$f":"((AA1276*#REF!)+(#REF!*#REF!)+(#REF!*#REF!))/(#REF!+#REF!+#REF!)","v":{"$error":"#VALUE!"}},{"$f":"((AA1276*#REF!)+(#REF!*#REF!)+(#REF!*#REF!))/(#REF!+#REF!+#REF!)","v":{"$error":"#VALUE!"}},{"$f":"((AA1276*#REF!)+(#REF!*#REF!)+(#REF!*#REF!))/(#REF!+#REF!+#REF!)","v":{"$error":"#VALUE!"}},{"$f":"((AA1276*#REF!)+(#REF!*#REF!)+(#REF!*#REF!))/(#REF!+#REF!+#REF!)","v":{"$error":"#VALUE!"}}]
[null,null,null,null,null,null,null,null,null,null,null,null,null,null,null,null,null,null,null,null,null,1275,{"$error":"#VALUE!"},{"$f":"AVERAGE($W$3:W1277)","v":{"$error":"#VALUE!"}},null,{"$error":"#VALUE!"},{"$error":"#VALUE!"},{"$f":"AVERAGE($AA$3:AA1277)","v":{"$error":"#VALUE!"}},null,null,null,{"$f":"((AA1277*#REF!)+(#REF!*#REF!)+(#REF!*#REF!))/(#REF!+#REF!+#REF!)","v":{"$error":"#VALUE!"}},{"$f":"((AA1277*#REF!)+(#REF!*#REF!)+(#REF!*#REF!))/(#REF!+#REF!+#REF!)","v":{"$error":"#VALUE!"}},{"$f":"((AA1277*#REF!)+(#REF!*#REF!)+(#REF!*#REF!))/(#REF!+#REF!+#REF!)","v":{"$error":"#VALUE!"}},{"$f":"((AA1277*#REF!)+(#REF!*#REF!)+(#REF!*#REF!))/(#REF!+#REF!+#REF!)","v":{"$error":"#VALUE!"}},{"$f":"((AA1277*#REF!)+(#REF!*#REF!)+(#REF!*#REF!))/(#REF!+#REF!+#REF!)","v":{"$error":"#VALUE!"}},{"$f":"((AA1277*#REF!)+(#REF!*#REF!)+(#REF!*#REF!))/(#REF!+#REF!+#REF!)","v":{"$error":"#VALUE!"}},{"$f":"((AA1277*#REF!)+(#REF!*#REF!)+(#REF!*#REF!))/(#REF!+#REF!+#REF!)","v":{"$error":"#VALUE!"}}]
[null,null,null,null,null,null,null,null,null,null,null,null,null,null,null,null,null,null,null,null,null,1276,{"$f":"IF(($M$7*LN(V1278))+$M$8+$M$10>0,($M$7*LN(V1278))+$M$8+$M$10,0)","v":{"$error":"#VALUE!"}},{"$f":"AVERAGE($W$3:W1278)","v":{"$error":"#VALUE!"}},null,{"$error":"#VALUE!"},{"$error":"#VALUE!"},{"$f":"AVERAGE($AA$3:AA1278)","v":{"$error":"#VALUE!"}},null,null,null,{"$f":"((AA1278*#REF!)+(#REF!*#REF!)+(#REF!*#REF!))/(#REF!+#REF!+#REF!)","v":{"$error":"#VALUE!"}},{"$f":"((AA1278*#REF!)+(#REF!*#REF!)+(#REF!*#REF!))/(#REF!+#REF!+#REF!)","v":{"$error":"#VALUE!"}},{"$f":"((AA1278*#REF!)+(#REF!*#REF!)+(#REF!*#REF!))/(#REF!+#REF!+#REF!)","v":{"$error":"#VALUE!"}},{"$f":"((AA1278*#REF!)+(#REF!*#REF!)+(#REF!*#REF!))/(#REF!+#REF!+#REF!)","v":{"$error":"#VALUE!"}},{"$f":"((AA1278*#REF!)+(#REF!*#REF!)+(#REF!*#REF!))/(#REF!+#REF!+#REF!)","v":{"$error":"#VALUE!"}},{"$f":"((AA1278*#REF!)+(#REF!*#REF!)+(#REF!*#REF!))/(#REF!+#REF!+#REF!)","v":{"$error":"#VALUE!"}},{"$f":"((AA1278*#REF!)+(#REF!*#REF!)+(#REF!*#REF!))/(#REF!+#REF!+#REF!)","v":{"$error":"#VALUE!"}}]
[null,null,null,null,null,null,null,null,null,null,null,null,null,null,null,null,null,null,null,null,null,1277,{"$error":"#VALUE!"},{"$f":"AVERAGE($W$3:W1279)","v":{"$error":"#VALUE!"}},null,{"$error":"#VALUE!"},{"$error":"#VALUE!"},{"$f":"AVERAGE($AA$3:AA1279)","v":{"$error":"#VALUE!"}},null,null,null,{"$f":"((AA1279*#REF!)+(#REF!*#REF!)+(#REF!*#REF!))/(#REF!+#REF!+#REF!)","v":{"$error":"#VALUE!"}},{"$f":"((AA1279*#REF!)+(#REF!*#REF!)+(#REF!*#REF!))/(#REF!+#REF!+#REF!)","v":{"$error":"#VALUE!"}},{"$f":"((AA1279*#REF!)+(#REF!*#REF!)+(#REF!*#REF!))/(#REF!+#REF!+#REF!)","v":{"$error":"#VALUE!"}},{"$f":"((AA1279*#REF!)+(#REF!*#REF!)+(#REF!*#REF!))/(#REF!+#REF!+#REF!)","v":{"$error":"#VALUE!"}},{"$f":"((AA1279*#REF!)+(#REF!*#REF!)+(#REF!*#REF!))/(#REF!+#REF!+#REF!)","v":{"$error":"#VALUE!"}},{"$f":"((AA1279*#REF!)+(#REF!*#REF!)+(#REF!*#REF!))/(#REF!+#REF!+#REF!)","v":{"$error":"#VALUE!"}},{"$f":"((AA1279*#REF!)+(#REF!*#REF!)+(#REF!*#REF!))/(#REF!+#REF!+#REF!)","v":{"$error":"#VALUE!"}}]
[null,null,null,null,null,null,null,null,null,null,null,null,null,null,null,null,null,null,null,null,null,1278,{"$error":"#VALUE!"},{"$f":"AVERAGE($W$3:W1280)","v":{"$error":"#VALUE!"}},null,{"$error":"#VALUE!"},{"$error":"#VALUE!"},{"$f":"AVERAGE($AA$3:AA1280)","v":{"$error":"#VALUE!"}},null,null,null,{"$f":"((AA1280*#REF!)+(#REF!*#REF!)+(#REF!*#REF!))/(#REF!+#REF!+#REF!)","v":{"$error":"#VALUE!"}},{"$f":"((AA1280*#REF!)+(#REF!*#REF!)+(#REF!*#REF!))/(#REF!+#REF!+#REF!)","v":{"$error":"#VALUE!"}},{"$f":"((AA1280*#REF!)+(#REF!*#REF!)+(#REF!*#REF!))/(#REF!+#REF!+#REF!)","v":{"$error":"#VALUE!"}},{"$f":"((AA1280*#REF!)+(#REF!*#REF!)+(#REF!*#REF!))/(#REF!+#REF!+#REF!)","v":{"$error":"#VALUE!"}},{"$f":"((AA1280*#REF!)+(#REF!*#REF!)+(#REF!*#REF!))/(#REF!+#REF!+#REF!)","v":{"$error":"#VALUE!"}},{"$f":"((AA1280*#REF!)+(#REF!*#REF!)+(#REF!*#REF!))/(#REF!+#REF!+#REF!)","v":{"$error":"#VALUE!"}},{"$f":"((AA1280*#REF!)+(#REF!*#REF!)+(#REF!*#REF!))/(#REF!+#REF!+#REF!)","v":{"$error":"#VALUE!"}}]
[null,null,null,null,null,null,null,null,null,null,null,null,null,null,null,null,null,null,null,null,null,1279,{"$error":"#VALUE!"},{"$f":"AVERAGE($W$3:W1281)","v":{"$error":"#VALUE!"}},null,{"$error":"#VALUE!"},{"$error":"#VALUE!"},{"$f":"AVERAGE($AA$3:AA1281)","v":{"$error":"#VALUE!"}},null,null,null,{"$f":"((AA1281*#REF!)+(#REF!*#REF!)+(#REF!*#REF!))/(#REF!+#REF!+#REF!)","v":{"$error":"#VALUE!"}},{"$f":"((AA1281*#REF!)+(#REF!*#REF!)+(#REF!*#REF!))/(#REF!+#REF!+#REF!)","v":{"$error":"#VALUE!"}},{"$f":"((AA1281*#REF!)+(#REF!*#REF!)+(#REF!*#REF!))/(#REF!+#REF!+#REF!)","v":{"$error":"#VALUE!"}},{"$f":"((AA1281*#REF!)+(#REF!*#REF!)+(#REF!*#REF!))/(#REF!+#REF!+#REF!)","v":{"$error":"#VALUE!"}},{"$f":"((AA1281*#REF!)+(#REF!*#REF!)+(#REF!*#REF!))/(#REF!+#REF!+#REF!)","v":{"$error":"#VALUE!"}},{"$f":"((AA1281*#REF!)+(#REF!*#REF!)+(#REF!*#REF!))/(#REF!+#REF!+#REF!)","v":{"$error":"#VALUE!"}},{"$f":"((AA1281*#REF!)+(#REF!*#REF!)+(#REF!*#REF!))/(#REF!+#REF!+#REF!)","v":{"$error":"#VALUE!"}}]
[null,null,null,null,null,null,null,null,null,null,null,null,null,null,null,null,null,null,null,null,null,1280,{"$error":"#VALUE!"},{"$f":"AVERAGE($W$3:W1282)","v":{"$error":"#VALUE!"}},null,{"$error":"#VALUE!"},{"$error":"#VALUE!"},{"$f":"AVERAGE($AA$3:AA1282)","v":{"$error":"#VALUE!"}},null,null,null,{"$f":"((AA1282*#REF!)+(#REF!*#REF!)+(#REF!*#REF!))/(#REF!+#REF!+#REF!)","v":{"$error":"#VALUE!"}},{"$f":"((AA1282*#REF!)+(#REF!*#REF!)+(#REF!*#REF!))/(#REF!+#REF!+#REF!)","v":{"$error":"#VALUE!"}},{"$f":"((AA1282*#REF!)+(#REF!*#REF!)+(#REF!*#REF!))/(#REF!+#REF!+#REF!)","v":{"$error":"#VALUE!"}},{"$f":"((AA1282*#REF!)+(#REF!*#REF!)+(#REF!*#REF!))/(#REF!+#REF!+#REF!)","v":{"$error":"#VALUE!"}},{"$f":"((AA1282*#REF!)+(#REF!*#REF!)+(#REF!*#REF!))/(#REF!+#REF!+#REF!)","v":{"$error":"#VALUE!"}},{"$f":"((AA1282*#REF!)+(#REF!*#REF!)+(#REF!*#REF!))/(#REF!+#REF!+#REF!)","v":{"$error":"#VALUE!"}},{"$f":"((AA1282*#REF!)+(#REF!*#REF!)+(#REF!*#REF!))/(#REF!+#REF!+#REF!)","v":{"$error":"#VALUE!"}}]
[null,null,null,null,null,null,null,null,null,null,null,null,null,null,null,null,null,null,null,null,null,1281,{"$error":"#VALUE!"},{"$f":"AVERAGE($W$3:W1283)","v":{"$error":"#VALUE!"}},null,{"$error":"#VALUE!"},{"$error":"#VALUE!"},{"$f":"AVERAGE($AA$3:AA1283)","v":{"$error":"#VALUE!"}},null,null,null,{"$f":"((AA1283*#REF!)+(#REF!*#REF!)+(#REF!*#REF!))/(#REF!+#REF!+#REF!)","v":{"$error":"#VALUE!"}},{"$f":"((AA1283*#REF!)+(#REF!*#REF!)+(#REF!*#REF!))/(#REF!+#REF!+#REF!)","v":{"$error":"#VALUE!"}},{"$f":"((AA1283*#REF!)+(#REF!*#REF!)+(#REF!*#REF!))/(#REF!+#REF!+#REF!)","v":{"$error":"#VALUE!"}},{"$f":"((AA1283*#REF!)+(#REF!*#REF!)+(#REF!*#REF!))/(#REF!+#REF!+#REF!)","v":{"$error":"#VALUE!"}},{"$f":"((AA1283*#REF!)+(#REF!*#REF!)+(#REF!*#REF!))/(#REF!+#REF!+#REF!)","v":{"$error":"#VALUE!"}},{"$f":"((AA1283*#REF!)+(#REF!*#REF!)+(#REF!*#REF!))/(#REF!+#REF!+#REF!)","v":{"$error":"#VALUE!"}},{"$f":"((AA1283*#REF!)+(#REF!*#REF!)+(#REF!*#REF!))/(#REF!+#REF!+#REF!)","v":{"$error":"#VALUE!"}}]
[null,null,null,null,null,null,null,null,null,null,null,null,null,null,null,null,null,null,null,null,null,1282,{"$error":"#VALUE!"},{"$f":"AVERAGE($W$3:W1284)","v":{"$error":"#VALUE!"}},null,{"$f":"$M$2+W1284","v":{"$error":"#VALUE!"}},{"$f":"(Z1284*(9/5))+32","v":{"$error":"#VALUE!"}},{"$f":"AVERAGE($AA$3:AA1284)","v":{"$error":"#VALUE!"}},null,null,null,{"$f":"((AA1284*#REF!)+(#REF!*#REF!)+(#REF!*#REF!))/(#REF!+#REF!+#REF!)","v":{"$error":"#VALUE!"}},{"$f":"((AA1284*#REF!)+(#REF!*#REF!)+(#REF!*#REF!))/(#REF!+#REF!+#REF!)","v":{"$error":"#VALUE!"}},{"$f":"((AA1284*#REF!)+(#REF!*#REF!)+(#REF!*#REF!))/(#REF!+#REF!+#REF!)","v":{"$error":"#VALUE!"}},{"$f":"((AA1284*#REF!)+(#REF!*#REF!)+(#REF!*#REF!))/(#REF!+#REF!+#REF!)","v":{"$error":"#VALUE!"}},{"$f":"((AA1284*#REF!)+(#REF!*#REF!)+(#REF!*#REF!))/(#REF!+#REF!+#REF!)","v":{"$error":"#VALUE!"}},{"$f":"((AA1284*#REF!)+(#REF!*#REF!)+(#REF!*#REF!))/(#REF!+#REF!+#REF!)","v":{"$error":"#VALUE!"}},{"$f":"((AA1284*#REF!)+(#REF!*#REF!)+(#REF!*#REF!))/(#REF!+#REF!+#REF!)","v":{"$error":"#VALUE!"}}]
[null,null,null,null,null,null,null,null,null,null,null,null,null,null,null,null,null,null,null,null,null,1283,{"$error":"#VALUE!"},{"$f":"AVERAGE($W$3:W1285)","v":{"$error":"#VALUE!"}},null,{"$error":"#VALUE!"},{"$error":"#VALUE!"},{"$f":"AVERAGE($AA$3:AA1285)","v":{"$error":"#VALUE!"}},null,null,null,{"$f":"((AA1285*#REF!)+(#REF!*#REF!)+(#REF!*#REF!))/(#REF!+#REF!+#REF!)","v":{"$error":"#VALUE!"}},{"$f":"((AA1285*#REF!)+(#REF!*#REF!)+(#REF!*#REF!))/(#REF!+#REF!+#REF!)","v":{"$error":"#VALUE!"}},{"$f":"((AA1285*#REF!)+(#REF!*#REF!)+(#REF!*#REF!))/(#REF!+#REF!+#REF!)","v":{"$error":"#VALUE!"}},{"$f":"((AA1285*#REF!)+(#REF!*#REF!)+(#REF!*#REF!))/(#REF!+#REF!+#REF!)","v":{"$error":"#VALUE!"}},{"$f":"((AA1285*#REF!)+(#REF!*#REF!)+(#REF!*#REF!))/(#REF!+#REF!+#REF!)","v":{"$error":"#VALUE!"}},{"$f":"((AA1285*#REF!)+(#REF!*#REF!)+(#REF!*#REF!))/(#REF!+#REF!+#REF!)","v":{"$error":"#VALUE!"}},{"$f":"((AA1285*#REF!)+(#REF!*#REF!)+(#REF!*#REF!))/(#REF!+#REF!+#REF!)","v":{"$error":"#VALUE!"}}]
[null,null,null,null,null,null,null,null,null,null,null,null,null,null,null,null,null,null,null,null,null,1284,{"$error":"#VALUE!"},{"$f":"AVERAGE($W$3:W1286)","v":{"$error":"#VALUE!"}},null,{"$error":"#VALUE!"},{"$error":"#VALUE!"},{"$f":"AVERAGE($AA$3:AA1286)","v":{"$error":"#VALUE!"}},null,null,null,{"$f":"((AA1286*#REF!)+(#REF!*#REF!)+(#REF!*#REF!))/(#REF!+#REF!+#REF!)","v":{"$error":"#VALUE!"}},{"$f":"((AA1286*#REF!)+(#REF!*#REF!)+(#REF!*#REF!))/(#REF!+#REF!+#REF!)","v":{"$error":"#VALUE!"}},{"$f":"((AA1286*#REF!)+(#REF!*#REF!)+(#REF!*#REF!))/(#REF!+#REF!+#REF!)","v":{"$error":"#VALUE!"}},{"$f":"((AA1286*#REF!)+(#REF!*#REF!)+(#REF!*#REF!))/(#REF!+#REF!+#REF!)","v":{"$error":"#VALUE!"}},{"$f":"((AA1286*#REF!)+(#REF!*#REF!)+(#REF!*#REF!))/(#REF!+#REF!+#REF!)","v":{"$error":"#VALUE!"}},{"$f":"((AA1286*#REF!)+(#REF!*#REF!)+(#REF!*#REF!))/(#REF!+#REF!+#REF!)","v":{"$error":"#VALUE!"}},{"$f":"((AA1286*#REF!)+(#REF!*#REF!)+(#REF!*#REF!))/(#REF!+#REF!+#REF!)","v":{"$error":"#VALUE!"}}]
[null,null,null,null,null,null,null,null,null,null,null,null,null,null,null,null,null,null,null,null,null,1285,{"$error":"#VALUE!"},{"$f":"AVERAGE($W$3:W1287)","v":{"$error":"#VALUE!"}},null,{"$error":"#VALUE!"},{"$error":"#VALUE!"},{"$f":"AVERAGE($AA$3:AA1287)","v":{"$error":"#VALUE!"}},null,null,null,{"$f":"((AA1287*#REF!)+(#REF!*#REF!)+(#REF!*#REF!))/(#REF!+#REF!+#REF!)","v":{"$error":"#VALUE!"}},{"$f":"((AA1287*#REF!)+(#REF!*#REF!)+(#REF!*#REF!))/(#REF!+#REF!+#REF!)","v":{"$error":"#VALUE!"}},{"$f":"((AA1287*#REF!)+(#REF!*#REF!)+(#REF!*#REF!))/(#REF!+#REF!+#REF!)","v":{"$error":"#VALUE!"}},{"$f":"((AA1287*#REF!)+(#REF!*#REF!)+(#REF!*#REF!))/(#REF!+#REF!+#REF!)","v":{"$error":"#VALUE!"}},{"$f":"((AA1287*#REF!)+(#REF!*#REF!)+(#REF!*#REF!))/(#REF!+#REF!+#REF!)","v":{"$error":"#VALUE!"}},{"$f":"((AA1287*#REF!)+(#REF!*#REF!)+(#REF!*#REF!))/(#REF!+#REF!+#REF!)","v":{"$error":"#VALUE!"}},{"$f":"((AA1287*#REF!)+(#REF!*#REF!)+(#REF!*#REF!))/(#REF!+#REF!+#REF!)","v":{"$error":"#VALUE!"}}]
[null,null,null,null,null,null,null,null,null,null,null,null,null,null,null,null,null,null,null,null,null,1286,{"$error":"#VALUE!"},{"$f":"AVERAGE($W$3:W1288)","v":{"$error":"#VALUE!"}},null,{"$error":"#VALUE!"},{"$error":"#VALUE!"},{"$f":"AVERAGE($AA$3:AA1288)","v":{"$error":"#VALUE!"}},null,null,null,{"$f":"((AA1288*#REF!)+(#REF!*#REF!)+(#REF!*#REF!))/(#REF!+#REF!+#REF!)","v":{"$error":"#VALUE!"}},{"$f":"((AA1288*#REF!)+(#REF!*#REF!)+(#REF!*#REF!))/(#REF!+#REF!+#REF!)","v":{"$error":"#VALUE!"}},{"$f":"((AA1288*#REF!)+(#REF!*#REF!)+(#REF!*#REF!))/(#REF!+#REF!+#REF!)","v":{"$error":"#VALUE!"}},{"$f":"((AA1288*#REF!)+(#REF!*#REF!)+(#REF!*#REF!))/(#REF!+#REF!+#REF!)","v":{"$error":"#VALUE!"}},{"$f":"((AA1288*#REF!)+(#REF!*#REF!)+(#REF!*#REF!))/(#REF!+#REF!+#REF!)","v":{"$error":"#VALUE!"}},{"$f":"((AA1288*#REF!)+(#REF!*#REF!)+(#REF!*#REF!))/(#REF!+#REF!+#REF!)","v":{"$error":"#VALUE!"}},{"$f":"((AA1288*#REF!)+(#REF!*#REF!)+(#REF!*#REF!))/(#REF!+#REF!+#REF!)","v":{"$error":"#VALUE!"}}]
[null,null,null,null,null,null,null,null,null,null,null,null,null,null,null,null,null,null,null,null,null,1287,{"$error":"#VALUE!"},{"$f":"AVERAGE($W$3:W1289)","v":{"$error":"#VALUE!"}},null,{"$error":"#VALUE!"},{"$error":"#VALUE!"},{"$f":"AVERAGE($AA$3:AA1289)","v":{"$error":"#VALUE!"}},null,null,null,{"$f":"((AA1289*#REF!)+(#REF!*#REF!)+(#REF!*#REF!))/(#REF!+#REF!+#REF!)","v":{"$error":"#VALUE!"}},{"$f":"((AA1289*#REF!)+(#REF!*#REF!)+(#REF!*#REF!))/(#REF!+#REF!+#REF!)","v":{"$error":"#VALUE!"}},{"$f":"((AA1289*#REF!)+(#REF!*#REF!)+(#REF!*#REF!))/(#REF!+#REF!+#REF!)","v":{"$error":"#VALUE!"}},{"$f":"((AA1289*#REF!)+(#REF!*#REF!)+(#REF!*#REF!))/(#REF!+#REF!+#REF!)","v":{"$error":"#VALUE!"}},{"$f":"((AA1289*#REF!)+(#REF!*#REF!)+(#REF!*#REF!))/(#REF!+#REF!+#REF!)","v":{"$error":"#VALUE!"}},{"$f":"((AA1289*#REF!)+(#REF!*#REF!)+(#REF!*#REF!))/(#REF!+#REF!+#REF!)","v":{"$error":"#VALUE!"}},{"$f":"((AA1289*#REF!)+(#REF!*#REF!)+(#REF!*#REF!))/(#REF!+#REF!+#REF!)","v":{"$error":"#VALUE!"}}]
[null,null,null,null,null,null,null,null,null,null,null,null,null,null,null,null,null,null,null,null,null,1288,{"$error":"#VALUE!"},{"$f":"AVERAGE($W$3:W1290)","v":{"$error":"#VALUE!"}},null,{"$error":"#VALUE!"},{"$error":"#VALUE!"},{"$f":"AVERAGE($AA$3:AA1290)","v":{"$error":"#VALUE!"}},null,null,null,{"$f":"((AA1290*#REF!)+(#REF!*#REF!)+(#REF!*#REF!))/(#REF!+#REF!+#REF!)","v":{"$error":"#VALUE!"}},{"$f":"((AA1290*#REF!)+(#REF!*#REF!)+(#REF!*#REF!))/(#REF!+#REF!+#REF!)","v":{"$error":"#VALUE!"}},{"$f":"((AA1290*#REF!)+(#REF!*#REF!)+(#REF!*#REF!))/(#REF!+#REF!+#REF!)","v":{"$error":"#VALUE!"}},{"$f":"((AA1290*#REF!)+(#REF!*#REF!)+(#REF!*#REF!))/(#REF!+#REF!+#REF!)","v":{"$error":"#VALUE!"}},{"$f":"((AA1290*#REF!)+(#REF!*#REF!)+(#REF!*#REF!))/(#REF!+#REF!+#REF!)","v":{"$error":"#VALUE!"}},{"$f":"((AA1290*#REF!)+(#REF!*#REF!)+(#REF!*#REF!))/(#REF!+#REF!+#REF!)","v":{"$error":"#VALUE!"}},{"$f":"((AA1290*#REF!)+(#REF!*#REF!)+(#REF!*#REF!))/(#REF!+#REF!+#REF!)","v":{"$error":"#VALUE!"}}]
[null,null,null,null,null,null,null,null,null,null,null,null,null,null,null,null,null,null,null,null,null,1289,{"$error":"#VALUE!"},{"$f":"AVERAGE($W$3:W1291)","v":{"$error":"#VALUE!"}},null,{"$error":"#VALUE!"},{"$error":"#VALUE!"},{"$f":"AVERAGE($AA$3:AA1291)","v":{"$error":"#VALUE!"}},null,null,null,{"$f":"((AA1291*#REF!)+(#REF!*#REF!)+(#REF!*#REF!))/(#REF!+#REF!+#REF!)","v":{"$error":"#VALUE!"}},{"$f":"((AA1291*#REF!)+(#REF!*#REF!)+(#REF!*#REF!))/(#REF!+#REF!+#REF!)","v":{"$error":"#VALUE!"}},{"$f":"((AA1291*#REF!)+(#REF!*#REF!)+(#REF!*#REF!))/(#REF!+#REF!+#REF!)","v":{"$error":"#VALUE!"}},{"$f":"((AA1291*#REF!)+(#REF!*#REF!)+(#REF!*#REF!))/(#REF!+#REF!+#REF!)","v":{"$error":"#VALUE!"}},{"$f":"((AA1291*#REF!)+(#REF!*#REF!)+(#REF!*#REF!))/(#REF!+#REF!+#REF!)","v":{"$error":"#VALUE!"}},{"$f":"((AA1291*#REF!)+(#REF!*#REF!)+(#REF!*#REF!))/(#REF!+#REF!+#REF!)","v":{"$error":"#VALUE!"}},{"$f":"((AA1291*#REF!)+(#REF!*#REF!)+(#REF!*#REF!))/(#REF!+#REF!+#REF!)","v":{"$error":"#VALUE!"}}]
[null,null,null,null,null,null,null,null,null,null,null,null,null,null,null,null,null,null,null,null,null,1290,{"$error":"#VALUE!"},{"$f":"AVERAGE($W$3:W1292)","v":{"$error":"#VALUE!"}},null,{"$error":"#VALUE!"},{"$error":"#VALUE!"},{"$f":"AVERAGE($AA$3:AA1292)","v":{"$error":"#VALUE!"}},null,null,null,{"$f":"((AA1292*#REF!)+(#REF!*#REF!)+(#REF!*#REF!))/(#REF!+#REF!+#REF!)","v":{"$error":"#VALUE!"}},{"$f":"((AA1292*#REF!)+(#REF!*#REF!)+(#REF!*#REF!))/(#REF!+#REF!+#REF!)","v":{"$error":"#VALUE!"}},{"$f":"((AA1292*#REF!)+(#REF!*#REF!)+(#REF!*#REF!))/(#REF!+#REF!+#REF!)","v":{"$error":"#VALUE!"}},{"$f":"((AA1292*#REF!)+(#REF!*#REF!)+(#REF!*#REF!))/(#REF!+#REF!+#REF!)","v":{"$error":"#VALUE!"}},{"$f":"((AA1292*#REF!)+(#REF!*#REF!)+(#REF!*#REF!))/(#REF!+#REF!+#REF!)","v":{"$error":"#VALUE!"}},{"$f":"((AA1292*#REF!)+(#REF!*#REF!)+(#REF!*#REF!))/(#REF!+#REF!+#REF!)","v":{"$error":"#VALUE!"}},{"$f":"((AA1292*#REF!)+(#REF!*#REF!)+(#REF!*#REF!))/(#REF!+#REF!+#REF!)","v":{"$error":"#VALUE!"}}]
[null,null,null,null,null,null,null,null,null,null,null,null,null,null,null,null,null,null,null,null,null,1291,{"$error":"#VALUE!"},{"$f":"AVERAGE($W$3:W1293)","v":{"$error":"#VALUE!"}},null,{"$error":"#VALUE!"},{"$error":"#VALUE!"},{"$f":"AVERAGE($AA$3:AA1293)","v":{"$error":"#VALUE!"}},null,null,null,{"$f":"((AA1293*#REF!)+(#REF!*#REF!)+(#REF!*#REF!))/(#REF!+#REF!+#REF!)","v":{"$error":"#VALUE!"}},{"$f":"((AA1293*#REF!)+(#REF!*#REF!)+(#REF!*#REF!))/(#REF!+#REF!+#REF!)","v":{"$error":"#VALUE!"}},{"$f":"((AA1293*#REF!)+(#REF!*#REF!)+(#REF!*#REF!))/(#REF!+#REF!+#REF!)","v":{"$error":"#VALUE!"}},{"$f":"((AA1293*#REF!)+(#REF!*#REF!)+(#REF!*#REF!))/(#REF!+#REF!+#REF!)","v":{"$error":"#VALUE!"}},{"$f":"((AA1293*#REF!)+(#REF!*#REF!)+(#REF!*#REF!))/(#REF!+#REF!+#REF!)","v":{"$error":"#VALUE!"}},{"$f":"((AA1293*#REF!)+(#REF!*#REF!)+(#REF!*#REF!))/(#REF!+#REF!+#REF!)","v":{"$error":"#VALUE!"}},{"$f":"((AA1293*#REF!)+(#REF!*#REF!)+(#REF!*#REF!))/(#REF!+#REF!+#REF!)","v":{"$error":"#VALUE!"}}]
[null,null,null,null,null,null,null,null,null,null,null,null,null,null,null,null,null,null,null,null,null,1292,{"$error":"#VALUE!"},{"$f":"AVERAGE($W$3:W1294)","v":{"$error":"#VALUE!"}},null,{"$error":"#VALUE!"},{"$error":"#VALUE!"},{"$f":"AVERAGE($AA$3:AA1294)","v":{"$error":"#VALUE!"}},null,null,null,{"$f":"((AA1294*#REF!)+(#REF!*#REF!)+(#REF!*#REF!))/(#REF!+#REF!+#REF!)","v":{"$error":"#VALUE!"}},{"$f":"((AA1294*#REF!)+(#REF!*#REF!)+(#REF!*#REF!))/(#REF!+#REF!+#REF!)","v":{"$error":"#VALUE!"}},{"$f":"((AA1294*#REF!)+(#REF!*#REF!)+(#REF!*#REF!))/(#REF!+#REF!+#REF!)","v":{"$error":"#VALUE!"}},{"$f":"((AA1294*#REF!)+(#REF!*#REF!)+(#REF!*#REF!))/(#REF!+#REF!+#REF!)","v":{"$error":"#VALUE!"}},{"$f":"((AA1294*#REF!)+(#REF!*#REF!)+(#REF!*#REF!))/(#REF!+#REF!+#REF!)","v":{"$error":"#VALUE!"}},{"$f":"((AA1294*#REF!)+(#REF!*#REF!)+(#REF!*#REF!))/(#REF!+#REF!+#REF!)","v":{"$error":"#VALUE!"}},{"$f":"((AA1294*#REF!)+(#REF!*#REF!)+(#REF!*#REF!))/(#REF!+#REF!+#REF!)","v":{"$error":"#VALUE!"}}]
[null,null,null,null,null,null,null,null,null,null,null,null,null,null,null,null,null,null,null,null,null,1293,{"$error":"#VALUE!"},{"$f":"AVERAGE($W$3:W1295)","v":{"$error":"#VALUE!"}},null,{"$error":"#VALUE!"},{"$error":"#VALUE!"},{"$f":"AVERAGE($AA$3:AA1295)","v":{"$error":"#VALUE!"}},null,null,null,{"$f":"((AA1295*#REF!)+(#REF!*#REF!)+(#REF!*#REF!))/(#REF!+#REF!+#REF!)","v":{"$error":"#VALUE!"}},{"$f":"((AA1295*#REF!)+(#REF!*#REF!)+(#REF!*#REF!))/(#REF!+#REF!+#REF!)","v":{"$error":"#VALUE!"}},{"$f":"((AA1295*#REF!)+(#REF!*#REF!)+(#REF!*#REF!))/(#REF!+#REF!+#REF!)","v":{"$error":"#VALUE!"}},{"$f":"((AA1295*#REF!)+(#REF!*#REF!)+(#REF!*#REF!))/(#REF!+#REF!+#REF!)","v":{"$error":"#VALUE!"}},{"$f":"((AA1295*#REF!)+(#REF!*#REF!)+(#REF!*#REF!))/(#REF!+#REF!+#REF!)","v":{"$error":"#VALUE!"}},{"$f":"((AA1295*#REF!)+(#REF!*#REF!)+(#REF!*#REF!))/(#REF!+#REF!+#REF!)","v":{"$error":"#VALUE!"}},{"$f":"((AA1295*#REF!)+(#REF!*#REF!)+(#REF!*#REF!))/(#REF!+#REF!+#REF!)","v":{"$error":"#VALUE!"}}]
[null,null,null,null,null,null,null,null,null,null,null,null,null,null,null,null,null,null,null,null,null,1294,{"$error":"#VALUE!"},{"$f":"AVERAGE($W$3:W1296)","v":{"$error":"#VALUE!"}},null,{"$error":"#VALUE!"},{"$error":"#VALUE!"},{"$f":"AVERAGE($AA$3:AA1296)","v":{"$error":"#VALUE!"}},null,null,null,{"$f":"((AA1296*#REF!)+(#REF!*#REF!)+(#REF!*#REF!))/(#REF!+#REF!+#REF!)","v":{"$error":"#VALUE!"}},{"$f":"((AA1296*#REF!)+(#REF!*#REF!)+(#REF!*#REF!))/(#REF!+#REF!+#REF!)","v":{"$error":"#VALUE!"}},{"$f":"((AA1296*#REF!)+(#REF!*#REF!)+(#REF!*#REF!))/(#REF!+#REF!+#REF!)","v":{"$error":"#VALUE!"}},{"$f":"((AA1296*#REF!)+(#REF!*#REF!)+(#REF!*#REF!))/(#REF!+#REF!+#REF!)","v":{"$error":"#VALUE!"}},{"$f":"((AA1296*#REF!)+(#REF!*#REF!)+(#REF!*#REF!))/(#REF!+#REF!+#REF!)","v":{"$error":"#VALUE!"}},{"$f":"((AA1296*#REF!)+(#REF!*#REF!)+(#REF!*#REF!))/(#REF!+#REF!+#REF!)","v":{"$error":"#VALUE!"}},{"$f":"((AA1296*#REF!)+(#REF!*#REF!)+(#REF!*#REF!))/(#REF!+#REF!+#REF!)","v":{"$error":"#VALUE!"}}]
[null,null,null,null,null,null,null,null,null,null,null,null,null,null,null,null,null,null,null,null,null,1295,{"$error":"#VALUE!"},{"$f":"AVERAGE($W$3:W1297)","v":{"$error":"#VALUE!"}},null,{"$error":"#VALUE!"},{"$error":"#VALUE!"},{"$f":"AVERAGE($AA$3:AA1297)","v":{"$error":"#VALUE!"}},null,null,null,{"$f":"((AA1297*#REF!)+(#REF!*#REF!)+(#REF!*#REF!))/(#REF!+#REF!+#REF!)","v":{"$error":"#VALUE!"}},{"$f":"((AA1297*#REF!)+(#REF!*#REF!)+(#REF!*#REF!))/(#REF!+#REF!+#REF!)","v":{"$error":"#VALUE!"}},{"$f":"((AA1297*#REF!)+(#REF!*#REF!)+(#REF!*#REF!))/(#REF!+#REF!+#REF!)","v":{"$error":"#VALUE!"}},{"$f":"((AA1297*#REF!)+(#REF!*#REF!)+(#REF!*#REF!))/(#REF!+#REF!+#REF!)","v":{"$error":"#VALUE!"}},{"$f":"((AA1297*#REF!)+(#REF!*#REF!)+(#REF!*#REF!))/(#REF!+#REF!+#REF!)","v":{"$error":"#VALUE!"}},{"$f":"((AA1297*#REF!)+(#REF!*#REF!)+(#REF!*#REF!))/(#REF!+#REF!+#REF!)","v":{"$error":"#VALUE!"}},{"$f":"((AA1297*#REF!)+(#REF!*#REF!)+(#REF!*#REF!))/(#REF!+#REF!+#REF!)","v":{"$error":"#VALUE!"}}]
[null,null,null,null,null,null,null,null,null,null,null,null,null,null,null,null,null,null,null,null,null,1296,{"$error":"#VALUE!"},{"$f":"AVERAGE($W$3:W1298)","v":{"$error":"#VALUE!"}},null,{"$error":"#VALUE!"},{"$error":"#VALUE!"},{"$f":"AVERAGE($AA$3:AA1298)","v":{"$error":"#VALUE!"}},null,null,null,{"$f":"((AA1298*#REF!)+(#REF!*#REF!)+(#REF!*#REF!))/(#REF!+#REF!+#REF!)","v":{"$error":"#VALUE!"}},{"$f":"((AA1298*#REF!)+(#REF!*#REF!)+(#REF!*#REF!))/(#REF!+#REF!+#REF!)","v":{"$error":"#VALUE!"}},{"$f":"((AA1298*#REF!)+(#REF!*#REF!)+(#REF!*#REF!))/(#REF!+#REF!+#REF!)","v":{"$error":"#VALUE!"}},{"$f":"((AA1298*#REF!)+(#REF!*#REF!)+(#REF!*#REF!))/(#REF!+#REF!+#REF!)","v":{"$error":"#VALUE!"}},{"$f":"((AA1298*#REF!)+(#REF!*#REF!)+(#REF!*#REF!))/(#REF!+#REF!+#REF!)","v":{"$error":"#VALUE!"}},{"$f":"((AA1298*#REF!)+(#REF!*#REF!)+(#REF!*#REF!))/(#REF!+#REF!+#REF!)","v":{"$error":"#VALUE!"}},{"$f":"((AA1298*#REF!)+(#REF!*#REF!)+(#REF!*#REF!))/(#REF!+#REF!+#REF!)","v":{"$error":"#VALUE!"}}]
[null,null,null,null,null,null,null,null,null,null,null,null,null,null,null,null,null,null,null,null,null,1297,{"$error":"#VALUE!"},{"$f":"AVERAGE($W$3:W1299)","v":{"$error":"#VALUE!"}},null,{"$error":"#VALUE!"},{"$error":"#VALUE!"},{"$f":"AVERAGE($AA$3:AA1299)","v":{"$error":"#VALUE!"}},null,null,null,{"$f":"((AA1299*#REF!)+(#REF!*#REF!)+(#REF!*#REF!))/(#REF!+#REF!+#REF!)","v":{"$error":"#VALUE!"}},{"$f":"((AA1299*#REF!)+(#REF!*#REF!)+(#REF!*#REF!))/(#REF!+#REF!+#REF!)","v":{"$error":"#VALUE!"}},{"$f":"((AA1299*#REF!)+(#REF!*#REF!)+(#REF!*#REF!))/(#REF!+#REF!+#REF!)","v":{"$error":"#VALUE!"}},{"$f":"((AA1299*#REF!)+(#REF!*#REF!)+(#REF!*#REF!))/(#REF!+#REF!+#REF!)","v":{"$error":"#VALUE!"}},{"$f":"((AA1299*#REF!)+(#REF!*#REF!)+(#REF!*#REF!))/(#REF!+#REF!+#REF!)","v":{"$error":"#VALUE!"}},{"$f":"((AA1299*#REF!)+(#REF!*#REF!)+(#REF!*#REF!))/(#REF!+#REF!+#REF!)","v":{"$error":"#VALUE!"}},{"$f":"((AA1299*#REF!)+(#REF!*#REF!)+(#REF!*#REF!))/(#REF!+#REF!+#REF!)","v":{"$error":"#VALUE!"}}]
[null,null,null,null,null,null,null,null,null,null,null,null,null,null,null,null,null,null,null,null,null,1298,{"$error":"#VALUE!"},{"$f":"AVERAGE($W$3:W1300)","v":{"$error":"#VALUE!"}},null,{"$error":"#VALUE!"},{"$error":"#VALUE!"},{"$f":"AVERAGE($AA$3:AA1300)","v":{"$error":"#VALUE!"}},null,null,null,{"$f":"((AA1300*#REF!)+(#REF!*#REF!)+(#REF!*#REF!))/(#REF!+#REF!+#REF!)","v":{"$error":"#VALUE!"}},{"$f":"((AA1300*#REF!)+(#REF!*#REF!)+(#REF!*#REF!))/(#REF!+#REF!+#REF!)","v":{"$error":"#VALUE!"}},{"$f":"((AA1300*#REF!)+(#REF!*#REF!)+(#REF!*#REF!))/(#REF!+#REF!+#REF!)","v":{"$error":"#VALUE!"}},{"$f":"((AA1300*#REF!)+(#REF!*#REF!)+(#REF!*#REF!))/(#REF!+#REF!+#REF!)","v":{"$error":"#VALUE!"}},{"$f":"((AA1300*#REF!)+(#REF!*#REF!)+(#REF!*#REF!))/(#REF!+#REF!+#REF!)","v":{"$error":"#VALUE!"}},{"$f":"((AA1300*#REF!)+(#REF!*#REF!)+(#REF!*#REF!))/(#REF!+#REF!+#REF!)","v":{"$error":"#VALUE!"}},{"$f":"((AA1300*#REF!)+(#REF!*#REF!)+(#REF!*#REF!))/(#REF!+#REF!+#REF!)","v":{"$error":"#VALUE!"}}]
[null,null,null,null,null,null,null,null,null,null,null,null,null,null,null,null,null,null,null,null,null,1299,{"$error":"#VALUE!"},{"$f":"AVERAGE($W$3:W1301)","v":{"$error":"#VALUE!"}},null,{"$error":"#VALUE!"},{"$error":"#VALUE!"},{"$f":"AVERAGE($AA$3:AA1301)","v":{"$error":"#VALUE!"}},null,null,null,{"$f":"((AA1301*#REF!)+(#REF!*#REF!)+(#REF!*#REF!))/(#REF!+#REF!+#REF!)","v":{"$error":"#VALUE!"}},{"$f":"((AA1301*#REF!)+(#REF!*#REF!)+(#REF!*#REF!))/(#REF!+#REF!+#REF!)","v":{"$error":"#VALUE!"}},{"$f":"((AA1301*#REF!)+(#REF!*#REF!)+(#REF!*#REF!))/(#REF!+#REF!+#REF!)","v":{"$error":"#VALUE!"}},{"$f":"((AA1301*#REF!)+(#REF!*#REF!)+(#REF!*#REF!))/(#REF!+#REF!+#REF!)","v":{"$error":"#VALUE!"}},{"$f":"((AA1301*#REF!)+(#REF!*#REF!)+(#REF!*#REF!))/(#REF!+#REF!+#REF!)","v":{"$error":"#VALUE!"}},{"$f":"((AA1301*#REF!)+(#REF!*#REF!)+(#REF!*#REF!))/(#REF!+#REF!+#REF!)","v":{"$error":"#VALUE!"}},{"$f":"((AA1301*#REF!)+(#REF!*#REF!)+(#REF!*#REF!))/(#REF!+#REF!+#REF!)","v":{"$error":"#VALUE!"}}]
[null,null,null,null,null,null,null,null,null,null,null,null,null,null,null,null,null,null,null,null,null,1300,{"$error":"#VALUE!"},{"$f":"AVERAGE($W$3:W1302)","v":{"$error":"#VALUE!"}},null,{"$error":"#VALUE!"},{"$error":"#VALUE!"},{"$f":"AVERAGE($AA$3:AA1302)","v":{"$error":"#VALUE!"}},null,null,null,{"$f":"((AA1302*#REF!)+(#REF!*#REF!)+(#REF!*#REF!))/(#REF!+#REF!+#REF!)","v":{"$error":"#VALUE!"}},{"$f":"((AA1302*#REF!)+(#REF!*#REF!)+(#REF!*#REF!))/(#REF!+#REF!+#REF!)","v":{"$error":"#VALUE!"}},{"$f":"((AA1302*#REF!)+(#REF!*#REF!)+(#REF!*#REF!))/(#REF!+#REF!+#REF!)","v":{"$error":"#VALUE!"}},{"$f":"((AA1302*#REF!)+(#REF!*#REF!)+(#REF!*#REF!))/(#REF!+#REF!+#REF!)","v":{"$error":"#VALUE!"}},{"$f":"((AA1302*#REF!)+(#REF!*#REF!)+(#REF!*#REF!))/(#REF!+#REF!+#REF!)","v":{"$error":"#VALUE!"}},{"$f":"((AA1302*#REF!)+(#REF!*#REF!)+(#REF!*#REF!))/(#REF!+#REF!+#REF!)","v":{"$error":"#VALUE!"}},{"$f":"((AA1302*#REF!)+(#REF!*#REF!)+(#REF!*#REF!))/(#REF!+#REF!+#REF!)","v":{"$error":"#VALUE!"}}]
[null,null,null,null,null,null,null,null,null,null,null,null,null,null,null,null,null,null,null,null,null,1301,{"$error":"#VALUE!"},{"$f":"AVERAGE($W$3:W1303)","v":{"$error":"#VALUE!"}},null,{"$error":"#VALUE!"},{"$error":"#VALUE!"},{"$f":"AVERAGE($AA$3:AA1303)","v":{"$error":"#VALUE!"}},null,null,null,{"$f":"((AA1303*#REF!)+(#REF!*#REF!)+(#REF!*#REF!))/(#REF!+#REF!+#REF!)","v":{"$error":"#VALUE!"}},{"$f":"((AA1303*#REF!)+(#REF!*#REF!)+(#REF!*#REF!))/(#REF!+#REF!+#REF!)","v":{"$error":"#VALUE!"}},{"$f":"((AA1303*#REF!)+(#REF!*#REF!)+(#REF!*#REF!))/(#REF!+#REF!+#REF!)","v":{"$error":"#VALUE!"}},{"$f":"((AA1303*#REF!)+(#REF!*#REF!)+(#REF!*#REF!))/(#REF!+#REF!+#REF!)","v":{"$error":"#VALUE!"}},{"$f":"((AA1303*#REF!)+(#REF!*#REF!)+(#REF!*#REF!))/(#REF!+#REF!+#REF!)","v":{"$error":"#VALUE!"}},{"$f":"((AA1303*#REF!)+(#REF!*#REF!)+(#REF!*#REF!))/(#REF!+#REF!+#REF!)","v":{"$error":"#VALUE!"}},{"$f":"((AA1303*#REF!)+(#REF!*#REF!)+(#REF!*#REF!))/(#REF!+#REF!+#REF!)","v":{"$error":"#VALUE!"}}]
[null,null,null,null,null,null,null,null,null,null,null,null,null,null,null,null,null,null,null,null,null,1302,{"$error":"#VALUE!"},{"$f":"AVERAGE($W$3:W1304)","v":{"$error":"#VALUE!"}},null,{"$error":"#VALUE!"},{"$error":"#VALUE!"},{"$f":"AVERAGE($AA$3:AA1304)","v":{"$error":"#VALUE!"}},null,null,null,{"$f":"((AA1304*#REF!)+(#REF!*#REF!)+(#REF!*#REF!))/(#REF!+#REF!+#REF!)","v":{"$error":"#VALUE!"}},{"$f":"((AA1304*#REF!)+(#REF!*#REF!)+(#REF!*#REF!))/(#REF!+#REF!+#REF!)","v":{"$error":"#VALUE!"}},{"$f":"((AA1304*#REF!)+(#REF!*#REF!)+(#REF!*#REF!))/(#REF!+#REF!+#REF!)","v":{"$error":"#VALUE!"}},{"$f":"((AA1304*#REF!)+(#REF!*#REF!)+(#REF!*#REF!))/(#REF!+#REF!+#REF!)","v":{"$error":"#VALUE!"}},{"$f":"((AA1304*#REF!)+(#REF!*#REF!)+(#REF!*#REF!))/(#REF!+#REF!+#REF!)","v":{"$error":"#VALUE!"}},{"$f":"((AA1304*#REF!)+(#REF!*#REF!)+(#REF!*#REF!))/(#REF!+#REF!+#REF!)","v":{"$error":"#VALUE!"}},{"$f":"((AA1304*#REF!)+(#REF!*#REF!)+(#REF!*#REF!))/(#REF!+#REF!+#REF!)","v":{"$error":"#VALUE!"}}]
[null,null,null,null,null,null,null,null,null,null,null,null,null,null,null,null,null,null,null,null,null,1303,{"$error":"#VALUE!"},{"$f":"AVERAGE($W$3:W1305)","v":{"$error":"#VALUE!"}},null,{"$error":"#VALUE!"},{"$error":"#VALUE!"},{"$f":"AVERAGE($AA$3:AA1305)","v":{"$error":"#VALUE!"}},null,null,null,{"$f":"((AA1305*#REF!)+(#REF!*#REF!)+(#REF!*#REF!))/(#REF!+#REF!+#REF!)","v":{"$error":"#VALUE!"}},{"$f":"((AA1305*#REF!)+(#REF!*#REF!)+(#REF!*#REF!))/(#REF!+#REF!+#REF!)","v":{"$error":"#VALUE!"}},{"$f":"((AA1305*#REF!)+(#REF!*#REF!)+(#REF!*#REF!))/(#REF!+#REF!+#REF!)","v":{"$error":"#VALUE!"}},{"$f":"((AA1305*#REF!)+(#REF!*#REF!)+(#REF!*#REF!))/(#REF!+#REF!+#REF!)","v":{"$error":"#VALUE!"}},{"$f":"((AA1305*#REF!)+(#REF!*#REF!)+(#REF!*#REF!))/(#REF!+#REF!+#REF!)","v":{"$error":"#VALUE!"}},{"$f":"((AA1305*#REF!)+(#REF!*#REF!)+(#REF!*#REF!))/(#REF!+#REF!+#REF!)","v":{"$error":"#VALUE!"}},{"$f":"((AA1305*#REF!)+(#REF!*#REF!)+(#REF!*#REF!))/(#REF!+#REF!+#REF!)","v":{"$error":"#VALUE!"}}]
[null,null,null,null,null,null,null,null,null,null,null,null,null,null,null,null,null,null,null,null,null,1304,{"$error":"#VALUE!"},{"$f":"AVERAGE($W$3:W1306)","v":{"$error":"#VALUE!"}},null,{"$error":"#VALUE!"},{"$error":"#VALUE!"},{"$f":"AVERAGE($AA$3:AA1306)","v":{"$error":"#VALUE!"}},null,null,null,{"$f":"((AA1306*#REF!)+(#REF!*#REF!)+(#REF!*#REF!))/(#REF!+#REF!+#REF!)","v":{"$error":"#VALUE!"}},{"$f":"((AA1306*#REF!)+(#REF!*#REF!)+(#REF!*#REF!))/(#REF!+#REF!+#REF!)","v":{"$error":"#VALUE!"}},{"$f":"((AA1306*#REF!)+(#REF!*#REF!)+(#REF!*#REF!))/(#REF!+#REF!+#REF!)","v":{"$error":"#VALUE!"}},{"$f":"((AA1306*#REF!)+(#REF!*#REF!)+(#REF!*#REF!))/(#REF!+#REF!+#REF!)","v":{"$error":"#VALUE!"}},{"$f":"((AA1306*#REF!)+(#REF!*#REF!)+(#REF!*#REF!))/(#REF!+#REF!+#REF!)","v":{"$error":"#VALUE!"}},{"$f":"((AA1306*#REF!)+(#REF!*#REF!)+(#REF!*#REF!))/(#REF!+#REF!+#REF!)","v":{"$error":"#VALUE!"}},{"$f":"((AA1306*#REF!)+(#REF!*#REF!)+(#REF!*#REF!))/(#REF!+#REF!+#REF!)","v":{"$error":"#VALUE!"}}]
[null,null,null,null,null,null,null,null,null,null,null,null,null,null,null,null,null,null,null,null,null,1305,{"$error":"#VALUE!"},{"$f":"AVERAGE($W$3:W1307)","v":{"$error":"#VALUE!"}},null,{"$error":"#VALUE!"},{"$error":"#VALUE!"},{"$f":"AVERAGE($AA$3:AA1307)","v":{"$error":"#VALUE!"}},null,null,null,{"$f":"((AA1307*#REF!)+(#REF!*#REF!)+(#REF!*#REF!))/(#REF!+#REF!+#REF!)","v":{"$error":"#VALUE!"}},{"$f":"((AA1307*#REF!)+(#REF!*#REF!)+(#REF!*#REF!))/(#REF!+#REF!+#REF!)","v":{"$error":"#VALUE!"}},{"$f":"((AA1307*#REF!)+(#REF!*#REF!)+(#REF!*#REF!))/(#REF!+#REF!+#REF!)","v":{"$error":"#VALUE!"}},{"$f":"((AA1307*#REF!)+(#REF!*#REF!)+(#REF!*#REF!))/(#REF!+#REF!+#REF!)","v":{"$error":"#VALUE!"}},{"$f":"((AA1307*#REF!)+(#REF!*#REF!)+(#REF!*#REF!))/(#REF!+#REF!+#REF!)","v":{"$error":"#VALUE!"}},{"$f":"((AA1307*#REF!)+(#REF!*#REF!)+(#REF!*#REF!))/(#REF!+#REF!+#REF!)","v":{"$error":"#VALUE!"}},{"$f":"((AA1307*#REF!)+(#REF!*#REF!)+(#REF!*#REF!))/(#REF!+#REF!+#REF!)","v":{"$error":"#VALUE!"}}]
[null,null,null,null,null,null,null,null,null,null,null,null,null,null,null,null,null,null,null,null,null,1306,{"$error":"#VALUE!"},{"$f":"AVERAGE($W$3:W1308)","v":{"$error":"#VALUE!"}},null,{"$error":"#VALUE!"},{"$error":"#VALUE!"},{"$f":"AVERAGE($AA$3:AA1308)","v":{"$error":"#VALUE!"}},null,null,null,{"$f":"((AA1308*#REF!)+(#REF!*#REF!)+(#REF!*#REF!))/(#REF!+#REF!+#REF!)","v":{"$error":"#VALUE!"}},{"$f":"((AA1308*#REF!)+(#REF!*#REF!)+(#REF!*#REF!))/(#REF!+#REF!+#REF!)","v":{"$error":"#VALUE!"}},{"$f":"((AA1308*#REF!)+(#REF!*#REF!)+(#REF!*#REF!))/(#REF!+#REF!+#REF!)","v":{"$error":"#VALUE!"}},{"$f":"((AA1308*#REF!)+(#REF!*#REF!)+(#REF!*#REF!))/(#REF!+#REF!+#REF!)","v":{"$error":"#VALUE!"}},{"$f":"((AA1308*#REF!)+(#REF!*#REF!)+(#REF!*#REF!))/(#REF!+#REF!+#REF!)","v":{"$error":"#VALUE!"}},{"$f":"((AA1308*#REF!)+(#REF!*#REF!)+(#REF!*#REF!))/(#REF!+#REF!+#REF!)","v":{"$error":"#VALUE!"}},{"$f":"((AA1308*#REF!)+(#REF!*#REF!)+(#REF!*#REF!))/(#REF!+#REF!+#REF!)","v":{"$error":"#VALUE!"}}]
[null,null,null,null,null,null,null,null,null,null,null,null,null,null,null,null,null,null,null,null,null,1307,{"$error":"#VALUE!"},{"$f":"AVERAGE($W$3:W1309)","v":{"$error":"#VALUE!"}},null,{"$error":"#VALUE!"},{"$error":"#VALUE!"},{"$f":"AVERAGE($AA$3:AA1309)","v":{"$error":"#VALUE!"}},null,null,null,{"$f":"((AA1309*#REF!)+(#REF!*#REF!)+(#REF!*#REF!))/(#REF!+#REF!+#REF!)","v":{"$error":"#VALUE!"}},{"$f":"((AA1309*#REF!)+(#REF!*#REF!)+(#REF!*#REF!))/(#REF!+#REF!+#REF!)","v":{"$error":"#VALUE!"}},{"$f":"((AA1309*#REF!)+(#REF!*#REF!)+(#REF!*#REF!))/(#REF!+#REF!+#REF!)","v":{"$error":"#VALUE!"}},{"$f":"((AA1309*#REF!)+(#REF!*#REF!)+(#REF!*#REF!))/(#REF!+#REF!+#REF!)","v":{"$error":"#VALUE!"}},{"$f":"((AA1309*#REF!)+(#REF!*#REF!)+(#REF!*#REF!))/(#REF!+#REF!+#REF!)","v":{"$error":"#VALUE!"}},{"$f":"((AA1309*#REF!)+(#REF!*#REF!)+(#REF!*#REF!))/(#REF!+#REF!+#REF!)","v":{"$error":"#VALUE!"}},{"$f":"((AA1309*#REF!)+(#REF!*#REF!)+(#REF!*#REF!))/(#REF!+#REF!+#REF!)","v":{"$error":"#VALUE!"}}]
[null,null,null,null,null,null,null,null,null,null,null,null,null,null,null,null,null,null,null,null,null,1308,{"$error":"#VALUE!"},{"$f":"AVERAGE($W$3:W1310)","v":{"$error":"#VALUE!"}},null,{"$error":"#VALUE!"},{"$error":"#VALUE!"},{"$f":"AVERAGE($AA$3:AA1310)","v":{"$error":"#VALUE!"}},null,null,null,{"$f":"((AA1310*#REF!)+(#REF!*#REF!)+(#REF!*#REF!))/(#REF!+#REF!+#REF!)","v":{"$error":"#VALUE!"}},{"$f":"((AA1310*#REF!)+(#REF!*#REF!)+(#REF!*#REF!))/(#REF!+#REF!+#REF!)","v":{"$error":"#VALUE!"}},{"$f":"((AA1310*#REF!)+(#REF!*#REF!)+(#REF!*#REF!))/(#REF!+#REF!+#REF!)","v":{"$error":"#VALUE!"}},{"$f":"((AA1310*#REF!)+(#REF!*#REF!)+(#REF!*#REF!))/(#REF!+#REF!+#REF!)","v":{"$error":"#VALUE!"}},{"$f":"((AA1310*#REF!)+(#REF!*#REF!)+(#REF!*#REF!))/(#REF!+#REF!+#REF!)","v":{"$error":"#VALUE!"}},{"$f":"((AA1310*#REF!)+(#REF!*#REF!)+(#REF!*#REF!))/(#REF!+#REF!+#REF!)","v":{"$error":"#VALUE!"}},{"$f":"((AA1310*#REF!)+(#REF!*#REF!)+(#REF!*#REF!))/(#REF!+#REF!+#REF!)","v":{"$error":"#VALUE!"}}]
[null,null,null,null,null,null,null,null,null,null,null,null,null,null,null,null,null,null,null,null,null,1309,{"$error":"#VALUE!"},{"$f":"AVERAGE($W$3:W1311)","v":{"$error":"#VALUE!"}},null,{"$error":"#VALUE!"},{"$error":"#VALUE!"},{"$f":"AVERAGE($AA$3:AA1311)","v":{"$error":"#VALUE!"}},null,null,null,{"$f":"((AA1311*#REF!)+(#REF!*#REF!)+(#REF!*#REF!))/(#REF!+#REF!+#REF!)","v":{"$error":"#VALUE!"}},{"$f":"((AA1311*#REF!)+(#REF!*#REF!)+(#REF!*#REF!))/(#REF!+#REF!+#REF!)","v":{"$error":"#VALUE!"}},{"$f":"((AA1311*#REF!)+(#REF!*#REF!)+(#REF!*#REF!))/(#REF!+#REF!+#REF!)","v":{"$error":"#VALUE!"}},{"$f":"((AA1311*#REF!)+(#REF!*#REF!)+(#REF!*#REF!))/(#REF!+#REF!+#REF!)","v":{"$error":"#VALUE!"}},{"$f":"((AA1311*#REF!)+(#REF!*#REF!)+(#REF!*#REF!))/(#REF!+#REF!+#REF!)","v":{"$error":"#VALUE!"}},{"$f":"((AA1311*#REF!)+(#REF!*#REF!)+(#REF!*#REF!))/(#REF!+#REF!+#REF!)","v":{"$error":"#VALUE!"}},{"$f":"((AA1311*#REF!)+(#REF!*#REF!)+(#REF!*#REF!))/(#REF!+#REF!+#REF!)","v":{"$error":"#VALUE!"}}]
[null,null,null,null,null,null,null,null,null,null,null,null,null,null,null,null,null,null,null,null,null,1310,{"$error":"#VALUE!"},{"$f":"AVERAGE($W$3:W1312)","v":{"$error":"#VALUE!"}},null,{"$error":"#VALUE!"},{"$error":"#VALUE!"},{"$f":"AVERAGE($AA$3:AA1312)","v":{"$error":"#VALUE!"}},null,null,null,{"$f":"((AA1312*#REF!)+(#REF!*#REF!)+(#REF!*#REF!))/(#REF!+#REF!+#REF!)","v":{"$error":"#VALUE!"}},{"$f":"((AA1312*#REF!)+(#REF!*#REF!)+(#REF!*#REF!))/(#REF!+#REF!+#REF!)","v":{"$error":"#VALUE!"}},{"$f":"((AA1312*#REF!)+(#REF!*#REF!)+(#REF!*#REF!))/(#REF!+#REF!+#REF!)","v":{"$error":"#VALUE!"}},{"$f":"((AA1312*#REF!)+(#REF!*#REF!)+(#REF!*#REF!))/(#REF!+#REF!+#REF!)","v":{"$error":"#VALUE!"}},{"$f":"((AA1312*#REF!)+(#REF!*#REF!)+(#REF!*#REF!))/(#REF!+#REF!+#REF!)","v":{"$error":"#VALUE!"}},{"$f":"((AA1312*#REF!)+(#REF!*#REF!)+(#REF!*#REF!))/(#REF!+#REF!+#REF!)","v":{"$error":"#VALUE!"}},{"$f":"((AA1312*#REF!)+(#REF!*#REF!)+(#REF!*#REF!))/(#REF!+#REF!+#REF!)","v":{"$error":"#VALUE!"}}]
[null,null,null,null,null,null,null,null,null,null,null,null,null,null,null,null,null,null,null,null,null,1311,{"$error":"#VALUE!"},{"$f":"AVERAGE($W$3:W1313)","v":{"$error":"#VALUE!"}},null,{"$error":"#VALUE!"},{"$error":"#VALUE!"},{"$f":"AVERAGE($AA$3:AA1313)","v":{"$error":"#VALUE!"}},null,null,null,{"$f":"((AA1313*#REF!)+(#REF!*#REF!)+(#REF!*#REF!))/(#REF!+#REF!+#REF!)","v":{"$error":"#VALUE!"}},{"$f":"((AA1313*#REF!)+(#REF!*#REF!)+(#REF!*#REF!))/(#REF!+#REF!+#REF!)","v":{"$error":"#VALUE!"}},{"$f":"((AA1313*#REF!)+(#REF!*#REF!)+(#REF!*#REF!))/(#REF!+#REF!+#REF!)","v":{"$error":"#VALUE!"}},{"$f":"((AA1313*#REF!)+(#REF!*#REF!)+(#REF!*#REF!))/(#REF!+#REF!+#REF!)","v":{"$error":"#VALUE!"}},{"$f":"((AA1313*#REF!)+(#REF!*#REF!)+(#REF!*#REF!))/(#REF!+#REF!+#REF!)","v":{"$error":"#VALUE!"}},{"$f":"((AA1313*#REF!)+(#REF!*#REF!)+(#REF!*#REF!))/(#REF!+#REF!+#REF!)","v":{"$error":"#VALUE!"}},{"$f":"((AA1313*#REF!)+(#REF!*#REF!)+(#REF!*#REF!))/(#REF!+#REF!+#REF!)","v":{"$error":"#VALUE!"}}]
[null,null,null,null,null,null,null,null,null,null,null,null,null,null,null,null,null,null,null,null,null,1312,{"$error":"#VALUE!"},{"$f":"AVERAGE($W$3:W1314)","v":{"$error":"#VALUE!"}},null,{"$error":"#VALUE!"},{"$error":"#VALUE!"},{"$f":"AVERAGE($AA$3:AA1314)","v":{"$error":"#VALUE!"}},null,null,null,{"$f":"((AA1314*#REF!)+(#REF!*#REF!)+(#REF!*#REF!))/(#REF!+#REF!+#REF!)","v":{"$error":"#VALUE!"}},{"$f":"((AA1314*#REF!)+(#REF!*#REF!)+(#REF!*#REF!))/(#REF!+#REF!+#REF!)","v":{"$error":"#VALUE!"}},{"$f":"((AA1314*#REF!)+(#REF!*#REF!)+(#REF!*#REF!))/(#REF!+#REF!+#REF!)","v":{"$error":"#VALUE!"}},{"$f":"((AA1314*#REF!)+(#REF!*#REF!)+(#REF!*#REF!))/(#REF!+#REF!+#REF!)","v":{"$error":"#VALUE!"}},{"$f":"((AA1314*#REF!)+(#REF!*#REF!)+(#REF!*#REF!))/(#REF!+#REF!+#REF!)","v":{"$error":"#VALUE!"}},{"$f":"((AA1314*#REF!)+(#REF!*#REF!)+(#REF!*#REF!))/(#REF!+#REF!+#REF!)","v":{"$error":"#VALUE!"}},{"$f":"((AA1314*#REF!)+(#REF!*#REF!)+(#REF!*#REF!))/(#REF!+#REF!+#REF!)","v":{"$error":"#VALUE!"}}]
[null,null,null,null,null,null,null,null,null,null,null,null,null,null,null,null,null,null,null,null,null,1313,{"$error":"#VALUE!"},{"$f":"AVERAGE($W$3:W1315)","v":{"$error":"#VALUE!"}},null,{"$error":"#VALUE!"},{"$error":"#VALUE!"},{"$f":"AVERAGE($AA$3:AA1315)","v":{"$error":"#VALUE!"}},null,null,null,{"$f":"((AA1315*#REF!)+(#REF!*#REF!)+(#REF!*#REF!))/(#REF!+#REF!+#REF!)","v":{"$error":"#VALUE!"}},{"$f":"((AA1315*#REF!)+(#REF!*#REF!)+(#REF!*#REF!))/(#REF!+#REF!+#REF!)","v":{"$error":"#VALUE!"}},{"$f":"((AA1315*#REF!)+(#REF!*#REF!)+(#REF!*#REF!))/(#REF!+#REF!+#REF!)","v":{"$error":"#VALUE!"}},{"$f":"((AA1315*#REF!)+(#REF!*#REF!)+(#REF!*#REF!))/(#REF!+#REF!+#REF!)","v":{"$error":"#VALUE!"}},{"$f":"((AA1315*#REF!)+(#REF!*#REF!)+(#REF!*#REF!))/(#REF!+#REF!+#REF!)","v":{"$error":"#VALUE!"}},{"$f":"((AA1315*#REF!)+(#REF!*#REF!)+(#REF!*#REF!))/(#REF!+#REF!+#REF!)","v":{"$error":"#VALUE!"}},{"$f":"((AA1315*#REF!)+(#REF!*#REF!)+(#REF!*#REF!))/(#REF!+#REF!+#REF!)","v":{"$error":"#VALUE!"}}]
[null,null,null,null,null,null,null,null,null,null,null,null,null,null,null,null,null,null,null,null,null,1314,{"$error":"#VALUE!"},{"$f":"AVERAGE($W$3:W1316)","v":{"$error":"#VALUE!"}},null,{"$error":"#VALUE!"},{"$error":"#VALUE!"},{"$f":"AVERAGE($AA$3:AA1316)","v":{"$error":"#VALUE!"}},null,null,null,{"$f":"((AA1316*#REF!)+(#REF!*#REF!)+(#REF!*#REF!))/(#REF!+#REF!+#REF!)","v":{"$error":"#VALUE!"}},{"$f":"((AA1316*#REF!)+(#REF!*#REF!)+(#REF!*#REF!))/(#REF!+#REF!+#REF!)","v":{"$error":"#VALUE!"}},{"$f":"((AA1316*#REF!)+(#REF!*#REF!)+(#REF!*#REF!))/(#REF!+#REF!+#REF!)","v":{"$error":"#VALUE!"}},{"$f":"((AA1316*#REF!)+(#REF!*#REF!)+(#REF!*#REF!))/(#REF!+#REF!+#REF!)","v":{"$error":"#VALUE!"}},{"$f":"((AA1316*#REF!)+(#REF!*#REF!)+(#REF!*#REF!))/(#REF!+#REF!+#REF!)","v":{"$error":"#VALUE!"}},{"$f":"((AA1316*#REF!)+(#REF!*#REF!)+(#REF!*#REF!))/(#REF!+#REF!+#REF!)","v":{"$error":"#VALUE!"}},{"$f":"((AA1316*#REF!)+(#REF!*#REF!)+(#REF!*#REF!))/(#REF!+#REF!+#REF!)","v":{"$error":"#VALUE!"}}]
[null,null,null,null,null,null,null,null,null,null,null,null,null,null,null,null,null,null,null,null,null,1315,{"$error":"#VALUE!"},{"$f":"AVERAGE($W$3:W1317)","v":{"$error":"#VALUE!"}},null,{"$error":"#VALUE!"},{"$error":"#VALUE!"},{"$f":"AVERAGE($AA$3:AA1317)","v":{"$error":"#VALUE!"}},null,null,null,{"$f":"((AA1317*#REF!)+(#REF!*#REF!)+(#REF!*#REF!))/(#REF!+#REF!+#REF!)","v":{"$error":"#VALUE!"}},{"$f":"((AA1317*#REF!)+(#REF!*#REF!)+(#REF!*#REF!))/(#REF!+#REF!+#REF!)","v":{"$error":"#VALUE!"}},{"$f":"((AA1317*#REF!)+(#REF!*#REF!)+(#REF!*#REF!))/(#REF!+#REF!+#REF!)","v":{"$error":"#VALUE!"}},{"$f":"((AA1317*#REF!)+(#REF!*#REF!)+(#REF!*#REF!))/(#REF!+#REF!+#REF!)","v":{"$error":"#VALUE!"}},{"$f":"((AA1317*#REF!)+(#REF!*#REF!)+(#REF!*#REF!))/(#REF!+#REF!+#REF!)","v":{"$error":"#VALUE!"}},{"$f":"((AA1317*#REF!)+(#REF!*#REF!)+(#REF!*#REF!))/(#REF!+#REF!+#REF!)","v":{"$error":"#VALUE!"}},{"$f":"((AA1317*#REF!)+(#REF!*#REF!)+(#REF!*#REF!))/(#REF!+#REF!+#REF!)","v":{"$error":"#VALUE!"}}]
[null,null,null,null,null,null,null,null,null,null,null,null,null,null,null,null,null,null,null,null,null,1316,{"$error":"#VALUE!"},{"$f":"AVERAGE($W$3:W1318)","v":{"$error":"#VALUE!"}},null,{"$error":"#VALUE!"},{"$error":"#VALUE!"},{"$f":"AVERAGE($AA$3:AA1318)","v":{"$error":"#VALUE!"}},null,null,null,{"$f":"((AA1318*#REF!)+(#REF!*#REF!)+(#REF!*#REF!))/(#REF!+#REF!+#REF!)","v":{"$error":"#VALUE!"}},{"$f":"((AA1318*#REF!)+(#REF!*#REF!)+(#REF!*#REF!))/(#REF!+#REF!+#REF!)","v":{"$error":"#VALUE!"}},{"$f":"((AA1318*#REF!)+(#REF!*#REF!)+(#REF!*#REF!))/(#REF!+#REF!+#REF!)","v":{"$error":"#VALUE!"}},{"$f":"((AA1318*#REF!)+(#REF!*#REF!)+(#REF!*#REF!))/(#REF!+#REF!+#REF!)","v":{"$error":"#VALUE!"}},{"$f":"((AA1318*#REF!)+(#REF!*#REF!)+(#REF!*#REF!))/(#REF!+#REF!+#REF!)","v":{"$error":"#VALUE!"}},{"$f":"((AA1318*#REF!)+(#REF!*#REF!)+(#REF!*#REF!))/(#REF!+#REF!+#REF!)","v":{"$error":"#VALUE!"}},{"$f":"((AA1318*#REF!)+(#REF!*#REF!)+(#REF!*#REF!))/(#REF!+#REF!+#REF!)","v":{"$error":"#VALUE!"}}]
[null,null,null,null,null,null,null,null,null,null,null,null,null,null,null,null,null,null,null,null,null,1317,{"$error":"#VALUE!"},{"$f":"AVERAGE($W$3:W1319)","v":{"$error":"#VALUE!"}},null,{"$error":"#VALUE!"},{"$error":"#VALUE!"},{"$f":"AVERAGE($AA$3:AA1319)","v":{"$error":"#VALUE!"}},null,null,null,{"$f":"((AA1319*#REF!)+(#REF!*#REF!)+(#REF!*#REF!))/(#REF!+#REF!+#REF!)","v":{"$error":"#VALUE!"}},{"$f":"((AA1319*#REF!)+(#REF!*#REF!)+(#REF!*#REF!))/(#REF!+#REF!+#REF!)","v":{"$error":"#VALUE!"}},{"$f":"((AA1319*#REF!)+(#REF!*#REF!)+(#REF!*#REF!))/(#REF!+#REF!+#REF!)","v":{"$error":"#VALUE!"}},{"$f":"((AA1319*#REF!)+(#REF!*#REF!)+(#REF!*#REF!))/(#REF!+#REF!+#REF!)","v":{"$error":"#VALUE!"}},{"$f":"((AA1319*#REF!)+(#REF!*#REF!)+(#REF!*#REF!))/(#REF!+#REF!+#REF!)","v":{"$error":"#VALUE!"}},{"$f":"((AA1319*#REF!)+(#REF!*#REF!)+(#REF!*#REF!))/(#REF!+#REF!+#REF!)","v":{"$error":"#VALUE!"}},{"$f":"((AA1319*#REF!)+(#REF!*#REF!)+(#REF!*#REF!))/(#REF!+#REF!+#REF!)","v":{"$error":"#VALUE!"}}]
[null,null,null,null,null,null,null,null,null,null,null,null,null,null,null,null,null,null,null,null,null,1318,{"$error":"#VALUE!"},{"$f":"AVERAGE($W$3:W1320)","v":{"$error":"#VALUE!"}},null,{"$error":"#VALUE!"},{"$error":"#VALUE!"},{"$f":"AVERAGE($AA$3:AA1320)","v":{"$error":"#VALUE!"}},null,null,null,{"$f":"((AA1320*#REF!)+(#REF!*#REF!)+(#REF!*#REF!))/(#REF!+#REF!+#REF!)","v":{"$error":"#VALUE!"}},{"$f":"((AA1320*#REF!)+(#REF!*#REF!)+(#REF!*#REF!))/(#REF!+#REF!+#REF!)","v":{"$error":"#VALUE!"}},{"$f":"((AA1320*#REF!)+(#REF!*#REF!)+(#REF!*#REF!))/(#REF!+#REF!+#REF!)","v":{"$error":"#VALUE!"}},{"$f":"((AA1320*#REF!)+(#REF!*#REF!)+(#REF!*#REF!))/(#REF!+#REF!+#REF!)","v":{"$error":"#VALUE!"}},{"$f":"((AA1320*#REF!)+(#REF!*#REF!)+(#REF!*#REF!))/(#REF!+#REF!+#REF!)","v":{"$error":"#VALUE!"}},{"$f":"((AA1320*#REF!)+(#REF!*#REF!)+(#REF!*#REF!))/(#REF!+#REF!+#REF!)","v":{"$error":"#VALUE!"}},{"$f":"((AA1320*#REF!)+(#REF!*#REF!)+(#REF!*#REF!))/(#REF!+#REF!+#REF!)","v":{"$error":"#VALUE!"}}]
[null,null,null,null,null,null,null,null,null,null,null,null,null,null,null,null,null,null,null,null,null,1319,{"$error":"#VALUE!"},{"$f":"AVERAGE($W$3:W1321)","v":{"$error":"#VALUE!"}},null,{"$error":"#VALUE!"},{"$error":"#VALUE!"},{"$f":"AVERAGE($AA$3:AA1321)","v":{"$error":"#VALUE!"}},null,null,null,{"$f":"((AA1321*#REF!)+(#REF!*#REF!)+(#REF!*#REF!))/(#REF!+#REF!+#REF!)","v":{"$error":"#VALUE!"}},{"$f":"((AA1321*#REF!)+(#REF!*#REF!)+(#REF!*#REF!))/(#REF!+#REF!+#REF!)","v":{"$error":"#VALUE!"}},{"$f":"((AA1321*#REF!)+(#REF!*#REF!)+(#REF!*#REF!))/(#REF!+#REF!+#REF!)","v":{"$error":"#VALUE!"}},{"$f":"((AA1321*#REF!)+(#REF!*#REF!)+(#REF!*#REF!))/(#REF!+#REF!+#REF!)","v":{"$error":"#VALUE!"}},{"$f":"((AA1321*#REF!)+(#REF!*#REF!)+(#REF!*#REF!))/(#REF!+#REF!+#REF!)","v":{"$error":"#VALUE!"}},{"$f":"((AA1321*#REF!)+(#REF!*#REF!)+(#REF!*#REF!))/(#REF!+#REF!+#REF!)","v":{"$error":"#VALUE!"}},{"$f":"((AA1321*#REF!)+(#REF!*#REF!)+(#REF!*#REF!))/(#REF!+#REF!+#REF!)","v":{"$error":"#VALUE!"}}]
[null,null,null,null,null,null,null,null,null,null,null,null,null,null,null,null,null,null,null,null,null,1320,{"$error":"#VALUE!"},{"$f":"AVERAGE($W$3:W1322)","v":{"$error":"#VALUE!"}},null,{"$error":"#VALUE!"},{"$error":"#VALUE!"},{"$f":"AVERAGE($AA$3:AA1322)","v":{"$error":"#VALUE!"}},null,null,null,{"$f":"((AA1322*#REF!)+(#REF!*#REF!)+(#REF!*#REF!))/(#REF!+#REF!+#REF!)","v":{"$error":"#VALUE!"}},{"$f":"((AA1322*#REF!)+(#REF!*#REF!)+(#REF!*#REF!))/(#REF!+#REF!+#REF!)","v":{"$error":"#VALUE!"}},{"$f":"((AA1322*#REF!)+(#REF!*#REF!)+(#REF!*#REF!))/(#REF!+#REF!+#REF!)","v":{"$error":"#VALUE!"}},{"$f":"((AA1322*#REF!)+(#REF!*#REF!)+(#REF!*#REF!))/(#REF!+#REF!+#REF!)","v":{"$error":"#VALUE!"}},{"$f":"((AA1322*#REF!)+(#REF!*#REF!)+(#REF!*#REF!))/(#REF!+#REF!+#REF!)","v":{"$error":"#VALUE!"}},{"$f":"((AA1322*#REF!)+(#REF!*#REF!)+(#REF!*#REF!))/(#REF!+#REF!+#REF!)","v":{"$error":"#VALUE!"}},{"$f":"((AA1322*#REF!)+(#REF!*#REF!)+(#REF!*#REF!))/(#REF!+#REF!+#REF!)","v":{"$error":"#VALUE!"}}]
[null,null,null,null,null,null,null,null,null,null,null,null,null,null,null,null,null,null,null,null,null,1321,{"$error":"#VALUE!"},{"$f":"AVERAGE($W$3:W1323)","v":{"$error":"#VALUE!"}},null,{"$error":"#VALUE!"},{"$error":"#VALUE!"},{"$f":"AVERAGE($AA$3:AA1323)","v":{"$error":"#VALUE!"}},null,null,null,{"$f":"((AA1323*#REF!)+(#REF!*#REF!)+(#REF!*#REF!))/(#REF!+#REF!+#REF!)","v":{"$error":"#VALUE!"}},{"$f":"((AA1323*#REF!)+(#REF!*#REF!)+(#REF!*#REF!))/(#REF!+#REF!+#REF!)","v":{"$error":"#VALUE!"}},{"$f":"((AA1323*#REF!)+(#REF!*#REF!)+(#REF!*#REF!))/(#REF!+#REF!+#REF!)","v":{"$error":"#VALUE!"}},{"$f":"((AA1323*#REF!)+(#REF!*#REF!)+(#REF!*#REF!))/(#REF!+#REF!+#REF!)","v":{"$error":"#VALUE!"}},{"$f":"((AA1323*#REF!)+(#REF!*#REF!)+(#REF!*#REF!))/(#REF!+#REF!+#REF!)","v":{"$error":"#VALUE!"}},{"$f":"((AA1323*#REF!)+(#REF!*#REF!)+(#REF!*#REF!))/(#REF!+#REF!+#REF!)","v":{"$error":"#VALUE!"}},{"$f":"((AA1323*#REF!)+(#REF!*#REF!)+(#REF!*#REF!))/(#REF!+#REF!+#REF!)","v":{"$error":"#VALUE!"}}]
[null,null,null,null,null,null,null,null,null,null,null,null,null,null,null,null,null,null,null,null,null,1322,{"$error":"#VALUE!"},{"$f":"AVERAGE($W$3:W1324)","v":{"$error":"#VALUE!"}},null,{"$error":"#VALUE!"},{"$error":"#VALUE!"},{"$f":"AVERAGE($AA$3:AA1324)","v":{"$error":"#VALUE!"}},null,null,null,{"$f":"((AA1324*#REF!)+(#REF!*#REF!)+(#REF!*#REF!))/(#REF!+#REF!+#REF!)","v":{"$error":"#VALUE!"}},{"$f":"((AA1324*#REF!)+(#REF!*#REF!)+(#REF!*#REF!))/(#REF!+#REF!+#REF!)","v":{"$error":"#VALUE!"}},{"$f":"((AA1324*#REF!)+(#REF!*#REF!)+(#REF!*#REF!))/(#REF!+#REF!+#REF!)","v":{"$error":"#VALUE!"}},{"$f":"((AA1324*#REF!)+(#REF!*#REF!)+(#REF!*#REF!))/(#REF!+#REF!+#REF!)","v":{"$error":"#VALUE!"}},{"$f":"((AA1324*#REF!)+(#REF!*#REF!)+(#REF!*#REF!))/(#REF!+#REF!+#REF!)","v":{"$error":"#VALUE!"}},{"$f":"((AA1324*#REF!)+(#REF!*#REF!)+(#REF!*#REF!))/(#REF!+#REF!+#REF!)","v":{"$error":"#VALUE!"}},{"$f":"((AA1324*#REF!)+(#REF!*#REF!)+(#REF!*#REF!))/(#REF!+#REF!+#REF!)","v":{"$error":"#VALUE!"}}]
[null,null,null,null,null,null,null,null,null,null,null,null,null,null,null,null,null,null,null,null,null,1323,{"$error":"#VALUE!"},{"$f":"AVERAGE($W$3:W1325)","v":{"$error":"#VALUE!"}},null,{"$error":"#VALUE!"},{"$error":"#VALUE!"},{"$f":"AVERAGE($AA$3:AA1325)","v":{"$error":"#VALUE!"}},null,null,null,{"$f":"((AA1325*#REF!)+(#REF!*#REF!)+(#REF!*#REF!))/(#REF!+#REF!+#REF!)","v":{"$error":"#VALUE!"}},{"$f":"((AA1325*#REF!)+(#REF!*#REF!)+(#REF!*#REF!))/(#REF!+#REF!+#REF!)","v":{"$error":"#VALUE!"}},{"$f":"((AA1325*#REF!)+(#REF!*#REF!)+(#REF!*#REF!))/(#REF!+#REF!+#REF!)","v":{"$error":"#VALUE!"}},{"$f":"((AA1325*#REF!)+(#REF!*#REF!)+(#REF!*#REF!))/(#REF!+#REF!+#REF!)","v":{"$error":"#VALUE!"}},{"$f":"((AA1325*#REF!)+(#REF!*#REF!)+(#REF!*#REF!))/(#REF!+#REF!+#REF!)","v":{"$error":"#VALUE!"}},{"$f":"((AA1325*#REF!)+(#REF!*#REF!)+(#REF!*#REF!))/(#REF!+#REF!+#REF!)","v":{"$error":"#VALUE!"}},{"$f":"((AA1325*#REF!)+(#REF!*#REF!)+(#REF!*#REF!))/(#REF!+#REF!+#REF!)","v":{"$error":"#VALUE!"}}]
[null,null,null,null,null,null,null,null,null,null,null,null,null,null,null,null,null,null,null,null,null,1324,{"$error":"#VALUE!"},{"$f":"AVERAGE($W$3:W1326)","v":{"$error":"#VALUE!"}},null,{"$error":"#VALUE!"},{"$error":"#VALUE!"},{"$f":"AVERAGE($AA$3:AA1326)","v":{"$error":"#VALUE!"}},null,null,null,{"$f":"((AA1326*#REF!)+(#REF!*#REF!)+(#REF!*#REF!))/(#REF!+#REF!+#REF!)","v":{"$error":"#VALUE!"}},{"$f":"((AA1326*#REF!)+(#REF!*#REF!)+(#REF!*#REF!))/(#REF!+#REF!+#REF!)","v":{"$error":"#VALUE!"}},{"$f":"((AA1326*#REF!)+(#REF!*#REF!)+(#REF!*#REF!))/(#REF!+#REF!+#REF!)","v":{"$error":"#VALUE!"}},{"$f":"((AA1326*#REF!)+(#REF!*#REF!)+(#REF!*#REF!))/(#REF!+#REF!+#REF!)","v":{"$error":"#VALUE!"}},{"$f":"((AA1326*#REF!)+(#REF!*#REF!)+(#REF!*#REF!))/(#REF!+#REF!+#REF!)","v":{"$error":"#VALUE!"}},{"$f":"((AA1326*#REF!)+(#REF!*#REF!)+(#REF!*#REF!))/(#REF!+#REF!+#REF!)","v":{"$error":"#VALUE!"}},{"$f":"((AA1326*#REF!)+(#REF!*#REF!)+(#REF!*#REF!))/(#REF!+#REF!+#REF!)","v":{"$error":"#VALUE!"}}]
[null,null,null,null,null,null,null,null,null,null,null,null,null,null,null,null,null,null,null,null,null,1325,{"$error":"#VALUE!"},{"$f":"AVERAGE($W$3:W1327)","v":{"$error":"#VALUE!"}},null,{"$error":"#VALUE!"},{"$error":"#VALUE!"},{"$f":"AVERAGE($AA$3:AA1327)","v":{"$error":"#VALUE!"}},null,null,null,{"$f":"((AA1327*#REF!)+(#REF!*#REF!)+(#REF!*#REF!))/(#REF!+#REF!+#REF!)","v":{"$error":"#VALUE!"}},{"$f":"((AA1327*#REF!)+(#REF!*#REF!)+(#REF!*#REF!))/(#REF!+#REF!+#REF!)","v":{"$error":"#VALUE!"}},{"$f":"((AA1327*#REF!)+(#REF!*#REF!)+(#REF!*#REF!))/(#REF!+#REF!+#REF!)","v":{"$error":"#VALUE!"}},{"$f":"((AA1327*#REF!)+(#REF!*#REF!)+(#REF!*#REF!))/(#REF!+#REF!+#REF!)","v":{"$error":"#VALUE!"}},{"$f":"((AA1327*#REF!)+(#REF!*#REF!)+(#REF!*#REF!))/(#REF!+#REF!+#REF!)","v":{"$error":"#VALUE!"}},{"$f":"((AA1327*#REF!)+(#REF!*#REF!)+(#REF!*#REF!))/(#REF!+#REF!+#REF!)","v":{"$error":"#VALUE!"}},{"$f":"((AA1327*#REF!)+(#REF!*#REF!)+(#REF!*#REF!))/(#REF!+#REF!+#REF!)","v":{"$error":"#VALUE!"}}]
[null,null,null,null,null,null,null,null,null,null,null,null,null,null,null,null,null,null,null,null,null,1326,{"$error":"#VALUE!"},{"$f":"AVERAGE($W$3:W1328)","v":{"$error":"#VALUE!"}},null,{"$error":"#VALUE!"},{"$error":"#VALUE!"},{"$f":"AVERAGE($AA$3:AA1328)","v":{"$error":"#VALUE!"}},null,null,null,{"$f":"((AA1328*#REF!)+(#REF!*#REF!)+(#REF!*#REF!))/(#REF!+#REF!+#REF!)","v":{"$error":"#VALUE!"}},{"$f":"((AA1328*#REF!)+(#REF!*#REF!)+(#REF!*#REF!))/(#REF!+#REF!+#REF!)","v":{"$error":"#VALUE!"}},{"$f":"((AA1328*#REF!)+(#REF!*#REF!)+(#REF!*#REF!))/(#REF!+#REF!+#REF!)","v":{"$error":"#VALUE!"}},{"$f":"((AA1328*#REF!)+(#REF!*#REF!)+(#REF!*#REF!))/(#REF!+#REF!+#REF!)","v":{"$error":"#VALUE!"}},{"$f":"((AA1328*#REF!)+(#REF!*#REF!)+(#REF!*#REF!))/(#REF!+#REF!+#REF!)","v":{"$error":"#VALUE!"}},{"$f":"((AA1328*#REF!)+(#REF!*#REF!)+(#REF!*#REF!))/(#REF!+#REF!+#REF!)","v":{"$error":"#VALUE!"}},{"$f":"((AA1328*#REF!)+(#REF!*#REF!)+(#REF!*#REF!))/(#REF!+#REF!+#REF!)","v":{"$error":"#VALUE!"}}]
[null,null,null,null,null,null,null,null,null,null,null,null,null,null,null,null,null,null,null,null,null,1327,{"$error":"#VALUE!"},{"$f":"AVERAGE($W$3:W1329)","v":{"$error":"#VALUE!"}},null,{"$error":"#VALUE!"},{"$error":"#VALUE!"},{"$f":"AVERAGE($AA$3:AA1329)","v":{"$error":"#VALUE!"}},null,null,null,{"$f":"((AA1329*#REF!)+(#REF!*#REF!)+(#REF!*#REF!))/(#REF!+#REF!+#REF!)","v":{"$error":"#VALUE!"}},{"$f":"((AA1329*#REF!)+(#REF!*#REF!)+(#REF!*#REF!))/(#REF!+#REF!+#REF!)","v":{"$error":"#VALUE!"}},{"$f":"((AA1329*#REF!)+(#REF!*#REF!)+(#REF!*#REF!))/(#REF!+#REF!+#REF!)","v":{"$error":"#VALUE!"}},{"$f":"((AA1329*#REF!)+(#REF!*#REF!)+(#REF!*#REF!))/(#REF!+#REF!+#REF!)","v":{"$error":"#VALUE!"}},{"$f":"((AA1329*#REF!)+(#REF!*#REF!)+(#REF!*#REF!))/(#REF!+#REF!+#REF!)","v":{"$error":"#VALUE!"}},{"$f":"((AA1329*#REF!)+(#REF!*#REF!)+(#REF!*#REF!))/(#REF!+#REF!+#REF!)","v":{"$error":"#VALUE!"}},{"$f":"((AA1329*#REF!)+(#REF!*#REF!)+(#REF!*#REF!))/(#REF!+#REF!+#REF!)","v":{"$error":"#VALUE!"}}]
[null,null,null,null,null,null,null,null,null,null,null,null,null,null,null,null,null,null,null,null,null,1328,{"$error":"#VALUE!"},{"$f":"AVERAGE($W$3:W1330)","v":{"$error":"#VALUE!"}},null,{"$error":"#VALUE!"},{"$error":"#VALUE!"},{"$f":"AVERAGE($AA$3:AA1330)","v":{"$error":"#VALUE!"}},null,null,null,{"$f":"((AA1330*#REF!)+(#REF!*#REF!)+(#REF!*#REF!))/(#REF!+#REF!+#REF!)","v":{"$error":"#VALUE!"}},{"$f":"((AA1330*#REF!)+(#REF!*#REF!)+(#REF!*#REF!))/(#REF!+#REF!+#REF!)","v":{"$error":"#VALUE!"}},{"$f":"((AA1330*#REF!)+(#REF!*#REF!)+(#REF!*#REF!))/(#REF!+#REF!+#REF!)","v":{"$error":"#VALUE!"}},{"$f":"((AA1330*#REF!)+(#REF!*#REF!)+(#REF!*#REF!))/(#REF!+#REF!+#REF!)","v":{"$error":"#VALUE!"}},{"$f":"((AA1330*#REF!)+(#REF!*#REF!)+(#REF!*#REF!))/(#REF!+#REF!+#REF!)","v":{"$error":"#VALUE!"}},{"$f":"((AA1330*#REF!)+(#REF!*#REF!)+(#REF!*#REF!))/(#REF!+#REF!+#REF!)","v":{"$error":"#VALUE!"}},{"$f":"((AA1330*#REF!)+(#REF!*#REF!)+(#REF!*#REF!))/(#REF!+#REF!+#REF!)","v":{"$error":"#VALUE!"}}]
[null,null,null,null,null,null,null,null,null,null,null,null,null,null,null,null,null,null,null,null,null,1329,{"$error":"#VALUE!"},{"$f":"AVERAGE($W$3:W1331)","v":{"$error":"#VALUE!"}},null,{"$error":"#VALUE!"},{"$error":"#VALUE!"},{"$f":"AVERAGE($AA$3:AA1331)","v":{"$error":"#VALUE!"}},null,null,null,{"$f":"((AA1331*#REF!)+(#REF!*#REF!)+(#REF!*#REF!))/(#REF!+#REF!+#REF!)","v":{"$error":"#VALUE!"}},{"$f":"((AA1331*#REF!)+(#REF!*#REF!)+(#REF!*#REF!))/(#REF!+#REF!+#REF!)","v":{"$error":"#VALUE!"}},{"$f":"((AA1331*#REF!)+(#REF!*#REF!)+(#REF!*#REF!))/(#REF!+#REF!+#REF!)","v":{"$error":"#VALUE!"}},{"$f":"((AA1331*#REF!)+(#REF!*#REF!)+(#REF!*#REF!))/(#REF!+#REF!+#REF!)","v":{"$error":"#VALUE!"}},{"$f":"((AA1331*#REF!)+(#REF!*#REF!)+(#REF!*#REF!))/(#REF!+#REF!+#REF!)","v":{"$error":"#VALUE!"}},{"$f":"((AA1331*#REF!)+(#REF!*#REF!)+(#REF!*#REF!))/(#REF!+#REF!+#REF!)","v":{"$error":"#VALUE!"}},{"$f":"((AA1331*#REF!)+(#REF!*#REF!)+(#REF!*#REF!))/(#REF!+#REF!+#REF!)","v":{"$error":"#VALUE!"}}]
[null,null,null,null,null,null,null,null,null,null,null,null,null,null,null,null,null,null,null,null,null,1330,{"$error":"#VALUE!"},{"$f":"AVERAGE($W$3:W1332)","v":{"$error":"#VALUE!"}},null,{"$error":"#VALUE!"},{"$error":"#VALUE!"},{"$f":"AVERAGE($AA$3:AA1332)","v":{"$error":"#VALUE!"}},null,null,null,{"$f":"((AA1332*#REF!)+(#REF!*#REF!)+(#REF!*#REF!))/(#REF!+#REF!+#REF!)","v":{"$error":"#VALUE!"}},{"$f":"((AA1332*#REF!)+(#REF!*#REF!)+(#REF!*#REF!))/(#REF!+#REF!+#REF!)","v":{"$error":"#VALUE!"}},{"$f":"((AA1332*#REF!)+(#REF!*#REF!)+(#REF!*#REF!))/(#REF!+#REF!+#REF!)","v":{"$error":"#VALUE!"}},{"$f":"((AA1332*#REF!)+(#REF!*#REF!)+(#REF!*#REF!))/(#REF!+#REF!+#REF!)","v":{"$error":"#VALUE!"}},{"$f":"((AA1332*#REF!)+(#REF!*#REF!)+(#REF!*#REF!))/(#REF!+#REF!+#REF!)","v":{"$error":"#VALUE!"}},{"$f":"((AA1332*#REF!)+(#REF!*#REF!)+(#REF!*#REF!))/(#REF!+#REF!+#REF!)","v":{"$error":"#VALUE!"}},{"$f":"((AA1332*#REF!)+(#REF!*#REF!)+(#REF!*#REF!))/(#REF!+#REF!+#REF!)","v":{"$error":"#VALUE!"}}]
[null,null,null,null,null,null,null,null,null,null,null,null,null,null,null,null,null,null,null,null,null,1331,{"$error":"#VALUE!"},{"$f":"AVERAGE($W$3:W1333)","v":{"$error":"#VALUE!"}},null,{"$error":"#VALUE!"},{"$error":"#VALUE!"},{"$f":"AVERAGE($AA$3:AA1333)","v":{"$error":"#VALUE!"}},null,null,null,{"$f":"((AA1333*#REF!)+(#REF!*#REF!)+(#REF!*#REF!))/(#REF!+#REF!+#REF!)","v":{"$error":"#VALUE!"}},{"$f":"((AA1333*#REF!)+(#REF!*#REF!)+(#REF!*#REF!))/(#REF!+#REF!+#REF!)","v":{"$error":"#VALUE!"}},{"$f":"((AA1333*#REF!)+(#REF!*#REF!)+(#REF!*#REF!))/(#REF!+#REF!+#REF!)","v":{"$error":"#VALUE!"}},{"$f":"((AA1333*#REF!)+(#REF!*#REF!)+(#REF!*#REF!))/(#REF!+#REF!+#REF!)","v":{"$error":"#VALUE!"}},{"$f":"((AA1333*#REF!)+(#REF!*#REF!)+(#REF!*#REF!))/(#REF!+#REF!+#REF!)","v":{"$error":"#VALUE!"}},{"$f":"((AA1333*#REF!)+(#REF!*#REF!)+(#REF!*#REF!))/(#REF!+#REF!+#REF!)","v":{"$error":"#VALUE!"}},{"$f":"((AA1333*#REF!)+(#REF!*#REF!)+(#REF!*#REF!))/(#REF!+#REF!+#REF!)","v":{"$error":"#VALUE!"}}]
[null,null,null,null,null,null,null,null,null,null,null,null,null,null,null,null,null,null,null,null,null,1332,{"$error":"#VALUE!"},{"$f":"AVERAGE($W$3:W1334)","v":{"$error":"#VALUE!"}},null,{"$error":"#VALUE!"},{"$error":"#VALUE!"},{"$f":"AVERAGE($AA$3:AA1334)","v":{"$error":"#VALUE!"}},null,null,null,{"$f":"((AA1334*#REF!)+(#REF!*#REF!)+(#REF!*#REF!))/(#REF!+#REF!+#REF!)","v":{"$error":"#VALUE!"}},{"$f":"((AA1334*#REF!)+(#REF!*#REF!)+(#REF!*#REF!))/(#REF!+#REF!+#REF!)","v":{"$error":"#VALUE!"}},{"$f":"((AA1334*#REF!)+(#REF!*#REF!)+(#REF!*#REF!))/(#REF!+#REF!+#REF!)","v":{"$error":"#VALUE!"}},{"$f":"((AA1334*#REF!)+(#REF!*#REF!)+(#REF!*#REF!))/(#REF!+#REF!+#REF!)","v":{"$error":"#VALUE!"}},{"$f":"((AA1334*#REF!)+(#REF!*#REF!)+(#REF!*#REF!))/(#REF!+#REF!+#REF!)","v":{"$error":"#VALUE!"}},{"$f":"((AA1334*#REF!)+(#REF!*#REF!)+(#REF!*#REF!))/(#REF!+#REF!+#REF!)","v":{"$error":"#VALUE!"}},{"$f":"((AA1334*#REF!)+(#REF!*#REF!)+(#REF!*#REF!))/(#REF!+#REF!+#REF!)","v":{"$error":"#VALUE!"}}]
[null,null,null,null,null,null,null,null,null,null,null,null,null,null,null,null,null,null,null,null,null,1333,{"$error":"#VALUE!"},{"$f":"AVERAGE($W$3:W1335)","v":{"$error":"#VALUE!"}},null,{"$error":"#VALUE!"},{"$error":"#VALUE!"},{"$f":"AVERAGE($AA$3:AA1335)","v":{"$error":"#VALUE!"}},null,null,null,{"$f":"((AA1335*#REF!)+(#REF!*#REF!)+(#REF!*#REF!))/(#REF!+#REF!+#REF!)","v":{"$error":"#VALUE!"}},{"$f":"((AA1335*#REF!)+(#REF!*#REF!)+(#REF!*#REF!))/(#REF!+#REF!+#REF!)","v":{"$error":"#VALUE!"}},{"$f":"((AA1335*#REF!)+(#REF!*#REF!)+(#REF!*#REF!))/(#REF!+#REF!+#REF!)","v":{"$error":"#VALUE!"}},{"$f":"((AA1335*#REF!)+(#REF!*#REF!)+(#REF!*#REF!))/(#REF!+#REF!+#REF!)","v":{"$error":"#VALUE!"}},{"$f":"((AA1335*#REF!)+(#REF!*#REF!)+(#REF!*#REF!))/(#REF!+#REF!+#REF!)","v":{"$error":"#VALUE!"}},{"$f":"((AA1335*#REF!)+(#REF!*#REF!)+(#REF!*#REF!))/(#REF!+#REF!+#REF!)","v":{"$error":"#VALUE!"}},{"$f":"((AA1335*#REF!)+(#REF!*#REF!)+(#REF!*#REF!))/(#REF!+#REF!+#REF!)","v":{"$error":"#VALUE!"}}]
[null,null,null,null,null,null,null,null,null,null,null,null,null,null,null,null,null,null,null,null,null,1334,{"$error":"#VALUE!"},{"$f":"AVERAGE($W$3:W1336)","v":{"$error":"#VALUE!"}},null,{"$error":"#VALUE!"},{"$error":"#VALUE!"},{"$f":"AVERAGE($AA$3:AA1336)","v":{"$error":"#VALUE!"}},null,null,null,{"$f":"((AA1336*#REF!)+(#REF!*#REF!)+(#REF!*#REF!))/(#REF!+#REF!+#REF!)","v":{"$error":"#VALUE!"}},{"$f":"((AA1336*#REF!)+(#REF!*#REF!)+(#REF!*#REF!))/(#REF!+#REF!+#REF!)","v":{"$error":"#VALUE!"}},{"$f":"((AA1336*#REF!)+(#REF!*#REF!)+(#REF!*#REF!))/(#REF!+#REF!+#REF!)","v":{"$error":"#VALUE!"}},{"$f":"((AA1336*#REF!)+(#REF!*#REF!)+(#REF!*#REF!))/(#REF!+#REF!+#REF!)","v":{"$error":"#VALUE!"}},{"$f":"((AA1336*#REF!)+(#REF!*#REF!)+(#REF!*#REF!))/(#REF!+#REF!+#REF!)","v":{"$error":"#VALUE!"}},{"$f":"((AA1336*#REF!)+(#REF!*#REF!)+(#REF!*#REF!))/(#REF!+#REF!+#REF!)","v":{"$error":"#VALUE!"}},{"$f":"((AA1336*#REF!)+(#REF!*#REF!)+(#REF!*#REF!))/(#REF!+#REF!+#REF!)","v":{"$error":"#VALUE!"}}]
[null,null,null,null,null,null,null,null,null,null,null,null,null,null,null,null,null,null,null,null,null,1335,{"$error":"#VALUE!"},{"$f":"AVERAGE($W$3:W1337)","v":{"$error":"#VALUE!"}},null,{"$error":"#VALUE!"},{"$error":"#VALUE!"},{"$f":"AVERAGE($AA$3:AA1337)","v":{"$error":"#VALUE!"}},null,null,null,{"$f":"((AA1337*#REF!)+(#REF!*#REF!)+(#REF!*#REF!))/(#REF!+#REF!+#REF!)","v":{"$error":"#VALUE!"}},{"$f":"((AA1337*#REF!)+(#REF!*#REF!)+(#REF!*#REF!))/(#REF!+#REF!+#REF!)","v":{"$error":"#VALUE!"}},{"$f":"((AA1337*#REF!)+(#REF!*#REF!)+(#REF!*#REF!))/(#REF!+#REF!+#REF!)","v":{"$error":"#VALUE!"}},{"$f":"((AA1337*#REF!)+(#REF!*#REF!)+(#REF!*#REF!))/(#REF!+#REF!+#REF!)","v":{"$error":"#VALUE!"}},{"$f":"((AA1337*#REF!)+(#REF!*#REF!)+(#REF!*#REF!))/(#REF!+#REF!+#REF!)","v":{"$error":"#VALUE!"}},{"$f":"((AA1337*#REF!)+(#REF!*#REF!)+(#REF!*#REF!))/(#REF!+#REF!+#REF!)","v":{"$error":"#VALUE!"}},{"$f":"((AA1337*#REF!)+(#REF!*#REF!)+(#REF!*#REF!))/(#REF!+#REF!+#REF!)","v":{"$error":"#VALUE!"}}]
[null,null,null,null,null,null,null,null,null,null,null,null,null,null,null,null,null,null,null,null,null,1336,{"$error":"#VALUE!"},{"$f":"AVERAGE($W$3:W1338)","v":{"$error":"#VALUE!"}},null,{"$error":"#VALUE!"},{"$error":"#VALUE!"},{"$f":"AVERAGE($AA$3:AA1338)","v":{"$error":"#VALUE!"}},null,null,null,{"$f":"((AA1338*#REF!)+(#REF!*#REF!)+(#REF!*#REF!))/(#REF!+#REF!+#REF!)","v":{"$error":"#VALUE!"}},{"$f":"((AA1338*#REF!)+(#REF!*#REF!)+(#REF!*#REF!))/(#REF!+#REF!+#REF!)","v":{"$error":"#VALUE!"}},{"$f":"((AA1338*#REF!)+(#REF!*#REF!)+(#REF!*#REF!))/(#REF!+#REF!+#REF!)","v":{"$error":"#VALUE!"}},{"$f":"((AA1338*#REF!)+(#REF!*#REF!)+(#REF!*#REF!))/(#REF!+#REF!+#REF!)","v":{"$error":"#VALUE!"}},{"$f":"((AA1338*#REF!)+(#REF!*#REF!)+(#REF!*#REF!))/(#REF!+#REF!+#REF!)","v":{"$error":"#VALUE!"}},{"$f":"((AA1338*#REF!)+(#REF!*#REF!)+(#REF!*#REF!))/(#REF!+#REF!+#REF!)","v":{"$error":"#VALUE!"}},{"$f":"((AA1338*#REF!)+(#REF!*#REF!)+(#REF!*#REF!))/(#REF!+#REF!+#REF!)","v":{"$error":"#VALUE!"}}]
[null,null,null,null,null,null,null,null,null,null,null,null,null,null,null,null,null,null,null,null,null,1337,{"$error":"#VALUE!"},{"$f":"AVERAGE($W$3:W1339)","v":{"$error":"#VALUE!"}},null,{"$error":"#VALUE!"},{"$error":"#VALUE!"},{"$f":"AVERAGE($AA$3:AA1339)","v":{"$error":"#VALUE!"}},null,null,null,{"$f":"((AA1339*#REF!)+(#REF!*#REF!)+(#REF!*#REF!))/(#REF!+#REF!+#REF!)","v":{"$error":"#VALUE!"}},{"$f":"((AA1339*#REF!)+(#REF!*#REF!)+(#REF!*#REF!))/(#REF!+#REF!+#REF!)","v":{"$error":"#VALUE!"}},{"$f":"((AA1339*#REF!)+(#REF!*#REF!)+(#REF!*#REF!))/(#REF!+#REF!+#REF!)","v":{"$error":"#VALUE!"}},{"$f":"((AA1339*#REF!)+(#REF!*#REF!)+(#REF!*#REF!))/(#REF!+#REF!+#REF!)","v":{"$error":"#VALUE!"}},{"$f":"((AA1339*#REF!)+(#REF!*#REF!)+(#REF!*#REF!))/(#REF!+#REF!+#REF!)","v":{"$error":"#VALUE!"}},{"$f":"((AA1339*#REF!)+(#REF!*#REF!)+(#REF!*#REF!))/(#REF!+#REF!+#REF!)","v":{"$error":"#VALUE!"}},{"$f":"((AA1339*#REF!)+(#REF!*#REF!)+(#REF!*#REF!))/(#REF!+#REF!+#REF!)","v":{"$error":"#VALUE!"}}]
[null,null,null,null,null,null,null,null,null,null,null,null,null,null,null,null,null,null,null,null,null,1338,{"$error":"#VALUE!"},{"$f":"AVERAGE($W$3:W1340)","v":{"$error":"#VALUE!"}},null,{"$error":"#VALUE!"},{"$error":"#VALUE!"},{"$f":"AVERAGE($AA$3:AA1340)","v":{"$error":"#VALUE!"}},null,null,null,{"$f":"((AA1340*#REF!)+(#REF!*#REF!)+(#REF!*#REF!))/(#REF!+#REF!+#REF!)","v":{"$error":"#VALUE!"}},{"$f":"((AA1340*#REF!)+(#REF!*#REF!)+(#REF!*#REF!))/(#REF!+#REF!+#REF!)","v":{"$error":"#VALUE!"}},{"$f":"((AA1340*#REF!)+(#REF!*#REF!)+(#REF!*#REF!))/(#REF!+#REF!+#REF!)","v":{"$error":"#VALUE!"}},{"$f":"((AA1340*#REF!)+(#REF!*#REF!)+(#REF!*#REF!))/(#REF!+#REF!+#REF!)","v":{"$error":"#VALUE!"}},{"$f":"((AA1340*#REF!)+(#REF!*#REF!)+(#REF!*#REF!))/(#REF!+#REF!+#REF!)","v":{"$error":"#VALUE!"}},{"$f":"((AA1340*#REF!)+(#REF!*#REF!)+(#REF!*#REF!))/(#REF!+#REF!+#REF!)","v":{"$error":"#VALUE!"}},{"$f":"((AA1340*#REF!)+(#REF!*#REF!)+(#REF!*#REF!))/(#REF!+#REF!+#REF!)","v":{"$error":"#VALUE!"}}]
[null,null,null,null,null,null,null,null,null,null,null,null,null,null,null,null,null,null,null,null,null,1339,{"$error":"#VALUE!"},{"$f":"AVERAGE($W$3:W1341)","v":{"$error":"#VALUE!"}},null,{"$error":"#VALUE!"},{"$error":"#VALUE!"},{"$f":"AVERAGE($AA$3:AA1341)","v":{"$error":"#VALUE!"}},null,null,null,{"$f":"((AA1341*#REF!)+(#REF!*#REF!)+(#REF!*#REF!))/(#REF!+#REF!+#REF!)","v":{"$error":"#VALUE!"}},{"$f":"((AA1341*#REF!)+(#REF!*#REF!)+(#REF!*#REF!))/(#REF!+#REF!+#REF!)","v":{"$error":"#VALUE!"}},{"$f":"((AA1341*#REF!)+(#REF!*#REF!)+(#REF!*#REF!))/(#REF!+#REF!+#REF!)","v":{"$error":"#VALUE!"}},{"$f":"((AA1341*#REF!)+(#REF!*#REF!)+(#REF!*#REF!))/(#REF!+#REF!+#REF!)","v":{"$error":"#VALUE!"}},{"$f":"((AA1341*#REF!)+(#REF!*#REF!)+(#REF!*#REF!))/(#REF!+#REF!+#REF!)","v":{"$error":"#VALUE!"}},{"$f":"((AA1341*#REF!)+(#REF!*#REF!)+(#REF!*#REF!))/(#REF!+#REF!+#REF!)","v":{"$error":"#VALUE!"}},{"$f":"((AA1341*#REF!)+(#REF!*#REF!)+(#REF!*#REF!))/(#REF!+#REF!+#REF!)","v":{"$error":"#VALUE!"}}]
[null,null,null,null,null,null,null,null,null,null,null,null,null,null,null,null,null,null,null,null,null,1340,{"$f":"IF(($M$7*LN(V1342))+$M$8+$M$10>0,($M$7*LN(V1342))+$M$8+$M$10,0)","v":{"$error":"#VALUE!"}},{"$f":"AVERAGE($W$3:W1342)","v":{"$error":"#VALUE!"}},null,{"$error":"#VALUE!"},{"$error":"#VALUE!"},{"$f":"AVERAGE($AA$3:AA1342)","v":{"$error":"#VALUE!"}},null,null,null,{"$f":"((AA1342*#REF!)+(#REF!*#REF!)+(#REF!*#REF!))/(#REF!+#REF!+#REF!)","v":{"$error":"#VALUE!"}},{"$f":"((AA1342*#REF!)+(#REF!*#REF!)+(#REF!*#REF!))/(#REF!+#REF!+#REF!)","v":{"$error":"#VALUE!"}},{"$f":"((AA1342*#REF!)+(#REF!*#REF!)+(#REF!*#REF!))/(#REF!+#REF!+#REF!)","v":{"$error":"#VALUE!"}},{"$f":"((AA1342*#REF!)+(#REF!*#REF!)+(#REF!*#REF!))/(#REF!+#REF!+#REF!)","v":{"$error":"#VALUE!"}},{"$f":"((AA1342*#REF!)+(#REF!*#REF!)+(#REF!*#REF!))/(#REF!+#REF!+#REF!)","v":{"$error":"#VALUE!"}},{"$f":"((AA1342*#REF!)+(#REF!*#REF!)+(#REF!*#REF!))/(#REF!+#REF!+#REF!)","v":{"$error":"#VALUE!"}},{"$f":"((AA1342*#REF!)+(#REF!*#REF!)+(#REF!*#REF!))/(#REF!+#REF!+#REF!)","v":{"$error":"#VALUE!"}}]
[null,null,null,null,null,null,null,null,null,null,null,null,null,null,null,null,null,null,null,null,null,1341,{"$error":"#VALUE!"},{"$f":"AVERAGE($W$3:W1343)","v":{"$error":"#VALUE!"}},null,{"$error":"#VALUE!"},{"$error":"#VALUE!"},{"$f":"AVERAGE($AA$3:AA1343)","v":{"$error":"#VALUE!"}},null,null,null,{"$f":"((AA1343*#REF!)+(#REF!*#REF!)+(#REF!*#REF!))/(#REF!+#REF!+#REF!)","v":{"$error":"#VALUE!"}},{"$f":"((AA1343*#REF!)+(#REF!*#REF!)+(#REF!*#REF!))/(#REF!+#REF!+#REF!)","v":{"$error":"#VALUE!"}},{"$f":"((AA1343*#REF!)+(#REF!*#REF!)+(#REF!*#REF!))/(#REF!+#REF!+#REF!)","v":{"$error":"#VALUE!"}},{"$f":"((AA1343*#REF!)+(#REF!*#REF!)+(#REF!*#REF!))/(#REF!+#REF!+#REF!)","v":{"$error":"#VALUE!"}},{"$f":"((AA1343*#REF!)+(#REF!*#REF!)+(#REF!*#REF!))/(#REF!+#REF!+#REF!)","v":{"$error":"#VALUE!"}},{"$f":"((AA1343*#REF!)+(#REF!*#REF!)+(#REF!*#REF!))/(#REF!+#REF!+#REF!)","v":{"$error":"#VALUE!"}},{"$f":"((AA1343*#REF!)+(#REF!*#REF!)+(#REF!*#REF!))/(#REF!+#REF!+#REF!)","v":{"$error":"#VALUE!"}}]
[null,null,null,null,null,null,null,null,null,null,null,null,null,null,null,null,null,null,null,null,null,1342,{"$error":"#VALUE!"},{"$f":"AVERAGE($W$3:W1344)","v":{"$error":"#VALUE!"}},null,{"$error":"#VALUE!"},{"$error":"#VALUE!"},{"$f":"AVERAGE($AA$3:AA1344)","v":{"$error":"#VALUE!"}},null,null,null,{"$f":"((AA1344*#REF!)+(#REF!*#REF!)+(#REF!*#REF!))/(#REF!+#REF!+#REF!)","v":{"$error":"#VALUE!"}},{"$f":"((AA1344*#REF!)+(#REF!*#REF!)+(#REF!*#REF!))/(#REF!+#REF!+#REF!)","v":{"$error":"#VALUE!"}},{"$f":"((AA1344*#REF!)+(#REF!*#REF!)+(#REF!*#REF!))/(#REF!+#REF!+#REF!)","v":{"$error":"#VALUE!"}},{"$f":"((AA1344*#REF!)+(#REF!*#REF!)+(#REF!*#REF!))/(#REF!+#REF!+#REF!)","v":{"$error":"#VALUE!"}},{"$f":"((AA1344*#REF!)+(#REF!*#REF!)+(#REF!*#REF!))/(#REF!+#REF!+#REF!)","v":{"$error":"#VALUE!"}},{"$f":"((AA1344*#REF!)+(#REF!*#REF!)+(#REF!*#REF!))/(#REF!+#REF!+#REF!)","v":{"$error":"#VALUE!"}},{"$f":"((AA1344*#REF!)+(#REF!*#REF!)+(#REF!*#REF!))/(#REF!+#REF!+#REF!)","v":{"$error":"#VALUE!"}}]
[null,null,null,null,null,null,null,null,null,null,null,null,null,null,null,null,null,null,null,null,null,1343,{"$error":"#VALUE!"},{"$f":"AVERAGE($W$3:W1345)","v":{"$error":"#VALUE!"}},null,{"$error":"#VALUE!"},{"$error":"#VALUE!"},{"$f":"AVERAGE($AA$3:AA1345)","v":{"$error":"#VALUE!"}},null,null,null,{"$f":"((AA1345*#REF!)+(#REF!*#REF!)+(#REF!*#REF!))/(#REF!+#REF!+#REF!)","v":{"$error":"#VALUE!"}},{"$f":"((AA1345*#REF!)+(#REF!*#REF!)+(#REF!*#REF!))/(#REF!+#REF!+#REF!)","v":{"$error":"#VALUE!"}},{"$f":"((AA1345*#REF!)+(#REF!*#REF!)+(#REF!*#REF!))/(#REF!+#REF!+#REF!)","v":{"$error":"#VALUE!"}},{"$f":"((AA1345*#REF!)+(#REF!*#REF!)+(#REF!*#REF!))/(#REF!+#REF!+#REF!)","v":{"$error":"#VALUE!"}},{"$f":"((AA1345*#REF!)+(#REF!*#REF!)+(#REF!*#REF!))/(#REF!+#REF!+#REF!)","v":{"$error":"#VALUE!"}},{"$f":"((AA1345*#REF!)+(#REF!*#REF!)+(#REF!*#REF!))/(#REF!+#REF!+#REF!)","v":{"$error":"#VALUE!"}},{"$f":"((AA1345*#REF!)+(#REF!*#REF!)+(#REF!*#REF!))/(#REF!+#REF!+#REF!)","v":{"$error":"#VALUE!"}}]
[null,null,null,null,null,null,null,null,null,null,null,null,null,null,null,null,null,null,null,null,null,1344,{"$error":"#VALUE!"},{"$f":"AVERAGE($W$3:W1346)","v":{"$error":"#VALUE!"}},null,{"$error":"#VALUE!"},{"$error":"#VALUE!"},{"$f":"AVERAGE($AA$3:AA1346)","v":{"$error":"#VALUE!"}},null,null,null,{"$f":"((AA1346*#REF!)+(#REF!*#REF!)+(#REF!*#REF!))/(#REF!+#REF!+#REF!)","v":{"$error":"#VALUE!"}},{"$f":"((AA1346*#REF!)+(#REF!*#REF!)+(#REF!*#REF!))/(#REF!+#REF!+#REF!)","v":{"$error":"#VALUE!"}},{"$f":"((AA1346*#REF!)+(#REF!*#REF!)+(#REF!*#REF!))/(#REF!+#REF!+#REF!)","v":{"$error":"#VALUE!"}},{"$f":"((AA1346*#REF!)+(#REF!*#REF!)+(#REF!*#REF!))/(#REF!+#REF!+#REF!)","v":{"$error":"#VALUE!"}},{"$f":"((AA1346*#REF!)+(#REF!*#REF!)+(#REF!*#REF!))/(#REF!+#REF!+#REF!)","v":{"$error":"#VALUE!"}},{"$f":"((AA1346*#REF!)+(#REF!*#REF!)+(#REF!*#REF!))/(#REF!+#REF!+#REF!)","v":{"$error":"#VALUE!"}},{"$f":"((AA1346*#REF!)+(#REF!*#REF!)+(#REF!*#REF!))/(#REF!+#REF!+#REF!)","v":{"$error":"#VALUE!"}}]
[null,null,null,null,null,null,null,null,null,null,null,null,null,null,null,null,null,null,null,null,null,1345,{"$error":"#VALUE!"},{"$f":"AVERAGE($W$3:W1347)","v":{"$error":"#VALUE!"}},null,{"$error":"#VALUE!"},{"$error":"#VALUE!"},{"$f":"AVERAGE($AA$3:AA1347)","v":{"$error":"#VALUE!"}},null,null,null,{"$f":"((AA1347*#REF!)+(#REF!*#REF!)+(#REF!*#REF!))/(#REF!+#REF!+#REF!)","v":{"$error":"#VALUE!"}},{"$f":"((AA1347*#REF!)+(#REF!*#REF!)+(#REF!*#REF!))/(#REF!+#REF!+#REF!)","v":{"$error":"#VALUE!"}},{"$f":"((AA1347*#REF!)+(#REF!*#REF!)+(#REF!*#REF!))/(#REF!+#REF!+#REF!)","v":{"$error":"#VALUE!"}},{"$f":"((AA1347*#REF!)+(#REF!*#REF!)+(#REF!*#REF!))/(#REF!+#REF!+#REF!)","v":{"$error":"#VALUE!"}},{"$f":"((AA1347*#REF!)+(#REF!*#REF!)+(#REF!*#REF!))/(#REF!+#REF!+#REF!)","v":{"$error":"#VALUE!"}},{"$f":"((AA1347*#REF!)+(#REF!*#REF!)+(#REF!*#REF!))/(#REF!+#REF!+#REF!)","v":{"$error":"#VALUE!"}},{"$f":"((AA1347*#REF!)+(#REF!*#REF!)+(#REF!*#REF!))/(#REF!+#REF!+#REF!)","v":{"$error":"#VALUE!"}}]
[null,null,null,null,null,null,null,null,null,null,null,null,null,null,null,null,null,null,null,null,null,1346,{"$error":"#VALUE!"},{"$f":"AVERAGE($W$3:W1348)","v":{"$error":"#VALUE!"}},null,{"$f":"$M$2+W1348","v":{"$error":"#VALUE!"}},{"$f":"(Z1348*(9/5))+32","v":{"$error":"#VALUE!"}},{"$f":"AVERAGE($AA$3:AA1348)","v":{"$error":"#VALUE!"}},null,null,null,{"$f":"((AA1348*#REF!)+(#REF!*#REF!)+(#REF!*#REF!))/(#REF!+#REF!+#REF!)","v":{"$error":"#VALUE!"}},{"$f":"((AA1348*#REF!)+(#REF!*#REF!)+(#REF!*#REF!))/(#REF!+#REF!+#REF!)","v":{"$error":"#VALUE!"}},{"$f":"((AA1348*#REF!)+(#REF!*#REF!)+(#REF!*#REF!))/(#REF!+#REF!+#REF!)","v":{"$error":"#VALUE!"}},{"$f":"((AA1348*#REF!)+(#REF!*#REF!)+(#REF!*#REF!))/(#REF!+#REF!+#REF!)","v":{"$error":"#VALUE!"}},{"$f":"((AA1348*#REF!)+(#REF!*#REF!)+(#REF!*#REF!))/(#REF!+#REF!+#REF!)","v":{"$error":"#VALUE!"}},{"$f":"((AA1348*#REF!)+(#REF!*#REF!)+(#REF!*#REF!))/(#REF!+#REF!+#REF!)","v":{"$error":"#VALUE!"}},{"$f":"((AA1348*#REF!)+(#REF!*#REF!)+(#REF!*#REF!))/(#REF!+#REF!+#REF!)","v":{"$error":"#VALUE!"}}]
[null,null,null,null,null,null,null,null,null,null,null,null,null,null,null,null,null,null,null,null,null,1347,{"$error":"#VALUE!"},{"$f":"AVERAGE($W$3:W1349)","v":{"$error":"#VALUE!"}},null,{"$error":"#VALUE!"},{"$error":"#VALUE!"},{"$f":"AVERAGE($AA$3:AA1349)","v":{"$error":"#VALUE!"}},null,null,null,{"$f":"((AA1349*#REF!)+(#REF!*#REF!)+(#REF!*#REF!))/(#REF!+#REF!+#REF!)","v":{"$error":"#VALUE!"}},{"$f":"((AA1349*#REF!)+(#REF!*#REF!)+(#REF!*#REF!))/(#REF!+#REF!+#REF!)","v":{"$error":"#VALUE!"}},{"$f":"((AA1349*#REF!)+(#REF!*#REF!)+(#REF!*#REF!))/(#REF!+#REF!+#REF!)","v":{"$error":"#VALUE!"}},{"$f":"((AA1349*#REF!)+(#REF!*#REF!)+(#REF!*#REF!))/(#REF!+#REF!+#REF!)","v":{"$error":"#VALUE!"}},{"$f":"((AA1349*#REF!)+(#REF!*#REF!)+(#REF!*#REF!))/(#REF!+#REF!+#REF!)","v":{"$error":"#VALUE!"}},{"$f":"((AA1349*#REF!)+(#REF!*#REF!)+(#REF!*#REF!))/(#REF!+#REF!+#REF!)","v":{"$error":"#VALUE!"}},{"$f":"((AA1349*#REF!)+(#REF!*#REF!)+(#REF!*#REF!))/(#REF!+#REF!+#REF!)","v":{"$error":"#VALUE!"}}]
[null,null,null,null,null,null,null,null,null,null,null,null,null,null,null,null,null,null,null,null,null,1348,{"$error":"#VALUE!"},{"$f":"AVERAGE($W$3:W1350)","v":{"$error":"#VALUE!"}},null,{"$error":"#VALUE!"},{"$error":"#VALUE!"},{"$f":"AVERAGE($AA$3:AA1350)","v":{"$error":"#VALUE!"}},null,null,null,{"$f":"((AA1350*#REF!)+(#REF!*#REF!)+(#REF!*#REF!))/(#REF!+#REF!+#REF!)","v":{"$error":"#VALUE!"}},{"$f":"((AA1350*#REF!)+(#REF!*#REF!)+(#REF!*#REF!))/(#REF!+#REF!+#REF!)","v":{"$error":"#VALUE!"}},{"$f":"((AA1350*#REF!)+(#REF!*#REF!)+(#REF!*#REF!))/(#REF!+#REF!+#REF!)","v":{"$error":"#VALUE!"}},{"$f":"((AA1350*#REF!)+(#REF!*#REF!)+(#REF!*#REF!))/(#REF!+#REF!+#REF!)","v":{"$error":"#VALUE!"}},{"$f":"((AA1350*#REF!)+(#REF!*#REF!)+(#REF!*#REF!))/(#REF!+#REF!+#REF!)","v":{"$error":"#VALUE!"}},{"$f":"((AA1350*#REF!)+(#REF!*#REF!)+(#REF!*#REF!))/(#REF!+#REF!+#REF!)","v":{"$error":"#VALUE!"}},{"$f":"((AA1350*#REF!)+(#REF!*#REF!)+(#REF!*#REF!))/(#REF!+#REF!+#REF!)","v":{"$error":"#VALUE!"}}]
[null,null,null,null,null,null,null,null,null,null,null,null,null,null,null,null,null,null,null,null,null,1349,{"$error":"#VALUE!"},{"$f":"AVERAGE($W$3:W1351)","v":{"$error":"#VALUE!"}},null,{"$error":"#VALUE!"},{"$error":"#VALUE!"},{"$f":"AVERAGE($AA$3:AA1351)","v":{"$error":"#VALUE!"}},null,null,null,{"$f":"((AA1351*#REF!)+(#REF!*#REF!)+(#REF!*#REF!))/(#REF!+#REF!+#REF!)","v":{"$error":"#VALUE!"}},{"$f":"((AA1351*#REF!)+(#REF!*#REF!)+(#REF!*#REF!))/(#REF!+#REF!+#REF!)","v":{"$error":"#VALUE!"}},{"$f":"((AA1351*#REF!)+(#REF!*#REF!)+(#REF!*#REF!))/(#REF!+#REF!+#REF!)","v":{"$error":"#VALUE!"}},{"$f":"((AA1351*#REF!)+(#REF!*#REF!)+(#REF!*#REF!))/(#REF!+#REF!+#REF!)","v":{"$error":"#VALUE!"}},{"$f":"((AA1351*#REF!)+(#REF!*#REF!)+(#REF!*#REF!))/(#REF!+#REF!+#REF!)","v":{"$error":"#VALUE!"}},{"$f":"((AA1351*#REF!)+(#REF!*#REF!)+(#REF!*#REF!))/(#REF!+#REF!+#REF!)","v":{"$error":"#VALUE!"}},{"$f":"((AA1351*#REF!)+(#REF!*#REF!)+(#REF!*#REF!))/(#REF!+#REF!+#REF!)","v":{"$error":"#VALUE!"}}]
[null,null,null,null,null,null,null,null,null,null,null,null,null,null,null,null,null,null,null,null,null,1350,{"$error":"#VALUE!"},{"$f":"AVERAGE($W$3:W1352)","v":{"$error":"#VALUE!"}},null,{"$error":"#VALUE!"},{"$error":"#VALUE!"},{"$f":"AVERAGE($AA$3:AA1352)","v":{"$error":"#VALUE!"}},null,null,null,{"$f":"((AA1352*#REF!)+(#REF!*#REF!)+(#REF!*#REF!))/(#REF!+#REF!+#REF!)","v":{"$error":"#VALUE!"}},{"$f":"((AA1352*#REF!)+(#REF!*#REF!)+(#REF!*#REF!))/(#REF!+#REF!+#REF!)","v":{"$error":"#VALUE!"}},{"$f":"((AA1352*#REF!)+(#REF!*#REF!)+(#REF!*#REF!))/(#REF!+#REF!+#REF!)","v":{"$error":"#VALUE!"}},{"$f":"((AA1352*#REF!)+(#REF!*#REF!)+(#REF!*#REF!))/(#REF!+#REF!+#REF!)","v":{"$error":"#VALUE!"}},{"$f":"((AA1352*#REF!)+(#REF!*#REF!)+(#REF!*#REF!))/(#REF!+#REF!+#REF!)","v":{"$error":"#VALUE!"}},{"$f":"((AA1352*#REF!)+(#REF!*#REF!)+(#REF!*#REF!))/(#REF!+#REF!+#REF!)","v":{"$error":"#VALUE!"}},{"$f":"((AA1352*#REF!)+(#REF!*#REF!)+(#REF!*#REF!))/(#REF!+#REF!+#REF!)","v":{"$error":"#VALUE!"}}]
[null,null,null,null,null,null,null,null,null,null,null,null,null,null,null,null,null,null,null,null,null,1351,{"$error":"#VALUE!"},{"$f":"AVERAGE($W$3:W1353)","v":{"$error":"#VALUE!"}},null,{"$error":"#VALUE!"},{"$error":"#VALUE!"},{"$f":"AVERAGE($AA$3:AA1353)","v":{"$error":"#VALUE!"}},null,null,null,{"$f":"((AA1353*#REF!)+(#REF!*#REF!)+(#REF!*#REF!))/(#REF!+#REF!+#REF!)","v":{"$error":"#VALUE!"}},{"$f":"((AA1353*#REF!)+(#REF!*#REF!)+(#REF!*#REF!))/(#REF!+#REF!+#REF!)","v":{"$error":"#VALUE!"}},{"$f":"((AA1353*#REF!)+(#REF!*#REF!)+(#REF!*#REF!))/(#REF!+#REF!+#REF!)","v":{"$error":"#VALUE!"}},{"$f":"((AA1353*#REF!)+(#REF!*#REF!)+(#REF!*#REF!))/(#REF!+#REF!+#REF!)","v":{"$error":"#VALUE!"}},{"$f":"((AA1353*#REF!)+(#REF!*#REF!)+(#REF!*#REF!))/(#REF!+#REF!+#REF!)","v":{"$error":"#VALUE!"}},{"$f":"((AA1353*#REF!)+(#REF!*#REF!)+(#REF!*#REF!))/(#REF!+#REF!+#REF!)","v":{"$error":"#VALUE!"}},{"$f":"((AA1353*#REF!)+(#REF!*#REF!)+(#REF!*#REF!))/(#REF!+#REF!+#REF!)","v":{"$error":"#VALUE!"}}]
[null,null,null,null,null,null,null,null,null,null,null,null,null,null,null,null,null,null,null,null,null,1352,{"$error":"#VALUE!"},{"$f":"AVERAGE($W$3:W1354)","v":{"$error":"#VALUE!"}},null,{"$error":"#VALUE!"},{"$error":"#VALUE!"},{"$f":"AVERAGE($AA$3:AA1354)","v":{"$error":"#VALUE!"}},null,null,null,{"$f":"((AA1354*#REF!)+(#REF!*#REF!)+(#REF!*#REF!))/(#REF!+#REF!+#REF!)","v":{"$error":"#VALUE!"}},{"$f":"((AA1354*#REF!)+(#REF!*#REF!)+(#REF!*#REF!))/(#REF!+#REF!+#REF!)","v":{"$error":"#VALUE!"}},{"$f":"((AA1354*#REF!)+(#REF!*#REF!)+(#REF!*#REF!))/(#REF!+#REF!+#REF!)","v":{"$error":"#VALUE!"}},{"$f":"((AA1354*#REF!)+(#REF!*#REF!)+(#REF!*#REF!))/(#REF!+#REF!+#REF!)","v":{"$error":"#VALUE!"}},{"$f":"((AA1354*#REF!)+(#REF!*#REF!)+(#REF!*#REF!))/(#REF!+#REF!+#REF!)","v":{"$error":"#VALUE!"}},{"$f":"((AA1354*#REF!)+(#REF!*#REF!)+(#REF!*#REF!))/(#REF!+#REF!+#REF!)","v":{"$error":"#VALUE!"}},{"$f":"((AA1354*#REF!)+(#REF!*#REF!)+(#REF!*#REF!))/(#REF!+#REF!+#REF!)","v":{"$error":"#VALUE!"}}]
[null,null,null,null,null,null,null,null,null,null,null,null,null,null,null,null,null,null,null,null,null,1353,{"$error":"#VALUE!"},{"$f":"AVERAGE($W$3:W1355)","v":{"$error":"#VALUE!"}},null,{"$error":"#VALUE!"},{"$error":"#VALUE!"},{"$f":"AVERAGE($AA$3:AA1355)","v":{"$error":"#VALUE!"}},null,null,null,{"$f":"((AA1355*#REF!)+(#REF!*#REF!)+(#REF!*#REF!))/(#REF!+#REF!+#REF!)","v":{"$error":"#VALUE!"}},{"$f":"((AA1355*#REF!)+(#REF!*#REF!)+(#REF!*#REF!))/(#REF!+#REF!+#REF!)","v":{"$error":"#VALUE!"}},{"$f":"((AA1355*#REF!)+(#REF!*#REF!)+(#REF!*#REF!))/(#REF!+#REF!+#REF!)","v":{"$error":"#VALUE!"}},{"$f":"((AA1355*#REF!)+(#REF!*#REF!)+(#REF!*#REF!))/(#REF!+#REF!+#REF!)","v":{"$error":"#VALUE!"}},{"$f":"((AA1355*#REF!)+(#REF!*#REF!)+(#REF!*#REF!))/(#REF!+#REF!+#REF!)","v":{"$error":"#VALUE!"}},{"$f":"((AA1355*#REF!)+(#REF!*#REF!)+(#REF!*#REF!))/(#REF!+#REF!+#REF!)","v":{"$error":"#VALUE!"}},{"$f":"((AA1355*#REF!)+(#REF!*#REF!)+(#REF!*#REF!))/(#REF!+#REF!+#REF!)","v":{"$error":"#VALUE!"}}]
[null,null,null,null,null,null,null,null,null,null,null,null,null,null,null,null,null,null,null,null,null,1354,{"$error":"#VALUE!"},{"$f":"AVERAGE($W$3:W1356)","v":{"$error":"#VALUE!"}},null,{"$error":"#VALUE!"},{"$error":"#VALUE!"},{"$f":"AVERAGE($AA$3:AA1356)","v":{"$error":"#VALUE!"}},null,null,null,{"$f":"((AA1356*#REF!)+(#REF!*#REF!)+(#REF!*#REF!))/(#REF!+#REF!+#REF!)","v":{"$error":"#VALUE!"}},{"$f":"((AA1356*#REF!)+(#REF!*#REF!)+(#REF!*#REF!))/(#REF!+#REF!+#REF!)","v":{"$error":"#VALUE!"}},{"$f":"((AA1356*#REF!)+(#REF!*#REF!)+(#REF!*#REF!))/(#REF!+#REF!+#REF!)","v":{"$error":"#VALUE!"}},{"$f":"((AA1356*#REF!)+(#REF!*#REF!)+(#REF!*#REF!))/(#REF!+#REF!+#REF!)","v":{"$error":"#VALUE!"}},{"$f":"((AA1356*#REF!)+(#REF!*#REF!)+(#REF!*#REF!))/(#REF!+#REF!+#REF!)","v":{"$error":"#VALUE!"}},{"$f":"((AA1356*#REF!)+(#REF!*#REF!)+(#REF!*#REF!))/(#REF!+#REF!+#REF!)","v":{"$error":"#VALUE!"}},{"$f":"((AA1356*#REF!)+(#REF!*#REF!)+(#REF!*#REF!))/(#REF!+#REF!+#REF!)","v":{"$error":"#VALUE!"}}]
[null,null,null,null,null,null,null,null,null,null,null,null,null,null,null,null,null,null,null,null,null,1355,{"$error":"#VALUE!"},{"$f":"AVERAGE($W$3:W1357)","v":{"$error":"#VALUE!"}},null,{"$error":"#VALUE!"},{"$error":"#VALUE!"},{"$f":"AVERAGE($AA$3:AA1357)","v":{"$error":"#VALUE!"}},null,null,null,{"$f":"((AA1357*#REF!)+(#REF!*#REF!)+(#REF!*#REF!))/(#REF!+#REF!+#REF!)","v":{"$error":"#VALUE!"}},{"$f":"((AA1357*#REF!)+(#REF!*#REF!)+(#REF!*#REF!))/(#REF!+#REF!+#REF!)","v":{"$error":"#VALUE!"}},{"$f":"((AA1357*#REF!)+(#REF!*#REF!)+(#REF!*#REF!))/(#REF!+#REF!+#REF!)","v":{"$error":"#VALUE!"}},{"$f":"((AA1357*#REF!)+(#REF!*#REF!)+(#REF!*#REF!))/(#REF!+#REF!+#REF!)","v":{"$error":"#VALUE!"}},{"$f":"((AA1357*#REF!)+(#REF!*#REF!)+(#REF!*#REF!))/(#REF!+#REF!+#REF!)","v":{"$error":"#VALUE!"}},{"$f":"((AA1357*#REF!)+(#REF!*#REF!)+(#REF!*#REF!))/(#REF!+#REF!+#REF!)","v":{"$error":"#VALUE!"}},{"$f":"((AA1357*#REF!)+(#REF!*#REF!)+(#REF!*#REF!))/(#REF!+#REF!+#REF!)","v":{"$error":"#VALUE!"}}]
[null,null,null,null,null,null,null,null,null,null,null,null,null,null,null,null,null,null,null,null,null,1356,{"$error":"#VALUE!"},{"$f":"AVERAGE($W$3:W1358)","v":{"$error":"#VALUE!"}},null,{"$error":"#VALUE!"},{"$error":"#VALUE!"},{"$f":"AVERAGE($AA$3:AA1358)","v":{"$error":"#VALUE!"}},null,null,null,{"$f":"((AA1358*#REF!)+(#REF!*#REF!)+(#REF!*#REF!))/(#REF!+#REF!+#REF!)","v":{"$error":"#VALUE!"}},{"$f":"((AA1358*#REF!)+(#REF!*#REF!)+(#REF!*#REF!))/(#REF!+#REF!+#REF!)","v":{"$error":"#VALUE!"}},{"$f":"((AA1358*#REF!)+(#REF!*#REF!)+(#REF!*#REF!))/(#REF!+#REF!+#REF!)","v":{"$error":"#VALUE!"}},{"$f":"((AA1358*#REF!)+(#REF!*#REF!)+(#REF!*#REF!))/(#REF!+#REF!+#REF!)","v":{"$error":"#VALUE!"}},{"$f":"((AA1358*#REF!)+(#REF!*#REF!)+(#REF!*#REF!))/(#REF!+#REF!+#REF!)","v":{"$error":"#VALUE!"}},{"$f":"((AA1358*#REF!)+(#REF!*#REF!)+(#REF!*#REF!))/(#REF!+#REF!+#REF!)","v":{"$error":"#VALUE!"}},{"$f":"((AA1358*#REF!)+(#REF!*#REF!)+(#REF!*#REF!))/(#REF!+#REF!+#REF!)","v":{"$error":"#VALUE!"}}]
[null,null,null,null,null,null,null,null,null,null,null,null,null,null,null,null,null,null,null,null,null,1357,{"$error":"#VALUE!"},{"$f":"AVERAGE($W$3:W1359)","v":{"$error":"#VALUE!"}},null,{"$error":"#VALUE!"},{"$error":"#VALUE!"},{"$f":"AVERAGE($AA$3:AA1359)","v":{"$error":"#VALUE!"}},null,null,null,{"$f":"((AA1359*#REF!)+(#REF!*#REF!)+(#REF!*#REF!))/(#REF!+#REF!+#REF!)","v":{"$error":"#VALUE!"}},{"$f":"((AA1359*#REF!)+(#REF!*#REF!)+(#REF!*#REF!))/(#REF!+#REF!+#REF!)","v":{"$error":"#VALUE!"}},{"$f":"((AA1359*#REF!)+(#REF!*#REF!)+(#REF!*#REF!))/(#REF!+#REF!+#REF!)","v":{"$error":"#VALUE!"}},{"$f":"((AA1359*#REF!)+(#REF!*#REF!)+(#REF!*#REF!))/(#REF!+#REF!+#REF!)","v":{"$error":"#VALUE!"}},{"$f":"((AA1359*#REF!)+(#REF!*#REF!)+(#REF!*#REF!))/(#REF!+#REF!+#REF!)","v":{"$error":"#VALUE!"}},{"$f":"((AA1359*#REF!)+(#REF!*#REF!)+(#REF!*#REF!))/(#REF!+#REF!+#REF!)","v":{"$error":"#VALUE!"}},{"$f":"((AA1359*#REF!)+(#REF!*#REF!)+(#REF!*#REF!))/(#REF!+#REF!+#REF!)","v":{"$error":"#VALUE!"}}]
[null,null,null,null,null,null,null,null,null,null,null,null,null,null,null,null,null,null,null,null,null,1358,{"$error":"#VALUE!"},{"$f":"AVERAGE($W$3:W1360)","v":{"$error":"#VALUE!"}},null,{"$error":"#VALUE!"},{"$error":"#VALUE!"},{"$f":"AVERAGE($AA$3:AA1360)","v":{"$error":"#VALUE!"}},null,null,null,{"$f":"((AA1360*#REF!)+(#REF!*#REF!)+(#REF!*#REF!))/(#REF!+#REF!+#REF!)","v":{"$error":"#VALUE!"}},{"$f":"((AA1360*#REF!)+(#REF!*#REF!)+(#REF!*#REF!))/(#REF!+#REF!+#REF!)","v":{"$error":"#VALUE!"}},{"$f":"((AA1360*#REF!)+(#REF!*#REF!)+(#REF!*#REF!))/(#REF!+#REF!+#REF!)","v":{"$error":"#VALUE!"}},{"$f":"((AA1360*#REF!)+(#REF!*#REF!)+(#REF!*#REF!))/(#REF!+#REF!+#REF!)","v":{"$error":"#VALUE!"}},{"$f":"((AA1360*#REF!)+(#REF!*#REF!)+(#REF!*#REF!))/(#REF!+#REF!+#REF!)","v":{"$error":"#VALUE!"}},{"$f":"((AA1360*#REF!)+(#REF!*#REF!)+(#REF!*#REF!))/(#REF!+#REF!+#REF!)","v":{"$error":"#VALUE!"}},{"$f":"((AA1360*#REF!)+(#REF!*#REF!)+(#REF!*#REF!))/(#REF!+#REF!+#REF!)","v":{"$error":"#VALUE!"}}]
[null,null,null,null,null,null,null,null,null,null,null,null,null,null,null,null,null,null,null,null,null,1359,{"$error":"#VALUE!"},{"$f":"AVERAGE($W$3:W1361)","v":{"$error":"#VALUE!"}},null,{"$error":"#VALUE!"},{"$error":"#VALUE!"},{"$f":"AVERAGE($AA$3:AA1361)","v":{"$error":"#VALUE!"}},null,null,null,{"$f":"((AA1361*#REF!)+(#REF!*#REF!)+(#REF!*#REF!))/(#REF!+#REF!+#REF!)","v":{"$error":"#VALUE!"}},{"$f":"((AA1361*#REF!)+(#REF!*#REF!)+(#REF!*#REF!))/(#REF!+#REF!+#REF!)","v":{"$error":"#VALUE!"}},{"$f":"((AA1361*#REF!)+(#REF!*#REF!)+(#REF!*#REF!))/(#REF!+#REF!+#REF!)","v":{"$error":"#VALUE!"}},{"$f":"((AA1361*#REF!)+(#REF!*#REF!)+(#REF!*#REF!))/(#REF!+#REF!+#REF!)","v":{"$error":"#VALUE!"}},{"$f":"((AA1361*#REF!)+(#REF!*#REF!)+(#REF!*#REF!))/(#REF!+#REF!+#REF!)","v":{"$error":"#VALUE!"}},{"$f":"((AA1361*#REF!)+(#REF!*#REF!)+(#REF!*#REF!))/(#REF!+#REF!+#REF!)","v":{"$error":"#VALUE!"}},{"$f":"((AA1361*#REF!)+(#REF!*#REF!)+(#REF!*#REF!))/(#REF!+#REF!+#REF!)","v":{"$error":"#VALUE!"}}]
[null,null,null,null,null,null,null,null,null,null,null,null,null,null,null,null,null,null,null,null,null,1360,{"$error":"#VALUE!"},{"$f":"AVERAGE($W$3:W1362)","v":{"$error":"#VALUE!"}},null,{"$error":"#VALUE!"},{"$error":"#VALUE!"},{"$f":"AVERAGE($AA$3:AA1362)","v":{"$error":"#VALUE!"}},null,null,null,{"$f":"((AA1362*#REF!)+(#REF!*#REF!)+(#REF!*#REF!))/(#REF!+#REF!+#REF!)","v":{"$error":"#VALUE!"}},{"$f":"((AA1362*#REF!)+(#REF!*#REF!)+(#REF!*#REF!))/(#REF!+#REF!+#REF!)","v":{"$error":"#VALUE!"}},{"$f":"((AA1362*#REF!)+(#REF!*#REF!)+(#REF!*#REF!))/(#REF!+#REF!+#REF!)","v":{"$error":"#VALUE!"}},{"$f":"((AA1362*#REF!)+(#REF!*#REF!)+(#REF!*#REF!))/(#REF!+#REF!+#REF!)","v":{"$error":"#VALUE!"}},{"$f":"((AA1362*#REF!)+(#REF!*#REF!)+(#REF!*#REF!))/(#REF!+#REF!+#REF!)","v":{"$error":"#VALUE!"}},{"$f":"((AA1362*#REF!)+(#REF!*#REF!)+(#REF!*#REF!))/(#REF!+#REF!+#REF!)","v":{"$error":"#VALUE!"}},{"$f":"((AA1362*#REF!)+(#REF!*#REF!)+(#REF!*#REF!))/(#REF!+#REF!+#REF!)","v":{"$error":"#VALUE!"}}]
[null,null,null,null,null,null,null,null,null,null,null,null,null,null,null,null,null,null,null,null,null,1361,{"$error":"#VALUE!"},{"$f":"AVERAGE($W$3:W1363)","v":{"$error":"#VALUE!"}},null,{"$error":"#VALUE!"},{"$error":"#VALUE!"},{"$f":"AVERAGE($AA$3:AA1363)","v":{"$error":"#VALUE!"}},null,null,null,{"$f":"((AA1363*#REF!)+(#REF!*#REF!)+(#REF!*#REF!))/(#REF!+#REF!+#REF!)","v":{"$error":"#VALUE!"}},{"$f":"((AA1363*#REF!)+(#REF!*#REF!)+(#REF!*#REF!))/(#REF!+#REF!+#REF!)","v":{"$error":"#VALUE!"}},{"$f":"((AA1363*#REF!)+(#REF!*#REF!)+(#REF!*#REF!))/(#REF!+#REF!+#REF!)","v":{"$error":"#VALUE!"}},{"$f":"((AA1363*#REF!)+(#REF!*#REF!)+(#REF!*#REF!))/(#REF!+#REF!+#REF!)","v":{"$error":"#VALUE!"}},{"$f":"((AA1363*#REF!)+(#REF!*#REF!)+(#REF!*#REF!))/(#REF!+#REF!+#REF!)","v":{"$error":"#VALUE!"}},{"$f":"((AA1363*#REF!)+(#REF!*#REF!)+(#REF!*#REF!))/(#REF!+#REF!+#REF!)","v":{"$error":"#VALUE!"}},{"$f":"((AA1363*#REF!)+(#REF!*#REF!)+(#REF!*#REF!))/(#REF!+#REF!+#REF!)","v":{"$error":"#VALUE!"}}]
[null,null,null,null,null,null,null,null,null,null,null,null,null,null,null,null,null,null,null,null,null,1362,{"$error":"#VALUE!"},{"$f":"AVERAGE($W$3:W1364)","v":{"$error":"#VALUE!"}},null,{"$error":"#VALUE!"},{"$error":"#VALUE!"},{"$f":"AVERAGE($AA$3:AA1364)","v":{"$error":"#VALUE!"}},null,null,null,{"$f":"((AA1364*#REF!)+(#REF!*#REF!)+(#REF!*#REF!))/(#REF!+#REF!+#REF!)","v":{"$error":"#VALUE!"}},{"$f":"((AA1364*#REF!)+(#REF!*#REF!)+(#REF!*#REF!))/(#REF!+#REF!+#REF!)","v":{"$error":"#VALUE!"}},{"$f":"((AA1364*#REF!)+(#REF!*#REF!)+(#REF!*#REF!))/(#REF!+#REF!+#REF!)","v":{"$error":"#VALUE!"}},{"$f":"((AA1364*#REF!)+(#REF!*#REF!)+(#REF!*#REF!))/(#REF!+#REF!+#REF!)","v":{"$error":"#VALUE!"}},{"$f":"((AA1364*#REF!)+(#REF!*#REF!)+(#REF!*#REF!))/(#REF!+#REF!+#REF!)","v":{"$error":"#VALUE!"}},{"$f":"((AA1364*#REF!)+(#REF!*#REF!)+(#REF!*#REF!))/(#REF!+#REF!+#REF!)","v":{"$error":"#VALUE!"}},{"$f":"((AA1364*#REF!)+(#REF!*#REF!)+(#REF!*#REF!))/(#REF!+#REF!+#REF!)","v":{"$error":"#VALUE!"}}]
[null,null,null,null,null,null,null,null,null,null,null,null,null,null,null,null,null,null,null,null,null,1363,{"$error":"#VALUE!"},{"$f":"AVERAGE($W$3:W1365)","v":{"$error":"#VALUE!"}},null,{"$error":"#VALUE!"},{"$error":"#VALUE!"},{"$f":"AVERAGE($AA$3:AA1365)","v":{"$error":"#VALUE!"}},null,null,null,{"$f":"((AA1365*#REF!)+(#REF!*#REF!)+(#REF!*#REF!))/(#REF!+#REF!+#REF!)","v":{"$error":"#VALUE!"}},{"$f":"((AA1365*#REF!)+(#REF!*#REF!)+(#REF!*#REF!))/(#REF!+#REF!+#REF!)","v":{"$error":"#VALUE!"}},{"$f":"((AA1365*#REF!)+(#REF!*#REF!)+(#REF!*#REF!))/(#REF!+#REF!+#REF!)","v":{"$error":"#VALUE!"}},{"$f":"((AA1365*#REF!)+(#REF!*#REF!)+(#REF!*#REF!))/(#REF!+#REF!+#REF!)","v":{"$error":"#VALUE!"}},{"$f":"((AA1365*#REF!)+(#REF!*#REF!)+(#REF!*#REF!))/(#REF!+#REF!+#REF!)","v":{"$error":"#VALUE!"}},{"$f":"((AA1365*#REF!)+(#REF!*#REF!)+(#REF!*#REF!))/(#REF!+#REF!+#REF!)","v":{"$error":"#VALUE!"}},{"$f":"((AA1365*#REF!)+(#REF!*#REF!)+(#REF!*#REF!))/(#REF!+#REF!+#REF!)","v":{"$error":"#VALUE!"}}]
[null,null,null,null,null,null,null,null,null,null,null,null,null,null,null,null,null,null,null,null,null,1364,{"$error":"#VALUE!"},{"$f":"AVERAGE($W$3:W1366)","v":{"$error":"#VALUE!"}},null,{"$error":"#VALUE!"},{"$error":"#VALUE!"},{"$f":"AVERAGE($AA$3:AA1366)","v":{"$error":"#VALUE!"}},null,null,null,{"$f":"((AA1366*#REF!)+(#REF!*#REF!)+(#REF!*#REF!))/(#REF!+#REF!+#REF!)","v":{"$error":"#VALUE!"}},{"$f":"((AA1366*#REF!)+(#REF!*#REF!)+(#REF!*#REF!))/(#REF!+#REF!+#REF!)","v":{"$error":"#VALUE!"}},{"$f":"((AA1366*#REF!)+(#REF!*#REF!)+(#REF!*#REF!))/(#REF!+#REF!+#REF!)","v":{"$error":"#VALUE!"}},{"$f":"((AA1366*#REF!)+(#REF!*#REF!)+(#REF!*#REF!))/(#REF!+#REF!+#REF!)","v":{"$error":"#VALUE!"}},{"$f":"((AA1366*#REF!)+(#REF!*#REF!)+(#REF!*#REF!))/(#REF!+#REF!+#REF!)","v":{"$error":"#VALUE!"}},{"$f":"((AA1366*#REF!)+(#REF!*#REF!)+(#REF!*#REF!))/(#REF!+#REF!+#REF!)","v":{"$error":"#VALUE!"}},{"$f":"((AA1366*#REF!)+(#REF!*#REF!)+(#REF!*#REF!))/(#REF!+#REF!+#REF!)","v":{"$error":"#VALUE!"}}]
[null,null,null,null,null,null,null,null,null,null,null,null,null,null,null,null,null,null,null,null,null,1365,{"$error":"#VALUE!"},{"$f":"AVERAGE($W$3:W1367)","v":{"$error":"#VALUE!"}},null,{"$error":"#VALUE!"},{"$error":"#VALUE!"},{"$f":"AVERAGE($AA$3:AA1367)","v":{"$error":"#VALUE!"}},null,null,null,{"$f":"((AA1367*#REF!)+(#REF!*#REF!)+(#REF!*#REF!))/(#REF!+#REF!+#REF!)","v":{"$error":"#VALUE!"}},{"$f":"((AA1367*#REF!)+(#REF!*#REF!)+(#REF!*#REF!))/(#REF!+#REF!+#REF!)","v":{"$error":"#VALUE!"}},{"$f":"((AA1367*#REF!)+(#REF!*#REF!)+(#REF!*#REF!))/(#REF!+#REF!+#REF!)","v":{"$error":"#VALUE!"}},{"$f":"((AA1367*#REF!)+(#REF!*#REF!)+(#REF!*#REF!))/(#REF!+#REF!+#REF!)","v":{"$error":"#VALUE!"}},{"$f":"((AA1367*#REF!)+(#REF!*#REF!)+(#REF!*#REF!))/(#REF!+#REF!+#REF!)","v":{"$error":"#VALUE!"}},{"$f":"((AA1367*#REF!)+(#REF!*#REF!)+(#REF!*#REF!))/(#REF!+#REF!+#REF!)","v":{"$error":"#VALUE!"}},{"$f":"((AA1367*#REF!)+(#REF!*#REF!)+(#REF!*#REF!))/(#REF!+#REF!+#REF!)","v":{"$error":"#VALUE!"}}]
[null,null,null,null,null,null,null,null,null,null,null,null,null,null,null,null,null,null,null,null,null,1366,{"$error":"#VALUE!"},{"$f":"AVERAGE($W$3:W1368)","v":{"$error":"#VALUE!"}},null,{"$error":"#VALUE!"},{"$error":"#VALUE!"},{"$f":"AVERAGE($AA$3:AA1368)","v":{"$error":"#VALUE!"}},null,null,null,{"$f":"((AA1368*#REF!)+(#REF!*#REF!)+(#REF!*#REF!))/(#REF!+#REF!+#REF!)","v":{"$error":"#VALUE!"}},{"$f":"((AA1368*#REF!)+(#REF!*#REF!)+(#REF!*#REF!))/(#REF!+#REF!+#REF!)","v":{"$error":"#VALUE!"}},{"$f":"((AA1368*#REF!)+(#REF!*#REF!)+(#REF!*#REF!))/(#REF!+#REF!+#REF!)","v":{"$error":"#VALUE!"}},{"$f":"((AA1368*#REF!)+(#REF!*#REF!)+(#REF!*#REF!))/(#REF!+#REF!+#REF!)","v":{"$error":"#VALUE!"}},{"$f":"((AA1368*#REF!)+(#REF!*#REF!)+(#REF!*#REF!))/(#REF!+#REF!+#REF!)","v":{"$error":"#VALUE!"}},{"$f":"((AA1368*#REF!)+(#REF!*#REF!)+(#REF!*#REF!))/(#REF!+#REF!+#REF!)","v":{"$error":"#VALUE!"}},{"$f":"((AA1368*#REF!)+(#REF!*#REF!)+(#REF!*#REF!))/(#REF!+#REF!+#REF!)","v":{"$error":"#VALUE!"}}]
[null,null,null,null,null,null,null,null,null,null,null,null,null,null,null,null,null,null,null,null,null,1367,{"$error":"#VALUE!"},{"$f":"AVERAGE($W$3:W1369)","v":{"$error":"#VALUE!"}},null,{"$error":"#VALUE!"},{"$error":"#VALUE!"},{"$f":"AVERAGE($AA$3:AA1369)","v":{"$error":"#VALUE!"}},null,null,null,{"$f":"((AA1369*#REF!)+(#REF!*#REF!)+(#REF!*#REF!))/(#REF!+#REF!+#REF!)","v":{"$error":"#VALUE!"}},{"$f":"((AA1369*#REF!)+(#REF!*#REF!)+(#REF!*#REF!))/(#REF!+#REF!+#REF!)","v":{"$error":"#VALUE!"}},{"$f":"((AA1369*#REF!)+(#REF!*#REF!)+(#REF!*#REF!))/(#REF!+#REF!+#REF!)","v":{"$error":"#VALUE!"}},{"$f":"((AA1369*#REF!)+(#REF!*#REF!)+(#REF!*#REF!))/(#REF!+#REF!+#REF!)","v":{"$error":"#VALUE!"}},{"$f":"((AA1369*#REF!)+(#REF!*#REF!)+(#REF!*#REF!))/(#REF!+#REF!+#REF!)","v":{"$error":"#VALUE!"}},{"$f":"((AA1369*#REF!)+(#REF!*#REF!)+(#REF!*#REF!))/(#REF!+#REF!+#REF!)","v":{"$error":"#VALUE!"}},{"$f":"((AA1369*#REF!)+(#REF!*#REF!)+(#REF!*#REF!))/(#REF!+#REF!+#REF!)","v":{"$error":"#VALUE!"}}]
[null,null,null,null,null,null,null,null,null,null,null,null,null,null,null,null,null,null,null,null,null,1368,{"$error":"#VALUE!"},{"$f":"AVERAGE($W$3:W1370)","v":{"$error":"#VALUE!"}},null,{"$error":"#VALUE!"},{"$error":"#VALUE!"},{"$f":"AVERAGE($AA$3:AA1370)","v":{"$error":"#VALUE!"}},null,null,null,{"$f":"((AA1370*#REF!)+(#REF!*#REF!)+(#REF!*#REF!))/(#REF!+#REF!+#REF!)","v":{"$error":"#VALUE!"}},{"$f":"((AA1370*#REF!)+(#REF!*#REF!)+(#REF!*#REF!))/(#REF!+#REF!+#REF!)","v":{"$error":"#VALUE!"}},{"$f":"((AA1370*#REF!)+(#REF!*#REF!)+(#REF!*#REF!))/(#REF!+#REF!+#REF!)","v":{"$error":"#VALUE!"}},{"$f":"((AA1370*#REF!)+(#REF!*#REF!)+(#REF!*#REF!))/(#REF!+#REF!+#REF!)","v":{"$error":"#VALUE!"}},{"$f":"((AA1370*#REF!)+(#REF!*#REF!)+(#REF!*#REF!))/(#REF!+#REF!+#REF!)","v":{"$error":"#VALUE!"}},{"$f":"((AA1370*#REF!)+(#REF!*#REF!)+(#REF!*#REF!))/(#REF!+#REF!+#REF!)","v":{"$error":"#VALUE!"}},{"$f":"((AA1370*#REF!)+(#REF!*#REF!)+(#REF!*#REF!))/(#REF!+#REF!+#REF!)","v":{"$error":"#VALUE!"}}]
[null,null,null,null,null,null,null,null,null,null,null,null,null,null,null,null,null,null,null,null,null,1369,{"$error":"#VALUE!"},{"$f":"AVERAGE($W$3:W1371)","v":{"$error":"#VALUE!"}},null,{"$error":"#VALUE!"},{"$error":"#VALUE!"},{"$f":"AVERAGE($AA$3:AA1371)","v":{"$error":"#VALUE!"}},null,null,null,{"$f":"((AA1371*#REF!)+(#REF!*#REF!)+(#REF!*#REF!))/(#REF!+#REF!+#REF!)","v":{"$error":"#VALUE!"}},{"$f":"((AA1371*#REF!)+(#REF!*#REF!)+(#REF!*#REF!))/(#REF!+#REF!+#REF!)","v":{"$error":"#VALUE!"}},{"$f":"((AA1371*#REF!)+(#REF!*#REF!)+(#REF!*#REF!))/(#REF!+#REF!+#REF!)","v":{"$error":"#VALUE!"}},{"$f":"((AA1371*#REF!)+(#REF!*#REF!)+(#REF!*#REF!))/(#REF!+#REF!+#REF!)","v":{"$error":"#VALUE!"}},{"$f":"((AA1371*#REF!)+(#REF!*#REF!)+(#REF!*#REF!))/(#REF!+#REF!+#REF!)","v":{"$error":"#VALUE!"}},{"$f":"((AA1371*#REF!)+(#REF!*#REF!)+(#REF!*#REF!))/(#REF!+#REF!+#REF!)","v":{"$error":"#VALUE!"}},{"$f":"((AA1371*#REF!)+(#REF!*#REF!)+(#REF!*#REF!))/(#REF!+#REF!+#REF!)","v":{"$error":"#VALUE!"}}]
[null,null,null,null,null,null,null,null,null,null,null,null,null,null,null,null,null,null,null,null,null,1370,{"$error":"#VALUE!"},{"$f":"AVERAGE($W$3:W1372)","v":{"$error":"#VALUE!"}},null,{"$error":"#VALUE!"},{"$error":"#VALUE!"},{"$f":"AVERAGE($AA$3:AA1372)","v":{"$error":"#VALUE!"}},null,null,null,{"$f":"((AA1372*#REF!)+(#REF!*#REF!)+(#REF!*#REF!))/(#REF!+#REF!+#REF!)","v":{"$error":"#VALUE!"}},{"$f":"((AA1372*#REF!)+(#REF!*#REF!)+(#REF!*#REF!))/(#REF!+#REF!+#REF!)","v":{"$error":"#VALUE!"}},{"$f":"((AA1372*#REF!)+(#REF!*#REF!)+(#REF!*#REF!))/(#REF!+#REF!+#REF!)","v":{"$error":"#VALUE!"}},{"$f":"((AA1372*#REF!)+(#REF!*#REF!)+(#REF!*#REF!))/(#REF!+#REF!+#REF!)","v":{"$error":"#VALUE!"}},{"$f":"((AA1372*#REF!)+(#REF!*#REF!)+(#REF!*#REF!))/(#REF!+#REF!+#REF!)","v":{"$error":"#VALUE!"}},{"$f":"((AA1372*#REF!)+(#REF!*#REF!)+(#REF!*#REF!))/(#REF!+#REF!+#REF!)","v":{"$error":"#VALUE!"}},{"$f":"((AA1372*#REF!)+(#REF!*#REF!)+(#REF!*#REF!))/(#REF!+#REF!+#REF!)","v":{"$error":"#VALUE!"}}]
[null,null,null,null,null,null,null,null,null,null,null,null,null,null,null,null,null,null,null,null,null,1371,{"$error":"#VALUE!"},{"$f":"AVERAGE($W$3:W1373)","v":{"$error":"#VALUE!"}},null,{"$error":"#VALUE!"},{"$error":"#VALUE!"},{"$f":"AVERAGE($AA$3:AA1373)","v":{"$error":"#VALUE!"}},null,null,null,{"$f":"((AA1373*#REF!)+(#REF!*#REF!)+(#REF!*#REF!))/(#REF!+#REF!+#REF!)","v":{"$error":"#VALUE!"}},{"$f":"((AA1373*#REF!)+(#REF!*#REF!)+(#REF!*#REF!))/(#REF!+#REF!+#REF!)","v":{"$error":"#VALUE!"}},{"$f":"((AA1373*#REF!)+(#REF!*#REF!)+(#REF!*#REF!))/(#REF!+#REF!+#REF!)","v":{"$error":"#VALUE!"}},{"$f":"((AA1373*#REF!)+(#REF!*#REF!)+(#REF!*#REF!))/(#REF!+#REF!+#REF!)","v":{"$error":"#VALUE!"}},{"$f":"((AA1373*#REF!)+(#REF!*#REF!)+(#REF!*#REF!))/(#REF!+#REF!+#REF!)","v":{"$error":"#VALUE!"}},{"$f":"((AA1373*#REF!)+(#REF!*#REF!)+(#REF!*#REF!))/(#REF!+#REF!+#REF!)","v":{"$error":"#VALUE!"}},{"$f":"((AA1373*#REF!)+(#REF!*#REF!)+(#REF!*#REF!))/(#REF!+#REF!+#REF!)","v":{"$error":"#VALUE!"}}]
[null,null,null,null,null,null,null,null,null,null,null,null,null,null,null,null,null,null,null,null,null,1372,{"$error":"#VALUE!"},{"$f":"AVERAGE($W$3:W1374)","v":{"$error":"#VALUE!"}},null,{"$error":"#VALUE!"},{"$error":"#VALUE!"},{"$f":"AVERAGE($AA$3:AA1374)","v":{"$error":"#VALUE!"}},null,null,null,{"$f":"((AA1374*#REF!)+(#REF!*#REF!)+(#REF!*#REF!))/(#REF!+#REF!+#REF!)","v":{"$error":"#VALUE!"}},{"$f":"((AA1374*#REF!)+(#REF!*#REF!)+(#REF!*#REF!))/(#REF!+#REF!+#REF!)","v":{"$error":"#VALUE!"}},{"$f":"((AA1374*#REF!)+(#REF!*#REF!)+(#REF!*#REF!))/(#REF!+#REF!+#REF!)","v":{"$error":"#VALUE!"}},{"$f":"((AA1374*#REF!)+(#REF!*#REF!)+(#REF!*#REF!))/(#REF!+#REF!+#REF!)","v":{"$error":"#VALUE!"}},{"$f":"((AA1374*#REF!)+(#REF!*#REF!)+(#REF!*#REF!))/(#REF!+#REF!+#REF!)","v":{"$error":"#VALUE!"}},{"$f":"((AA1374*#REF!)+(#REF!*#REF!)+(#REF!*#REF!))/(#REF!+#REF!+#REF!)","v":{"$error":"#VALUE!"}},{"$f":"((AA1374*#REF!)+(#REF!*#REF!)+(#REF!*#REF!))/(#REF!+#REF!+#REF!)","v":{"$error":"#VALUE!"}}]
[null,null,null,null,null,null,null,null,null,null,null,null,null,null,null,null,null,null,null,null,null,1373,{"$error":"#VALUE!"},{"$f":"AVERAGE($W$3:W1375)","v":{"$error":"#VALUE!"}},null,{"$error":"#VALUE!"},{"$error":"#VALUE!"},{"$f":"AVERAGE($AA$3:AA1375)","v":{"$error":"#VALUE!"}},null,null,null,{"$f":"((AA1375*#REF!)+(#REF!*#REF!)+(#REF!*#REF!))/(#REF!+#REF!+#REF!)","v":{"$error":"#VALUE!"}},{"$f":"((AA1375*#REF!)+(#REF!*#REF!)+(#REF!*#REF!))/(#REF!+#REF!+#REF!)","v":{"$error":"#VALUE!"}},{"$f":"((AA1375*#REF!)+(#REF!*#REF!)+(#REF!*#REF!))/(#REF!+#REF!+#REF!)","v":{"$error":"#VALUE!"}},{"$f":"((AA1375*#REF!)+(#REF!*#REF!)+(#REF!*#REF!))/(#REF!+#REF!+#REF!)","v":{"$error":"#VALUE!"}},{"$f":"((AA1375*#REF!)+(#REF!*#REF!)+(#REF!*#REF!))/(#REF!+#REF!+#REF!)","v":{"$error":"#VALUE!"}},{"$f":"((AA1375*#REF!)+(#REF!*#REF!)+(#REF!*#REF!))/(#REF!+#REF!+#REF!)","v":{"$error":"#VALUE!"}},{"$f":"((AA1375*#REF!)+(#REF!*#REF!)+(#REF!*#REF!))/(#REF!+#REF!+#REF!)","v":{"$error":"#VALUE!"}}]
[null,null,null,null,null,null,null,null,null,null,null,null,null,null,null,null,null,null,null,null,null,1374,{"$error":"#VALUE!"},{"$f":"AVERAGE($W$3:W1376)","v":{"$error":"#VALUE!"}},null,{"$error":"#VALUE!"},{"$error":"#VALUE!"},{"$f":"AVERAGE($AA$3:AA1376)","v":{"$error":"#VALUE!"}},null,null,null,{"$f":"((AA1376*#REF!)+(#REF!*#REF!)+(#REF!*#REF!))/(#REF!+#REF!+#REF!)","v":{"$error":"#VALUE!"}},{"$f":"((AA1376*#REF!)+(#REF!*#REF!)+(#REF!*#REF!))/(#REF!+#REF!+#REF!)","v":{"$error":"#VALUE!"}},{"$f":"((AA1376*#REF!)+(#REF!*#REF!)+(#REF!*#REF!))/(#REF!+#REF!+#REF!)","v":{"$error":"#VALUE!"}},{"$f":"((AA1376*#REF!)+(#REF!*#REF!)+(#REF!*#REF!))/(#REF!+#REF!+#REF!)","v":{"$error":"#VALUE!"}},{"$f":"((AA1376*#REF!)+(#REF!*#REF!)+(#REF!*#REF!))/(#REF!+#REF!+#REF!)","v":{"$error":"#VALUE!"}},{"$f":"((AA1376*#REF!)+(#REF!*#REF!)+(#REF!*#REF!))/(#REF!+#REF!+#REF!)","v":{"$error":"#VALUE!"}},{"$f":"((AA1376*#REF!)+(#REF!*#REF!)+(#REF!*#REF!))/(#REF!+#REF!+#REF!)","v":{"$error":"#VALUE!"}}]
[null,null,null,null,null,null,null,null,null,null,null,null,null,null,null,null,null,null,null,null,null,1375,{"$error":"#VALUE!"},{"$f":"AVERAGE($W$3:W1377)","v":{"$error":"#VALUE!"}},null,{"$error":"#VALUE!"},{"$error":"#VALUE!"},{"$f":"AVERAGE($AA$3:AA1377)","v":{"$error":"#VALUE!"}},null,null,null,{"$f":"((AA1377*#REF!)+(#REF!*#REF!)+(#REF!*#REF!))/(#REF!+#REF!+#REF!)","v":{"$error":"#VALUE!"}},{"$f":"((AA1377*#REF!)+(#REF!*#REF!)+(#REF!*#REF!))/(#REF!+#REF!+#REF!)","v":{"$error":"#VALUE!"}},{"$f":"((AA1377*#REF!)+(#REF!*#REF!)+(#REF!*#REF!))/(#REF!+#REF!+#REF!)","v":{"$error":"#VALUE!"}},{"$f":"((AA1377*#REF!)+(#REF!*#REF!)+(#REF!*#REF!))/(#REF!+#REF!+#REF!)","v":{"$error":"#VALUE!"}},{"$f":"((AA1377*#REF!)+(#REF!*#REF!)+(#REF!*#REF!))/(#REF!+#REF!+#REF!)","v":{"$error":"#VALUE!"}},{"$f":"((AA1377*#REF!)+(#REF!*#REF!)+(#REF!*#REF!))/(#REF!+#REF!+#REF!)","v":{"$error":"#VALUE!"}},{"$f":"((AA1377*#REF!)+(#REF!*#REF!)+(#REF!*#REF!))/(#REF!+#REF!+#REF!)","v":{"$error":"#VALUE!"}}]
[null,null,null,null,null,null,null,null,null,null,null,null,null,null,null,null,null,null,null,null,null,1376,{"$error":"#VALUE!"},{"$f":"AVERAGE($W$3:W1378)","v":{"$error":"#VALUE!"}},null,{"$error":"#VALUE!"},{"$error":"#VALUE!"},{"$f":"AVERAGE($AA$3:AA1378)","v":{"$error":"#VALUE!"}},null,null,null,{"$f":"((AA1378*#REF!)+(#REF!*#REF!)+(#REF!*#REF!))/(#REF!+#REF!+#REF!)","v":{"$error":"#VALUE!"}},{"$f":"((AA1378*#REF!)+(#REF!*#REF!)+(#REF!*#REF!))/(#REF!+#REF!+#REF!)","v":{"$error":"#VALUE!"}},{"$f":"((AA1378*#REF!)+(#REF!*#REF!)+(#REF!*#REF!))/(#REF!+#REF!+#REF!)","v":{"$error":"#VALUE!"}},{"$f":"((AA1378*#REF!)+(#REF!*#REF!)+(#REF!*#REF!))/(#REF!+#REF!+#REF!)","v":{"$error":"#VALUE!"}},{"$f":"((AA1378*#REF!)+(#REF!*#REF!)+(#REF!*#REF!))/(#REF!+#REF!+#REF!)","v":{"$error":"#VALUE!"}},{"$f":"((AA1378*#REF!)+(#REF!*#REF!)+(#REF!*#REF!))/(#REF!+#REF!+#REF!)","v":{"$error":"#VALUE!"}},{"$f":"((AA1378*#REF!)+(#REF!*#REF!)+(#REF!*#REF!))/(#REF!+#REF!+#REF!)","v":{"$error":"#VALUE!"}}]
[null,null,null,null,null,null,null,null,null,null,null,null,null,null,null,null,null,null,null,null,null,1377,{"$error":"#VALUE!"},{"$f":"AVERAGE($W$3:W1379)","v":{"$error":"#VALUE!"}},null,{"$error":"#VALUE!"},{"$error":"#VALUE!"},{"$f":"AVERAGE($AA$3:AA1379)","v":{"$error":"#VALUE!"}},null,null,null,{"$f":"((AA1379*#REF!)+(#REF!*#REF!)+(#REF!*#REF!))/(#REF!+#REF!+#REF!)","v":{"$error":"#VALUE!"}},{"$f":"((AA1379*#REF!)+(#REF!*#REF!)+(#REF!*#REF!))/(#REF!+#REF!+#REF!)","v":{"$error":"#VALUE!"}},{"$f":"((AA1379*#REF!)+(#REF!*#REF!)+(#REF!*#REF!))/(#REF!+#REF!+#REF!)","v":{"$error":"#VALUE!"}},{"$f":"((AA1379*#REF!)+(#REF!*#REF!)+(#REF!*#REF!))/(#REF!+#REF!+#REF!)","v":{"$error":"#VALUE!"}},{"$f":"((AA1379*#REF!)+(#REF!*#REF!)+(#REF!*#REF!))/(#REF!+#REF!+#REF!)","v":{"$error":"#VALUE!"}},{"$f":"((AA1379*#REF!)+(#REF!*#REF!)+(#REF!*#REF!))/(#REF!+#REF!+#REF!)","v":{"$error":"#VALUE!"}},{"$f":"((AA1379*#REF!)+(#REF!*#REF!)+(#REF!*#REF!))/(#REF!+#REF!+#REF!)","v":{"$error":"#VALUE!"}}]
[null,null,null,null,null,null,null,null,null,null,null,null,null,null,null,null,null,null,null,null,null,1378,{"$error":"#VALUE!"},{"$f":"AVERAGE($W$3:W1380)","v":{"$error":"#VALUE!"}},null,{"$error":"#VALUE!"},{"$error":"#VALUE!"},{"$f":"AVERAGE($AA$3:AA1380)","v":{"$error":"#VALUE!"}},null,null,null,{"$f":"((AA1380*#REF!)+(#REF!*#REF!)+(#REF!*#REF!))/(#REF!+#REF!+#REF!)","v":{"$error":"#VALUE!"}},{"$f":"((AA1380*#REF!)+(#REF!*#REF!)+(#REF!*#REF!))/(#REF!+#REF!+#REF!)","v":{"$error":"#VALUE!"}},{"$f":"((AA1380*#REF!)+(#REF!*#REF!)+(#REF!*#REF!))/(#REF!+#REF!+#REF!)","v":{"$error":"#VALUE!"}},{"$f":"((AA1380*#REF!)+(#REF!*#REF!)+(#REF!*#REF!))/(#REF!+#REF!+#REF!)","v":{"$error":"#VALUE!"}},{"$f":"((AA1380*#REF!)+(#REF!*#REF!)+(#REF!*#REF!))/(#REF!+#REF!+#REF!)","v":{"$error":"#VALUE!"}},{"$f":"((AA1380*#REF!)+(#REF!*#REF!)+(#REF!*#REF!))/(#REF!+#REF!+#REF!)","v":{"$error":"#VALUE!"}},{"$f":"((AA1380*#REF!)+(#REF!*#REF!)+(#REF!*#REF!))/(#REF!+#REF!+#REF!)","v":{"$error":"#VALUE!"}}]
[null,null,null,null,null,null,null,null,null,null,null,null,null,null,null,null,null,null,null,null,null,1379,{"$error":"#VALUE!"},{"$f":"AVERAGE($W$3:W1381)","v":{"$error":"#VALUE!"}},null,{"$error":"#VALUE!"},{"$error":"#VALUE!"},{"$f":"AVERAGE($AA$3:AA1381)","v":{"$error":"#VALUE!"}},null,null,null,{"$f":"((AA1381*#REF!)+(#REF!*#REF!)+(#REF!*#REF!))/(#REF!+#REF!+#REF!)","v":{"$error":"#VALUE!"}},{"$f":"((AA1381*#REF!)+(#REF!*#REF!)+(#REF!*#REF!))/(#REF!+#REF!+#REF!)","v":{"$error":"#VALUE!"}},{"$f":"((AA1381*#REF!)+(#REF!*#REF!)+(#REF!*#REF!))/(#REF!+#REF!+#REF!)","v":{"$error":"#VALUE!"}},{"$f":"((AA1381*#REF!)+(#REF!*#REF!)+(#REF!*#REF!))/(#REF!+#REF!+#REF!)","v":{"$error":"#VALUE!"}},{"$f":"((AA1381*#REF!)+(#REF!*#REF!)+(#REF!*#REF!))/(#REF!+#REF!+#REF!)","v":{"$error":"#VALUE!"}},{"$f":"((AA1381*#REF!)+(#REF!*#REF!)+(#REF!*#REF!))/(#REF!+#REF!+#REF!)","v":{"$error":"#VALUE!"}},{"$f":"((AA1381*#REF!)+(#REF!*#REF!)+(#REF!*#REF!))/(#REF!+#REF!+#REF!)","v":{"$error":"#VALUE!"}}]
[null,null,null,null,null,null,null,null,null,null,null,null,null,null,null,null,null,null,null,null,null,1380,{"$error":"#VALUE!"},{"$f":"AVERAGE($W$3:W1382)","v":{"$error":"#VALUE!"}},null,{"$error":"#VALUE!"},{"$error":"#VALUE!"},{"$f":"AVERAGE($AA$3:AA1382)","v":{"$error":"#VALUE!"}},null,null,null,{"$f":"((AA1382*#REF!)+(#REF!*#REF!)+(#REF!*#REF!))/(#REF!+#REF!+#REF!)","v":{"$error":"#VALUE!"}},{"$f":"((AA1382*#REF!)+(#REF!*#REF!)+(#REF!*#REF!))/(#REF!+#REF!+#REF!)","v":{"$error":"#VALUE!"}},{"$f":"((AA1382*#REF!)+(#REF!*#REF!)+(#REF!*#REF!))/(#REF!+#REF!+#REF!)","v":{"$error":"#VALUE!"}},{"$f":"((AA1382*#REF!)+(#REF!*#REF!)+(#REF!*#REF!))/(#REF!+#REF!+#REF!)","v":{"$error":"#VALUE!"}},{"$f":"((AA1382*#REF!)+(#REF!*#REF!)+(#REF!*#REF!))/(#REF!+#REF!+#REF!)","v":{"$error":"#VALUE!"}},{"$f":"((AA1382*#REF!)+(#REF!*#REF!)+(#REF!*#REF!))/(#REF!+#REF!+#REF!)","v":{"$error":"#VALUE!"}},{"$f":"((AA1382*#REF!)+(#REF!*#REF!)+(#REF!*#REF!))/(#REF!+#REF!+#REF!)","v":{"$error":"#VALUE!"}}]
[null,null,null,null,null,null,null,null,null,null,null,null,null,null,null,null,null,null,null,null,null,1381,{"$error":"#VALUE!"},{"$f":"AVERAGE($W$3:W1383)","v":{"$error":"#VALUE!"}},null,{"$error":"#VALUE!"},{"$error":"#VALUE!"},{"$f":"AVERAGE($AA$3:AA1383)","v":{"$error":"#VALUE!"}},null,null,null,{"$f":"((AA1383*#REF!)+(#REF!*#REF!)+(#REF!*#REF!))/(#REF!+#REF!+#REF!)","v":{"$error":"#VALUE!"}},{"$f":"((AA1383*#REF!)+(#REF!*#REF!)+(#REF!*#REF!))/(#REF!+#REF!+#REF!)","v":{"$error":"#VALUE!"}},{"$f":"((AA1383*#REF!)+(#REF!*#REF!)+(#REF!*#REF!))/(#REF!+#REF!+#REF!)","v":{"$error":"#VALUE!"}},{"$f":"((AA1383*#REF!)+(#REF!*#REF!)+(#REF!*#REF!))/(#REF!+#REF!+#REF!)","v":{"$error":"#VALUE!"}},{"$f":"((AA1383*#REF!)+(#REF!*#REF!)+(#REF!*#REF!))/(#REF!+#REF!+#REF!)","v":{"$error":"#VALUE!"}},{"$f":"((AA1383*#REF!)+(#REF!*#REF!)+(#REF!*#REF!))/(#REF!+#REF!+#REF!)","v":{"$error":"#VALUE!"}},{"$f":"((AA1383*#REF!)+(#REF!*#REF!)+(#REF!*#REF!))/(#REF!+#REF!+#REF!)","v":{"$error":"#VALUE!"}}]
[null,null,null,null,null,null,null,null,null,null,null,null,null,null,null,null,null,null,null,null,null,1382,{"$error":"#VALUE!"},{"$f":"AVERAGE($W$3:W1384)","v":{"$error":"#VALUE!"}},null,{"$error":"#VALUE!"},{"$error":"#VALUE!"},{"$f":"AVERAGE($AA$3:AA1384)","v":{"$error":"#VALUE!"}},null,null,null,{"$f":"((AA1384*#REF!)+(#REF!*#REF!)+(#REF!*#REF!))/(#REF!+#REF!+#REF!)","v":{"$error":"#VALUE!"}},{"$f":"((AA1384*#REF!)+(#REF!*#REF!)+(#REF!*#REF!))/(#REF!+#REF!+#REF!)","v":{"$error":"#VALUE!"}},{"$f":"((AA1384*#REF!)+(#REF!*#REF!)+(#REF!*#REF!))/(#REF!+#REF!+#REF!)","v":{"$error":"#VALUE!"}},{"$f":"((AA1384*#REF!)+(#REF!*#REF!)+(#REF!*#REF!))/(#REF!+#REF!+#REF!)","v":{"$error":"#VALUE!"}},{"$f":"((AA1384*#REF!)+(#REF!*#REF!)+(#REF!*#REF!))/(#REF!+#REF!+#REF!)","v":{"$error":"#VALUE!"}},{"$f":"((AA1384*#REF!)+(#REF!*#REF!)+(#REF!*#REF!))/(#REF!+#REF!+#REF!)","v":{"$error":"#VALUE!"}},{"$f":"((AA1384*#REF!)+(#REF!*#REF!)+(#REF!*#REF!))/(#REF!+#REF!+#REF!)","v":{"$error":"#VALUE!"}}]
[null,null,null,null,null,null,null,null,null,null,null,null,null,null,null,null,null,null,null,null,null,1383,{"$error":"#VALUE!"},{"$f":"AVERAGE($W$3:W1385)","v":{"$error":"#VALUE!"}},null,{"$error":"#VALUE!"},{"$error":"#VALUE!"},{"$f":"AVERAGE($AA$3:AA1385)","v":{"$error":"#VALUE!"}},null,null,null,{"$f":"((AA1385*#REF!)+(#REF!*#REF!)+(#REF!*#REF!))/(#REF!+#REF!+#REF!)","v":{"$error":"#VALUE!"}},{"$f":"((AA1385*#REF!)+(#REF!*#REF!)+(#REF!*#REF!))/(#REF!+#REF!+#REF!)","v":{"$error":"#VALUE!"}},{"$f":"((AA1385*#REF!)+(#REF!*#REF!)+(#REF!*#REF!))/(#REF!+#REF!+#REF!)","v":{"$error":"#VALUE!"}},{"$f":"((AA1385*#REF!)+(#REF!*#REF!)+(#REF!*#REF!))/(#REF!+#REF!+#REF!)","v":{"$error":"#VALUE!"}},{"$f":"((AA1385*#REF!)+(#REF!*#REF!)+(#REF!*#REF!))/(#REF!+#REF!+#REF!)","v":{"$error":"#VALUE!"}},{"$f":"((AA1385*#REF!)+(#REF!*#REF!)+(#REF!*#REF!))/(#REF!+#REF!+#REF!)","v":{"$error":"#VALUE!"}},{"$f":"((AA1385*#REF!)+(#REF!*#REF!)+(#REF!*#REF!))/(#REF!+#REF!+#REF!)","v":{"$error":"#VALUE!"}}]
[null,null,null,null,null,null,null,null,null,null,null,null,null,null,null,null,null,null,null,null,null,1384,{"$error":"#VALUE!"},{"$f":"AVERAGE($W$3:W1386)","v":{"$error":"#VALUE!"}},null,{"$error":"#VALUE!"},{"$error":"#VALUE!"},{"$f":"AVERAGE($AA$3:AA1386)","v":{"$error":"#VALUE!"}},null,null,null,{"$f":"((AA1386*#REF!)+(#REF!*#REF!)+(#REF!*#REF!))/(#REF!+#REF!+#REF!)","v":{"$error":"#VALUE!"}},{"$f":"((AA1386*#REF!)+(#REF!*#REF!)+(#REF!*#REF!))/(#REF!+#REF!+#REF!)","v":{"$error":"#VALUE!"}},{"$f":"((AA1386*#REF!)+(#REF!*#REF!)+(#REF!*#REF!))/(#REF!+#REF!+#REF!)","v":{"$error":"#VALUE!"}},{"$f":"((AA1386*#REF!)+(#REF!*#REF!)+(#REF!*#REF!))/(#REF!+#REF!+#REF!)","v":{"$error":"#VALUE!"}},{"$f":"((AA1386*#REF!)+(#REF!*#REF!)+(#REF!*#REF!))/(#REF!+#REF!+#REF!)","v":{"$error":"#VALUE!"}},{"$f":"((AA1386*#REF!)+(#REF!*#REF!)+(#REF!*#REF!))/(#REF!+#REF!+#REF!)","v":{"$error":"#VALUE!"}},{"$f":"((AA1386*#REF!)+(#REF!*#REF!)+(#REF!*#REF!))/(#REF!+#REF!+#REF!)","v":{"$error":"#VALUE!"}}]
[null,null,null,null,null,null,null,null,null,null,null,null,null,null,null,null,null,null,null,null,null,1385,{"$error":"#VALUE!"},{"$f":"AVERAGE($W$3:W1387)","v":{"$error":"#VALUE!"}},null,{"$error":"#VALUE!"},{"$error":"#VALUE!"},{"$f":"AVERAGE($AA$3:AA1387)","v":{"$error":"#VALUE!"}},null,null,null,{"$f":"((AA1387*#REF!)+(#REF!*#REF!)+(#REF!*#REF!))/(#REF!+#REF!+#REF!)","v":{"$error":"#VALUE!"}},{"$f":"((AA1387*#REF!)+(#REF!*#REF!)+(#REF!*#REF!))/(#REF!+#REF!+#REF!)","v":{"$error":"#VALUE!"}},{"$f":"((AA1387*#REF!)+(#REF!*#REF!)+(#REF!*#REF!))/(#REF!+#REF!+#REF!)","v":{"$error":"#VALUE!"}},{"$f":"((AA1387*#REF!)+(#REF!*#REF!)+(#REF!*#REF!))/(#REF!+#REF!+#REF!)","v":{"$error":"#VALUE!"}},{"$f":"((AA1387*#REF!)+(#REF!*#REF!)+(#REF!*#REF!))/(#REF!+#REF!+#REF!)","v":{"$error":"#VALUE!"}},{"$f":"((AA1387*#REF!)+(#REF!*#REF!)+(#REF!*#REF!))/(#REF!+#REF!+#REF!)","v":{"$error":"#VALUE!"}},{"$f":"((AA1387*#REF!)+(#REF!*#REF!)+(#REF!*#REF!))/(#REF!+#REF!+#REF!)","v":{"$error":"#VALUE!"}}]
[null,null,null,null,null,null,null,null,null,null,null,null,null,null,null,null,null,null,null,null,null,1386,{"$error":"#VALUE!"},{"$f":"AVERAGE($W$3:W1388)","v":{"$error":"#VALUE!"}},null,{"$error":"#VALUE!"},{"$error":"#VALUE!"},{"$f":"AVERAGE($AA$3:AA1388)","v":{"$error":"#VALUE!"}},null,null,null,{"$f":"((AA1388*#REF!)+(#REF!*#REF!)+(#REF!*#REF!))/(#REF!+#REF!+#REF!)","v":{"$error":"#VALUE!"}},{"$f":"((AA1388*#REF!)+(#REF!*#REF!)+(#REF!*#REF!))/(#REF!+#REF!+#REF!)","v":{"$error":"#VALUE!"}},{"$f":"((AA1388*#REF!)+(#REF!*#REF!)+(#REF!*#REF!))/(#REF!+#REF!+#REF!)","v":{"$error":"#VALUE!"}},{"$f":"((AA1388*#REF!)+(#REF!*#REF!)+(#REF!*#REF!))/(#REF!+#REF!+#REF!)","v":{"$error":"#VALUE!"}},{"$f":"((AA1388*#REF!)+(#REF!*#REF!)+(#REF!*#REF!))/(#REF!+#REF!+#REF!)","v":{"$error":"#VALUE!"}},{"$f":"((AA1388*#REF!)+(#REF!*#REF!)+(#REF!*#REF!))/(#REF!+#REF!+#REF!)","v":{"$error":"#VALUE!"}},{"$f":"((AA1388*#REF!)+(#REF!*#REF!)+(#REF!*#REF!))/(#REF!+#REF!+#REF!)","v":{"$error":"#VALUE!"}}]
[null,null,null,null,null,null,null,null,null,null,null,null,null,null,null,null,null,null,null,null,null,1387,{"$error":"#VALUE!"},{"$f":"AVERAGE($W$3:W1389)","v":{"$error":"#VALUE!"}},null,{"$error":"#VALUE!"},{"$error":"#VALUE!"},{"$f":"AVERAGE($AA$3:AA1389)","v":{"$error":"#VALUE!"}},null,null,null,{"$f":"((AA1389*#REF!)+(#REF!*#REF!)+(#REF!*#REF!))/(#REF!+#REF!+#REF!)","v":{"$error":"#VALUE!"}},{"$f":"((AA1389*#REF!)+(#REF!*#REF!)+(#REF!*#REF!))/(#REF!+#REF!+#REF!)","v":{"$error":"#VALUE!"}},{"$f":"((AA1389*#REF!)+(#REF!*#REF!)+(#REF!*#REF!))/(#REF!+#REF!+#REF!)","v":{"$error":"#VALUE!"}},{"$f":"((AA1389*#REF!)+(#REF!*#REF!)+(#REF!*#REF!))/(#REF!+#REF!+#REF!)","v":{"$error":"#VALUE!"}},{"$f":"((AA1389*#REF!)+(#REF!*#REF!)+(#REF!*#REF!))/(#REF!+#REF!+#REF!)","v":{"$error":"#VALUE!"}},{"$f":"((AA1389*#REF!)+(#REF!*#REF!)+(#REF!*#REF!))/(#REF!+#REF!+#REF!)","v":{"$error":"#VALUE!"}},{"$f":"((AA1389*#REF!)+(#REF!*#REF!)+(#REF!*#REF!))/(#REF!+#REF!+#REF!)","v":{"$error":"#VALUE!"}}]
[null,null,null,null,null,null,null,null,null,null,null,null,null,null,null,null,null,null,null,null,null,1388,{"$error":"#VALUE!"},{"$f":"AVERAGE($W$3:W1390)","v":{"$error":"#VALUE!"}},null,{"$error":"#VALUE!"},{"$error":"#VALUE!"},{"$f":"AVERAGE($AA$3:AA1390)","v":{"$error":"#VALUE!"}},null,null,null,{"$f":"((AA1390*#REF!)+(#REF!*#REF!)+(#REF!*#REF!))/(#REF!+#REF!+#REF!)","v":{"$error":"#VALUE!"}},{"$f":"((AA1390*#REF!)+(#REF!*#REF!)+(#REF!*#REF!))/(#REF!+#REF!+#REF!)","v":{"$error":"#VALUE!"}},{"$f":"((AA1390*#REF!)+(#REF!*#REF!)+(#REF!*#REF!))/(#REF!+#REF!+#REF!)","v":{"$error":"#VALUE!"}},{"$f":"((AA1390*#REF!)+(#REF!*#REF!)+(#REF!*#REF!))/(#REF!+#REF!+#REF!)","v":{"$error":"#VALUE!"}},{"$f":"((AA1390*#REF!)+(#REF!*#REF!)+(#REF!*#REF!))/(#REF!+#REF!+#REF!)","v":{"$error":"#VALUE!"}},{"$f":"((AA1390*#REF!)+(#REF!*#REF!)+(#REF!*#REF!))/(#REF!+#REF!+#REF!)","v":{"$error":"#VALUE!"}},{"$f":"((AA1390*#REF!)+(#REF!*#REF!)+(#REF!*#REF!))/(#REF!+#REF!+#REF!)","v":{"$error":"#VALUE!"}}]
[null,null,null,null,null,null,null,null,null,null,null,null,null,null,null,null,null,null,null,null,null,1389,{"$error":"#VALUE!"},{"$f":"AVERAGE($W$3:W1391)","v":{"$error":"#VALUE!"}},null,{"$error":"#VALUE!"},{"$error":"#VALUE!"},{"$f":"AVERAGE($AA$3:AA1391)","v":{"$error":"#VALUE!"}},null,null,null,{"$f":"((AA1391*#REF!)+(#REF!*#REF!)+(#REF!*#REF!))/(#REF!+#REF!+#REF!)","v":{"$error":"#VALUE!"}},{"$f":"((AA1391*#REF!)+(#REF!*#REF!)+(#REF!*#REF!))/(#REF!+#REF!+#REF!)","v":{"$error":"#VALUE!"}},{"$f":"((AA1391*#REF!)+(#REF!*#REF!)+(#REF!*#REF!))/(#REF!+#REF!+#REF!)","v":{"$error":"#VALUE!"}},{"$f":"((AA1391*#REF!)+(#REF!*#REF!)+(#REF!*#REF!))/(#REF!+#REF!+#REF!)","v":{"$error":"#VALUE!"}},{"$f":"((AA1391*#REF!)+(#REF!*#REF!)+(#REF!*#REF!))/(#REF!+#REF!+#REF!)","v":{"$error":"#VALUE!"}},{"$f":"((AA1391*#REF!)+(#REF!*#REF!)+(#REF!*#REF!))/(#REF!+#REF!+#REF!)","v":{"$error":"#VALUE!"}},{"$f":"((AA1391*#REF!)+(#REF!*#REF!)+(#REF!*#REF!))/(#REF!+#REF!+#REF!)","v":{"$error":"#VALUE!"}}]
[null,null,null,null,null,null,null,null,null,null,null,null,null,null,null,null,null,null,null,null,null,1390,{"$error":"#VALUE!"},{"$f":"AVERAGE($W$3:W1392)","v":{"$error":"#VALUE!"}},null,{"$error":"#VALUE!"},{"$error":"#VALUE!"},{"$f":"AVERAGE($AA$3:AA1392)","v":{"$error":"#VALUE!"}},null,null,null,{"$f":"((AA1392*#REF!)+(#REF!*#REF!)+(#REF!*#REF!))/(#REF!+#REF!+#REF!)","v":{"$error":"#VALUE!"}},{"$f":"((AA1392*#REF!)+(#REF!*#REF!)+(#REF!*#REF!))/(#REF!+#REF!+#REF!)","v":{"$error":"#VALUE!"}},{"$f":"((AA1392*#REF!)+(#REF!*#REF!)+(#REF!*#REF!))/(#REF!+#REF!+#REF!)","v":{"$error":"#VALUE!"}},{"$f":"((AA1392*#REF!)+(#REF!*#REF!)+(#REF!*#REF!))/(#REF!+#REF!+#REF!)","v":{"$error":"#VALUE!"}},{"$f":"((AA1392*#REF!)+(#REF!*#REF!)+(#REF!*#REF!))/(#REF!+#REF!+#REF!)","v":{"$error":"#VALUE!"}},{"$f":"((AA1392*#REF!)+(#REF!*#REF!)+(#REF!*#REF!))/(#REF!+#REF!+#REF!)","v":{"$error":"#VALUE!"}},{"$f":"((AA1392*#REF!)+(#REF!*#REF!)+(#REF!*#REF!))/(#REF!+#REF!+#REF!)","v":{"$error":"#VALUE!"}}]
[null,null,null,null,null,null,null,null,null,null,null,null,null,null,null,null,null,null,null,null,null,1391,{"$error":"#VALUE!"},{"$f":"AVERAGE($W$3:W1393)","v":{"$error":"#VALUE!"}},null,{"$error":"#VALUE!"},{"$error":"#VALUE!"},{"$f":"AVERAGE($AA$3:AA1393)","v":{"$error":"#VALUE!"}},null,null,null,{"$f":"((AA1393*#REF!)+(#REF!*#REF!)+(#REF!*#REF!))/(#REF!+#REF!+#REF!)","v":{"$error":"#VALUE!"}},{"$f":"((AA1393*#REF!)+(#REF!*#REF!)+(#REF!*#REF!))/(#REF!+#REF!+#REF!)","v":{"$error":"#VALUE!"}},{"$f":"((AA1393*#REF!)+(#REF!*#REF!)+(#REF!*#REF!))/(#REF!+#REF!+#REF!)","v":{"$error":"#VALUE!"}},{"$f":"((AA1393*#REF!)+(#REF!*#REF!)+(#REF!*#REF!))/(#REF!+#REF!+#REF!)","v":{"$error":"#VALUE!"}},{"$f":"((AA1393*#REF!)+(#REF!*#REF!)+(#REF!*#REF!))/(#REF!+#REF!+#REF!)","v":{"$error":"#VALUE!"}},{"$f":"((AA1393*#REF!)+(#REF!*#REF!)+(#REF!*#REF!))/(#REF!+#REF!+#REF!)","v":{"$error":"#VALUE!"}},{"$f":"((AA1393*#REF!)+(#REF!*#REF!)+(#REF!*#REF!))/(#REF!+#REF!+#REF!)","v":{"$error":"#VALUE!"}}]
[null,null,null,null,null,null,null,null,null,null,null,null,null,null,null,null,null,null,null,null,null,1392,{"$error":"#VALUE!"},{"$f":"AVERAGE($W$3:W1394)","v":{"$error":"#VALUE!"}},null,{"$error":"#VALUE!"},{"$error":"#VALUE!"},{"$f":"AVERAGE($AA$3:AA1394)","v":{"$error":"#VALUE!"}},null,null,null,{"$f":"((AA1394*#REF!)+(#REF!*#REF!)+(#REF!*#REF!))/(#REF!+#REF!+#REF!)","v":{"$error":"#VALUE!"}},{"$f":"((AA1394*#REF!)+(#REF!*#REF!)+(#REF!*#REF!))/(#REF!+#REF!+#REF!)","v":{"$error":"#VALUE!"}},{"$f":"((AA1394*#REF!)+(#REF!*#REF!)+(#REF!*#REF!))/(#REF!+#REF!+#REF!)","v":{"$error":"#VALUE!"}},{"$f":"((AA1394*#REF!)+(#REF!*#REF!)+(#REF!*#REF!))/(#REF!+#REF!+#REF!)","v":{"$error":"#VALUE!"}},{"$f":"((AA1394*#REF!)+(#REF!*#REF!)+(#REF!*#REF!))/(#REF!+#REF!+#REF!)","v":{"$error":"#VALUE!"}},{"$f":"((AA1394*#REF!)+(#REF!*#REF!)+(#REF!*#REF!))/(#REF!+#REF!+#REF!)","v":{"$error":"#VALUE!"}},{"$f":"((AA1394*#REF!)+(#REF!*#REF!)+(#REF!*#REF!))/(#REF!+#REF!+#REF!)","v":{"$error":"#VALUE!"}}]
[null,null,null,null,null,null,null,null,null,null,null,null,null,null,null,null,null,null,null,null,null,1393,{"$error":"#VALUE!"},{"$f":"AVERAGE($W$3:W1395)","v":{"$error":"#VALUE!"}},null,{"$error":"#VALUE!"},{"$error":"#VALUE!"},{"$f":"AVERAGE($AA$3:AA1395)","v":{"$error":"#VALUE!"}},null,null,null,{"$f":"((AA1395*#REF!)+(#REF!*#REF!)+(#REF!*#REF!))/(#REF!+#REF!+#REF!)","v":{"$error":"#VALUE!"}},{"$f":"((AA1395*#REF!)+(#REF!*#REF!)+(#REF!*#REF!))/(#REF!+#REF!+#REF!)","v":{"$error":"#VALUE!"}},{"$f":"((AA1395*#REF!)+(#REF!*#REF!)+(#REF!*#REF!))/(#REF!+#REF!+#REF!)","v":{"$error":"#VALUE!"}},{"$f":"((AA1395*#REF!)+(#REF!*#REF!)+(#REF!*#REF!))/(#REF!+#REF!+#REF!)","v":{"$error":"#VALUE!"}},{"$f":"((AA1395*#REF!)+(#REF!*#REF!)+(#REF!*#REF!))/(#REF!+#REF!+#REF!)","v":{"$error":"#VALUE!"}},{"$f":"((AA1395*#REF!)+(#REF!*#REF!)+(#REF!*#REF!))/(#REF!+#REF!+#REF!)","v":{"$error":"#VALUE!"}},{"$f":"((AA1395*#REF!)+(#REF!*#REF!)+(#REF!*#REF!))/(#REF!+#REF!+#REF!)","v":{"$error":"#VALUE!"}}]
[null,null,null,null,null,null,null,null,null,null,null,null,null,null,null,null,null,null,null,null,null,1394,{"$error":"#VALUE!"},{"$f":"AVERAGE($W$3:W1396)","v":{"$error":"#VALUE!"}},null,{"$error":"#VALUE!"},{"$error":"#VALUE!"},{"$f":"AVERAGE($AA$3:AA1396)","v":{"$error":"#VALUE!"}},null,null,null,{"$f":"((AA1396*#REF!)+(#REF!*#REF!)+(#REF!*#REF!))/(#REF!+#REF!+#REF!)","v":{"$error":"#VALUE!"}},{"$f":"((AA1396*#REF!)+(#REF!*#REF!)+(#REF!*#REF!))/(#REF!+#REF!+#REF!)","v":{"$error":"#VALUE!"}},{"$f":"((AA1396*#REF!)+(#REF!*#REF!)+(#REF!*#REF!))/(#REF!+#REF!+#REF!)","v":{"$error":"#VALUE!"}},{"$f":"((AA1396*#REF!)+(#REF!*#REF!)+(#REF!*#REF!))/(#REF!+#REF!+#REF!)","v":{"$error":"#VALUE!"}},{"$f":"((AA1396*#REF!)+(#REF!*#REF!)+(#REF!*#REF!))/(#REF!+#REF!+#REF!)","v":{"$error":"#VALUE!"}},{"$f":"((AA1396*#REF!)+(#REF!*#REF!)+(#REF!*#REF!))/(#REF!+#REF!+#REF!)","v":{"$error":"#VALUE!"}},{"$f":"((AA1396*#REF!)+(#REF!*#REF!)+(#REF!*#REF!))/(#REF!+#REF!+#REF!)","v":{"$error":"#VALUE!"}}]
[null,null,null,null,null,null,null,null,null,null,null,null,null,null,null,null,null,null,null,null,null,1395,{"$error":"#VALUE!"},{"$f":"AVERAGE($W$3:W1397)","v":{"$error":"#VALUE!"}},null,{"$error":"#VALUE!"},{"$error":"#VALUE!"},{"$f":"AVERAGE($AA$3:AA1397)","v":{"$error":"#VALUE!"}},null,null,null,{"$f":"((AA1397*#REF!)+(#REF!*#REF!)+(#REF!*#REF!))/(#REF!+#REF!+#REF!)","v":{"$error":"#VALUE!"}},{"$f":"((AA1397*#REF!)+(#REF!*#REF!)+(#REF!*#REF!))/(#REF!+#REF!+#REF!)","v":{"$error":"#VALUE!"}},{"$f":"((AA1397*#REF!)+(#REF!*#REF!)+(#REF!*#REF!))/(#REF!+#REF!+#REF!)","v":{"$error":"#VALUE!"}},{"$f":"((AA1397*#REF!)+(#REF!*#REF!)+(#REF!*#REF!))/(#REF!+#REF!+#REF!)","v":{"$error":"#VALUE!"}},{"$f":"((AA1397*#REF!)+(#REF!*#REF!)+(#REF!*#REF!))/(#REF!+#REF!+#REF!)","v":{"$error":"#VALUE!"}},{"$f":"((AA1397*#REF!)+(#REF!*#REF!)+(#REF!*#REF!))/(#REF!+#REF!+#REF!)","v":{"$error":"#VALUE!"}},{"$f":"((AA1397*#REF!)+(#REF!*#REF!)+(#REF!*#REF!))/(#REF!+#REF!+#REF!)","v":{"$error":"#VALUE!"}}]
[null,null,null,null,null,null,null,null,null,null,null,null,null,null,null,null,null,null,null,null,null,1396,{"$error":"#VALUE!"},{"$f":"AVERAGE($W$3:W1398)","v":{"$error":"#VALUE!"}},null,{"$error":"#VALUE!"},{"$error":"#VALUE!"},{"$f":"AVERAGE($AA$3:AA1398)","v":{"$error":"#VALUE!"}},null,null,null,{"$f":"((AA1398*#REF!)+(#REF!*#REF!)+(#REF!*#REF!))/(#REF!+#REF!+#REF!)","v":{"$error":"#VALUE!"}},{"$f":"((AA1398*#REF!)+(#REF!*#REF!)+(#REF!*#REF!))/(#REF!+#REF!+#REF!)","v":{"$error":"#VALUE!"}},{"$f":"((AA1398*#REF!)+(#REF!*#REF!)+(#REF!*#REF!))/(#REF!+#REF!+#REF!)","v":{"$error":"#VALUE!"}},{"$f":"((AA1398*#REF!)+(#REF!*#REF!)+(#REF!*#REF!))/(#REF!+#REF!+#REF!)","v":{"$error":"#VALUE!"}},{"$f":"((AA1398*#REF!)+(#REF!*#REF!)+(#REF!*#REF!))/(#REF!+#REF!+#REF!)","v":{"$error":"#VALUE!"}},{"$f":"((AA1398*#REF!)+(#REF!*#REF!)+(#REF!*#REF!))/(#REF!+#REF!+#REF!)","v":{"$error":"#VALUE!"}},{"$f":"((AA1398*#REF!)+(#REF!*#REF!)+(#REF!*#REF!))/(#REF!+#REF!+#REF!)","v":{"$error":"#VALUE!"}}]
[null,null,null,null,null,null,null,null,null,null,null,null,null,null,null,null,null,null,null,null,null,1397,{"$error":"#VALUE!"},{"$f":"AVERAGE($W$3:W1399)","v":{"$error":"#VALUE!"}},null,{"$error":"#VALUE!"},{"$error":"#VALUE!"},{"$f":"AVERAGE($AA$3:AA1399)","v":{"$error":"#VALUE!"}},null,null,null,{"$f":"((AA1399*#REF!)+(#REF!*#REF!)+(#REF!*#REF!))/(#REF!+#REF!+#REF!)","v":{"$error":"#VALUE!"}},{"$f":"((AA1399*#REF!)+(#REF!*#REF!)+(#REF!*#REF!))/(#REF!+#REF!+#REF!)","v":{"$error":"#VALUE!"}},{"$f":"((AA1399*#REF!)+(#REF!*#REF!)+(#REF!*#REF!))/(#REF!+#REF!+#REF!)","v":{"$error":"#VALUE!"}},{"$f":"((AA1399*#REF!)+(#REF!*#REF!)+(#REF!*#REF!))/(#REF!+#REF!+#REF!)","v":{"$error":"#VALUE!"}},{"$f":"((AA1399*#REF!)+(#REF!*#REF!)+(#REF!*#REF!))/(#REF!+#REF!+#REF!)","v":{"$error":"#VALUE!"}},{"$f":"((AA1399*#REF!)+(#REF!*#REF!)+(#REF!*#REF!))/(#REF!+#REF!+#REF!)","v":{"$error":"#VALUE!"}},{"$f":"((AA1399*#REF!)+(#REF!*#REF!)+(#REF!*#REF!))/(#REF!+#REF!+#REF!)","v":{"$error":"#VALUE!"}}]
[null,null,null,null,null,null,null,null,null,null,null,null,null,null,null,null,null,null,null,null,null,1398,{"$error":"#VALUE!"},{"$f":"AVERAGE($W$3:W1400)","v":{"$error":"#VALUE!"}},null,{"$error":"#VALUE!"},{"$error":"#VALUE!"},{"$f":"AVERAGE($AA$3:AA1400)","v":{"$error":"#VALUE!"}},null,null,null,{"$f":"((AA1400*#REF!)+(#REF!*#REF!)+(#REF!*#REF!))/(#REF!+#REF!+#REF!)","v":{"$error":"#VALUE!"}},{"$f":"((AA1400*#REF!)+(#REF!*#REF!)+(#REF!*#REF!))/(#REF!+#REF!+#REF!)","v":{"$error":"#VALUE!"}},{"$f":"((AA1400*#REF!)+(#REF!*#REF!)+(#REF!*#REF!))/(#REF!+#REF!+#REF!)","v":{"$error":"#VALUE!"}},{"$f":"((AA1400*#REF!)+(#REF!*#REF!)+(#REF!*#REF!))/(#REF!+#REF!+#REF!)","v":{"$error":"#VALUE!"}},{"$f":"((AA1400*#REF!)+(#REF!*#REF!)+(#REF!*#REF!))/(#REF!+#REF!+#REF!)","v":{"$error":"#VALUE!"}},{"$f":"((AA1400*#REF!)+(#REF!*#REF!)+(#REF!*#REF!))/(#REF!+#REF!+#REF!)","v":{"$error":"#VALUE!"}},{"$f":"((AA1400*#REF!)+(#REF!*#REF!)+(#REF!*#REF!))/(#REF!+#REF!+#REF!)","v":{"$error":"#VALUE!"}}]
[null,null,null,null,null,null,null,null,null,null,null,null,null,null,null,null,null,null,null,null,null,1399,{"$error":"#VALUE!"},{"$f":"AVERAGE($W$3:W1401)","v":{"$error":"#VALUE!"}},null,{"$error":"#VALUE!"},{"$error":"#VALUE!"},{"$f":"AVERAGE($AA$3:AA1401)","v":{"$error":"#VALUE!"}},null,null,null,{"$f":"((AA1401*#REF!)+(#REF!*#REF!)+(#REF!*#REF!))/(#REF!+#REF!+#REF!)","v":{"$error":"#VALUE!"}},{"$f":"((AA1401*#REF!)+(#REF!*#REF!)+(#REF!*#REF!))/(#REF!+#REF!+#REF!)","v":{"$error":"#VALUE!"}},{"$f":"((AA1401*#REF!)+(#REF!*#REF!)+(#REF!*#REF!))/(#REF!+#REF!+#REF!)","v":{"$error":"#VALUE!"}},{"$f":"((AA1401*#REF!)+(#REF!*#REF!)+(#REF!*#REF!))/(#REF!+#REF!+#REF!)","v":{"$error":"#VALUE!"}},{"$f":"((AA1401*#REF!)+(#REF!*#REF!)+(#REF!*#REF!))/(#REF!+#REF!+#REF!)","v":{"$error":"#VALUE!"}},{"$f":"((AA1401*#REF!)+(#REF!*#REF!)+(#REF!*#REF!))/(#REF!+#REF!+#REF!)","v":{"$error":"#VALUE!"}},{"$f":"((AA1401*#REF!)+(#REF!*#REF!)+(#REF!*#REF!))/(#REF!+#REF!+#REF!)","v":{"$error":"#VALUE!"}}]
[null,null,null,null,null,null,null,null,null,null,null,null,null,null,null,null,null,null,null,null,null,1400,{"$error":"#VALUE!"},{"$f":"AVERAGE($W$3:W1402)","v":{"$error":"#VALUE!"}},null,{"$error":"#VALUE!"},{"$error":"#VALUE!"},{"$f":"AVERAGE($AA$3:AA1402)","v":{"$error":"#VALUE!"}},null,null,null,{"$f":"((AA1402*#REF!)+(#REF!*#REF!)+(#REF!*#REF!))/(#REF!+#REF!+#REF!)","v":{"$error":"#VALUE!"}},{"$f":"((AA1402*#REF!)+(#REF!*#REF!)+(#REF!*#REF!))/(#REF!+#REF!+#REF!)","v":{"$error":"#VALUE!"}},{"$f":"((AA1402*#REF!)+(#REF!*#REF!)+(#REF!*#REF!))/(#REF!+#REF!+#REF!)","v":{"$error":"#VALUE!"}},{"$f":"((AA1402*#REF!)+(#REF!*#REF!)+(#REF!*#REF!))/(#REF!+#REF!+#REF!)","v":{"$error":"#VALUE!"}},{"$f":"((AA1402*#REF!)+(#REF!*#REF!)+(#REF!*#REF!))/(#REF!+#REF!+#REF!)","v":{"$error":"#VALUE!"}},{"$f":"((AA1402*#REF!)+(#REF!*#REF!)+(#REF!*#REF!))/(#REF!+#REF!+#REF!)","v":{"$error":"#VALUE!"}},{"$f":"((AA1402*#REF!)+(#REF!*#REF!)+(#REF!*#REF!))/(#REF!+#REF!+#REF!)","v":{"$error":"#VALUE!"}}]
[null,null,null,null,null,null,null,null,null,null,null,null,null,null,null,null,null,null,null,null,null,1401,{"$error":"#VALUE!"},{"$f":"AVERAGE($W$3:W1403)","v":{"$error":"#VALUE!"}},null,{"$error":"#VALUE!"},{"$error":"#VALUE!"},{"$f":"AVERAGE($AA$3:AA1403)","v":{"$error":"#VALUE!"}},null,null,null,{"$f":"((AA1403*#REF!)+(#REF!*#REF!)+(#REF!*#REF!))/(#REF!+#REF!+#REF!)","v":{"$error":"#VALUE!"}},{"$f":"((AA1403*#REF!)+(#REF!*#REF!)+(#REF!*#REF!))/(#REF!+#REF!+#REF!)","v":{"$error":"#VALUE!"}},{"$f":"((AA1403*#REF!)+(#REF!*#REF!)+(#REF!*#REF!))/(#REF!+#REF!+#REF!)","v":{"$error":"#VALUE!"}},{"$f":"((AA1403*#REF!)+(#REF!*#REF!)+(#REF!*#REF!))/(#REF!+#REF!+#REF!)","v":{"$error":"#VALUE!"}},{"$f":"((AA1403*#REF!)+(#REF!*#REF!)+(#REF!*#REF!))/(#REF!+#REF!+#REF!)","v":{"$error":"#VALUE!"}},{"$f":"((AA1403*#REF!)+(#REF!*#REF!)+(#REF!*#REF!))/(#REF!+#REF!+#REF!)","v":{"$error":"#VALUE!"}},{"$f":"((AA1403*#REF!)+(#REF!*#REF!)+(#REF!*#REF!))/(#REF!+#REF!+#REF!)","v":{"$error":"#VALUE!"}}]
[null,null,null,null,null,null,null,null,null,null,null,null,null,null,null,null,null,null,null,null,null,1402,{"$error":"#VALUE!"},{"$f":"AVERAGE($W$3:W1404)","v":{"$error":"#VALUE!"}},null,{"$error":"#VALUE!"},{"$error":"#VALUE!"},{"$f":"AVERAGE($AA$3:AA1404)","v":{"$error":"#VALUE!"}},null,null,null,{"$f":"((AA1404*#REF!)+(#REF!*#REF!)+(#REF!*#REF!))/(#REF!+#REF!+#REF!)","v":{"$error":"#VALUE!"}},{"$f":"((AA1404*#REF!)+(#REF!*#REF!)+(#REF!*#REF!))/(#REF!+#REF!+#REF!)","v":{"$error":"#VALUE!"}},{"$f":"((AA1404*#REF!)+(#REF!*#REF!)+(#REF!*#REF!))/(#REF!+#REF!+#REF!)","v":{"$error":"#VALUE!"}},{"$f":"((AA1404*#REF!)+(#REF!*#REF!)+(#REF!*#REF!))/(#REF!+#REF!+#REF!)","v":{"$error":"#VALUE!"}},{"$f":"((AA1404*#REF!)+(#REF!*#REF!)+(#REF!*#REF!))/(#REF!+#REF!+#REF!)","v":{"$error":"#VALUE!"}},{"$f":"((AA1404*#REF!)+(#REF!*#REF!)+(#REF!*#REF!))/(#REF!+#REF!+#REF!)","v":{"$error":"#VALUE!"}},{"$f":"((AA1404*#REF!)+(#REF!*#REF!)+(#REF!*#REF!))/(#REF!+#REF!+#REF!)","v":{"$error":"#VALUE!"}}]
[null,null,null,null,null,null,null,null,null,null,null,null,null,null,null,null,null,null,null,null,null,1403,{"$error":"#VALUE!"},{"$f":"AVERAGE($W$3:W1405)","v":{"$error":"#VALUE!"}},null,{"$error":"#VALUE!"},{"$error":"#VALUE!"},{"$f":"AVERAGE($AA$3:AA1405)","v":{"$error":"#VALUE!"}},null,null,null,{"$f":"((AA1405*#REF!)+(#REF!*#REF!)+(#REF!*#REF!))/(#REF!+#REF!+#REF!)","v":{"$error":"#VALUE!"}},{"$f":"((AA1405*#REF!)+(#REF!*#REF!)+(#REF!*#REF!))/(#REF!+#REF!+#REF!)","v":{"$error":"#VALUE!"}},{"$f":"((AA1405*#REF!)+(#REF!*#REF!)+(#REF!*#REF!))/(#REF!+#REF!+#REF!)","v":{"$error":"#VALUE!"}},{"$f":"((AA1405*#REF!)+(#REF!*#REF!)+(#REF!*#REF!))/(#REF!+#REF!+#REF!)","v":{"$error":"#VALUE!"}},{"$f":"((AA1405*#REF!)+(#REF!*#REF!)+(#REF!*#REF!))/(#REF!+#REF!+#REF!)","v":{"$error":"#VALUE!"}},{"$f":"((AA1405*#REF!)+(#REF!*#REF!)+(#REF!*#REF!))/(#REF!+#REF!+#REF!)","v":{"$error":"#VALUE!"}},{"$f":"((AA1405*#REF!)+(#REF!*#REF!)+(#REF!*#REF!))/(#REF!+#REF!+#REF!)","v":{"$error":"#VALUE!"}}]
[null,null,null,null,null,null,null,null,null,null,null,null,null,null,null,null,null,null,null,null,null,1404,{"$f":"IF(($M$7*LN(V1406))+$M$8+$M$10>0,($M$7*LN(V1406))+$M$8+$M$10,0)","v":{"$error":"#VALUE!"}},{"$f":"AVERAGE($W$3:W1406)","v":{"$error":"#VALUE!"}},null,{"$error":"#VALUE!"},{"$error":"#VALUE!"},{"$f":"AVERAGE($AA$3:AA1406)","v":{"$error":"#VALUE!"}},null,null,null,{"$f":"((AA1406*#REF!)+(#REF!*#REF!)+(#REF!*#REF!))/(#REF!+#REF!+#REF!)","v":{"$error":"#VALUE!"}},{"$f":"((AA1406*#REF!)+(#REF!*#REF!)+(#REF!*#REF!))/(#REF!+#REF!+#REF!)","v":{"$error":"#VALUE!"}},{"$f":"((AA1406*#REF!)+(#REF!*#REF!)+(#REF!*#REF!))/(#REF!+#REF!+#REF!)","v":{"$error":"#VALUE!"}},{"$f":"((AA1406*#REF!)+(#REF!*#REF!)+(#REF!*#REF!))/(#REF!+#REF!+#REF!)","v":{"$error":"#VALUE!"}},{"$f":"((AA1406*#REF!)+(#REF!*#REF!)+(#REF!*#REF!))/(#REF!+#REF!+#REF!)","v":{"$error":"#VALUE!"}},{"$f":"((AA1406*#REF!)+(#REF!*#REF!)+(#REF!*#REF!))/(#REF!+#REF!+#REF!)","v":{"$error":"#VALUE!"}},{"$f":"((AA1406*#REF!)+(#REF!*#REF!)+(#REF!*#REF!))/(#REF!+#REF!+#REF!)","v":{"$error":"#VALUE!"}}]
[null,null,null,null,null,null,null,null,null,null,null,null,null,null,null,null,null,null,null,null,null,1405,{"$error":"#VALUE!"},{"$f":"AVERAGE($W$3:W1407)","v":{"$error":"#VALUE!"}},null,{"$error":"#VALUE!"},{"$error":"#VALUE!"},{"$f":"AVERAGE($AA$3:AA1407)","v":{"$error":"#VALUE!"}},null,null,null,{"$f":"((AA1407*#REF!)+(#REF!*#REF!)+(#REF!*#REF!))/(#REF!+#REF!+#REF!)","v":{"$error":"#VALUE!"}},{"$f":"((AA1407*#REF!)+(#REF!*#REF!)+(#REF!*#REF!))/(#REF!+#REF!+#REF!)","v":{"$error":"#VALUE!"}},{"$f":"((AA1407*#REF!)+(#REF!*#REF!)+(#REF!*#REF!))/(#REF!+#REF!+#REF!)","v":{"$error":"#VALUE!"}},{"$f":"((AA1407*#REF!)+(#REF!*#REF!)+(#REF!*#REF!))/(#REF!+#REF!+#REF!)","v":{"$error":"#VALUE!"}},{"$f":"((AA1407*#REF!)+(#REF!*#REF!)+(#REF!*#REF!))/(#REF!+#REF!+#REF!)","v":{"$error":"#VALUE!"}},{"$f":"((AA1407*#REF!)+(#REF!*#REF!)+(#REF!*#REF!))/(#REF!+#REF!+#REF!)","v":{"$error":"#VALUE!"}},{"$f":"((AA1407*#REF!)+(#REF!*#REF!)+(#REF!*#REF!))/(#REF!+#REF!+#REF!)","v":{"$error":"#VALUE!"}}]
[null,null,null,null,null,null,null,null,null,null,null,null,null,null,null,null,null,null,null,null,null,1406,{"$error":"#VALUE!"},{"$f":"AVERAGE($W$3:W1408)","v":{"$error":"#VALUE!"}},null,{"$error":"#VALUE!"},{"$error":"#VALUE!"},{"$f":"AVERAGE($AA$3:AA1408)","v":{"$error":"#VALUE!"}},null,null,null,{"$f":"((AA1408*#REF!)+(#REF!*#REF!)+(#REF!*#REF!))/(#REF!+#REF!+#REF!)","v":{"$error":"#VALUE!"}},{"$f":"((AA1408*#REF!)+(#REF!*#REF!)+(#REF!*#REF!))/(#REF!+#REF!+#REF!)","v":{"$error":"#VALUE!"}},{"$f":"((AA1408*#REF!)+(#REF!*#REF!)+(#REF!*#REF!))/(#REF!+#REF!+#REF!)","v":{"$error":"#VALUE!"}},{"$f":"((AA1408*#REF!)+(#REF!*#REF!)+(#REF!*#REF!))/(#REF!+#REF!+#REF!)","v":{"$error":"#VALUE!"}},{"$f":"((AA1408*#REF!)+(#REF!*#REF!)+(#REF!*#REF!))/(#REF!+#REF!+#REF!)","v":{"$error":"#VALUE!"}},{"$f":"((AA1408*#REF!)+(#REF!*#REF!)+(#REF!*#REF!))/(#REF!+#REF!+#REF!)","v":{"$error":"#VALUE!"}},{"$f":"((AA1408*#REF!)+(#REF!*#REF!)+(#REF!*#REF!))/(#REF!+#REF!+#REF!)","v":{"$error":"#VALUE!"}}]
[null,null,null,null,null,null,null,null,null,null,null,null,null,null,null,null,null,null,null,null,null,1407,{"$error":"#VALUE!"},{"$f":"AVERAGE($W$3:W1409)","v":{"$error":"#VALUE!"}},null,{"$error":"#VALUE!"},{"$error":"#VALUE!"},{"$f":"AVERAGE($AA$3:AA1409)","v":{"$error":"#VALUE!"}},null,null,null,{"$f":"((AA1409*#REF!)+(#REF!*#REF!)+(#REF!*#REF!))/(#REF!+#REF!+#REF!)","v":{"$error":"#VALUE!"}},{"$f":"((AA1409*#REF!)+(#REF!*#REF!)+(#REF!*#REF!))/(#REF!+#REF!+#REF!)","v":{"$error":"#VALUE!"}},{"$f":"((AA1409*#REF!)+(#REF!*#REF!)+(#REF!*#REF!))/(#REF!+#REF!+#REF!)","v":{"$error":"#VALUE!"}},{"$f":"((AA1409*#REF!)+(#REF!*#REF!)+(#REF!*#REF!))/(#REF!+#REF!+#REF!)","v":{"$error":"#VALUE!"}},{"$f":"((AA1409*#REF!)+(#REF!*#REF!)+(#REF!*#REF!))/(#REF!+#REF!+#REF!)","v":{"$error":"#VALUE!"}},{"$f":"((AA1409*#REF!)+(#REF!*#REF!)+(#REF!*#REF!))/(#REF!+#REF!+#REF!)","v":{"$error":"#VALUE!"}},{"$f":"((AA1409*#REF!)+(#REF!*#REF!)+(#REF!*#REF!))/(#REF!+#REF!+#REF!)","v":{"$error":"#VALUE!"}}]
[null,null,null,null,null,null,null,null,null,null,null,null,null,null,null,null,null,null,null,null,null,1408,{"$error":"#VALUE!"},{"$f":"AVERAGE($W$3:W1410)","v":{"$error":"#VALUE!"}},null,{"$error":"#VALUE!"},{"$error":"#VALUE!"},{"$f":"AVERAGE($AA$3:AA1410)","v":{"$error":"#VALUE!"}},null,null,null,{"$f":"((AA1410*#REF!)+(#REF!*#REF!)+(#REF!*#REF!))/(#REF!+#REF!+#REF!)","v":{"$error":"#VALUE!"}},{"$f":"((AA1410*#REF!)+(#REF!*#REF!)+(#REF!*#REF!))/(#REF!+#REF!+#REF!)","v":{"$error":"#VALUE!"}},{"$f":"((AA1410*#REF!)+(#REF!*#REF!)+(#REF!*#REF!))/(#REF!+#REF!+#REF!)","v":{"$error":"#VALUE!"}},{"$f":"((AA1410*#REF!)+(#REF!*#REF!)+(#REF!*#REF!))/(#REF!+#REF!+#REF!)","v":{"$error":"#VALUE!"}},{"$f":"((AA1410*#REF!)+(#REF!*#REF!)+(#REF!*#REF!))/(#REF!+#REF!+#REF!)","v":{"$error":"#VALUE!"}},{"$f":"((AA1410*#REF!)+(#REF!*#REF!)+(#REF!*#REF!))/(#REF!+#REF!+#REF!)","v":{"$error":"#VALUE!"}},{"$f":"((AA1410*#REF!)+(#REF!*#REF!)+(#REF!*#REF!))/(#REF!+#REF!+#REF!)","v":{"$error":"#VALUE!"}}]
[null,null,null,null,null,null,null,null,null,null,null,null,null,null,null,null,null,null,null,null,null,1409,{"$error":"#VALUE!"},{"$f":"AVERAGE($W$3:W1411)","v":{"$error":"#VALUE!"}},null,{"$error":"#VALUE!"},{"$error":"#VALUE!"},{"$f":"AVERAGE($AA$3:AA1411)","v":{"$error":"#VALUE!"}},null,null,null,{"$f":"((AA1411*#REF!)+(#REF!*#REF!)+(#REF!*#REF!))/(#REF!+#REF!+#REF!)","v":{"$error":"#VALUE!"}},{"$f":"((AA1411*#REF!)+(#REF!*#REF!)+(#REF!*#REF!))/(#REF!+#REF!+#REF!)","v":{"$error":"#VALUE!"}},{"$f":"((AA1411*#REF!)+(#REF!*#REF!)+(#REF!*#REF!))/(#REF!+#REF!+#REF!)","v":{"$error":"#VALUE!"}},{"$f":"((AA1411*#REF!)+(#REF!*#REF!)+(#REF!*#REF!))/(#REF!+#REF!+#REF!)","v":{"$error":"#VALUE!"}},{"$f":"((AA1411*#REF!)+(#REF!*#REF!)+(#REF!*#REF!))/(#REF!+#REF!+#REF!)","v":{"$error":"#VALUE!"}},{"$f":"((AA1411*#REF!)+(#REF!*#REF!)+(#REF!*#REF!))/(#REF!+#REF!+#REF!)","v":{"$error":"#VALUE!"}},{"$f":"((AA1411*#REF!)+(#REF!*#REF!)+(#REF!*#REF!))/(#REF!+#REF!+#REF!)","v":{"$error":"#VALUE!"}}]
[null,null,null,null,null,null,null,null,null,null,null,null,null,null,null,null,null,null,null,null,null,1410,{"$error":"#VALUE!"},{"$f":"AVERAGE($W$3:W1412)","v":{"$error":"#VALUE!"}},null,{"$f":"$M$2+W1412","v":{"$error":"#VALUE!"}},{"$f":"(Z1412*(9/5))+32","v":{"$error":"#VALUE!"}},{"$f":"AVERAGE($AA$3:AA1412)","v":{"$error":"#VALUE!"}},null,null,null,{"$f":"((AA1412*#REF!)+(#REF!*#REF!)+(#REF!*#REF!))/(#REF!+#REF!+#REF!)","v":{"$error":"#VALUE!"}},{"$f":"((AA1412*#REF!)+(#REF!*#REF!)+(#REF!*#REF!))/(#REF!+#REF!+#REF!)","v":{"$error":"#VALUE!"}},{"$f":"((AA1412*#REF!)+(#REF!*#REF!)+(#REF!*#REF!))/(#REF!+#REF!+#REF!)","v":{"$error":"#VALUE!"}},{"$f":"((AA1412*#REF!)+(#REF!*#REF!)+(#REF!*#REF!))/(#REF!+#REF!+#REF!)","v":{"$error":"#VALUE!"}},{"$f":"((AA1412*#REF!)+(#REF!*#REF!)+(#REF!*#REF!))/(#REF!+#REF!+#REF!)","v":{"$error":"#VALUE!"}},{"$f":"((AA1412*#REF!)+(#REF!*#REF!)+(#REF!*#REF!))/(#REF!+#REF!+#REF!)","v":{"$error":"#VALUE!"}},{"$f":"((AA1412*#REF!)+(#REF!*#REF!)+(#REF!*#REF!))/(#REF!+#REF!+#REF!)","v":{"$error":"#VALUE!"}}]
[null,null,null,null,null,null,null,null,null,null,null,null,null,null,null,null,null,null,null,null,null,1411,{"$error":"#VALUE!"},{"$f":"AVERAGE($W$3:W1413)","v":{"$error":"#VALUE!"}},null,{"$error":"#VALUE!"},{"$error":"#VALUE!"},{"$f":"AVERAGE($AA$3:AA1413)","v":{"$error":"#VALUE!"}},null,null,null,{"$f":"((AA1413*#REF!)+(#REF!*#REF!)+(#REF!*#REF!))/(#REF!+#REF!+#REF!)","v":{"$error":"#VALUE!"}},{"$f":"((AA1413*#REF!)+(#REF!*#REF!)+(#REF!*#REF!))/(#REF!+#REF!+#REF!)","v":{"$error":"#VALUE!"}},{"$f":"((AA1413*#REF!)+(#REF!*#REF!)+(#REF!*#REF!))/(#REF!+#REF!+#REF!)","v":{"$error":"#VALUE!"}},{"$f":"((AA1413*#REF!)+(#REF!*#REF!)+(#REF!*#REF!))/(#REF!+#REF!+#REF!)","v":{"$error":"#VALUE!"}},{"$f":"((AA1413*#REF!)+(#REF!*#REF!)+(#REF!*#REF!))/(#REF!+#REF!+#REF!)","v":{"$error":"#VALUE!"}},{"$f":"((AA1413*#REF!)+(#REF!*#REF!)+(#REF!*#REF!))/(#REF!+#REF!+#REF!)","v":{"$error":"#VALUE!"}},{"$f":"((AA1413*#REF!)+(#REF!*#REF!)+(#REF!*#REF!))/(#REF!+#REF!+#REF!)","v":{"$error":"#VALUE!"}}]
[null,null,null,null,null,null,null,null,null,null,null,null,null,null,null,null,null,null,null,null,null,1412,{"$error":"#VALUE!"},{"$f":"AVERAGE($W$3:W1414)","v":{"$error":"#VALUE!"}},null,{"$error":"#VALUE!"},{"$error":"#VALUE!"},{"$f":"AVERAGE($AA$3:AA1414)","v":{"$error":"#VALUE!"}},null,null,null,{"$f":"((AA1414*#REF!)+(#REF!*#REF!)+(#REF!*#REF!))/(#REF!+#REF!+#REF!)","v":{"$error":"#VALUE!"}},{"$f":"((AA1414*#REF!)+(#REF!*#REF!)+(#REF!*#REF!))/(#REF!+#REF!+#REF!)","v":{"$error":"#VALUE!"}},{"$f":"((AA1414*#REF!)+(#REF!*#REF!)+(#REF!*#REF!))/(#REF!+#REF!+#REF!)","v":{"$error":"#VALUE!"}},{"$f":"((AA1414*#REF!)+(#REF!*#REF!)+(#REF!*#REF!))/(#REF!+#REF!+#REF!)","v":{"$error":"#VALUE!"}},{"$f":"((AA1414*#REF!)+(#REF!*#REF!)+(#REF!*#REF!))/(#REF!+#REF!+#REF!)","v":{"$error":"#VALUE!"}},{"$f":"((AA1414*#REF!)+(#REF!*#REF!)+(#REF!*#REF!))/(#REF!+#REF!+#REF!)","v":{"$error":"#VALUE!"}},{"$f":"((AA1414*#REF!)+(#REF!*#REF!)+(#REF!*#REF!))/(#REF!+#REF!+#REF!)","v":{"$error":"#VALUE!"}}]
[null,null,null,null,null,null,null,null,null,null,null,null,null,null,null,null,null,null,null,null,null,1413,{"$error":"#VALUE!"},{"$f":"AVERAGE($W$3:W1415)","v":{"$error":"#VALUE!"}},null,{"$error":"#VALUE!"},{"$error":"#VALUE!"},{"$f":"AVERAGE($AA$3:AA1415)","v":{"$error":"#VALUE!"}},null,null,null,{"$f":"((AA1415*#REF!)+(#REF!*#REF!)+(#REF!*#REF!))/(#REF!+#REF!+#REF!)","v":{"$error":"#VALUE!"}},{"$f":"((AA1415*#REF!)+(#REF!*#REF!)+(#REF!*#REF!))/(#REF!+#REF!+#REF!)","v":{"$error":"#VALUE!"}},{"$f":"((AA1415*#REF!)+(#REF!*#REF!)+(#REF!*#REF!))/(#REF!+#REF!+#REF!)","v":{"$error":"#VALUE!"}},{"$f":"((AA1415*#REF!)+(#REF!*#REF!)+(#REF!*#REF!))/(#REF!+#REF!+#REF!)","v":{"$error":"#VALUE!"}},{"$f":"((AA1415*#REF!)+(#REF!*#REF!)+(#REF!*#REF!))/(#REF!+#REF!+#REF!)","v":{"$error":"#VALUE!"}},{"$f":"((AA1415*#REF!)+(#REF!*#REF!)+(#REF!*#REF!))/(#REF!+#REF!+#REF!)","v":{"$error":"#VALUE!"}},{"$f":"((AA1415*#REF!)+(#REF!*#REF!)+(#REF!*#REF!))/(#REF!+#REF!+#REF!)","v":{"$error":"#VALUE!"}}]
[null,null,null,null,null,null,null,null,null,null,null,null,null,null,null,null,null,null,null,null,null,1414,{"$error":"#VALUE!"},{"$f":"AVERAGE($W$3:W1416)","v":{"$error":"#VALUE!"}},null,{"$error":"#VALUE!"},{"$error":"#VALUE!"},{"$f":"AVERAGE($AA$3:AA1416)","v":{"$error":"#VALUE!"}},null,null,null,{"$f":"((AA1416*#REF!)+(#REF!*#REF!)+(#REF!*#REF!))/(#REF!+#REF!+#REF!)","v":{"$error":"#VALUE!"}},{"$f":"((AA1416*#REF!)+(#REF!*#REF!)+(#REF!*#REF!))/(#REF!+#REF!+#REF!)","v":{"$error":"#VALUE!"}},{"$f":"((AA1416*#REF!)+(#REF!*#REF!)+(#REF!*#REF!))/(#REF!+#REF!+#REF!)","v":{"$error":"#VALUE!"}},{"$f":"((AA1416*#REF!)+(#REF!*#REF!)+(#REF!*#REF!))/(#REF!+#REF!+#REF!)","v":{"$error":"#VALUE!"}},{"$f":"((AA1416*#REF!)+(#REF!*#REF!)+(#REF!*#REF!))/(#REF!+#REF!+#REF!)","v":{"$error":"#VALUE!"}},{"$f":"((AA1416*#REF!)+(#REF!*#REF!)+(#REF!*#REF!))/(#REF!+#REF!+#REF!)","v":{"$error":"#VALUE!"}},{"$f":"((AA1416*#REF!)+(#REF!*#REF!)+(#REF!*#REF!))/(#REF!+#REF!+#REF!)","v":{"$error":"#VALUE!"}}]
[null,null,null,null,null,null,null,null,null,null,null,null,null,null,null,null,null,null,null,null,null,1415,{"$error":"#VALUE!"},{"$f":"AVERAGE($W$3:W1417)","v":{"$error":"#VALUE!"}},null,{"$error":"#VALUE!"},{"$error":"#VALUE!"},{"$f":"AVERAGE($AA$3:AA1417)","v":{"$error":"#VALUE!"}},null,null,null,{"$f":"((AA1417*#REF!)+(#REF!*#REF!)+(#REF!*#REF!))/(#REF!+#REF!+#REF!)","v":{"$error":"#VALUE!"}},{"$f":"((AA1417*#REF!)+(#REF!*#REF!)+(#REF!*#REF!))/(#REF!+#REF!+#REF!)","v":{"$error":"#VALUE!"}},{"$f":"((AA1417*#REF!)+(#REF!*#REF!)+(#REF!*#REF!))/(#REF!+#REF!+#REF!)","v":{"$error":"#VALUE!"}},{"$f":"((AA1417*#REF!)+(#REF!*#REF!)+(#REF!*#REF!))/(#REF!+#REF!+#REF!)","v":{"$error":"#VALUE!"}},{"$f":"((AA1417*#REF!)+(#REF!*#REF!)+(#REF!*#REF!))/(#REF!+#REF!+#REF!)","v":{"$error":"#VALUE!"}},{"$f":"((AA1417*#REF!)+(#REF!*#REF!)+(#REF!*#REF!))/(#REF!+#REF!+#REF!)","v":{"$error":"#VALUE!"}},{"$f":"((AA1417*#REF!)+(#REF!*#REF!)+(#REF!*#REF!))/(#REF!+#REF!+#REF!)","v":{"$error":"#VALUE!"}}]
[null,null,null,null,null,null,null,null,null,null,null,null,null,null,null,null,null,null,null,null,null,1416,{"$error":"#VALUE!"},{"$f":"AVERAGE($W$3:W1418)","v":{"$error":"#VALUE!"}},null,{"$error":"#VALUE!"},{"$error":"#VALUE!"},{"$f":"AVERAGE($AA$3:AA1418)","v":{"$error":"#VALUE!"}},null,null,null,{"$f":"((AA1418*#REF!)+(#REF!*#REF!)+(#REF!*#REF!))/(#REF!+#REF!+#REF!)","v":{"$error":"#VALUE!"}},{"$f":"((AA1418*#REF!)+(#REF!*#REF!)+(#REF!*#REF!))/(#REF!+#REF!+#REF!)","v":{"$error":"#VALUE!"}},{"$f":"((AA1418*#REF!)+(#REF!*#REF!)+(#REF!*#REF!))/(#REF!+#REF!+#REF!)","v":{"$error":"#VALUE!"}},{"$f":"((AA1418*#REF!)+(#REF!*#REF!)+(#REF!*#REF!))/(#REF!+#REF!+#REF!)","v":{"$error":"#VALUE!"}},{"$f":"((AA1418*#REF!)+(#REF!*#REF!)+(#REF!*#REF!))/(#REF!+#REF!+#REF!)","v":{"$error":"#VALUE!"}},{"$f":"((AA1418*#REF!)+(#REF!*#REF!)+(#REF!*#REF!))/(#REF!+#REF!+#REF!)","v":{"$error":"#VALUE!"}},{"$f":"((AA1418*#REF!)+(#REF!*#REF!)+(#REF!*#REF!))/(#REF!+#REF!+#REF!)","v":{"$error":"#VALUE!"}}]
[null,null,null,null,null,null,null,null,null,null,null,null,null,null,null,null,null,null,null,null,null,1417,{"$error":"#VALUE!"},{"$f":"AVERAGE($W$3:W1419)","v":{"$error":"#VALUE!"}},null,{"$error":"#VALUE!"},{"$error":"#VALUE!"},{"$f":"AVERAGE($AA$3:AA1419)","v":{"$error":"#VALUE!"}},null,null,null,{"$f":"((AA1419*#REF!)+(#REF!*#REF!)+(#REF!*#REF!))/(#REF!+#REF!+#REF!)","v":{"$error":"#VALUE!"}},{"$f":"((AA1419*#REF!)+(#REF!*#REF!)+(#REF!*#REF!))/(#REF!+#REF!+#REF!)","v":{"$error":"#VALUE!"}},{"$f":"((AA1419*#REF!)+(#REF!*#REF!)+(#REF!*#REF!))/(#REF!+#REF!+#REF!)","v":{"$error":"#VALUE!"}},{"$f":"((AA1419*#REF!)+(#REF!*#REF!)+(#REF!*#REF!))/(#REF!+#REF!+#REF!)","v":{"$error":"#VALUE!"}},{"$f":"((AA1419*#REF!)+(#REF!*#REF!)+(#REF!*#REF!))/(#REF!+#REF!+#REF!)","v":{"$error":"#VALUE!"}},{"$f":"((AA1419*#REF!)+(#REF!*#REF!)+(#REF!*#REF!))/(#REF!+#REF!+#REF!)","v":{"$error":"#VALUE!"}},{"$f":"((AA1419*#REF!)+(#REF!*#REF!)+(#REF!*#REF!))/(#REF!+#REF!+#REF!)","v":{"$error":"#VALUE!"}}]
[null,null,null,null,null,null,null,null,null,null,null,null,null,null,null,null,null,null,null,null,null,1418,{"$error":"#VALUE!"},{"$f":"AVERAGE($W$3:W1420)","v":{"$error":"#VALUE!"}},null,{"$error":"#VALUE!"},{"$error":"#VALUE!"},{"$f":"AVERAGE($AA$3:AA1420)","v":{"$error":"#VALUE!"}},null,null,null,{"$f":"((AA1420*#REF!)+(#REF!*#REF!)+(#REF!*#REF!))/(#REF!+#REF!+#REF!)","v":{"$error":"#VALUE!"}},{"$f":"((AA1420*#REF!)+(#REF!*#REF!)+(#REF!*#REF!))/(#REF!+#REF!+#REF!)","v":{"$error":"#VALUE!"}},{"$f":"((AA1420*#REF!)+(#REF!*#REF!)+(#REF!*#REF!))/(#REF!+#REF!+#REF!)","v":{"$error":"#VALUE!"}},{"$f":"((AA1420*#REF!)+(#REF!*#REF!)+(#REF!*#REF!))/(#REF!+#REF!+#REF!)","v":{"$error":"#VALUE!"}},{"$f":"((AA1420*#REF!)+(#REF!*#REF!)+(#REF!*#REF!))/(#REF!+#REF!+#REF!)","v":{"$error":"#VALUE!"}},{"$f":"((AA1420*#REF!)+(#REF!*#REF!)+(#REF!*#REF!))/(#REF!+#REF!+#REF!)","v":{"$error":"#VALUE!"}},{"$f":"((AA1420*#REF!)+(#REF!*#REF!)+(#REF!*#REF!))/(#REF!+#REF!+#REF!)","v":{"$error":"#VALUE!"}}]
[null,null,null,null,null,null,null,null,null,null,null,null,null,null,null,null,null,null,null,null,null,1419,{"$error":"#VALUE!"},{"$f":"AVERAGE($W$3:W1421)","v":{"$error":"#VALUE!"}},null,{"$error":"#VALUE!"},{"$error":"#VALUE!"},{"$f":"AVERAGE($AA$3:AA1421)","v":{"$error":"#VALUE!"}},null,null,null,{"$f":"((AA1421*#REF!)+(#REF!*#REF!)+(#REF!*#REF!))/(#REF!+#REF!+#REF!)","v":{"$error":"#VALUE!"}},{"$f":"((AA1421*#REF!)+(#REF!*#REF!)+(#REF!*#REF!))/(#REF!+#REF!+#REF!)","v":{"$error":"#VALUE!"}},{"$f":"((AA1421*#REF!)+(#REF!*#REF!)+(#REF!*#REF!))/(#REF!+#REF!+#REF!)","v":{"$error":"#VALUE!"}},{"$f":"((AA1421*#REF!)+(#REF!*#REF!)+(#REF!*#REF!))/(#REF!+#REF!+#REF!)","v":{"$error":"#VALUE!"}},{"$f":"((AA1421*#REF!)+(#REF!*#REF!)+(#REF!*#REF!))/(#REF!+#REF!+#REF!)","v":{"$error":"#VALUE!"}},{"$f":"((AA1421*#REF!)+(#REF!*#REF!)+(#REF!*#REF!))/(#REF!+#REF!+#REF!)","v":{"$error":"#VALUE!"}},{"$f":"((AA1421*#REF!)+(#REF!*#REF!)+(#REF!*#REF!))/(#REF!+#REF!+#REF!)","v":{"$error":"#VALUE!"}}]
[null,null,null,null,null,null,null,null,null,null,null,null,null,null,null,null,null,null,null,null,null,1420,{"$error":"#VALUE!"},{"$f":"AVERAGE($W$3:W1422)","v":{"$error":"#VALUE!"}},null,{"$error":"#VALUE!"},{"$error":"#VALUE!"},{"$f":"AVERAGE($AA$3:AA1422)","v":{"$error":"#VALUE!"}},null,null,null,{"$f":"((AA1422*#REF!)+(#REF!*#REF!)+(#REF!*#REF!))/(#REF!+#REF!+#REF!)","v":{"$error":"#VALUE!"}},{"$f":"((AA1422*#REF!)+(#REF!*#REF!)+(#REF!*#REF!))/(#REF!+#REF!+#REF!)","v":{"$error":"#VALUE!"}},{"$f":"((AA1422*#REF!)+(#REF!*#REF!)+(#REF!*#REF!))/(#REF!+#REF!+#REF!)","v":{"$error":"#VALUE!"}},{"$f":"((AA1422*#REF!)+(#REF!*#REF!)+(#REF!*#REF!))/(#REF!+#REF!+#REF!)","v":{"$error":"#VALUE!"}},{"$f":"((AA1422*#REF!)+(#REF!*#REF!)+(#REF!*#REF!))/(#REF!+#REF!+#REF!)","v":{"$error":"#VALUE!"}},{"$f":"((AA1422*#REF!)+(#REF!*#REF!)+(#REF!*#REF!))/(#REF!+#REF!+#REF!)","v":{"$error":"#VALUE!"}},{"$f":"((AA1422*#REF!)+(#REF!*#REF!)+(#REF!*#REF!))/(#REF!+#REF!+#REF!)","v":{"$error":"#VALUE!"}}]
[null,null,null,null,null,null,null,null,null,null,null,null,null,null,null,null,null,null,null,null,null,1421,{"$error":"#VALUE!"},{"$f":"AVERAGE($W$3:W1423)","v":{"$error":"#VALUE!"}},null,{"$error":"#VALUE!"},{"$error":"#VALUE!"},{"$f":"AVERAGE($AA$3:AA1423)","v":{"$error":"#VALUE!"}},null,null,null,{"$f":"((AA1423*#REF!)+(#REF!*#REF!)+(#REF!*#REF!))/(#REF!+#REF!+#REF!)","v":{"$error":"#VALUE!"}},{"$f":"((AA1423*#REF!)+(#REF!*#REF!)+(#REF!*#REF!))/(#REF!+#REF!+#REF!)","v":{"$error":"#VALUE!"}},{"$f":"((AA1423*#REF!)+(#REF!*#REF!)+(#REF!*#REF!))/(#REF!+#REF!+#REF!)","v":{"$error":"#VALUE!"}},{"$f":"((AA1423*#REF!)+(#REF!*#REF!)+(#REF!*#REF!))/(#REF!+#REF!+#REF!)","v":{"$error":"#VALUE!"}},{"$f":"((AA1423*#REF!)+(#REF!*#REF!)+(#REF!*#REF!))/(#REF!+#REF!+#REF!)","v":{"$error":"#VALUE!"}},{"$f":"((AA1423*#REF!)+(#REF!*#REF!)+(#REF!*#REF!))/(#REF!+#REF!+#REF!)","v":{"$error":"#VALUE!"}},{"$f":"((AA1423*#REF!)+(#REF!*#REF!)+(#REF!*#REF!))/(#REF!+#REF!+#REF!)","v":{"$error":"#VALUE!"}}]
[null,null,null,null,null,null,null,null,null,null,null,null,null,null,null,null,null,null,null,null,null,1422,{"$error":"#VALUE!"},{"$f":"AVERAGE($W$3:W1424)","v":{"$error":"#VALUE!"}},null,{"$error":"#VALUE!"},{"$error":"#VALUE!"},{"$f":"AVERAGE($AA$3:AA1424)","v":{"$error":"#VALUE!"}},null,null,null,{"$f":"((AA1424*#REF!)+(#REF!*#REF!)+(#REF!*#REF!))/(#REF!+#REF!+#REF!)","v":{"$error":"#VALUE!"}},{"$f":"((AA1424*#REF!)+(#REF!*#REF!)+(#REF!*#REF!))/(#REF!+#REF!+#REF!)","v":{"$error":"#VALUE!"}},{"$f":"((AA1424*#REF!)+(#REF!*#REF!)+(#REF!*#REF!))/(#REF!+#REF!+#REF!)","v":{"$error":"#VALUE!"}},{"$f":"((AA1424*#REF!)+(#REF!*#REF!)+(#REF!*#REF!))/(#REF!+#REF!+#REF!)","v":{"$error":"#VALUE!"}},{"$f":"((AA1424*#REF!)+(#REF!*#REF!)+(#REF!*#REF!))/(#REF!+#REF!+#REF!)","v":{"$error":"#VALUE!"}},{"$f":"((AA1424*#REF!)+(#REF!*#REF!)+(#REF!*#REF!))/(#REF!+#REF!+#REF!)","v":{"$error":"#VALUE!"}},{"$f":"((AA1424*#REF!)+(#REF!*#REF!)+(#REF!*#REF!))/(#REF!+#REF!+#REF!)","v":{"$error":"#VALUE!"}}]
[null,null,null,null,null,null,null,null,null,null,null,null,null,null,null,null,null,null,null,null,null,1423,{"$error":"#VALUE!"},{"$f":"AVERAGE($W$3:W1425)","v":{"$error":"#VALUE!"}},null,{"$error":"#VALUE!"},{"$error":"#VALUE!"},{"$f":"AVERAGE($AA$3:AA1425)","v":{"$error":"#VALUE!"}},null,null,null,{"$f":"((AA1425*#REF!)+(#REF!*#REF!)+(#REF!*#REF!))/(#REF!+#REF!+#REF!)","v":{"$error":"#VALUE!"}},{"$f":"((AA1425*#REF!)+(#REF!*#REF!)+(#REF!*#REF!))/(#REF!+#REF!+#REF!)","v":{"$error":"#VALUE!"}},{"$f":"((AA1425*#REF!)+(#REF!*#REF!)+(#REF!*#REF!))/(#REF!+#REF!+#REF!)","v":{"$error":"#VALUE!"}},{"$f":"((AA1425*#REF!)+(#REF!*#REF!)+(#REF!*#REF!))/(#REF!+#REF!+#REF!)","v":{"$error":"#VALUE!"}},{"$f":"((AA1425*#REF!)+(#REF!*#REF!)+(#REF!*#REF!))/(#REF!+#REF!+#REF!)","v":{"$error":"#VALUE!"}},{"$f":"((AA1425*#REF!)+(#REF!*#REF!)+(#REF!*#REF!))/(#REF!+#REF!+#REF!)","v":{"$error":"#VALUE!"}},{"$f":"((AA1425*#REF!)+(#REF!*#REF!)+(#REF!*#REF!))/(#REF!+#REF!+#REF!)","v":{"$error":"#VALUE!"}}]
[null,null,null,null,null,null,null,null,null,null,null,null,null,null,null,null,null,null,null,null,null,1424,{"$error":"#VALUE!"},{"$f":"AVERAGE($W$3:W1426)","v":{"$error":"#VALUE!"}},null,{"$error":"#VALUE!"},{"$error":"#VALUE!"},{"$f":"AVERAGE($AA$3:AA1426)","v":{"$error":"#VALUE!"}},null,null,null,{"$f":"((AA1426*#REF!)+(#REF!*#REF!)+(#REF!*#REF!))/(#REF!+#REF!+#REF!)","v":{"$error":"#VALUE!"}},{"$f":"((AA1426*#REF!)+(#REF!*#REF!)+(#REF!*#REF!))/(#REF!+#REF!+#REF!)","v":{"$error":"#VALUE!"}},{"$f":"((AA1426*#REF!)+(#REF!*#REF!)+(#REF!*#REF!))/(#REF!+#REF!+#REF!)","v":{"$error":"#VALUE!"}},{"$f":"((AA1426*#REF!)+(#REF!*#REF!)+(#REF!*#REF!))/(#REF!+#REF!+#REF!)","v":{"$error":"#VALUE!"}},{"$f":"((AA1426*#REF!)+(#REF!*#REF!)+(#REF!*#REF!))/(#REF!+#REF!+#REF!)","v":{"$error":"#VALUE!"}},{"$f":"((AA1426*#REF!)+(#REF!*#REF!)+(#REF!*#REF!))/(#REF!+#REF!+#REF!)","v":{"$error":"#VALUE!"}},{"$f":"((AA1426*#REF!)+(#REF!*#REF!)+(#REF!*#REF!))/(#REF!+#REF!+#REF!)","v":{"$error":"#VALUE!"}}]
[null,null,null,null,null,null,null,null,null,null,null,null,null,null,null,null,null,null,null,null,null,1425,{"$error":"#VALUE!"},{"$f":"AVERAGE($W$3:W1427)","v":{"$error":"#VALUE!"}},null,{"$error":"#VALUE!"},{"$error":"#VALUE!"},{"$f":"AVERAGE($AA$3:AA1427)","v":{"$error":"#VALUE!"}},null,null,null,{"$f":"((AA1427*#REF!)+(#REF!*#REF!)+(#REF!*#REF!))/(#REF!+#REF!+#REF!)","v":{"$error":"#VALUE!"}},{"$f":"((AA1427*#REF!)+(#REF!*#REF!)+(#REF!*#REF!))/(#REF!+#REF!+#REF!)","v":{"$error":"#VALUE!"}},{"$f":"((AA1427*#REF!)+(#REF!*#REF!)+(#REF!*#REF!))/(#REF!+#REF!+#REF!)","v":{"$error":"#VALUE!"}},{"$f":"((AA1427*#REF!)+(#REF!*#REF!)+(#REF!*#REF!))/(#REF!+#REF!+#REF!)","v":{"$error":"#VALUE!"}},{"$f":"((AA1427*#REF!)+(#REF!*#REF!)+(#REF!*#REF!))/(#REF!+#REF!+#REF!)","v":{"$error":"#VALUE!"}},{"$f":"((AA1427*#REF!)+(#REF!*#REF!)+(#REF!*#REF!))/(#REF!+#REF!+#REF!)","v":{"$error":"#VALUE!"}},{"$f":"((AA1427*#REF!)+(#REF!*#REF!)+(#REF!*#REF!))/(#REF!+#REF!+#REF!)","v":{"$error":"#VALUE!"}}]
[null,null,null,null,null,null,null,null,null,null,null,null,null,null,null,null,null,null,null,null,null,1426,{"$error":"#VALUE!"},{"$f":"AVERAGE($W$3:W1428)","v":{"$error":"#VALUE!"}},null,{"$error":"#VALUE!"},{"$error":"#VALUE!"},{"$f":"AVERAGE($AA$3:AA1428)","v":{"$error":"#VALUE!"}},null,null,null,{"$f":"((AA1428*#REF!)+(#REF!*#REF!)+(#REF!*#REF!))/(#REF!+#REF!+#REF!)","v":{"$error":"#VALUE!"}},{"$f":"((AA1428*#REF!)+(#REF!*#REF!)+(#REF!*#REF!))/(#REF!+#REF!+#REF!)","v":{"$error":"#VALUE!"}},{"$f":"((AA1428*#REF!)+(#REF!*#REF!)+(#REF!*#REF!))/(#REF!+#REF!+#REF!)","v":{"$error":"#VALUE!"}},{"$f":"((AA1428*#REF!)+(#REF!*#REF!)+(#REF!*#REF!))/(#REF!+#REF!+#REF!)","v":{"$error":"#VALUE!"}},{"$f":"((AA1428*#REF!)+(#REF!*#REF!)+(#REF!*#REF!))/(#REF!+#REF!+#REF!)","v":{"$error":"#VALUE!"}},{"$f":"((AA1428*#REF!)+(#REF!*#REF!)+(#REF!*#REF!))/(#REF!+#REF!+#REF!)","v":{"$error":"#VALUE!"}},{"$f":"((AA1428*#REF!)+(#REF!*#REF!)+(#REF!*#REF!))/(#REF!+#REF!+#REF!)","v":{"$error":"#VALUE!"}}]
[null,null,null,null,null,null,null,null,null,null,null,null,null,null,null,null,null,null,null,null,null,1427,{"$error":"#VALUE!"},{"$f":"AVERAGE($W$3:W1429)","v":{"$error":"#VALUE!"}},null,{"$error":"#VALUE!"},{"$error":"#VALUE!"},{"$f":"AVERAGE($AA$3:AA1429)","v":{"$error":"#VALUE!"}},null,null,null,{"$f":"((AA1429*#REF!)+(#REF!*#REF!)+(#REF!*#REF!))/(#REF!+#REF!+#REF!)","v":{"$error":"#VALUE!"}},{"$f":"((AA1429*#REF!)+(#REF!*#REF!)+(#REF!*#REF!))/(#REF!+#REF!+#REF!)","v":{"$error":"#VALUE!"}},{"$f":"((AA1429*#REF!)+(#REF!*#REF!)+(#REF!*#REF!))/(#REF!+#REF!+#REF!)","v":{"$error":"#VALUE!"}},{"$f":"((AA1429*#REF!)+(#REF!*#REF!)+(#REF!*#REF!))/(#REF!+#REF!+#REF!)","v":{"$error":"#VALUE!"}},{"$f":"((AA1429*#REF!)+(#REF!*#REF!)+(#REF!*#REF!))/(#REF!+#REF!+#REF!)","v":{"$error":"#VALUE!"}},{"$f":"((AA1429*#REF!)+(#REF!*#REF!)+(#REF!*#REF!))/(#REF!+#REF!+#REF!)","v":{"$error":"#VALUE!"}},{"$f":"((AA1429*#REF!)+(#REF!*#REF!)+(#REF!*#REF!))/(#REF!+#REF!+#REF!)","v":{"$error":"#VALUE!"}}]
[null,null,null,null,null,null,null,null,null,null,null,null,null,null,null,null,null,null,null,null,null,1428,{"$error":"#VALUE!"},{"$f":"AVERAGE($W$3:W1430)","v":{"$error":"#VALUE!"}},null,{"$error":"#VALUE!"},{"$error":"#VALUE!"},{"$f":"AVERAGE($AA$3:AA1430)","v":{"$error":"#VALUE!"}},null,null,null,{"$f":"((AA1430*#REF!)+(#REF!*#REF!)+(#REF!*#REF!))/(#REF!+#REF!+#REF!)","v":{"$error":"#VALUE!"}},{"$f":"((AA1430*#REF!)+(#REF!*#REF!)+(#REF!*#REF!))/(#REF!+#REF!+#REF!)","v":{"$error":"#VALUE!"}},{"$f":"((AA1430*#REF!)+(#REF!*#REF!)+(#REF!*#REF!))/(#REF!+#REF!+#REF!)","v":{"$error":"#VALUE!"}},{"$f":"((AA1430*#REF!)+(#REF!*#REF!)+(#REF!*#REF!))/(#REF!+#REF!+#REF!)","v":{"$error":"#VALUE!"}},{"$f":"((AA1430*#REF!)+(#REF!*#REF!)+(#REF!*#REF!))/(#REF!+#REF!+#REF!)","v":{"$error":"#VALUE!"}},{"$f":"((AA1430*#REF!)+(#REF!*#REF!)+(#REF!*#REF!))/(#REF!+#REF!+#REF!)","v":{"$error":"#VALUE!"}},{"$f":"((AA1430*#REF!)+(#REF!*#REF!)+(#REF!*#REF!))/(#REF!+#REF!+#REF!)","v":{"$error":"#VALUE!"}}]
[null,null,null,null,null,null,null,null,null,null,null,null,null,null,null,null,null,null,null,null,null,1429,{"$error":"#VALUE!"},{"$f":"AVERAGE($W$3:W1431)","v":{"$error":"#VALUE!"}},null,{"$error":"#VALUE!"},{"$error":"#VALUE!"},{"$f":"AVERAGE($AA$3:AA1431)","v":{"$error":"#VALUE!"}},null,null,null,{"$f":"((AA1431*#REF!)+(#REF!*#REF!)+(#REF!*#REF!))/(#REF!+#REF!+#REF!)","v":{"$error":"#VALUE!"}},{"$f":"((AA1431*#REF!)+(#REF!*#REF!)+(#REF!*#REF!))/(#REF!+#REF!+#REF!)","v":{"$error":"#VALUE!"}},{"$f":"((AA1431*#REF!)+(#REF!*#REF!)+(#REF!*#REF!))/(#REF!+#REF!+#REF!)","v":{"$error":"#VALUE!"}},{"$f":"((AA1431*#REF!)+(#REF!*#REF!)+(#REF!*#REF!))/(#REF!+#REF!+#REF!)","v":{"$error":"#VALUE!"}},{"$f":"((AA1431*#REF!)+(#REF!*#REF!)+(#REF!*#REF!))/(#REF!+#REF!+#REF!)","v":{"$error":"#VALUE!"}},{"$f":"((AA1431*#REF!)+(#REF!*#REF!)+(#REF!*#REF!))/(#REF!+#REF!+#REF!)","v":{"$error":"#VALUE!"}},{"$f":"((AA1431*#REF!)+(#REF!*#REF!)+(#REF!*#REF!))/(#REF!+#REF!+#REF!)","v":{"$error":"#VALUE!"}}]
[null,null,null,null,null,null,null,null,null,null,null,null,null,null,null,null,null,null,null,null,null,1430,{"$error":"#VALUE!"},{"$f":"AVERAGE($W$3:W1432)","v":{"$error":"#VALUE!"}},null,{"$error":"#VALUE!"},{"$error":"#VALUE!"},{"$f":"AVERAGE($AA$3:AA1432)","v":{"$error":"#VALUE!"}},null,null,null,{"$f":"((AA1432*#REF!)+(#REF!*#REF!)+(#REF!*#REF!))/(#REF!+#REF!+#REF!)","v":{"$error":"#VALUE!"}},{"$f":"((AA1432*#REF!)+(#REF!*#REF!)+(#REF!*#REF!))/(#REF!+#REF!+#REF!)","v":{"$error":"#VALUE!"}},{"$f":"((AA1432*#REF!)+(#REF!*#REF!)+(#REF!*#REF!))/(#REF!+#REF!+#REF!)","v":{"$error":"#VALUE!"}},{"$f":"((AA1432*#REF!)+(#REF!*#REF!)+(#REF!*#REF!))/(#REF!+#REF!+#REF!)","v":{"$error":"#VALUE!"}},{"$f":"((AA1432*#REF!)+(#REF!*#REF!)+(#REF!*#REF!))/(#REF!+#REF!+#REF!)","v":{"$error":"#VALUE!"}},{"$f":"((AA1432*#REF!)+(#REF!*#REF!)+(#REF!*#REF!))/(#REF!+#REF!+#REF!)","v":{"$error":"#VALUE!"}},{"$f":"((AA1432*#REF!)+(#REF!*#REF!)+(#REF!*#REF!))/(#REF!+#REF!+#REF!)","v":{"$error":"#VALUE!"}}]
[null,null,null,null,null,null,null,null,null,null,null,null,null,null,null,null,null,null,null,null,null,1431,{"$error":"#VALUE!"},{"$f":"AVERAGE($W$3:W1433)","v":{"$error":"#VALUE!"}},null,{"$error":"#VALUE!"},{"$error":"#VALUE!"},{"$f":"AVERAGE($AA$3:AA1433)","v":{"$error":"#VALUE!"}},null,null,null,{"$f":"((AA1433*#REF!)+(#REF!*#REF!)+(#REF!*#REF!))/(#REF!+#REF!+#REF!)","v":{"$error":"#VALUE!"}},{"$f":"((AA1433*#REF!)+(#REF!*#REF!)+(#REF!*#REF!))/(#REF!+#REF!+#REF!)","v":{"$error":"#VALUE!"}},{"$f":"((AA1433*#REF!)+(#REF!*#REF!)+(#REF!*#REF!))/(#REF!+#REF!+#REF!)","v":{"$error":"#VALUE!"}},{"$f":"((AA1433*#REF!)+(#REF!*#REF!)+(#REF!*#REF!))/(#REF!+#REF!+#REF!)","v":{"$error":"#VALUE!"}},{"$f":"((AA1433*#REF!)+(#REF!*#REF!)+(#REF!*#REF!))/(#REF!+#REF!+#REF!)","v":{"$error":"#VALUE!"}},{"$f":"((AA1433*#REF!)+(#REF!*#REF!)+(#REF!*#REF!))/(#REF!+#REF!+#REF!)","v":{"$error":"#VALUE!"}},{"$f":"((AA1433*#REF!)+(#REF!*#REF!)+(#REF!*#REF!))/(#REF!+#REF!+#REF!)","v":{"$error":"#VALUE!"}}]
[null,null,null,null,null,null,null,null,null,null,null,null,null,null,null,null,null,null,null,null,null,1432,{"$error":"#VALUE!"},{"$f":"AVERAGE($W$3:W1434)","v":{"$error":"#VALUE!"}},null,{"$error":"#VALUE!"},{"$error":"#VALUE!"},{"$f":"AVERAGE($AA$3:AA1434)","v":{"$error":"#VALUE!"}},null,null,null,{"$f":"((AA1434*#REF!)+(#REF!*#REF!)+(#REF!*#REF!))/(#REF!+#REF!+#REF!)","v":{"$error":"#VALUE!"}},{"$f":"((AA1434*#REF!)+(#REF!*#REF!)+(#REF!*#REF!))/(#REF!+#REF!+#REF!)","v":{"$error":"#VALUE!"}},{"$f":"((AA1434*#REF!)+(#REF!*#REF!)+(#REF!*#REF!))/(#REF!+#REF!+#REF!)","v":{"$error":"#VALUE!"}},{"$f":"((AA1434*#REF!)+(#REF!*#REF!)+(#REF!*#REF!))/(#REF!+#REF!+#REF!)","v":{"$error":"#VALUE!"}},{"$f":"((AA1434*#REF!)+(#REF!*#REF!)+(#REF!*#REF!))/(#REF!+#REF!+#REF!)","v":{"$error":"#VALUE!"}},{"$f":"((AA1434*#REF!)+(#REF!*#REF!)+(#REF!*#REF!))/(#REF!+#REF!+#REF!)","v":{"$error":"#VALUE!"}},{"$f":"((AA1434*#REF!)+(#REF!*#REF!)+(#REF!*#REF!))/(#REF!+#REF!+#REF!)","v":{"$error":"#VALUE!"}}]
[null,null,null,null,null,null,null,null,null,null,null,null,null,null,null,null,null,null,null,null,null,1433,{"$error":"#VALUE!"},{"$f":"AVERAGE($W$3:W1435)","v":{"$error":"#VALUE!"}},null,{"$error":"#VALUE!"},{"$error":"#VALUE!"},{"$f":"AVERAGE($AA$3:AA1435)","v":{"$error":"#VALUE!"}},null,null,null,{"$f":"((AA1435*#REF!)+(#REF!*#REF!)+(#REF!*#REF!))/(#REF!+#REF!+#REF!)","v":{"$error":"#VALUE!"}},{"$f":"((AA1435*#REF!)+(#REF!*#REF!)+(#REF!*#REF!))/(#REF!+#REF!+#REF!)","v":{"$error":"#VALUE!"}},{"$f":"((AA1435*#REF!)+(#REF!*#REF!)+(#REF!*#REF!))/(#REF!+#REF!+#REF!)","v":{"$error":"#VALUE!"}},{"$f":"((AA1435*#REF!)+(#REF!*#REF!)+(#REF!*#REF!))/(#REF!+#REF!+#REF!)","v":{"$error":"#VALUE!"}},{"$f":"((AA1435*#REF!)+(#REF!*#REF!)+(#REF!*#REF!))/(#REF!+#REF!+#REF!)","v":{"$error":"#VALUE!"}},{"$f":"((AA1435*#REF!)+(#REF!*#REF!)+(#REF!*#REF!))/(#REF!+#REF!+#REF!)","v":{"$error":"#VALUE!"}},{"$f":"((AA1435*#REF!)+(#REF!*#REF!)+(#REF!*#REF!))/(#REF!+#REF!+#REF!)","v":{"$error":"#VALUE!"}}]
[null,null,null,null,null,null,null,null,null,null,null,null,null,null,null,null,null,null,null,null,null,1434,{"$error":"#VALUE!"},{"$f":"AVERAGE($W$3:W1436)","v":{"$error":"#VALUE!"}},null,{"$error":"#VALUE!"},{"$error":"#VALUE!"},{"$f":"AVERAGE($AA$3:AA1436)","v":{"$error":"#VALUE!"}},null,null,null,{"$f":"((AA1436*#REF!)+(#REF!*#REF!)+(#REF!*#REF!))/(#REF!+#REF!+#REF!)","v":{"$error":"#VALUE!"}},{"$f":"((AA1436*#REF!)+(#REF!*#REF!)+(#REF!*#REF!))/(#REF!+#REF!+#REF!)","v":{"$error":"#VALUE!"}},{"$f":"((AA1436*#REF!)+(#REF!*#REF!)+(#REF!*#REF!))/(#REF!+#REF!+#REF!)","v":{"$error":"#VALUE!"}},{"$f":"((AA1436*#REF!)+(#REF!*#REF!)+(#REF!*#REF!))/(#REF!+#REF!+#REF!)","v":{"$error":"#VALUE!"}},{"$f":"((AA1436*#REF!)+(#REF!*#REF!)+(#REF!*#REF!))/(#REF!+#REF!+#REF!)","v":{"$error":"#VALUE!"}},{"$f":"((AA1436*#REF!)+(#REF!*#REF!)+(#REF!*#REF!))/(#REF!+#REF!+#REF!)","v":{"$error":"#VALUE!"}},{"$f":"((AA1436*#REF!)+(#REF!*#REF!)+(#REF!*#REF!))/(#REF!+#REF!+#REF!)","v":{"$error":"#VALUE!"}}]
[null,null,null,null,null,null,null,null,null,null,null,null,null,null,null,null,null,null,null,null,null,1435,{"$error":"#VALUE!"},{"$f":"AVERAGE($W$3:W1437)","v":{"$error":"#VALUE!"}},null,{"$error":"#VALUE!"},{"$error":"#VALUE!"},{"$f":"AVERAGE($AA$3:AA1437)","v":{"$error":"#VALUE!"}},null,null,null,{"$f":"((AA1437*#REF!)+(#REF!*#REF!)+(#REF!*#REF!))/(#REF!+#REF!+#REF!)","v":{"$error":"#VALUE!"}},{"$f":"((AA1437*#REF!)+(#REF!*#REF!)+(#REF!*#REF!))/(#REF!+#REF!+#REF!)","v":{"$error":"#VALUE!"}},{"$f":"((AA1437*#REF!)+(#REF!*#REF!)+(#REF!*#REF!))/(#REF!+#REF!+#REF!)","v":{"$error":"#VALUE!"}},{"$f":"((AA1437*#REF!)+(#REF!*#REF!)+(#REF!*#REF!))/(#REF!+#REF!+#REF!)","v":{"$error":"#VALUE!"}},{"$f":"((AA1437*#REF!)+(#REF!*#REF!)+(#REF!*#REF!))/(#REF!+#REF!+#REF!)","v":{"$error":"#VALUE!"}},{"$f":"((AA1437*#REF!)+(#REF!*#REF!)+(#REF!*#REF!))/(#REF!+#REF!+#REF!)","v":{"$error":"#VALUE!"}},{"$f":"((AA1437*#REF!)+(#REF!*#REF!)+(#REF!*#REF!))/(#REF!+#REF!+#REF!)","v":{"$error":"#VALUE!"}}]
[null,null,null,null,null,null,null,null,null,null,null,null,null,null,null,null,null,null,null,null,null,1436,{"$error":"#VALUE!"},{"$f":"AVERAGE($W$3:W1438)","v":{"$error":"#VALUE!"}},null,{"$error":"#VALUE!"},{"$error":"#VALUE!"},{"$f":"AVERAGE($AA$3:AA1438)","v":{"$error":"#VALUE!"}},null,null,null,{"$f":"((AA1438*#REF!)+(#REF!*#REF!)+(#REF!*#REF!))/(#REF!+#REF!+#REF!)","v":{"$error":"#VALUE!"}},{"$f":"((AA1438*#REF!)+(#REF!*#REF!)+(#REF!*#REF!))/(#REF!+#REF!+#REF!)","v":{"$error":"#VALUE!"}},{"$f":"((AA1438*#REF!)+(#REF!*#REF!)+(#REF!*#REF!))/(#REF!+#REF!+#REF!)","v":{"$error":"#VALUE!"}},{"$f":"((AA1438*#REF!)+(#REF!*#REF!)+(#REF!*#REF!))/(#REF!+#REF!+#REF!)","v":{"$error":"#VALUE!"}},{"$f":"((AA1438*#REF!)+(#REF!*#REF!)+(#REF!*#REF!))/(#REF!+#REF!+#REF!)","v":{"$error":"#VALUE!"}},{"$f":"((AA1438*#REF!)+(#REF!*#REF!)+(#REF!*#REF!))/(#REF!+#REF!+#REF!)","v":{"$error":"#VALUE!"}},{"$f":"((AA1438*#REF!)+(#REF!*#REF!)+(#REF!*#REF!))/(#REF!+#REF!+#REF!)","v":{"$error":"#VALUE!"}}]
[null,null,null,null,null,null,null,null,null,null,null,null,null,null,null,null,null,null,null,null,null,1437,{"$error":"#VALUE!"},{"$f":"AVERAGE($W$3:W1439)","v":{"$error":"#VALUE!"}},null,{"$error":"#VALUE!"},{"$error":"#VALUE!"},{"$f":"AVERAGE($AA$3:AA1439)","v":{"$error":"#VALUE!"}},null,null,null,{"$f":"((AA1439*#REF!)+(#REF!*#REF!)+(#REF!*#REF!))/(#REF!+#REF!+#REF!)","v":{"$error":"#VALUE!"}},{"$f":"((AA1439*#REF!)+(#REF!*#REF!)+(#REF!*#REF!))/(#REF!+#REF!+#REF!)","v":{"$error":"#VALUE!"}},{"$f":"((AA1439*#REF!)+(#REF!*#REF!)+(#REF!*#REF!))/(#REF!+#REF!+#REF!)","v":{"$error":"#VALUE!"}},{"$f":"((AA1439*#REF!)+(#REF!*#REF!)+(#REF!*#REF!))/(#REF!+#REF!+#REF!)","v":{"$error":"#VALUE!"}},{"$f":"((AA1439*#REF!)+(#REF!*#REF!)+(#REF!*#REF!))/(#REF!+#REF!+#REF!)","v":{"$error":"#VALUE!"}},{"$f":"((AA1439*#REF!)+(#REF!*#REF!)+(#REF!*#REF!))/(#REF!+#REF!+#REF!)","v":{"$error":"#VALUE!"}},{"$f":"((AA1439*#REF!)+(#REF!*#REF!)+(#REF!*#REF!))/(#REF!+#REF!+#REF!)","v":{"$error":"#VALUE!"}}]
[null,null,null,null,null,null,null,null,null,null,null,null,null,null,null,null,null,null,null,null,null,1438,{"$error":"#VALUE!"},{"$f":"AVERAGE($W$3:W1440)","v":{"$error":"#VALUE!"}},null,{"$error":"#VALUE!"},{"$error":"#VALUE!"},{"$f":"AVERAGE($AA$3:AA1440)","v":{"$error":"#VALUE!"}},null,null,null,{"$f":"((AA1440*#REF!)+(#REF!*#REF!)+(#REF!*#REF!))/(#REF!+#REF!+#REF!)","v":{"$error":"#VALUE!"}},{"$f":"((AA1440*#REF!)+(#REF!*#REF!)+(#REF!*#REF!))/(#REF!+#REF!+#REF!)","v":{"$error":"#VALUE!"}},{"$f":"((AA1440*#REF!)+(#REF!*#REF!)+(#REF!*#REF!))/(#REF!+#REF!+#REF!)","v":{"$error":"#VALUE!"}},{"$f":"((AA1440*#REF!)+(#REF!*#REF!)+(#REF!*#REF!))/(#REF!+#REF!+#REF!)","v":{"$error":"#VALUE!"}},{"$f":"((AA1440*#REF!)+(#REF!*#REF!)+(#REF!*#REF!))/(#REF!+#REF!+#REF!)","v":{"$error":"#VALUE!"}},{"$f":"((AA1440*#REF!)+(#REF!*#REF!)+(#REF!*#REF!))/(#REF!+#REF!+#REF!)","v":{"$error":"#VALUE!"}},{"$f":"((AA1440*#REF!)+(#REF!*#REF!)+(#REF!*#REF!))/(#REF!+#REF!+#REF!)","v":{"$error":"#VALUE!"}}]
[null,null,null,null,null,null,null,null,null,null,null,null,null,null,null,null,null,null,null,null,null,1439,{"$error":"#VALUE!"},{"$f":"AVERAGE($W$3:W1441)","v":{"$error":"#VALUE!"}},null,{"$error":"#VALUE!"},{"$error":"#VALUE!"},{"$f":"AVERAGE($AA$3:AA1441)","v":{"$error":"#VALUE!"}},null,null,null,{"$f":"((AA1441*#REF!)+(#REF!*#REF!)+(#REF!*#REF!))/(#REF!+#REF!+#REF!)","v":{"$error":"#VALUE!"}},{"$f":"((AA1441*#REF!)+(#REF!*#REF!)+(#REF!*#REF!))/(#REF!+#REF!+#REF!)","v":{"$error":"#VALUE!"}},{"$f":"((AA1441*#REF!)+(#REF!*#REF!)+(#REF!*#REF!))/(#REF!+#REF!+#REF!)","v":{"$error":"#VALUE!"}},{"$f":"((AA1441*#REF!)+(#REF!*#REF!)+(#REF!*#REF!))/(#REF!+#REF!+#REF!)","v":{"$error":"#VALUE!"}},{"$f":"((AA1441*#REF!)+(#REF!*#REF!)+(#REF!*#REF!))/(#REF!+#REF!+#REF!)","v":{"$error":"#VALUE!"}},{"$f":"((AA1441*#REF!)+(#REF!*#REF!)+(#REF!*#REF!))/(#REF!+#REF!+#REF!)","v":{"$error":"#VALUE!"}},{"$f":"((AA1441*#REF!)+(#REF!*#REF!)+(#REF!*#REF!))/(#REF!+#REF!+#REF!)","v":{"$error":"#VALUE!"}}]
[null,null,null,null,null,null,null,null,null,null,null,null,null,null,null,null,null,null,null,null,null,1440,{"$error":"#VALUE!"},{"$f":"AVERAGE($W$3:W1442)","v":{"$error":"#VALUE!"}},null,{"$error":"#VALUE!"},{"$f":"(Z1442*(9/5))+32","v":{"$error":"#VALUE!"}},{"$f":"AVERAGE($AA$3:AA1442)","v":{"$error":"#VALUE!"}},null,null,null,{"$f":"((AA1442*#REF!)+(#REF!*#REF!)+(#REF!*#REF!))/(#REF!+#REF!+#REF!)","v":{"$error":"#VALUE!"}},{"$f":"((AA1442*#REF!)+(#REF!*#REF!)+(#REF!*#REF!))/(#REF!+#REF!+#REF!)","v":{"$error":"#VALUE!"}},{"$f":"((AA1442*#REF!)+(#REF!*#REF!)+(#REF!*#REF!))/(#REF!+#REF!+#REF!)","v":{"$error":"#VALUE!"}},{"$f":"((AA1442*#REF!)+(#REF!*#REF!)+(#REF!*#REF!))/(#REF!+#REF!+#REF!)","v":{"$error":"#VALUE!"}},{"$f":"((AA1442*#REF!)+(#REF!*#REF!)+(#REF!*#REF!))/(#REF!+#REF!+#REF!)","v":{"$error":"#VALUE!"}},{"$f":"((AA1442*#REF!)+(#REF!*#REF!)+(#REF!*#REF!))/(#REF!+#REF!+#REF!)","v":{"$error":"#VALUE!"}},{"$f":"((AA1442*#REF!)+(#REF!*#REF!)+(#REF!*#REF!))/(#REF!+#REF!+#REF!)","v":{"$error":"#VALUE!"}}]
[]
[null,null,null,null,null,null,null,null,null,null,null,null,null,null,null,null,null,null,null,null,null,null,null,null,null,{"$f":"AVERAGE(Z2:Z1442)","v":{"$error":"#VALUE!"}},{"$f":"(Z1444*(9/5))+32","v":{"$error":"#VALUE!"}}]

{"sheet":"Reference","index":2,"n_rows":13,"n_cols":10,"rows_kept":13,"cut":false,"hidden":false,"merged":[[3,2,3,4],[3,1,5,1]]}
[]
[]
[]
[null,"Time Period","Chapter 93 Temperature Critieria",null,null,"ORSANCO"]
[null,null,"WWF Criteria","CWF Criteria","TSF Criteria","Criteria MP 0- 341",null,"Default Ambient Stream Temperature (°F)"]
[null,null,"(ºF)","(ºF)","(ºF)","(ºF)",null,"WWF","CWF","TSF"]
[null," Jun  1-15     ",{"$f":"IF(OR('Thermal Analysis'!$T$41=\"ORSANCO\",'Thermal Analysis'!$T$101=\"ORSANCO\"),78.8,80)","v":80},60,70,78.8,null,67,63,65]
[null," Jun 16-30",84,64,72,87,null,71,67,69]
[null," Jul  1-31      ",87,66,74,89,null,75,71,73]
[null," Aug  1-15     ",87,66,80,89,null,74,70,72]
[null," Aug 16-31     ",87,66,87,89,null,74,70,70]
[null," Sep  1-15     ",84,64,84,87,null,71,66,68]
[null," Sep 16-30   ",78,60,78,81,null,65,60,62]