{"text_format":"1","workbook":"xlsx","n_sheets":6,"sheets":["DataInput","Xi,Yi","SamplingPoints","Graphic","Grid","About"],"not_rendered":{"charts":1,"images":1,"macros":1,"external_links":0,"defined_names":0,"comments":0,"pivot_tables":0},"unopened":[],"bounds":{"document_bytes":16777216,"sheet_cells":100000,"rows_first":2000,"rows_last":500,"rows_between":2000,"halvings":0,"cell_chars":16384,"cell_head_chars":4096},"cells_cut":0,"cells_raw":0,"read":"whole","date_system":"1900"}

{"sheet":"DataInput","index":0,"n_rows":24,"n_cols":4,"rows_kept":24,"cut":false,"hidden":false,"merged":[]}
["Systematic Random Sampling Workbook"]
[]
["Area of Contamination (Sq. feet.):",4000]
["Depth Zone (feet.):",2,"-",10]
["Volume of Contaminated Soil (Cubic Yards):",1185]
["Number of Soil Samples: (If you are applying"]
["75%/10X or 75%/2X rule, the spreadsheet "]
["will determine the minimum number of samples"]
["for you.  Otherwise, please specify the number"]
["of samples here.  Limitations: The maximum"]
["number of samples per row is ten.  The"]
["maximum number of rows is ten.======>)"]
["Number of Soil Samples:",{"$f":"IF(B12=\"\",IF(B5<=125,8,12*ROUNDUP(B5/3000,0)),B12)","v":12}]
[]
["L= Cell Spacing (feet):",{"$f":"ROUND(SQRT(B3/0.866/B13),1)","v":19.600000000000001}]
["0.866*L(feet):",{"$f":"ROUND(0.866*B15,1)","v":17}]
[]
["Xmin (feet):",0]
["Xmax (feet):",100]
["Ymin (feet):",0]
["Ymax (feet):",50]
[]
["Xo (feet):",{"$f":"ROUND(B18+(B19-B18)*RAND(),1)","v":15.2}]
["Yo (feet):",{"$f":"ROUND(B20+(B21-B20)*RAND(),1)","v":4.0999999999999996}]

{"sheet":"Xi,Yi","index":1,"n_rows":49,"n_cols":54,"rows_kept":49,"cut":false,"hidden":false,"merged":[[2,52,2,53],[26,42,26,43],[26,47,26,48],[26,52,26,53],[2,37,2,38],[26,37,26,38],[2,42,2,43],[2,47,2,48],[2,32,2,33],[26,32,26,33],[2,2,2,3],[2,17,2,18],[2,22,2,23],[26,7,26,8],[26,12,26,13],[26,17,26,18],[26,22,26,23],[2,12,2,13],[2,7,2,8],[2,27,2,28],[26,27,26,28]]}
["Triangular Grid Node Coordinate Pairs "]
[]
[null,null,"0th Row",null,null,null,null,"1st Row",null,null,null,null,"2nd Row",null,null,null,null,"3rd Row",null,null,null,null,"4th Row",null,null,null,null,"5th Row",null,null,null,null,"6th Row",null,null,null,null,"7th Row",null,null,null,null,"8th Row",null,null,null,null,"9th Row",null,null,null,null,"10th Row"]
[null,null,"(Xi,","Yi)",null,null,null,"(Xi,","Yi)",null,null,null,"(Xi,","Yi)",null,null,null,"(Xi,","Yi)",null,null,null,"(Xi,","Yi)",null,null,null,"(Xi,","Yi)",null,null,null,"(Xi,","Yi)",null,null,null,"(Xi,","Yi)",null,null,null,"(Xi,","Yi)",null,null,null,"(Xi,","Yi)",null,null,null,"(Xi,","Yi)"]
[null,null,{"$f":"Grid!$C4","v":""},{"$f":"IF(C5=\"\",\"\",Grid!$E$14)","v":""},null,null,null,{"$f":"IF(Grid!$E$15=\"\",\"\",Grid!$D4)","v":""},{"$f":"IF(H5=\"\",\"\",Grid!$E$15)","v":""},null,null,null,{"$f":"IF(Grid!$E$16=\"\",\"\",Grid!$C4)","v":""},{"$f":"IF(M5=\"\",\"\",Grid!$E$16)","v":""},null,null,null,{"$f":"IF(Grid!$E$17=\"\",\"\",Grid!$D4)","v":""},{"$f":"IF(R5=\"\",\"\",Grid!$E$17)","v":""},null,null,null,{"$f":"IF(Grid!$E$18=\"\",\"\",Grid!$C4)","v":""},{"$f":"IF(W5=\"\",\"\",Grid!$E$18)","v":""},null,null,null,{"$f":"IF(Grid!$E$19=\"\",\"\",Grid!$D4)","v":""},{"$f":"IF(AB5=\"\",\"\",Grid!$E$19)","v":""},null,null,null,{"$f":"IF(Grid!$E$20=\"\",\"\",Grid!$C4)","v":""},{"$f":"IF(AG5=\"\",\"\",Grid!$E$20)","v":""},null,null,null,{"$f":"IF(Grid!$E$21=\"\",\"\",Grid!$D4)","v":""},{"$f":"IF(AL5=\"\",\"\",Grid!$E$21)","v":""},null,null,null,{"$f":"IF(Grid!$E$22=\"\",\"\",Grid!$C4)","v":""},{"$f":"IF(AQ5=\"\",\"\",Grid!$E$22)","v":""},null,null,null,{"$f":"IF(Grid!$E$23=\"\",\"\",Grid!$D4)","v":""},{"$f":"IF(AV5=\"\",\"\",Grid!$E$23)","v":""},null,null,null,{"$f":"IF(Grid!$E$24=\"\",\"\",Grid!$C4)","v":""},{"$f":"IF(BA5=\"\",\"\",Grid!$E$24)","v":""}]
[null,null,{"$f":"Grid!$C5","v":""},{"$f":"IF(C6=\"\",\"\",Grid!$E$14)","v":""},null,null,null,{"$f":"IF(Grid!$E$15=\"\",\"\",Grid!$D5)","v":""},{"$f":"IF(H6=\"\",\"\",Grid!$E$15)","v":""},null,null,null,{"$f":"IF(Grid!$E$16=\"\",\"\",Grid!$C5)","v":""},{"$f":"IF(M6=\"\",\"\",Grid!$E$16)","v":""},null,null,null,{"$f":"IF(Grid!$E$17=\"\",\"\",Grid!$D5)","v":""},{"$f":"IF(R6=\"\",\"\",Grid!$E$17)","v":""},null,null,null,{"$f":"IF(Grid!$E$18=\"\",\"\",Grid!$C5)","v":""},{"$f":"IF(W6=\"\",\"\",Grid!$E$18)","v":""},null,null,null,{"$f":"IF(Grid!$E$19=\"\",\"\",Grid!$D5)","v":""},{"$f":"IF(AB6=\"\",\"\",Grid!$E$19)","v":""},null,null,null,{"$f":"IF(Grid!$E$20=\"\",\"\",Grid!$C5)","v":""},{"$f":"IF(AG6=\"\",\"\",Grid!$E$20)","v":""},null,null,null,{"$f":"IF(Grid!$E$21=\"\",\"\",Grid!$D5)","v":""},{"$f":"IF(AL6=\"\",\"\",Grid!$E$21)","v":""},null,null,null,{"$f":"IF(Grid!$E$22=\"\",\"\",Grid!$C5)","v":""},{"$f":"IF(AQ6=\"\",\"\",Grid!$E$22)","v":""},null,null,null,{"$f":"IF(Grid!$E$23=\"\",\"\",Grid!$D5)","v":""},{"$f":"IF(AV6=\"\",\"\",Grid!$E$23)","v":""},null,null,null,{"$f":"IF(Grid!$E$24=\"\",\"\",Grid!$C5)","v":""},{"$f":"IF(BA6=\"\",\"\",Grid!$E$24)","v":""}]
[null,null,{"$f":"Grid!$C6","v":""},{"$f":"IF(C7=\"\",\"\",Grid!$E$14)","v":""},null,null,null,{"$f":"IF(Grid!$E$15=\"\",\"\",Grid!$D6)","v":""},{"$f":"IF(H7=\"\",\"\",Grid!$E$15)","v":""},null,null,null,{"$f":"IF(Grid!$E$16=\"\",\"\",Grid!$C6)","v":""},{"$f":"IF(M7=\"\",\"\",Grid!$E$16)","v":""},null,null,null,{"$f":"IF(Grid!$E$17=\"\",\"\",Grid!$D6)","v":""},{"$f":"IF(R7=\"\",\"\",Grid!$E$17)","v":""},null,null,null,{"$f":"IF(Grid!$E$18=\"\",\"\",Grid!$C6)","v":""},{"$f":"IF(W7=\"\",\"\",Grid!$E$18)","v":""},null,null,null,{"$f":"IF(Grid!$E$19=\"\",\"\",Grid!$D6)","v":""},{"$f":"IF(AB7=\"\",\"\",Grid!$E$19)","v":""},null,null,null,{"$f":"IF(Grid!$E$20=\"\",\"\",Grid!$C6)","v":""},{"$f":"IF(AG7=\"\",\"\",Grid!$E$20)","v":""},null,null,null,{"$f":"IF(Grid!$E$21=\"\",\"\",Grid!$D6)","v":""},{"$f":"IF(AL7=\"\",\"\",Grid!$E$21)","v":""},null,null,null,{"$f":"IF(Grid!$E$22=\"\",\"\",Grid!$C6)","v":""},{"$f":"IF(AQ7=\"\",\"\",Grid!$E$22)","v":""},null,null,null,{"$f":"IF(Grid!$E$23=\"\",\"\",Grid!$D6)","v":""},{"$f":"IF(AV7=\"\",\"\",Grid!$E$23)","v":""},null,null,null,{"$f":"IF(Grid!$E$24=\"\",\"\",Grid!$C6)","v":""},{"$f":"IF(BA7=\"\",\"\",Grid!$E$24)","v":""}]
[null,null,{"$f":"Grid!$C7","v":""},{"$f":"IF(C8=\"\",\"\",Grid!$E$14)","v":""},null,null,null,{"$f":"IF(Grid!$E$15=\"\",\"\",Grid!$D7)","v":""},{"$f":"IF(H8=\"\",\"\",Grid!$E$15)","v":""},null,null,null,{"$f":"IF(Grid!$E$16=\"\",\"\",Grid!$C7)","v":""},{"$f":"IF(M8=\"\",\"\",Grid!$E$16)","v":""},null,null,null,{"$f":"IF(Grid!$E$17=\"\",\"\",Grid!$D7)","v":""},{"$f":"IF(R8=\"\",\"\",Grid!$E$17)","v":""},null,null,null,{"$f":"IF(Grid!$E$18=\"\",\"\",Grid!$C7)","v":""},{"$f":"IF(W8=\"\",\"\",Grid!$E$18)","v":""},null,null,null,{"$f":"IF(Grid!$E$19=\"\",\"\",Grid!$D7)","v":""},{"$f":"IF(AB8=\"\",\"\",Grid!$E$19)","v":""},null,null,null,{"$f":"IF(Grid!$E$20=\"\",\"\",Grid!$C7)","v":""},{"$f":"IF(AG8=\"\",\"\",Grid!$E$20)","v":""},null,null,null,{"$f":"IF(Grid!$E$21=\"\",\"\",Grid!$D7)","v":""},{"$f":"IF(AL8=\"\",\"\",Grid!$E$21)","v":""},null,null,null,{"$f":"IF(Grid!$E$22=\"\",\"\",Grid!$C7)","v":""},{"$f":"IF(AQ8=\"\",\"\",Grid!$E$22)","v":""},null,null,null,{"$f":"IF(Grid!$E$23=\"\",\"\",Grid!$D7)","v":""},{"$f":"IF(AV8=\"\",\"\",Grid!$E$23)","v":""},null,null,null,{"$f":"IF(Grid!$E$24=\"\",\"\",Grid!$C7)","v":""},{"$f":"IF(BA8=\"\",\"\",Grid!$E$24)","v":""}]
[null,null,{"$f":"Grid!$C8","v":""},{"$f":"IF(C9=\"\",\"\",Grid!$E$14)","v":""},null,null,null,{"$f":"IF(Grid!$E$15=\"\",\"\",Grid!$D8)","v":""},{"$f":"IF(H9=\"\",\"\",Grid!$E$15)","v":""},null,null,null,{"$f":"IF(Grid!$E$16=\"\",\"\",Grid!$C8)","v":""},{"$f":"IF(M9=\"\",\"\",Grid!$E$16)","v":""},null,null,null,{"$f":"IF(Grid!$E$17=\"\",\"\",Grid!$D8)","v":""},{"$f":"IF(R9=\"\",\"\",Grid!$E$17)","v":""},null,null,null,{"$f":"IF(Grid!$E$18=\"\",\"\",Grid!$C8)","v":""},{"$f":"IF(W9=\"\",\"\",Grid!$E$18)","v":""},null,null,null,{"$f":"IF(Grid!$E$19=\"\",\"\",Grid!$D8)","v":""},{"$f":"IF(AB9=\"\",\"\",Grid!$E$19)","v":""},null,null,null,{"$f":"IF(Grid!$E$20=\"\",\"\",Grid!$C8)","v":""},{"$f":"IF(AG9=\"\",\"\",Grid!$E$20)","v":""},null,null,null,{"$f":"IF(Grid!$E$21=\"\",\"\",Grid!$D8)","v":""},{"$f":"IF(AL9=\"\",\"\",Grid!$E$21)","v":""},null,null,null,{"$f":"IF(Grid!$E$22=\"\",\"\",Grid!$C8)","v":""},{"$f":"IF(AQ9=\"\",\"\",Grid!$E$22)","v":""},null,null,null,{"$f":"IF(Grid!$E$23=\"\",\"\",Grid!$D8)","v":""},{"$f":"IF(AV9=\"\",\"\",Grid!$E$23)","v":""},null,null,null,{"$f":"IF(Grid!$E$24=\"\",\"\",Grid!$C8)","v":""},{"$f":"IF(BA9=\"\",\"\",Grid!$E$24)","v":""}]
[null,null,{"$f":"Grid!$C9","v":""},{"$f":"IF(C10=\"\",\"\",Grid!$E$14)","v":""},null,null,null,{"$f":"IF(Grid!$E$15=\"\",\"\",Grid!$D9)","v":""},{"$f":"IF(H10=\"\",\"\",Grid!$E$15)","v":""},null,null,null,{"$f":"IF(Grid!$E$16=\"\",\"\",Grid!$C9)","v":""},{"$f":"IF(M10=\"\",\"\",Grid!$E$16)","v":""},null,null,null,{"$f":"IF(Grid!$E$17=\"\",\"\",Grid!$D9)","v":""},{"$f":"IF(R10=\"\",\"\",Grid!$E$17)","v":""},null,null,null,{"$f":"IF(Grid!$E$18=\"\",\"\",Grid!$C9)","v":""},{"$f":"IF(W10=\"\",\"\",Grid!$E$18)","v":""},null,null,null,{"$f":"IF(Grid!$E$19=\"\",\"\",Grid!$D9)","v":""},{"$f":"IF(AB10=\"\",\"\",Grid!$E$19)","v":""},null,null,null,{"$f":"IF(Grid!$E$20=\"\",\"\",Grid!$C9)","v":""},{"$f":"IF(AG10=\"\",\"\",Grid!$E$20)","v":""},null,null,null,{"$f":"IF(Grid!$E$21=\"\",\"\",Grid!$D9)","v":""},{"$f":"IF(AL10=\"\",\"\",Grid!$E$21)","v":""},null,null,null,{"$f":"IF(Grid!$E$22=\"\",\"\",Grid!$C9)","v":""},{"$f":"IF(AQ10=\"\",\"\",Grid!$E$22)","v":""},null,null,null,{"$f":"IF(Grid!$E$23=\"\",\"\",Grid!$D9)","v":""},{"$f":"IF(AV10=\"\",\"\",Grid!$E$23)","v":""},null,null,null,{"$f":"IF(Grid!$E$24=\"\",\"\",Grid!$C9)","v":""},{"$f":"IF(BA10=\"\",\"\",Grid!$E$24)","v":""}]
[null,null,{"$f":"Grid!$C10","v":""},{"$f":"IF(C11=\"\",\"\",Grid!$E$14)","v":""},null,null,null,{"$f":"IF(Grid!$E$15=\"\",\"\",Grid!$D10)","v":""},{"$f":"IF(H11=\"\",\"\",Grid!$E$15)","v":""},null,null,null,{"$f":"IF(Grid!$E$16=\"\",\"\",Grid!$C10)","v":""},{"$f":"IF(M11=\"\",\"\",Grid!$E$16)","v":""},null,null,null,{"$f":"IF(Grid!$E$17=\"\",\"\",Grid!$D10)","v":""},{"$f":"IF(R11=\"\",\"\",Grid!$E$17)","v":""},null,null,null,{"$f":"IF(Grid!$E$18=\"\",\"\",Grid!$C10)","v":""},{"$f":"IF(W11=\"\",\"\",Grid!$E$18)","v":""},null,null,null,{"$f":"IF(Grid!$E$19=\"\",\"\",Grid!$D10)","v":""},{"$f":"IF(AB11=\"\",\"\",Grid!$E$19)","v":""},null,null,null,{"$f":"IF(Grid!$E$20=\"\",\"\",Grid!$C10)","v":""},{"$f":"IF(AG11=\"\",\"\",Grid!$E$20)","v":""},null,null,null,{"$f":"IF(Grid!$E$21=\"\",\"\",Grid!$D10)","v":""},{"$f":"IF(AL11=\"\",\"\",Grid!$E$21)","v":""},null,null,null,{"$f":"IF(Grid!$E$22=\"\",\"\",Grid!$C10)","v":""},{"$f":"IF(AQ11=\"\",\"\",Grid!$E$22)","v":""},null,null,null,{"$f":"IF(Grid!$E$23=\"\",\"\",Grid!$D10)","v":""},{"$f":"IF(AV11=\"\",\"\",Grid!$E$23)","v":""},null,null,null,{"$f":"IF(Grid!$E$24=\"\",\"\",Grid!$C10)","v":""},{"$f":"IF(BA11=\"\",\"\",Grid!$E$24)","v":""}]
[null,null,{"$f":"Grid!$C11","v":""},{"$f":"IF(C12=\"\",\"\",Grid!$E$14)","v":""},null,null,null,{"$f":"IF(Grid!$E$15=\"\",\"\",Grid!$D11)","v":""},{"$f":"IF(H12=\"\",\"\",Grid!$E$15)","v":""},null,null,null,{"$f":"IF(Grid!$E$16=\"\",\"\",Grid!$C11)","v":""},{"$f":"IF(M12=\"\",\"\",Grid!$E$16)","v":""},null,null,null,{"$f":"IF(Grid!$E$17=\"\",\"\",Grid!$D11)","v":""},{"$f":"IF(R12=\"\",\"\",Grid!$E$17)","v":""},null,null,null,{"$f":"IF(Grid!$E$18=\"\",\"\",Grid!$C11)","v":""},{"$f":"IF(W12=\"\",\"\",Grid!$E$18)","v":""},null,null,null,{"$f":"IF(Grid!$E$19=\"\",\"\",Grid!$D11)","v":""},{"$f":"IF(AB12=\"\",\"\",Grid!$E$19)","v":""},null,null,null,{"$f":"IF(Grid!$E$20=\"\",\"\",Grid!$C11)","v":""},{"$f":"IF(AG12=\"\",\"\",Grid!$E$20)","v":""},null,null,null,{"$f":"IF(Grid!$E$21=\"\",\"\",Grid!$D11)","v":""},{"$f":"IF(AL12=\"\",\"\",Grid!$E$21)","v":""},null,null,null,{"$f":"IF(Grid!$E$22=\"\",\"\",Grid!$C11)","v":""},{"$f":"IF(AQ12=\"\",\"\",Grid!$E$22)","v":""},null,null,null,{"$f":"IF(Grid!$E$23=\"\",\"\",Grid!$D11)","v":""},{"$f":"IF(AV12=\"\",\"\",Grid!$E$23)","v":""},null,null,null,{"$f":"IF(Grid!$E$24=\"\",\"\",Grid!$C11)","v":""},{"$f":"IF(BA12=\"\",\"\",Grid!$E$24)","v":""}]
[null,null,{"$f":"Grid!$C12","v":""},{"$f":"IF(C13=\"\",\"\",Grid!$E$14)","v":""},null,null,null,{"$f":"IF(Grid!$E$15=\"\",\"\",Grid!$D12)","v":-14.200000000000003},{"$f":"IF(H13=\"\",\"\",Grid!$E$15)","v":21.1},null,null,null,{"$f":"IF(Grid!$E$16=\"\",\"\",Grid!$C12)","v":""},{"$f":"IF(M13=\"\",\"\",Grid!$E$16)","v":""},null,null,null,{"$f":"IF(Grid!$E$17=\"\",\"\",Grid!$D12)","v":""},{"$f":"IF(R13=\"\",\"\",Grid!$E$17)","v":""},null,null,null,{"$f":"IF(Grid!$E$18=\"\",\"\",Grid!$C12)","v":""},{"$f":"IF(W13=\"\",\"\",Grid!$E$18)","v":""},null,null,null,{"$f":"IF(Grid!$E$19=\"\",\"\",Grid!$D12)","v":""},{"$f":"IF(AB13=\"\",\"\",Grid!$E$19)","v":""},null,null,null,{"$f":"IF(Grid!$E$20=\"\",\"\",Grid!$C12)","v":""},{"$f":"IF(AG13=\"\",\"\",Grid!$E$20)","v":""},null,null,null,{"$f":"IF(Grid!$E$21=\"\",\"\",Grid!$D12)","v":""},{"$f":"IF(AL13=\"\",\"\",Grid!$E$21)","v":""},null,null,null,{"$f":"IF(Grid!$E$22=\"\",\"\",Grid!$C12)","v":""},{"$f":"IF(AQ13=\"\",\"\",Grid!$E$22)","v":""},null,null,null,{"$f":"IF(Grid!$E$23=\"\",\"\",Grid!$D12)","v":""},{"$f":"IF(AV13=\"\",\"\",Grid!$E$23)","v":""},null,null,null,{"$f":"IF(Grid!$E$24=\"\",\"\",Grid!$C12)","v":""},{"$f":"IF(BA13=\"\",\"\",Grid!$E$24)","v":""}]
[null,null,{"$f":"Grid!$C13","v":-4.4000000000000021},{"$f":"IF(C14=\"\",\"\",Grid!$E$14)","v":4.0999999999999996},null,null,null,{"$f":"IF(Grid!$E$15=\"\",\"\",Grid!$D13)","v":5.3999999999999986},{"$f":"IF(H14=\"\",\"\",Grid!$E$15)","v":21.1},null,null,null,{"$f":"IF(Grid!$E$16=\"\",\"\",Grid!$C13)","v":-4.4000000000000021},{"$f":"IF(M14=\"\",\"\",Grid!$E$16)","v":38.1},null,null,null,{"$f":"IF(Grid!$E$17=\"\",\"\",Grid!$D13)","v":""},{"$f":"IF(R14=\"\",\"\",Grid!$E$17)","v":""},null,null,null,{"$f":"IF(Grid!$E$18=\"\",\"\",Grid!$C13)","v":""},{"$f":"IF(W14=\"\",\"\",Grid!$E$18)","v":""},null,null,null,{"$f":"IF(Grid!$E$19=\"\",\"\",Grid!$D13)","v":""},{"$f":"IF(AB14=\"\",\"\",Grid!$E$19)","v":""},null,null,null,{"$f":"IF(Grid!$E$20=\"\",\"\",Grid!$C13)","v":""},{"$f":"IF(AG14=\"\",\"\",Grid!$E$20)","v":""},null,null,null,{"$f":"IF(Grid!$E$21=\"\",\"\",Grid!$D13)","v":""},{"$f":"IF(AL14=\"\",\"\",Grid!$E$21)","v":""},null,null,null,{"$f":"IF(Grid!$E$22=\"\",\"\",Grid!$C13)","v":""},{"$f":"IF(AQ14=\"\",\"\",Grid!$E$22)","v":""},null,null,null,{"$f":"IF(Grid!$E$23=\"\",\"\",Grid!$D13)","v":""},{"$f":"IF(AV14=\"\",\"\",Grid!$E$23)","v":""},null,null,null,{"$f":"IF(Grid!$E$24=\"\",\"\",Grid!$C13)","v":""},{"$f":"IF(BA14=\"\",\"\",Grid!$E$24)","v":""}]
["Starting Point ---->",null,{"$f":"Grid!$C14","v":15.2},{"$f":"IF(C15=\"\",\"\",Grid!$E$14)","v":4.0999999999999996},null,null,null,{"$f":"IF(Grid!$E$15=\"\",\"\",Grid!$D14)","v":25},{"$f":"IF(H15=\"\",\"\",Grid!$E$15)","v":21.1},null,null,null,{"$f":"IF(Grid!$E$16=\"\",\"\",Grid!$C14)","v":15.2},{"$f":"IF(M15=\"\",\"\",Grid!$E$16)","v":38.1},null,null,null,{"$f":"IF(Grid!$E$17=\"\",\"\",Grid!$D14)","v":""},{"$f":"IF(R15=\"\",\"\",Grid!$E$17)","v":""},null,null,null,{"$f":"IF(Grid!$E$18=\"\",\"\",Grid!$C14)","v":""},{"$f":"IF(W15=\"\",\"\",Grid!$E$18)","v":""},null,null,null,{"$f":"IF(Grid!$E$19=\"\",\"\",Grid!$D14)","v":""},{"$f":"IF(AB15=\"\",\"\",Grid!$E$19)","v":""},null,null,null,{"$f":"IF(Grid!$E$20=\"\",\"\",Grid!$C14)","v":""},{"$f":"IF(AG15=\"\",\"\",Grid!$E$20)","v":""},null,null,null,{"$f":"IF(Grid!$E$21=\"\",\"\",Grid!$D14)","v":""},{"$f":"IF(AL15=\"\",\"\",Grid!$E$21)","v":""},null,null,null,{"$f":"IF(Grid!$E$22=\"\",\"\",Grid!$C14)","v":""},{"$f":"IF(AQ15=\"\",\"\",Grid!$E$22)","v":""},null,null,null,{"$f":"IF(Grid!$E$23=\"\",\"\",Grid!$D14)","v":""},{"$f":"IF(AV15=\"\",\"\",Grid!$E$23)","v":""},null,null,null,{"$f":"IF(Grid!$E$24=\"\",\"\",Grid!$C14)","v":""},{"$f":"IF(BA15=\"\",\"\",Grid!$E$24)","v":""}]
[null,null,{"$f":"Grid!$C15","v":34.799999999999997},{"$f":"IF(C16=\"\",\"\",Grid!$E$14)","v":4.0999999999999996},null,null,null,{"$f":"IF(Grid!$E$15=\"\",\"\",Grid!$D15)","v":44.6},{"$f":"IF(H16=\"\",\"\",Grid!$E$15)","v":21.1},null,null,null,{"$f":"IF(Grid!$E$16=\"\",\"\",Grid!$C15)","v":34.799999999999997},{"$f":"IF(M16=\"\",\"\",Grid!$E$16)","v":38.1},null,null,null,{"$f":"IF(Grid!$E$17=\"\",\"\",Grid!$D15)","v":""},{"$f":"IF(R16=\"\",\"\",Grid!$E$17)","v":""},null,null,null,{"$f":"IF(Grid!$E$18=\"\",\"\",Grid!$C15)","v":""},{"$f":"IF(W16=\"\",\"\",Grid!$E$18)","v":""},null,null,null,{"$f":"IF(Grid!$E$19=\"\",\"\",Grid!$D15)","v":""},{"$f":"IF(AB16=\"\",\"\",Grid!$E$19)","v":""},null,null,null,{"$f":"IF(Grid!$E$20=\"\",\"\",Grid!$C15)","v":""},{"$f":"IF(AG16=\"\",\"\",Grid!$E$20)","v":""},null,null,null,{"$f":"IF(Grid!$E$21=\"\",\"\",Grid!$D15)","v":""},{"$f":"IF(AL16=\"\",\"\",Grid!$E$21)","v":""},null,null,null,{"$f":"IF(Grid!$E$22=\"\",\"\",Grid!$C15)","v":""},{"$f":"IF(AQ16=\"\",\"\",Grid!$E$22)","v":""},null,null,null,{"$f":"IF(Grid!$E$23=\"\",\"\",Grid!$D15)","v":""},{"$f":"IF(AV16=\"\",\"\",Grid!$E$23)","v":""},null,null,null,{"$f":"IF(Grid!$E$24=\"\",\"\",Grid!$C15)","v":""},{"$f":"IF(BA16=\"\",\"\",Grid!$E$24)","v":""}]
[null,null,{"$f":"Grid!$C16","v":54.400000000000006},{"$f":"IF(C17=\"\",\"\",Grid!$E$14)","v":4.0999999999999996},null,null,null,{"$f":"IF(Grid!$E$15=\"\",\"\",Grid!$D16)","v":64.2},{"$f":"IF(H17=\"\",\"\",Grid!$E$15)","v":21.1},null,null,null,{"$f":"IF(Grid!$E$16=\"\",\"\",Grid!$C16)","v":54.400000000000006},{"$f":"IF(M17=\"\",\"\",Grid!$E$16)","v":38.1},null,null,null,{"$f":"IF(Grid!$E$17=\"\",\"\",Grid!$D16)","v":""},{"$f":"IF(R17=\"\",\"\",Grid!$E$17)","v":""},null,null,null,{"$f":"IF(Grid!$E$18=\"\",\"\",Grid!$C16)","v":""},{"$f":"IF(W17=\"\",\"\",Grid!$E$18)","v":""},null,null,null,{"$f":"IF(Grid!$E$19=\"\",\"\",Grid!$D16)","v":""},{"$f":"IF(AB17=\"\",\"\",Grid!$E$19)","v":""},null,null,null,{"$f":"IF(Grid!$E$20=\"\",\"\",Grid!$C16)","v":""},{"$f":"IF(AG17=\"\",\"\",Grid!$E$20)","v":""},null,null,null,{"$f":"IF(Grid!$E$21=\"\",\"\",Grid!$D16)","v":""},{"$f":"IF(AL17=\"\",\"\",Grid!$E$21)","v":""},null,null,null,{"$f":"IF(Grid!$E$22=\"\",\"\",Grid!$C16)","v":""},{"$f":"IF(AQ17=\"\",\"\",Grid!$E$22)","v":""},null,null,null,{"$f":"IF(Grid!$E$23=\"\",\"\",Grid!$D16)","v":""},{"$f":"IF(AV17=\"\",\"\",Grid!$E$23)","v":""},null,null,null,{"$f":"IF(Grid!$E$24=\"\",\"\",Grid!$C16)","v":""},{"$f":"IF(BA17=\"\",\"\",Grid!$E$24)","v":""}]
[null,null,{"$f":"Grid!$C17","v":74},{"$f":"IF(C18=\"\",\"\",Grid!$E$14)","v":4.0999999999999996},null,null,null,{"$f":"IF(Grid!$E$15=\"\",\"\",Grid!$D17)","v":83.800000000000011},{"$f":"IF(H18=\"\",\"\",Grid!$E$15)","v":21.1},null,null,null,{"$f":"IF(Grid!$E$16=\"\",\"\",Grid!$C17)","v":74},{"$f":"IF(M18=\"\",\"\",Grid!$E$16)","v":38.1},null,null,null,{"$f":"IF(Grid!$E$17=\"\",\"\",Grid!$D17)","v":""},{"$f":"IF(R18=\"\",\"\",Grid!$E$17)","v":""},null,null,null,{"$f":"IF(Grid!$E$18=\"\",\"\",Grid!$C17)","v":""},{"$f":"IF(W18=\"\",\"\",Grid!$E$18)","v":""},null,null,null,{"$f":"IF(Grid!$E$19=\"\",\"\",Grid!$D17)","v":""},{"$f":"IF(AB18=\"\",\"\",Grid!$E$19)","v":""},null,null,null,{"$f":"IF(Grid!$E$20=\"\",\"\",Grid!$C17)","v":""},{"$f":"IF(AG18=\"\",\"\",Grid!$E$20)","v":""},null,null,null,{"$f":"IF(Grid!$E$21=\"\",\"\",Grid!$D17)","v":""},{"$f":"IF(AL18=\"\",\"\",Grid!$E$21)","v":""},null,null,null,{"$f":"IF(Grid!$E$22=\"\",\"\",Grid!$C17)","v":""},{"$f":"IF(AQ18=\"\",\"\",Grid!$E$22)","v":""},null,null,null,{"$f":"IF(Grid!$E$23=\"\",\"\",Grid!$D17)","v":""},{"$f":"IF(AV18=\"\",\"\",Grid!$E$23)","v":""},null,null,null,{"$f":"IF(Grid!$E$24=\"\",\"\",Grid!$C17)","v":""},{"$f":"IF(BA18=\"\",\"\",Grid!$E$24)","v":""}]
[null,null,{"$f":"Grid!$C18","v":93.600000000000009},{"$f":"IF(C19=\"\",\"\",Grid!$E$14)","v":4.0999999999999996},null,null,null,{"$f":"IF(Grid!$E$15=\"\",\"\",Grid!$D18)","v":""},{"$f":"IF(H19=\"\",\"\",Grid!$E$15)","v":""},null,null,null,{"$f":"IF(Grid!$E$16=\"\",\"\",Grid!$C18)","v":93.600000000000009},{"$f":"IF(M19=\"\",\"\",Grid!$E$16)","v":38.1},null,null,null,{"$f":"IF(Grid!$E$17=\"\",\"\",Grid!$D18)","v":""},{"$f":"IF(R19=\"\",\"\",Grid!$E$17)","v":""},null,null,null,{"$f":"IF(Grid!$E$18=\"\",\"\",Grid!$C18)","v":""},{"$f":"IF(W19=\"\",\"\",Grid!$E$18)","v":""},null,null,null,{"$f":"IF(Grid!$E$19=\"\",\"\",Grid!$D18)","v":""},{"$f":"IF(AB19=\"\",\"\",Grid!$E$19)","v":""},null,null,null,{"$f":"IF(Grid!$E$20=\"\",\"\",Grid!$C18)","v":""},{"$f":"IF(AG19=\"\",\"\",Grid!$E$20)","v":""},null,null,null,{"$f":"IF(Grid!$E$21=\"\",\"\",Grid!$D18)","v":""},{"$f":"IF(AL19=\"\",\"\",Grid!$E$21)","v":""},null,null,null,{"$f":"IF(Grid!$E$22=\"\",\"\",Grid!$C18)","v":""},{"$f":"IF(AQ19=\"\",\"\",Grid!$E$22)","v":""},null,null,null,{"$f":"IF(Grid!$E$23=\"\",\"\",Grid!$D18)","v":""},{"$f":"IF(AV19=\"\",\"\",Grid!$E$23)","v":""},null,null,null,{"$f":"IF(Grid!$E$24=\"\",\"\",Grid!$C18)","v":""},{"$f":"IF(BA19=\"\",\"\",Grid!$E$24)","v":""}]
[null,null,{"$f":"Grid!$C19","v":""},{"$f":"IF(C20=\"\",\"\",Grid!$E$14)","v":""},null,null,null,{"$f":"IF(Grid!$E$15=\"\",\"\",Grid!$D19)","v":""},{"$f":"IF(H20=\"\",\"\",Grid!$E$15)","v":""},null,null,null,{"$f":"IF(Grid!$E$16=\"\",\"\",Grid!$C19)","v":""},{"$f":"IF(M20=\"\",\"\",Grid!$E$16)","v":""},null,null,null,{"$f":"IF(Grid!$E$17=\"\",\"\",Grid!$D19)","v":""},{"$f":"IF(R20=\"\",\"\",Grid!$E$17)","v":""},null,null,null,{"$f":"IF(Grid!$E$18=\"\",\"\",Grid!$C19)","v":""},{"$f":"IF(W20=\"\",\"\",Grid!$E$18)","v":""},null,null,null,{"$f":"IF(Grid!$E$19=\"\",\"\",Grid!$D19)","v":""},{"$f":"IF(AB20=\"\",\"\",Grid!$E$19)","v":""},null,null,null,{"$f":"IF(Grid!$E$20=\"\",\"\",Grid!$C19)","v":""},{"$f":"IF(AG20=\"\",\"\",Grid!$E$20)","v":""},null,null,null,{"$f":"IF(Grid!$E$21=\"\",\"\",Grid!$D19)","v":""},{"$f":"IF(AL20=\"\",\"\",Grid!$E$21)","v":""},null,null,null,{"$f":"IF(Grid!$E$22=\"\",\"\",Grid!$C19)","v":""},{"$f":"IF(AQ20=\"\",\"\",Grid!$E$22)","v":""},null,null,null,{"$f":"IF(Grid!$E$23=\"\",\"\",Grid!$D19)","v":""},{"$f":"IF(AV20=\"\",\"\",Grid!$E$23)","v":""},null,null,null,{"$f":"IF(Grid!$E$24=\"\",\"\",Grid!$C19)","v":""},{"$f":"IF(BA20=\"\",\"\",Grid!$E$24)","v":""}]
[null,null,{"$f":"Grid!$C20","v":""},{"$f":"IF(C21=\"\",\"\",Grid!$E$14)","v":""},null,null,null,{"$f":"IF(Grid!$E$15=\"\",\"\",Grid!$D20)","v":""},{"$f":"IF(H21=\"\",\"\",Grid!$E$15)","v":""},null,null,null,{"$f":"IF(Grid!$E$16=\"\",\"\",Grid!$C20)","v":""},{"$f":"IF(M21=\"\",\"\",Grid!$E$16)","v":""},null,null,null,{"$f":"IF(Grid!$E$17=\"\",\"\",Grid!$D20)","v":""},{"$f":"IF(R21=\"\",\"\",Grid!$E$17)","v":""},null,null,null,{"$f":"IF(Grid!$E$18=\"\",\"\",Grid!$C20)","v":""},{"$f":"IF(W21=\"\",\"\",Grid!$E$18)","v":""},null,null,null,{"$f":"IF(Grid!$E$19=\"\",\"\",Grid!$D20)","v":""},{"$f":"IF(AB21=\"\",\"\",Grid!$E$19)","v":""},null,null,null,{"$f":"IF(Grid!$E$20=\"\",\"\",Grid!$C20)","v":""},{"$f":"IF(AG21=\"\",\"\",Grid!$E$20)","v":""},null,null,null,{"$f":"IF(Grid!$E$21=\"\",\"\",Grid!$D20)","v":""},{"$f":"IF(AL21=\"\",\"\",Grid!$E$21)","v":""},null,null,null,{"$f":"IF(Grid!$E$22=\"\",\"\",Grid!$C20)","v":""},{"$f":"IF(AQ21=\"\",\"\",Grid!$E$22)","v":""},null,null,null,{"$f":"IF(Grid!$E$23=\"\",\"\",Grid!$D20)","v":""},{"$f":"IF(AV21=\"\",\"\",Grid!$E$23)","v":""},null,null,null,{"$f":"IF(Grid!$E$24=\"\",\"\",Grid!$C20)","v":""},{"$f":"IF(BA21=\"\",\"\",Grid!$E$24)","v":""}]
[null,null,{"$f":"Grid!$C21","v":""},{"$f":"IF(C22=\"\",\"\",Grid!$E$14)","v":""},null,null,null,{"$f":"IF(Grid!$E$15=\"\",\"\",Grid!$D21)","v":""},{"$f":"IF(H22=\"\",\"\",Grid!$E$15)","v":""},null,null,null,{"$f":"IF(Grid!$E$16=\"\",\"\",Grid!$C21)","v":""},{"$f":"IF(M22=\"\",\"\",Grid!$E$16)","v":""},null,null,null,{"$f":"IF(Grid!$E$17=\"\",\"\",Grid!$D21)","v":""},{"$f":"IF(R22=\"\",\"\",Grid!$E$17)","v":""},null,null,null,{"$f":"IF(Grid!$E$18=\"\",\"\",Grid!$C21)","v":""},{"$f":"IF(W22=\"\",\"\",Grid!$E$18)","v":""},null,null,null,{"$f":"IF(Grid!$E$19=\"\",\"\",Grid!$D21)","v":""},{"$f":"IF(AB22=\"\",\"\",Grid!$E$19)","v":""},null,null,null,{"$f":"IF(Grid!$E$20=\"\",\"\",Grid!$C21)","v":""},{"$f":"IF(AG22=\"\",\"\",Grid!$E$20)","v":""},null,null,null,{"$f":"IF(Grid!$E$21=\"\",\"\",Grid!$D21)","v":""},{"$f":"IF(AL22=\"\",\"\",Grid!$E$21)","v":""},null,null,null,{"$f":"IF(Grid!$E$22=\"\",\"\",Grid!$C21)","v":""},{"$f":"IF(AQ22=\"\",\"\",Grid!$E$22)","v":""},null,null,null,{"$f":"IF(Grid!$E$23=\"\",\"\",Grid!$D21)","v":""},{"$f":"IF(AV22=\"\",\"\",Grid!$E$23)","v":""},null,null,null,{"$f":"IF(Grid!$E$24=\"\",\"\",Grid!$C21)","v":""},{"$f":"IF(BA22=\"\",\"\",Grid!$E$24)","v":""}]
[null,null,{"$f":"Grid!$C22","v":""},{"$f":"IF(C23=\"\",\"\",Grid!$E$14)","v":""},null,null,null,{"$f":"IF(Grid!$E$15=\"\",\"\",Grid!$D22)","v":""},{"$f":"IF(H23=\"\",\"\",Grid!$E$15)","v":""},null,null,null,{"$f":"IF(Grid!$E$16=\"\",\"\",Grid!$C22)","v":""},{"$f":"IF(M23=\"\",\"\",Grid!$E$16)","v":""},null,null,null,{"$f":"IF(Grid!$E$17=\"\",\"\",Grid!$D22)","v":""},{"$f":"IF(R23=\"\",\"\",Grid!$E$17)","v":""},null,null,null,{"$f":"IF(Grid!$E$18=\"\",\"\",Grid!$C22)","v":""},{"$f":"IF(W23=\"\",\"\",Grid!$E$18)","v":""},null,null,null,{"$f":"IF(Grid!$E$19=\"\",\"\",Grid!$D22)","v":""},{"$f":"IF(AB23=\"\",\"\",Grid!$E$19)","v":""},null,null,null,{"$f":"IF(Grid!$E$20=\"\",\"\",Grid!$C22)","v":""},{"$f":"IF(AG23=\"\",\"\",Grid!$E$20)","v":""},null,null,null,{"$f":"IF(Grid!$E$21=\"\",\"\",Grid!$D22)","v":""},{"$f":"IF(AL23=\"\",\"\",Grid!$E$21)","v":""},null,null,null,{"$f":"IF(Grid!$E$22=\"\",\"\",Grid!$C22)","v":""},{"$f":"IF(AQ23=\"\",\"\",Grid!$E$22)","v":""},null,null,null,{"$f":"IF(Grid!$E$23=\"\",\"\",Grid!$D22)","v":""},{"$f":"IF(AV23=\"\",\"\",Grid!$E$23)","v":""},null,null,null,{"$f":"IF(Grid!$E$24=\"\",\"\",Grid!$C22)","v":""},{"$f":"IF(BA23=\"\",\"\",Grid!$E$24)","v":""}]
[null,null,{"$f":"Grid!$C23","v":""},{"$f":"IF(C24=\"\",\"\",Grid!$E$14)","v":""},null,null,null,{"$f":"IF(Grid!$E$15=\"\",\"\",Grid!$D23)","v":""},{"$f":"IF(H24=\"\",\"\",Grid!$E$15)","v":""},null,null,null,{"$f":"IF(Grid!$E$16=\"\",\"\",Grid!$C23)","v":""},{"$f":"IF(M24=\"\",\"\",Grid!$E$16)","v":""},null,null,null,{"$f":"IF(Grid!$E$17=\"\",\"\",Grid!$D23)","v":""},{"$f":"IF(R24=\"\",\"\",Grid!$E$17)","v":""},null,null,null,{"$f":"IF(Grid!$E$18=\"\",\"\",Grid!$C23)","v":""},{"$f":"IF(W24=\"\",\"\",Grid!$E$18)","v":""},null,null,null,{"$f":"IF(Grid!$E$19=\"\",\"\",Grid!$D23)","v":""},{"$f":"IF(AB24=\"\",\"\",Grid!$E$19)","v":""},null,null,null,{"$f":"IF(Grid!$E$20=\"\",\"\",Grid!$C23)","v":""},{"$f":"IF(AG24=\"\",\"\",Grid!$E$20)","v":""},null,null,null,{"$f":"IF(Grid!$E$21=\"\",\"\",Grid!$D23)","v":""},{"$f":"IF(AL24=\"\",\"\",Grid!$E$21)","v":""},null,null,null,{"$f":"IF(Grid!$E$22=\"\",\"\",Grid!$C23)","v":""},{"$f":"IF(AQ24=\"\",\"\",Grid!$E$22)","v":""},null,null,null,{"$f":"IF(Grid!$E$23=\"\",\"\",Grid!$D23)","v":""},{"$f":"IF(AV24=\"\",\"\",Grid!$E$23)","v":""},null,null,null,{"$f":"IF(Grid!$E$24=\"\",\"\",Grid!$C23)","v":""},{"$f":"IF(BA24=\"\",\"\",Grid!$E$24)","v":""}]
[null,null,{"$f":"Grid!$C24","v":""},{"$f":"IF(C25=\"\",\"\",Grid!$E$14)","v":""},null,null,null,{"$f":"IF(Grid!$E$15=\"\",\"\",Grid!$D24)","v":""},{"$f":"IF(H25=\"\",\"\",Grid!$E$15)","v":""},null,null,null,{"$f":"IF(Grid!$E$16=\"\",\"\",Grid!$C24)","v":""},{"$f":"IF(M25=\"\",\"\",Grid!$E$16)","v":""},null,null,null,{"$f":"IF(Grid!$E$17=\"\",\"\",Grid!$D24)","v":""},{"$f":"IF(R25=\"\",\"\",Grid!$E$17)","v":""},null,null,null,{"$f":"IF(Grid!$E$18=\"\",\"\",Grid!$C24)","v":""},{"$f":"IF(W25=\"\",\"\",Grid!$E$18)","v":""},null,null,null,{"$f":"IF(Grid!$E$19=\"\",\"\",Grid!$D24)","v":""},{"$f":"IF(AB25=\"\",\"\",Grid!$E$19)","v":""},null,null,null,{"$f":"IF(Grid!$E$20=\"\",\"\",Grid!$C24)","v":""},{"$f":"IF(AG25=\"\",\"\",Grid!$E$20)","v":""},null,null,null,{"$f":"IF(Grid!$E$21=\"\",\"\",Grid!$D24)","v":""},{"$f":"IF(AL25=\"\",\"\",Grid!$E$21)","v":""},null,null,null,{"$f":"IF(Grid!$E$22=\"\",\"\",Grid!$C24)","v":""},{"$f":"IF(AQ25=\"\",\"\",Grid!$E$22)","v":""},null,null,null,{"$f":"IF(Grid!$E$23=\"\",\"\",Grid!$D24)","v":""},{"$f":"IF(AV25=\"\",\"\",Grid!$E$23)","v":""},null,null,null,{"$f":"IF(Grid!$E$24=\"\",\"\",Grid!$C24)","v":""},{"$f":"IF(BA25=\"\",\"\",Grid!$E$24)","v":""}]
[null,null,null,{"$f":"IF(C26=\"\",\"\",Grid!$E$14)","v":""}]
[null,null,null,{"$f":"IF(C27=\"\",\"\",Grid!$E$14)","v":""},null,null,null,"-1st Row",null,null,null,null,"-2nd Row",null,null,null,null,"-3rd Row",null,null,null,null,"-4th Row",null,null,null,null,"-5th Row",null,null,null,null,"-6th Row",null,null,null,null,"-7th Row",null,null,null,null,"-8th Row",null,null,null,null,"-9th Row",null,null,null,null,"-10th Row"]
[null,null,null,{"$f":"IF(C28=\"\",\"\",Grid!$E$14)","v":""},null,null,null,"(Xi,","Yi)",null,null,null,"(Xi,","Yi)",null,null,null,"(Xi,","Yi)",null,null,null,"(Xi,","Yi)",null,null,null,"(Xi,","Yi)",null,null,null,"(Xi,","Yi)",null,null,null,"(Xi,","Yi)",null,null,null,"(Xi,","Yi)",null,null,null,"(Xi,","Yi)",null,null,null,"(Xi,","Yi)"]
[null,null,null,null,null,null,null,{"$f":"IF(Grid!$E$13=\"\",\"\",Grid!$D4)","v":""},{"$f":"IF(H29=\"\",\"\",Grid!$E$13)","v":""},null,null,null,{"$f":"IF(Grid!$E$12=\"\",\"\",Grid!$C4)","v":""},{"$f":"IF(M29=\"\",\"\",Grid!$E$12)","v":""},null,null,null,{"$f":"IF(Grid!$E$11=\"\",\"\",Grid!$D4)","v":""},{"$f":"IF(R29=\"\",\"\",Grid!$E$11)","v":""},null,null,null,{"$f":"IF(Grid!$E$10=\"\",\"\",Grid!$C4)","v":""},{"$f":"IF(W29=\"\",\"\",Grid!$E$10)","v":""},null,null,null,{"$f":"IF(Grid!$E$9=\"\",\"\",Grid!$D4)","v":""},{"$f":"IF(AB29=\"\",\"\",Grid!$E$9)","v":""},null,null,null,{"$f":"IF(Grid!$E$8=\"\",\"\",Grid!$C4)","v":""},{"$f":"IF(AG29=\"\",\"\",Grid!$E$8)","v":""},null,null,null,{"$f":"IF(Grid!$E$7=\"\",\"\",Grid!$D4)","v":""},{"$f":"IF(AL29=\"\",\"\",Grid!$E$7)","v":""},null,null,null,{"$f":"IF(Grid!$E$6=\"\",\"\",Grid!$C4)","v":""},{"$f":"IF(AQ29=\"\",\"\",Grid!$E$6)","v":""},null,null,null,{"$f":"IF(Grid!$E$5=\"\",\"\",Grid!$D4)","v":""},{"$f":"IF(AV29=\"\",\"\",Grid!$E$5)","v":""},null,null,null,{"$f":"IF(Grid!$E$4=\"\",\"\",Grid!$C4)","v":""},{"$f":"IF(BA29=\"\",\"\",Grid!$E$4)","v":""}]
[null,null,null,null,null,null,null,{"$f":"IF(Grid!$E$13=\"\",\"\",Grid!$D5)","v":""},{"$f":"IF(H30=\"\",\"\",Grid!$E$13)","v":""},null,null,null,{"$f":"IF(Grid!$E$12=\"\",\"\",Grid!$C5)","v":""},{"$f":"IF(M30=\"\",\"\",Grid!$E$12)","v":""},null,null,null,{"$f":"IF(Grid!$E$11=\"\",\"\",Grid!$D5)","v":""},{"$f":"IF(R30=\"\",\"\",Grid!$E$11)","v":""},null,null,null,{"$f":"IF(Grid!$E$10=\"\",\"\",Grid!$C5)","v":""},{"$f":"IF(W30=\"\",\"\",Grid!$E$10)","v":""},null,null,null,{"$f":"IF(Grid!$E$9=\"\",\"\",Grid!$D5)","v":""},{"$f":"IF(AB30=\"\",\"\",Grid!$E$9)","v":""},null,null,null,{"$f":"IF(Grid!$E$8=\"\",\"\",Grid!$C5)","v":""},{"$f":"IF(AG30=\"\",\"\",Grid!$E$8)","v":""},null,null,null,{"$f":"IF(Grid!$E$7=\"\",\"\",Grid!$D5)","v":""},{"$f":"IF(AL30=\"\",\"\",Grid!$E$7)","v":""},null,null,null,{"$f":"IF(Grid!$E$6=\"\",\"\",Grid!$C5)","v":""},{"$f":"IF(AQ30=\"\",\"\",Grid!$E$6)","v":""},null,null,null,{"$f":"IF(Grid!$E$5=\"\",\"\",Grid!$D5)","v":""},{"$f":"IF(AV30=\"\",\"\",Grid!$E$5)","v":""},null,null,null,{"$f":"IF(Grid!$E$4=\"\",\"\",Grid!$C5)","v":""},{"$f":"IF(BA30=\"\",\"\",Grid!$E$4)","v":""}]
[null,null,null,null,null,null,null,{"$f":"IF(Grid!$E$13=\"\",\"\",Grid!$D6)","v":""},{"$f":"IF(H31=\"\",\"\",Grid!$E$13)","v":""},null,null,null,{"$f":"IF(Grid!$E$12=\"\",\"\",Grid!$C6)","v":""},{"$f":"IF(M31=\"\",\"\",Grid!$E$12)","v":""},null,null,null,{"$f":"IF(Grid!$E$11=\"\",\"\",Grid!$D6)","v":""},{"$f":"IF(R31=\"\",\"\",Grid!$E$11)","v":""},null,null,null,{"$f":"IF(Grid!$E$10=\"\",\"\",Grid!$C6)","v":""},{"$f":"IF(W31=\"\",\"\",Grid!$E$10)","v":""},null,null,null,{"$f":"IF(Grid!$E$9=\"\",\"\",Grid!$D6)","v":""},{"$f":"IF(AB31=\"\",\"\",Grid!$E$9)","v":""},null,null,null,{"$f":"IF(Grid!$E$8=\"\",\"\",Grid!$C6)","v":""},{"$f":"IF(AG31=\"\",\"\",Grid!$E$8)","v":""},null,null,null,{"$f":"IF(Grid!$E$7=\"\",\"\",Grid!$D6)","v":""},{"$f":"IF(AL31=\"\",\"\",Grid!$E$7)","v":""},null,null,null,{"$f":"IF(Grid!$E$6=\"\",\"\",Grid!$C6)","v":""},{"$f":"IF(AQ31=\"\",\"\",Grid!$E$6)","v":""},null,null,null,{"$f":"IF(Grid!$E$5=\"\",\"\",Grid!$D6)","v":""},{"$f":"IF(AV31=\"\",\"\",Grid!$E$5)","v":""},null,null,null,{"$f":"IF(Grid!$E$4=\"\",\"\",Grid!$C6)","v":""},{"$f":"IF(BA31=\"\",\"\",Grid!$E$4)","v":""}]
[null,null,null,null,null,null,null,{"$f":"IF(Grid!$E$13=\"\",\"\",Grid!$D7)","v":""},{"$f":"IF(H32=\"\",\"\",Grid!$E$13)","v":""},null,null,null,{"$f":"IF(Grid!$E$12=\"\",\"\",Grid!$C7)","v":""},{"$f":"IF(M32=\"\",\"\",Grid!$E$12)","v":""},null,null,null,{"$f":"IF(Grid!$E$11=\"\",\"\",Grid!$D7)","v":""},{"$f":"IF(R32=\"\",\"\",Grid!$E$11)","v":""},null,null,null,{"$f":"IF(Grid!$E$10=\"\",\"\",Grid!$C7)","v":""},{"$f":"IF(W32=\"\",\"\",Grid!$E$10)","v":""},null,null,null,{"$f":"IF(Grid!$E$9=\"\",\"\",Grid!$D7)","v":""},{"$f":"IF(AB32=\"\",\"\",Grid!$E$9)","v":""},null,null,null,{"$f":"IF(Grid!$E$8=\"\",\"\",Grid!$C7)","v":""},{"$f":"IF(AG32=\"\",\"\",Grid!$E$8)","v":""},null,null,null,{"$f":"IF(Grid!$E$7=\"\",\"\",Grid!$D7)","v":""},{"$f":"IF(AL32=\"\",\"\",Grid!$E$7)","v":""},null,null,null,{"$f":"IF(Grid!$E$6=\"\",\"\",Grid!$C7)","v":""},{"$f":"IF(AQ32=\"\",\"\",Grid!$E$6)","v":""},null,null,null,{"$f":"IF(Grid!$E$5=\"\",\"\",Grid!$D7)","v":""},{"$f":"IF(AV32=\"\",\"\",Grid!$E$5)","v":""},null,null,null,{"$f":"IF(Grid!$E$4=\"\",\"\",Grid!$C7)","v":""},{"$f":"IF(BA32=\"\",\"\",Grid!$E$4)","v":""}]
[null,null,null,null,null,null,null,{"$f":"IF(Grid!$E$13=\"\",\"\",Grid!$D8)","v":""},{"$f":"IF(H33=\"\",\"\",Grid!$E$13)","v":""},null,null,null,{"$f":"IF(Grid!$E$12=\"\",\"\",Grid!$C8)","v":""},{"$f":"IF(M33=\"\",\"\",Grid!$E$12)","v":""},null,null,null,{"$f":"IF(Grid!$E$11=\"\",\"\",Grid!$D8)","v":""},{"$f":"IF(R33=\"\",\"\",Grid!$E$11)","v":""},null,null,null,{"$f":"IF(Grid!$E$10=\"\",\"\",Grid!$C8)","v":""},{"$f":"IF(W33=\"\",\"\",Grid!$E$10)","v":""},null,null,null,{"$f":"IF(Grid!$E$9=\"\",\"\",Grid!$D8)","v":""},{"$f":"IF(AB33=\"\",\"\",Grid!$E$9)","v":""},null,null,null,{"$f":"IF(Grid!$E$8=\"\",\"\",Grid!$C8)","v":""},{"$f":"IF(AG33=\"\",\"\",Grid!$E$8)","v":""},null,null,null,{"$f":"IF(Grid!$E$7=\"\",\"\",Grid!$D8)","v":""},{"$f":"IF(AL33=\"\",\"\",Grid!$E$7)","v":""},null,null,null,{"$f":"IF(Grid!$E$6=\"\",\"\",Grid!$C8)","v":""},{"$f":"IF(AQ33=\"\",\"\",Grid!$E$6)","v":""},null,null,null,{"$f":"IF(Grid!$E$5=\"\",\"\",Grid!$D8)","v":""},{"$f":"IF(AV33=\"\",\"\",Grid!$E$5)","v":""},null,null,null,{"$f":"IF(Grid!$E$4=\"\",\"\",Grid!$C8)","v":""},{"$f":"IF(BA33=\"\",\"\",Grid!$E$4)","v":""}]
[null,null,null,null,null,null,null,{"$f":"IF(Grid!$E$13=\"\",\"\",Grid!$D9)","v":""},{"$f":"IF(H34=\"\",\"\",Grid!$E$13)","v":""},null,null,null,{"$f":"IF(Grid!$E$12=\"\",\"\",Grid!$C9)","v":""},{"$f":"IF(M34=\"\",\"\",Grid!$E$12)","v":""},null,null,null,{"$f":"IF(Grid!$E$11=\"\",\"\",Grid!$D9)","v":""},{"$f":"IF(R34=\"\",\"\",Grid!$E$11)","v":""},null,null,null,{"$f":"IF(Grid!$E$10=\"\",\"\",Grid!$C9)","v":""},{"$f":"IF(W34=\"\",\"\",Grid!$E$10)","v":""},null,null,null,{"$f":"IF(Grid!$E$9=\"\",\"\",Grid!$D9)","v":""},{"$f":"IF(AB34=\"\",\"\",Grid!$E$9)","v":""},null,null,null,{"$f":"IF(Grid!$E$8=\"\",\"\",Grid!$C9)","v":""},{"$f":"IF(AG34=\"\",\"\",Grid!$E$8)","v":""},null,null,null,{"$f":"IF(Grid!$E$7=\"\",\"\",Grid!$D9)","v":""},{"$f":"IF(AL34=\"\",\"\",Grid!$E$7)","v":""},null,null,null,{"$f":"IF(Grid!$E$6=\"\",\"\",Grid!$C9)","v":""},{"$f":"IF(AQ34=\"\",\"\",Grid!$E$6)","v":""},null,null,null,{"$f":"IF(Grid!$E$5=\"\",\"\",Grid!$D9)","v":""},{"$f":"IF(AV34=\"\",\"\",Grid!$E$5)","v":""},null,null,null,{"$f":"IF(Grid!$E$4=\"\",\"\",Grid!$C9)","v":""},{"$f":"IF(BA34=\"\",\"\",Grid!$E$4)","v":""}]
[null,null,null,null,null,null,null,{"$f":"IF(Grid!$E$13=\"\",\"\",Grid!$D10)","v":""},{"$f":"IF(H35=\"\",\"\",Grid!$E$13)","v":""},null,null,null,{"$f":"IF(Grid!$E$12=\"\",\"\",Grid!$C10)","v":""},{"$f":"IF(M35=\"\",\"\",Grid!$E$12)","v":""},null,null,null,{"$f":"IF(Grid!$E$11=\"\",\"\",Grid!$D10)","v":""},{"$f":"IF(R35=\"\",\"\",Grid!$E$11)","v":""},null,null,null,{"$f":"IF(Grid!$E$10=\"\",\"\",Grid!$C10)","v":""},{"$f":"IF(W35=\"\",\"\",Grid!$E$10)","v":""},null,null,null,{"$f":"IF(Grid!$E$9=\"\",\"\",Grid!$D10)","v":""},{"$f":"IF(AB35=\"\",\"\",Grid!$E$9)","v":""},null,null,null,{"$f":"IF(Grid!$E$8=\"\",\"\",Grid!$C10)","v":""},{"$f":"IF(AG35=\"\",\"\",Grid!$E$8)","v":""},null,null,null,{"$f":"IF(Grid!$E$7=\"\",\"\",Grid!$D10)","v":""},{"$f":"IF(AL35=\"\",\"\",Grid!$E$7)","v":""},null,null,null,{"$f":"IF(Grid!$E$6=\"\",\"\",Grid!$C10)","v":""},{"$f":"IF(AQ35=\"\",\"\",Grid!$E$6)","v":""},null,null,null,{"$f":"IF(Grid!$E$5=\"\",\"\",Grid!$D10)","v":""},{"$f":"IF(AV35=\"\",\"\",Grid!$E$5)","v":""},null,null,null,{"$f":"IF(Grid!$E$4=\"\",\"\",Grid!$C10)","v":""},{"$f":"IF(BA35=\"\",\"\",Grid!$E$4)","v":""}]
[null,null,null,null,null,null,null,{"$f":"IF(Grid!$E$13=\"\",\"\",Grid!$D11)","v":""},{"$f":"IF(H36=\"\",\"\",Grid!$E$13)","v":""},null,null,null,{"$f":"IF(Grid!$E$12=\"\",\"\",Grid!$C11)","v":""},{"$f":"IF(M36=\"\",\"\",Grid!$E$12)","v":""},null,null,null,{"$f":"IF(Grid!$E$11=\"\",\"\",Grid!$D11)","v":""},{"$f":"IF(R36=\"\",\"\",Grid!$E$11)","v":""},null,null,null,{"$f":"IF(Grid!$E$10=\"\",\"\",Grid!$C11)","v":""},{"$f":"IF(W36=\"\",\"\",Grid!$E$10)","v":""},null,null,null,{"$f":"IF(Grid!$E$9=\"\",\"\",Grid!$D11)","v":""},{"$f":"IF(AB36=\"\",\"\",Grid!$E$9)","v":""},null,null,null,{"$f":"IF(Grid!$E$8=\"\",\"\",Grid!$C11)","v":""},{"$f":"IF(AG36=\"\",\"\",Grid!$E$8)","v":""},null,null,null,{"$f":"IF(Grid!$E$7=\"\",\"\",Grid!$D11)","v":""},{"$f":"IF(AL36=\"\",\"\",Grid!$E$7)","v":""},null,null,null,{"$f":"IF(Grid!$E$6=\"\",\"\",Grid!$C11)","v":""},{"$f":"IF(AQ36=\"\",\"\",Grid!$E$6)","v":""},null,null,null,{"$f":"IF(Grid!$E$5=\"\",\"\",Grid!$D11)","v":""},{"$f":"IF(AV36=\"\",\"\",Grid!$E$5)","v":""},null,null,null,{"$f":"IF(Grid!$E$4=\"\",\"\",Grid!$C11)","v":""},{"$f":"IF(BA36=\"\",\"\",Grid!$E$4)","v":""}]
[null,null,null,null,null,null,null,{"$f":"IF(Grid!$E$13=\"\",\"\",Grid!$D12)","v":-14.200000000000003},{"$f":"IF(H37=\"\",\"\",Grid!$E$13)","v":-12.9},null,null,null,{"$f":"IF(Grid!$E$12=\"\",\"\",Grid!$C12)","v":""},{"$f":"IF(M37=\"\",\"\",Grid!$E$12)","v":""},null,null,null,{"$f":"IF(Grid!$E$11=\"\",\"\",Grid!$D12)","v":""},{"$f":"IF(R37=\"\",\"\",Grid!$E$11)","v":""},null,null,null,{"$f":"IF(Grid!$E$10=\"\",\"\",Grid!$C12)","v":""},{"$f":"IF(W37=\"\",\"\",Grid!$E$10)","v":""},null,null,null,{"$f":"IF(Grid!$E$9=\"\",\"\",Grid!$D12)","v":""},{"$f":"IF(AB37=\"\",\"\",Grid!$E$9)","v":""},null,null,null,{"$f":"IF(Grid!$E$8=\"\",\"\",Grid!$C12)","v":""},{"$f":"IF(AG37=\"\",\"\",Grid!$E$8)","v":""},null,null,null,{"$f":"IF(Grid!$E$7=\"\",\"\",Grid!$D12)","v":""},{"$f":"IF(AL37=\"\",\"\",Grid!$E$7)","v":""},null,null,null,{"$f":"IF(Grid!$E$6=\"\",\"\",Grid!$C12)","v":""},{"$f":"IF(AQ37=\"\",\"\",Grid!$E$6)","v":""},null,null,null,{"$f":"IF(Grid!$E$5=\"\",\"\",Grid!$D12)","v":""},{"$f":"IF(AV37=\"\",\"\",Grid!$E$5)","v":""},null,null,null,{"$f":"IF(Grid!$E$4=\"\",\"\",Grid!$C12)","v":""},{"$f":"IF(BA37=\"\",\"\",Grid!$E$4)","v":""}]
[null,null,null,null,null,null,null,{"$f":"IF(Grid!$E$13=\"\",\"\",Grid!$D13)","v":5.3999999999999986},{"$f":"IF(H38=\"\",\"\",Grid!$E$13)","v":-12.9},null,null,null,{"$f":"IF(Grid!$E$12=\"\",\"\",Grid!$C13)","v":""},{"$f":"IF(M38=\"\",\"\",Grid!$E$12)","v":""},null,null,null,{"$f":"IF(Grid!$E$11=\"\",\"\",Grid!$D13)","v":""},{"$f":"IF(R38=\"\",\"\",Grid!$E$11)","v":""},null,null,null,{"$f":"IF(Grid!$E$10=\"\",\"\",Grid!$C13)","v":""},{"$f":"IF(W38=\"\",\"\",Grid!$E$10)","v":""},null,null,null,{"$f":"IF(Grid!$E$9=\"\",\"\",Grid!$D13)","v":""},{"$f":"IF(AB38=\"\",\"\",Grid!$E$9)","v":""},null,null,null,{"$f":"IF(Grid!$E$8=\"\",\"\",Grid!$C13)","v":""},{"$f":"IF(AG38=\"\",\"\",Grid!$E$8)","v":""},null,null,null,{"$f":"IF(Grid!$E$7=\"\",\"\",Grid!$D13)","v":""},{"$f":"IF(AL38=\"\",\"\",Grid!$E$7)","v":""},null,null,null,{"$f":"IF(Grid!$E$6=\"\",\"\",Grid!$C13)","v":""},{"$f":"IF(AQ38=\"\",\"\",Grid!$E$6)","v":""},null,null,null,{"$f":"IF(Grid!$E$5=\"\",\"\",Grid!$D13)","v":""},{"$f":"IF(AV38=\"\",\"\",Grid!$E$5)","v":""},null,null,null,{"$f":"IF(Grid!$E$4=\"\",\"\",Grid!$C13)","v":""},{"$f":"IF(BA38=\"\",\"\",Grid!$E$4)","v":""}]
[null,null,null,null,null,null,null,{"$f":"IF(Grid!$E$13=\"\",\"\",Grid!$D14)","v":25},{"$f":"IF(H39=\"\",\"\",Grid!$E$13)","v":-12.9},null,null,null,{"$f":"IF(Grid!$E$12=\"\",\"\",Grid!$C14)","v":""},{"$f":"IF(M39=\"\",\"\",Grid!$E$12)","v":""},null,null,null,{"$f":"IF(Grid!$E$11=\"\",\"\",Grid!$D14)","v":""},{"$f":"IF(R39=\"\",\"\",Grid!$E$11)","v":""},null,null,null,{"$f":"IF(Grid!$E$10=\"\",\"\",Grid!$C14)","v":""},{"$f":"IF(W39=\"\",\"\",Grid!$E$10)","v":""},null,null,null,{"$f":"IF(Grid!$E$9=\"\",\"\",Grid!$D14)","v":""},{"$f":"IF(AB39=\"\",\"\",Grid!$E$9)","v":""},null,null,null,{"$f":"IF(Grid!$E$8=\"\",\"\",Grid!$C14)","v":""},{"$f":"IF(AG39=\"\",\"\",Grid!$E$8)","v":""},null,null,null,{"$f":"IF(Grid!$E$7=\"\",\"\",Grid!$D14)","v":""},{"$f":"IF(AL39=\"\",\"\",Grid!$E$7)","v":""},null,null,null,{"$f":"IF(Grid!$E$6=\"\",\"\",Grid!$C14)","v":""},{"$f":"IF(AQ39=\"\",\"\",Grid!$E$6)","v":""},null,null,null,{"$f":"IF(Grid!$E$5=\"\",\"\",Grid!$D14)","v":""},{"$f":"IF(AV39=\"\",\"\",Grid!$E$5)","v":""},null,null,null,{"$f":"IF(Grid!$E$4=\"\",\"\",Grid!$C14)","v":""},{"$f":"IF(BA39=\"\",\"\",Grid!$E$4)","v":""}]
[null,null,null,null,null,null,null,{"$f":"IF(Grid!$E$13=\"\",\"\",Grid!$D15)","v":44.6},{"$f":"IF(H40=\"\",\"\",Grid!$E$13)","v":-12.9},null,null,null,{"$f":"IF(Grid!$E$12=\"\",\"\",Grid!$C15)","v":""},{"$f":"IF(M40=\"\",\"\",Grid!$E$12)","v":""},null,null,null,{"$f":"IF(Grid!$E$11=\"\",\"\",Grid!$D15)","v":""},{"$f":"IF(R40=\"\",\"\",Grid!$E$11)","v":""},null,null,null,{"$f":"IF(Grid!$E$10=\"\",\"\",Grid!$C15)","v":""},{"$f":"IF(W40=\"\",\"\",Grid!$E$10)","v":""},null,null,null,{"$f":"IF(Grid!$E$9=\"\",\"\",Grid!$D15)","v":""},{"$f":"IF(AB40=\"\",\"\",Grid!$E$9)","v":""},null,null,null,{"$f":"IF(Grid!$E$8=\"\",\"\",Grid!$C15)","v":""},{"$f":"IF(AG40=\"\",\"\",Grid!$E$8)","v":""},null,null,null,{"$f":"IF(Grid!$E$7=\"\",\"\",Grid!$D15)","v":""},{"$f":"IF(AL40=\"\",\"\",Grid!$E$7)","v":""},null,null,null,{"$f":"IF(Grid!$E$6=\"\",\"\",Grid!$C15)","v":""},{"$f":"IF(AQ40=\"\",\"\",Grid!$E$6)","v":""},null,null,null,{"$f":"IF(Grid!$E$5=\"\",\"\",Grid!$D15)","v":""},{"$f":"IF(AV40=\"\",\"\",Grid!$E$5)","v":""},null,null,null,{"$f":"IF(Grid!$E$4=\"\",\"\",Grid!$C15)","v":""},{"$f":"IF(BA40=\"\",\"\",Grid!$E$4)","v":""}]
[null,null,null,null,null,null,null,{"$f":"IF(Grid!$E$13=\"\",\"\",Grid!$D16)","v":64.2},{"$f":"IF(H41=\"\",\"\",Grid!$E$13)","v":-12.9},null,null,null,{"$f":"IF(Grid!$E$12=\"\",\"\",Grid!$C16)","v":""},{"$f":"IF(M41=\"\",\"\",Grid!$E$12)","v":""},null,null,null,{"$f":"IF(Grid!$E$11=\"\",\"\",Grid!$D16)","v":""},{"$f":"IF(R41=\"\",\"\",Grid!$E$11)","v":""},null,null,null,{"$f":"IF(Grid!$E$10=\"\",\"\",Grid!$C16)","v":""},{"$f":"IF(W41=\"\",\"\",Grid!$E$10)","v":""},null,null,null,{"$f":"IF(Grid!$E$9=\"\",\"\",Grid!$D16)","v":""},{"$f":"IF(AB41=\"\",\"\",Grid!$E$9)","v":""},null,null,null,{"$f":"IF(Grid!$E$8=\"\",\"\",Grid!$C16)","v":""},{"$f":"IF(AG41=\"\",\"\",Grid!$E$8)","v":""},null,null,null,{"$f":"IF(Grid!$E$7=\"\",\"\",Grid!$D16)","v":""},{"$f":"IF(AL41=\"\",\"\",Grid!$E$7)","v":""},null,null,null,{"$f":"IF(Grid!$E$6=\"\",\"\",Grid!$C16)","v":""},{"$f":"IF(AQ41=\"\",\"\",Grid!$E$6)","v":""},null,null,null,{"$f":"IF(Grid!$E$5=\"\",\"\",Grid!$D16)","v":""},{"$f":"IF(AV41=\"\",\"\",Grid!$E$5)","v":""},null,null,null,{"$f":"IF(Grid!$E$4=\"\",\"\",Grid!$C16)","v":""},{"$f":"IF(BA41=\"\",\"\",Grid!$E$4)","v":""}]
[null,null,null,null,null,null,null,{"$f":"IF(Grid!$E$13=\"\",\"\",Grid!$D17)","v":83.800000000000011},{"$f":"IF(H42=\"\",\"\",Grid!$E$13)","v":-12.9},null,null,null,{"$f":"IF(Grid!$E$12=\"\",\"\",Grid!$C17)","v":""},{"$f":"IF(M42=\"\",\"\",Grid!$E$12)","v":""},null,null,null,{"$f":"IF(Grid!$E$11=\"\",\"\",Grid!$D17)","v":""},{"$f":"IF(R42=\"\",\"\",Grid!$E$11)","v":""},null,null,null,{"$f":"IF(Grid!$E$10=\"\",\"\",Grid!$C17)","v":""},{"$f":"IF(W42=\"\",\"\",Grid!$E$10)","v":""},null,null,null,{"$f":"IF(Grid!$E$9=\"\",\"\",Grid!$D17)","v":""},{"$f":"IF(AB42=\"\",\"\",Grid!$E$9)","v":""},null,null,null,{"$f":"IF(Grid!$E$8=\"\",\"\",Grid!$C17)","v":""},{"$f":"IF(AG42=\"\",\"\",Grid!$E$8)","v":""},null,null,null,{"$f":"IF(Grid!$E$7=\"\",\"\",Grid!$D17)","v":""},{"$f":"IF(AL42=\"\",\"\",Grid!$E$7)","v":""},null,null,null,{"$f":"IF(Grid!$E$6=\"\",\"\",Grid!$C17)","v":""},{"$f":"IF(AQ42=\"\",\"\",Grid!$E$6)","v":""},null,null,null,{"$f":"IF(Grid!$E$5=\"\",\"\",Grid!$D17)","v":""},{"$f":"IF(AV42=\"\",\"\",Grid!$E$5)","v":""},null,null,null,{"$f":"IF(Grid!$E$4=\"\",\"\",Grid!$C17)","v":""},{"$f":"IF(BA42=\"\",\"\",Grid!$E$4)","v":""}]
[null,null,null,null,null,null,null,{"$f":"IF(Grid!$E$13=\"\",\"\",Grid!$D18)","v":""},{"$f":"IF(H43=\"\",\"\",Grid!$E$13)","v":""},null,null,null,{"$f":"IF(Grid!$E$12=\"\",\"\",Grid!$C18)","v":""},{"$f":"IF(M43=\"\",\"\",Grid!$E$12)","v":""},null,null,null,{"$f":"IF(Grid!$E$11=\"\",\"\",Grid!$D18)","v":""},{"$f":"IF(R43=\"\",\"\",Grid!$E$11)","v":""},null,null,null,{"$f":"IF(Grid!$E$10=\"\",\"\",Grid!$C18)","v":""},{"$f":"IF(W43=\"\",\"\",Grid!$E$10)","v":""},null,null,null,{"$f":"IF(Grid!$E$9=\"\",\"\",Grid!$D18)","v":""},{"$f":"IF(AB43=\"\",\"\",Grid!$E$9)","v":""},null,null,null,{"$f":"IF(Grid!$E$8=\"\",\"\",Grid!$C18)","v":""},{"$f":"IF(AG43=\"\",\"\",Grid!$E$8)","v":""},null,null,null,{"$f":"IF(Grid!$E$7=\"\",\"\",Grid!$D18)","v":""},{"$f":"IF(AL43=\"\",\"\",Grid!$E$7)","v":""},null,null,null,{"$f":"IF(Grid!$E$6=\"\",\"\",Grid!$C18)","v":""},{"$f":"IF(AQ43=\"\",\"\",Grid!$E$6)","v":""},null,null,null,{"$f":"IF(Grid!$E$5=\"\",\"\",Grid!$D18)","v":""},{"$f":"IF(AV43=\"\",\"\",Grid!$E$5)","v":""},null,null,null,{"$f":"IF(Grid!$E$4=\"\",\"\",Grid!$C18)","v":""},{"$f":"IF(BA43=\"\",\"\",Grid!$E$4)","v":""}]
[null,null,null,null,null,null,null,{"$f":"IF(Grid!$E$13=\"\",\"\",Grid!$D19)","v":""},{"$f":"IF(H44=\"\",\"\",Grid!$E$13)","v":""},null,null,null,{"$f":"IF(Grid!$E$12=\"\",\"\",Grid!$C19)","v":""},{"$f":"IF(M44=\"\",\"\",Grid!$E$12)","v":""},null,null,null,{"$f":"IF(Grid!$E$11=\"\",\"\",Grid!$D19)","v":""},{"$f":"IF(R44=\"\",\"\",Grid!$E$11)","v":""},null,null,null,{"$f":"IF(Grid!$E$10=\"\",\"\",Grid!$C19)","v":""},{"$f":"IF(W44=\"\",\"\",Grid!$E$10)","v":""},null,null,null,{"$f":"IF(Grid!$E$9=\"\",\"\",Grid!$D19)","v":""},{"$f":"IF(AB44=\"\",\"\",Grid!$E$9)","v":""},null,null,null,{"$f":"IF(Grid!$E$8=\"\",\"\",Grid!$C19)","v":""},{"$f":"IF(AG44=\"\",\"\",Grid!$E$8)","v":""},null,null,null,{"$f":"IF(Grid!$E$7=\"\",\"\",Grid!$D19)","v":""},{"$f":"IF(AL44=\"\",\"\",Grid!$E$7)","v":""},null,null,null,{"$f":"IF(Grid!$E$6=\"\",\"\",Grid!$C19)","v":""},{"$f":"IF(AQ44=\"\",\"\",Grid!$E$6)","v":""},null,null,null,{"$f":"IF(Grid!$E$5=\"\",\"\",Grid!$D19)","v":""},{"$f":"IF(AV44=\"\",\"\",Grid!$E$5)","v":""},null,null,null,{"$f":"IF(Grid!$E$4=\"\",\"\",Grid!$C19)","v":""},{"$f":"IF(BA44=\"\",\"\",Grid!$E$4)","v":""}]
[null,null,null,null,null,null,null,{"$f":"IF(Grid!$E$13=\"\",\"\",Grid!$D20)","v":""},{"$f":"IF(H45=\"\",\"\",Grid!$E$13)","v":""},null,null,null,{"$f":"IF(Grid!$E$12=\"\",\"\",Grid!$C20)","v":""},{"$f":"IF(M45=\"\",\"\",Grid!$E$12)","v":""},null,null,null,{"$f":"IF(Grid!$E$11=\"\",\"\",Grid!$D20)","v":""},{"$f":"IF(R45=\"\",\"\",Grid!$E$11)","v":""},null,null,null,{"$f":"IF(Grid!$E$10=\"\",\"\",Grid!$C20)","v":""},{"$f":"IF(W45=\"\",\"\",Grid!$E$10)","v":""},null,null,null,{"$f":"IF(Grid!$E$9=\"\",\"\",Grid!$D20)","v":""},{"$f":"IF(AB45=\"\",\"\",Grid!$E$9)","v":""},null,null,null,{"$f":"IF(Grid!$E$8=\"\",\"\",Grid!$C20)","v":""},{"$f":"IF(AG45=\"\",\"\",Grid!$E$8)","v":""},null,null,null,{"$f":"IF(Grid!$E$7=\"\",\"\",Grid!$D20)","v":""},{"$f":"IF(AL45=\"\",\"\",Grid!$E$7)","v":""},null,null,null,{"$f":"IF(Grid!$E$6=\"\",\"\",Grid!$C20)","v":""},{"$f":"IF(AQ45=\"\",\"\",Grid!$E$6)","v":""},null,null,null,{"$f":"IF(Grid!$E$5=\"\",\"\",Grid!$D20)","v":""},{"$f":"IF(AV45=\"\",\"\",Grid!$E$5)","v":""},null,null,null,{"$f":"IF(Grid!$E$4=\"\",\"\",Grid!$C20)","v":""},{"$f":"IF(BA45=\"\",\"\",Grid!$E$4)","v":""}]
[null,null,null,null,null,null,null,{"$f":"IF(Grid!$E$13=\"\",\"\",Grid!$D21)","v":""},{"$f":"IF(H46=\"\",\"\",Grid!$E$13)","v":""},null,null,null,{"$f":"IF(Grid!$E$12=\"\",\"\",Grid!$C21)","v":""},{"$f":"IF(M46=\"\",\"\",Grid!$E$12)","v":""},null,null,null,{"$f":"IF(Grid!$E$11=\"\",\"\",Grid!$D21)","v":""},{"$f":"IF(R46=\"\",\"\",Grid!$E$11)","v":""},null,null,null,{"$f":"IF(Grid!$E$10=\"\",\"\",Grid!$C21)","v":""},{"$f":"IF(W46=\"\",\"\",Grid!$E$10)","v":""},null,null,null,{"$f":"IF(Grid!$E$9=\"\",\"\",Grid!$D21)","v":""},{"$f":"IF(AB46=\"\",\"\",Grid!$E$9)","v":""},null,null,null,{"$f":"IF(Grid!$E$8=\"\",\"\",Grid!$C21)","v":""},{"$f":"IF(AG46=\"\",\"\",Grid!$E$8)","v":""},null,null,null,{"$f":"IF(Grid!$E$7=\"\",\"\",Grid!$D21)","v":""},{"$f":"IF(AL46=\"\",\"\",Grid!$E$7)","v":""},null,null,null,{"$f":"IF(Grid!$E$6=\"\",\"\",Grid!$C21)","v":""},{"$f":"IF(AQ46=\"\",\"\",Grid!$E$6)","v":""},null,null,null,{"$f":"IF(Grid!$E$5=\"\",\"\",Grid!$D21)","v":""},{"$f":"IF(AV46=\"\",\"\",Grid!$E$5)","v":""},null,null,null,{"$f":"IF(Grid!$E$4=\"\",\"\",Grid!$C21)","v":""},{"$f":"IF(BA46=\"\",\"\",Grid!$E$4)","v":""}]
[null,null,null,null,null,null,null,{"$f":"IF(Grid!$E$13=\"\",\"\",Grid!$D22)","v":""},{"$f":"IF(H47=\"\",\"\",Grid!$E$13)","v":""},null,null,null,{"$f":"IF(Grid!$E$12=\"\",\"\",Grid!$C22)","v":""},{"$f":"IF(M47=\"\",\"\",Grid!$E$12)","v":""},null,null,null,{"$f":"IF(Grid!$E$11=\"\",\"\",Grid!$D22)","v":""},{"$f":"IF(R47=\"\",\"\",Grid!$E$11)","v":""},null,null,null,{"$f":"IF(Grid!$E$10=\"\",\"\",Grid!$C22)","v":""},{"$f":"IF(W47=\"\",\"\",Grid!$E$10)","v":""},null,null,null,{"$f":"IF(Grid!$E$9=\"\",\"\",Grid!$D22)","v":""},{"$f":"IF(AB47=\"\",\"\",Grid!$E$9)","v":""},null,null,null,{"$f":"IF(Grid!$E$8=\"\",\"\",Grid!$C22)","v":""},{"$f":"IF(AG47=\"\",\"\",Grid!$E$8)","v":""},null,null,null,{"$f":"IF(Grid!$E$7=\"\",\"\",Grid!$D22)","v":""},{"$f":"IF(AL47=\"\",\"\",Grid!$E$7)","v":""},null,null,null,{"$f":"IF(Grid!$E$6=\"\",\"\",Grid!$C22)","v":""},{"$f":"IF(AQ47=\"\",\"\",Grid!$E$6)","v":""},null,null,null,{"$f":"IF(Grid!$E$5=\"\",\"\",Grid!$D22)","v":""},{"$f":"IF(AV47=\"\",\"\",Grid!$E$5)","v":""},null,null,null,{"$f":"IF(Grid!$E$4=\"\",\"\",Grid!$C22)","v":""},{"$f":"IF(BA47=\"\",\"\",Grid!$E$4)","v":""}]
[null,null,null,null,null,null,null,{"$f":"IF(Grid!$E$13=\"\",\"\",Grid!$D23)","v":""},{"$f":"IF(H48=\"\",\"\",Grid!$E$13)","v":""},null,null,null,{"$f":"IF(Grid!$E$12=\"\",\"\",Grid!$C23)","v":""},{"$f":"IF(M48=\"\",\"\",Grid!$E$12)","v":""},null,null,null,{"$f":"IF(Grid!$E$11=\"\",\"\",Grid!$D23)","v":""},{"$f":"IF(R48=\"\",\"\",Grid!$E$11)","v":""},null,null,null,{"$f":"IF(Grid!$E$10=\"\",\"\",Grid!$C23)","v":""},{"$f":"IF(W48=\"\",\"\",Grid!$E$10)","v":""},null,null,null,{"$f":"IF(Grid!$E$9=\"\",\"\",Grid!$D23)","v":""},{"$f":"IF(AB48=\"\",\"\",Grid!$E$9)","v":""},null,null,null,{"$f":"IF(Grid!$E$8=\"\",\"\",Grid!$C23)","v":""},{"$f":"IF(AG48=\"\",\"\",Grid!$E$8)","v":""},null,null,null,{"$f":"IF(Grid!$E$7=\"\",\"\",Grid!$D23)","v":""},{"$f":"IF(AL48=\"\",\"\",Grid!$E$7)","v":""},null,null,null,{"$f":"IF(Grid!$E$6=\"\",\"\",Grid!$C23)","v":""},{"$f":"IF(AQ48=\"\",\"\",Grid!$E$6)","v":""},null,null,null,{"$f":"IF(Grid!$E$5=\"\",\"\",Grid!$D23)","v":""},{"$f":"IF(AV48=\"\",\"\",Grid!$E$5)","v":""},null,null,null,{"$f":"IF(Grid!$E$4=\"\",\"\",Grid!$C23)","v":""},{"$f":"IF(BA48=\"\",\"\",Grid!$E$4)","v":""}]
[null,null,null,null,null,null,null,{"$f":"IF(Grid!$E$13=\"\",\"\",Grid!$D24)","v":""},{"$f":"IF(H49=\"\",\"\",Grid!$E$13)","v":""},null,null,null,{"$f":"IF(Grid!$E$12=\"\",\"\",Grid!$C24)","v":""},{"$f":"IF(M49=\"\",\"\",Grid!$E$12)","v":""},null,null,null,{"$f":"IF(Grid!$E$11=\"\",\"\",Grid!$D24)","v":""},{"$f":"IF(R49=\"\",\"\",Grid!$E$11)","v":""},null,null,null,{"$f":"IF(Grid!$E$10=\"\",\"\",Grid!$C24)","v":""},{"$f":"IF(W49=\"\",\"\",Grid!$E$10)","v":""},null,null,null,{"$f":"IF(Grid!$E$9=\"\",\"\",Grid!$D24)","v":""},{"$f":"IF(AB49=\"\",\"\",Grid!$E$9)","v":""},null,null,null,{"$f":"IF(Grid!$E$8=\"\",\"\",Grid!$C24)","v":""},{"$f":"IF(AG49=\"\",\"\",Grid!$E$8)","v":""},null,null,null,{"$f":"IF(Grid!$E$7=\"\",\"\",Grid!$D24)","v":""},{"$f":"IF(AL49=\"\",\"\",Grid!$E$7)","v":""},null,null,null,{"$f":"IF(Grid!$E$6=\"\",\"\",Grid!$C24)","v":""},{"$f":"IF(AQ49=\"\",\"\",Grid!$E$6)","v":""},null,null,null,{"$f":"IF(Grid!$E$5=\"\",\"\",Grid!$D24)","v":""},{"$f":"IF(AV49=\"\",\"\",Grid!$E$5)","v":""},null,null,null,{"$f":"IF(Grid!$E$4=\"\",\"\",Grid!$C24)","v":""},{"$f":"IF(BA49=\"\",\"\",Grid!$E$4)","v":""}]

{"sheet":"SamplingPoints","index":2,"n_rows":49,"n_cols":57,"rows_kept":49,"cut":false,"hidden":false,"merged":[[26,52,26,54],[2,27,2,29],[2,32,2,34],[2,37,2,39],[2,42,2,44],[2,52,2,54],[26,27,26,29],[26,37,26,39],[2,47,2,49],[26,42,26,44],[26,32,26,34],[26,47,26,49],[2,2,2,4],[26,22,26,24],[2,17,2,19],[2,22,2,24],[2,12,2,14],[2,7,2,9],[26,7,26,9],[26,17,26,19],[26,12,26,14]]}
["Coordinates of 3-D Systematic Random Sampling Points "]
["Note: Sampling points that are not within the area of contamination should be discarded.  You will need to generate another group of data sets if the number of valid data sets in a group is less than the minimum number of samples otherwise required.   "]
[null,null,"0th Row",null,null,null,null,"1st Row",null,null,null,null,"2nd Row",null,null,null,null,"3rd Row",null,null,null,null,"4th Row",null,null,null,null,"5th Row",null,null,null,null,"6th Row",null,null,null,null,"7th Row",null,null,null,null,"8th Row",null,null,null,null,"9th Row",null,null,null,null,"10th Row"]
[null,null,"Xi,","Yi","Zi",null,null,"Xi,","Yi","Zi",null,null,"Xi,","Yi","Zi",null,null,"Xi,","Yi","Zi",null,null,"Xi,","Yi","Zi",null,null,"Xi,","Yi","Zi",null,null,"Xi,","Yi","Zi",null,null,"Xi,","Yi","Zi",null,null,"Xi,","Yi","Zi",null,null,"Xi,","Yi","Zi",null,null,"Xi,","Yi","Zi"]
[null,null,{"$f":"(IF('Xi,Yi'!C5=\"\",\"\",(IF((('Xi,Yi'!C5+G5+F5/SQRT(3))<DataInput!$B$18),\"\",(IF((('Xi,Yi'!C5+G5+F5/SQRT(3))>DataInput!$B$19),\"\",(IF('Xi,Yi'!D5=\"\",\"\",(IF(('Xi,Yi'!D5+F5<DataInput!$B$20),\"\",(IF((('Xi,Yi'!D5+F5)>DataInput!$B$21),\"\",('Xi,Yi'!C5+G5+F5/SQRT(3))))))))))))))","v":""},{"$f":"IF(C5=\"\",\"\",(IF('Xi,Yi'!D5=\"\",\"\",(IF(('Xi,Yi'!D5+F5<DataInput!$B$20),\"\",(IF((('Xi,Yi'!D5+F5)>DataInput!$B$21),\"\",('Xi,Yi'!D5+F5))))))))","v":""},{"$f":"IF(C5=\"\",\"\",IF(D5=\"\",\"\",(DataInput!$B$4+(DataInput!$D$4-DataInput!$B$4)*RAND())))","v":""},{"$f":"DataInput!$B$16*RAND()","v":11.196171669747487},{"$f":"DataInput!$B$15*RAND()","v":3.7262904875852803},{"$f":"(IF('Xi,Yi'!H5=\"\",\"\",(IF((('Xi,Yi'!H5+L5+K5/SQRT(3))<DataInput!$B$18),\"\",(IF((('Xi,Yi'!H5+L5+K5/SQRT(3))>DataInput!$B$19),\"\",(IF('Xi,Yi'!I5=\"\",\"\",(IF(('Xi,Yi'!I5+K5<DataInput!$B$20),\"\",(IF((('Xi,Yi'!I5+K5)>DataInput!$B$21),\"\",('Xi,Yi'!H5+L5+K5/SQRT(3))))))))))))))","v":""},{"$f":"IF(H5=\"\",\"\",(IF('Xi,Yi'!I5=\"\",\"\",(IF(('Xi,Yi'!I5+K5<DataInput!$B$20),\"\",(IF((('Xi,Yi'!I5+K5)>DataInput!$B$21),\"\",('Xi,Yi'!I5+K5))))))))","v":""},{"$f":"IF(H5=\"\",\"\",IF(I5=\"\",\"\",(DataInput!$B$4+(DataInput!$D$4-DataInput!$B$4)*RAND())))","v":""},{"$f":"DataInput!$B$16*RAND()","v":8.7169642966822494},{"$f":"DataInput!$B$15*RAND()","v":13.190540684009227},{"$f":"(IF('Xi,Yi'!M5=\"\",\"\",(IF((('Xi,Yi'!M5+Q5+P5/SQRT(3))<DataInput!$B$18),\"\",(IF((('Xi,Yi'!M5+Q5+P5/SQRT(3))>DataInput!$B$19),\"\",(IF('Xi,Yi'!N5=\"\",\"\",(IF(('Xi,Yi'!N5+P5<DataInput!$B$20),\"\",(IF((('Xi,Yi'!N5+P5)>DataInput!$B$21),\"\",('Xi,Yi'!M5+Q5+P5/SQRT(3))))))))))))))","v":""},{"$f":"IF(M5=\"\",\"\",(IF('Xi,Yi'!N5=\"\",\"\",(IF(('Xi,Yi'!N5+P5<DataInput!$B$20),\"\",(IF((('Xi,Yi'!N5+P5)>DataInput!$B$21),\"\",('Xi,Yi'!N5+P5))))))))","v":""},{"$f":"IF(M5=\"\",\"\",IF(N5=\"\",\"\",(DataInput!$B$4+(DataInput!$D$4-DataInput!$B$4)*RAND())))","v":""},{"$f":"DataInput!$B$16*RAND()","v":4.3861383061923975},{"$f":"DataInput!$B$15*RAND()","v":15.938979008126994},{"$f":"(IF('Xi,Yi'!R5=\"\",\"\",(IF((('Xi,Yi'!R5+V5+U5/SQRT(3))<DataInput!$B$18),\"\",(IF((('Xi,Yi'!R5+V5+U5/SQRT(3))>DataInput!$B$19),\"\",(IF('Xi,Yi'!S5=\"\",\"\",(IF(('Xi,Yi'!S5+U5<DataInput!$B$20),\"\",(IF((('Xi,Yi'!S5+U5)>DataInput!$B$21),\"\",('Xi,Yi'!R5+V5+U5/SQRT(3))))))))))))))","v":""},{"$f":"IF(R5=\"\",\"\",(IF('Xi,Yi'!S5=\"\",\"\",(IF(('Xi,Yi'!S5+U5<DataInput!$B$20),\"\",(IF((('Xi,Yi'!S5+U5)>DataInput!$B$21),\"\",('Xi,Yi'!S5+U5))))))))","v":""},{"$f":"IF(R5=\"\",\"\",IF(S5=\"\",\"\",(DataInput!$B$4+(DataInput!$D$4-DataInput!$B$4)*RAND())))","v":""},{"$f":"DataInput!$B$16*RAND()","v":12.311966700995502},{"$f":"DataInput!$B$15*RAND()","v":9.3086405539955788},{"$f":"(IF('Xi,Yi'!W5=\"\",\"\",(IF((('Xi,Yi'!W5+AA5+Z5/SQRT(3))<DataInput!$B$18),\"\",(IF((('Xi,Yi'!W5+AA5+Z5/SQRT(3))>DataInput!$B$19),\"\",(IF('Xi,Yi'!X5=\"\",\"\",(IF(('Xi,Yi'!X5+Z5<DataInput!$B$20),\"\",(IF((('Xi,Yi'!X5+Z5)>DataInput!$B$21),\"\",('Xi,Yi'!W5+AA5+Z5/SQRT(3))))))))))))))","v":""},{"$f":"IF(W5=\"\",\"\",(IF('Xi,Yi'!X5=\"\",\"\",(IF(('Xi,Yi'!X5+Z5<DataInput!$B$20),\"\",(IF((('Xi,Yi'!X5+Z5)>DataInput!$B$21),\"\",('Xi,Yi'!X5+Z5))))))))","v":""},{"$f":"IF(W5=\"\",\"\",IF(X5=\"\",\"\",(DataInput!$B$4+(DataInput!$D$4-DataInput!$B$4)*RAND())))","v":""},{"$f":"DataInput!$B$16*RAND()","v":9.6191615058608946},{"$f":"DataInput!$B$15*RAND()","v":13.05778351362034},{"$f":"(IF('Xi,Yi'!AB5=\"\",\"\",(IF((('Xi,Yi'!AB5+AF5+AE5/SQRT(3))<DataInput!$B$18),\"\",(IF((('Xi,Yi'!AB5+AF5+AE5/SQRT(3))>DataInput!$B$19),\"\",(IF('Xi,Yi'!AC5=\"\",\"\",(IF(('Xi,Yi'!AC5+AE5<DataInput!$B$20),\"\",(IF((('Xi,Yi'!AC5+AE5)>DataInput!$B$21),\"\",('Xi,Yi'!AB5+AF5+AE5/SQRT(3))))))))))))))","v":""},{"$f":"IF(AB5=\"\",\"\",(IF('Xi,Yi'!AC5=\"\",\"\",(IF(('Xi,Yi'!AC5+AE5<DataInput!$B$20),\"\",(IF((('Xi,Yi'!AC5+AE5)>DataInput!$B$21),\"\",('Xi,Yi'!AC5+AE5))))))))","v":""},{"$f":"IF(AB5=\"\",\"\",IF(AC5=\"\",\"\",(DataInput!$B$4+(DataInput!$D$4-DataInput!$B$4)*RAND())))","v":""},{"$f":"DataInput!$B$16*RAND()","v":16.11711132145636},{"$f":"DataInput!$B$15*RAND()","v":13.988908096059866},{"$f":"(IF('Xi,Yi'!AG5=\"\",\"\",(IF((('Xi,Yi'!AG5+AK5+AJ5/SQRT(3))<DataInput!$B$18),\"\",(IF((('Xi,Yi'!AG5+AK5+AJ5/SQRT(3))>DataInput!$B$19),\"\",(IF('Xi,Yi'!AH5=\"\",\"\",(IF(('Xi,Yi'!AH5+AJ5<DataInput!$B$20),\"\",(IF((('Xi,Yi'!AH5+AJ5)>DataInput!$B$21),\"\",('Xi,Yi'!AG5+AK5+AJ5/SQRT(3))))))))))))))","v":""},{"$f":"IF(AG5=\"\",\"\",(IF('Xi,Yi'!AH5=\"\",\"\",(IF(('Xi,Yi'!AH5+AJ5<DataInput!$B$20),\"\",(IF((('Xi,Yi'!AH5+AJ5)>DataInput!$B$21),\"\",('Xi,Yi'!AH5+AJ5))))))))","v":""},{"$f":"IF(AG5=\"\",\"\",IF(AH5=\"\",\"\",(DataInput!$B$4+(DataInput!$D$4-DataInput!$B$4)*RAND())))","v":""},{"$f":"DataInput!$B$16*RAND()","v":0.44982615675945803},{"$f":"DataInput!$B$15*RAND()","v":7.7222749057049445},{"$f":"(IF('Xi,Yi'!AL5=\"\",\"\",(IF((('Xi,Yi'!AL5+AP5+AO5/SQRT(3))<DataInput!$B$18),\"\",(IF((('Xi,Yi'!AL5+AP5+AO5/SQRT(3))>DataInput!$B$19),\"\",(IF('Xi,Yi'!AM5=\"\",\"\",(IF(('Xi,Yi'!AM5+AO5<DataInput!$B$20),\"\",(IF((('Xi,Yi'!AM5+AO5)>DataInput!$B$21),\"\",('Xi,Yi'!AL5+AP5+AO5/SQRT(3))))))))))))))","v":""},{"$f":"IF(AL5=\"\",\"\",(IF('Xi,Yi'!AM5=\"\",\"\",(IF(('Xi,Yi'!AM5+AO5<DataInput!$B$20),\"\",(IF((('Xi,Yi'!AM5+AO5)>DataInput!$B$21),\"\",('Xi,Yi'!AM5+AO5))))))))","v":""},{"$f":"IF(AL5=\"\",\"\",IF(AM5=\"\",\"\",(DataInput!$B$4+(DataInput!$D$4-DataInput!$B$4)*RAND())))","v":""},{"$f":"DataInput!$B$16*RAND()","v":14.383940347153313},{"$f":"DataInput!$B$15*RAND()","v":0.94313698174797123},{"$f":"(IF('Xi,Yi'!AQ5=\"\",\"\",(IF((('Xi,Yi'!AQ5+AU5+AT5/SQRT(3))<DataInput!$B$18),\"\",(IF((('Xi,Yi'!AQ5+AU5+AT5/SQRT(3))>DataInput!$B$19),\"\",(IF('Xi,Yi'!AR5=\"\",\"\",(IF(('Xi,Yi'!AR5+AT5<DataInput!$B$20),\"\",(IF((('Xi,Yi'!AR5+AT5)>DataInput!$B$21),\"\",('Xi,Yi'!AQ5+AU5+AT5/SQRT(3))))))))))))))","v":""},{"$f":"IF(AQ5=\"\",\"\",(IF('Xi,Yi'!AR5=\"\",\"\",(IF(('Xi,Yi'!AR5+AT5<DataInput!$B$20),\"\",(IF((('Xi,Yi'!AR5+AT5)>DataInput!$B$21),\"\",('Xi,Yi'!AR5+AT5))))))))","v":""},{"$f":"IF(AQ5=\"\",\"\",IF(AR5=\"\",\"\",(DataInput!$B$4+(DataInput!$D$4-DataInput!$B$4)*RAND())))","v":""},{"$f":"DataInput!$B$16*RAND()","v":0.25275872046275172},{"$f":"DataInput!$B$15*RAND()","v":8.4377991098020573},{"$f":"(IF('Xi,Yi'!AV5=\"\",\"\",(IF((('Xi,Yi'!AV5+AZ5+AY5/SQRT(3))<DataInput!$B$18),\"\",(IF((('Xi,Yi'!AV5+AZ5+AY5/SQRT(3))>DataInput!$B$19),\"\",(IF('Xi,Yi'!AW5=\"\",\"\",(IF(('Xi,Yi'!AW5+AY5<DataInput!$B$20),\"\",(IF((('Xi,Yi'!AW5+AY5)>DataInput!$B$21),\"\",('Xi,Yi'!AV5+AZ5+AY5/SQRT(3))))))))))))))","v":""},{"$f":"IF(AV5=\"\",\"\",(IF('Xi,Yi'!AW5=\"\",\"\",(IF(('Xi,Yi'!AW5+AY5<DataInput!$B$20),\"\",(IF((('Xi,Yi'!AW5+AY5)>DataInput!$B$21),\"\",('Xi,Yi'!AW5+AY5))))))))","v":""},{"$f":"IF(AV5=\"\",\"\",IF(AW5=\"\",\"\",(DataInput!$B$4+(DataInput!$D$4-DataInput!$B$4)*RAND())))","v":""},{"$f":"DataInput!$B$16*RAND()","v":10.635172669694967},{"$f":"DataInput!$B$15*RAND()","v":9.4090483795359088},{"$f":"(IF('Xi,Yi'!BA5=\"\",\"\",(IF((('Xi,Yi'!BA5+BE5+BD5/SQRT(3))<DataInput!$B$18),\"\",(IF((('Xi,Yi'!BA5+BE5+BD5/SQRT(3))>DataInput!$B$19),\"\",(IF('Xi,Yi'!BB5=\"\",\"\",(IF(('Xi,Yi'!BB5+BD5<DataInput!$B$20),\"\",(IF((('Xi,Yi'!BB5+BD5)>DataInput!$B$21),\"\",('Xi,Yi'!BA5+BE5+BD5/SQRT(3))))))))))))))","v":""},{"$f":"IF(BA5=\"\",\"\",(IF('Xi,Yi'!BB5=\"\",\"\",(IF(('Xi,Yi'!BB5+BD5<DataInput!$B$20),\"\",(IF((('Xi,Yi'!BB5+BD5)>DataInput!$B$21),\"\",('Xi,Yi'!BB5+BD5))))))))","v":""},{"$f":"IF(BA5=\"\",\"\",IF(BB5=\"\",\"\",(DataInput!$B$4+(DataInput!$D$4-DataInput!$B$4)*RAND())))","v":""},{"$f":"DataInput!$B$16*RAND()","v":7.5996115028202276},{"$f":"DataInput!$B$15*RAND()","v":0.3272590746526941}]
[null,null,{"$f":"(IF('Xi,Yi'!C6=\"\",\"\",(IF((('Xi,Yi'!C6+G6+F6/SQRT(3))<DataInput!$B$18),\"\",(IF((('Xi,Yi'!C6+G6+F6/SQRT(3))>DataInput!$B$19),\"\",(IF('Xi,Yi'!D6=\"\",\"\",(IF(('Xi,Yi'!D6+F6<DataInput!$B$20),\"\",(IF((('Xi,Yi'!D6+F6)>DataInput!$B$21),\"\",('Xi,Yi'!C6+G6+F6/SQRT(3))))))))))))))","v":""},{"$f":"IF(C6=\"\",\"\",(IF('Xi,Yi'!D6=\"\",\"\",(IF(('Xi,Yi'!D6+F6<DataInput!$B$20),\"\",(IF((('Xi,Yi'!D6+F6)>DataInput!$B$21),\"\",('Xi,Yi'!D6+F6))))))))","v":""},{"$f":"IF(C6=\"\",\"\",IF(D6=\"\",\"\",(DataInput!$B$4+(DataInput!$D$4-DataInput!$B$4)*RAND())))","v":""},{"$f":"DataInput!$B$16*RAND()","v":3.7761102800667117},{"$f":"DataInput!$B$15*RAND()","v":13.191038195234293},{"$f":"(IF('Xi,Yi'!H6=\"\",\"\",(IF((('Xi,Yi'!H6+L6+K6/SQRT(3))<DataInput!$B$18),\"\",(IF((('Xi,Yi'!H6+L6+K6/SQRT(3))>DataInput!$B$19),\"\",(IF('Xi,Yi'!I6=\"\",\"\",(IF(('Xi,Yi'!I6+K6<DataInput!$B$20),\"\",(IF((('Xi,Yi'!I6+K6)>DataInput!$B$21),\"\",('Xi,Yi'!H6+L6+K6/SQRT(3))))))))))))))","v":""},{"$f":"IF(H6=\"\",\"\",(IF('Xi,Yi'!I6=\"\",\"\",(IF(('Xi,Yi'!I6+K6<DataInput!$B$20),\"\",(IF((('Xi,Yi'!I6+K6)>DataInput!$B$21),\"\",('Xi,Yi'!I6+K6))))))))","v":""},{"$f":"IF(H6=\"\",\"\",IF(I6=\"\",\"\",(DataInput!$B$4+(DataInput!$D$4-DataInput!$B$4)*RAND())))","v":""},{"$f":"DataInput!$B$16*RAND()","v":11.8775192258587},{"$f":"DataInput!$B$15*RAND()","v":14.539059116007852},{"$f":"(IF('Xi,Yi'!M6=\"\",\"\",(IF((('Xi,Yi'!M6+Q6+P6/SQRT(3))<DataInput!$B$18),\"\",(IF((('Xi,Yi'!M6+Q6+P6/SQRT(3))>DataInput!$B$19),\"\",(IF('Xi,Yi'!N6=\"\",\"\",(IF(('Xi,Yi'!N6+P6<DataInput!$B$20),\"\",(IF((('Xi,Yi'!N6+P6)>DataInput!$B$21),\"\",('Xi,Yi'!M6+Q6+P6/SQRT(3))))))))))))))","v":""},{"$f":"IF(M6=\"\",\"\",(IF('Xi,Yi'!N6=\"\",\"\",(IF(('Xi,Yi'!N6+P6<DataInput!$B$20),\"\",(IF((('Xi,Yi'!N6+P6)>DataInput!$B$21),\"\",('Xi,Yi'!N6+P6))))))))","v":""},{"$f":"IF(M6=\"\",\"\",IF(N6=\"\",\"\",(DataInput!$B$4+(DataInput!$D$4-DataInput!$B$4)*RAND())))","v":""},{"$f":"DataInput!$B$16*RAND()","v":1.5649297759099785},{"$f":"DataInput!$B$15*RAND()","v":17.655944686445512},{"$f":"(IF('Xi,Yi'!R6=\"\",\"\",(IF((('Xi,Yi'!R6+V6+U6/SQRT(3))<DataInput!$B$18),\"\",(IF((('Xi,Yi'!R6+V6+U6/SQRT(3))>DataInput!$B$19),\"\",(IF('Xi,Yi'!S6=\"\",\"\",(IF(('Xi,Yi'!S6+U6<DataInput!$B$20),\"\",(IF((('Xi,Yi'!S6+U6)>DataInput!$B$21),\"\",('Xi,Yi'!R6+V6+U6/SQRT(3))))))))))))))","v":""},{"$f":"IF(R6=\"\",\"\",(IF('Xi,Yi'!S6=\"\",\"\",(IF(('Xi,Yi'!S6+U6<DataInput!$B$20),\"\",(IF((('Xi,Yi'!S6+U6)>DataInput!$B$21),\"\",('Xi,Yi'!S6+U6))))))))","v":""},{"$f":"IF(R6=\"\",\"\",IF(S6=\"\",\"\",(DataInput!$B$4+(DataInput!$D$4-DataInput!$B$4)*RAND())))","v":""},{"$f":"DataInput!$B$16*RAND()","v":13.327611514301175},{"$f":"DataInput!$B$15*RAND()","v":9.8291620550280694},{"$f":"(IF('Xi,Yi'!W6=\"\",\"\",(IF((('Xi,Yi'!W6+AA6+Z6/SQRT(3))<DataInput!$B$18),\"\",(IF((('Xi,Yi'!W6+AA6+Z6/SQRT(3))>DataInput!$B$19),\"\",(IF('Xi,Yi'!X6=\"\",\"\",(IF(('Xi,Yi'!X6+Z6<DataInput!$B$20),\"\",(IF((('Xi,Yi'!X6+Z6)>DataInput!$B$21),\"\",('Xi,Yi'!W6+AA6+Z6/SQRT(3))))))))))))))","v":""},{"$f":"IF(W6=\"\",\"\",(IF('Xi,Yi'!X6=\"\",\"\",(IF(('Xi,Yi'!X6+Z6<DataInput!$B$20),\"\",(IF((('Xi,Yi'!X6+Z6)>DataInput!$B$21),\"\",('Xi,Yi'!X6+Z6))))))))","v":""},{"$f":"IF(W6=\"\",\"\",IF(X6=\"\",\"\",(DataInput!$B$4+(DataInput!$D$4-DataInput!$B$4)*RAND())))","v":""},{"$f":"DataInput!$B$16*RAND()","v":13.402925767958331},{"$f":"DataInput!$B$15*RAND()","v":0.14408455696220723},{"$f":"(IF('Xi,Yi'!AB6=\"\",\"\",(IF((('Xi,Yi'!AB6+AF6+AE6/SQRT(3))<DataInput!$B$18),\"\",(IF((('Xi,Yi'!AB6+AF6+AE6/SQRT(3))>DataInput!$B$19),\"\",(IF('Xi,Yi'!AC6=\"\",\"\",(IF(('Xi,Yi'!AC6+AE6<DataInput!$B$20),\"\",(IF((('Xi,Yi'!AC6+AE6)>DataInput!$B$21),\"\",('Xi,Yi'!AB6+AF6+AE6/SQRT(3))))))))))))))","v":""},{"$f":"IF(AB6=\"\",\"\",(IF('Xi,Yi'!AC6=\"\",\"\",(IF(('Xi,Yi'!AC6+AE6<DataInput!$B$20),\"\",(IF((('Xi,Yi'!AC6+AE6)>DataInput!$B$21),\"\",('Xi,Yi'!AC6+AE6))))))))","v":""},{"$f":"IF(AB6=\"\",\"\",IF(AC6=\"\",\"\",(DataInput!$B$4+(DataInput!$D$4-DataInput!$B$4)*RAND())))","v":""},{"$f":"DataInput!$B$16*RAND()","v":5.9918179416365867},{"$f":"DataInput!$B$15*RAND()","v":3.4090338137337612},{"$f":"(IF('Xi,Yi'!AG6=\"\",\"\",(IF((('Xi,Yi'!AG6+AK6+AJ6/SQRT(3))<DataInput!$B$18),\"\",(IF((('Xi,Yi'!AG6+AK6+AJ6/SQRT(3))>DataInput!$B$19),\"\",(IF('Xi,Yi'!AH6=\"\",\"\",(IF(('Xi,Yi'!AH6+AJ6<DataInput!$B$20),\"\",(IF((('Xi,Yi'!AH6+AJ6)>DataInput!$B$21),\"\",('Xi,Yi'!AG6+AK6+AJ6/SQRT(3))))))))))))))","v":""},{"$f":"IF(AG6=\"\",\"\",(IF('Xi,Yi'!AH6=\"\",\"\",(IF(('Xi,Yi'!AH6+AJ6<DataInput!$B$20),\"\",(IF((('Xi,Yi'!AH6+AJ6)>DataInput!$B$21),\"\",('Xi,Yi'!AH6+AJ6))))))))","v":""},{"$f":"IF(AG6=\"\",\"\",IF(AH6=\"\",\"\",(DataInput!$B$4+(DataInput!$D$4-DataInput!$B$4)*RAND())))","v":""},{"$f":"DataInput!$B$16*RAND()","v":3.2180294985028155},{"$f":"DataInput!$B$15*RAND()","v":8.3896763428776229},{"$f":"(IF('Xi,Yi'!AL6=\"\",\"\",(IF((('Xi,Yi'!AL6+AP6+AO6/SQRT(3))<DataInput!$B$18),\"\",(IF((('Xi,Yi'!AL6+AP6+AO6/SQRT(3))>DataInput!$B$19),\"\",(IF('Xi,Yi'!AM6=\"\",\"\",(IF(('Xi,Yi'!AM6+AO6<DataInput!$B$20),\"\",(IF((('Xi,Yi'!AM6+AO6)>DataInput!$B$21),\"\",('Xi,Yi'!AL6+AP6+AO6/SQRT(3))))))))))))))","v":""},{"$f":"IF(AL6=\"\",\"\",(IF('Xi,Yi'!AM6=\"\",\"\",(IF(('Xi,Yi'!AM6+AO6<DataInput!$B$20),\"\",(IF((('Xi,Yi'!AM6+AO6)>DataInput!$B$21),\"\",('Xi,Yi'!AM6+AO6))))))))","v":""},{"$f":"IF(AL6=\"\",\"\",IF(AM6=\"\",\"\",(DataInput!$B$4+(DataInput!$D$4-DataInput!$B$4)*RAND())))","v":""},{"$f":"DataInput!$B$16*RAND()","v":3.4009719039980757},{"$f":"DataInput!$B$15*RAND()","v":18.804327176026643},{"$f":"(IF('Xi,Yi'!AQ6=\"\",\"\",(IF((('Xi,Yi'!AQ6+AU6+AT6/SQRT(3))<DataInput!$B$18),\"\",(IF((('Xi,Yi'!AQ6+AU6+AT6/SQRT(3))>DataInput!$B$19),\"\",(IF('Xi,Yi'!AR6=\"\",\"\",(IF(('Xi,Yi'!AR6+AT6<DataInput!$B$20),\"\",(IF((('Xi,Yi'!AR6+AT6)>DataInput!$B$21),\"\",('Xi,Yi'!AQ6+AU6+AT6/SQRT(3))))))))))))))","v":""},{"$f":"IF(AQ6=\"\",\"\",(IF('Xi,Yi'!AR6=\"\",\"\",(IF(('Xi,Yi'!AR6+AT6<DataInput!$B$20),\"\",(IF((('Xi,Yi'!AR6+AT6)>DataInput!$B$21),\"\",('Xi,Yi'!AR6+AT6))))))))","v":""},{"$f":"IF(AQ6=\"\",\"\",IF(AR6=\"\",\"\",(DataInput!$B$4+(DataInput!$D$4-DataInput!$B$4)*RAND())))","v":""},{"$f":"DataInput!$B$16*RAND()","v":9.6890706362690153},{"$f":"DataInput!$B$15*RAND()","v":17.97956201010382},{"$f":"(IF('Xi,Yi'!AV6=\"\",\"\",(IF((('Xi,Yi'!AV6+AZ6+AY6/SQRT(3))<DataInput!$B$18),\"\",(IF((('Xi,Yi'!AV6+AZ6+AY6/SQRT(3))>DataInput!$B$19),\"\",(IF('Xi,Yi'!AW6=\"\",\"\",(IF(('Xi,Yi'!AW6+AY6<DataInput!$B$20),\"\",(IF((('Xi,Yi'!AW6+AY6)>DataInput!$B$21),\"\",('Xi,Yi'!AV6+AZ6+AY6/SQRT(3))))))))))))))","v":""},{"$f":"IF(AV6=\"\",\"\",(IF('Xi,Yi'!AW6=\"\",\"\",(IF(('Xi,Yi'!AW6+AY6<DataInput!$B$20),\"\",(IF((('Xi,Yi'!AW6+AY6)>DataInput!$B$21),\"\",('Xi,Yi'!AW6+AY6))))))))","v":""},{"$f":"IF(AV6=\"\",\"\",IF(AW6=\"\",\"\",(DataInput!$B$4+(DataInput!$D$4-DataInput!$B$4)*RAND())))","v":""},{"$f":"DataInput!$B$16*RAND()","v":9.8774461583516064},{"$f":"DataInput!$B$15*RAND()","v":15.658825175294481},{"$f":"(IF('Xi,Yi'!BA6=\"\",\"\",(IF((('Xi,Yi'!BA6+BE6+BD6/SQRT(3))<DataInput!$B$18),\"\",(IF((('Xi,Yi'!BA6+BE6+BD6/SQRT(3))>DataInput!$B$19),\"\",(IF('Xi,Yi'!BB6=\"\",\"\",(IF(('Xi,Yi'!BB6+BD6<DataInput!$B$20),\"\",(IF((('Xi,Yi'!BB6+BD6)>DataInput!$B$21),\"\",('Xi,Yi'!BA6+BE6+BD6/SQRT(3))))))))))))))","v":""},{"$f":"IF(BA6=\"\",\"\",(IF('Xi,Yi'!BB6=\"\",\"\",(IF(('Xi,Yi'!BB6+BD6<DataInput!$B$20),\"\",(IF((('Xi,Yi'!BB6+BD6)>DataInput!$B$21),\"\",('Xi,Yi'!BB6+BD6))))))))","v":""},{"$f":"IF(BA6=\"\",\"\",IF(BB6=\"\",\"\",(DataInput!$B$4+(DataInput!$D$4-DataInput!$B$4)*RAND())))","v":""},{"$f":"DataInput!$B$16*RAND()","v":6.2413840710719253},{"$f":"DataInput!$B$15*RAND()","v":6.0157233189166455}]
[null,null,{"$f":"(IF('Xi,Yi'!C7=\"\",\"\",(IF((('Xi,Yi'!C7+G7+F7/SQRT(3))<DataInput!$B$18),\"\",(IF((('Xi,Yi'!C7+G7+F7/SQRT(3))>DataInput!$B$19),\"\",(IF('Xi,Yi'!D7=\"\",\"\",(IF(('Xi,Yi'!D7+F7<DataInput!$B$20),\"\",(IF((('Xi,Yi'!D7+F7)>DataInput!$B$21),\"\",('Xi,Yi'!C7+G7+F7/SQRT(3))))))))))))))","v":""},{"$f":"IF(C7=\"\",\"\",(IF('Xi,Yi'!D7=\"\",\"\",(IF(('Xi,Yi'!D7+F7<DataInput!$B$20),\"\",(IF((('Xi,Yi'!D7+F7)>DataInput!$B$21),\"\",('Xi,Yi'!D7+F7))))))))","v":""},{"$f":"IF(C7=\"\",\"\",IF(D7=\"\",\"\",(DataInput!$B$4+(DataInput!$D$4-DataInput!$B$4)*RAND())))","v":""},{"$f":"DataInput!$B$16*RAND()","v":3.7568114690287979},{"$f":"DataInput!$B$15*RAND()","v":16.819820828833105},{"$f":"(IF('Xi,Yi'!H7=\"\",\"\",(IF((('Xi,Yi'!H7+L7+K7/SQRT(3))<DataInput!$B$18),\"\",(IF((('Xi,Yi'!H7+L7+K7/SQRT(3))>DataInput!$B$19),\"\",(IF('Xi,Yi'!I7=\"\",\"\",(IF(('Xi,Yi'!I7+K7<DataInput!$B$20),\"\",(IF((('Xi,Yi'!I7+K7)>DataInput!$B$21),\"\",('Xi,Yi'!H7+L7+K7/SQRT(3))))))))))))))","v":""},{"$f":"IF(H7=\"\",\"\",(IF('Xi,Yi'!I7=\"\",\"\",(IF(('Xi,Yi'!I7+K7<DataInput!$B$20),\"\",(IF((('Xi,Yi'!I7+K7)>DataInput!$B$21),\"\",('Xi,Yi'!I7+K7))))))))","v":""},{"$f":"IF(H7=\"\",\"\",IF(I7=\"\",\"\",(DataInput!$B$4+(DataInput!$D$4-DataInput!$B$4)*RAND())))","v":""},{"$f":"DataInput!$B$16*RAND()","v":5.0794324678204124},{"$f":"DataInput!$B$15*RAND()","v":0.58894042136565694},{"$f":"(IF('Xi,Yi'!M7=\"\",\"\",(IF((('Xi,Yi'!M7+Q7+P7/SQRT(3))<DataInput!$B$18),\"\",(IF((('Xi,Yi'!M7+Q7+P7/SQRT(3))>DataInput!$B$19),\"\",(IF('Xi,Yi'!N7=\"\",\"\",(IF(('Xi,Yi'!N7+P7<DataInput!$B$20),\"\",(IF((('Xi,Yi'!N7+P7)>DataInput!$B$21),\"\",('Xi,Yi'!M7+Q7+P7/SQRT(3))))))))))))))","v":""},{"$f":"IF(M7=\"\",\"\",(IF('Xi,Yi'!N7=\"\",\"\",(IF(('Xi,Yi'!N7+P7<DataInput!$B$20),\"\",(IF((('Xi,Yi'!N7+P7)>DataInput!$B$21),\"\",('Xi,Yi'!N7+P7))))))))","v":""},{"$f":"IF(M7=\"\",\"\",IF(N7=\"\",\"\",(DataInput!$B$4+(DataInput!$D$4-DataInput!$B$4)*RAND())))","v":""},{"$f":"DataInput!$B$16*RAND()","v":14.485580523364776},{"$f":"DataInput!$B$15*RAND()","v":11.796958704752035},{"$f":"(IF('Xi,Yi'!R7=\"\",\"\",(IF((('Xi,Yi'!R7+V7+U7/SQRT(3))<DataInput!$B$18),\"\",(IF((('Xi,Yi'!R7+V7+U7/SQRT(3))>DataInput!$B$19),\"\",(IF('Xi,Yi'!S7=\"\",\"\",(IF(('Xi,Yi'!S7+U7<DataInput!$B$20),\"\",(IF((('Xi,Yi'!S7+U7)>DataInput!$B$21),\"\",('Xi,Yi'!R7+V7+U7/SQRT(3))))))))))))))","v":""},{"$f":"IF(R7=\"\",\"\",(IF('Xi,Yi'!S7=\"\",\"\",(IF(('Xi,Yi'!S7+U7<DataInput!$B$20),\"\",(IF((('Xi,Yi'!S7+U7)>DataInput!$B$21),\"\",('Xi,Yi'!S7+U7))))))))","v":""},{"$f":"IF(R7=\"\",\"\",IF(S7=\"\",\"\",(DataInput!$B$4+(DataInput!$D$4-DataInput!$B$4)*RAND())))","v":""},{"$f":"DataInput!$B$16*RAND()","v":3.6143812778362889},{"$f":"DataInput!$B$15*RAND()","v":15.82890878907078},{"$f":"(IF('Xi,Yi'!W7=\"\",\"\",(IF((('Xi,Yi'!W7+AA7+Z7/SQRT(3))<DataInput!$B$18),\"\",(IF((('Xi,Yi'!W7+AA7+Z7/SQRT(3))>DataInput!$B$19),\"\",(IF('Xi,Yi'!X7=\"\",\"\",(IF(('Xi,Yi'!X7+Z7<DataInput!$B$20),\"\",(IF((('Xi,Yi'!X7+Z7)>DataInput!$B$21),\"\",('Xi,Yi'!W7+AA7+Z7/SQRT(3))))))))))))))","v":""},{"$f":"IF(W7=\"\",\"\",(IF('Xi,Yi'!X7=\"\",\"\",(IF(('Xi,Yi'!X7+Z7<DataInput!$B$20),\"\",(IF((('Xi,Yi'!X7+Z7)>DataInput!$B$21),\"\",('Xi,Yi'!X7+Z7))))))))","v":""},{"$f":"IF(W7=\"\",\"\",IF(X7=\"\",\"\",(DataInput!$B$4+(DataInput!$D$4-DataInput!$B$4)*RAND())))","v":""},{"$f":"DataInput!$B$16*RAND()","v":0.91694178910185109},{"$f":"DataInput!$B$15*RAND()","v":11.418886822985526},{"$f":"(IF('Xi,Yi'!AB7=\"\",\"\",(IF((('Xi,Yi'!AB7+AF7+AE7/SQRT(3))<DataInput!$B$18),\"\",(IF((('Xi,Yi'!AB7+AF7+AE7/SQRT(3))>DataInput!$B$19),\"\",(IF('Xi,Yi'!AC7=\"\",\"\",(IF(('Xi,Yi'!AC7+AE7<DataInput!$B$20),\"\",(IF((('Xi,Yi'!AC7+AE7)>DataInput!$B$21),\"\",('Xi,Yi'!AB7+AF7+AE7/SQRT(3))))))))))))))","v":""},{"$f":"IF(AB7=\"\",\"\",(IF('Xi,Yi'!AC7=\"\",\"\",(IF(('Xi,Yi'!AC7+AE7<DataInput!$B$20),\"\",(IF((('Xi,Yi'!AC7+AE7)>DataInput!$B$21),\"\",('Xi,Yi'!AC7+AE7))))))))","v":""},{"$f":"IF(AB7=\"\",\"\",IF(AC7=\"\",\"\",(DataInput!$B$4+(DataInput!$D$4-DataInput!$B$4)*RAND())))","v":""},{"$f":"DataInput!$B$16*RAND()","v":13.387699339696496},{"$f":"DataInput!$B$15*RAND()","v":7.1874324793363717},{"$f":"(IF('Xi,Yi'!AG7=\"\",\"\",(IF((('Xi,Yi'!AG7+AK7+AJ7/SQRT(3))<DataInput!$B$18),\"\",(IF((('Xi,Yi'!AG7+AK7+AJ7/SQRT(3))>DataInput!$B$19),\"\",(IF('Xi,Yi'!AH7=\"\",\"\",(IF(('Xi,Yi'!AH7+AJ7<DataInput!$B$20),\"\",(IF((('Xi,Yi'!AH7+AJ7)>DataInput!$B$21),\"\",('Xi,Yi'!AG7+AK7+AJ7/SQRT(3))))))))))))))","v":""},{"$f":"IF(AG7=\"\",\"\",(IF('Xi,Yi'!AH7=\"\",\"\",(IF(('Xi,Yi'!AH7+AJ7<DataInput!$B$20),\"\",(IF((('Xi,Yi'!AH7+AJ7)>DataInput!$B$21),\"\",('Xi,Yi'!AH7+AJ7))))))))","v":""},{"$f":"IF(AG7=\"\",\"\",IF(AH7=\"\",\"\",(DataInput!$B$4+(DataInput!$D$4-DataInput!$B$4)*RAND())))","v":""},{"$f":"DataInput!$B$16*RAND()","v":1.4192746804668035},{"$f":"DataInput!$B$15*RAND()","v":13.287682398311981},{"$f":"(IF('Xi,Yi'!AL7=\"\",\"\",(IF((('Xi,Yi'!AL7+AP7+AO7/SQRT(3))<DataInput!$B$18),\"\",(IF((('Xi,Yi'!AL7+AP7+AO7/SQRT(3))>DataInput!$B$19),\"\",(IF('Xi,Yi'!AM7=\"\",\"\",(IF(('Xi,Yi'!AM7+AO7<DataInput!$B$20),\"\",(IF((('Xi,Yi'!AM7+AO7)>DataInput!$B$21),\"\",('Xi,Yi'!AL7+AP7+AO7/SQRT(3))))))))))))))","v":""},{"$f":"IF(AL7=\"\",\"\",(IF('Xi,Yi'!AM7=\"\",\"\",(IF(('Xi,Yi'!AM7+AO7<DataInput!$B$20),\"\",(IF((('Xi,Yi'!AM7+AO7)>DataInput!$B$21),\"\",('Xi,Yi'!AM7+AO7))))))))","v":""},{"$f":"IF(AL7=\"\",\"\",IF(AM7=\"\",\"\",(DataInput!$B$4+(DataInput!$D$4-DataInput!$B$4)*RAND())))","v":""},{"$f":"DataInput!$B$16*RAND()","v":5.5146076189068785},{"$f":"DataInput!$B$15*RAND()","v":5.2910249216575354},{"$f":"(IF('Xi,Yi'!AQ7=\"\",\"\",(IF((('Xi,Yi'!AQ7+AU7+AT7/SQRT(3))<DataInput!$B$18),\"\",(IF((('Xi,Yi'!AQ7+AU7+AT7/SQRT(3))>DataInput!$B$19),\"\",(IF('Xi,Yi'!AR7=\"\",\"\",(IF(('Xi,Yi'!AR7+AT7<DataInput!$B$20),\"\",(IF((('Xi,Yi'!AR7+AT7)>DataInput!$B$21),\"\",('Xi,Yi'!AQ7+AU7+AT7/SQRT(3))))))))))))))","v":""},{"$f":"IF(AQ7=\"\",\"\",(IF('Xi,Yi'!AR7=\"\",\"\",(IF(('Xi,Yi'!AR7+AT7<DataInput!$B$20),\"\",(IF((('Xi,Yi'!AR7+AT7)>DataInput!$B$21),\"\",('Xi,Yi'!AR7+AT7))))))))","v":""},{"$f":"IF(AQ7=\"\",\"\",IF(AR7=\"\",\"\",(DataInput!$B$4+(DataInput!$D$4-DataInput!$B$4)*RAND())))","v":""},{"$f":"DataInput!$B$16*RAND()","v":13.589228893804608},{"$f":"DataInput!$B$15*RAND()","v":7.4526228843691511},{"$f":"(IF('Xi,Yi'!AV7=\"\",\"\",(IF((('Xi,Yi'!AV7+AZ7+AY7/SQRT(3))<DataInput!$B$18),\"\",(IF((('Xi,Yi'!AV7+AZ7+AY7/SQRT(3))>DataInput!$B$19),\"\",(IF('Xi,Yi'!AW7=\"\",\"\",(IF(('Xi,Yi'!AW7+AY7<DataInput!$B$20),\"\",(IF((('Xi,Yi'!AW7+AY7)>DataInput!$B$21),\"\",('Xi,Yi'!AV7+AZ7+AY7/SQRT(3))))))))))))))","v":""},{"$f":"IF(AV7=\"\",\"\",(IF('Xi,Yi'!AW7=\"\",\"\",(IF(('Xi,Yi'!AW7+AY7<DataInput!$B$20),\"\",(IF((('Xi,Yi'!AW7+AY7)>DataInput!$B$21),\"\",('Xi,Yi'!AW7+AY7))))))))","v":""},{"$f":"IF(AV7=\"\",\"\",IF(AW7=\"\",\"\",(DataInput!$B$4+(DataInput!$D$4-DataInput!$B$4)*RAND())))","v":""},{"$f":"DataInput!$B$16*RAND()","v":1.6035222188891598},{"$f":"DataInput!$B$15*RAND()","v":18.646651059987068},{"$f":"(IF('Xi,Yi'!BA7=\"\",\"\",(IF((('Xi,Yi'!BA7+BE7+BD7/SQRT(3))<DataInput!$B$18),\"\",(IF((('Xi,Yi'!BA7+BE7+BD7/SQRT(3))>DataInput!$B$19),\"\",(IF('Xi,Yi'!BB7=\"\",\"\",(IF(('Xi,Yi'!BB7+BD7<DataInput!$B$20),\"\",(IF((('Xi,Yi'!BB7+BD7)>DataInput!$B$21),\"\",('Xi,Yi'!BA7+BE7+BD7/SQRT(3))))))))))))))","v":""},{"$f":"IF(BA7=\"\",\"\",(IF('Xi,Yi'!BB7=\"\",\"\",(IF(('Xi,Yi'!BB7+BD7<DataInput!$B$20),\"\",(IF((('Xi,Yi'!BB7+BD7)>DataInput!$B$21),\"\",('Xi,Yi'!BB7+BD7))))))))","v":""},{"$f":"IF(BA7=\"\",\"\",IF(BB7=\"\",\"\",(DataInput!$B$4+(DataInput!$D$4-DataInput!$B$4)*RAND())))","v":""},{"$f":"DataInput!$B$16*RAND()","v":6.0627128386237503},{"$f":"DataInput!$B$15*RAND()","v":14.940865883151321}]
[null,null,{"$f":"(IF('Xi,Yi'!C8=\"\",\"\",(IF((('Xi,Yi'!C8+G8+F8/SQRT(3))<DataInput!$B$18),\"\",(IF((('Xi,Yi'!C8+G8+F8/SQRT(3))>DataInput!$B$19),\"\",(IF('Xi,Yi'!D8=\"\",\"\",(IF(('Xi,Yi'!D8+F8<DataInput!$B$20),\"\",(IF((('Xi,Yi'!D8+F8)>DataInput!$B$21),\"\",('Xi,Yi'!C8+G8+F8/SQRT(3))))))))))))))","v":""},{"$f":"IF(C8=\"\",\"\",(IF('Xi,Yi'!D8=\"\",\"\",(IF(('Xi,Yi'!D8+F8<DataInput!$B$20),\"\",(IF((('Xi,Yi'!D8+F8)>DataInput!$B$21),\"\",('Xi,Yi'!D8+F8))))))))","v":""},{"$f":"IF(C8=\"\",\"\",IF(D8=\"\",\"\",(DataInput!$B$4+(DataInput!$D$4-DataInput!$B$4)*RAND())))","v":""},{"$f":"DataInput!$B$16*RAND()","v":3.2164327080601325},{"$f":"DataInput!$B$15*RAND()","v":5.43925439536324},{"$f":"(IF('Xi,Yi'!H8=\"\",\"\",(IF((('Xi,Yi'!H8+L8+K8/SQRT(3))<DataInput!$B$18),\"\",(IF((('Xi,Yi'!H8+L8+K8/SQRT(3))>DataInput!$B$19),\"\",(IF('Xi,Yi'!I8=\"\",\"\",(IF(('Xi,Yi'!I8+K8<DataInput!$B$20),\"\",(IF((('Xi,Yi'!I8+K8)>DataInput!$B$21),\"\",('Xi,Yi'!H8+L8+K8/SQRT(3))))))))))))))","v":""},{"$f":"IF(H8=\"\",\"\",(IF('Xi,Yi'!I8=\"\",\"\",(IF(('Xi,Yi'!I8+K8<DataInput!$B$20),\"\",(IF((('Xi,Yi'!I8+K8)>DataInput!$B$21),\"\",('Xi,Yi'!I8+K8))))))))","v":""},{"$f":"IF(H8=\"\",\"\",IF(I8=\"\",\"\",(DataInput!$B$4+(DataInput!$D$4-DataInput!$B$4)*RAND())))","v":""},{"$f":"DataInput!$B$16*RAND()","v":10.083963022691414},{"$f":"DataInput!$B$15*RAND()","v":0.39088826351370065},{"$f":"(IF('Xi,Yi'!M8=\"\",\"\",(IF((('Xi,Yi'!M8+Q8+P8/SQRT(3))<DataInput!$B$18),\"\",(IF((('Xi,Yi'!M8+Q8+P8/SQRT(3))>DataInput!$B$19),\"\",(IF('Xi,Yi'!N8=\"\",\"\",(IF(('Xi,Yi'!N8+P8<DataInput!$B$20),\"\",(IF((('Xi,Yi'!N8+P8)>DataInput!$B$21),\"\",('Xi,Yi'!M8+Q8+P8/SQRT(3))))))))))))))","v":""},{"$f":"IF(M8=\"\",\"\",(IF('Xi,Yi'!N8=\"\",\"\",(IF(('Xi,Yi'!N8+P8<DataInput!$B$20),\"\",(IF((('Xi,Yi'!N8+P8)>DataInput!$B$21),\"\",('Xi,Yi'!N8+P8))))))))","v":""},{"$f":"IF(M8=\"\",\"\",IF(N8=\"\",\"\",(DataInput!$B$4+(DataInput!$D$4-DataInput!$B$4)*RAND())))","v":""},{"$f":"DataInput!$B$16*RAND()","v":5.1082376724571192},{"$f":"DataInput!$B$15*RAND()","v":17.783564108692588},{"$f":"(IF('Xi,Yi'!R8=\"\",\"\",(IF((('Xi,Yi'!R8+V8+U8/SQRT(3))<DataInput!$B$18),\"\",(IF((('Xi,Yi'!R8+V8+U8/SQRT(3))>DataInput!$B$19),\"\",(IF('Xi,Yi'!S8=\"\",\"\",(IF(('Xi,Yi'!S8+U8<DataInput!$B$20),\"\",(IF((('Xi,Yi'!S8+U8)>DataInput!$B$21),\"\",('Xi,Yi'!R8+V8+U8/SQRT(3))))))))))))))","v":""},{"$f":"IF(R8=\"\",\"\",(IF('Xi,Yi'!S8=\"\",\"\",(IF(('Xi,Yi'!S8+U8<DataInput!$B$20),\"\",(IF((('Xi,Yi'!S8+U8)>DataInput!$B$21),\"\",('Xi,Yi'!S8+U8))))))))","v":""},{"$f":"IF(R8=\"\",\"\",IF(S8=\"\",\"\",(DataInput!$B$4+(DataInput!$D$4-DataInput!$B$4)*RAND())))","v":""},{"$f":"DataInput!$B$16*RAND()","v":4.3483635883166896},{"$f":"DataInput!$B$15*RAND()","v":16.981181951081034},{"$f":"(IF('Xi,Yi'!W8=\"\",\"\",(IF((('Xi,Yi'!W8+AA8+Z8/SQRT(3))<DataInput!$B$18),\"\",(IF((('Xi,Yi'!W8+AA8+Z8/SQRT(3))>DataInput!$B$19),\"\",(IF('Xi,Yi'!X8=\"\",\"\",(IF(('Xi,Yi'!X8+Z8<DataInput!$B$20),\"\",(IF((('Xi,Yi'!X8+Z8)>DataInput!$B$21),\"\",('Xi,Yi'!W8+AA8+Z8/SQRT(3))))))))))))))","v":""},{"$f":"IF(W8=\"\",\"\",(IF('Xi,Yi'!X8=\"\",\"\",(IF(('Xi,Yi'!X8+Z8<DataInput!$B$20),\"\",(IF((('Xi,Yi'!X8+Z8)>DataInput!$B$21),\"\",('Xi,Yi'!X8+Z8))))))))","v":""},{"$f":"IF(W8=\"\",\"\",IF(X8=\"\",\"\",(DataInput!$B$4+(DataInput!$D$4-DataInput!$B$4)*RAND())))","v":""},{"$f":"DataInput!$B$16*RAND()","v":13.356816464606363},{"$f":"DataInput!$B$15*RAND()","v":0.55502097726323374},{"$f":"(IF('Xi,Yi'!AB8=\"\",\"\",(IF((('Xi,Yi'!AB8+AF8+AE8/SQRT(3))<DataInput!$B$18),\"\",(IF((('Xi,Yi'!AB8+AF8+AE8/SQRT(3))>DataInput!$B$19),\"\",(IF('Xi,Yi'!AC8=\"\",\"\",(IF(('Xi,Yi'!AC8+AE8<DataInput!$B$20),\"\",(IF((('Xi,Yi'!AC8+AE8)>DataInput!$B$21),\"\",('Xi,Yi'!AB8+AF8+AE8/SQRT(3))))))))))))))","v":""},{"$f":"IF(AB8=\"\",\"\",(IF('Xi,Yi'!AC8=\"\",\"\",(IF(('Xi,Yi'!AC8+AE8<DataInput!$B$20),\"\",(IF((('Xi,Yi'!AC8+AE8)>DataInput!$B$21),\"\",('Xi,Yi'!AC8+AE8))))))))","v":""},{"$f":"IF(AB8=\"\",\"\",IF(AC8=\"\",\"\",(DataInput!$B$4+(DataInput!$D$4-DataInput!$B$4)*RAND())))","v":""},{"$f":"DataInput!$B$16*RAND()","v":0.35940458043924139},{"$f":"DataInput!$B$15*RAND()","v":11.580646400700601},{"$f":"(IF('Xi,Yi'!AG8=\"\",\"\",(IF((('Xi,Yi'!AG8+AK8+AJ8/SQRT(3))<DataInput!$B$18),\"\",(IF((('Xi,Yi'!AG8+AK8+AJ8/SQRT(3))>DataInput!$B$19),\"\",(IF('Xi,Yi'!AH8=\"\",\"\",(IF(('Xi,Yi'!AH8+AJ8<DataInput!$B$20),\"\",(IF((('Xi,Yi'!AH8+AJ8)>DataInput!$B$21),\"\",('Xi,Yi'!AG8+AK8+AJ8/SQRT(3))))))))))))))","v":""},{"$f":"IF(AG8=\"\",\"\",(IF('Xi,Yi'!AH8=\"\",\"\",(IF(('Xi,Yi'!AH8+AJ8<DataInput!$B$20),\"\",(IF((('Xi,Yi'!AH8+AJ8)>DataInput!$B$21),\"\",('Xi,Yi'!AH8+AJ8))))))))","v":""},{"$f":"IF(AG8=\"\",\"\",IF(AH8=\"\",\"\",(DataInput!$B$4+(DataInput!$D$4-DataInput!$B$4)*RAND())))","v":""},{"$f":"DataInput!$B$16*RAND()","v":15.07818243538404},{"$f":"DataInput!$B$15*RAND()","v":6.3418590287441008},{"$f":"(IF('Xi,Yi'!AL8=\"\",\"\",(IF((('Xi,Yi'!AL8+AP8+AO8/SQRT(3))<DataInput!$B$18),\"\",(IF((('Xi,Yi'!AL8+AP8+AO8/SQRT(3))>DataInput!$B$19),\"\",(IF('Xi,Yi'!AM8=\"\",\"\",(IF(('Xi,Yi'!AM8+AO8<DataInput!$B$20),\"\",(IF((('Xi,Yi'!AM8+AO8)>DataInput!$B$21),\"\",('Xi,Yi'!AL8+AP8+AO8/SQRT(3))))))))))))))","v":""},{"$f":"IF(AL8=\"\",\"\",(IF('Xi,Yi'!AM8=\"\",\"\",(IF(('Xi,Yi'!AM8+AO8<DataInput!$B$20),\"\",(IF((('Xi,Yi'!AM8+AO8)>DataInput!$B$21),\"\",('Xi,Yi'!AM8+AO8))))))))","v":""},{"$f":"IF(AL8=\"\",\"\",IF(AM8=\"\",\"\",(DataInput!$B$4+(DataInput!$D$4-DataInput!$B$4)*RAND())))","v":""},{"$f":"DataInput!$B$16*RAND()","v":15.471829777839258},{"$f":"DataInput!$B$15*RAND()","v":9.6720718013206675},{"$f":"(IF('Xi,Yi'!AQ8=\"\",\"\",(IF((('Xi,Yi'!AQ8+AU8+AT8/SQRT(3))<DataInput!$B$18),\"\",(IF((('Xi,Yi'!AQ8+AU8+AT8/SQRT(3))>DataInput!$B$19),\"\",(IF('Xi,Yi'!AR8=\"\",\"\",(IF(('Xi,Yi'!AR8+AT8<DataInput!$B$20),\"\",(IF((('Xi,Yi'!AR8+AT8)>DataInput!$B$21),\"\",('Xi,Yi'!AQ8+AU8+AT8/SQRT(3))))))))))))))","v":""},{"$f":"IF(AQ8=\"\",\"\",(IF('Xi,Yi'!AR8=\"\",\"\",(IF(('Xi,Yi'!AR8+AT8<DataInput!$B$20),\"\",(IF((('Xi,Yi'!AR8+AT8)>DataInput!$B$21),\"\",('Xi,Yi'!AR8+AT8))))))))","v":""},{"$f":"IF(AQ8=\"\",\"\",IF(AR8=\"\",\"\",(DataInput!$B$4+(DataInput!$D$4-DataInput!$B$4)*RAND())))","v":""},{"$f":"DataInput!$B$16*RAND()","v":15.851106517327853},{"$f":"DataInput!$B$15*RAND()","v":7.2427339398173238},{"$f":"(IF('Xi,Yi'!AV8=\"\",\"\",(IF((('Xi,Yi'!AV8+AZ8+AY8/SQRT(3))<DataInput!$B$18),\"\",(IF((('Xi,Yi'!AV8+AZ8+AY8/SQRT(3))>DataInput!$B$19),\"\",(IF('Xi,Yi'!AW8=\"\",\"\",(IF(('Xi,Yi'!AW8+AY8<DataInput!$B$20),\"\",(IF((('Xi,Yi'!AW8+AY8)>DataInput!$B$21),\"\",('Xi,Yi'!AV8+AZ8+AY8/SQRT(3))))))))))))))","v":""},{"$f":"IF(AV8=\"\",\"\",(IF('Xi,Yi'!AW8=\"\",\"\",(IF(('Xi,Yi'!AW8+AY8<DataInput!$B$20),\"\",(IF((('Xi,Yi'!AW8+AY8)>DataInput!$B$21),\"\",('Xi,Yi'!AW8+AY8))))))))","v":""},{"$f":"IF(AV8=\"\",\"\",IF(AW8=\"\",\"\",(DataInput!$B$4+(DataInput!$D$4-DataInput!$B$4)*RAND())))","v":""},{"$f":"DataInput!$B$16*RAND()","v":3.0259125241279223},{"$f":"DataInput!$B$15*RAND()","v":2.6454613871474426},{"$f":"(IF('Xi,Yi'!BA8=\"\",\"\",(IF((('Xi,Yi'!BA8+BE8+BD8/SQRT(3))<DataInput!$B$18),\"\",(IF((('Xi,Yi'!BA8+BE8+BD8/SQRT(3))>DataInput!$B$19),\"\",(IF('Xi,Yi'!BB8=\"\",\"\",(IF(('Xi,Yi'!BB8+BD8<DataInput!$B$20),\"\",(IF((('Xi,Yi'!BB8+BD8)>DataInput!$B$21),\"\",('Xi,Yi'!BA8+BE8+BD8/SQRT(3))))))))))))))","v":""},{"$f":"IF(BA8=\"\",\"\",(IF('Xi,Yi'!BB8=\"\",\"\",(IF(('Xi,Yi'!BB8+BD8<DataInput!$B$20),\"\",(IF((('Xi,Yi'!BB8+BD8)>DataInput!$B$21),\"\",('Xi,Yi'!BB8+BD8))))))))","v":""},{"$f":"IF(BA8=\"\",\"\",IF(BB8=\"\",\"\",(DataInput!$B$4+(DataInput!$D$4-DataInput!$B$4)*RAND())))","v":""},{"$f":"DataInput!$B$16*RAND()","v":7.350404504778588},{"$f":"DataInput!$B$15*RAND()","v":16.091560411910017}]
[null,null,{"$f":"(IF('Xi,Yi'!C9=\"\",\"\",(IF((('Xi,Yi'!C9+G9+F9/SQRT(3))<DataInput!$B$18),\"\",(IF((('Xi,Yi'!C9+G9+F9/SQRT(3))>DataInput!$B$19),\"\",(IF('Xi,Yi'!D9=\"\",\"\",(IF(('Xi,Yi'!D9+F9<DataInput!$B$20),\"\",(IF((('Xi,Yi'!D9+F9)>DataInput!$B$21),\"\",('Xi,Yi'!C9+G9+F9/SQRT(3))))))))))))))","v":""},{"$f":"IF(C9=\"\",\"\",(IF('Xi,Yi'!D9=\"\",\"\",(IF(('Xi,Yi'!D9+F9<DataInput!$B$20),\"\",(IF((('Xi,Yi'!D9+F9)>DataInput!$B$21),\"\",('Xi,Yi'!D9+F9))))))))","v":""},{"$f":"IF(C9=\"\",\"\",IF(D9=\"\",\"\",(DataInput!$B$4+(DataInput!$D$4-DataInput!$B$4)*RAND())))","v":""},{"$f":"DataInput!$B$16*RAND()","v":2.060597768916173},{"$f":"DataInput!$B$15*RAND()","v":19.184690661871024},{"$f":"(IF('Xi,Yi'!H9=\"\",\"\",(IF((('Xi,Yi'!H9+L9+K9/SQRT(3))<DataInput!$B$18),\"\",(IF((('Xi,Yi'!H9+L9+K9/SQRT(3))>DataInput!$B$19),\"\",(IF('Xi,Yi'!I9=\"\",\"\",(IF(('Xi,Yi'!I9+K9<DataInput!$B$20),\"\",(IF((('Xi,Yi'!I9+K9)>DataInput!$B$21),\"\",('Xi,Yi'!H9+L9+K9/SQRT(3))))))))))))))","v":""},{"$f":"IF(H9=\"\",\"\",(IF('Xi,Yi'!I9=\"\",\"\",(IF(('Xi,Yi'!I9+K9<DataInput!$B$20),\"\",(IF((('Xi,Yi'!I9+K9)>DataInput!$B$21),\"\",('Xi,Yi'!I9+K9))))))))","v":""},{"$f":"IF(H9=\"\",\"\",IF(I9=\"\",\"\",(DataInput!$B$4+(DataInput!$D$4-DataInput!$B$4)*RAND())))","v":""},{"$f":"DataInput!$B$16*RAND()","v":8.9958511711750369},{"$f":"DataInput!$B$15*RAND()","v":19.182627394454947},{"$f":"(IF('Xi,Yi'!M9=\"\",\"\",(IF((('Xi,Yi'!M9+Q9+P9/SQRT(3))<DataInput!$B$18),\"\",(IF((('Xi,Yi'!M9+Q9+P9/SQRT(3))>DataInput!$B$19),\"\",(IF('Xi,Yi'!N9=\"\",\"\",(IF(('Xi,Yi'!N9+P9<DataInput!$B$20),\"\",(IF((('Xi,Yi'!N9+P9)>DataInput!$B$21),\"\",('Xi,Yi'!M9+Q9+P9/SQRT(3))))))))))))))","v":""},{"$f":"IF(M9=\"\",\"\",(IF('Xi,Yi'!N9=\"\",\"\",(IF(('Xi,Yi'!N9+P9<DataInput!$B$20),\"\",(IF((('Xi,Yi'!N9+P9)>DataInput!$B$21),\"\",('Xi,Yi'!N9+P9))))))))","v":""},{"$f":"IF(M9=\"\",\"\",IF(N9=\"\",\"\",(DataInput!$B$4+(DataInput!$D$4-DataInput!$B$4)*RAND())))","v":""},{"$f":"DataInput!$B$16*RAND()","v":8.608585495805908},{"$f":"DataInput!$B$15*RAND()","v":17.105338450969846},{"$f":"(IF('Xi,Yi'!R9=\"\",\"\",(IF((('Xi,Yi'!R9+V9+U9/SQRT(3))<DataInput!$B$18),\"\",(IF((('Xi,Yi'!R9+V9+U9/SQRT(3))>DataInput!$B$19),\"\",(IF('Xi,Yi'!S9=\"\",\"\",(IF(('Xi,Yi'!S9+U9<DataInput!$B$20),\"\",(IF((('Xi,Yi'!S9+U9)>DataInput!$B$21),\"\",('Xi,Yi'!R9+V9+U9/SQRT(3))))))))))))))","v":""},{"$f":"IF(R9=\"\",\"\",(IF('Xi,Yi'!S9=\"\",\"\",(IF(('Xi,Yi'!S9+U9<DataInput!$B$20),\"\",(IF((('Xi,Yi'!S9+U9)>DataInput!$B$21),\"\",('Xi,Yi'!S9+U9))))))))","v":""},{"$f":"IF(R9=\"\",\"\",IF(S9=\"\",\"\",(DataInput!$B$4+(DataInput!$D$4-DataInput!$B$4)*RAND())))","v":""},{"$f":"DataInput!$B$16*RAND()","v":8.0345480673811576},{"$f":"DataInput!$B$15*RAND()","v":8.8390774025522489},{"$f":"(IF('Xi,Yi'!W9=\"\",\"\",(IF((('Xi,Yi'!W9+AA9+Z9/SQRT(3))<DataInput!$B$18),\"\",(IF((('Xi,Yi'!W9+AA9+Z9/SQRT(3))>DataInput!$B$19),\"\",(IF('Xi,Yi'!X9=\"\",\"\",(IF(('Xi,Yi'!X9+Z9<DataInput!$B$20),\"\",(IF((('Xi,Yi'!X9+Z9)>DataInput!$B$21),\"\",('Xi,Yi'!W9+AA9+Z9/SQRT(3))))))))))))))","v":""},{"$f":"IF(W9=\"\",\"\",(IF('Xi,Yi'!X9=\"\",\"\",(IF(('Xi,Yi'!X9+Z9<DataInput!$B$20),\"\",(IF((('Xi,Yi'!X9+Z9)>DataInput!$B$21),\"\",('Xi,Yi'!X9+Z9))))))))","v":""},{"$f":"IF(W9=\"\",\"\",IF(X9=\"\",\"\",(DataInput!$B$4+(DataInput!$D$4-DataInput!$B$4)*RAND())))","v":""},{"$f":"DataInput!$B$16*RAND()","v":2.9484764041665183},{"$f":"DataInput!$B$15*RAND()","v":19.568436592487238},{"$f":"(IF('Xi,Yi'!AB9=\"\",\"\",(IF((('Xi,Yi'!AB9+AF9+AE9/SQRT(3))<DataInput!$B$18),\"\",(IF((('Xi,Yi'!AB9+AF9+AE9/SQRT(3))>DataInput!$B$19),\"\",(IF('Xi,Yi'!AC9=\"\",\"\",(IF(('Xi,Yi'!AC9+AE9<DataInput!$B$20),\"\",(IF((('Xi,Yi'!AC9+AE9)>DataInput!$B$21),\"\",('Xi,Yi'!AB9+AF9+AE9/SQRT(3))))))))))))))","v":""},{"$f":"IF(AB9=\"\",\"\",(IF('Xi,Yi'!AC9=\"\",\"\",(IF(('Xi,Yi'!AC9+AE9<DataInput!$B$20),\"\",(IF((('Xi,Yi'!AC9+AE9)>DataInput!$B$21),\"\",('Xi,Yi'!AC9+AE9))))))))","v":""},{"$f":"IF(AB9=\"\",\"\",IF(AC9=\"\",\"\",(DataInput!$B$4+(DataInput!$D$4-DataInput!$B$4)*RAND())))","v":""},{"$f":"DataInput!$B$16*RAND()","v":12.29896707806749},{"$f":"DataInput!$B$15*RAND()","v":16.587741801247766},{"$f":"(IF('Xi,Yi'!AG9=\"\",\"\",(IF((('Xi,Yi'!AG9+AK9+AJ9/SQRT(3))<DataInput!$B$18),\"\",(IF((('Xi,Yi'!AG9+AK9+AJ9/SQRT(3))>DataInput!$B$19),\"\",(IF('Xi,Yi'!AH9=\"\",\"\",(IF(('Xi,Yi'!AH9+AJ9<DataInput!$B$20),\"\",(IF((('Xi,Yi'!AH9+AJ9)>DataInput!$B$21),\"\",('Xi,Yi'!AG9+AK9+AJ9/SQRT(3))))))))))))))","v":""},{"$f":"IF(AG9=\"\",\"\",(IF('Xi,Yi'!AH9=\"\",\"\",(IF(('Xi,Yi'!AH9+AJ9<DataInput!$B$20),\"\",(IF((('Xi,Yi'!AH9+AJ9)>DataInput!$B$21),\"\",('Xi,Yi'!AH9+AJ9))))))))","v":""},{"$f":"IF(AG9=\"\",\"\",IF(AH9=\"\",\"\",(DataInput!$B$4+(DataInput!$D$4-DataInput!$B$4)*RAND())))","v":""},{"$f":"DataInput!$B$16*RAND()","v":7.0650436206494005},{"$f":"DataInput!$B$15*RAND()","v":8.4744612323690323},{"$f":"(IF('Xi,Yi'!AL9=\"\",\"\",(IF((('Xi,Yi'!AL9+AP9+AO9/SQRT(3))<DataInput!$B$18),\"\",(IF((('Xi,Yi'!AL9+AP9+AO9/SQRT(3))>DataInput!$B$19),\"\",(IF('Xi,Yi'!AM9=\"\",\"\",(IF(('Xi,Yi'!AM9+AO9<DataInput!$B$20),\"\",(IF((('Xi,Yi'!AM9+AO9)>DataInput!$B$21),\"\",('Xi,Yi'!AL9+AP9+AO9/SQRT(3))))))))))))))","v":""},{"$f":"IF(AL9=\"\",\"\",(IF('Xi,Yi'!AM9=\"\",\"\",(IF(('Xi,Yi'!AM9+AO9<DataInput!$B$20),\"\",(IF((('Xi,Yi'!AM9+AO9)>DataInput!$B$21),\"\",('Xi,Yi'!AM9+AO9))))))))","v":""},{"$f":"IF(AL9=\"\",\"\",IF(AM9=\"\",\"\",(DataInput!$B$4+(DataInput!$D$4-DataInput!$B$4)*RAND())))","v":""},{"$f":"DataInput!$B$16*RAND()","v":12.607169173602843},{"$f":"DataInput!$B$15*RAND()","v":5.4298227825099454},{"$f":"(IF('Xi,Yi'!AQ9=\"\",\"\",(IF((('Xi,Yi'!AQ9+AU9+AT9/SQRT(3))<DataInput!$B$18),\"\",(IF((('Xi,Yi'!AQ9+AU9+AT9/SQRT(3))>DataInput!$B$19),\"\",(IF('Xi,Yi'!AR9=\"\",\"\",(IF(('Xi,Yi'!AR9+AT9<DataInput!$B$20),\"\",(IF((('Xi,Yi'!AR9+AT9)>DataInput!$B$21),\"\",('Xi,Yi'!AQ9+AU9+AT9/SQRT(3))))))))))))))","v":""},{"$f":"IF(AQ9=\"\",\"\",(IF('Xi,Yi'!AR9=\"\",\"\",(IF(('Xi,Yi'!AR9+AT9<DataInput!$B$20),\"\",(IF((('Xi,Yi'!AR9+AT9)>DataInput!$B$21),\"\",('Xi,Yi'!AR9+AT9))))))))","v":""},{"$f":"IF(AQ9=\"\",\"\",IF(AR9=\"\",\"\",(DataInput!$B$4+(DataInput!$D$4-DataInput!$B$4)*RAND())))","v":""},{"$f":"DataInput!$B$16*RAND()","v":4.0846176716547324},{"$f":"DataInput!$B$15*RAND()","v":0.78548606765775253},{"$f":"(IF('Xi,Yi'!AV9=\"\",\"\",(IF((('Xi,Yi'!AV9+AZ9+AY9/SQRT(3))<DataInput!$B$18),\"\",(IF((('Xi,Yi'!AV9+AZ9+AY9/SQRT(3))>DataInput!$B$19),\"\",(IF('Xi,Yi'!AW9=\"\",\"\",(IF(('Xi,Yi'!AW9+AY9<DataInput!$B$20),\"\",(IF((('Xi,Yi'!AW9+AY9)>DataInput!$B$21),\"\",('Xi,Yi'!AV9+AZ9+AY9/SQRT(3))))))))))))))","v":""},{"$f":"IF(AV9=\"\",\"\",(IF('Xi,Yi'!AW9=\"\",\"\",(IF(('Xi,Yi'!AW9+AY9<DataInput!$B$20),\"\",(IF((('Xi,Yi'!AW9+AY9)>DataInput!$B$21),\"\",('Xi,Yi'!AW9+AY9))))))))","v":""},{"$f":"IF(AV9=\"\",\"\",IF(AW9=\"\",\"\",(DataInput!$B$4+(DataInput!$D$4-DataInput!$B$4)*RAND())))","v":""},{"$f":"DataInput!$B$16*RAND()","v":6.9776157292270673},{"$f":"DataInput!$B$15*RAND()","v":18.424624262804485},{"$f":"(IF('Xi,Yi'!BA9=\"\",\"\",(IF((('Xi,Yi'!BA9+BE9+BD9/SQRT(3))<DataInput!$B$18),\"\",(IF((('Xi,Yi'!BA9+BE9+BD9/SQRT(3))>DataInput!$B$19),\"\",(IF('Xi,Yi'!BB9=\"\",\"\",(IF(('Xi,Yi'!BB9+BD9<DataInput!$B$20),\"\",(IF((('Xi,Yi'!BB9+BD9)>DataInput!$B$21),\"\",('Xi,Yi'!BA9+BE9+BD9/SQRT(3))))))))))))))","v":""},{"$f":"IF(BA9=\"\",\"\",(IF('Xi,Yi'!BB9=\"\",\"\",(IF(('Xi,Yi'!BB9+BD9<DataInput!$B$20),\"\",(IF((('Xi,Yi'!BB9+BD9)>DataInput!$B$21),\"\",('Xi,Yi'!BB9+BD9))))))))","v":""},{"$f":"IF(BA9=\"\",\"\",IF(BB9=\"\",\"\",(DataInput!$B$4+(DataInput!$D$4-DataInput!$B$4)*RAND())))","v":""},{"$f":"DataInput!$B$16*RAND()","v":11.419431661292935},{"$f":"DataInput!$B$15*RAND()","v":7.28054855088397}]
[null,null,{"$f":"(IF('Xi,Yi'!C10=\"\",\"\",(IF((('Xi,Yi'!C10+G10+F10/SQRT(3))<DataInput!$B$18),\"\",(IF((('Xi,Yi'!C10+G10+F10/SQRT(3))>DataInput!$B$19),\"\",(IF('Xi,Yi'!D10=\"\",\"\",(IF(('Xi,Yi'!D10+F10<DataInput!$B$20),\"\",(IF((('Xi,Yi'!D10+F10)>DataInput!$B$21),\"\",('Xi,Yi'!C10+G10+F10/SQRT(3))))))))))))))","v":""},{"$f":"IF(C10=\"\",\"\",(IF('Xi,Yi'!D10=\"\",\"\",(IF(('Xi,Yi'!D10+F10<DataInput!$B$20),\"\",(IF((('Xi,Yi'!D10+F10)>DataInput!$B$21),\"\",('Xi,Yi'!D10+F10))))))))","v":""},{"$f":"IF(C10=\"\",\"\",IF(D10=\"\",\"\",(DataInput!$B$4+(DataInput!$D$4-DataInput!$B$4)*RAND())))","v":""},{"$f":"DataInput!$B$16*RAND()","v":3.3364970696562799},{"$f":"DataInput!$B$15*RAND()","v":10.061353380405489},{"$f":"(IF('Xi,Yi'!H10=\"\",\"\",(IF((('Xi,Yi'!H10+L10+K10/SQRT(3))<DataInput!$B$18),\"\",(IF((('Xi,Yi'!H10+L10+K10/SQRT(3))>DataInput!$B$19),\"\",(IF('Xi,Yi'!I10=\"\",\"\",(IF(('Xi,Yi'!I10+K10<DataInput!$B$20),\"\",(IF((('Xi,Yi'!I10+K10)>DataInput!$B$21),\"\",('Xi,Yi'!H10+L10+K10/SQRT(3))))))))))))))","v":""},{"$f":"IF(H10=\"\",\"\",(IF('Xi,Yi'!I10=\"\",\"\",(IF(('Xi,Yi'!I10+K10<DataInput!$B$20),\"\",(IF((('Xi,Yi'!I10+K10)>DataInput!$B$21),\"\",('Xi,Yi'!I10+K10))))))))","v":""},{"$f":"IF(H10=\"\",\"\",IF(I10=\"\",\"\",(DataInput!$B$4+(DataInput!$D$4-DataInput!$B$4)*RAND())))","v":""},{"$f":"DataInput!$B$16*RAND()","v":4.5887362203874291},{"$f":"DataInput!$B$15*RAND()","v":18.466301573100498},{"$f":"(IF('Xi,Yi'!M10=\"\",\"\",(IF((('Xi,Yi'!M10+Q10+P10/SQRT(3))<DataInput!$B$18),\"\",(IF((('Xi,Yi'!M10+Q10+P10/SQRT(3))>DataInput!$B$19),\"\",(IF('Xi,Yi'!N10=\"\",\"\",(IF(('Xi,Yi'!N10+P10<DataInput!$B$20),\"\",(IF((('Xi,Yi'!N10+P10)>DataInput!$B$21),\"\",('Xi,Yi'!M10+Q10+P10/SQRT(3))))))))))))))","v":""},{"$f":"IF(M10=\"\",\"\",(IF('Xi,Yi'!N10=\"\",\"\",(IF(('Xi,Yi'!N10+P10<DataInput!$B$20),\"\",(IF((('Xi,Yi'!N10+P10)>DataInput!$B$21),\"\",('Xi,Yi'!N10+P10))))))))","v":""},{"$f":"IF(M10=\"\",\"\",IF(N10=\"\",\"\",(DataInput!$B$4+(DataInput!$D$4-DataInput!$B$4)*RAND())))","v":""},{"$f":"DataInput!$B$16*RAND()","v":2.7147350083590824},{"$f":"DataInput!$B$15*RAND()","v":2.5893366858660767},{"$f":"(IF('Xi,Yi'!R10=\"\",\"\",(IF((('Xi,Yi'!R10+V10+U10/SQRT(3))<DataInput!$B$18),\"\",(IF((('Xi,Yi'!R10+V10+U10/SQRT(3))>DataInput!$B$19),\"\",(IF('Xi,Yi'!S10=\"\",\"\",(IF(('Xi,Yi'!S10+U10<DataInput!$B$20),\"\",(IF((('Xi,Yi'!S10+U10)>DataInput!$B$21),\"\",('Xi,Yi'!R10+V10+U10/SQRT(3))))))))))))))","v":""},{"$f":"IF(R10=\"\",\"\",(IF('Xi,Yi'!S10=\"\",\"\",(IF(('Xi,Yi'!S10+U10<DataInput!$B$20),\"\",(IF((('Xi,Yi'!S10+U10)>DataInput!$B$21),\"\",('Xi,Yi'!S10+U10))))))))","v":""},{"$f":"IF(R10=\"\",\"\",IF(S10=\"\",\"\",(DataInput!$B$4+(DataInput!$D$4-DataInput!$B$4)*RAND())))","v":""},{"$f":"DataInput!$B$16*RAND()","v":4.1903206513484568},{"$f":"DataInput!$B$15*RAND()","v":11.868831715095908},{"$f":"(IF('Xi,Yi'!W10=\"\",\"\",(IF((('Xi,Yi'!W10+AA10+Z10/SQRT(3))<DataInput!$B$18),\"\",(IF((('Xi,Yi'!W10+AA10+Z10/SQRT(3))>DataInput!$B$19),\"\",(IF('Xi,Yi'!X10=\"\",\"\",(IF(('Xi,Yi'!X10+Z10<DataInput!$B$20),\"\",(IF((('Xi,Yi'!X10+Z10)>DataInput!$B$21),\"\",('Xi,Yi'!W10+AA10+Z10/SQRT(3))))))))))))))","v":""},{"$f":"IF(W10=\"\",\"\",(IF('Xi,Yi'!X10=\"\",\"\",(IF(('Xi,Yi'!X10+Z10<DataInput!$B$20),\"\",(IF((('Xi,Yi'!X10+Z10)>DataInput!$B$21),\"\",('Xi,Yi'!X10+Z10))))))))","v":""},{"$f":"IF(W10=\"\",\"\",IF(X10=\"\",\"\",(DataInput!$B$4+(DataInput!$D$4-DataInput!$B$4)*RAND())))","v":""},{"$f":"DataInput!$B$16*RAND()","v":5.1303847043949729},{"$f":"DataInput!$B$15*RAND()","v":2.9663556095919388},{"$f":"(IF('Xi,Yi'!AB10=\"\",\"\",(IF((('Xi,Yi'!AB10+AF10+AE10/SQRT(3))<DataInput!$B$18),\"\",(IF((('Xi,Yi'!AB10+AF10+AE10/SQRT(3))>DataInput!$B$19),\"\",(IF('Xi,Yi'!AC10=\"\",\"\",(IF(('Xi,Yi'!AC10+AE10<DataInput!$B$20),\"\",(IF((('Xi,Yi'!AC10+AE10)>DataInput!$B$21),\"\",('Xi,Yi'!AB10+AF10+AE10/SQRT(3))))))))))))))","v":""},{"$f":"IF(AB10=\"\",\"\",(IF('Xi,Yi'!AC10=\"\",\"\",(IF(('Xi,Yi'!AC10+AE10<DataInput!$B$20),\"\",(IF((('Xi,Yi'!AC10+AE10)>DataInput!$B$21),\"\",('Xi,Yi'!AC10+AE10))))))))","v":""},{"$f":"IF(AB10=\"\",\"\",IF(AC10=\"\",\"\",(DataInput!$B$4+(DataInput!$D$4-DataInput!$B$4)*RAND())))","v":""},{"$f":"DataInput!$B$16*RAND()","v":13.866169474192132},{"$f":"DataInput!$B$15*RAND()","v":4.6089463835718476},{"$f":"(IF('Xi,Yi'!AG10=\"\",\"\",(IF((('Xi,Yi'!AG10+AK10+AJ10/SQRT(3))<DataInput!$B$18),\"\",(IF((('Xi,Yi'!AG10+AK10+AJ10/SQRT(3))>DataInput!$B$19),\"\",(IF('Xi,Yi'!AH10=\"\",\"\",(IF(('Xi,Yi'!AH10+AJ10<DataInput!$B$20),\"\",(IF((('Xi,Yi'!AH10+AJ10)>DataInput!$B$21),\"\",('Xi,Yi'!AG10+AK10+AJ10/SQRT(3))))))))))))))","v":""},{"$f":"IF(AG10=\"\",\"\",(IF('Xi,Yi'!AH10=\"\",\"\",(IF(('Xi,Yi'!AH10+AJ10<DataInput!$B$20),\"\",(IF((('Xi,Yi'!AH10+AJ10)>DataInput!$B$21),\"\",('Xi,Yi'!AH10+AJ10))))))))","v":""},{"$f":"IF(AG10=\"\",\"\",IF(AH10=\"\",\"\",(DataInput!$B$4+(DataInput!$D$4-DataInput!$B$4)*RAND())))","v":""},{"$f":"DataInput!$B$16*RAND()","v":0.70592992128264953},{"$f":"DataInput!$B$15*RAND()","v":18.87843035663078},{"$f":"(IF('Xi,Yi'!AL10=\"\",\"\",(IF((('Xi,Yi'!AL10+AP10+AO10/SQRT(3))<DataInput!$B$18),\"\",(IF((('Xi,Yi'!AL10+AP10+AO10/SQRT(3))>DataInput!$B$19),\"\",(IF('Xi,Yi'!AM10=\"\",\"\",(IF(('Xi,Yi'!AM10+AO10<DataInput!$B$20),\"\",(IF((('Xi,Yi'!AM10+AO10)>DataInput!$B$21),\"\",('Xi,Yi'!AL10+AP10+AO10/SQRT(3))))))))))))))","v":""},{"$f":"IF(AL10=\"\",\"\",(IF('Xi,Yi'!AM10=\"\",\"\",(IF(('Xi,Yi'!AM10+AO10<DataInput!$B$20),\"\",(IF((('Xi,Yi'!AM10+AO10)>DataInput!$B$21),\"\",('Xi,Yi'!AM10+AO10))))))))","v":""},{"$f":"IF(AL10=\"\",\"\",IF(AM10=\"\",\"\",(DataInput!$B$4+(DataInput!$D$4-DataInput!$B$4)*RAND())))","v":""},{"$f":"DataInput!$B$16*RAND()","v":2.5188917005521354},{"$f":"DataInput!$B$15*RAND()","v":1.312765896265774},{"$f":"(IF('Xi,Yi'!AQ10=\"\",\"\",(IF((('Xi,Yi'!AQ10+AU10+AT10/SQRT(3))<DataInput!$B$18),\"\",(IF((('Xi,Yi'!AQ10+AU10+AT10/SQRT(3))>DataInput!$B$19),\"\",(IF('Xi,Yi'!AR10=\"\",\"\",(IF(('Xi,Yi'!AR10+AT10<DataInput!$B$20),\"\",(IF((('Xi,Yi'!AR10+AT10)>DataInput!$B$21),\"\",('Xi,Yi'!AQ10+AU10+AT10/SQRT(3))))))))))))))","v":""},{"$f":"IF(AQ10=\"\",\"\",(IF('Xi,Yi'!AR10=\"\",\"\",(IF(('Xi,Yi'!AR10+AT10<DataInput!$B$20),\"\",(IF((('Xi,Yi'!AR10+AT10)>DataInput!$B$21),\"\",('Xi,Yi'!AR10+AT10))))))))","v":""},{"$f":"IF(AQ10=\"\",\"\",IF(AR10=\"\",\"\",(DataInput!$B$4+(DataInput!$D$4-DataInput!$B$4)*RAND())))","v":""},{"$f":"DataInput!$B$16*RAND()","v":5.1136701128644422},{"$f":"DataInput!$B$15*RAND()","v":13.020987410721741},{"$f":"(IF('Xi,Yi'!AV10=\"\",\"\",(IF((('Xi,Yi'!AV10+AZ10+AY10/SQRT(3))<DataInput!$B$18),\"\",(IF((('Xi,Yi'!AV10+AZ10+AY10/SQRT(3))>DataInput!$B$19),\"\",(IF('Xi,Yi'!AW10=\"\",\"\",(IF(('Xi,Yi'!AW10+AY10<DataInput!$B$20),\"\",(IF((('Xi,Yi'!AW10+AY10)>DataInput!$B$21),\"\",('Xi,Yi'!AV10+AZ10+AY10/SQRT(3))))))))))))))","v":""},{"$f":"IF(AV10=\"\",\"\",(IF('Xi,Yi'!AW10=\"\",\"\",(IF(('Xi,Yi'!AW10+AY10<DataInput!$B$20),\"\",(IF((('Xi,Yi'!AW10+AY10)>DataInput!$B$21),\"\",('Xi,Yi'!AW10+AY10))))))))","v":""},{"$f":"IF(AV10=\"\",\"\",IF(AW10=\"\",\"\",(DataInput!$B$4+(DataInput!$D$4-DataInput!$B$4)*RAND())))","v":""},{"$f":"DataInput!$B$16*RAND()","v":12.540942176331848},{"$f":"DataInput!$B$15*RAND()","v":5.0957572174637411},{"$f":"(IF('Xi,Yi'!BA10=\"\",\"\",(IF((('Xi,Yi'!BA10+BE10+BD10/SQRT(3))<DataInput!$B$18),\"\",(IF((('Xi,Yi'!BA10+BE10+BD10/SQRT(3))>DataInput!$B$19),\"\",(IF('Xi,Yi'!BB10=\"\",\"\",(IF(('Xi,Yi'!BB10+BD10<DataInput!$B$20),\"\",(IF((('Xi,Yi'!BB10+BD10)>DataInput!$B$21),\"\",('Xi,Yi'!BA10+BE10+BD10/SQRT(3))))))))))))))","v":""},{"$f":"IF(BA10=\"\",\"\",(IF('Xi,Yi'!BB10=\"\",\"\",(IF(('Xi,Yi'!BB10+BD10<DataInput!$B$20),\"\",(IF((('Xi,Yi'!BB10+BD10)>DataInput!$B$21),\"\",('Xi,Yi'!BB10+BD10))))))))","v":""},{"$f":"IF(BA10=\"\",\"\",IF(BB10=\"\",\"\",(DataInput!$B$4+(DataInput!$D$4-DataInput!$B$4)*RAND())))","v":""},{"$f":"DataInput!$B$16*RAND()","v":9.7344007462478785},{"$f":"DataInput!$B$15*RAND()","v":5.304949581277679}]
[null,null,{"$f":"(IF('Xi,Yi'!C11=\"\",\"\",(IF((('Xi,Yi'!C11+G11+F11/SQRT(3))<DataInput!$B$18),\"\",(IF((('Xi,Yi'!C11+G11+F11/SQRT(3))>DataInput!$B$19),\"\",(IF('Xi,Yi'!D11=\"\",\"\",(IF(('Xi,Yi'!D11+F11<DataInput!$B$20),\"\",(IF((('Xi,Yi'!D11+F11)>DataInput!$B$21),\"\",('Xi,Yi'!C11+G11+F11/SQRT(3))))))))))))))","v":""},{"$f":"IF(C11=\"\",\"\",(IF('Xi,Yi'!D11=\"\",\"\",(IF(('Xi,Yi'!D11+F11<DataInput!$B$20),\"\",(IF((('Xi,Yi'!D11+F11)>DataInput!$B$21),\"\",('Xi,Yi'!D11+F11))))))))","v":""},{"$f":"IF(C11=\"\",\"\",IF(D11=\"\",\"\",(DataInput!$B$4+(DataInput!$D$4-DataInput!$B$4)*RAND())))","v":""},{"$f":"DataInput!$B$16*RAND()","v":7.108494979867932},{"$f":"DataInput!$B$15*RAND()","v":9.7681830858301169},{"$f":"(IF('Xi,Yi'!H11=\"\",\"\",(IF((('Xi,Yi'!H11+L11+K11/SQRT(3))<DataInput!$B$18),\"\",(IF((('Xi,Yi'!H11+L11+K11/SQRT(3))>DataInput!$B$19),\"\",(IF('Xi,Yi'!I11=\"\",\"\",(IF(('Xi,Yi'!I11+K11<DataInput!$B$20),\"\",(IF((('Xi,Yi'!I11+K11)>DataInput!$B$21),\"\",('Xi,Yi'!H11+L11+K11/SQRT(3))))))))))))))","v":""},{"$f":"IF(H11=\"\",\"\",(IF('Xi,Yi'!I11=\"\",\"\",(IF(('Xi,Yi'!I11+K11<DataInput!$B$20),\"\",(IF((('Xi,Yi'!I11+K11)>DataInput!$B$21),\"\",('Xi,Yi'!I11+K11))))))))","v":""},{"$f":"IF(H11=\"\",\"\",IF(I11=\"\",\"\",(DataInput!$B$4+(DataInput!$D$4-DataInput!$B$4)*RAND())))","v":""},{"$f":"DataInput!$B$16*RAND()","v":6.6397875216310682},{"$f":"DataInput!$B$15*RAND()","v":15.895712956568001},{"$f":"(IF('Xi,Yi'!M11=\"\",\"\",(IF((('Xi,Yi'!M11+Q11+P11/SQRT(3))<DataInput!$B$18),\"\",(IF((('Xi,Yi'!M11+Q11+P11/SQRT(3))>DataInput!$B$19),\"\",(IF('Xi,Yi'!N11=\"\",\"\",(IF(('Xi,Yi'!N11+P11<DataInput!$B$20),\"\",(IF((('Xi,Yi'!N11+P11)>DataInput!$B$21),\"\",('Xi,Yi'!M11+Q11+P11/SQRT(3))))))))))))))","v":""},{"$f":"IF(M11=\"\",\"\",(IF('Xi,Yi'!N11=\"\",\"\",(IF(('Xi,Yi'!N11+P11<DataInput!$B$20),\"\",(IF((('Xi,Yi'!N11+P11)>DataInput!$B$21),\"\",('Xi,Yi'!N11+P11))))))))","v":""},{"$f":"IF(M11=\"\",\"\",IF(N11=\"\",\"\",(DataInput!$B$4+(DataInput!$D$4-DataInput!$B$4)*RAND())))","v":""},{"$f":"DataInput!$B$16*RAND()","v":12.987751624642561},{"$f":"DataInput!$B$15*RAND()","v":15.128637249969222},{"$f":"(IF('Xi,Yi'!R11=\"\",\"\",(IF((('Xi,Yi'!R11+V11+U11/SQRT(3))<DataInput!$B$18),\"\",(IF((('Xi,Yi'!R11+V11+U11/SQRT(3))>DataInput!$B$19),\"\",(IF('Xi,Yi'!S11=\"\",\"\",(IF(('Xi,Yi'!S11+U11<DataInput!$B$20),\"\",(IF((('Xi,Yi'!S11+U11)>DataInput!$B$21),\"\",('Xi,Yi'!R11+V11+U11/SQRT(3))))))))))))))","v":""},{"$f":"IF(R11=\"\",\"\",(IF('Xi,Yi'!S11=\"\",\"\",(IF(('Xi,Yi'!S11+U11<DataInput!$B$20),\"\",(IF((('Xi,Yi'!S11+U11)>DataInput!$B$21),\"\",('Xi,Yi'!S11+U11))))))))","v":""},{"$f":"IF(R11=\"\",\"\",IF(S11=\"\",\"\",(DataInput!$B$4+(DataInput!$D$4-DataInput!$B$4)*RAND())))","v":""},{"$f":"DataInput!$B$16*RAND()","v":11.142151065736432},{"$f":"DataInput!$B$15*RAND()","v":1.8241702700080653},{"$f":"(IF('Xi,Yi'!W11=\"\",\"\",(IF((('Xi,Yi'!W11+AA11+Z11/SQRT(3))<DataInput!$B$18),\"\",(IF((('Xi,Yi'!W11+AA11+Z11/SQRT(3))>DataInput!$B$19),\"\",(IF('Xi,Yi'!X11=\"\",\"\",(IF(('Xi,Yi'!X11+Z11<DataInput!$B$20),\"\",(IF((('Xi,Yi'!X11+Z11)>DataInput!$B$21),\"\",('Xi,Yi'!W11+AA11+Z11/SQRT(3))))))))))))))","v":""},{"$f":"IF(W11=\"\",\"\",(IF('Xi,Yi'!X11=\"\",\"\",(IF(('Xi,Yi'!X11+Z11<DataInput!$B$20),\"\",(IF((('Xi,Yi'!X11+Z11)>DataInput!$B$21),\"\",('Xi,Yi'!X11+Z11))))))))","v":""},{"$f":"IF(W11=\"\",\"\",IF(X11=\"\",\"\",(DataInput!$B$4+(DataInput!$D$4-DataInput!$B$4)*RAND())))","v":""},{"$f":"DataInput!$B$16*RAND()","v":2.4690648784990796},{"$f":"DataInput!$B$15*RAND()","v":8.4400769519657928},{"$f":"(IF('Xi,Yi'!AB11=\"\",\"\",(IF((('Xi,Yi'!AB11+AF11+AE11/SQRT(3))<DataInput!$B$18),\"\",(IF((('Xi,Yi'!AB11+AF11+AE11/SQRT(3))>DataInput!$B$19),\"\",(IF('Xi,Yi'!AC11=\"\",\"\",(IF(('Xi,Yi'!AC11+AE11<DataInput!$B$20),\"\",(IF((('Xi,Yi'!AC11+AE11)>DataInput!$B$21),\"\",('Xi,Yi'!AB11+AF11+AE11/SQRT(3))))))))))))))","v":""},{"$f":"IF(AB11=\"\",\"\",(IF('Xi,Yi'!AC11=\"\",\"\",(IF(('Xi,Yi'!AC11+AE11<DataInput!$B$20),\"\",(IF((('Xi,Yi'!AC11+AE11)>DataInput!$B$21),\"\",('Xi,Yi'!AC11+AE11))))))))","v":""},{"$f":"IF(AB11=\"\",\"\",IF(AC11=\"\",\"\",(DataInput!$B$4+(DataInput!$D$4-DataInput!$B$4)*RAND())))","v":""},{"$f":"DataInput!$B$16*RAND()","v":15.661675984290271},{"$f":"DataInput!$B$15*RAND()","v":12.432484708355487},{"$f":"(IF('Xi,Yi'!AG11=\"\",\"\",(IF((('Xi,Yi'!AG11+AK11+AJ11/SQRT(3))<DataInput!$B$18),\"\",(IF((('Xi,Yi'!AG11+AK11+AJ11/SQRT(3))>DataInput!$B$19),\"\",(IF('Xi,Yi'!AH11=\"\",\"\",(IF(('Xi,Yi'!AH11+AJ11<DataInput!$B$20),\"\",(IF((('Xi,Yi'!AH11+AJ11)>DataInput!$B$21),\"\",('Xi,Yi'!AG11+AK11+AJ11/SQRT(3))))))))))))))","v":""},{"$f":"IF(AG11=\"\",\"\",(IF('Xi,Yi'!AH11=\"\",\"\",(IF(('Xi,Yi'!AH11+AJ11<DataInput!$B$20),\"\",(IF((('Xi,Yi'!AH11+AJ11)>DataInput!$B$21),\"\",('Xi,Yi'!AH11+AJ11))))))))","v":""},{"$f":"IF(AG11=\"\",\"\",IF(AH11=\"\",\"\",(DataInput!$B$4+(DataInput!$D$4-DataInput!$B$4)*RAND())))","v":""},{"$f":"DataInput!$B$16*RAND()","v":1.1086089076000192},{"$f":"DataInput!$B$15*RAND()","v":19.135348557390294},{"$f":"(IF('Xi,Yi'!AL11=\"\",\"\",(IF((('Xi,Yi'!AL11+AP11+AO11/SQRT(3))<DataInput!$B$18),\"\",(IF((('Xi,Yi'!AL11+AP11+AO11/SQRT(3))>DataInput!$B$19),\"\",(IF('Xi,Yi'!AM11=\"\",\"\",(IF(('Xi,Yi'!AM11+AO11<DataInput!$B$20),\"\",(IF((('Xi,Yi'!AM11+AO11)>DataInput!$B$21),\"\",('Xi,Yi'!AL11+AP11+AO11/SQRT(3))))))))))))))","v":""},{"$f":"IF(AL11=\"\",\"\",(IF('Xi,Yi'!AM11=\"\",\"\",(IF(('Xi,Yi'!AM11+AO11<DataInput!$B$20),\"\",(IF((('Xi,Yi'!AM11+AO11)>DataInput!$B$21),\"\",('Xi,Yi'!AM11+AO11))))))))","v":""},{"$f":"IF(AL11=\"\",\"\",IF(AM11=\"\",\"\",(DataInput!$B$4+(DataInput!$D$4-DataInput!$B$4)*RAND())))","v":""},{"$f":"DataInput!$B$16*RAND()","v":6.5468503619169578},{"$f":"DataInput!$B$15*RAND()","v":16.572224716210165},{"$f":"(IF('Xi,Yi'!AQ11=\"\",\"\",(IF((('Xi,Yi'!AQ11+AU11+AT11/SQRT(3))<DataInput!$B$18),\"\",(IF((('Xi,Yi'!AQ11+AU11+AT11/SQRT(3))>DataInput!$B$19),\"\",(IF('Xi,Yi'!AR11=\"\",\"\",(IF(('Xi,Yi'!AR11+AT11<DataInput!$B$20),\"\",(IF((('Xi,Yi'!AR11+AT11)>DataInput!$B$21),\"\",('Xi,Yi'!AQ11+AU11+AT11/SQRT(3))))))))))))))","v":""},{"$f":"IF(AQ11=\"\",\"\",(IF('Xi,Yi'!AR11=\"\",\"\",(IF(('Xi,Yi'!AR11+AT11<DataInput!$B$20),\"\",(IF((('Xi,Yi'!AR11+AT11)>DataInput!$B$21),\"\",('Xi,Yi'!AR11+AT11))))))))","v":""},{"$f":"IF(AQ11=\"\",\"\",IF(AR11=\"\",\"\",(DataInput!$B$4+(DataInput!$D$4-DataInput!$B$4)*RAND())))","v":""},{"$f":"DataInput!$B$16*RAND()","v":8.5258426813480508},{"$f":"DataInput!$B$15*RAND()","v":19.216400402042296},{"$f":"(IF('Xi,Yi'!AV11=\"\",\"\",(IF((('Xi,Yi'!AV11+AZ11+AY11/SQRT(3))<DataInput!$B$18),\"\",(IF((('Xi,Yi'!AV11+AZ11+AY11/SQRT(3))>DataInput!$B$19),\"\",(IF('Xi,Yi'!AW11=\"\",\"\",(IF(('Xi,Yi'!AW11+AY11<DataInput!$B$20),\"\",(IF((('Xi,Yi'!AW11+AY11)>DataInput!$B$21),\"\",('Xi,Yi'!AV11+AZ11+AY11/SQRT(3))))))))))))))","v":""},{"$f":"IF(AV11=\"\",\"\",(IF('Xi,Yi'!AW11=\"\",\"\",(IF(('Xi,Yi'!AW11+AY11<DataInput!$B$20),\"\",(IF((('Xi,Yi'!AW11+AY11)>DataInput!$B$21),\"\",('Xi,Yi'!AW11+AY11))))))))","v":""},{"$f":"IF(AV11=\"\",\"\",IF(AW11=\"\",\"\",(DataInput!$B$4+(DataInput!$D$4-DataInput!$B$4)*RAND())))","v":""},{"$f":"DataInput!$B$16*RAND()","v":1.1775144872362637},{"$f":"DataInput!$B$15*RAND()","v":11.271357570110393},{"$f":"(IF('Xi,Yi'!BA11=\"\",\"\",(IF((('Xi,Yi'!BA11+BE11+BD11/SQRT(3))<DataInput!$B$18),\"\",(IF((('Xi,Yi'!BA11+BE11+BD11/SQRT(3))>DataInput!$B$19),\"\",(IF('Xi,Yi'!BB11=\"\",\"\",(IF(('Xi,Yi'!BB11+BD11<DataInput!$B$20),\"\",(IF((('Xi,Yi'!BB11+BD11)>DataInput!$B$21),\"\",('Xi,Yi'!BA11+BE11+BD11/SQRT(3))))))))))))))","v":""},{"$f":"IF(BA11=\"\",\"\",(IF('Xi,Yi'!BB11=\"\",\"\",(IF(('Xi,Yi'!BB11+BD11<DataInput!$B$20),\"\",(IF((('Xi,Yi'!BB11+BD11)>DataInput!$B$21),\"\",('Xi,Yi'!BB11+BD11))))))))","v":""},{"$f":"IF(BA11=\"\",\"\",IF(BB11=\"\",\"\",(DataInput!$B$4+(DataInput!$D$4-DataInput!$B$4)*RAND())))","v":""},{"$f":"DataInput!$B$16*RAND()","v":16.207099963967607},{"$f":"DataInput!$B$15*RAND()","v":1.9966340546754029}]
[null,null,{"$f":"(IF('Xi,Yi'!C12=\"\",\"\",(IF((('Xi,Yi'!C12+G12+F12/SQRT(3))<DataInput!$B$18),\"\",(IF((('Xi,Yi'!C12+G12+F12/SQRT(3))>DataInput!$B$19),\"\",(IF('Xi,Yi'!D12=\"\",\"\",(IF(('Xi,Yi'!D12+F12<DataInput!$B$20),\"\",(IF((('Xi,Yi'!D12+F12)>DataInput!$B$21),\"\",('Xi,Yi'!C12+G12+F12/SQRT(3))))))))))))))","v":""},{"$f":"IF(C12=\"\",\"\",(IF('Xi,Yi'!D12=\"\",\"\",(IF(('Xi,Yi'!D12+F12<DataInput!$B$20),\"\",(IF((('Xi,Yi'!D12+F12)>DataInput!$B$21),\"\",('Xi,Yi'!D12+F12))))))))","v":""},{"$f":"IF(C12=\"\",\"\",IF(D12=\"\",\"\",(DataInput!$B$4+(DataInput!$D$4-DataInput!$B$4)*RAND())))","v":""},{"$f":"DataInput!$B$16*RAND()","v":4.0603238417411154},{"$f":"DataInput!$B$15*RAND()","v":14.738279439201479},{"$f":"(IF('Xi,Yi'!H12=\"\",\"\",(IF((('Xi,Yi'!H12+L12+K12/SQRT(3))<DataInput!$B$18),\"\",(IF((('Xi,Yi'!H12+L12+K12/SQRT(3))>DataInput!$B$19),\"\",(IF('Xi,Yi'!I12=\"\",\"\",(IF(('Xi,Yi'!I12+K12<DataInput!$B$20),\"\",(IF((('Xi,Yi'!I12+K12)>DataInput!$B$21),\"\",('Xi,Yi'!H12+L12+K12/SQRT(3))))))))))))))","v":""},{"$f":"IF(H12=\"\",\"\",(IF('Xi,Yi'!I12=\"\",\"\",(IF(('Xi,Yi'!I12+K12<DataInput!$B$20),\"\",(IF((('Xi,Yi'!I12+K12)>DataInput!$B$21),\"\",('Xi,Yi'!I12+K12))))))))","v":""},{"$f":"IF(H12=\"\",\"\",IF(I12=\"\",\"\",(DataInput!$B$4+(DataInput!$D$4-DataInput!$B$4)*RAND())))","v":""},{"$f":"DataInput!$B$16*RAND()","v":16.065305962375444},{"$f":"DataInput!$B$15*RAND()","v":19.533145674765134},{"$f":"(IF('Xi,Yi'!M12=\"\",\"\",(IF((('Xi,Yi'!M12+Q12+P12/SQRT(3))<DataInput!$B$18),\"\",(IF((('Xi,Yi'!M12+Q12+P12/SQRT(3))>DataInput!$B$19),\"\",(IF('Xi,Yi'!N12=\"\",\"\",(IF(('Xi,Yi'!N12+P12<DataInput!$B$20),\"\",(IF((('Xi,Yi'!N12+P12)>DataInput!$B$21),\"\",('Xi,Yi'!M12+Q12+P12/SQRT(3))))))))))))))","v":""},{"$f":"IF(M12=\"\",\"\",(IF('Xi,Yi'!N12=\"\",\"\",(IF(('Xi,Yi'!N12+P12<DataInput!$B$20),\"\",(IF((('Xi,Yi'!N12+P12)>DataInput!$B$21),\"\",('Xi,Yi'!N12+P12))))))))","v":""},{"$f":"IF(M12=\"\",\"\",IF(N12=\"\",\"\",(DataInput!$B$4+(DataInput!$D$4-DataInput!$B$4)*RAND())))","v":""},{"$f":"DataInput!$B$16*RAND()","v":16.363133231868623},{"$f":"DataInput!$B$15*RAND()","v":13.330194772676929},{"$f":"(IF('Xi,Yi'!R12=\"\",\"\",(IF((('Xi,Yi'!R12+V12+U12/SQRT(3))<DataInput!$B$18),\"\",(IF((('Xi,Yi'!R12+V12+U12/SQRT(3))>DataInput!$B$19),\"\",(IF('Xi,Yi'!S12=\"\",\"\",(IF(('Xi,Yi'!S12+U12<DataInput!$B$20),\"\",(IF((('Xi,Yi'!S12+U12)>DataInput!$B$21),\"\",('Xi,Yi'!R12+V12+U12/SQRT(3))))))))))))))","v":""},{"$f":"IF(R12=\"\",\"\",(IF('Xi,Yi'!S12=\"\",\"\",(IF(('Xi,Yi'!S12+U12<DataInput!$B$20),\"\",(IF((('Xi,Yi'!S12+U12)>DataInput!$B$21),\"\",('Xi,Yi'!S12+U12))))))))","v":""},{"$f":"IF(R12=\"\",\"\",IF(S12=\"\",\"\",(DataInput!$B$4+(DataInput!$D$4-DataInput!$B$4)*RAND())))","v":""},{"$f":"DataInput!$B$16*RAND()","v":5.5922180173116223},{"$f":"DataInput!$B$15*RAND()","v":9.3176963704001281},{"$f":"(IF('Xi,Yi'!W12=\"\",\"\",(IF((('Xi,Yi'!W12+AA12+Z12/SQRT(3))<DataInput!$B$18),\"\",(IF((('Xi,Yi'!W12+AA12+Z12/SQRT(3))>DataInput!$B$19),\"\",(IF('Xi,Yi'!X12=\"\",\"\",(IF(('Xi,Yi'!X12+Z12<DataInput!$B$20),\"\",(IF((('Xi,Yi'!X12+Z12)>DataInput!$B$21),\"\",('Xi,Yi'!W12+AA12+Z12/SQRT(3))))))))))))))","v":""},{"$f":"IF(W12=\"\",\"\",(IF('Xi,Yi'!X12=\"\",\"\",(IF(('Xi,Yi'!X12+Z12<DataInput!$B$20),\"\",(IF((('Xi,Yi'!X12+Z12)>DataInput!$B$21),\"\",('Xi,Yi'!X12+Z12))))))))","v":""},{"$f":"IF(W12=\"\",\"\",IF(X12=\"\",\"\",(DataInput!$B$4+(DataInput!$D$4-DataInput!$B$4)*RAND())))","v":""},{"$f":"DataInput!$B$16*RAND()","v":5.1778373913741902},{"$f":"DataInput!$B$15*RAND()","v":11.945442235061639},{"$f":"(IF('Xi,Yi'!AB12=\"\",\"\",(IF((('Xi,Yi'!AB12+AF12+AE12/SQRT(3))<DataInput!$B$18),\"\",(IF((('Xi,Yi'!AB12+AF12+AE12/SQRT(3))>DataInput!$B$19),\"\",(IF('Xi,Yi'!AC12=\"\",\"\",(IF(('Xi,Yi'!AC12+AE12<DataInput!$B$20),\"\",(IF((('Xi,Yi'!AC12+AE12)>DataInput!$B$21),\"\",('Xi,Yi'!AB12+AF12+AE12/SQRT(3))))))))))))))","v":""},{"$f":"IF(AB12=\"\",\"\",(IF('Xi,Yi'!AC12=\"\",\"\",(IF(('Xi,Yi'!AC12+AE12<DataInput!$B$20),\"\",(IF((('Xi,Yi'!AC12+AE12)>DataInput!$B$21),\"\",('Xi,Yi'!AC12+AE12))))))))","v":""},{"$f":"IF(AB12=\"\",\"\",IF(AC12=\"\",\"\",(DataInput!$B$4+(DataInput!$D$4-DataInput!$B$4)*RAND())))","v":""},{"$f":"DataInput!$B$16*RAND()","v":12.786307529471285},{"$f":"DataInput!$B$15*RAND()","v":3.2529688684665747},{"$f":"(IF('Xi,Yi'!AG12=\"\",\"\",(IF((('Xi,Yi'!AG12+AK12+AJ12/SQRT(3))<DataInput!$B$18),\"\",(IF((('Xi,Yi'!AG12+AK12+AJ12/SQRT(3))>DataInput!$B$19),\"\",(IF('Xi,Yi'!AH12=\"\",\"\",(IF(('Xi,Yi'!AH12+AJ12<DataInput!$B$20),\"\",(IF((('Xi,Yi'!AH12+AJ12)>DataInput!$B$21),\"\",('Xi,Yi'!AG12+AK12+AJ12/SQRT(3))))))))))))))","v":""},{"$f":"IF(AG12=\"\",\"\",(IF('Xi,Yi'!AH12=\"\",\"\",(IF(('Xi,Yi'!AH12+AJ12<DataInput!$B$20),\"\",(IF((('Xi,Yi'!AH12+AJ12)>DataInput!$B$21),\"\",('Xi,Yi'!AH12+AJ12))))))))","v":""},{"$f":"IF(AG12=\"\",\"\",IF(AH12=\"\",\"\",(DataInput!$B$4+(DataInput!$D$4-DataInput!$B$4)*RAND())))","v":""},{"$f":"DataInput!$B$16*RAND()","v":2.9101284171095712},{"$f":"DataInput!$B$15*RAND()","v":3.5364851405726121},{"$f":"(IF('Xi,Yi'!AL12=\"\",\"\",(IF((('Xi,Yi'!AL12+AP12+AO12/SQRT(3))<DataInput!$B$18),\"\",(IF((('Xi,Yi'!AL12+AP12+AO12/SQRT(3))>DataInput!$B$19),\"\",(IF('Xi,Yi'!AM12=\"\",\"\",(IF(('Xi,Yi'!AM12+AO12<DataInput!$B$20),\"\",(IF((('Xi,Yi'!AM12+AO12)>DataInput!$B$21),\"\",('Xi,Yi'!AL12+AP12+AO12/SQRT(3))))))))))))))","v":""},{"$f":"IF(AL12=\"\",\"\",(IF('Xi,Yi'!AM12=\"\",\"\",(IF(('Xi,Yi'!AM12+AO12<DataInput!$B$20),\"\",(IF((('Xi,Yi'!AM12+AO12)>DataInput!$B$21),\"\",('Xi,Yi'!AM12+AO12))))))))","v":""},{"$f":"IF(AL12=\"\",\"\",IF(AM12=\"\",\"\",(DataInput!$B$4+(DataInput!$D$4-DataInput!$B$4)*RAND())))","v":""},{"$f":"DataInput!$B$16*RAND()","v":16.669086338827153},{"$f":"DataInput!$B$15*RAND()","v":18.968514298517412},{"$f":"(IF('Xi,Yi'!AQ12=\"\",\"\",(IF((('Xi,Yi'!AQ12+AU12+AT12/SQRT(3))<DataInput!$B$18),\"\",(IF((('Xi,Yi'!AQ12+AU12+AT12/SQRT(3))>DataInput!$B$19),\"\",(IF('Xi,Yi'!AR12=\"\",\"\",(IF(('Xi,Yi'!AR12+AT12<DataInput!$B$20),\"\",(IF((('Xi,Yi'!AR12+AT12)>DataInput!$B$21),\"\",('Xi,Yi'!AQ12+AU12+AT12/SQRT(3))))))))))))))","v":""},{"$f":"IF(AQ12=\"\",\"\",(IF('Xi,Yi'!AR12=\"\",\"\",(IF(('Xi,Yi'!AR12+AT12<DataInput!$B$20),\"\",(IF((('Xi,Yi'!AR12+AT12)>DataInput!$B$21),\"\",('Xi,Yi'!AR12+AT12))))))))","v":""},{"$f":"IF(AQ12=\"\",\"\",IF(AR12=\"\",\"\",(DataInput!$B$4+(DataInput!$D$4-DataInput!$B$4)*RAND())))","v":""},{"$f":"DataInput!$B$16*RAND()","v":1.6747728142071563},{"$f":"DataInput!$B$15*RAND()","v":0.69870623280007838},{"$f":"(IF('Xi,Yi'!AV12=\"\",\"\",(IF((('Xi,Yi'!AV12+AZ12+AY12/SQRT(3))<DataInput!$B$18),\"\",(IF((('Xi,Yi'!AV12+AZ12+AY12/SQRT(3))>DataInput!$B$19),\"\",(IF('Xi,Yi'!AW12=\"\",\"\",(IF(('Xi,Yi'!AW12+AY12<DataInput!$B$20),\"\",(IF((('Xi,Yi'!AW12+AY12)>DataInput!$B$21),\"\",('Xi,Yi'!AV12+AZ12+AY12/SQRT(3))))))))))))))","v":""},{"$f":"IF(AV12=\"\",\"\",(IF('Xi,Yi'!AW12=\"\",\"\",(IF(('Xi,Yi'!AW12+AY12<DataInput!$B$20),\"\",(IF((('Xi,Yi'!AW12+AY12)>DataInput!$B$21),\"\",('Xi,Yi'!AW12+AY12))))))))","v":""},{"$f":"IF(AV12=\"\",\"\",IF(AW12=\"\",\"\",(DataInput!$B$4+(DataInput!$D$4-DataInput!$B$4)*RAND())))","v":""},{"$f":"DataInput!$B$16*RAND()","v":0.84043691819789146},{"$f":"DataInput!$B$15*RAND()","v":17.025545495799538},{"$f":"(IF('Xi,Yi'!BA12=\"\",\"\",(IF((('Xi,Yi'!BA12+BE12+BD12/SQRT(3))<DataInput!$B$18),\"\",(IF((('Xi,Yi'!BA12+BE12+BD12/SQRT(3))>DataInput!$B$19),\"\",(IF('Xi,Yi'!BB12=\"\",\"\",(IF(('Xi,Yi'!BB12+BD12<DataInput!$B$20),\"\",(IF((('Xi,Yi'!BB12+BD12)>DataInput!$B$21),\"\",('Xi,Yi'!BA12+BE12+BD12/SQRT(3))))))))))))))","v":""},{"$f":"IF(BA12=\"\",\"\",(IF('Xi,Yi'!BB12=\"\",\"\",(IF(('Xi,Yi'!BB12+BD12<DataInput!$B$20),\"\",(IF((('Xi,Yi'!BB12+BD12)>DataInput!$B$21),\"\",('Xi,Yi'!BB12+BD12))))))))","v":""},{"$f":"IF(BA12=\"\",\"\",IF(BB12=\"\",\"\",(DataInput!$B$4+(DataInput!$D$4-DataInput!$B$4)*RAND())))","v":""},{"$f":"DataInput!$B$16*RAND()","v":10.943062309331948},{"$f":"DataInput!$B$15*RAND()","v":17.22367604943808}]
[null,null,{"$f":"(IF('Xi,Yi'!C13=\"\",\"\",(IF((('Xi,Yi'!C13+G13+F13/SQRT(3))<DataInput!$B$18),\"\",(IF((('Xi,Yi'!C13+G13+F13/SQRT(3))>DataInput!$B$19),\"\",(IF('Xi,Yi'!D13=\"\",\"\",(IF(('Xi,Yi'!D13+F13<DataInput!$B$20),\"\",(IF((('Xi,Yi'!D13+F13)>DataInput!$B$21),\"\",('Xi,Yi'!C13+G13+F13/SQRT(3))))))))))))))","v":""},{"$f":"IF(C13=\"\",\"\",(IF('Xi,Yi'!D13=\"\",\"\",(IF(('Xi,Yi'!D13+F13<DataInput!$B$20),\"\",(IF((('Xi,Yi'!D13+F13)>DataInput!$B$21),\"\",('Xi,Yi'!D13+F13))))))))","v":""},{"$f":"IF(C13=\"\",\"\",IF(D13=\"\",\"\",(DataInput!$B$4+(DataInput!$D$4-DataInput!$B$4)*RAND())))","v":""},{"$f":"DataInput!$B$16*RAND()","v":12.749042815167916},{"$f":"DataInput!$B$15*RAND()","v":16.570094141260668},{"$f":"(IF('Xi,Yi'!H13=\"\",\"\",(IF((('Xi,Yi'!H13+L13+K13/SQRT(3))<DataInput!$B$18),\"\",(IF((('Xi,Yi'!H13+L13+K13/SQRT(3))>DataInput!$B$19),\"\",(IF('Xi,Yi'!I13=\"\",\"\",(IF(('Xi,Yi'!I13+K13<DataInput!$B$20),\"\",(IF((('Xi,Yi'!I13+K13)>DataInput!$B$21),\"\",('Xi,Yi'!H13+L13+K13/SQRT(3))))))))))))))","v":""},{"$f":"IF(H13=\"\",\"\",(IF('Xi,Yi'!I13=\"\",\"\",(IF(('Xi,Yi'!I13+K13<DataInput!$B$20),\"\",(IF((('Xi,Yi'!I13+K13)>DataInput!$B$21),\"\",('Xi,Yi'!I13+K13))))))))","v":""},{"$f":"IF(H13=\"\",\"\",IF(I13=\"\",\"\",(DataInput!$B$4+(DataInput!$D$4-DataInput!$B$4)*RAND())))","v":""},{"$f":"DataInput!$B$16*RAND()","v":2.4714979607391427},{"$f":"DataInput!$B$15*RAND()","v":5.1045356108442048},{"$f":"(IF('Xi,Yi'!M13=\"\",\"\",(IF((('Xi,Yi'!M13+Q13+P13/SQRT(3))<DataInput!$B$18),\"\",(IF((('Xi,Yi'!M13+Q13+P13/SQRT(3))>DataInput!$B$19),\"\",(IF('Xi,Yi'!N13=\"\",\"\",(IF(('Xi,Yi'!N13+P13<DataInput!$B$20),\"\",(IF((('Xi,Yi'!N13+P13)>DataInput!$B$21),\"\",('Xi,Yi'!M13+Q13+P13/SQRT(3))))))))))))))","v":""},{"$f":"IF(M13=\"\",\"\",(IF('Xi,Yi'!N13=\"\",\"\",(IF(('Xi,Yi'!N13+P13<DataInput!$B$20),\"\",(IF((('Xi,Yi'!N13+P13)>DataInput!$B$21),\"\",('Xi,Yi'!N13+P13))))))))","v":""},{"$f":"IF(M13=\"\",\"\",IF(N13=\"\",\"\",(DataInput!$B$4+(DataInput!$D$4-DataInput!$B$4)*RAND())))","v":""},{"$f":"DataInput!$B$16*RAND()","v":8.7630408694087603},{"$f":"DataInput!$B$15*RAND()","v":3.0031502858173691},{"$f":"(IF('Xi,Yi'!R13=\"\",\"\",(IF((('Xi,Yi'!R13+V13+U13/SQRT(3))<DataInput!$B$18),\"\",(IF((('Xi,Yi'!R13+V13+U13/SQRT(3))>DataInput!$B$19),\"\",(IF('Xi,Yi'!S13=\"\",\"\",(IF(('Xi,Yi'!S13+U13<DataInput!$B$20),\"\",(IF((('Xi,Yi'!S13+U13)>DataInput!$B$21),\"\",('Xi,Yi'!R13+V13+U13/SQRT(3))))))))))))))","v":""},{"$f":"IF(R13=\"\",\"\",(IF('Xi,Yi'!S13=\"\",\"\",(IF(('Xi,Yi'!S13+U13<DataInput!$B$20),\"\",(IF((('Xi,Yi'!S13+U13)>DataInput!$B$21),\"\",('Xi,Yi'!S13+U13))))))))","v":""},{"$f":"IF(R13=\"\",\"\",IF(S13=\"\",\"\",(DataInput!$B$4+(DataInput!$D$4-DataInput!$B$4)*RAND())))","v":""},{"$f":"DataInput!$B$16*RAND()","v":13.497929750413473},{"$f":"DataInput!$B$15*RAND()","v":7.0898088240168056},{"$f":"(IF('Xi,Yi'!W13=\"\",\"\",(IF((('Xi,Yi'!W13+AA13+Z13/SQRT(3))<DataInput!$B$18),\"\",(IF((('Xi,Yi'!W13+AA13+Z13/SQRT(3))>DataInput!$B$19),\"\",(IF('Xi,Yi'!X13=\"\",\"\",(IF(('Xi,Yi'!X13+Z13<DataInput!$B$20),\"\",(IF((('Xi,Yi'!X13+Z13)>DataInput!$B$21),\"\",('Xi,Yi'!W13+AA13+Z13/SQRT(3))))))))))))))","v":""},{"$f":"IF(W13=\"\",\"\",(IF('Xi,Yi'!X13=\"\",\"\",(IF(('Xi,Yi'!X13+Z13<DataInput!$B$20),\"\",(IF((('Xi,Yi'!X13+Z13)>DataInput!$B$21),\"\",('Xi,Yi'!X13+Z13))))))))","v":""},{"$f":"IF(W13=\"\",\"\",IF(X13=\"\",\"\",(DataInput!$B$4+(DataInput!$D$4-DataInput!$B$4)*RAND())))","v":""},{"$f":"DataInput!$B$16*RAND()","v":1.2106874082658643},{"$f":"DataInput!$B$15*RAND()","v":14.508864268136472},{"$f":"(IF('Xi,Yi'!AB13=\"\",\"\",(IF((('Xi,Yi'!AB13+AF13+AE13/SQRT(3))<DataInput!$B$18),\"\",(IF((('Xi,Yi'!AB13+AF13+AE13/SQRT(3))>DataInput!$B$19),\"\",(IF('Xi,Yi'!AC13=\"\",\"\",(IF(('Xi,Yi'!AC13+AE13<DataInput!$B$20),\"\",(IF((('Xi,Yi'!AC13+AE13)>DataInput!$B$21),\"\",('Xi,Yi'!AB13+AF13+AE13/SQRT(3))))))))))))))","v":""},{"$f":"IF(AB13=\"\",\"\",(IF('Xi,Yi'!AC13=\"\",\"\",(IF(('Xi,Yi'!AC13+AE13<DataInput!$B$20),\"\",(IF((('Xi,Yi'!AC13+AE13)>DataInput!$B$21),\"\",('Xi,Yi'!AC13+AE13))))))))","v":""},{"$f":"IF(AB13=\"\",\"\",IF(AC13=\"\",\"\",(DataInput!$B$4+(DataInput!$D$4-DataInput!$B$4)*RAND())))","v":""},{"$f":"DataInput!$B$16*RAND()","v":0.40685816896534466},{"$f":"DataInput!$B$15*RAND()","v":11.818151169376652},{"$f":"(IF('Xi,Yi'!AG13=\"\",\"\",(IF((('Xi,Yi'!AG13+AK13+AJ13/SQRT(3))<DataInput!$B$18),\"\",(IF((('Xi,Yi'!AG13+AK13+AJ13/SQRT(3))>DataInput!$B$19),\"\",(IF('Xi,Yi'!AH13=\"\",\"\",(IF(('Xi,Yi'!AH13+AJ13<DataInput!$B$20),\"\",(IF((('Xi,Yi'!AH13+AJ13)>DataInput!$B$21),\"\",('Xi,Yi'!AG13+AK13+AJ13/SQRT(3))))))))))))))","v":""},{"$f":"IF(AG13=\"\",\"\",(IF('Xi,Yi'!AH13=\"\",\"\",(IF(('Xi,Yi'!AH13+AJ13<DataInput!$B$20),\"\",(IF((('Xi,Yi'!AH13+AJ13)>DataInput!$B$21),\"\",('Xi,Yi'!AH13+AJ13))))))))","v":""},{"$f":"IF(AG13=\"\",\"\",IF(AH13=\"\",\"\",(DataInput!$B$4+(DataInput!$D$4-DataInput!$B$4)*RAND())))","v":""},{"$f":"DataInput!$B$16*RAND()","v":11.467603941082332},{"$f":"DataInput!$B$15*RAND()","v":4.9335047945055797},{"$f":"(IF('Xi,Yi'!AL13=\"\",\"\",(IF((('Xi,Yi'!AL13+AP13+AO13/SQRT(3))<DataInput!$B$18),\"\",(IF((('Xi,Yi'!AL13+AP13+AO13/SQRT(3))>DataInput!$B$19),\"\",(IF('Xi,Yi'!AM13=\"\",\"\",(IF(('Xi,Yi'!AM13+AO13<DataInput!$B$20),\"\",(IF((('Xi,Yi'!AM13+AO13)>DataInput!$B$21),\"\",('Xi,Yi'!AL13+AP13+AO13/SQRT(3))))))))))))))","v":""},{"$f":"IF(AL13=\"\",\"\",(IF('Xi,Yi'!AM13=\"\",\"\",(IF(('Xi,Yi'!AM13+AO13<DataInput!$B$20),\"\",(IF((('Xi,Yi'!AM13+AO13)>DataInput!$B$21),\"\",('Xi,Yi'!AM13+AO13))))))))","v":""},{"$f":"IF(AL13=\"\",\"\",IF(AM13=\"\",\"\",(DataInput!$B$4+(DataInput!$D$4-DataInput!$B$4)*RAND())))","v":""},{"$f":"DataInput!$B$16*RAND()","v":2.228663482731168},{"$f":"DataInput!$B$15*RAND()","v":8.2248645864447525},{"$f":"(IF('Xi,Yi'!AQ13=\"\",\"\",(IF((('Xi,Yi'!AQ13+AU13+AT13/SQRT(3))<DataInput!$B$18),\"\",(IF((('Xi,Yi'!AQ13+AU13+AT13/SQRT(3))>DataInput!$B$19),\"\",(IF('Xi,Yi'!AR13=\"\",\"\",(IF(('Xi,Yi'!AR13+AT13<DataInput!$B$20),\"\",(IF((('Xi,Yi'!AR13+AT13)>DataInput!$B$21),\"\",('Xi,Yi'!AQ13+AU13+AT13/SQRT(3))))))))))))))","v":""},{"$f":"IF(AQ13=\"\",\"\",(IF('Xi,Yi'!AR13=\"\",\"\",(IF(('Xi,Yi'!AR13+AT13<DataInput!$B$20),\"\",(IF((('Xi,Yi'!AR13+AT13)>DataInput!$B$21),\"\",('Xi,Yi'!AR13+AT13))))))))","v":""},{"$f":"IF(AQ13=\"\",\"\",IF(AR13=\"\",\"\",(DataInput!$B$4+(DataInput!$D$4-DataInput!$B$4)*RAND())))","v":""},{"$f":"DataInput!$B$16*RAND()","v":7.1455820403775503},{"$f":"DataInput!$B$15*RAND()","v":12.127651058850475},{"$f":"(IF('Xi,Yi'!AV13=\"\",\"\",(IF((('Xi,Yi'!AV13+AZ13+AY13/SQRT(3))<DataInput!$B$18),\"\",(IF((('Xi,Yi'!AV13+AZ13+AY13/SQRT(3))>DataInput!$B$19),\"\",(IF('Xi,Yi'!AW13=\"\",\"\",(IF(('Xi,Yi'!AW13+AY13<DataInput!$B$20),\"\",(IF((('Xi,Yi'!AW13+AY13)>DataInput!$B$21),\"\",('Xi,Yi'!AV13+AZ13+AY13/SQRT(3))))))))))))))","v":""},{"$f":"IF(AV13=\"\",\"\",(IF('Xi,Yi'!AW13=\"\",\"\",(IF(('Xi,Yi'!AW13+AY13<DataInput!$B$20),\"\",(IF((('Xi,Yi'!AW13+AY13)>DataInput!$B$21),\"\",('Xi,Yi'!AW13+AY13))))))))","v":""},{"$f":"IF(AV13=\"\",\"\",IF(AW13=\"\",\"\",(DataInput!$B$4+(DataInput!$D$4-DataInput!$B$4)*RAND())))","v":""},{"$f":"DataInput!$B$16*RAND()","v":16.987223063432758},{"$f":"DataInput!$B$15*RAND()","v":6.2770332844331822},{"$f":"(IF('Xi,Yi'!BA13=\"\",\"\",(IF((('Xi,Yi'!BA13+BE13+BD13/SQRT(3))<DataInput!$B$18),\"\",(IF((('Xi,Yi'!BA13+BE13+BD13/SQRT(3))>DataInput!$B$19),\"\",(IF('Xi,Yi'!BB13=\"\",\"\",(IF(('Xi,Yi'!BB13+BD13<DataInput!$B$20),\"\",(IF((('Xi,Yi'!BB13+BD13)>DataInput!$B$21),\"\",('Xi,Yi'!BA13+BE13+BD13/SQRT(3))))))))))))))","v":""},{"$f":"IF(BA13=\"\",\"\",(IF('Xi,Yi'!BB13=\"\",\"\",(IF(('Xi,Yi'!BB13+BD13<DataInput!$B$20),\"\",(IF((('Xi,Yi'!BB13+BD13)>DataInput!$B$21),\"\",('Xi,Yi'!BB13+BD13))))))))","v":""},{"$f":"IF(BA13=\"\",\"\",IF(BB13=\"\",\"\",(DataInput!$B$4+(DataInput!$D$4-DataInput!$B$4)*RAND())))","v":""},{"$f":"DataInput!$B$16*RAND()","v":6.7616014655655885},{"$f":"DataInput!$B$15*RAND()","v":15.745931945477377}]
[null,null,{"$f":"(IF('Xi,Yi'!C14=\"\",\"\",(IF((('Xi,Yi'!C14+G14+F14/SQRT(3))<DataInput!$B$18),\"\",(IF((('Xi,Yi'!C14+G14+F14/SQRT(3))>DataInput!$B$19),\"\",(IF('Xi,Yi'!D14=\"\",\"\",(IF(('Xi,Yi'!D14+F14<DataInput!$B$20),\"\",(IF((('Xi,Yi'!D14+F14)>DataInput!$B$21),\"\",('Xi,Yi'!C14+G14+F14/SQRT(3))))))))))))))","v":4.6343334458035388},{"$f":"IF(C14=\"\",\"\",(IF('Xi,Yi'!D14=\"\",\"\",(IF(('Xi,Yi'!D14+F14<DataInput!$B$20),\"\",(IF((('Xi,Yi'!D14+F14)>DataInput!$B$21),\"\",('Xi,Yi'!D14+F14))))))))","v":4.9680631464764371},{"$f":"IF(C14=\"\",\"\",IF(D14=\"\",\"\",(DataInput!$B$4+(DataInput!$D$4-DataInput!$B$4)*RAND())))","v":2.887453088106672},{"$f":"DataInput!$B$16*RAND()","v":0.86806314647643756},{"$f":"DataInput!$B$15*RAND()","v":8.5331569545117762},{"$f":"(IF('Xi,Yi'!H14=\"\",\"\",(IF((('Xi,Yi'!H14+L14+K14/SQRT(3))<DataInput!$B$18),\"\",(IF((('Xi,Yi'!H14+L14+K14/SQRT(3))>DataInput!$B$19),\"\",(IF('Xi,Yi'!I14=\"\",\"\",(IF(('Xi,Yi'!I14+K14<DataInput!$B$20),\"\",(IF((('Xi,Yi'!I14+K14)>DataInput!$B$21),\"\",('Xi,Yi'!H14+L14+K14/SQRT(3))))))))))))))","v":28.397214384396204},{"$f":"IF(H14=\"\",\"\",(IF('Xi,Yi'!I14=\"\",\"\",(IF(('Xi,Yi'!I14+K14<DataInput!$B$20),\"\",(IF((('Xi,Yi'!I14+K14)>DataInput!$B$21),\"\",('Xi,Yi'!I14+K14))))))))","v":32.986483196067923},{"$f":"IF(H14=\"\",\"\",IF(I14=\"\",\"\",(DataInput!$B$4+(DataInput!$D$4-DataInput!$B$4)*RAND())))","v":8.4104550277577879},{"$f":"DataInput!$B$16*RAND()","v":11.886483196067925},{"$f":"DataInput!$B$15*RAND()","v":16.134550111428425},{"$f":"(IF('Xi,Yi'!M14=\"\",\"\",(IF((('Xi,Yi'!M14+Q14+P14/SQRT(3))<DataInput!$B$18),\"\",(IF((('Xi,Yi'!M14+Q14+P14/SQRT(3))>DataInput!$B$19),\"\",(IF('Xi,Yi'!N14=\"\",\"\",(IF(('Xi,Yi'!N14+P14<DataInput!$B$20),\"\",(IF((('Xi,Yi'!N14+P14)>DataInput!$B$21),\"\",('Xi,Yi'!M14+Q14+P14/SQRT(3))))))))))))))","v":""},{"$f":"IF(M14=\"\",\"\",(IF('Xi,Yi'!N14=\"\",\"\",(IF(('Xi,Yi'!N14+P14<DataInput!$B$20),\"\",(IF((('Xi,Yi'!N14+P14)>DataInput!$B$21),\"\",('Xi,Yi'!N14+P14))))))))","v":""},{"$f":"IF(M14=\"\",\"\",IF(N14=\"\",\"\",(DataInput!$B$4+(DataInput!$D$4-DataInput!$B$4)*RAND())))","v":""},{"$f":"DataInput!$B$16*RAND()","v":15.427379051184159},{"$f":"DataInput!$B$15*RAND()","v":16.537660047245907},{"$f":"(IF('Xi,Yi'!R14=\"\",\"\",(IF((('Xi,Yi'!R14+V14+U14/SQRT(3))<DataInput!$B$18),\"\",(IF((('Xi,Yi'!R14+V14+U14/SQRT(3))>DataInput!$B$19),\"\",(IF('Xi,Yi'!S14=\"\",\"\",(IF(('Xi,Yi'!S14+U14<DataInput!$B$20),\"\",(IF((('Xi,Yi'!S14+U14)>DataInput!$B$21),\"\",('Xi,Yi'!R14+V14+U14/SQRT(3))))))))))))))","v":""},{"$f":"IF(R14=\"\",\"\",(IF('Xi,Yi'!S14=\"\",\"\",(IF(('Xi,Yi'!S14+U14<DataInput!$B$20),\"\",(IF((('Xi,Yi'!S14+U14)>DataInput!$B$21),\"\",('Xi,Yi'!S14+U14))))))))","v":""},{"$f":"IF(R14=\"\",\"\",IF(S14=\"\",\"\",(DataInput!$B$4+(DataInput!$D$4-DataInput!$B$4)*RAND())))","v":""},{"$f":"DataInput!$B$16*RAND()","v":10.381569659826811},{"$f":"DataInput!$B$15*RAND()","v":19.378826190054575},{"$f":"(IF('Xi,Yi'!W14=\"\",\"\",(IF((('Xi,Yi'!W14+AA14+Z14/SQRT(3))<DataInput!$B$18),\"\",(IF((('Xi,Yi'!W14+AA14+Z14/SQRT(3))>DataInput!$B$19),\"\",(IF('Xi,Yi'!X14=\"\",\"\",(IF(('Xi,Yi'!X14+Z14<DataInput!$B$20),\"\",(IF((('Xi,Yi'!X14+Z14)>DataInput!$B$21),\"\",('Xi,Yi'!W14+AA14+Z14/SQRT(3))))))))))))))","v":""},{"$f":"IF(W14=\"\",\"\",(IF('Xi,Yi'!X14=\"\",\"\",(IF(('Xi,Yi'!X14+Z14<DataInput!$B$20),\"\",(IF((('Xi,Yi'!X14+Z14)>DataInput!$B$21),\"\",('Xi,Yi'!X14+Z14))))))))","v":""},{"$f":"IF(W14=\"\",\"\",IF(X14=\"\",\"\",(DataInput!$B$4+(DataInput!$D$4-DataInput!$B$4)*RAND())))","v":""},{"$f":"DataInput!$B$16*RAND()","v":0.81709970602313775},{"$f":"DataInput!$B$15*RAND()","v":17.897120407635562},{"$f":"(IF('Xi,Yi'!AB14=\"\",\"\",(IF((('Xi,Yi'!AB14+AF14+AE14/SQRT(3))<DataInput!$B$18),\"\",(IF((('Xi,Yi'!AB14+AF14+AE14/SQRT(3))>DataInput!$B$19),\"\",(IF('Xi,Yi'!AC14=\"\",\"\",(IF(('Xi,Yi'!AC14+AE14<DataInput!$B$20),\"\",(IF((('Xi,Yi'!AC14+AE14)>DataInput!$B$21),\"\",('Xi,Yi'!AB14+AF14+AE14/SQRT(3))))))))))))))","v":""},{"$f":"IF(AB14=\"\",\"\",(IF('Xi,Yi'!AC14=\"\",\"\",(IF(('Xi,Yi'!AC14+AE14<DataInput!$B$20),\"\",(IF((('Xi,Yi'!AC14+AE14)>DataInput!$B$21),\"\",('Xi,Yi'!AC14+AE14))))))))","v":""},{"$f":"IF(AB14=\"\",\"\",IF(AC14=\"\",\"\",(DataInput!$B$4+(DataInput!$D$4-DataInput!$B$4)*RAND())))","v":""},{"$f":"DataInput!$B$16*RAND()","v":1.1824902501936703},{"$f":"DataInput!$B$15*RAND()","v":16.264623502094285},{"$f":"(IF('Xi,Yi'!AG14=\"\",\"\",(IF((('Xi,Yi'!AG14+AK14+AJ14/SQRT(3))<DataInput!$B$18),\"\",(IF((('Xi,Yi'!AG14+AK14+AJ14/SQRT(3))>DataInput!$B$19),\"\",(IF('Xi,Yi'!AH14=\"\",\"\",(IF(('Xi,Yi'!AH14+AJ14<DataInput!$B$20),\"\",(IF((('Xi,Yi'!AH14+AJ14)>DataInput!$B$21),\"\",('Xi,Yi'!AG14+AK14+AJ14/SQRT(3))))))))))))))","v":""},{"$f":"IF(AG14=\"\",\"\",(IF('Xi,Yi'!AH14=\"\",\"\",(IF(('Xi,Yi'!AH14+AJ14<DataInput!$B$20),\"\",(IF((('Xi,Yi'!AH14+AJ14)>DataInput!$B$21),\"\",('Xi,Yi'!AH14+AJ14))))))))","v":""},{"$f":"IF(AG14=\"\",\"\",IF(AH14=\"\",\"\",(DataInput!$B$4+(DataInput!$D$4-DataInput!$B$4)*RAND())))","v":""},{"$f":"DataInput!$B$16*RAND()","v":9.8931950084286093},{"$f":"DataInput!$B$15*RAND()","v":0.24502606593924017},{"$f":"(IF('Xi,Yi'!AL14=\"\",\"\",(IF((('Xi,Yi'!AL14+AP14+AO14/SQRT(3))<DataInput!$B$18),\"\",(IF((('Xi,Yi'!AL14+AP14+AO14/SQRT(3))>DataInput!$B$19),\"\",(IF('Xi,Yi'!AM14=\"\",\"\",(IF(('Xi,Yi'!AM14+AO14<DataInput!$B$20),\"\",(IF((('Xi,Yi'!AM14+AO14)>DataInput!$B$21),\"\",('Xi,Yi'!AL14+AP14+AO14/SQRT(3))))))))))))))","v":""},{"$f":"IF(AL14=\"\",\"\",(IF('Xi,Yi'!AM14=\"\",\"\",(IF(('Xi,Yi'!AM14+AO14<DataInput!$B$20),\"\",(IF((('Xi,Yi'!AM14+AO14)>DataInput!$B$21),\"\",('Xi,Yi'!AM14+AO14))))))))","v":""},{"$f":"IF(AL14=\"\",\"\",IF(AM14=\"\",\"\",(DataInput!$B$4+(DataInput!$D$4-DataInput!$B$4)*RAND())))","v":""},{"$f":"DataInput!$B$16*RAND()","v":13.904461088649477},{"$f":"DataInput!$B$15*RAND()","v":14.428687290687636},{"$f":"(IF('Xi,Yi'!AQ14=\"\",\"\",(IF((('Xi,Yi'!AQ14+AU14+AT14/SQRT(3))<DataInput!$B$18),\"\",(IF((('Xi,Yi'!AQ14+AU14+AT14/SQRT(3))>DataInput!$B$19),\"\",(IF('Xi,Yi'!AR14=\"\",\"\",(IF(('Xi,Yi'!AR14+AT14<DataInput!$B$20),\"\",(IF((('Xi,Yi'!AR14+AT14)>DataInput!$B$21),\"\",('Xi,Yi'!AQ14+AU14+AT14/SQRT(3))))))))))))))","v":""},{"$f":"IF(AQ14=\"\",\"\",(IF('Xi,Yi'!AR14=\"\",\"\",(IF(('Xi,Yi'!AR14+AT14<DataInput!$B$20),\"\",(IF((('Xi,Yi'!AR14+AT14)>DataInput!$B$21),\"\",('Xi,Yi'!AR14+AT14))))))))","v":""},{"$f":"IF(AQ14=\"\",\"\",IF(AR14=\"\",\"\",(DataInput!$B$4+(DataInput!$D$4-DataInput!$B$4)*RAND())))","v":""},{"$f":"DataInput!$B$16*RAND()","v":2.652278396031496},{"$f":"DataInput!$B$15*RAND()","v":5.3550142302915562},{"$f":"(IF('Xi,Yi'!AV14=\"\",\"\",(IF((('Xi,Yi'!AV14+AZ14+AY14/SQRT(3))<DataInput!$B$18),\"\",(IF((('Xi,Yi'!AV14+AZ14+AY14/SQRT(3))>DataInput!$B$19),\"\",(IF('Xi,Yi'!AW14=\"\",\"\",(IF(('Xi,Yi'!AW14+AY14<DataInput!$B$20),\"\",(IF((('Xi,Yi'!AW14+AY14)>DataInput!$B$21),\"\",('Xi,Yi'!AV14+AZ14+AY14/SQRT(3))))))))))))))","v":""},{"$f":"IF(AV14=\"\",\"\",(IF('Xi,Yi'!AW14=\"\",\"\",(IF(('Xi,Yi'!AW14+AY14<DataInput!$B$20),\"\",(IF((('Xi,Yi'!AW14+AY14)>DataInput!$B$21),\"\",('Xi,Yi'!AW14+AY14))))))))","v":""},{"$f":"IF(AV14=\"\",\"\",IF(AW14=\"\",\"\",(DataInput!$B$4+(DataInput!$D$4-DataInput!$B$4)*RAND())))","v":""},{"$f":"DataInput!$B$16*RAND()","v":6.073868214636069},{"$f":"DataInput!$B$15*RAND()","v":13.52377925133643},{"$f":"(IF('Xi,Yi'!BA14=\"\",\"\",(IF((('Xi,Yi'!BA14+BE14+BD14/SQRT(3))<DataInput!$B$18),\"\",(IF((('Xi,Yi'!BA14+BE14+BD14/SQRT(3))>DataInput!$B$19),\"\",(IF('Xi,Yi'!BB14=\"\",\"\",(IF(('Xi,Yi'!BB14+BD14<DataInput!$B$20),\"\",(IF((('Xi,Yi'!BB14+BD14)>DataInput!$B$21),\"\",('Xi,Yi'!BA14+BE14+BD14/SQRT(3))))))))))))))","v":""},{"$f":"IF(BA14=\"\",\"\",(IF('Xi,Yi'!BB14=\"\",\"\",(IF(('Xi,Yi'!BB14+BD14<DataInput!$B$20),\"\",(IF((('Xi,Yi'!BB14+BD14)>DataInput!$B$21),\"\",('Xi,Yi'!BB14+BD14))))))))","v":""},{"$f":"IF(BA14=\"\",\"\",IF(BB14=\"\",\"\",(DataInput!$B$4+(DataInput!$D$4-DataInput!$B$4)*RAND())))","v":""},{"$f":"DataInput!$B$16*RAND()","v":14.562321447758469},{"$f":"DataInput!$B$15*RAND()","v":2.7625545844916299}]
[null,null,{"$f":"(IF('Xi,Yi'!C15=\"\",\"\",(IF((('Xi,Yi'!C15+G15+F15/SQRT(3))<DataInput!$B$18),\"\",(IF((('Xi,Yi'!C15+G15+F15/SQRT(3))>DataInput!$B$19),\"\",(IF('Xi,Yi'!D15=\"\",\"\",(IF(('Xi,Yi'!D15+F15<DataInput!$B$20),\"\",(IF((('Xi,Yi'!D15+F15)>DataInput!$B$21),\"\",('Xi,Yi'!C15+G15+F15/SQRT(3))))))))))))))","v":25.821060985961953},{"$f":"IF(C15=\"\",\"\",(IF('Xi,Yi'!D15=\"\",\"\",(IF(('Xi,Yi'!D15+F15<DataInput!$B$20),\"\",(IF((('Xi,Yi'!D15+F15)>DataInput!$B$21),\"\",('Xi,Yi'!D15+F15))))))))","v":16.956247223988523},{"$f":"IF(C15=\"\",\"\",IF(D15=\"\",\"\",(DataInput!$B$4+(DataInput!$D$4-DataInput!$B$4)*RAND())))","v":2.7095317555865108},{"$f":"DataInput!$B$16*RAND()","v":12.856247223988523},{"$f":"DataInput!$B$15*RAND()","v":3.1985031904238008},{"$f":"(IF('Xi,Yi'!H15=\"\",\"\",(IF((('Xi,Yi'!H15+L15+K15/SQRT(3))<DataInput!$B$18),\"\",(IF((('Xi,Yi'!H15+L15+K15/SQRT(3))>DataInput!$B$19),\"\",(IF('Xi,Yi'!I15=\"\",\"\",(IF(('Xi,Yi'!I15+K15<DataInput!$B$20),\"\",(IF((('Xi,Yi'!I15+K15)>DataInput!$B$21),\"\",('Xi,Yi'!H15+L15+K15/SQRT(3))))))))))))))","v":41.046695910858567},{"$f":"IF(H15=\"\",\"\",(IF('Xi,Yi'!I15=\"\",\"\",(IF(('Xi,Yi'!I15+K15<DataInput!$B$20),\"\",(IF((('Xi,Yi'!I15+K15)>DataInput!$B$21),\"\",('Xi,Yi'!I15+K15))))))))","v":32.403153820323858},{"$f":"IF(H15=\"\",\"\",IF(I15=\"\",\"\",(DataInput!$B$4+(DataInput!$D$4-DataInput!$B$4)*RAND())))","v":6.494888190900169},{"$f":"DataInput!$B$16*RAND()","v":11.303153820323855},{"$f":"DataInput!$B$15*RAND()","v":9.5208170100028457},{"$f":"(IF('Xi,Yi'!M15=\"\",\"\",(IF((('Xi,Yi'!M15+Q15+P15/SQRT(3))<DataInput!$B$18),\"\",(IF((('Xi,Yi'!M15+Q15+P15/SQRT(3))>DataInput!$B$19),\"\",(IF('Xi,Yi'!N15=\"\",\"\",(IF(('Xi,Yi'!N15+P15<DataInput!$B$20),\"\",(IF((('Xi,Yi'!N15+P15)>DataInput!$B$21),\"\",('Xi,Yi'!M15+Q15+P15/SQRT(3))))))))))))))","v":23.494494266036209},{"$f":"IF(M15=\"\",\"\",(IF('Xi,Yi'!N15=\"\",\"\",(IF(('Xi,Yi'!N15+P15<DataInput!$B$20),\"\",(IF((('Xi,Yi'!N15+P15)>DataInput!$B$21),\"\",('Xi,Yi'!N15+P15))))))))","v":47.065321314681434},{"$f":"IF(M15=\"\",\"\",IF(N15=\"\",\"\",(DataInput!$B$4+(DataInput!$D$4-DataInput!$B$4)*RAND())))","v":4.5576080364046518},{"$f":"DataInput!$B$16*RAND()","v":8.9653213146814306},{"$f":"DataInput!$B$15*RAND()","v":3.1183635916333956},{"$f":"(IF('Xi,Yi'!R15=\"\",\"\",(IF((('Xi,Yi'!R15+V15+U15/SQRT(3))<DataInput!$B$18),\"\",(IF((('Xi,Yi'!R15+V15+U15/SQRT(3))>DataInput!$B$19),\"\",(IF('Xi,Yi'!S15=\"\",\"\",(IF(('Xi,Yi'!S15+U15<DataInput!$B$20),\"\",(IF((('Xi,Yi'!S15+U15)>DataInput!$B$21),\"\",('Xi,Yi'!R15+V15+U15/SQRT(3))))))))))))))","v":""},{"$f":"IF(R15=\"\",\"\",(IF('Xi,Yi'!S15=\"\",\"\",(IF(('Xi,Yi'!S15+U15<DataInput!$B$20),\"\",(IF((('Xi,Yi'!S15+U15)>DataInput!$B$21),\"\",('Xi,Yi'!S15+U15))))))))","v":""},{"$f":"IF(R15=\"\",\"\",IF(S15=\"\",\"\",(DataInput!$B$4+(DataInput!$D$4-DataInput!$B$4)*RAND())))","v":""},{"$f":"DataInput!$B$16*RAND()","v":4.127850753572206},{"$f":"DataInput!$B$15*RAND()","v":7.4836145911120164},{"$f":"(IF('Xi,Yi'!W15=\"\",\"\",(IF((('Xi,Yi'!W15+AA15+Z15/SQRT(3))<DataInput!$B$18),\"\",(IF((('Xi,Yi'!W15+AA15+Z15/SQRT(3))>DataInput!$B$19),\"\",(IF('Xi,Yi'!X15=\"\",\"\",(IF(('Xi,Yi'!X15+Z15<DataInput!$B$20),\"\",(IF((('Xi,Yi'!X15+Z15)>DataInput!$B$21),\"\",('Xi,Yi'!W15+AA15+Z15/SQRT(3))))))))))))))","v":""},{"$f":"IF(W15=\"\",\"\",(IF('Xi,Yi'!X15=\"\",\"\",(IF(('Xi,Yi'!X15+Z15<DataInput!$B$20),\"\",(IF((('Xi,Yi'!X15+Z15)>DataInput!$B$21),\"\",('Xi,Yi'!X15+Z15))))))))","v":""},{"$f":"IF(W15=\"\",\"\",IF(X15=\"\",\"\",(DataInput!$B$4+(DataInput!$D$4-DataInput!$B$4)*RAND())))","v":""},{"$f":"DataInput!$B$16*RAND()","v":1.988035470989046},{"$f":"DataInput!$B$15*RAND()","v":15.247717099822403},{"$f":"(IF('Xi,Yi'!AB15=\"\",\"\",(IF((('Xi,Yi'!AB15+AF15+AE15/SQRT(3))<DataInput!$B$18),\"\",(IF((('Xi,Yi'!AB15+AF15+AE15/SQRT(3))>DataInput!$B$19),\"\",(IF('Xi,Yi'!AC15=\"\",\"\",(IF(('Xi,Yi'!AC15+AE15<DataInput!$B$20),\"\",(IF((('Xi,Yi'!AC15+AE15)>DataInput!$B$21),\"\",('Xi,Yi'!AB15+AF15+AE15/SQRT(3))))))))))))))","v":""},{"$f":"IF(AB15=\"\",\"\",(IF('Xi,Yi'!AC15=\"\",\"\",(IF(('Xi,Yi'!AC15+AE15<DataInput!$B$20),\"\",(IF((('Xi,Yi'!AC15+AE15)>DataInput!$B$21),\"\",('Xi,Yi'!AC15+AE15))))))))","v":""},{"$f":"IF(AB15=\"\",\"\",IF(AC15=\"\",\"\",(DataInput!$B$4+(DataInput!$D$4-DataInput!$B$4)*RAND())))","v":""},{"$f":"DataInput!$B$16*RAND()","v":10.68356054855369},{"$f":"DataInput!$B$15*RAND()","v":9.9492044271262827},{"$f":"(IF('Xi,Yi'!AG15=\"\",\"\",(IF((('Xi,Yi'!AG15+AK15+AJ15/SQRT(3))<DataInput!$B$18),\"\",(IF((('Xi,Yi'!AG15+AK15+AJ15/SQRT(3))>DataInput!$B$19),\"\",(IF('Xi,Yi'!AH15=\"\",\"\",(IF(('Xi,Yi'!AH15+AJ15<DataInput!$B$20),\"\",(IF((('Xi,Yi'!AH15+AJ15)>DataInput!$B$21),\"\",('Xi,Yi'!AG15+AK15+AJ15/SQRT(3))))))))))))))","v":""},{"$f":"IF(AG15=\"\",\"\",(IF('Xi,Yi'!AH15=\"\",\"\",(IF(('Xi,Yi'!AH15+AJ15<DataInput!$B$20),\"\",(IF((('Xi,Yi'!AH15+AJ15)>DataInput!$B$21),\"\",('Xi,Yi'!AH15+AJ15))))))))","v":""},{"$f":"IF(AG15=\"\",\"\",IF(AH15=\"\",\"\",(DataInput!$B$4+(DataInput!$D$4-DataInput!$B$4)*RAND())))","v":""},{"$f":"DataInput!$B$16*RAND()","v":15.555506604537266},{"$f":"DataInput!$B$15*RAND()","v":3.2620138951546407},{"$f":"(IF('Xi,Yi'!AL15=\"\",\"\",(IF((('Xi,Yi'!AL15+AP15+AO15/SQRT(3))<DataInput!$B$18),\"\",(IF((('Xi,Yi'!AL15+AP15+AO15/SQRT(3))>DataInput!$B$19),\"\",(IF('Xi,Yi'!AM15=\"\",\"\",(IF(('Xi,Yi'!AM15+AO15<DataInput!$B$20),\"\",(IF((('Xi,Yi'!AM15+AO15)>DataInput!$B$21),\"\",('Xi,Yi'!AL15+AP15+AO15/SQRT(3))))))))))))))","v":""},{"$f":"IF(AL15=\"\",\"\",(IF('Xi,Yi'!AM15=\"\",\"\",(IF(('Xi,Yi'!AM15+AO15<DataInput!$B$20),\"\",(IF((('Xi,Yi'!AM15+AO15)>DataInput!$B$21),\"\",('Xi,Yi'!AM15+AO15))))))))","v":""},{"$f":"IF(AL15=\"\",\"\",IF(AM15=\"\",\"\",(DataInput!$B$4+(DataInput!$D$4-DataInput!$B$4)*RAND())))","v":""},{"$f":"DataInput!$B$16*RAND()","v":13.620484957009413},{"$f":"DataInput!$B$15*RAND()","v":12.032407451817273},{"$f":"(IF('Xi,Yi'!AQ15=\"\",\"\",(IF((('Xi,Yi'!AQ15+AU15+AT15/SQRT(3))<DataInput!$B$18),\"\",(IF((('Xi,Yi'!AQ15+AU15+AT15/SQRT(3))>DataInput!$B$19),\"\",(IF('Xi,Yi'!AR15=\"\",\"\",(IF(('Xi,Yi'!AR15+AT15<DataInput!$B$20),\"\",(IF((('Xi,Yi'!AR15+AT15)>DataInput!$B$21),\"\",('Xi,Yi'!AQ15+AU15+AT15/SQRT(3))))))))))))))","v":""},{"$f":"IF(AQ15=\"\",\"\",(IF('Xi,Yi'!AR15=\"\",\"\",(IF(('Xi,Yi'!AR15+AT15<DataInput!$B$20),\"\",(IF((('Xi,Yi'!AR15+AT15)>DataInput!$B$21),\"\",('Xi,Yi'!AR15+AT15))))))))","v":""},{"$f":"IF(AQ15=\"\",\"\",IF(AR15=\"\",\"\",(DataInput!$B$4+(DataInput!$D$4-DataInput!$B$4)*RAND())))","v":""},{"$f":"DataInput!$B$16*RAND()","v":4.9893438024592065},{"$f":"DataInput!$B$15*RAND()","v":4.9424555312905598},{"$f":"(IF('Xi,Yi'!AV15=\"\",\"\",(IF((('Xi,Yi'!AV15+AZ15+AY15/SQRT(3))<DataInput!$B$18),\"\",(IF((('Xi,Yi'!AV15+AZ15+AY15/SQRT(3))>DataInput!$B$19),\"\",(IF('Xi,Yi'!AW15=\"\",\"\",(IF(('Xi,Yi'!AW15+AY15<DataInput!$B$20),\"\",(IF((('Xi,Yi'!AW15+AY15)>DataInput!$B$21),\"\",('Xi,Yi'!AV15+AZ15+AY15/SQRT(3))))))))))))))","v":""},{"$f":"IF(AV15=\"\",\"\",(IF('Xi,Yi'!AW15=\"\",\"\",(IF(('Xi,Yi'!AW15+AY15<DataInput!$B$20),\"\",(IF((('Xi,Yi'!AW15+AY15)>DataInput!$B$21),\"\",('Xi,Yi'!AW15+AY15))))))))","v":""},{"$f":"IF(AV15=\"\",\"\",IF(AW15=\"\",\"\",(DataInput!$B$4+(DataInput!$D$4-DataInput!$B$4)*RAND())))","v":""},{"$f":"DataInput!$B$16*RAND()","v":12.890877835878024},{"$f":"DataInput!$B$15*RAND()","v":19.421716926715774},{"$f":"(IF('Xi,Yi'!BA15=\"\",\"\",(IF((('Xi,Yi'!BA15+BE15+BD15/SQRT(3))<DataInput!$B$18),\"\",(IF((('Xi,Yi'!BA15+BE15+BD15/SQRT(3))>DataInput!$B$19),\"\",(IF('Xi,Yi'!BB15=\"\",\"\",(IF(('Xi,Yi'!BB15+BD15<DataInput!$B$20),\"\",(IF((('Xi,Yi'!BB15+BD15)>DataInput!$B$21),\"\",('Xi,Yi'!BA15+BE15+BD15/SQRT(3))))))))))))))","v":""},{"$f":"IF(BA15=\"\",\"\",(IF('Xi,Yi'!BB15=\"\",\"\",(IF(('Xi,Yi'!BB15+BD15<DataInput!$B$20),\"\",(IF((('Xi,Yi'!BB15+BD15)>DataInput!$B$21),\"\",('Xi,Yi'!BB15+BD15))))))))","v":""},{"$f":"IF(BA15=\"\",\"\",IF(BB15=\"\",\"\",(DataInput!$B$4+(DataInput!$D$4-DataInput!$B$4)*RAND())))","v":""},{"$f":"DataInput!$B$16*RAND()","v":7.4983498683552714},{"$f":"DataInput!$B$15*RAND()","v":4.6622411428532198}]
[null,null,{"$f":"(IF('Xi,Yi'!C16=\"\",\"\",(IF((('Xi,Yi'!C16+G16+F16/SQRT(3))<DataInput!$B$18),\"\",(IF((('Xi,Yi'!C16+G16+F16/SQRT(3))>DataInput!$B$19),\"\",(IF('Xi,Yi'!D16=\"\",\"\",(IF(('Xi,Yi'!D16+F16<DataInput!$B$20),\"\",(IF((('Xi,Yi'!D16+F16)>DataInput!$B$21),\"\",('Xi,Yi'!C16+G16+F16/SQRT(3))))))))))))))","v":39.877502408278559},{"$f":"IF(C16=\"\",\"\",(IF('Xi,Yi'!D16=\"\",\"\",(IF(('Xi,Yi'!D16+F16<DataInput!$B$20),\"\",(IF((('Xi,Yi'!D16+F16)>DataInput!$B$21),\"\",('Xi,Yi'!D16+F16))))))))","v":6.0360316928381188},{"$f":"IF(C16=\"\",\"\",IF(D16=\"\",\"\",(DataInput!$B$4+(DataInput!$D$4-DataInput!$B$4)*RAND())))","v":8.0153394885989897},{"$f":"DataInput!$B$16*RAND()","v":1.9360316928381187},{"$f":"DataInput!$B$15*RAND()","v":3.9597339892588268},{"$f":"(IF('Xi,Yi'!H16=\"\",\"\",(IF((('Xi,Yi'!H16+L16+K16/SQRT(3))<DataInput!$B$18),\"\",(IF((('Xi,Yi'!H16+L16+K16/SQRT(3))>DataInput!$B$19),\"\",(IF('Xi,Yi'!I16=\"\",\"\",(IF(('Xi,Yi'!I16+K16<DataInput!$B$20),\"\",(IF((('Xi,Yi'!I16+K16)>DataInput!$B$21),\"\",('Xi,Yi'!H16+L16+K16/SQRT(3))))))))))))))","v":68.950160246206707},{"$f":"IF(H16=\"\",\"\",(IF('Xi,Yi'!I16=\"\",\"\",(IF(('Xi,Yi'!I16+K16<DataInput!$B$20),\"\",(IF((('Xi,Yi'!I16+K16)>DataInput!$B$21),\"\",('Xi,Yi'!I16+K16))))))))","v":37.503330023829548},{"$f":"IF(H16=\"\",\"\",IF(I16=\"\",\"\",(DataInput!$B$4+(DataInput!$D$4-DataInput!$B$4)*RAND())))","v":9.5253640206825096},{"$f":"DataInput!$B$16*RAND()","v":16.40333002382955},{"$f":"DataInput!$B$15*RAND()","v":14.879693241342441},{"$f":"(IF('Xi,Yi'!M16=\"\",\"\",(IF((('Xi,Yi'!M16+Q16+P16/SQRT(3))<DataInput!$B$18),\"\",(IF((('Xi,Yi'!M16+Q16+P16/SQRT(3))>DataInput!$B$19),\"\",(IF('Xi,Yi'!N16=\"\",\"\",(IF(('Xi,Yi'!N16+P16<DataInput!$B$20),\"\",(IF((('Xi,Yi'!N16+P16)>DataInput!$B$21),\"\",('Xi,Yi'!M16+Q16+P16/SQRT(3))))))))))))))","v":""},{"$f":"IF(M16=\"\",\"\",(IF('Xi,Yi'!N16=\"\",\"\",(IF(('Xi,Yi'!N16+P16<DataInput!$B$20),\"\",(IF((('Xi,Yi'!N16+P16)>DataInput!$B$21),\"\",('Xi,Yi'!N16+P16))))))))","v":""},{"$f":"IF(M16=\"\",\"\",IF(N16=\"\",\"\",(DataInput!$B$4+(DataInput!$D$4-DataInput!$B$4)*RAND())))","v":""},{"$f":"DataInput!$B$16*RAND()","v":15.328624844474216},{"$f":"DataInput!$B$15*RAND()","v":17.916052112060633},{"$f":"(IF('Xi,Yi'!R16=\"\",\"\",(IF((('Xi,Yi'!R16+V16+U16/SQRT(3))<DataInput!$B$18),\"\",(IF((('Xi,Yi'!R16+V16+U16/SQRT(3))>DataInput!$B$19),\"\",(IF('Xi,Yi'!S16=\"\",\"\",(IF(('Xi,Yi'!S16+U16<DataInput!$B$20),\"\",(IF((('Xi,Yi'!S16+U16)>DataInput!$B$21),\"\",('Xi,Yi'!R16+V16+U16/SQRT(3))))))))))))))","v":""},{"$f":"IF(R16=\"\",\"\",(IF('Xi,Yi'!S16=\"\",\"\",(IF(('Xi,Yi'!S16+U16<DataInput!$B$20),\"\",(IF((('Xi,Yi'!S16+U16)>DataInput!$B$21),\"\",('Xi,Yi'!S16+U16))))))))","v":""},{"$f":"IF(R16=\"\",\"\",IF(S16=\"\",\"\",(DataInput!$B$4+(DataInput!$D$4-DataInput!$B$4)*RAND())))","v":""},{"$f":"DataInput!$B$16*RAND()","v":12.734616749119379},{"$f":"DataInput!$B$15*RAND()","v":12.679589220739627},{"$f":"(IF('Xi,Yi'!W16=\"\",\"\",(IF((('Xi,Yi'!W16+AA16+Z16/SQRT(3))<DataInput!$B$18),\"\",(IF((('Xi,Yi'!W16+AA16+Z16/SQRT(3))>DataInput!$B$19),\"\",(IF('Xi,Yi'!X16=\"\",\"\",(IF(('Xi,Yi'!X16+Z16<DataInput!$B$20),\"\",(IF((('Xi,Yi'!X16+Z16)>DataInput!$B$21),\"\",('Xi,Yi'!W16+AA16+Z16/SQRT(3))))))))))))))","v":""},{"$f":"IF(W16=\"\",\"\",(IF('Xi,Yi'!X16=\"\",\"\",(IF(('Xi,Yi'!X16+Z16<DataInput!$B$20),\"\",(IF((('Xi,Yi'!X16+Z16)>DataInput!$B$21),\"\",('Xi,Yi'!X16+Z16))))))))","v":""},{"$f":"IF(W16=\"\",\"\",IF(X16=\"\",\"\",(DataInput!$B$4+(DataInput!$D$4-DataInput!$B$4)*RAND())))","v":""},{"$f":"DataInput!$B$16*RAND()","v":5.8381728834692019},{"$f":"DataInput!$B$15*RAND()","v":1.0356522833256889},{"$f":"(IF('Xi,Yi'!AB16=\"\",\"\",(IF((('Xi,Yi'!AB16+AF16+AE16/SQRT(3))<DataInput!$B$18),\"\",(IF((('Xi,Yi'!AB16+AF16+AE16/SQRT(3))>DataInput!$B$19),\"\",(IF('Xi,Yi'!AC16=\"\",\"\",(IF(('Xi,Yi'!AC16+AE16<DataInput!$B$20),\"\",(IF((('Xi,Yi'!AC16+AE16)>DataInput!$B$21),\"\",('Xi,Yi'!AB16+AF16+AE16/SQRT(3))))))))))))))","v":""},{"$f":"IF(AB16=\"\",\"\",(IF('Xi,Yi'!AC16=\"\",\"\",(IF(('Xi,Yi'!AC16+AE16<DataInput!$B$20),\"\",(IF((('Xi,Yi'!AC16+AE16)>DataInput!$B$21),\"\",('Xi,Yi'!AC16+AE16))))))))","v":""},{"$f":"IF(AB16=\"\",\"\",IF(AC16=\"\",\"\",(DataInput!$B$4+(DataInput!$D$4-DataInput!$B$4)*RAND())))","v":""},{"$f":"DataInput!$B$16*RAND()","v":16.787618649315753},{"$f":"DataInput!$B$15*RAND()","v":16.963809832201992},{"$f":"(IF('Xi,Yi'!AG16=\"\",\"\",(IF((('Xi,Yi'!AG16+AK16+AJ16/SQRT(3))<DataInput!$B$18),\"\",(IF((('Xi,Yi'!AG16+AK16+AJ16/SQRT(3))>DataInput!$B$19),\"\",(IF('Xi,Yi'!AH16=\"\",\"\",(IF(('Xi,Yi'!AH16+AJ16<DataInput!$B$20),\"\",(IF((('Xi,Yi'!AH16+AJ16)>DataInput!$B$21),\"\",('Xi,Yi'!AG16+AK16+AJ16/SQRT(3))))))))))))))","v":""},{"$f":"IF(AG16=\"\",\"\",(IF('Xi,Yi'!AH16=\"\",\"\",(IF(('Xi,Yi'!AH16+AJ16<DataInput!$B$20),\"\",(IF((('Xi,Yi'!AH16+AJ16)>DataInput!$B$21),\"\",('Xi,Yi'!AH16+AJ16))))))))","v":""},{"$f":"IF(AG16=\"\",\"\",IF(AH16=\"\",\"\",(DataInput!$B$4+(DataInput!$D$4-DataInput!$B$4)*RAND())))","v":""},{"$f":"DataInput!$B$16*RAND()","v":13.682210117926374},{"$f":"DataInput!$B$15*RAND()","v":14.1630183998757},{"$f":"(IF('Xi,Yi'!AL16=\"\",\"\",(IF((('Xi,Yi'!AL16+AP16+AO16/SQRT(3))<DataInput!$B$18),\"\",(IF((('Xi,Yi'!AL16+AP16+AO16/SQRT(3))>DataInput!$B$19),\"\",(IF('Xi,Yi'!AM16=\"\",\"\",(IF(('Xi,Yi'!AM16+AO16<DataInput!$B$20),\"\",(IF((('Xi,Yi'!AM16+AO16)>DataInput!$B$21),\"\",('Xi,Yi'!AL16+AP16+AO16/SQRT(3))))))))))))))","v":""},{"$f":"IF(AL16=\"\",\"\",(IF('Xi,Yi'!AM16=\"\",\"\",(IF(('Xi,Yi'!AM16+AO16<DataInput!$B$20),\"\",(IF((('Xi,Yi'!AM16+AO16)>DataInput!$B$21),\"\",('Xi,Yi'!AM16+AO16))))))))","v":""},{"$f":"IF(AL16=\"\",\"\",IF(AM16=\"\",\"\",(DataInput!$B$4+(DataInput!$D$4-DataInput!$B$4)*RAND())))","v":""},{"$f":"DataInput!$B$16*RAND()","v":6.9073552242480574},{"$f":"DataInput!$B$15*RAND()","v":6.6158394623708574},{"$f":"(IF('Xi,Yi'!AQ16=\"\",\"\",(IF((('Xi,Yi'!AQ16+AU16+AT16/SQRT(3))<DataInput!$B$18),\"\",(IF((('Xi,Yi'!AQ16+AU16+AT16/SQRT(3))>DataInput!$B$19),\"\",(IF('Xi,Yi'!AR16=\"\",\"\",(IF(('Xi,Yi'!AR16+AT16<DataInput!$B$20),\"\",(IF((('Xi,Yi'!AR16+AT16)>DataInput!$B$21),\"\",('Xi,Yi'!AQ16+AU16+AT16/SQRT(3))))))))))))))","v":""},{"$f":"IF(AQ16=\"\",\"\",(IF('Xi,Yi'!AR16=\"\",\"\",(IF(('Xi,Yi'!AR16+AT16<DataInput!$B$20),\"\",(IF((('Xi,Yi'!AR16+AT16)>DataInput!$B$21),\"\",('Xi,Yi'!AR16+AT16))))))))","v":""},{"$f":"IF(AQ16=\"\",\"\",IF(AR16=\"\",\"\",(DataInput!$B$4+(DataInput!$D$4-DataInput!$B$4)*RAND())))","v":""},{"$f":"DataInput!$B$16*RAND()","v":6.4422425911460026},{"$f":"DataInput!$B$15*RAND()","v":18.186450199833878},{"$f":"(IF('Xi,Yi'!AV16=\"\",\"\",(IF((('Xi,Yi'!AV16+AZ16+AY16/SQRT(3))<DataInput!$B$18),\"\",(IF((('Xi,Yi'!AV16+AZ16+AY16/SQRT(3))>DataInput!$B$19),\"\",(IF('Xi,Yi'!AW16=\"\",\"\",(IF(('Xi,Yi'!AW16+AY16<DataInput!$B$20),\"\",(IF((('Xi,Yi'!AW16+AY16)>DataInput!$B$21),\"\",('Xi,Yi'!AV16+AZ16+AY16/SQRT(3))))))))))))))","v":""},{"$f":"IF(AV16=\"\",\"\",(IF('Xi,Yi'!AW16=\"\",\"\",(IF(('Xi,Yi'!AW16+AY16<DataInput!$B$20),\"\",(IF((('Xi,Yi'!AW16+AY16)>DataInput!$B$21),\"\",('Xi,Yi'!AW16+AY16))))))))","v":""},{"$f":"IF(AV16=\"\",\"\",IF(AW16=\"\",\"\",(DataInput!$B$4+(DataInput!$D$4-DataInput!$B$4)*RAND())))","v":""},{"$f":"DataInput!$B$16*RAND()","v":9.0358929533174308},{"$f":"DataInput!$B$15*RAND()","v":11.878043483888705},{"$f":"(IF('Xi,Yi'!BA16=\"\",\"\",(IF((('Xi,Yi'!BA16+BE16+BD16/SQRT(3))<DataInput!$B$18),\"\",(IF((('Xi,Yi'!BA16+BE16+BD16/SQRT(3))>DataInput!$B$19),\"\",(IF('Xi,Yi'!BB16=\"\",\"\",(IF(('Xi,Yi'!BB16+BD16<DataInput!$B$20),\"\",(IF((('Xi,Yi'!BB16+BD16)>DataInput!$B$21),\"\",('Xi,Yi'!BA16+BE16+BD16/SQRT(3))))))))))))))","v":""},{"$f":"IF(BA16=\"\",\"\",(IF('Xi,Yi'!BB16=\"\",\"\",(IF(('Xi,Yi'!BB16+BD16<DataInput!$B$20),\"\",(IF((('Xi,Yi'!BB16+BD16)>DataInput!$B$21),\"\",('Xi,Yi'!BB16+BD16))))))))","v":""},{"$f":"IF(BA16=\"\",\"\",IF(BB16=\"\",\"\",(DataInput!$B$4+(DataInput!$D$4-DataInput!$B$4)*RAND())))","v":""},{"$f":"DataInput!$B$16*RAND()","v":14.060762336645841},{"$f":"DataInput!$B$15*RAND()","v":5.6245362696817516}]
[null,null,{"$f":"(IF('Xi,Yi'!C17=\"\",\"\",(IF((('Xi,Yi'!C17+G17+F17/SQRT(3))<DataInput!$B$18),\"\",(IF((('Xi,Yi'!C17+G17+F17/SQRT(3))>DataInput!$B$19),\"\",(IF('Xi,Yi'!D17=\"\",\"\",(IF(('Xi,Yi'!D17+F17<DataInput!$B$20),\"\",(IF((('Xi,Yi'!D17+F17)>DataInput!$B$21),\"\",('Xi,Yi'!C17+G17+F17/SQRT(3))))))))))))))","v":67.075011061815147},{"$f":"IF(C17=\"\",\"\",(IF('Xi,Yi'!D17=\"\",\"\",(IF(('Xi,Yi'!D17+F17<DataInput!$B$20),\"\",(IF((('Xi,Yi'!D17+F17)>DataInput!$B$21),\"\",('Xi,Yi'!D17+F17))))))))","v":19.336804566592338},{"$f":"IF(C17=\"\",\"\",IF(D17=\"\",\"\",(DataInput!$B$4+(DataInput!$D$4-DataInput!$B$4)*RAND())))","v":5.131614093355779},{"$f":"DataInput!$B$16*RAND()","v":15.236804566592339},{"$f":"DataInput!$B$15*RAND()","v":3.8780378437033356},{"$f":"(IF('Xi,Yi'!H17=\"\",\"\",(IF((('Xi,Yi'!H17+L17+K17/SQRT(3))<DataInput!$B$18),\"\",(IF((('Xi,Yi'!H17+L17+K17/SQRT(3))>DataInput!$B$19),\"\",(IF('Xi,Yi'!I17=\"\",\"\",(IF(('Xi,Yi'!I17+K17<DataInput!$B$20),\"\",(IF((('Xi,Yi'!I17+K17)>DataInput!$B$21),\"\",('Xi,Yi'!H17+L17+K17/SQRT(3))))))))))))))","v":79.73507764793429},{"$f":"IF(H17=\"\",\"\",(IF('Xi,Yi'!I17=\"\",\"\",(IF(('Xi,Yi'!I17+K17<DataInput!$B$20),\"\",(IF((('Xi,Yi'!I17+K17)>DataInput!$B$21),\"\",('Xi,Yi'!I17+K17))))))))","v":29.920248033704961},{"$f":"IF(H17=\"\",\"\",IF(I17=\"\",\"\",(DataInput!$B$4+(DataInput!$D$4-DataInput!$B$4)*RAND())))","v":3.5697939271823964},{"$f":"DataInput!$B$16*RAND()","v":8.82024803370496},{"$f":"DataInput!$B$15*RAND()","v":10.442705071355459},{"$f":"(IF('Xi,Yi'!M17=\"\",\"\",(IF((('Xi,Yi'!M17+Q17+P17/SQRT(3))<DataInput!$B$18),\"\",(IF((('Xi,Yi'!M17+Q17+P17/SQRT(3))>DataInput!$B$19),\"\",(IF('Xi,Yi'!N17=\"\",\"\",(IF(('Xi,Yi'!N17+P17<DataInput!$B$20),\"\",(IF((('Xi,Yi'!N17+P17)>DataInput!$B$21),\"\",('Xi,Yi'!M17+Q17+P17/SQRT(3))))))))))))))","v":59.524129523508542},{"$f":"IF(M17=\"\",\"\",(IF('Xi,Yi'!N17=\"\",\"\",(IF(('Xi,Yi'!N17+P17<DataInput!$B$20),\"\",(IF((('Xi,Yi'!N17+P17)>DataInput!$B$21),\"\",('Xi,Yi'!N17+P17))))))))","v":43.666717208089054},{"$f":"IF(M17=\"\",\"\",IF(N17=\"\",\"\",(DataInput!$B$4+(DataInput!$D$4-DataInput!$B$4)*RAND())))","v":2.6493302356432267},{"$f":"DataInput!$B$16*RAND()","v":5.5667172080890488},{"$f":"DataInput!$B$15*RAND()","v":1.9101838449157995},{"$f":"(IF('Xi,Yi'!R17=\"\",\"\",(IF((('Xi,Yi'!R17+V17+U17/SQRT(3))<DataInput!$B$18),\"\",(IF((('Xi,Yi'!R17+V17+U17/SQRT(3))>DataInput!$B$19),\"\",(IF('Xi,Yi'!S17=\"\",\"\",(IF(('Xi,Yi'!S17+U17<DataInput!$B$20),\"\",(IF((('Xi,Yi'!S17+U17)>DataInput!$B$21),\"\",('Xi,Yi'!R17+V17+U17/SQRT(3))))))))))))))","v":""},{"$f":"IF(R17=\"\",\"\",(IF('Xi,Yi'!S17=\"\",\"\",(IF(('Xi,Yi'!S17+U17<DataInput!$B$20),\"\",(IF((('Xi,Yi'!S17+U17)>DataInput!$B$21),\"\",('Xi,Yi'!S17+U17))))))))","v":""},{"$f":"IF(R17=\"\",\"\",IF(S17=\"\",\"\",(DataInput!$B$4+(DataInput!$D$4-DataInput!$B$4)*RAND())))","v":""},{"$f":"DataInput!$B$16*RAND()","v":10.484049086393863},{"$f":"DataInput!$B$15*RAND()","v":0.16764854052704461},{"$f":"(IF('Xi,Yi'!W17=\"\",\"\",(IF((('Xi,Yi'!W17+AA17+Z17/SQRT(3))<DataInput!$B$18),\"\",(IF((('Xi,Yi'!W17+AA17+Z17/SQRT(3))>DataInput!$B$19),\"\",(IF('Xi,Yi'!X17=\"\",\"\",(IF(('Xi,Yi'!X17+Z17<DataInput!$B$20),\"\",(IF((('Xi,Yi'!X17+Z17)>DataInput!$B$21),\"\",('Xi,Yi'!W17+AA17+Z17/SQRT(3))))))))))))))","v":""},{"$f":"IF(W17=\"\",\"\",(IF('Xi,Yi'!X17=\"\",\"\",(IF(('Xi,Yi'!X17+Z17<DataInput!$B$20),\"\",(IF((('Xi,Yi'!X17+Z17)>DataInput!$B$21),\"\",('Xi,Yi'!X17+Z17))))))))","v":""},{"$f":"IF(W17=\"\",\"\",IF(X17=\"\",\"\",(DataInput!$B$4+(DataInput!$D$4-DataInput!$B$4)*RAND())))","v":""},{"$f":"DataInput!$B$16*RAND()","v":5.4028843575989658},{"$f":"DataInput!$B$15*RAND()","v":9.9276319386395517},{"$f":"(IF('Xi,Yi'!AB17=\"\",\"\",(IF((('Xi,Yi'!AB17+AF17+AE17/SQRT(3))<DataInput!$B$18),\"\",(IF((('Xi,Yi'!AB17+AF17+AE17/SQRT(3))>DataInput!$B$19),\"\",(IF('Xi,Yi'!AC17=\"\",\"\",(IF(('Xi,Yi'!AC17+AE17<DataInput!$B$20),\"\",(IF((('Xi,Yi'!AC17+AE17)>DataInput!$B$21),\"\",('Xi,Yi'!AB17+AF17+AE17/SQRT(3))))))))))))))","v":""},{"$f":"IF(AB17=\"\",\"\",(IF('Xi,Yi'!AC17=\"\",\"\",(IF(('Xi,Yi'!AC17+AE17<DataInput!$B$20),\"\",(IF((('Xi,Yi'!AC17+AE17)>DataInput!$B$21),\"\",('Xi,Yi'!AC17+AE17))))))))","v":""},{"$f":"IF(AB17=\"\",\"\",IF(AC17=\"\",\"\",(DataInput!$B$4+(DataInput!$D$4-DataInput!$B$4)*RAND())))","v":""},{"$f":"DataInput!$B$16*RAND()","v":5.0859101733434553},{"$f":"DataInput!$B$15*RAND()","v":1.4321030851293672},{"$f":"(IF('Xi,Yi'!AG17=\"\",\"\",(IF((('Xi,Yi'!AG17+AK17+AJ17/SQRT(3))<DataInput!$B$18),\"\",(IF((('Xi,Yi'!AG17+AK17+AJ17/SQRT(3))>DataInput!$B$19),\"\",(IF('Xi,Yi'!AH17=\"\",\"\",(IF(('Xi,Yi'!AH17+AJ17<DataInput!$B$20),\"\",(IF((('Xi,Yi'!AH17+AJ17)>DataInput!$B$21),\"\",('Xi,Yi'!AG17+AK17+AJ17/SQRT(3))))))))))))))","v":""},{"$f":"IF(AG17=\"\",\"\",(IF('Xi,Yi'!AH17=\"\",\"\",(IF(('Xi,Yi'!AH17+AJ17<DataInput!$B$20),\"\",(IF((('Xi,Yi'!AH17+AJ17)>DataInput!$B$21),\"\",('Xi,Yi'!AH17+AJ17))))))))","v":""},{"$f":"IF(AG17=\"\",\"\",IF(AH17=\"\",\"\",(DataInput!$B$4+(DataInput!$D$4-DataInput!$B$4)*RAND())))","v":""},{"$f":"DataInput!$B$16*RAND()","v":15.880992145855791},{"$f":"DataInput!$B$15*RAND()","v":10.277533542413403},{"$f":"(IF('Xi,Yi'!AL17=\"\",\"\",(IF((('Xi,Yi'!AL17+AP17+AO17/SQRT(3))<DataInput!$B$18),\"\",(IF((('Xi,Yi'!AL17+AP17+AO17/SQRT(3))>DataInput!$B$19),\"\",(IF('Xi,Yi'!AM17=\"\",\"\",(IF(('Xi,Yi'!AM17+AO17<DataInput!$B$20),\"\",(IF((('Xi,Yi'!AM17+AO17)>DataInput!$B$21),\"\",('Xi,Yi'!AL17+AP17+AO17/SQRT(3))))))))))))))","v":""},{"$f":"IF(AL17=\"\",\"\",(IF('Xi,Yi'!AM17=\"\",\"\",(IF(('Xi,Yi'!AM17+AO17<DataInput!$B$20),\"\",(IF((('Xi,Yi'!AM17+AO17)>DataInput!$B$21),\"\",('Xi,Yi'!AM17+AO17))))))))","v":""},{"$f":"IF(AL17=\"\",\"\",IF(AM17=\"\",\"\",(DataInput!$B$4+(DataInput!$D$4-DataInput!$B$4)*RAND())))","v":""},{"$f":"DataInput!$B$16*RAND()","v":14.379845155616257},{"$f":"DataInput!$B$15*RAND()","v":11.676268082213474},{"$f":"(IF('Xi,Yi'!AQ17=\"\",\"\",(IF((('Xi,Yi'!AQ17+AU17+AT17/SQRT(3))<DataInput!$B$18),\"\",(IF((('Xi,Yi'!AQ17+AU17+AT17/SQRT(3))>DataInput!$B$19),\"\",(IF('Xi,Yi'!AR17=\"\",\"\",(IF(('Xi,Yi'!AR17+AT17<DataInput!$B$20),\"\",(IF((('Xi,Yi'!AR17+AT17)>DataInput!$B$21),\"\",('Xi,Yi'!AQ17+AU17+AT17/SQRT(3))))))))))))))","v":""},{"$f":"IF(AQ17=\"\",\"\",(IF('Xi,Yi'!AR17=\"\",\"\",(IF(('Xi,Yi'!AR17+AT17<DataInput!$B$20),\"\",(IF((('Xi,Yi'!AR17+AT17)>DataInput!$B$21),\"\",('Xi,Yi'!AR17+AT17))))))))","v":""},{"$f":"IF(AQ17=\"\",\"\",IF(AR17=\"\",\"\",(DataInput!$B$4+(DataInput!$D$4-DataInput!$B$4)*RAND())))","v":""},{"$f":"DataInput!$B$16*RAND()","v":6.7069997336993152},{"$f":"DataInput!$B$15*RAND()","v":8.7407870980148807},{"$f":"(IF('Xi,Yi'!AV17=\"\",\"\",(IF((('Xi,Yi'!AV17+AZ17+AY17/SQRT(3))<DataInput!$B$18),\"\",(IF((('Xi,Yi'!AV17+AZ17+AY17/SQRT(3))>DataInput!$B$19),\"\",(IF('Xi,Yi'!AW17=\"\",\"\",(IF(('Xi,Yi'!AW17+AY17<DataInput!$B$20),\"\",(IF((('Xi,Yi'!AW17+AY17)>DataInput!$B$21),\"\",('Xi,Yi'!AV17+AZ17+AY17/SQRT(3))))))))))))))","v":""},{"$f":"IF(AV17=\"\",\"\",(IF('Xi,Yi'!AW17=\"\",\"\",(IF(('Xi,Yi'!AW17+AY17<DataInput!$B$20),\"\",(IF((('Xi,Yi'!AW17+AY17)>DataInput!$B$21),\"\",('Xi,Yi'!AW17+AY17))))))))","v":""},{"$f":"IF(AV17=\"\",\"\",IF(AW17=\"\",\"\",(DataInput!$B$4+(DataInput!$D$4-DataInput!$B$4)*RAND())))","v":""},{"$f":"DataInput!$B$16*RAND()","v":0.60335494748813379},{"$f":"DataInput!$B$15*RAND()","v":15.730065706994793},{"$f":"(IF('Xi,Yi'!BA17=\"\",\"\",(IF((('Xi,Yi'!BA17+BE17+BD17/SQRT(3))<DataInput!$B$18),\"\",(IF((('Xi,Yi'!BA17+BE17+BD17/SQRT(3))>DataInput!$B$19),\"\",(IF('Xi,Yi'!BB17=\"\",\"\",(IF(('Xi,Yi'!BB17+BD17<DataInput!$B$20),\"\",(IF((('Xi,Yi'!BB17+BD17)>DataInput!$B$21),\"\",('Xi,Yi'!BA17+BE17+BD17/SQRT(3))))))))))))))","v":""},{"$f":"IF(BA17=\"\",\"\",(IF('Xi,Yi'!BB17=\"\",\"\",(IF(('Xi,Yi'!BB17+BD17<DataInput!$B$20),\"\",(IF((('Xi,Yi'!BB17+BD17)>DataInput!$B$21),\"\",('Xi,Yi'!BB17+BD17))))))))","v":""},{"$f":"IF(BA17=\"\",\"\",IF(BB17=\"\",\"\",(DataInput!$B$4+(DataInput!$D$4-DataInput!$B$4)*RAND())))","v":""},{"$f":"DataInput!$B$16*RAND()","v":1.6194396362684942},{"$f":"DataInput!$B$15*RAND()","v":16.596988733076152}]
[null,null,{"$f":"(IF('Xi,Yi'!C18=\"\",\"\",(IF((('Xi,Yi'!C18+G18+F18/SQRT(3))<DataInput!$B$18),\"\",(IF((('Xi,Yi'!C18+G18+F18/SQRT(3))>DataInput!$B$19),\"\",(IF('Xi,Yi'!D18=\"\",\"\",(IF(('Xi,Yi'!D18+F18<DataInput!$B$20),\"\",(IF((('Xi,Yi'!D18+F18)>DataInput!$B$21),\"\",('Xi,Yi'!C18+G18+F18/SQRT(3))))))))))))))","v":78.903963982683933},{"$f":"IF(C18=\"\",\"\",(IF('Xi,Yi'!D18=\"\",\"\",(IF(('Xi,Yi'!D18+F18<DataInput!$B$20),\"\",(IF((('Xi,Yi'!D18+F18)>DataInput!$B$21),\"\",('Xi,Yi'!D18+F18))))))))","v":10.778503777238855},{"$f":"IF(C18=\"\",\"\",IF(D18=\"\",\"\",(DataInput!$B$4+(DataInput!$D$4-DataInput!$B$4)*RAND())))","v":8.5030641162807861},{"$f":"DataInput!$B$16*RAND()","v":6.6785037772388556},{"$f":"DataInput!$B$15*RAND()","v":1.0481280291111521},{"$f":"(IF('Xi,Yi'!H18=\"\",\"\",(IF((('Xi,Yi'!H18+L18+K18/SQRT(3))<DataInput!$B$18),\"\",(IF((('Xi,Yi'!H18+L18+K18/SQRT(3))>DataInput!$B$19),\"\",(IF('Xi,Yi'!I18=\"\",\"\",(IF(('Xi,Yi'!I18+K18<DataInput!$B$20),\"\",(IF((('Xi,Yi'!I18+K18)>DataInput!$B$21),\"\",('Xi,Yi'!H18+L18+K18/SQRT(3))))))))))))))","v":""},{"$f":"IF(H18=\"\",\"\",(IF('Xi,Yi'!I18=\"\",\"\",(IF(('Xi,Yi'!I18+K18<DataInput!$B$20),\"\",(IF((('Xi,Yi'!I18+K18)>DataInput!$B$21),\"\",('Xi,Yi'!I18+K18))))))))","v":""},{"$f":"IF(H18=\"\",\"\",IF(I18=\"\",\"\",(DataInput!$B$4+(DataInput!$D$4-DataInput!$B$4)*RAND())))","v":""},{"$f":"DataInput!$B$16*RAND()","v":2.1143044592077667},{"$f":"DataInput!$B$15*RAND()","v":17.464362804759272},{"$f":"(IF('Xi,Yi'!M18=\"\",\"\",(IF((('Xi,Yi'!M18+Q18+P18/SQRT(3))<DataInput!$B$18),\"\",(IF((('Xi,Yi'!M18+Q18+P18/SQRT(3))>DataInput!$B$19),\"\",(IF('Xi,Yi'!N18=\"\",\"\",(IF(('Xi,Yi'!N18+P18<DataInput!$B$20),\"\",(IF((('Xi,Yi'!N18+P18)>DataInput!$B$21),\"\",('Xi,Yi'!M18+Q18+P18/SQRT(3))))))))))))))","v":89.774836507652267},{"$f":"IF(M18=\"\",\"\",(IF('Xi,Yi'!N18=\"\",\"\",(IF(('Xi,Yi'!N18+P18<DataInput!$B$20),\"\",(IF((('Xi,Yi'!N18+P18)>DataInput!$B$21),\"\",('Xi,Yi'!N18+P18))))))))","v":45.868927018750803},{"$f":"IF(M18=\"\",\"\",IF(N18=\"\",\"\",(DataInput!$B$4+(DataInput!$D$4-DataInput!$B$4)*RAND())))","v":8.0584095427557845},{"$f":"DataInput!$B$16*RAND()","v":7.7689270187508006},{"$f":"DataInput!$B$15*RAND()","v":11.289444402061926},{"$f":"(IF('Xi,Yi'!R18=\"\",\"\",(IF((('Xi,Yi'!R18+V18+U18/SQRT(3))<DataInput!$B$18),\"\",(IF((('Xi,Yi'!R18+V18+U18/SQRT(3))>DataInput!$B$19),\"\",(IF('Xi,Yi'!S18=\"\",\"\",(IF(('Xi,Yi'!S18+U18<DataInput!$B$20),\"\",(IF((('Xi,Yi'!S18+U18)>DataInput!$B$21),\"\",('Xi,Yi'!R18+V18+U18/SQRT(3))))))))))))))","v":""},{"$f":"IF(R18=\"\",\"\",(IF('Xi,Yi'!S18=\"\",\"\",(IF(('Xi,Yi'!S18+U18<DataInput!$B$20),\"\",(IF((('Xi,Yi'!S18+U18)>DataInput!$B$21),\"\",('Xi,Yi'!S18+U18))))))))","v":""},{"$f":"IF(R18=\"\",\"\",IF(S18=\"\",\"\",(DataInput!$B$4+(DataInput!$D$4-DataInput!$B$4)*RAND())))","v":""},{"$f":"DataInput!$B$16*RAND()","v":3.0981026059551047},{"$f":"DataInput!$B$15*RAND()","v":19.149787180352668},{"$f":"(IF('Xi,Yi'!W18=\"\",\"\",(IF((('Xi,Yi'!W18+AA18+Z18/SQRT(3))<DataInput!$B$18),\"\",(IF((('Xi,Yi'!W18+AA18+Z18/SQRT(3))>DataInput!$B$19),\"\",(IF('Xi,Yi'!X18=\"\",\"\",(IF(('Xi,Yi'!X18+Z18<DataInput!$B$20),\"\",(IF((('Xi,Yi'!X18+Z18)>DataInput!$B$21),\"\",('Xi,Yi'!W18+AA18+Z18/SQRT(3))))))))))))))","v":""},{"$f":"IF(W18=\"\",\"\",(IF('Xi,Yi'!X18=\"\",\"\",(IF(('Xi,Yi'!X18+Z18<DataInput!$B$20),\"\",(IF((('Xi,Yi'!X18+Z18)>DataInput!$B$21),\"\",('Xi,Yi'!X18+Z18))))))))","v":""},{"$f":"IF(W18=\"\",\"\",IF(X18=\"\",\"\",(DataInput!$B$4+(DataInput!$D$4-DataInput!$B$4)*RAND())))","v":""},{"$f":"DataInput!$B$16*RAND()","v":1.7449524114805977},{"$f":"DataInput!$B$15*RAND()","v":17.8217389534388},{"$f":"(IF('Xi,Yi'!AB18=\"\",\"\",(IF((('Xi,Yi'!AB18+AF18+AE18/SQRT(3))<DataInput!$B$18),\"\",(IF((('Xi,Yi'!AB18+AF18+AE18/SQRT(3))>DataInput!$B$19),\"\",(IF('Xi,Yi'!AC18=\"\",\"\",(IF(('Xi,Yi'!AC18+AE18<DataInput!$B$20),\"\",(IF((('Xi,Yi'!AC18+AE18)>DataInput!$B$21),\"\",('Xi,Yi'!AB18+AF18+AE18/SQRT(3))))))))))))))","v":""},{"$f":"IF(AB18=\"\",\"\",(IF('Xi,Yi'!AC18=\"\",\"\",(IF(('Xi,Yi'!AC18+AE18<DataInput!$B$20),\"\",(IF((('Xi,Yi'!AC18+AE18)>DataInput!$B$21),\"\",('Xi,Yi'!AC18+AE18))))))))","v":""},{"$f":"IF(AB18=\"\",\"\",IF(AC18=\"\",\"\",(DataInput!$B$4+(DataInput!$D$4-DataInput!$B$4)*RAND())))","v":""},{"$f":"DataInput!$B$16*RAND()","v":5.3964689532160586},{"$f":"DataInput!$B$15*RAND()","v":7.834204970651685},{"$f":"(IF('Xi,Yi'!AG18=\"\",\"\",(IF((('Xi,Yi'!AG18+AK18+AJ18/SQRT(3))<DataInput!$B$18),\"\",(IF((('Xi,Yi'!AG18+AK18+AJ18/SQRT(3))>DataInput!$B$19),\"\",(IF('Xi,Yi'!AH18=\"\",\"\",(IF(('Xi,Yi'!AH18+AJ18<DataInput!$B$20),\"\",(IF((('Xi,Yi'!AH18+AJ18)>DataInput!$B$21),\"\",('Xi,Yi'!AG18+AK18+AJ18/SQRT(3))))))))))))))","v":""},{"$f":"IF(AG18=\"\",\"\",(IF('Xi,Yi'!AH18=\"\",\"\",(IF(('Xi,Yi'!AH18+AJ18<DataInput!$B$20),\"\",(IF((('Xi,Yi'!AH18+AJ18)>DataInput!$B$21),\"\",('Xi,Yi'!AH18+AJ18))))))))","v":""},{"$f":"IF(AG18=\"\",\"\",IF(AH18=\"\",\"\",(DataInput!$B$4+(DataInput!$D$4-DataInput!$B$4)*RAND())))","v":""},{"$f":"DataInput!$B$16*RAND()","v":15.304525347662866},{"$f":"DataInput!$B$15*RAND()","v":18.792102635390215},{"$f":"(IF('Xi,Yi'!AL18=\"\",\"\",(IF((('Xi,Yi'!AL18+AP18+AO18/SQRT(3))<DataInput!$B$18),\"\",(IF((('Xi,Yi'!AL18+AP18+AO18/SQRT(3))>DataInput!$B$19),\"\",(IF('Xi,Yi'!AM18=\"\",\"\",(IF(('Xi,Yi'!AM18+AO18<DataInput!$B$20),\"\",(IF((('Xi,Yi'!AM18+AO18)>DataInput!$B$21),\"\",('Xi,Yi'!AL18+AP18+AO18/SQRT(3))))))))))))))","v":""},{"$f":"IF(AL18=\"\",\"\",(IF('Xi,Yi'!AM18=\"\",\"\",(IF(('Xi,Yi'!AM18+AO18<DataInput!$B$20),\"\",(IF((('Xi,Yi'!AM18+AO18)>DataInput!$B$21),\"\",('Xi,Yi'!AM18+AO18))))))))","v":""},{"$f":"IF(AL18=\"\",\"\",IF(AM18=\"\",\"\",(DataInput!$B$4+(DataInput!$D$4-DataInput!$B$4)*RAND())))","v":""},{"$f":"DataInput!$B$16*RAND()","v":11.826352631695936},{"$f":"DataInput!$B$15*RAND()","v":0.58160342562312772},{"$f":"(IF('Xi,Yi'!AQ18=\"\",\"\",(IF((('Xi,Yi'!AQ18+AU18+AT18/SQRT(3))<DataInput!$B$18),\"\",(IF((('Xi,Yi'!AQ18+AU18+AT18/SQRT(3))>DataInput!$B$19),\"\",(IF('Xi,Yi'!AR18=\"\",\"\",(IF(('Xi,Yi'!AR18+AT18<DataInput!$B$20),\"\",(IF((('Xi,Yi'!AR18+AT18)>DataInput!$B$21),\"\",('Xi,Yi'!AQ18+AU18+AT18/SQRT(3))))))))))))))","v":""},{"$f":"IF(AQ18=\"\",\"\",(IF('Xi,Yi'!AR18=\"\",\"\",(IF(('Xi,Yi'!AR18+AT18<DataInput!$B$20),\"\",(IF((('Xi,Yi'!AR18+AT18)>DataInput!$B$21),\"\",('Xi,Yi'!AR18+AT18))))))))","v":""},{"$f":"IF(AQ18=\"\",\"\",IF(AR18=\"\",\"\",(DataInput!$B$4+(DataInput!$D$4-DataInput!$B$4)*RAND())))","v":""},{"$f":"DataInput!$B$16*RAND()","v":11.519444992508417},{"$f":"DataInput!$B$15*RAND()","v":5.2767891453980127},{"$f":"(IF('Xi,Yi'!AV18=\"\",\"\",(IF((('Xi,Yi'!AV18+AZ18+AY18/SQRT(3))<DataInput!$B$18),\"\",(IF((('Xi,Yi'!AV18+AZ18+AY18/SQRT(3))>DataInput!$B$19),\"\",(IF('Xi,Yi'!AW18=\"\",\"\",(IF(('Xi,Yi'!AW18+AY18<DataInput!$B$20),\"\",(IF((('Xi,Yi'!AW18+AY18)>DataInput!$B$21),\"\",('Xi,Yi'!AV18+AZ18+AY18/SQRT(3))))))))))))))","v":""},{"$f":"IF(AV18=\"\",\"\",(IF('Xi,Yi'!AW18=\"\",\"\",(IF(('Xi,Yi'!AW18+AY18<DataInput!$B$20),\"\",(IF((('Xi,Yi'!AW18+AY18)>DataInput!$B$21),\"\",('Xi,Yi'!AW18+AY18))))))))","v":""},{"$f":"IF(AV18=\"\",\"\",IF(AW18=\"\",\"\",(DataInput!$B$4+(DataInput!$D$4-DataInput!$B$4)*RAND())))","v":""},{"$f":"DataInput!$B$16*RAND()","v":13.700244772125359},{"$f":"DataInput!$B$15*RAND()","v":9.2571906899953351},{"$f":"(IF('Xi,Yi'!BA18=\"\",\"\",(IF((('Xi,Yi'!BA18+BE18+BD18/SQRT(3))<DataInput!$B$18),\"\",(IF((('Xi,Yi'!BA18+BE18+BD18/SQRT(3))>DataInput!$B$19),\"\",(IF('Xi,Yi'!BB18=\"\",\"\",(IF(('Xi,Yi'!BB18+BD18<DataInput!$B$20),\"\",(IF((('Xi,Yi'!BB18+BD18)>DataInput!$B$21),\"\",('Xi,Yi'!BA18+BE18+BD18/SQRT(3))))))))))))))","v":""},{"$f":"IF(BA18=\"\",\"\",(IF('Xi,Yi'!BB18=\"\",\"\",(IF(('Xi,Yi'!BB18+BD18<DataInput!$B$20),\"\",(IF((('Xi,Yi'!BB18+BD18)>DataInput!$B$21),\"\",('Xi,Yi'!BB18+BD18))))))))","v":""},{"$f":"IF(BA18=\"\",\"\",IF(BB18=\"\",\"\",(DataInput!$B$4+(DataInput!$D$4-DataInput!$B$4)*RAND())))","v":""},{"$f":"DataInput!$B$16*RAND()","v":4.9415287930129868},{"$f":"DataInput!$B$15*RAND()","v":15.66676394439782}]
[null,null,{"$f":"(IF('Xi,Yi'!C19=\"\",\"\",(IF((('Xi,Yi'!C19+G19+F19/SQRT(3))<DataInput!$B$18),\"\",(IF((('Xi,Yi'!C19+G19+F19/SQRT(3))>DataInput!$B$19),\"\",(IF('Xi,Yi'!D19=\"\",\"\",(IF(('Xi,Yi'!D19+F19<DataInput!$B$20),\"\",(IF((('Xi,Yi'!D19+F19)>DataInput!$B$21),\"\",('Xi,Yi'!C19+G19+F19/SQRT(3))))))))))))))","v":""},{"$f":"IF(C19=\"\",\"\",(IF('Xi,Yi'!D19=\"\",\"\",(IF(('Xi,Yi'!D19+F19<DataInput!$B$20),\"\",(IF((('Xi,Yi'!D19+F19)>DataInput!$B$21),\"\",('Xi,Yi'!D19+F19))))))))","v":""},{"$f":"IF(C19=\"\",\"\",IF(D19=\"\",\"\",(DataInput!$B$4+(DataInput!$D$4-DataInput!$B$4)*RAND())))","v":""},{"$f":"DataInput!$B$16*RAND()","v":4.146567138878777},{"$f":"DataInput!$B$15*RAND()","v":19.592922159033499},{"$f":"(IF('Xi,Yi'!H19=\"\",\"\",(IF((('Xi,Yi'!H19+L19+K19/SQRT(3))<DataInput!$B$18),\"\",(IF((('Xi,Yi'!H19+L19+K19/SQRT(3))>DataInput!$B$19),\"\",(IF('Xi,Yi'!I19=\"\",\"\",(IF(('Xi,Yi'!I19+K19<DataInput!$B$20),\"\",(IF((('Xi,Yi'!I19+K19)>DataInput!$B$21),\"\",('Xi,Yi'!H19+L19+K19/SQRT(3))))))))))))))","v":""},{"$f":"IF(H19=\"\",\"\",(IF('Xi,Yi'!I19=\"\",\"\",(IF(('Xi,Yi'!I19+K19<DataInput!$B$20),\"\",(IF((('Xi,Yi'!I19+K19)>DataInput!$B$21),\"\",('Xi,Yi'!I19+K19))))))))","v":""},{"$f":"IF(H19=\"\",\"\",IF(I19=\"\",\"\",(DataInput!$B$4+(DataInput!$D$4-DataInput!$B$4)*RAND())))","v":""},{"$f":"DataInput!$B$16*RAND()","v":16.670037226736273},{"$f":"DataInput!$B$15*RAND()","v":5.9858552207479789},{"$f":"(IF('Xi,Yi'!M19=\"\",\"\",(IF((('Xi,Yi'!M19+Q19+P19/SQRT(3))<DataInput!$B$18),\"\",(IF((('Xi,Yi'!M19+Q19+P19/SQRT(3))>DataInput!$B$19),\"\",(IF('Xi,Yi'!N19=\"\",\"\",(IF(('Xi,Yi'!N19+P19<DataInput!$B$20),\"\",(IF((('Xi,Yi'!N19+P19)>DataInput!$B$21),\"\",('Xi,Yi'!M19+Q19+P19/SQRT(3))))))))))))))","v":""},{"$f":"IF(M19=\"\",\"\",(IF('Xi,Yi'!N19=\"\",\"\",(IF(('Xi,Yi'!N19+P19<DataInput!$B$20),\"\",(IF((('Xi,Yi'!N19+P19)>DataInput!$B$21),\"\",('Xi,Yi'!N19+P19))))))))","v":""},{"$f":"IF(M19=\"\",\"\",IF(N19=\"\",\"\",(DataInput!$B$4+(DataInput!$D$4-DataInput!$B$4)*RAND())))","v":""},{"$f":"DataInput!$B$16*RAND()","v":11.740943149528306},{"$f":"DataInput!$B$15*RAND()","v":0.2023130974109357},{"$f":"(IF('Xi,Yi'!R19=\"\",\"\",(IF((('Xi,Yi'!R19+V19+U19/SQRT(3))<DataInput!$B$18),\"\",(IF((('Xi,Yi'!R19+V19+U19/SQRT(3))>DataInput!$B$19),\"\",(IF('Xi,Yi'!S19=\"\",\"\",(IF(('Xi,Yi'!S19+U19<DataInput!$B$20),\"\",(IF((('Xi,Yi'!S19+U19)>DataInput!$B$21),\"\",('Xi,Yi'!R19+V19+U19/SQRT(3))))))))))))))","v":""},{"$f":"IF(R19=\"\",\"\",(IF('Xi,Yi'!S19=\"\",\"\",(IF(('Xi,Yi'!S19+U19<DataInput!$B$20),\"\",(IF((('Xi,Yi'!S19+U19)>DataInput!$B$21),\"\",('Xi,Yi'!S19+U19))))))))","v":""},{"$f":"IF(R19=\"\",\"\",IF(S19=\"\",\"\",(DataInput!$B$4+(DataInput!$D$4-DataInput!$B$4)*RAND())))","v":""},{"$f":"DataInput!$B$16*RAND()","v":5.38087078860256},{"$f":"DataInput!$B$15*RAND()","v":14.524702926008898},{"$f":"(IF('Xi,Yi'!W19=\"\",\"\",(IF((('Xi,Yi'!W19+AA19+Z19/SQRT(3))<DataInput!$B$18),\"\",(IF((('Xi,Yi'!W19+AA19+Z19/SQRT(3))>DataInput!$B$19),\"\",(IF('Xi,Yi'!X19=\"\",\"\",(IF(('Xi,Yi'!X19+Z19<DataInput!$B$20),\"\",(IF((('Xi,Yi'!X19+Z19)>DataInput!$B$21),\"\",('Xi,Yi'!W19+AA19+Z19/SQRT(3))))))))))))))","v":""},{"$f":"IF(W19=\"\",\"\",(IF('Xi,Yi'!X19=\"\",\"\",(IF(('Xi,Yi'!X19+Z19<DataInput!$B$20),\"\",(IF((('Xi,Yi'!X19+Z19)>DataInput!$B$21),\"\",('Xi,Yi'!X19+Z19))))))))","v":""},{"$f":"IF(W19=\"\",\"\",IF(X19=\"\",\"\",(DataInput!$B$4+(DataInput!$D$4-DataInput!$B$4)*RAND())))","v":""},{"$f":"DataInput!$B$16*RAND()","v":16.462249954055693},{"$f":"DataInput!$B$15*RAND()","v":6.2499287949806783},{"$f":"(IF('Xi,Yi'!AB19=\"\",\"\",(IF((('Xi,Yi'!AB19+AF19+AE19/SQRT(3))<DataInput!$B$18),\"\",(IF((('Xi,Yi'!AB19+AF19+AE19/SQRT(3))>DataInput!$B$19),\"\",(IF('Xi,Yi'!AC19=\"\",\"\",(IF(('Xi,Yi'!AC19+AE19<DataInput!$B$20),\"\",(IF((('Xi,Yi'!AC19+AE19)>DataInput!$B$21),\"\",('Xi,Yi'!AB19+AF19+AE19/SQRT(3))))))))))))))","v":""},{"$f":"IF(AB19=\"\",\"\",(IF('Xi,Yi'!AC19=\"\",\"\",(IF(('Xi,Yi'!AC19+AE19<DataInput!$B$20),\"\",(IF((('Xi,Yi'!AC19+AE19)>DataInput!$B$21),\"\",('Xi,Yi'!AC19+AE19))))))))","v":""},{"$f":"IF(AB19=\"\",\"\",IF(AC19=\"\",\"\",(DataInput!$B$4+(DataInput!$D$4-DataInput!$B$4)*RAND())))","v":""},{"$f":"DataInput!$B$16*RAND()","v":8.3340686460685944},{"$f":"DataInput!$B$15*RAND()","v":14.911487382057517},{"$f":"(IF('Xi,Yi'!AG19=\"\",\"\",(IF((('Xi,Yi'!AG19+AK19+AJ19/SQRT(3))<DataInput!$B$18),\"\",(IF((('Xi,Yi'!AG19+AK19+AJ19/SQRT(3))>DataInput!$B$19),\"\",(IF('Xi,Yi'!AH19=\"\",\"\",(IF(('Xi,Yi'!AH19+AJ19<DataInput!$B$20),\"\",(IF((('Xi,Yi'!AH19+AJ19)>DataInput!$B$21),\"\",('Xi,Yi'!AG19+AK19+AJ19/SQRT(3))))))))))))))","v":""},{"$f":"IF(AG19=\"\",\"\",(IF('Xi,Yi'!AH19=\"\",\"\",(IF(('Xi,Yi'!AH19+AJ19<DataInput!$B$20),\"\",(IF((('Xi,Yi'!AH19+AJ19)>DataInput!$B$21),\"\",('Xi,Yi'!AH19+AJ19))))))))","v":""},{"$f":"IF(AG19=\"\",\"\",IF(AH19=\"\",\"\",(DataInput!$B$4+(DataInput!$D$4-DataInput!$B$4)*RAND())))","v":""},{"$f":"DataInput!$B$16*RAND()","v":16.034038903737127},{"$f":"DataInput!$B$15*RAND()","v":4.2701705056162051},{"$f":"(IF('Xi,Yi'!AL19=\"\",\"\",(IF((('Xi,Yi'!AL19+AP19+AO19/SQRT(3))<DataInput!$B$18),\"\",(IF((('Xi,Yi'!AL19+AP19+AO19/SQRT(3))>DataInput!$B$19),\"\",(IF('Xi,Yi'!AM19=\"\",\"\",(IF(('Xi,Yi'!AM19+AO19<DataInput!$B$20),\"\",(IF((('Xi,Yi'!AM19+AO19)>DataInput!$B$21),\"\",('Xi,Yi'!AL19+AP19+AO19/SQRT(3))))))))))))))","v":""},{"$f":"IF(AL19=\"\",\"\",(IF('Xi,Yi'!AM19=\"\",\"\",(IF(('Xi,Yi'!AM19+AO19<DataInput!$B$20),\"\",(IF((('Xi,Yi'!AM19+AO19)>DataInput!$B$21),\"\",('Xi,Yi'!AM19+AO19))))))))","v":""},{"$f":"IF(AL19=\"\",\"\",IF(AM19=\"\",\"\",(DataInput!$B$4+(DataInput!$D$4-DataInput!$B$4)*RAND())))","v":""},{"$f":"DataInput!$B$16*RAND()","v":6.4101537498565282},{"$f":"DataInput!$B$15*RAND()","v":7.0403650897071817},{"$f":"(IF('Xi,Yi'!AQ19=\"\",\"\",(IF((('Xi,Yi'!AQ19+AU19+AT19/SQRT(3))<DataInput!$B$18),\"\",(IF((('Xi,Yi'!AQ19+AU19+AT19/SQRT(3))>DataInput!$B$19),\"\",(IF('Xi,Yi'!AR19=\"\",\"\",(IF(('Xi,Yi'!AR19+AT19<DataInput!$B$20),\"\",(IF((('Xi,Yi'!AR19+AT19)>DataInput!$B$21),\"\",('Xi,Yi'!AQ19+AU19+AT19/SQRT(3))))))))))))))","v":""},{"$f":"IF(AQ19=\"\",\"\",(IF('Xi,Yi'!AR19=\"\",\"\",(IF(('Xi,Yi'!AR19+AT19<DataInput!$B$20),\"\",(IF((('Xi,Yi'!AR19+AT19)>DataInput!$B$21),\"\",('Xi,Yi'!AR19+AT19))))))))","v":""},{"$f":"IF(AQ19=\"\",\"\",IF(AR19=\"\",\"\",(DataInput!$B$4+(DataInput!$D$4-DataInput!$B$4)*RAND())))","v":""},{"$f":"DataInput!$B$16*RAND()","v":16.30659625812957},{"$f":"DataInput!$B$15*RAND()","v":19.267940875323138},{"$f":"(IF('Xi,Yi'!AV19=\"\",\"\",(IF((('Xi,Yi'!AV19+AZ19+AY19/SQRT(3))<DataInput!$B$18),\"\",(IF((('Xi,Yi'!AV19+AZ19+AY19/SQRT(3))>DataInput!$B$19),\"\",(IF('Xi,Yi'!AW19=\"\",\"\",(IF(('Xi,Yi'!AW19+AY19<DataInput!$B$20),\"\",(IF((('Xi,Yi'!AW19+AY19)>DataInput!$B$21),\"\",('Xi,Yi'!AV19+AZ19+AY19/SQRT(3))))))))))))))","v":""},{"$f":"IF(AV19=\"\",\"\",(IF('Xi,Yi'!AW19=\"\",\"\",(IF(('Xi,Yi'!AW19+AY19<DataInput!$B$20),\"\",(IF((('Xi,Yi'!AW19+AY19)>DataInput!$B$21),\"\",('Xi,Yi'!AW19+AY19))))))))","v":""},{"$f":"IF(AV19=\"\",\"\",IF(AW19=\"\",\"\",(DataInput!$B$4+(DataInput!$D$4-DataInput!$B$4)*RAND())))","v":""},{"$f":"DataInput!$B$16*RAND()","v":6.8127516426462771},{"$f":"DataInput!$B$15*RAND()","v":8.606550529961833},{"$f":"(IF('Xi,Yi'!BA19=\"\",\"\",(IF((('Xi,Yi'!BA19+BE19+BD19/SQRT(3))<DataInput!$B$18),\"\",(IF((('Xi,Yi'!BA19+BE19+BD19/SQRT(3))>DataInput!$B$19),\"\",(IF('Xi,Yi'!BB19=\"\",\"\",(IF(('Xi,Yi'!BB19+BD19<DataInput!$B$20),\"\",(IF((('Xi,Yi'!BB19+BD19)>DataInput!$B$21),\"\",('Xi,Yi'!BA19+BE19+BD19/SQRT(3))))))))))))))","v":""},{"$f":"IF(BA19=\"\",\"\",(IF('Xi,Yi'!BB19=\"\",\"\",(IF(('Xi,Yi'!BB19+BD19<DataInput!$B$20),\"\",(IF((('Xi,Yi'!BB19+BD19)>DataInput!$B$21),\"\",('Xi,Yi'!BB19+BD19))))))))","v":""},{"$f":"IF(BA19=\"\",\"\",IF(BB19=\"\",\"\",(DataInput!$B$4+(DataInput!$D$4-DataInput!$B$4)*RAND())))","v":""},{"$f":"DataInput!$B$16*RAND()","v":12.764207050386901},{"$f":"DataInput!$B$15*RAND()","v":4.5373995257003816}]
[null,null,{"$f":"(IF('Xi,Yi'!C20=\"\",\"\",(IF((('Xi,Yi'!C20+G20+F20/SQRT(3))<DataInput!$B$18),\"\",(IF((('Xi,Yi'!C20+G20+F20/SQRT(3))>DataInput!$B$19),\"\",(IF('Xi,Yi'!D20=\"\",\"\",(IF(('Xi,Yi'!D20+F20<DataInput!$B$20),\"\",(IF((('Xi,Yi'!D20+F20)>DataInput!$B$21),\"\",('Xi,Yi'!C20+G20+F20/SQRT(3))))))))))))))","v":""},{"$f":"IF(C20=\"\",\"\",(IF('Xi,Yi'!D20=\"\",\"\",(IF(('Xi,Yi'!D20+F20<DataInput!$B$20),\"\",(IF((('Xi,Yi'!D20+F20)>DataInput!$B$21),\"\",('Xi,Yi'!D20+F20))))))))","v":""},{"$f":"IF(C20=\"\",\"\",IF(D20=\"\",\"\",(DataInput!$B$4+(DataInput!$D$4-DataInput!$B$4)*RAND())))","v":""},{"$f":"DataInput!$B$16*RAND()","v":7.2213949381045972E-2},{"$f":"DataInput!$B$15*RAND()","v":2.1874670697065972},{"$f":"(IF('Xi,Yi'!H20=\"\",\"\",(IF((('Xi,Yi'!H20+L20+K20/SQRT(3))<DataInput!$B$18),\"\",(IF((('Xi,Yi'!H20+L20+K20/SQRT(3))>DataInput!$B$19),\"\",(IF('Xi,Yi'!I20=\"\",\"\",(IF(('Xi,Yi'!I20+K20<DataInput!$B$20),\"\",(IF((('Xi,Yi'!I20+K20)>DataInput!$B$21),\"\",('Xi,Yi'!H20+L20+K20/SQRT(3))))))))))))))","v":""},{"$f":"IF(H20=\"\",\"\",(IF('Xi,Yi'!I20=\"\",\"\",(IF(('Xi,Yi'!I20+K20<DataInput!$B$20),\"\",(IF((('Xi,Yi'!I20+K20)>DataInput!$B$21),\"\",('Xi,Yi'!I20+K20))))))))","v":""},{"$f":"IF(H20=\"\",\"\",IF(I20=\"\",\"\",(DataInput!$B$4+(DataInput!$D$4-DataInput!$B$4)*RAND())))","v":""},{"$f":"DataInput!$B$16*RAND()","v":12.896080448123183},{"$f":"DataInput!$B$15*RAND()","v":18.564160270073906},{"$f":"(IF('Xi,Yi'!M20=\"\",\"\",(IF((('Xi,Yi'!M20+Q20+P20/SQRT(3))<DataInput!$B$18),\"\",(IF((('Xi,Yi'!M20+Q20+P20/SQRT(3))>DataInput!$B$19),\"\",(IF('Xi,Yi'!N20=\"\",\"\",(IF(('Xi,Yi'!N20+P20<DataInput!$B$20),\"\",(IF((('Xi,Yi'!N20+P20)>DataInput!$B$21),\"\",('Xi,Yi'!M20+Q20+P20/SQRT(3))))))))))))))","v":""},{"$f":"IF(M20=\"\",\"\",(IF('Xi,Yi'!N20=\"\",\"\",(IF(('Xi,Yi'!N20+P20<DataInput!$B$20),\"\",(IF((('Xi,Yi'!N20+P20)>DataInput!$B$21),\"\",('Xi,Yi'!N20+P20))))))))","v":""},{"$f":"IF(M20=\"\",\"\",IF(N20=\"\",\"\",(DataInput!$B$4+(DataInput!$D$4-DataInput!$B$4)*RAND())))","v":""},{"$f":"DataInput!$B$16*RAND()","v":16.717077113172305},{"$f":"DataInput!$B$15*RAND()","v":3.2236851823427721},{"$f":"(IF('Xi,Yi'!R20=\"\",\"\",(IF((('Xi,Yi'!R20+V20+U20/SQRT(3))<DataInput!$B$18),\"\",(IF((('Xi,Yi'!R20+V20+U20/SQRT(3))>DataInput!$B$19),\"\",(IF('Xi,Yi'!S20=\"\",\"\",(IF(('Xi,Yi'!S20+U20<DataInput!$B$20),\"\",(IF((('Xi,Yi'!S20+U20)>DataInput!$B$21),\"\",('Xi,Yi'!R20+V20+U20/SQRT(3))))))))))))))","v":""},{"$f":"IF(R20=\"\",\"\",(IF('Xi,Yi'!S20=\"\",\"\",(IF(('Xi,Yi'!S20+U20<DataInput!$B$20),\"\",(IF((('Xi,Yi'!S20+U20)>DataInput!$B$21),\"\",('Xi,Yi'!S20+U20))))))))","v":""},{"$f":"IF(R20=\"\",\"\",IF(S20=\"\",\"\",(DataInput!$B$4+(DataInput!$D$4-DataInput!$B$4)*RAND())))","v":""},{"$f":"DataInput!$B$16*RAND()","v":0.93504460500471231},{"$f":"DataInput!$B$15*RAND()","v":1.7211200608570794},{"$f":"(IF('Xi,Yi'!W20=\"\",\"\",(IF((('Xi,Yi'!W20+AA20+Z20/SQRT(3))<DataInput!$B$18),\"\",(IF((('Xi,Yi'!W20+AA20+Z20/SQRT(3))>DataInput!$B$19),\"\",(IF('Xi,Yi'!X20=\"\",\"\",(IF(('Xi,Yi'!X20+Z20<DataInput!$B$20),\"\",(IF((('Xi,Yi'!X20+Z20)>DataInput!$B$21),\"\",('Xi,Yi'!W20+AA20+Z20/SQRT(3))))))))))))))","v":""},{"$f":"IF(W20=\"\",\"\",(IF('Xi,Yi'!X20=\"\",\"\",(IF(('Xi,Yi'!X20+Z20<DataInput!$B$20),\"\",(IF((('Xi,Yi'!X20+Z20)>DataInput!$B$21),\"\",('Xi,Yi'!X20+Z20))))))))","v":""},{"$f":"IF(W20=\"\",\"\",IF(X20=\"\",\"\",(DataInput!$B$4+(DataInput!$D$4-DataInput!$B$4)*RAND())))","v":""},{"$f":"DataInput!$B$16*RAND()","v":8.8458285608649359},{"$f":"DataInput!$B$15*RAND()","v":13.197825968010473},{"$f":"(IF('Xi,Yi'!AB20=\"\",\"\",(IF((('Xi,Yi'!AB20+AF20+AE20/SQRT(3))<DataInput!$B$18),\"\",(IF((('Xi,Yi'!AB20+AF20+AE20/SQRT(3))>DataInput!$B$19),\"\",(IF('Xi,Yi'!AC20=\"\",\"\",(IF(('Xi,Yi'!AC20+AE20<DataInput!$B$20),\"\",(IF((('Xi,Yi'!AC20+AE20)>DataInput!$B$21),\"\",('Xi,Yi'!AB20+AF20+AE20/SQRT(3))))))))))))))","v":""},{"$f":"IF(AB20=\"\",\"\",(IF('Xi,Yi'!AC20=\"\",\"\",(IF(('Xi,Yi'!AC20+AE20<DataInput!$B$20),\"\",(IF((('Xi,Yi'!AC20+AE20)>DataInput!$B$21),\"\",('Xi,Yi'!AC20+AE20))))))))","v":""},{"$f":"IF(AB20=\"\",\"\",IF(AC20=\"\",\"\",(DataInput!$B$4+(DataInput!$D$4-DataInput!$B$4)*RAND())))","v":""},{"$f":"DataInput!$B$16*RAND()","v":10.873083902080392},{"$f":"DataInput!$B$15*RAND()","v":15.077823294819712},{"$f":"(IF('Xi,Yi'!AG20=\"\",\"\",(IF((('Xi,Yi'!AG20+AK20+AJ20/SQRT(3))<DataInput!$B$18),\"\",(IF((('Xi,Yi'!AG20+AK20+AJ20/SQRT(3))>DataInput!$B$19),\"\",(IF('Xi,Yi'!AH20=\"\",\"\",(IF(('Xi,Yi'!AH20+AJ20<DataInput!$B$20),\"\",(IF((('Xi,Yi'!AH20+AJ20)>DataInput!$B$21),\"\",('Xi,Yi'!AG20+AK20+AJ20/SQRT(3))))))))))))))","v":""},{"$f":"IF(AG20=\"\",\"\",(IF('Xi,Yi'!AH20=\"\",\"\",(IF(('Xi,Yi'!AH20+AJ20<DataInput!$B$20),\"\",(IF((('Xi,Yi'!AH20+AJ20)>DataInput!$B$21),\"\",('Xi,Yi'!AH20+AJ20))))))))","v":""},{"$f":"IF(AG20=\"\",\"\",IF(AH20=\"\",\"\",(DataInput!$B$4+(DataInput!$D$4-DataInput!$B$4)*RAND())))","v":""},{"$f":"DataInput!$B$16*RAND()","v":6.2538115777268031},{"$f":"DataInput!$B$15*RAND()","v":10.10062987859555},{"$f":"(IF('Xi,Yi'!AL20=\"\",\"\",(IF((('Xi,Yi'!AL20+AP20+AO20/SQRT(3))<DataInput!$B$18),\"\",(IF((('Xi,Yi'!AL20+AP20+AO20/SQRT(3))>DataInput!$B$19),\"\",(IF('Xi,Yi'!AM20=\"\",\"\",(IF(('Xi,Yi'!AM20+AO20<DataInput!$B$20),\"\",(IF((('Xi,Yi'!AM20+AO20)>DataInput!$B$21),\"\",('Xi,Yi'!AL20+AP20+AO20/SQRT(3))))))))))))))","v":""},{"$f":"IF(AL20=\"\",\"\",(IF('Xi,Yi'!AM20=\"\",\"\",(IF(('Xi,Yi'!AM20+AO20<DataInput!$B$20),\"\",(IF((('Xi,Yi'!AM20+AO20)>DataInput!$B$21),\"\",('Xi,Yi'!AM20+AO20))))))))","v":""},{"$f":"IF(AL20=\"\",\"\",IF(AM20=\"\",\"\",(DataInput!$B$4+(DataInput!$D$4-DataInput!$B$4)*RAND())))","v":""},{"$f":"DataInput!$B$16*RAND()","v":11.505998145824485},{"$f":"DataInput!$B$15*RAND()","v":8.5676023435482698},{"$f":"(IF('Xi,Yi'!AQ20=\"\",\"\",(IF((('Xi,Yi'!AQ20+AU20+AT20/SQRT(3))<DataInput!$B$18),\"\",(IF((('Xi,Yi'!AQ20+AU20+AT20/SQRT(3))>DataInput!$B$19),\"\",(IF('Xi,Yi'!AR20=\"\",\"\",(IF(('Xi,Yi'!AR20+AT20<DataInput!$B$20),\"\",(IF((('Xi,Yi'!AR20+AT20)>DataInput!$B$21),\"\",('Xi,Yi'!AQ20+AU20+AT20/SQRT(3))))))))))))))","v":""},{"$f":"IF(AQ20=\"\",\"\",(IF('Xi,Yi'!AR20=\"\",\"\",(IF(('Xi,Yi'!AR20+AT20<DataInput!$B$20),\"\",(IF((('Xi,Yi'!AR20+AT20)>DataInput!$B$21),\"\",('Xi,Yi'!AR20+AT20))))))))","v":""},{"$f":"IF(AQ20=\"\",\"\",IF(AR20=\"\",\"\",(DataInput!$B$4+(DataInput!$D$4-DataInput!$B$4)*RAND())))","v":""},{"$f":"DataInput!$B$16*RAND()","v":16.454265619479497},{"$f":"DataInput!$B$15*RAND()","v":4.9013736386499893},{"$f":"(IF('Xi,Yi'!AV20=\"\",\"\",(IF((('Xi,Yi'!AV20+AZ20+AY20/SQRT(3))<DataInput!$B$18),\"\",(IF((('Xi,Yi'!AV20+AZ20+AY20/SQRT(3))>DataInput!$B$19),\"\",(IF('Xi,Yi'!AW20=\"\",\"\",(IF(('Xi,Yi'!AW20+AY20<DataInput!$B$20),\"\",(IF((('Xi,Yi'!AW20+AY20)>DataInput!$B$21),\"\",('Xi,Yi'!AV20+AZ20+AY20/SQRT(3))))))))))))))","v":""},{"$f":"IF(AV20=\"\",\"\",(IF('Xi,Yi'!AW20=\"\",\"\",(IF(('Xi,Yi'!AW20+AY20<DataInput!$B$20),\"\",(IF((('Xi,Yi'!AW20+AY20)>DataInput!$B$21),\"\",('Xi,Yi'!AW20+AY20))))))))","v":""},{"$f":"IF(AV20=\"\",\"\",IF(AW20=\"\",\"\",(DataInput!$B$4+(DataInput!$D$4-DataInput!$B$4)*RAND())))","v":""},{"$f":"DataInput!$B$16*RAND()","v":4.2079024187673228},{"$f":"DataInput!$B$15*RAND()","v":11.31022395098495},{"$f":"(IF('Xi,Yi'!BA20=\"\",\"\",(IF((('Xi,Yi'!BA20+BE20+BD20/SQRT(3))<DataInput!$B$18),\"\",(IF((('Xi,Yi'!BA20+BE20+BD20/SQRT(3))>DataInput!$B$19),\"\",(IF('Xi,Yi'!BB20=\"\",\"\",(IF(('Xi,Yi'!BB20+BD20<DataInput!$B$20),\"\",(IF((('Xi,Yi'!BB20+BD20)>DataInput!$B$21),\"\",('Xi,Yi'!BA20+BE20+BD20/SQRT(3))))))))))))))","v":""},{"$f":"IF(BA20=\"\",\"\",(IF('Xi,Yi'!BB20=\"\",\"\",(IF(('Xi,Yi'!BB20+BD20<DataInput!$B$20),\"\",(IF((('Xi,Yi'!BB20+BD20)>DataInput!$B$21),\"\",('Xi,Yi'!BB20+BD20))))))))","v":""},{"$f":"IF(BA20=\"\",\"\",IF(BB20=\"\",\"\",(DataInput!$B$4+(DataInput!$D$4-DataInput!$B$4)*RAND())))","v":""},{"$f":"DataInput!$B$16*RAND()","v":15.695340632512963},{"$f":"DataInput!$B$15*RAND()","v":12.591838454551732}]
[null,null,{"$f":"(IF('Xi,Yi'!C21=\"\",\"\",(IF((('Xi,Yi'!C21+G21+F21/SQRT(3))<DataInput!$B$18),\"\",(IF((('Xi,Yi'!C21+G21+F21/SQRT(3))>DataInput!$B$19),\"\",(IF('Xi,Yi'!D21=\"\",\"\",(IF(('Xi,Yi'!D21+F21<DataInput!$B$20),\"\",(IF((('Xi,Yi'!D21+F21)>DataInput!$B$21),\"\",('Xi,Yi'!C21+G21+F21/SQRT(3))))))))))))))","v":""},{"$f":"IF(C21=\"\",\"\",(IF('Xi,Yi'!D21=\"\",\"\",(IF(('Xi,Yi'!D21+F21<DataInput!$B$20),\"\",(IF((('Xi,Yi'!D21+F21)>DataInput!$B$21),\"\",('Xi,Yi'!D21+F21))))))))","v":""},{"$f":"IF(C21=\"\",\"\",IF(D21=\"\",\"\",(DataInput!$B$4+(DataInput!$D$4-DataInput!$B$4)*RAND())))","v":""},{"$f":"DataInput!$B$16*RAND()","v":1.7568460574043789},{"$f":"DataInput!$B$15*RAND()","v":13.775959762336404},{"$f":"(IF('Xi,Yi'!H21=\"\",\"\",(IF((('Xi,Yi'!H21+L21+K21/SQRT(3))<DataInput!$B$18),\"\",(IF((('Xi,Yi'!H21+L21+K21/SQRT(3))>DataInput!$B$19),\"\",(IF('Xi,Yi'!I21=\"\",\"\",(IF(('Xi,Yi'!I21+K21<DataInput!$B$20),\"\",(IF((('Xi,Yi'!I21+K21)>DataInput!$B$21),\"\",('Xi,Yi'!H21+L21+K21/SQRT(3))))))))))))))","v":""},{"$f":"IF(H21=\"\",\"\",(IF('Xi,Yi'!I21=\"\",\"\",(IF(('Xi,Yi'!I21+K21<DataInput!$B$20),\"\",(IF((('Xi,Yi'!I21+K21)>DataInput!$B$21),\"\",('Xi,Yi'!I21+K21))))))))","v":""},{"$f":"IF(H21=\"\",\"\",IF(I21=\"\",\"\",(DataInput!$B$4+(DataInput!$D$4-DataInput!$B$4)*RAND())))","v":""},{"$f":"DataInput!$B$16*RAND()","v":16.923777704408501},{"$f":"DataInput!$B$15*RAND()","v":8.2649329802896094},{"$f":"(IF('Xi,Yi'!M21=\"\",\"\",(IF((('Xi,Yi'!M21+Q21+P21/SQRT(3))<DataInput!$B$18),\"\",(IF((('Xi,Yi'!M21+Q21+P21/SQRT(3))>DataInput!$B$19),\"\",(IF('Xi,Yi'!N21=\"\",\"\",(IF(('Xi,Yi'!N21+P21<DataInput!$B$20),\"\",(IF((('Xi,Yi'!N21+P21)>DataInput!$B$21),\"\",('Xi,Yi'!M21+Q21+P21/SQRT(3))))))))))))))","v":""},{"$f":"IF(M21=\"\",\"\",(IF('Xi,Yi'!N21=\"\",\"\",(IF(('Xi,Yi'!N21+P21<DataInput!$B$20),\"\",(IF((('Xi,Yi'!N21+P21)>DataInput!$B$21),\"\",('Xi,Yi'!N21+P21))))))))","v":""},{"$f":"IF(M21=\"\",\"\",IF(N21=\"\",\"\",(DataInput!$B$4+(DataInput!$D$4-DataInput!$B$4)*RAND())))","v":""},{"$f":"DataInput!$B$16*RAND()","v":3.8288148065803416},{"$f":"DataInput!$B$15*RAND()","v":4.86997914252147},{"$f":"(IF('Xi,Yi'!R21=\"\",\"\",(IF((('Xi,Yi'!R21+V21+U21/SQRT(3))<DataInput!$B$18),\"\",(IF((('Xi,Yi'!R21+V21+U21/SQRT(3))>DataInput!$B$19),\"\",(IF('Xi,Yi'!S21=\"\",\"\",(IF(('Xi,Yi'!S21+U21<DataInput!$B$20),\"\",(IF((('Xi,Yi'!S21+U21)>DataInput!$B$21),\"\",('Xi,Yi'!R21+V21+U21/SQRT(3))))))))))))))","v":""},{"$f":"IF(R21=\"\",\"\",(IF('Xi,Yi'!S21=\"\",\"\",(IF(('Xi,Yi'!S21+U21<DataInput!$B$20),\"\",(IF((('Xi,Yi'!S21+U21)>DataInput!$B$21),\"\",('Xi,Yi'!S21+U21))))))))","v":""},{"$f":"IF(R21=\"\",\"\",IF(S21=\"\",\"\",(DataInput!$B$4+(DataInput!$D$4-DataInput!$B$4)*RAND())))","v":""},{"$f":"DataInput!$B$16*RAND()","v":11.429611778239503},{"$f":"DataInput!$B$15*RAND()","v":2.9639485066759259},{"$f":"(IF('Xi,Yi'!W21=\"\",\"\",(IF((('Xi,Yi'!W21+AA21+Z21/SQRT(3))<DataInput!$B$18),\"\",(IF((('Xi,Yi'!W21+AA21+Z21/SQRT(3))>DataInput!$B$19),\"\",(IF('Xi,Yi'!X21=\"\",\"\",(IF(('Xi,Yi'!X21+Z21<DataInput!$B$20),\"\",(IF((('Xi,Yi'!X21+Z21)>DataInput!$B$21),\"\",('Xi,Yi'!W21+AA21+Z21/SQRT(3))))))))))))))","v":""},{"$f":"IF(W21=\"\",\"\",(IF('Xi,Yi'!X21=\"\",\"\",(IF(('Xi,Yi'!X21+Z21<DataInput!$B$20),\"\",(IF((('Xi,Yi'!X21+Z21)>DataInput!$B$21),\"\",('Xi,Yi'!X21+Z21))))))))","v":""},{"$f":"IF(W21=\"\",\"\",IF(X21=\"\",\"\",(DataInput!$B$4+(DataInput!$D$4-DataInput!$B$4)*RAND())))","v":""},{"$f":"DataInput!$B$16*RAND()","v":6.0031519406159664},{"$f":"DataInput!$B$15*RAND()","v":8.8596357768047014},{"$f":"(IF('Xi,Yi'!AB21=\"\",\"\",(IF((('Xi,Yi'!AB21+AF21+AE21/SQRT(3))<DataInput!$B$18),\"\",(IF((('Xi,Yi'!AB21+AF21+AE21/SQRT(3))>DataInput!$B$19),\"\",(IF('Xi,Yi'!AC21=\"\",\"\",(IF(('Xi,Yi'!AC21+AE21<DataInput!$B$20),\"\",(IF((('Xi,Yi'!AC21+AE21)>DataInput!$B$21),\"\",('Xi,Yi'!AB21+AF21+AE21/SQRT(3))))))))))))))","v":""},{"$f":"IF(AB21=\"\",\"\",(IF('Xi,Yi'!AC21=\"\",\"\",(IF(('Xi,Yi'!AC21+AE21<DataInput!$B$20),\"\",(IF((('Xi,Yi'!AC21+AE21)>DataInput!$B$21),\"\",('Xi,Yi'!AC21+AE21))))))))","v":""},{"$f":"IF(AB21=\"\",\"\",IF(AC21=\"\",\"\",(DataInput!$B$4+(DataInput!$D$4-DataInput!$B$4)*RAND())))","v":""},{"$f":"DataInput!$B$16*RAND()","v":10.613715234971584},{"$f":"DataInput!$B$15*RAND()","v":17.557929198533696},{"$f":"(IF('Xi,Yi'!AG21=\"\",\"\",(IF((('Xi,Yi'!AG21+AK21+AJ21/SQRT(3))<DataInput!$B$18),\"\",(IF((('Xi,Yi'!AG21+AK21+AJ21/SQRT(3))>DataInput!$B$19),\"\",(IF('Xi,Yi'!AH21=\"\",\"\",(IF(('Xi,Yi'!AH21+AJ21<DataInput!$B$20),\"\",(IF((('Xi,Yi'!AH21+AJ21)>DataInput!$B$21),\"\",('Xi,Yi'!AG21+AK21+AJ21/SQRT(3))))))))))))))","v":""},{"$f":"IF(AG21=\"\",\"\",(IF('Xi,Yi'!AH21=\"\",\"\",(IF(('Xi,Yi'!AH21+AJ21<DataInput!$B$20),\"\",(IF((('Xi,Yi'!AH21+AJ21)>DataInput!$B$21),\"\",('Xi,Yi'!AH21+AJ21))))))))","v":""},{"$f":"IF(AG21=\"\",\"\",IF(AH21=\"\",\"\",(DataInput!$B$4+(DataInput!$D$4-DataInput!$B$4)*RAND())))","v":""},{"$f":"DataInput!$B$16*RAND()","v":4.8738951686046317},{"$f":"DataInput!$B$15*RAND()","v":8.211441188162631},{"$f":"(IF('Xi,Yi'!AL21=\"\",\"\",(IF((('Xi,Yi'!AL21+AP21+AO21/SQRT(3))<DataInput!$B$18),\"\",(IF((('Xi,Yi'!AL21+AP21+AO21/SQRT(3))>DataInput!$B$19),\"\",(IF('Xi,Yi'!AM21=\"\",\"\",(IF(('Xi,Yi'!AM21+AO21<DataInput!$B$20),\"\",(IF((('Xi,Yi'!AM21+AO21)>DataInput!$B$21),\"\",('Xi,Yi'!AL21+AP21+AO21/SQRT(3))))))))))))))","v":""},{"$f":"IF(AL21=\"\",\"\",(IF('Xi,Yi'!AM21=\"\",\"\",(IF(('Xi,Yi'!AM21+AO21<DataInput!$B$20),\"\",(IF((('Xi,Yi'!AM21+AO21)>DataInput!$B$21),\"\",('Xi,Yi'!AM21+AO21))))))))","v":""},{"$f":"IF(AL21=\"\",\"\",IF(AM21=\"\",\"\",(DataInput!$B$4+(DataInput!$D$4-DataInput!$B$4)*RAND())))","v":""},{"$f":"DataInput!$B$16*RAND()","v":3.7255931344409072},{"$f":"DataInput!$B$15*RAND()","v":13.920281457582124},{"$f":"(IF('Xi,Yi'!AQ21=\"\",\"\",(IF((('Xi,Yi'!AQ21+AU21+AT21/SQRT(3))<DataInput!$B$18),\"\",(IF((('Xi,Yi'!AQ21+AU21+AT21/SQRT(3))>DataInput!$B$19),\"\",(IF('Xi,Yi'!AR21=\"\",\"\",(IF(('Xi,Yi'!AR21+AT21<DataInput!$B$20),\"\",(IF((('Xi,Yi'!AR21+AT21)>DataInput!$B$21),\"\",('Xi,Yi'!AQ21+AU21+AT21/SQRT(3))))))))))))))","v":""},{"$f":"IF(AQ21=\"\",\"\",(IF('Xi,Yi'!AR21=\"\",\"\",(IF(('Xi,Yi'!AR21+AT21<DataInput!$B$20),\"\",(IF((('Xi,Yi'!AR21+AT21)>DataInput!$B$21),\"\",('Xi,Yi'!AR21+AT21))))))))","v":""},{"$f":"IF(AQ21=\"\",\"\",IF(AR21=\"\",\"\",(DataInput!$B$4+(DataInput!$D$4-DataInput!$B$4)*RAND())))","v":""},{"$f":"DataInput!$B$16*RAND()","v":16.968289479904399},{"$f":"DataInput!$B$15*RAND()","v":4.4668222004340006},{"$f":"(IF('Xi,Yi'!AV21=\"\",\"\",(IF((('Xi,Yi'!AV21+AZ21+AY21/SQRT(3))<DataInput!$B$18),\"\",(IF((('Xi,Yi'!AV21+AZ21+AY21/SQRT(3))>DataInput!$B$19),\"\",(IF('Xi,Yi'!AW21=\"\",\"\",(IF(('Xi,Yi'!AW21+AY21<DataInput!$B$20),\"\",(IF((('Xi,Yi'!AW21+AY21)>DataInput!$B$21),\"\",('Xi,Yi'!AV21+AZ21+AY21/SQRT(3))))))))))))))","v":""},{"$f":"IF(AV21=\"\",\"\",(IF('Xi,Yi'!AW21=\"\",\"\",(IF(('Xi,Yi'!AW21+AY21<DataInput!$B$20),\"\",(IF((('Xi,Yi'!AW21+AY21)>DataInput!$B$21),\"\",('Xi,Yi'!AW21+AY21))))))))","v":""},{"$f":"IF(AV21=\"\",\"\",IF(AW21=\"\",\"\",(DataInput!$B$4+(DataInput!$D$4-DataInput!$B$4)*RAND())))","v":""},{"$f":"DataInput!$B$16*RAND()","v":0.15043035972123731},{"$f":"DataInput!$B$15*RAND()","v":10.931026019562312},{"$f":"(IF('Xi,Yi'!BA21=\"\",\"\",(IF((('Xi,Yi'!BA21+BE21+BD21/SQRT(3))<DataInput!$B$18),\"\",(IF((('Xi,Yi'!BA21+BE21+BD21/SQRT(3))>DataInput!$B$19),\"\",(IF('Xi,Yi'!BB21=\"\",\"\",(IF(('Xi,Yi'!BB21+BD21<DataInput!$B$20),\"\",(IF((('Xi,Yi'!BB21+BD21)>DataInput!$B$21),\"\",('Xi,Yi'!BA21+BE21+BD21/SQRT(3))))))))))))))","v":""},{"$f":"IF(BA21=\"\",\"\",(IF('Xi,Yi'!BB21=\"\",\"\",(IF(('Xi,Yi'!BB21+BD21<DataInput!$B$20),\"\",(IF((('Xi,Yi'!BB21+BD21)>DataInput!$B$21),\"\",('Xi,Yi'!BB21+BD21))))))))","v":""},{"$f":"IF(BA21=\"\",\"\",IF(BB21=\"\",\"\",(DataInput!$B$4+(DataInput!$D$4-DataInput!$B$4)*RAND())))","v":""},{"$f":"DataInput!$B$16*RAND()","v":14.668091316655538},{"$f":"DataInput!$B$15*RAND()","v":4.2796002196473637}]
[null,null,{"$f":"(IF('Xi,Yi'!C22=\"\",\"\",(IF((('Xi,Yi'!C22+G22+F22/SQRT(3))<DataInput!$B$18),\"\",(IF((('Xi,Yi'!C22+G22+F22/SQRT(3))>DataInput!$B$19),\"\",(IF('Xi,Yi'!D22=\"\",\"\",(IF(('Xi,Yi'!D22+F22<DataInput!$B$20),\"\",(IF((('Xi,Yi'!D22+F22)>DataInput!$B$21),\"\",('Xi,Yi'!C22+G22+F22/SQRT(3))))))))))))))","v":""},{"$f":"IF(C22=\"\",\"\",(IF('Xi,Yi'!D22=\"\",\"\",(IF(('Xi,Yi'!D22+F22<DataInput!$B$20),\"\",(IF((('Xi,Yi'!D22+F22)>DataInput!$B$21),\"\",('Xi,Yi'!D22+F22))))))))","v":""},{"$f":"IF(C22=\"\",\"\",IF(D22=\"\",\"\",(DataInput!$B$4+(DataInput!$D$4-DataInput!$B$4)*RAND())))","v":""},{"$f":"DataInput!$B$16*RAND()","v":13.732383218061807},{"$f":"DataInput!$B$15*RAND()","v":17.573248554219106},{"$f":"(IF('Xi,Yi'!H22=\"\",\"\",(IF((('Xi,Yi'!H22+L22+K22/SQRT(3))<DataInput!$B$18),\"\",(IF((('Xi,Yi'!H22+L22+K22/SQRT(3))>DataInput!$B$19),\"\",(IF('Xi,Yi'!I22=\"\",\"\",(IF(('Xi,Yi'!I22+K22<DataInput!$B$20),\"\",(IF((('Xi,Yi'!I22+K22)>DataInput!$B$21),\"\",('Xi,Yi'!H22+L22+K22/SQRT(3))))))))))))))","v":""},{"$f":"IF(H22=\"\",\"\",(IF('Xi,Yi'!I22=\"\",\"\",(IF(('Xi,Yi'!I22+K22<DataInput!$B$20),\"\",(IF((('Xi,Yi'!I22+K22)>DataInput!$B$21),\"\",('Xi,Yi'!I22+K22))))))))","v":""},{"$f":"IF(H22=\"\",\"\",IF(I22=\"\",\"\",(DataInput!$B$4+(DataInput!$D$4-DataInput!$B$4)*RAND())))","v":""},{"$f":"DataInput!$B$16*RAND()","v":8.3686923723039879},{"$f":"DataInput!$B$15*RAND()","v":16.175320847459435},{"$f":"(IF('Xi,Yi'!M22=\"\",\"\",(IF((('Xi,Yi'!M22+Q22+P22/SQRT(3))<DataInput!$B$18),\"\",(IF((('Xi,Yi'!M22+Q22+P22/SQRT(3))>DataInput!$B$19),\"\",(IF('Xi,Yi'!N22=\"\",\"\",(IF(('Xi,Yi'!N22+P22<DataInput!$B$20),\"\",(IF((('Xi,Yi'!N22+P22)>DataInput!$B$21),\"\",('Xi,Yi'!M22+Q22+P22/SQRT(3))))))))))))))","v":""},{"$f":"IF(M22=\"\",\"\",(IF('Xi,Yi'!N22=\"\",\"\",(IF(('Xi,Yi'!N22+P22<DataInput!$B$20),\"\",(IF((('Xi,Yi'!N22+P22)>DataInput!$B$21),\"\",('Xi,Yi'!N22+P22))))))))","v":""},{"$f":"IF(M22=\"\",\"\",IF(N22=\"\",\"\",(DataInput!$B$4+(DataInput!$D$4-DataInput!$B$4)*RAND())))","v":""},{"$f":"DataInput!$B$16*RAND()","v":14.848019192559713},{"$f":"DataInput!$B$15*RAND()","v":1.3202690005763753},{"$f":"(IF('Xi,Yi'!R22=\"\",\"\",(IF((('Xi,Yi'!R22+V22+U22/SQRT(3))<DataInput!$B$18),\"\",(IF((('Xi,Yi'!R22+V22+U22/SQRT(3))>DataInput!$B$19),\"\",(IF('Xi,Yi'!S22=\"\",\"\",(IF(('Xi,Yi'!S22+U22<DataInput!$B$20),\"\",(IF((('Xi,Yi'!S22+U22)>DataInput!$B$21),\"\",('Xi,Yi'!R22+V22+U22/SQRT(3))))))))))))))","v":""},{"$f":"IF(R22=\"\",\"\",(IF('Xi,Yi'!S22=\"\",\"\",(IF(('Xi,Yi'!S22+U22<DataInput!$B$20),\"\",(IF((('Xi,Yi'!S22+U22)>DataInput!$B$21),\"\",('Xi,Yi'!S22+U22))))))))","v":""},{"$f":"IF(R22=\"\",\"\",IF(S22=\"\",\"\",(DataInput!$B$4+(DataInput!$D$4-DataInput!$B$4)*RAND())))","v":""},{"$f":"DataInput!$B$16*RAND()","v":13.077879531223036},{"$f":"DataInput!$B$15*RAND()","v":7.8053544360455529},{"$f":"(IF('Xi,Yi'!W22=\"\",\"\",(IF((('Xi,Yi'!W22+AA22+Z22/SQRT(3))<DataInput!$B$18),\"\",(IF((('Xi,Yi'!W22+AA22+Z22/SQRT(3))>DataInput!$B$19),\"\",(IF('Xi,Yi'!X22=\"\",\"\",(IF(('Xi,Yi'!X22+Z22<DataInput!$B$20),\"\",(IF((('Xi,Yi'!X22+Z22)>DataInput!$B$21),\"\",('Xi,Yi'!W22+AA22+Z22/SQRT(3))))))))))))))","v":""},{"$f":"IF(W22=\"\",\"\",(IF('Xi,Yi'!X22=\"\",\"\",(IF(('Xi,Yi'!X22+Z22<DataInput!$B$20),\"\",(IF((('Xi,Yi'!X22+Z22)>DataInput!$B$21),\"\",('Xi,Yi'!X22+Z22))))))))","v":""},{"$f":"IF(W22=\"\",\"\",IF(X22=\"\",\"\",(DataInput!$B$4+(DataInput!$D$4-DataInput!$B$4)*RAND())))","v":""},{"$f":"DataInput!$B$16*RAND()","v":6.9901705725739127},{"$f":"DataInput!$B$15*RAND()","v":14.550439380324095},{"$f":"(IF('Xi,Yi'!AB22=\"\",\"\",(IF((('Xi,Yi'!AB22+AF22+AE22/SQRT(3))<DataInput!$B$18),\"\",(IF((('Xi,Yi'!AB22+AF22+AE22/SQRT(3))>DataInput!$B$19),\"\",(IF('Xi,Yi'!AC22=\"\",\"\",(IF(('Xi,Yi'!AC22+AE22<DataInput!$B$20),\"\",(IF((('Xi,Yi'!AC22+AE22)>DataInput!$B$21),\"\",('Xi,Yi'!AB22+AF22+AE22/SQRT(3))))))))))))))","v":""},{"$f":"IF(AB22=\"\",\"\",(IF('Xi,Yi'!AC22=\"\",\"\",(IF(('Xi,Yi'!AC22+AE22<DataInput!$B$20),\"\",(IF((('Xi,Yi'!AC22+AE22)>DataInput!$B$21),\"\",('Xi,Yi'!AC22+AE22))))))))","v":""},{"$f":"IF(AB22=\"\",\"\",IF(AC22=\"\",\"\",(DataInput!$B$4+(DataInput!$D$4-DataInput!$B$4)*RAND())))","v":""},{"$f":"DataInput!$B$16*RAND()","v":13.650617456397882},{"$f":"DataInput!$B$15*RAND()","v":0.58029868810536733},{"$f":"(IF('Xi,Yi'!AG22=\"\",\"\",(IF((('Xi,Yi'!AG22+AK22+AJ22/SQRT(3))<DataInput!$B$18),\"\",(IF((('Xi,Yi'!AG22+AK22+AJ22/SQRT(3))>DataInput!$B$19),\"\",(IF('Xi,Yi'!AH22=\"\",\"\",(IF(('Xi,Yi'!AH22+AJ22<DataInput!$B$20),\"\",(IF((('Xi,Yi'!AH22+AJ22)>DataInput!$B$21),\"\",('Xi,Yi'!AG22+AK22+AJ22/SQRT(3))))))))))))))","v":""},{"$f":"IF(AG22=\"\",\"\",(IF('Xi,Yi'!AH22=\"\",\"\",(IF(('Xi,Yi'!AH22+AJ22<DataInput!$B$20),\"\",(IF((('Xi,Yi'!AH22+AJ22)>DataInput!$B$21),\"\",('Xi,Yi'!AH22+AJ22))))))))","v":""},{"$f":"IF(AG22=\"\",\"\",IF(AH22=\"\",\"\",(DataInput!$B$4+(DataInput!$D$4-DataInput!$B$4)*RAND())))","v":""},{"$f":"DataInput!$B$16*RAND()","v":6.8052404484915296},{"$f":"DataInput!$B$15*RAND()","v":12.968809477280113},{"$f":"(IF('Xi,Yi'!AL22=\"\",\"\",(IF((('Xi,Yi'!AL22+AP22+AO22/SQRT(3))<DataInput!$B$18),\"\",(IF((('Xi,Yi'!AL22+AP22+AO22/SQRT(3))>DataInput!$B$19),\"\",(IF('Xi,Yi'!AM22=\"\",\"\",(IF(('Xi,Yi'!AM22+AO22<DataInput!$B$20),\"\",(IF((('Xi,Yi'!AM22+AO22)>DataInput!$B$21),\"\",('Xi,Yi'!AL22+AP22+AO22/SQRT(3))))))))))))))","v":""},{"$f":"IF(AL22=\"\",\"\",(IF('Xi,Yi'!AM22=\"\",\"\",(IF(('Xi,Yi'!AM22+AO22<DataInput!$B$20),\"\",(IF((('Xi,Yi'!AM22+AO22)>DataInput!$B$21),\"\",('Xi,Yi'!AM22+AO22))))))))","v":""},{"$f":"IF(AL22=\"\",\"\",IF(AM22=\"\",\"\",(DataInput!$B$4+(DataInput!$D$4-DataInput!$B$4)*RAND())))","v":""},{"$f":"DataInput!$B$16*RAND()","v":5.9583350258642653},{"$f":"DataInput!$B$15*RAND()","v":10.274129189839561},{"$f":"(IF('Xi,Yi'!AQ22=\"\",\"\",(IF((('Xi,Yi'!AQ22+AU22+AT22/SQRT(3))<DataInput!$B$18),\"\",(IF((('Xi,Yi'!AQ22+AU22+AT22/SQRT(3))>DataInput!$B$19),\"\",(IF('Xi,Yi'!AR22=\"\",\"\",(IF(('Xi,Yi'!AR22+AT22<DataInput!$B$20),\"\",(IF((('Xi,Yi'!AR22+AT22)>DataInput!$B$21),\"\",('Xi,Yi'!AQ22+AU22+AT22/SQRT(3))))))))))))))","v":""},{"$f":"IF(AQ22=\"\",\"\",(IF('Xi,Yi'!AR22=\"\",\"\",(IF(('Xi,Yi'!AR22+AT22<DataInput!$B$20),\"\",(IF((('Xi,Yi'!AR22+AT22)>DataInput!$B$21),\"\",('Xi,Yi'!AR22+AT22))))))))","v":""},{"$f":"IF(AQ22=\"\",\"\",IF(AR22=\"\",\"\",(DataInput!$B$4+(DataInput!$D$4-DataInput!$B$4)*RAND())))","v":""},{"$f":"DataInput!$B$16*RAND()","v":12.88880324206988},{"$f":"DataInput!$B$15*RAND()","v":8.2804027605113184},{"$f":"(IF('Xi,Yi'!AV22=\"\",\"\",(IF((('Xi,Yi'!AV22+AZ22+AY22/SQRT(3))<DataInput!$B$18),\"\",(IF((('Xi,Yi'!AV22+AZ22+AY22/SQRT(3))>DataInput!$B$19),\"\",(IF('Xi,Yi'!AW22=\"\",\"\",(IF(('Xi,Yi'!AW22+AY22<DataInput!$B$20),\"\",(IF((('Xi,Yi'!AW22+AY22)>DataInput!$B$21),\"\",('Xi,Yi'!AV22+AZ22+AY22/SQRT(3))))))))))))))","v":""},{"$f":"IF(AV22=\"\",\"\",(IF('Xi,Yi'!AW22=\"\",\"\",(IF(('Xi,Yi'!AW22+AY22<DataInput!$B$20),\"\",(IF((('Xi,Yi'!AW22+AY22)>DataInput!$B$21),\"\",('Xi,Yi'!AW22+AY22))))))))","v":""},{"$f":"IF(AV22=\"\",\"\",IF(AW22=\"\",\"\",(DataInput!$B$4+(DataInput!$D$4-DataInput!$B$4)*RAND())))","v":""},{"$f":"DataInput!$B$16*RAND()","v":9.6517655832477747},{"$f":"DataInput!$B$15*RAND()","v":6.6933563736012953},{"$f":"(IF('Xi,Yi'!BA22=\"\",\"\",(IF((('Xi,Yi'!BA22+BE22+BD22/SQRT(3))<DataInput!$B$18),\"\",(IF((('Xi,Yi'!BA22+BE22+BD22/SQRT(3))>DataInput!$B$19),\"\",(IF('Xi,Yi'!BB22=\"\",\"\",(IF(('Xi,Yi'!BB22+BD22<DataInput!$B$20),\"\",(IF((('Xi,Yi'!BB22+BD22)>DataInput!$B$21),\"\",('Xi,Yi'!BA22+BE22+BD22/SQRT(3))))))))))))))","v":""},{"$f":"IF(BA22=\"\",\"\",(IF('Xi,Yi'!BB22=\"\",\"\",(IF(('Xi,Yi'!BB22+BD22<DataInput!$B$20),\"\",(IF((('Xi,Yi'!BB22+BD22)>DataInput!$B$21),\"\",('Xi,Yi'!BB22+BD22))))))))","v":""},{"$f":"IF(BA22=\"\",\"\",IF(BB22=\"\",\"\",(DataInput!$B$4+(DataInput!$D$4-DataInput!$B$4)*RAND())))","v":""},{"$f":"DataInput!$B$16*RAND()","v":15.582585789595312},{"$f":"DataInput!$B$15*RAND()","v":16.595913943302723}]
[null,null,{"$f":"(IF('Xi,Yi'!C23=\"\",\"\",(IF((('Xi,Yi'!C23+G23+F23/SQRT(3))<DataInput!$B$18),\"\",(IF((('Xi,Yi'!C23+G23+F23/SQRT(3))>DataInput!$B$19),\"\",(IF('Xi,Yi'!D23=\"\",\"\",(IF(('Xi,Yi'!D23+F23<DataInput!$B$20),\"\",(IF((('Xi,Yi'!D23+F23)>DataInput!$B$21),\"\",('Xi,Yi'!C23+G23+F23/SQRT(3))))))))))))))","v":""},{"$f":"IF(C23=\"\",\"\",(IF('Xi,Yi'!D23=\"\",\"\",(IF(('Xi,Yi'!D23+F23<DataInput!$B$20),\"\",(IF((('Xi,Yi'!D23+F23)>DataInput!$B$21),\"\",('Xi,Yi'!D23+F23))))))))","v":""},{"$f":"IF(C23=\"\",\"\",IF(D23=\"\",\"\",(DataInput!$B$4+(DataInput!$D$4-DataInput!$B$4)*RAND())))","v":""},{"$f":"DataInput!$B$16*RAND()","v":2.9244467588690859},{"$f":"DataInput!$B$15*RAND()","v":9.3530667373381142},{"$f":"(IF('Xi,Yi'!H23=\"\",\"\",(IF((('Xi,Yi'!H23+L23+K23/SQRT(3))<DataInput!$B$18),\"\",(IF((('Xi,Yi'!H23+L23+K23/SQRT(3))>DataInput!$B$19),\"\",(IF('Xi,Yi'!I23=\"\",\"\",(IF(('Xi,Yi'!I23+K23<DataInput!$B$20),\"\",(IF((('Xi,Yi'!I23+K23)>DataInput!$B$21),\"\",('Xi,Yi'!H23+L23+K23/SQRT(3))))))))))))))","v":""},{"$f":"IF(H23=\"\",\"\",(IF('Xi,Yi'!I23=\"\",\"\",(IF(('Xi,Yi'!I23+K23<DataInput!$B$20),\"\",(IF((('Xi,Yi'!I23+K23)>DataInput!$B$21),\"\",('Xi,Yi'!I23+K23))))))))","v":""},{"$f":"IF(H23=\"\",\"\",IF(I23=\"\",\"\",(DataInput!$B$4+(DataInput!$D$4-DataInput!$B$4)*RAND())))","v":""},{"$f":"DataInput!$B$16*RAND()","v":15.69946871618882},{"$f":"DataInput!$B$15*RAND()","v":1.0386401331095751},{"$f":"(IF('Xi,Yi'!M23=\"\",\"\",(IF((('Xi,Yi'!M23+Q23+P23/SQRT(3))<DataInput!$B$18),\"\",(IF((('Xi,Yi'!M23+Q23+P23/SQRT(3))>DataInput!$B$19),\"\",(IF('Xi,Yi'!N23=\"\",\"\",(IF(('Xi,Yi'!N23+P23<DataInput!$B$20),\"\",(IF((('Xi,Yi'!N23+P23)>DataInput!$B$21),\"\",('Xi,Yi'!M23+Q23+P23/SQRT(3))))))))))))))","v":""},{"$f":"IF(M23=\"\",\"\",(IF('Xi,Yi'!N23=\"\",\"\",(IF(('Xi,Yi'!N23+P23<DataInput!$B$20),\"\",(IF((('Xi,Yi'!N23+P23)>DataInput!$B$21),\"\",('Xi,Yi'!N23+P23))))))))","v":""},{"$f":"IF(M23=\"\",\"\",IF(N23=\"\",\"\",(DataInput!$B$4+(DataInput!$D$4-DataInput!$B$4)*RAND())))","v":""},{"$f":"DataInput!$B$16*RAND()","v":4.5325843697418442},{"$f":"DataInput!$B$15*RAND()","v":18.683145660118068},{"$f":"(IF('Xi,Yi'!R23=\"\",\"\",(IF((('Xi,Yi'!R23+V23+U23/SQRT(3))<DataInput!$B$18),\"\",(IF((('Xi,Yi'!R23+V23+U23/SQRT(3))>DataInput!$B$19),\"\",(IF('Xi,Yi'!S23=\"\",\"\",(IF(('Xi,Yi'!S23+U23<DataInput!$B$20),\"\",(IF((('Xi,Yi'!S23+U23)>DataInput!$B$21),\"\",('Xi,Yi'!R23+V23+U23/SQRT(3))))))))))))))","v":""},{"$f":"IF(R23=\"\",\"\",(IF('Xi,Yi'!S23=\"\",\"\",(IF(('Xi,Yi'!S23+U23<DataInput!$B$20),\"\",(IF((('Xi,Yi'!S23+U23)>DataInput!$B$21),\"\",('Xi,Yi'!S23+U23))))))))","v":""},{"$f":"IF(R23=\"\",\"\",IF(S23=\"\",\"\",(DataInput!$B$4+(DataInput!$D$4-DataInput!$B$4)*RAND())))","v":""},{"$f":"DataInput!$B$16*RAND()","v":2.4334738332546717},{"$f":"DataInput!$B$15*RAND()","v":1.8866541828555603},{"$f":"(IF('Xi,Yi'!W23=\"\",\"\",(IF((('Xi,Yi'!W23+AA23+Z23/SQRT(3))<DataInput!$B$18),\"\",(IF((('Xi,Yi'!W23+AA23+Z23/SQRT(3))>DataInput!$B$19),\"\",(IF('Xi,Yi'!X23=\"\",\"\",(IF(('Xi,Yi'!X23+Z23<DataInput!$B$20),\"\",(IF((('Xi,Yi'!X23+Z23)>DataInput!$B$21),\"\",('Xi,Yi'!W23+AA23+Z23/SQRT(3))))))))))))))","v":""},{"$f":"IF(W23=\"\",\"\",(IF('Xi,Yi'!X23=\"\",\"\",(IF(('Xi,Yi'!X23+Z23<DataInput!$B$20),\"\",(IF((('Xi,Yi'!X23+Z23)>DataInput!$B$21),\"\",('Xi,Yi'!X23+Z23))))))))","v":""},{"$f":"IF(W23=\"\",\"\",IF(X23=\"\",\"\",(DataInput!$B$4+(DataInput!$D$4-DataInput!$B$4)*RAND())))","v":""},{"$f":"DataInput!$B$16*RAND()","v":10.98690373440358},{"$f":"DataInput!$B$15*RAND()","v":4.2240544053993352},{"$f":"(IF('Xi,Yi'!AB23=\"\",\"\",(IF((('Xi,Yi'!AB23+AF23+AE23/SQRT(3))<DataInput!$B$18),\"\",(IF((('Xi,Yi'!AB23+AF23+AE23/SQRT(3))>DataInput!$B$19),\"\",(IF('Xi,Yi'!AC23=\"\",\"\",(IF(('Xi,Yi'!AC23+AE23<DataInput!$B$20),\"\",(IF((('Xi,Yi'!AC23+AE23)>DataInput!$B$21),\"\",('Xi,Yi'!AB23+AF23+AE23/SQRT(3))))))))))))))","v":""},{"$f":"IF(AB23=\"\",\"\",(IF('Xi,Yi'!AC23=\"\",\"\",(IF(('Xi,Yi'!AC23+AE23<DataInput!$B$20),\"\",(IF((('Xi,Yi'!AC23+AE23)>DataInput!$B$21),\"\",('Xi,Yi'!AC23+AE23))))))))","v":""},{"$f":"IF(AB23=\"\",\"\",IF(AC23=\"\",\"\",(DataInput!$B$4+(DataInput!$D$4-DataInput!$B$4)*RAND())))","v":""},{"$f":"DataInput!$B$16*RAND()","v":5.8357988351809684},{"$f":"DataInput!$B$15*RAND()","v":3.1690500009797904},{"$f":"(IF('Xi,Yi'!AG23=\"\",\"\",(IF((('Xi,Yi'!AG23+AK23+AJ23/SQRT(3))<DataInput!$B$18),\"\",(IF((('Xi,Yi'!AG23+AK23+AJ23/SQRT(3))>DataInput!$B$19),\"\",(IF('Xi,Yi'!AH23=\"\",\"\",(IF(('Xi,Yi'!AH23+AJ23<DataInput!$B$20),\"\",(IF((('Xi,Yi'!AH23+AJ23)>DataInput!$B$21),\"\",('Xi,Yi'!AG23+AK23+AJ23/SQRT(3))))))))))))))","v":""},{"$f":"IF(AG23=\"\",\"\",(IF('Xi,Yi'!AH23=\"\",\"\",(IF(('Xi,Yi'!AH23+AJ23<DataInput!$B$20),\"\",(IF((('Xi,Yi'!AH23+AJ23)>DataInput!$B$21),\"\",('Xi,Yi'!AH23+AJ23))))))))","v":""},{"$f":"IF(AG23=\"\",\"\",IF(AH23=\"\",\"\",(DataInput!$B$4+(DataInput!$D$4-DataInput!$B$4)*RAND())))","v":""},{"$f":"DataInput!$B$16*RAND()","v":13.688427776267346},{"$f":"DataInput!$B$15*RAND()","v":5.9907302370470372},{"$f":"(IF('Xi,Yi'!AL23=\"\",\"\",(IF((('Xi,Yi'!AL23+AP23+AO23/SQRT(3))<DataInput!$B$18),\"\",(IF((('Xi,Yi'!AL23+AP23+AO23/SQRT(3))>DataInput!$B$19),\"\",(IF('Xi,Yi'!AM23=\"\",\"\",(IF(('Xi,Yi'!AM23+AO23<DataInput!$B$20),\"\",(IF((('Xi,Yi'!AM23+AO23)>DataInput!$B$21),\"\",('Xi,Yi'!AL23+AP23+AO23/SQRT(3))))))))))))))","v":""},{"$f":"IF(AL23=\"\",\"\",(IF('Xi,Yi'!AM23=\"\",\"\",(IF(('Xi,Yi'!AM23+AO23<DataInput!$B$20),\"\",(IF((('Xi,Yi'!AM23+AO23)>DataInput!$B$21),\"\",('Xi,Yi'!AM23+AO23))))))))","v":""},{"$f":"IF(AL23=\"\",\"\",IF(AM23=\"\",\"\",(DataInput!$B$4+(DataInput!$D$4-DataInput!$B$4)*RAND())))","v":""},{"$f":"DataInput!$B$16*RAND()","v":13.019856365060358},{"$f":"DataInput!$B$15*RAND()","v":7.7996780543594335},{"$f":"(IF('Xi,Yi'!AQ23=\"\",\"\",(IF((('Xi,Yi'!AQ23+AU23+AT23/SQRT(3))<DataInput!$B$18),\"\",(IF((('Xi,Yi'!AQ23+AU23+AT23/SQRT(3))>DataInput!$B$19),\"\",(IF('Xi,Yi'!AR23=\"\",\"\",(IF(('Xi,Yi'!AR23+AT23<DataInput!$B$20),\"\",(IF((('Xi,Yi'!AR23+AT23)>DataInput!$B$21),\"\",('Xi,Yi'!AQ23+AU23+AT23/SQRT(3))))))))))))))","v":""},{"$f":"IF(AQ23=\"\",\"\",(IF('Xi,Yi'!AR23=\"\",\"\",(IF(('Xi,Yi'!AR23+AT23<DataInput!$B$20),\"\",(IF((('Xi,Yi'!AR23+AT23)>DataInput!$B$21),\"\",('Xi,Yi'!AR23+AT23))))))))","v":""},{"$f":"IF(AQ23=\"\",\"\",IF(AR23=\"\",\"\",(DataInput!$B$4+(DataInput!$D$4-DataInput!$B$4)*RAND())))","v":""},{"$f":"DataInput!$B$16*RAND()","v":9.4993394978152477},{"$f":"DataInput!$B$15*RAND()","v":0.86424176739792014},{"$f":"(IF('Xi,Yi'!AV23=\"\",\"\",(IF((('Xi,Yi'!AV23+AZ23+AY23/SQRT(3))<DataInput!$B$18),\"\",(IF((('Xi,Yi'!AV23+AZ23+AY23/SQRT(3))>DataInput!$B$19),\"\",(IF('Xi,Yi'!AW23=\"\",\"\",(IF(('Xi,Yi'!AW23+AY23<DataInput!$B$20),\"\",(IF((('Xi,Yi'!AW23+AY23)>DataInput!$B$21),\"\",('Xi,Yi'!AV23+AZ23+AY23/SQRT(3))))))))))))))","v":""},{"$f":"IF(AV23=\"\",\"\",(IF('Xi,Yi'!AW23=\"\",\"\",(IF(('Xi,Yi'!AW23+AY23<DataInput!$B$20),\"\",(IF((('Xi,Yi'!AW23+AY23)>DataInput!$B$21),\"\",('Xi,Yi'!AW23+AY23))))))))","v":""},{"$f":"IF(AV23=\"\",\"\",IF(AW23=\"\",\"\",(DataInput!$B$4+(DataInput!$D$4-DataInput!$B$4)*RAND())))","v":""},{"$f":"DataInput!$B$16*RAND()","v":2.3152697888158031},{"$f":"DataInput!$B$15*RAND()","v":10.64944279543859},{"$f":"(IF('Xi,Yi'!BA23=\"\",\"\",(IF((('Xi,Yi'!BA23+BE23+BD23/SQRT(3))<DataInput!$B$18),\"\",(IF((('Xi,Yi'!BA23+BE23+BD23/SQRT(3))>DataInput!$B$19),\"\",(IF('Xi,Yi'!BB23=\"\",\"\",(IF(('Xi,Yi'!BB23+BD23<DataInput!$B$20),\"\",(IF((('Xi,Yi'!BB23+BD23)>DataInput!$B$21),\"\",('Xi,Yi'!BA23+BE23+BD23/SQRT(3))))))))))))))","v":""},{"$f":"IF(BA23=\"\",\"\",(IF('Xi,Yi'!BB23=\"\",\"\",(IF(('Xi,Yi'!BB23+BD23<DataInput!$B$20),\"\",(IF((('Xi,Yi'!BB23+BD23)>DataInput!$B$21),\"\",('Xi,Yi'!BB23+BD23))))))))","v":""},{"$f":"IF(BA23=\"\",\"\",IF(BB23=\"\",\"\",(DataInput!$B$4+(DataInput!$D$4-DataInput!$B$4)*RAND())))","v":""},{"$f":"DataInput!$B$16*RAND()","v":13.846046795089224},{"$f":"DataInput!$B$15*RAND()","v":6.6396747056911982}]
[null,null,{"$f":"(IF('Xi,Yi'!C24=\"\",\"\",(IF((('Xi,Yi'!C24+G24+F24/SQRT(3))<DataInput!$B$18),\"\",(IF((('Xi,Yi'!C24+G24+F24/SQRT(3))>DataInput!$B$19),\"\",(IF('Xi,Yi'!D24=\"\",\"\",(IF(('Xi,Yi'!D24+F24<DataInput!$B$20),\"\",(IF((('Xi,Yi'!D24+F24)>DataInput!$B$21),\"\",('Xi,Yi'!C24+G24+F24/SQRT(3))))))))))))))","v":""},{"$f":"IF(C24=\"\",\"\",(IF('Xi,Yi'!D24=\"\",\"\",(IF(('Xi,Yi'!D24+F24<DataInput!$B$20),\"\",(IF((('Xi,Yi'!D24+F24)>DataInput!$B$21),\"\",('Xi,Yi'!D24+F24))))))))","v":""},{"$f":"IF(C24=\"\",\"\",IF(D24=\"\",\"\",(DataInput!$B$4+(DataInput!$D$4-DataInput!$B$4)*RAND())))","v":""},{"$f":"DataInput!$B$16*RAND()","v":1.0696036871855448},{"$f":"DataInput!$B$15*RAND()","v":7.1273559469345109},{"$f":"(IF('Xi,Yi'!H24=\"\",\"\",(IF((('Xi,Yi'!H24+L24+K24/SQRT(3))<DataInput!$B$18),\"\",(IF((('Xi,Yi'!H24+L24+K24/SQRT(3))>DataInput!$B$19),\"\",(IF('Xi,Yi'!I24=\"\",\"\",(IF(('Xi,Yi'!I24+K24<DataInput!$B$20),\"\",(IF((('Xi,Yi'!I24+K24)>DataInput!$B$21),\"\",('Xi,Yi'!H24+L24+K24/SQRT(3))))))))))))))","v":""},{"$f":"IF(H24=\"\",\"\",(IF('Xi,Yi'!I24=\"\",\"\",(IF(('Xi,Yi'!I24+K24<DataInput!$B$20),\"\",(IF((('Xi,Yi'!I24+K24)>DataInput!$B$21),\"\",('Xi,Yi'!I24+K24))))))))","v":""},{"$f":"IF(H24=\"\",\"\",IF(I24=\"\",\"\",(DataInput!$B$4+(DataInput!$D$4-DataInput!$B$4)*RAND())))","v":""},{"$f":"DataInput!$B$16*RAND()","v":12.964713554293269},{"$f":"DataInput!$B$15*RAND()","v":6.5351195436464744},{"$f":"(IF('Xi,Yi'!M24=\"\",\"\",(IF((('Xi,Yi'!M24+Q24+P24/SQRT(3))<DataInput!$B$18),\"\",(IF((('Xi,Yi'!M24+Q24+P24/SQRT(3))>DataInput!$B$19),\"\",(IF('Xi,Yi'!N24=\"\",\"\",(IF(('Xi,Yi'!N24+P24<DataInput!$B$20),\"\",(IF((('Xi,Yi'!N24+P24)>DataInput!$B$21),\"\",('Xi,Yi'!M24+Q24+P24/SQRT(3))))))))))))))","v":""},{"$f":"IF(M24=\"\",\"\",(IF('Xi,Yi'!N24=\"\",\"\",(IF(('Xi,Yi'!N24+P24<DataInput!$B$20),\"\",(IF((('Xi,Yi'!N24+P24)>DataInput!$B$21),\"\",('Xi,Yi'!N24+P24))))))))","v":""},{"$f":"IF(M24=\"\",\"\",IF(N24=\"\",\"\",(DataInput!$B$4+(DataInput!$D$4-DataInput!$B$4)*RAND())))","v":""},{"$f":"DataInput!$B$16*RAND()","v":16.367709212470231},{"$f":"DataInput!$B$15*RAND()","v":14.630405571166044},{"$f":"(IF('Xi,Yi'!R24=\"\",\"\",(IF((('Xi,Yi'!R24+V24+U24/SQRT(3))<DataInput!$B$18),\"\",(IF((('Xi,Yi'!R24+V24+U24/SQRT(3))>DataInput!$B$19),\"\",(IF('Xi,Yi'!S24=\"\",\"\",(IF(('Xi,Yi'!S24+U24<DataInput!$B$20),\"\",(IF((('Xi,Yi'!S24+U24)>DataInput!$B$21),\"\",('Xi,Yi'!R24+V24+U24/SQRT(3))))))))))))))","v":""},{"$f":"IF(R24=\"\",\"\",(IF('Xi,Yi'!S24=\"\",\"\",(IF(('Xi,Yi'!S24+U24<DataInput!$B$20),\"\",(IF((('Xi,Yi'!S24+U24)>DataInput!$B$21),\"\",('Xi,Yi'!S24+U24))))))))","v":""},{"$f":"IF(R24=\"\",\"\",IF(S24=\"\",\"\",(DataInput!$B$4+(DataInput!$D$4-DataInput!$B$4)*RAND())))","v":""},{"$f":"DataInput!$B$16*RAND()","v":4.9348534551608365},{"$f":"DataInput!$B$15*RAND()","v":15.235259508354167},{"$f":"(IF('Xi,Yi'!W24=\"\",\"\",(IF((('Xi,Yi'!W24+AA24+Z24/SQRT(3))<DataInput!$B$18),\"\",(IF((('Xi,Yi'!W24+AA24+Z24/SQRT(3))>DataInput!$B$19),\"\",(IF('Xi,Yi'!X24=\"\",\"\",(IF(('Xi,Yi'!X24+Z24<DataInput!$B$20),\"\",(IF((('Xi,Yi'!X24+Z24)>DataInput!$B$21),\"\",('Xi,Yi'!W24+AA24+Z24/SQRT(3))))))))))))))","v":""},{"$f":"IF(W24=\"\",\"\",(IF('Xi,Yi'!X24=\"\",\"\",(IF(('Xi,Yi'!X24+Z24<DataInput!$B$20),\"\",(IF((('Xi,Yi'!X24+Z24)>DataInput!$B$21),\"\",('Xi,Yi'!X24+Z24))))))))","v":""},{"$f":"IF(W24=\"\",\"\",IF(X24=\"\",\"\",(DataInput!$B$4+(DataInput!$D$4-DataInput!$B$4)*RAND())))","v":""},{"$f":"DataInput!$B$16*RAND()","v":1.6696589662997194},{"$f":"DataInput!$B$15*RAND()","v":17.610351163762708},{"$f":"(IF('Xi,Yi'!AB24=\"\",\"\",(IF((('Xi,Yi'!AB24+AF24+AE24/SQRT(3))<DataInput!$B$18),\"\",(IF((('Xi,Yi'!AB24+AF24+AE24/SQRT(3))>DataInput!$B$19),\"\",(IF('Xi,Yi'!AC24=\"\",\"\",(IF(('Xi,Yi'!AC24+AE24<DataInput!$B$20),\"\",(IF((('Xi,Yi'!AC24+AE24)>DataInput!$B$21),\"\",('Xi,Yi'!AB24+AF24+AE24/SQRT(3))))))))))))))","v":""},{"$f":"IF(AB24=\"\",\"\",(IF('Xi,Yi'!AC24=\"\",\"\",(IF(('Xi,Yi'!AC24+AE24<DataInput!$B$20),\"\",(IF((('Xi,Yi'!AC24+AE24)>DataInput!$B$21),\"\",('Xi,Yi'!AC24+AE24))))))))","v":""},{"$f":"IF(AB24=\"\",\"\",IF(AC24=\"\",\"\",(DataInput!$B$4+(DataInput!$D$4-DataInput!$B$4)*RAND())))","v":""},{"$f":"DataInput!$B$16*RAND()","v":7.5605558198528122},{"$f":"DataInput!$B$15*RAND()","v":5.6421358923411713},{"$f":"(IF('Xi,Yi'!AG24=\"\",\"\",(IF((('Xi,Yi'!AG24+AK24+AJ24/SQRT(3))<DataInput!$B$18),\"\",(IF((('Xi,Yi'!AG24+AK24+AJ24/SQRT(3))>DataInput!$B$19),\"\",(IF('Xi,Yi'!AH24=\"\",\"\",(IF(('Xi,Yi'!AH24+AJ24<DataInput!$B$20),\"\",(IF((('Xi,Yi'!AH24+AJ24)>DataInput!$B$21),\"\",('Xi,Yi'!AG24+AK24+AJ24/SQRT(3))))))))))))))","v":""},{"$f":"IF(AG24=\"\",\"\",(IF('Xi,Yi'!AH24=\"\",\"\",(IF(('Xi,Yi'!AH24+AJ24<DataInput!$B$20),\"\",(IF((('Xi,Yi'!AH24+AJ24)>DataInput!$B$21),\"\",('Xi,Yi'!AH24+AJ24))))))))","v":""},{"$f":"IF(AG24=\"\",\"\",IF(AH24=\"\",\"\",(DataInput!$B$4+(DataInput!$D$4-DataInput!$B$4)*RAND())))","v":""},{"$f":"DataInput!$B$16*RAND()","v":3.814051987555052},{"$f":"DataInput!$B$15*RAND()","v":15.56111968180814},{"$f":"(IF('Xi,Yi'!AL24=\"\",\"\",(IF((('Xi,Yi'!AL24+AP24+AO24/SQRT(3))<DataInput!$B$18),\"\",(IF((('Xi,Yi'!AL24+AP24+AO24/SQRT(3))>DataInput!$B$19),\"\",(IF('Xi,Yi'!AM24=\"\",\"\",(IF(('Xi,Yi'!AM24+AO24<DataInput!$B$20),\"\",(IF((('Xi,Yi'!AM24+AO24)>DataInput!$B$21),\"\",('Xi,Yi'!AL24+AP24+AO24/SQRT(3))))))))))))))","v":""},{"$f":"IF(AL24=\"\",\"\",(IF('Xi,Yi'!AM24=\"\",\"\",(IF(('Xi,Yi'!AM24+AO24<DataInput!$B$20),\"\",(IF((('Xi,Yi'!AM24+AO24)>DataInput!$B$21),\"\",('Xi,Yi'!AM24+AO24))))))))","v":""},{"$f":"IF(AL24=\"\",\"\",IF(AM24=\"\",\"\",(DataInput!$B$4+(DataInput!$D$4-DataInput!$B$4)*RAND())))","v":""},{"$f":"DataInput!$B$16*RAND()","v":8.5865243857817539},{"$f":"DataInput!$B$15*RAND()","v":9.9875318511029541},{"$f":"(IF('Xi,Yi'!AQ24=\"\",\"\",(IF((('Xi,Yi'!AQ24+AU24+AT24/SQRT(3))<DataInput!$B$18),\"\",(IF((('Xi,Yi'!AQ24+AU24+AT24/SQRT(3))>DataInput!$B$19),\"\",(IF('Xi,Yi'!AR24=\"\",\"\",(IF(('Xi,Yi'!AR24+AT24<DataInput!$B$20),\"\",(IF((('Xi,Yi'!AR24+AT24)>DataInput!$B$21),\"\",('Xi,Yi'!AQ24+AU24+AT24/SQRT(3))))))))))))))","v":""},{"$f":"IF(AQ24=\"\",\"\",(IF('Xi,Yi'!AR24=\"\",\"\",(IF(('Xi,Yi'!AR24+AT24<DataInput!$B$20),\"\",(IF((('Xi,Yi'!AR24+AT24)>DataInput!$B$21),\"\",('Xi,Yi'!AR24+AT24))))))))","v":""},{"$f":"IF(AQ24=\"\",\"\",IF(AR24=\"\",\"\",(DataInput!$B$4+(DataInput!$D$4-DataInput!$B$4)*RAND())))","v":""},{"$f":"DataInput!$B$16*RAND()","v":5.1879127216588703},{"$f":"DataInput!$B$15*RAND()","v":9.1400392673961459},{"$f":"(IF('Xi,Yi'!AV24=\"\",\"\",(IF((('Xi,Yi'!AV24+AZ24+AY24/SQRT(3))<DataInput!$B$18),\"\",(IF((('Xi,Yi'!AV24+AZ24+AY24/SQRT(3))>DataInput!$B$19),\"\",(IF('Xi,Yi'!AW24=\"\",\"\",(IF(('Xi,Yi'!AW24+AY24<DataInput!$B$20),\"\",(IF((('Xi,Yi'!AW24+AY24)>DataInput!$B$21),\"\",('Xi,Yi'!AV24+AZ24+AY24/SQRT(3))))))))))))))","v":""},{"$f":"IF(AV24=\"\",\"\",(IF('Xi,Yi'!AW24=\"\",\"\",(IF(('Xi,Yi'!AW24+AY24<DataInput!$B$20),\"\",(IF((('Xi,Yi'!AW24+AY24)>DataInput!$B$21),\"\",('Xi,Yi'!AW24+AY24))))))))","v":""},{"$f":"IF(AV24=\"\",\"\",IF(AW24=\"\",\"\",(DataInput!$B$4+(DataInput!$D$4-DataInput!$B$4)*RAND())))","v":""},{"$f":"DataInput!$B$16*RAND()","v":11.713098233180599},{"$f":"DataInput!$B$15*RAND()","v":12.235836167253888},{"$f":"(IF('Xi,Yi'!BA24=\"\",\"\",(IF((('Xi,Yi'!BA24+BE24+BD24/SQRT(3))<DataInput!$B$18),\"\",(IF((('Xi,Yi'!BA24+BE24+BD24/SQRT(3))>DataInput!$B$19),\"\",(IF('Xi,Yi'!BB24=\"\",\"\",(IF(('Xi,Yi'!BB24+BD24<DataInput!$B$20),\"\",(IF((('Xi,Yi'!BB24+BD24)>DataInput!$B$21),\"\",('Xi,Yi'!BA24+BE24+BD24/SQRT(3))))))))))))))","v":""},{"$f":"IF(BA24=\"\",\"\",(IF('Xi,Yi'!BB24=\"\",\"\",(IF(('Xi,Yi'!BB24+BD24<DataInput!$B$20),\"\",(IF((('Xi,Yi'!BB24+BD24)>DataInput!$B$21),\"\",('Xi,Yi'!BB24+BD24))))))))","v":""},{"$f":"IF(BA24=\"\",\"\",IF(BB24=\"\",\"\",(DataInput!$B$4+(DataInput!$D$4-DataInput!$B$4)*RAND())))","v":""},{"$f":"DataInput!$B$16*RAND()","v":5.0710205974980207},{"$f":"DataInput!$B$15*RAND()","v":10.774425370699376}]
[null,null,{"$f":"(IF('Xi,Yi'!C25=\"\",\"\",(IF((('Xi,Yi'!C25+G25+F25/SQRT(3))<DataInput!$B$18),\"\",(IF((('Xi,Yi'!C25+G25+F25/SQRT(3))>DataInput!$B$19),\"\",(IF('Xi,Yi'!D25=\"\",\"\",(IF(('Xi,Yi'!D25+F25<DataInput!$B$20),\"\",(IF((('Xi,Yi'!D25+F25)>DataInput!$B$21),\"\",('Xi,Yi'!C25+G25+F25/SQRT(3))))))))))))))","v":""},{"$f":"IF(C25=\"\",\"\",(IF('Xi,Yi'!D25=\"\",\"\",(IF(('Xi,Yi'!D25+F25<DataInput!$B$20),\"\",(IF((('Xi,Yi'!D25+F25)>DataInput!$B$21),\"\",('Xi,Yi'!D25+F25))))))))","v":""},{"$f":"IF(C25=\"\",\"\",IF(D25=\"\",\"\",(DataInput!$B$4+(DataInput!$D$4-DataInput!$B$4)*RAND())))","v":""},{"$f":"DataInput!$B$16*RAND()","v":11.237976504404896},{"$f":"DataInput!$B$15*RAND()","v":15.2904443834757},{"$f":"(IF('Xi,Yi'!H25=\"\",\"\",(IF((('Xi,Yi'!H25+L25+K25/SQRT(3))<DataInput!$B$18),\"\",(IF((('Xi,Yi'!H25+L25+K25/SQRT(3))>DataInput!$B$19),\"\",(IF('Xi,Yi'!I25=\"\",\"\",(IF(('Xi,Yi'!I25+K25<DataInput!$B$20),\"\",(IF((('Xi,Yi'!I25+K25)>DataInput!$B$21),\"\",('Xi,Yi'!H25+L25+K25/SQRT(3))))))))))))))","v":""},{"$f":"IF(H25=\"\",\"\",(IF('Xi,Yi'!I25=\"\",\"\",(IF(('Xi,Yi'!I25+K25<DataInput!$B$20),\"\",(IF((('Xi,Yi'!I25+K25)>DataInput!$B$21),\"\",('Xi,Yi'!I25+K25))))))))","v":""},{"$f":"IF(H25=\"\",\"\",IF(I25=\"\",\"\",(DataInput!$B$4+(DataInput!$D$4-DataInput!$B$4)*RAND())))","v":""},{"$f":"DataInput!$B$16*RAND()","v":2.8463556331171018},{"$f":"DataInput!$B$15*RAND()","v":11.90083163028827},{"$f":"(IF('Xi,Yi'!M25=\"\",\"\",(IF((('Xi,Yi'!M25+Q25+P25/SQRT(3))<DataInput!$B$18),\"\",(IF((('Xi,Yi'!M25+Q25+P25/SQRT(3))>DataInput!$B$19),\"\",(IF('Xi,Yi'!N25=\"\",\"\",(IF(('Xi,Yi'!N25+P25<DataInput!$B$20),\"\",(IF((('Xi,Yi'!N25+P25)>DataInput!$B$21),\"\",('Xi,Yi'!M25+Q25+P25/SQRT(3))))))))))))))","v":""},{"$f":"IF(M25=\"\",\"\",(IF('Xi,Yi'!N25=\"\",\"\",(IF(('Xi,Yi'!N25+P25<DataInput!$B$20),\"\",(IF((('Xi,Yi'!N25+P25)>DataInput!$B$21),\"\",('Xi,Yi'!N25+P25))))))))","v":""},{"$f":"IF(M25=\"\",\"\",IF(N25=\"\",\"\",(DataInput!$B$4+(DataInput!$D$4-DataInput!$B$4)*RAND())))","v":""},{"$f":"DataInput!$B$16*RAND()","v":10.149083611315371},{"$f":"DataInput!$B$15*RAND()","v":12.20265275975939},{"$f":"(IF('Xi,Yi'!R25=\"\",\"\",(IF((('Xi,Yi'!R25+V25+U25/SQRT(3))<DataInput!$B$18),\"\",(IF((('Xi,Yi'!R25+V25+U25/SQRT(3))>DataInput!$B$19),\"\",(IF('Xi,Yi'!S25=\"\",\"\",(IF(('Xi,Yi'!S25+U25<DataInput!$B$20),\"\",(IF((('Xi,Yi'!S25+U25)>DataInput!$B$21),\"\",('Xi,Yi'!R25+V25+U25/SQRT(3))))))))))))))","v":""},{"$f":"IF(R25=\"\",\"\",(IF('Xi,Yi'!S25=\"\",\"\",(IF(('Xi,Yi'!S25+U25<DataInput!$B$20),\"\",(IF((('Xi,Yi'!S25+U25)>DataInput!$B$21),\"\",('Xi,Yi'!S25+U25))))))))","v":""},{"$f":"IF(R25=\"\",\"\",IF(S25=\"\",\"\",(DataInput!$B$4+(DataInput!$D$4-DataInput!$B$4)*RAND())))","v":""},{"$f":"DataInput!$B$16*RAND()","v":16.607677818543849},{"$f":"DataInput!$B$15*RAND()","v":18.13786327927756},{"$f":"(IF('Xi,Yi'!W25=\"\",\"\",(IF((('Xi,Yi'!W25+AA25+Z25/SQRT(3))<DataInput!$B$18),\"\",(IF((('Xi,Yi'!W25+AA25+Z25/SQRT(3))>DataInput!$B$19),\"\",(IF('Xi,Yi'!X25=\"\",\"\",(IF(('Xi,Yi'!X25+Z25<DataInput!$B$20),\"\",(IF((('Xi,Yi'!X25+Z25)>DataInput!$B$21),\"\",('Xi,Yi'!W25+AA25+Z25/SQRT(3))))))))))))))","v":""},{"$f":"IF(W25=\"\",\"\",(IF('Xi,Yi'!X25=\"\",\"\",(IF(('Xi,Yi'!X25+Z25<DataInput!$B$20),\"\",(IF((('Xi,Yi'!X25+Z25)>DataInput!$B$21),\"\",('Xi,Yi'!X25+Z25))))))))","v":""},{"$f":"IF(W25=\"\",\"\",IF(X25=\"\",\"\",(DataInput!$B$4+(DataInput!$D$4-DataInput!$B$4)*RAND())))","v":""},{"$f":"DataInput!$B$16*RAND()","v":1.9733978777514918},{"$f":"DataInput!$B$15*RAND()","v":18.361688962576864},{"$f":"(IF('Xi,Yi'!AB25=\"\",\"\",(IF((('Xi,Yi'!AB25+AF25+AE25/SQRT(3))<DataInput!$B$18),\"\",(IF((('Xi,Yi'!AB25+AF25+AE25/SQRT(3))>DataInput!$B$19),\"\",(IF('Xi,Yi'!AC25=\"\",\"\",(IF(('Xi,Yi'!AC25+AE25<DataInput!$B$20),\"\",(IF((('Xi,Yi'!AC25+AE25)>DataInput!$B$21),\"\",('Xi,Yi'!AB25+AF25+AE25/SQRT(3))))))))))))))","v":""},{"$f":"IF(AB25=\"\",\"\",(IF('Xi,Yi'!AC25=\"\",\"\",(IF(('Xi,Yi'!AC25+AE25<DataInput!$B$20),\"\",(IF((('Xi,Yi'!AC25+AE25)>DataInput!$B$21),\"\",('Xi,Yi'!AC25+AE25))))))))","v":""},{"$f":"IF(AB25=\"\",\"\",IF(AC25=\"\",\"\",(DataInput!$B$4+(DataInput!$D$4-DataInput!$B$4)*RAND())))","v":""},{"$f":"DataInput!$B$16*RAND()","v":1.591044695582688},{"$f":"DataInput!$B$15*RAND()","v":15.710407079664632},{"$f":"(IF('Xi,Yi'!AG25=\"\",\"\",(IF((('Xi,Yi'!AG25+AK25+AJ25/SQRT(3))<DataInput!$B$18),\"\",(IF((('Xi,Yi'!AG25+AK25+AJ25/SQRT(3))>DataInput!$B$19),\"\",(IF('Xi,Yi'!AH25=\"\",\"\",(IF(('Xi,Yi'!AH25+AJ25<DataInput!$B$20),\"\",(IF((('Xi,Yi'!AH25+AJ25)>DataInput!$B$21),\"\",('Xi,Yi'!AG25+AK25+AJ25/SQRT(3))))))))))))))","v":""},{"$f":"IF(AG25=\"\",\"\",(IF('Xi,Yi'!AH25=\"\",\"\",(IF(('Xi,Yi'!AH25+AJ25<DataInput!$B$20),\"\",(IF((('Xi,Yi'!AH25+AJ25)>DataInput!$B$21),\"\",('Xi,Yi'!AH25+AJ25))))))))","v":""},{"$f":"IF(AG25=\"\",\"\",IF(AH25=\"\",\"\",(DataInput!$B$4+(DataInput!$D$4-DataInput!$B$4)*RAND())))","v":""},{"$f":"DataInput!$B$16*RAND()","v":7.7060270193518603},{"$f":"DataInput!$B$15*RAND()","v":18.891697296237375},{"$f":"(IF('Xi,Yi'!AL25=\"\",\"\",(IF((('Xi,Yi'!AL25+AP25+AO25/SQRT(3))<DataInput!$B$18),\"\",(IF((('Xi,Yi'!AL25+AP25+AO25/SQRT(3))>DataInput!$B$19),\"\",(IF('Xi,Yi'!AM25=\"\",\"\",(IF(('Xi,Yi'!AM25+AO25<DataInput!$B$20),\"\",(IF((('Xi,Yi'!AM25+AO25)>DataInput!$B$21),\"\",('Xi,Yi'!AL25+AP25+AO25/SQRT(3))))))))))))))","v":""},{"$f":"IF(AL25=\"\",\"\",(IF('Xi,Yi'!AM25=\"\",\"\",(IF(('Xi,Yi'!AM25+AO25<DataInput!$B$20),\"\",(IF((('Xi,Yi'!AM25+AO25)>DataInput!$B$21),\"\",('Xi,Yi'!AM25+AO25))))))))","v":""},{"$f":"IF(AL25=\"\",\"\",IF(AM25=\"\",\"\",(DataInput!$B$4+(DataInput!$D$4-DataInput!$B$4)*RAND())))","v":""},{"$f":"DataInput!$B$16*RAND()","v":15.608830052347356},{"$f":"DataInput!$B$15*RAND()","v":12.466350876626267},{"$f":"(IF('Xi,Yi'!AQ25=\"\",\"\",(IF((('Xi,Yi'!AQ25+AU25+AT25/SQRT(3))<DataInput!$B$18),\"\",(IF((('Xi,Yi'!AQ25+AU25+AT25/SQRT(3))>DataInput!$B$19),\"\",(IF('Xi,Yi'!AR25=\"\",\"\",(IF(('Xi,Yi'!AR25+AT25<DataInput!$B$20),\"\",(IF((('Xi,Yi'!AR25+AT25)>DataInput!$B$21),\"\",('Xi,Yi'!AQ25+AU25+AT25/SQRT(3))))))))))))))","v":""},{"$f":"IF(AQ25=\"\",\"\",(IF('Xi,Yi'!AR25=\"\",\"\",(IF(('Xi,Yi'!AR25+AT25<DataInput!$B$20),\"\",(IF((('Xi,Yi'!AR25+AT25)>DataInput!$B$21),\"\",('Xi,Yi'!AR25+AT25))))))))","v":""},{"$f":"IF(AQ25=\"\",\"\",IF(AR25=\"\",\"\",(DataInput!$B$4+(DataInput!$D$4-DataInput!$B$4)*RAND())))","v":""},{"$f":"DataInput!$B$16*RAND()","v":0.92315140333369627},{"$f":"DataInput!$B$15*RAND()","v":2.9997110117351786},{"$f":"(IF('Xi,Yi'!AV25=\"\",\"\",(IF((('Xi,Yi'!AV25+AZ25+AY25/SQRT(3))<DataInput!$B$18),\"\",(IF((('Xi,Yi'!AV25+AZ25+AY25/SQRT(3))>DataInput!$B$19),\"\",(IF('Xi,Yi'!AW25=\"\",\"\",(IF(('Xi,Yi'!AW25+AY25<DataInput!$B$20),\"\",(IF((('Xi,Yi'!AW25+AY25)>DataInput!$B$21),\"\",('Xi,Yi'!AV25+AZ25+AY25/SQRT(3))))))))))))))","v":""},{"$f":"IF(AV25=\"\",\"\",(IF('Xi,Yi'!AW25=\"\",\"\",(IF(('Xi,Yi'!AW25+AY25<DataInput!$B$20),\"\",(IF((('Xi,Yi'!AW25+AY25)>DataInput!$B$21),\"\",('Xi,Yi'!AW25+AY25))))))))","v":""},{"$f":"IF(AV25=\"\",\"\",IF(AW25=\"\",\"\",(DataInput!$B$4+(DataInput!$D$4-DataInput!$B$4)*RAND())))","v":""},{"$f":"DataInput!$B$16*RAND()","v":2.4379623748543069},{"$f":"DataInput!$B$15*RAND()","v":5.4112183044276962},{"$f":"(IF('Xi,Yi'!BA25=\"\",\"\",(IF((('Xi,Yi'!BA25+BE25+BD25/SQRT(3))<DataInput!$B$18),\"\",(IF((('Xi,Yi'!BA25+BE25+BD25/SQRT(3))>DataInput!$B$19),\"\",(IF('Xi,Yi'!BB25=\"\",\"\",(IF(('Xi,Yi'!BB25+BD25<DataInput!$B$20),\"\",(IF((('Xi,Yi'!BB25+BD25)>DataInput!$B$21),\"\",('Xi,Yi'!BA25+BE25+BD25/SQRT(3))))))))))))))","v":""},{"$f":"IF(BA25=\"\",\"\",(IF('Xi,Yi'!BB25=\"\",\"\",(IF(('Xi,Yi'!BB25+BD25<DataInput!$B$20),\"\",(IF((('Xi,Yi'!BB25+BD25)>DataInput!$B$21),\"\",('Xi,Yi'!BB25+BD25))))))))","v":""},{"$f":"IF(BA25=\"\",\"\",IF(BB25=\"\",\"\",(DataInput!$B$4+(DataInput!$D$4-DataInput!$B$4)*RAND())))","v":""},{"$f":"DataInput!$B$16*RAND()","v":6.4877803242603918},{"$f":"DataInput!$B$15*RAND()","v":15.77498938714206}]
[null,null,null,{"$f":"IF(C26=\"\",\"\",Grid!$E$14)","v":""}]
[null,null,null,{"$f":"IF(C27=\"\",\"\",Grid!$E$14)","v":""},null,null,null,"-1st Row",null,null,null,null,"-2nd Row",null,null,null,null,"-3rd Row",null,null,null,null,"-4th Row",null,null,null,null,"-5th Row",null,null,null,null,"-6th Row",null,null,null,null,"-7th Row",null,null,null,null,"-8th Row",null,null,null,null,"-9th Row",null,null,null,null,"-10th Row"]
[null,null,null,{"$f":"IF(C28=\"\",\"\",Grid!$E$14)","v":""},null,null,null,"Xi,","Yi","Zi",null,null,"Xi,","Yi","Zi",null,null,"Xi,","Yi","Zi",null,null,"Xi,","Yi","Zi",null,null,"Xi,","Yi","Zi",null,null,"Xi,","Yi","Zi",null,null,"Xi,","Yi","Zi",null,null,"Xi,","Yi","Zi",null,null,"Xi,","Yi","Zi",null,null,"Xi,","Yi","Zi"]
[null,null,null,null,null,null,null,{"$f":"(IF('Xi,Yi'!H29=\"\",\"\",(IF((('Xi,Yi'!H29+L29+K29/SQRT(3))<DataInput!$B$18),\"\",(IF((('Xi,Yi'!H29+L29+K29/SQRT(3))>DataInput!$B$19),\"\",(IF('Xi,Yi'!I29=\"\",\"\",(IF(('Xi,Yi'!I29+K29<DataInput!$B$20),\"\",(IF((('Xi,Yi'!I29+K29)>DataInput!$B$21),\"\",('Xi,Yi'!H29+L29+K29/SQRT(3))))))))))))))","v":""},{"$f":"IF(H29=\"\",\"\",(IF('Xi,Yi'!I29=\"\",\"\",(IF(('Xi,Yi'!I29+K29<DataInput!$B$20),\"\",(IF((('Xi,Yi'!I29+K29)>DataInput!$B$21),\"\",('Xi,Yi'!I29+K29))))))))","v":""},{"$f":"IF(H29=\"\",\"\",IF(I29=\"\",\"\",(DataInput!$B$4+(DataInput!$D$4-DataInput!$B$4)*RAND())))","v":""},{"$f":"DataInput!$B$16*RAND()","v":16.523341125709528},{"$f":"DataInput!$B$15*RAND()","v":8.553687243587337},{"$f":"(IF('Xi,Yi'!M29=\"\",\"\",(IF((('Xi,Yi'!M29+Q29+P29/SQRT(3))<DataInput!$B$18),\"\",(IF((('Xi,Yi'!M29+Q29+P29/SQRT(3))>DataInput!$B$19),\"\",(IF('Xi,Yi'!N29=\"\",\"\",(IF(('Xi,Yi'!N29+P29<DataInput!$B$20),\"\",(IF((('Xi,Yi'!N29+P29)>DataInput!$B$21),\"\",('Xi,Yi'!M29+Q29+P29/SQRT(3))))))))))))))","v":""},{"$f":"IF(M29=\"\",\"\",(IF('Xi,Yi'!N29=\"\",\"\",(IF(('Xi,Yi'!N29+P29<DataInput!$B$20),\"\",(IF((('Xi,Yi'!N29+P29)>DataInput!$B$21),\"\",('Xi,Yi'!N29+P29))))))))","v":""},{"$f":"IF(M29=\"\",\"\",IF(N29=\"\",\"\",(DataInput!$B$4+(DataInput!$D$4-DataInput!$B$4)*RAND())))","v":""},{"$f":"DataInput!$B$16*RAND()","v":2.1397819088785099},{"$f":"DataInput!$B$15*RAND()","v":3.270526274296655},{"$f":"(IF('Xi,Yi'!R29=\"\",\"\",(IF((('Xi,Yi'!R29+V29+U29/SQRT(3))<DataInput!$B$18),\"\",(IF((('Xi,Yi'!R29+V29+U29/SQRT(3))>DataInput!$B$19),\"\",(IF('Xi,Yi'!S29=\"\",\"\",(IF(('Xi,Yi'!S29+U29<DataInput!$B$20),\"\",(IF((('Xi,Yi'!S29+U29)>DataInput!$B$21),\"\",('Xi,Yi'!R29+V29+U29/SQRT(3))))))))))))))","v":""},{"$f":"IF(R29=\"\",\"\",(IF('Xi,Yi'!S29=\"\",\"\",(IF(('Xi,Yi'!S29+U29<DataInput!$B$20),\"\",(IF((('Xi,Yi'!S29+U29)>DataInput!$B$21),\"\",('Xi,Yi'!S29+U29))))))))","v":""},{"$f":"IF(R29=\"\",\"\",IF(S29=\"\",\"\",(DataInput!$B$4+(DataInput!$D$4-DataInput!$B$4)*RAND())))","v":""},{"$f":"DataInput!$B$16*RAND()","v":6.5499033981313941},{"$f":"DataInput!$B$15*RAND()","v":14.787855882553062},{"$f":"(IF('Xi,Yi'!W29=\"\",\"\",(IF((('Xi,Yi'!W29+AA29+Z29/SQRT(3))<DataInput!$B$18),\"\",(IF((('Xi,Yi'!W29+AA29+Z29/SQRT(3))>DataInput!$B$19),\"\",(IF('Xi,Yi'!X29=\"\",\"\",(IF(('Xi,Yi'!X29+Z29<DataInput!$B$20),\"\",(IF((('Xi,Yi'!X29+Z29)>DataInput!$B$21),\"\",('Xi,Yi'!W29+AA29+Z29/SQRT(3))))))))))))))","v":""},{"$f":"IF(W29=\"\",\"\",(IF('Xi,Yi'!X29=\"\",\"\",(IF(('Xi,Yi'!X29+Z29<DataInput!$B$20),\"\",(IF((('Xi,Yi'!X29+Z29)>DataInput!$B$21),\"\",('Xi,Yi'!X29+Z29))))))))","v":""},{"$f":"IF(W29=\"\",\"\",IF(X29=\"\",\"\",(DataInput!$B$4+(DataInput!$D$4-DataInput!$B$4)*RAND())))","v":""},{"$f":"DataInput!$B$16*RAND()","v":5.7360280703209643},{"$f":"DataInput!$B$15*RAND()","v":17.823049612981894},{"$f":"(IF('Xi,Yi'!AB29=\"\",\"\",(IF((('Xi,Yi'!AB29+AF29+AE29/SQRT(3))<DataInput!$B$18),\"\",(IF((('Xi,Yi'!AB29+AF29+AE29/SQRT(3))>DataInput!$B$19),\"\",(IF('Xi,Yi'!AC29=\"\",\"\",(IF(('Xi,Yi'!AC29+AE29<DataInput!$B$20),\"\",(IF((('Xi,Yi'!AC29+AE29)>DataInput!$B$21),\"\",('Xi,Yi'!AB29+AF29+AE29/SQRT(3))))))))))))))","v":""},{"$f":"IF(AB29=\"\",\"\",(IF('Xi,Yi'!AC29=\"\",\"\",(IF(('Xi,Yi'!AC29+AE29<DataInput!$B$20),\"\",(IF((('Xi,Yi'!AC29+AE29)>DataInput!$B$21),\"\",('Xi,Yi'!AC29+AE29))))))))","v":""},{"$f":"IF(AB29=\"\",\"\",IF(AC29=\"\",\"\",(DataInput!$B$4+(DataInput!$D$4-DataInput!$B$4)*RAND())))","v":""},{"$f":"DataInput!$B$16*RAND()","v":15.244977935127656},{"$f":"DataInput!$B$15*RAND()","v":9.874207100040838},{"$f":"(IF('Xi,Yi'!AG29=\"\",\"\",(IF((('Xi,Yi'!AG29+AK29+AJ29/SQRT(3))<DataInput!$B$18),\"\",(IF((('Xi,Yi'!AG29+AK29+AJ29/SQRT(3))>DataInput!$B$19),\"\",(IF('Xi,Yi'!AH29=\"\",\"\",(IF(('Xi,Yi'!AH29+AJ29<DataInput!$B$20),\"\",(IF((('Xi,Yi'!AH29+AJ29)>DataInput!$B$21),\"\",('Xi,Yi'!AG29+AK29+AJ29/SQRT(3))))))))))))))","v":""},{"$f":"IF(AG29=\"\",\"\",(IF('Xi,Yi'!AH29=\"\",\"\",(IF(('Xi,Yi'!AH29+AJ29<DataInput!$B$20),\"\",(IF((('Xi,Yi'!AH29+AJ29)>DataInput!$B$21),\"\",('Xi,Yi'!AH29+AJ29))))))))","v":""},{"$f":"IF(AG29=\"\",\"\",IF(AH29=\"\",\"\",(DataInput!$B$4+(DataInput!$D$4-DataInput!$B$4)*RAND())))","v":""},{"$f":"DataInput!$B$16*RAND()","v":12.794581772465937},{"$f":"DataInput!$B$15*RAND()","v":13.812054931666671},{"$f":"(IF('Xi,Yi'!AL29=\"\",\"\",(IF((('Xi,Yi'!AL29+AP29+AO29/SQRT(3))<DataInput!$B$18),\"\",(IF((('Xi,Yi'!AL29+AP29+AO29/SQRT(3))>DataInput!$B$19),\"\",(IF('Xi,Yi'!AM29=\"\",\"\",(IF(('Xi,Yi'!AM29+AO29<DataInput!$B$20),\"\",(IF((('Xi,Yi'!AM29+AO29)>DataInput!$B$21),\"\",('Xi,Yi'!AL29+AP29+AO29/SQRT(3))))))))))))))","v":""},{"$f":"IF(AL29=\"\",\"\",(IF('Xi,Yi'!AM29=\"\",\"\",(IF(('Xi,Yi'!AM29+AO29<DataInput!$B$20),\"\",(IF((('Xi,Yi'!AM29+AO29)>DataInput!$B$21),\"\",('Xi,Yi'!AM29+AO29))))))))","v":""},{"$f":"IF(AL29=\"\",\"\",IF(AM29=\"\",\"\",(DataInput!$B$4+(DataInput!$D$4-DataInput!$B$4)*RAND())))","v":""},{"$f":"DataInput!$B$16*RAND()","v":6.7817889099444173},{"$f":"DataInput!$B$15*RAND()","v":16.898728626221054},{"$f":"(IF('Xi,Yi'!AQ29=\"\",\"\",(IF((('Xi,Yi'!AQ29+AU29+AT29/SQRT(3))<DataInput!$B$18),\"\",(IF((('Xi,Yi'!AQ29+AU29+AT29/SQRT(3))>DataInput!$B$19),\"\",(IF('Xi,Yi'!AR29=\"\",\"\",(IF(('Xi,Yi'!AR29+AT29<DataInput!$B$20),\"\",(IF((('Xi,Yi'!AR29+AT29)>DataInput!$B$21),\"\",('Xi,Yi'!AQ29+AU29+AT29/SQRT(3))))))))))))))","v":""},{"$f":"IF(AQ29=\"\",\"\",(IF('Xi,Yi'!AR29=\"\",\"\",(IF(('Xi,Yi'!AR29+AT29<DataInput!$B$20),\"\",(IF((('Xi,Yi'!AR29+AT29)>DataInput!$B$21),\"\",('Xi,Yi'!AR29+AT29))))))))","v":""},{"$f":"IF(AQ29=\"\",\"\",IF(AR29=\"\",\"\",(DataInput!$B$4+(DataInput!$D$4-DataInput!$B$4)*RAND())))","v":""},{"$f":"DataInput!$B$16*RAND()","v":15.036877973006723},{"$f":"DataInput!$B$15*RAND()","v":0.66834264281352984},{"$f":"(IF('Xi,Yi'!AV29=\"\",\"\",(IF((('Xi,Yi'!AV29+AZ29+AY29/SQRT(3))<DataInput!$B$18),\"\",(IF((('Xi,Yi'!AV29+AZ29+AY29/SQRT(3))>DataInput!$B$19),\"\",(IF('Xi,Yi'!AW29=\"\",\"\",(IF(('Xi,Yi'!AW29+AY29<DataInput!$B$20),\"\",(IF((('Xi,Yi'!AW29+AY29)>DataInput!$B$21),\"\",('Xi,Yi'!AV29+AZ29+AY29/SQRT(3))))))))))))))","v":""},{"$f":"IF(AV29=\"\",\"\",(IF('Xi,Yi'!AW29=\"\",\"\",(IF(('Xi,Yi'!AW29+AY29<DataInput!$B$20),\"\",(IF((('Xi,Yi'!AW29+AY29)>DataInput!$B$21),\"\",('Xi,Yi'!AW29+AY29))))))))","v":""},{"$f":"IF(AV29=\"\",\"\",IF(AW29=\"\",\"\",(DataInput!$B$4+(DataInput!$D$4-DataInput!$B$4)*RAND())))","v":""},{"$f":"DataInput!$B$16*RAND()","v":0.9636339736358065},{"$f":"DataInput!$B$15*RAND()","v":18.546001804502122},{"$f":"(IF('Xi,Yi'!BA29=\"\",\"\",(IF((('Xi,Yi'!BA29+BE29+BD29/SQRT(3))<DataInput!$B$18),\"\",(IF((('Xi,Yi'!BA29+BE29+BD29/SQRT(3))>DataInput!$B$19),\"\",(IF('Xi,Yi'!BB29=\"\",\"\",(IF(('Xi,Yi'!BB29+BD29<DataInput!$B$20),\"\",(IF((('Xi,Yi'!BB29+BD29)>DataInput!$B$21),\"\",('Xi,Yi'!BA29+BE29+BD29/SQRT(3))))))))))))))","v":""},{"$f":"IF(BA29=\"\",\"\",(IF('Xi,Yi'!BB29=\"\",\"\",(IF(('Xi,Yi'!BB29+BD29<DataInput!$B$20),\"\",(IF((('Xi,Yi'!BB29+BD29)>DataInput!$B$21),\"\",('Xi,Yi'!BB29+BD29))))))))","v":""},{"$f":"IF(BA29=\"\",\"\",IF(BB29=\"\",\"\",(DataInput!$B$4+(DataInput!$D$4-DataInput!$B$4)*RAND())))","v":""},{"$f":"DataInput!$B$16*RAND()","v":4.2895372157407685},{"$f":"DataInput!$B$15*RAND()","v":0.85543133751613987}]
[null,null,null,null,null,null,null,{"$f":"(IF('Xi,Yi'!H30=\"\",\"\",(IF((('Xi,Yi'!H30+L30+K30/SQRT(3))<DataInput!$B$18),\"\",(IF((('Xi,Yi'!H30+L30+K30/SQRT(3))>DataInput!$B$19),\"\",(IF('Xi,Yi'!I30=\"\",\"\",(IF(('Xi,Yi'!I30+K30<DataInput!$B$20),\"\",(IF((('Xi,Yi'!I30+K30)>DataInput!$B$21),\"\",('Xi,Yi'!H30+L30+K30/SQRT(3))))))))))))))","v":""},{"$f":"IF(H30=\"\",\"\",(IF('Xi,Yi'!I30=\"\",\"\",(IF(('Xi,Yi'!I30+K30<DataInput!$B$20),\"\",(IF((('Xi,Yi'!I30+K30)>DataInput!$B$21),\"\",('Xi,Yi'!I30+K30))))))))","v":""},{"$f":"IF(H30=\"\",\"\",IF(I30=\"\",\"\",(DataInput!$B$4+(DataInput!$D$4-DataInput!$B$4)*RAND())))","v":""},{"$f":"DataInput!$B$16*RAND()","v":12.538451498241427},{"$f":"DataInput!$B$15*RAND()","v":16.109845564727934},{"$f":"(IF('Xi,Yi'!M30=\"\",\"\",(IF((('Xi,Yi'!M30+Q30+P30/SQRT(3))<DataInput!$B$18),\"\",(IF((('Xi,Yi'!M30+Q30+P30/SQRT(3))>DataInput!$B$19),\"\",(IF('Xi,Yi'!N30=\"\",\"\",(IF(('Xi,Yi'!N30+P30<DataInput!$B$20),\"\",(IF((('Xi,Yi'!N30+P30)>DataInput!$B$21),\"\",('Xi,Yi'!M30+Q30+P30/SQRT(3))))))))))))))","v":""},{"$f":"IF(M30=\"\",\"\",(IF('Xi,Yi'!N30=\"\",\"\",(IF(('Xi,Yi'!N30+P30<DataInput!$B$20),\"\",(IF((('Xi,Yi'!N30+P30)>DataInput!$B$21),\"\",('Xi,Yi'!N30+P30))))))))","v":""},{"$f":"IF(M30=\"\",\"\",IF(N30=\"\",\"\",(DataInput!$B$4+(DataInput!$D$4-DataInput!$B$4)*RAND())))","v":""},{"$f":"DataInput!$B$16*RAND()","v":15.498640117553551},{"$f":"DataInput!$B$15*RAND()","v":6.8632456959531956},{"$f":"(IF('Xi,Yi'!R30=\"\",\"\",(IF((('Xi,Yi'!R30+V30+U30/SQRT(3))<DataInput!$B$18),\"\",(IF((('Xi,Yi'!R30+V30+U30/SQRT(3))>DataInput!$B$19),\"\",(IF('Xi,Yi'!S30=\"\",\"\",(IF(('Xi,Yi'!S30+U30<DataInput!$B$20),\"\",(IF((('Xi,Yi'!S30+U30)>DataInput!$B$21),\"\",('Xi,Yi'!R30+V30+U30/SQRT(3))))))))))))))","v":""},{"$f":"IF(R30=\"\",\"\",(IF('Xi,Yi'!S30=\"\",\"\",(IF(('Xi,Yi'!S30+U30<DataInput!$B$20),\"\",(IF((('Xi,Yi'!S30+U30)>DataInput!$B$21),\"\",('Xi,Yi'!S30+U30))))))))","v":""},{"$f":"IF(R30=\"\",\"\",IF(S30=\"\",\"\",(DataInput!$B$4+(DataInput!$D$4-DataInput!$B$4)*RAND())))","v":""},{"$f":"DataInput!$B$16*RAND()","v":3.737763475504392},{"$f":"DataInput!$B$15*RAND()","v":6.0041982004887267},{"$f":"(IF('Xi,Yi'!W30=\"\",\"\",(IF((('Xi,Yi'!W30+AA30+Z30/SQRT(3))<DataInput!$B$18),\"\",(IF((('Xi,Yi'!W30+AA30+Z30/SQRT(3))>DataInput!$B$19),\"\",(IF('Xi,Yi'!X30=\"\",\"\",(IF(('Xi,Yi'!X30+Z30<DataInput!$B$20),\"\",(IF((('Xi,Yi'!X30+Z30)>DataInput!$B$21),\"\",('Xi,Yi'!W30+AA30+Z30/SQRT(3))))))))))))))","v":""},{"$f":"IF(W30=\"\",\"\",(IF('Xi,Yi'!X30=\"\",\"\",(IF(('Xi,Yi'!X30+Z30<DataInput!$B$20),\"\",(IF((('Xi,Yi'!X30+Z30)>DataInput!$B$21),\"\",('Xi,Yi'!X30+Z30))))))))","v":""},{"$f":"IF(W30=\"\",\"\",IF(X30=\"\",\"\",(DataInput!$B$4+(DataInput!$D$4-DataInput!$B$4)*RAND())))","v":""},{"$f":"DataInput!$B$16*RAND()","v":14.015667265013475},{"$f":"DataInput!$B$15*RAND()","v":5.7705959238349642},{"$f":"(IF('Xi,Yi'!AB30=\"\",\"\",(IF((('Xi,Yi'!AB30+AF30+AE30/SQRT(3))<DataInput!$B$18),\"\",(IF((('Xi,Yi'!AB30+AF30+AE30/SQRT(3))>DataInput!$B$19),\"\",(IF('Xi,Yi'!AC30=\"\",\"\",(IF(('Xi,Yi'!AC30+AE30<DataInput!$B$20),\"\",(IF((('Xi,Yi'!AC30+AE30)>DataInput!$B$21),\"\",('Xi,Yi'!AB30+AF30+AE30/SQRT(3))))))))))))))","v":""},{"$f":"IF(AB30=\"\",\"\",(IF('Xi,Yi'!AC30=\"\",\"\",(IF(('Xi,Yi'!AC30+AE30<DataInput!$B$20),\"\",(IF((('Xi,Yi'!AC30+AE30)>DataInput!$B$21),\"\",('Xi,Yi'!AC30+AE30))))))))","v":""},{"$f":"IF(AB30=\"\",\"\",IF(AC30=\"\",\"\",(DataInput!$B$4+(DataInput!$D$4-DataInput!$B$4)*RAND())))","v":""},{"$f":"DataInput!$B$16*RAND()","v":8.2343789105790588},{"$f":"DataInput!$B$15*RAND()","v":18.329940281751039},{"$f":"(IF('Xi,Yi'!AG30=\"\",\"\",(IF((('Xi,Yi'!AG30+AK30+AJ30/SQRT(3))<DataInput!$B$18),\"\",(IF((('Xi,Yi'!AG30+AK30+AJ30/SQRT(3))>DataInput!$B$19),\"\",(IF('Xi,Yi'!AH30=\"\",\"\",(IF(('Xi,Yi'!AH30+AJ30<DataInput!$B$20),\"\",(IF((('Xi,Yi'!AH30+AJ30)>DataInput!$B$21),\"\",('Xi,Yi'!AG30+AK30+AJ30/SQRT(3))))))))))))))","v":""},{"$f":"IF(AG30=\"\",\"\",(IF('Xi,Yi'!AH30=\"\",\"\",(IF(('Xi,Yi'!AH30+AJ30<DataInput!$B$20),\"\",(IF((('Xi,Yi'!AH30+AJ30)>DataInput!$B$21),\"\",('Xi,Yi'!AH30+AJ30))))))))","v":""},{"$f":"IF(AG30=\"\",\"\",IF(AH30=\"\",\"\",(DataInput!$B$4+(DataInput!$D$4-DataInput!$B$4)*RAND())))","v":""},{"$f":"DataInput!$B$16*RAND()","v":7.8363817610619551},{"$f":"DataInput!$B$15*RAND()","v":17.963853632137585},{"$f":"(IF('Xi,Yi'!AL30=\"\",\"\",(IF((('Xi,Yi'!AL30+AP30+AO30/SQRT(3))<DataInput!$B$18),\"\",(IF((('Xi,Yi'!AL30+AP30+AO30/SQRT(3))>DataInput!$B$19),\"\",(IF('Xi,Yi'!AM30=\"\",\"\",(IF(('Xi,Yi'!AM30+AO30<DataInput!$B$20),\"\",(IF((('Xi,Yi'!AM30+AO30)>DataInput!$B$21),\"\",('Xi,Yi'!AL30+AP30+AO30/SQRT(3))))))))))))))","v":""},{"$f":"IF(AL30=\"\",\"\",(IF('Xi,Yi'!AM30=\"\",\"\",(IF(('Xi,Yi'!AM30+AO30<DataInput!$B$20),\"\",(IF((('Xi,Yi'!AM30+AO30)>DataInput!$B$21),\"\",('Xi,Yi'!AM30+AO30))))))))","v":""},{"$f":"IF(AL30=\"\",\"\",IF(AM30=\"\",\"\",(DataInput!$B$4+(DataInput!$D$4-DataInput!$B$4)*RAND())))","v":""},{"$f":"DataInput!$B$16*RAND()","v":10.164995249067507},{"$f":"DataInput!$B$15*RAND()","v":3.2198115677914392},{"$f":"(IF('Xi,Yi'!AQ30=\"\",\"\",(IF((('Xi,Yi'!AQ30+AU30+AT30/SQRT(3))<DataInput!$B$18),\"\",(IF((('Xi,Yi'!AQ30+AU30+AT30/SQRT(3))>DataInput!$B$19),\"\",(IF('Xi,Yi'!AR30=\"\",\"\",(IF(('Xi,Yi'!AR30+AT30<DataInput!$B$20),\"\",(IF((('Xi,Yi'!AR30+AT30)>DataInput!$B$21),\"\",('Xi,Yi'!AQ30+AU30+AT30/SQRT(3))))))))))))))","v":""},{"$f":"IF(AQ30=\"\",\"\",(IF('Xi,Yi'!AR30=\"\",\"\",(IF(('Xi,Yi'!AR30+AT30<DataInput!$B$20),\"\",(IF((('Xi,Yi'!AR30+AT30)>DataInput!$B$21),\"\",('Xi,Yi'!AR30+AT30))))))))","v":""},{"$f":"IF(AQ30=\"\",\"\",IF(AR30=\"\",\"\",(DataInput!$B$4+(DataInput!$D$4-DataInput!$B$4)*RAND())))","v":""},{"$f":"DataInput!$B$16*RAND()","v":14.915091041182672},{"$f":"DataInput!$B$15*RAND()","v":3.5955329235167635},{"$f":"(IF('Xi,Yi'!AV30=\"\",\"\",(IF((('Xi,Yi'!AV30+AZ30+AY30/SQRT(3))<DataInput!$B$18),\"\",(IF((('Xi,Yi'!AV30+AZ30+AY30/SQRT(3))>DataInput!$B$19),\"\",(IF('Xi,Yi'!AW30=\"\",\"\",(IF(('Xi,Yi'!AW30+AY30<DataInput!$B$20),\"\",(IF((('Xi,Yi'!AW30+AY30)>DataInput!$B$21),\"\",('Xi,Yi'!AV30+AZ30+AY30/SQRT(3))))))))))))))","v":""},{"$f":"IF(AV30=\"\",\"\",(IF('Xi,Yi'!AW30=\"\",\"\",(IF(('Xi,Yi'!AW30+AY30<DataInput!$B$20),\"\",(IF((('Xi,Yi'!AW30+AY30)>DataInput!$B$21),\"\",('Xi,Yi'!AW30+AY30))))))))","v":""},{"$f":"IF(AV30=\"\",\"\",IF(AW30=\"\",\"\",(DataInput!$B$4+(DataInput!$D$4-DataInput!$B$4)*RAND())))","v":""},{"$f":"DataInput!$B$16*RAND()","v":12.227552119676806},{"$f":"DataInput!$B$15*RAND()","v":14.939221665139398},{"$f":"(IF('Xi,Yi'!BA30=\"\",\"\",(IF((('Xi,Yi'!BA30+BE30+BD30/SQRT(3))<DataInput!$B$18),\"\",(IF((('Xi,Yi'!BA30+BE30+BD30/SQRT(3))>DataInput!$B$19),\"\",(IF('Xi,Yi'!BB30=\"\",\"\",(IF(('Xi,Yi'!BB30+BD30<DataInput!$B$20),\"\",(IF((('Xi,Yi'!BB30+BD30)>DataInput!$B$21),\"\",('Xi,Yi'!BA30+BE30+BD30/SQRT(3))))))))))))))","v":""},{"$f":"IF(BA30=\"\",\"\",(IF('Xi,Yi'!BB30=\"\",\"\",(IF(('Xi,Yi'!BB30+BD30<DataInput!$B$20),\"\",(IF((('Xi,Yi'!BB30+BD30)>DataInput!$B$21),\"\",('Xi,Yi'!BB30+BD30))))))))","v":""},{"$f":"IF(BA30=\"\",\"\",IF(BB30=\"\",\"\",(DataInput!$B$4+(DataInput!$D$4-DataInput!$B$4)*RAND())))","v":""},{"$f":"DataInput!$B$16*RAND()","v":5.3466915177075736},{"$f":"DataInput!$B$15*RAND()","v":7.6017116371155256}]
[null,null,null,null,null,null,null,{"$f":"(IF('Xi,Yi'!H31=\"\",\"\",(IF((('Xi,Yi'!H31+L31+K31/SQRT(3))<DataInput!$B$18),\"\",(IF((('Xi,Yi'!H31+L31+K31/SQRT(3))>DataInput!$B$19),\"\",(IF('Xi,Yi'!I31=\"\",\"\",(IF(('Xi,Yi'!I31+K31<DataInput!$B$20),\"\",(IF((('Xi,Yi'!I31+K31)>DataInput!$B$21),\"\",('Xi,Yi'!H31+L31+K31/SQRT(3))))))))))))))","v":""},{"$f":"IF(H31=\"\",\"\",(IF('Xi,Yi'!I31=\"\",\"\",(IF(('Xi,Yi'!I31+K31<DataInput!$B$20),\"\",(IF((('Xi,Yi'!I31+K31)>DataInput!$B$21),\"\",('Xi,Yi'!I31+K31))))))))","v":""},{"$f":"IF(H31=\"\",\"\",IF(I31=\"\",\"\",(DataInput!$B$4+(DataInput!$D$4-DataInput!$B$4)*RAND())))","v":""},{"$f":"DataInput!$B$16*RAND()","v":12.237333917657685},{"$f":"DataInput!$B$15*RAND()","v":17.949618170533117},{"$f":"(IF('Xi,Yi'!M31=\"\",\"\",(IF((('Xi,Yi'!M31+Q31+P31/SQRT(3))<DataInput!$B$18),\"\",(IF((('Xi,Yi'!M31+Q31+P31/SQRT(3))>DataInput!$B$19),\"\",(IF('Xi,Yi'!N31=\"\",\"\",(IF(('Xi,Yi'!N31+P31<DataInput!$B$20),\"\",(IF((('Xi,Yi'!N31+P31)>DataInput!$B$21),\"\",('Xi,Yi'!M31+Q31+P31/SQRT(3))))))))))))))","v":""},{"$f":"IF(M31=\"\",\"\",(IF('Xi,Yi'!N31=\"\",\"\",(IF(('Xi,Yi'!N31+P31<DataInput!$B$20),\"\",(IF((('Xi,Yi'!N31+P31)>DataInput!$B$21),\"\",('Xi,Yi'!N31+P31))))))))","v":""},{"$f":"IF(M31=\"\",\"\",IF(N31=\"\",\"\",(DataInput!$B$4+(DataInput!$D$4-DataInput!$B$4)*RAND())))","v":""},{"$f":"DataInput!$B$16*RAND()","v":15.952611063975358},{"$f":"DataInput!$B$15*RAND()","v":5.6494954553286103},{"$f":"(IF('Xi,Yi'!R31=\"\",\"\",(IF((('Xi,Yi'!R31+V31+U31/SQRT(3))<DataInput!$B$18),\"\",(IF((('Xi,Yi'!R31+V31+U31/SQRT(3))>DataInput!$B$19),\"\",(IF('Xi,Yi'!S31=\"\",\"\",(IF(('Xi,Yi'!S31+U31<DataInput!$B$20),\"\",(IF((('Xi,Yi'!S31+U31)>DataInput!$B$21),\"\",('Xi,Yi'!R31+V31+U31/SQRT(3))))))))))))))","v":""},{"$f":"IF(R31=\"\",\"\",(IF('Xi,Yi'!S31=\"\",\"\",(IF(('Xi,Yi'!S31+U31<DataInput!$B$20),\"\",(IF((('Xi,Yi'!S31+U31)>DataInput!$B$21),\"\",('Xi,Yi'!S31+U31))))))))","v":""},{"$f":"IF(R31=\"\",\"\",IF(S31=\"\",\"\",(DataInput!$B$4+(DataInput!$D$4-DataInput!$B$4)*RAND())))","v":""},{"$f":"DataInput!$B$16*RAND()","v":4.1709232354762715},{"$f":"DataInput!$B$15*RAND()","v":5.455951563667182},{"$f":"(IF('Xi,Yi'!W31=\"\",\"\",(IF((('Xi,Yi'!W31+AA31+Z31/SQRT(3))<DataInput!$B$18),\"\",(IF((('Xi,Yi'!W31+AA31+Z31/SQRT(3))>DataInput!$B$19),\"\",(IF('Xi,Yi'!X31=\"\",\"\",(IF(('Xi,Yi'!X31+Z31<DataInput!$B$20),\"\",(IF((('Xi,Yi'!X31+Z31)>DataInput!$B$21),\"\",('Xi,Yi'!W31+AA31+Z31/SQRT(3))))))))))))))","v":""},{"$f":"IF(W31=\"\",\"\",(IF('Xi,Yi'!X31=\"\",\"\",(IF(('Xi,Yi'!X31+Z31<DataInput!$B$20),\"\",(IF((('Xi,Yi'!X31+Z31)>DataInput!$B$21),\"\",('Xi,Yi'!X31+Z31))))))))","v":""},{"$f":"IF(W31=\"\",\"\",IF(X31=\"\",\"\",(DataInput!$B$4+(DataInput!$D$4-DataInput!$B$4)*RAND())))","v":""},{"$f":"DataInput!$B$16*RAND()","v":6.0595319301746216},{"$f":"DataInput!$B$15*RAND()","v":4.9344279276141316},{"$f":"(IF('Xi,Yi'!AB31=\"\",\"\",(IF((('Xi,Yi'!AB31+AF31+AE31/SQRT(3))<DataInput!$B$18),\"\",(IF((('Xi,Yi'!AB31+AF31+AE31/SQRT(3))>DataInput!$B$19),\"\",(IF('Xi,Yi'!AC31=\"\",\"\",(IF(('Xi,Yi'!AC31+AE31<DataInput!$B$20),\"\",(IF((('Xi,Yi'!AC31+AE31)>DataInput!$B$21),\"\",('Xi,Yi'!AB31+AF31+AE31/SQRT(3))))))))))))))","v":""},{"$f":"IF(AB31=\"\",\"\",(IF('Xi,Yi'!AC31=\"\",\"\",(IF(('Xi,Yi'!AC31+AE31<DataInput!$B$20),\"\",(IF((('Xi,Yi'!AC31+AE31)>DataInput!$B$21),\"\",('Xi,Yi'!AC31+AE31))))))))","v":""},{"$f":"IF(AB31=\"\",\"\",IF(AC31=\"\",\"\",(DataInput!$B$4+(DataInput!$D$4-DataInput!$B$4)*RAND())))","v":""},{"$f":"DataInput!$B$16*RAND()","v":15.841168024621938},{"$f":"DataInput!$B$15*RAND()","v":3.3960611855262912},{"$f":"(IF('Xi,Yi'!AG31=\"\",\"\",(IF((('Xi,Yi'!AG31+AK31+AJ31/SQRT(3))<DataInput!$B$18),\"\",(IF((('Xi,Yi'!AG31+AK31+AJ31/SQRT(3))>DataInput!$B$19),\"\",(IF('Xi,Yi'!AH31=\"\",\"\",(IF(('Xi,Yi'!AH31+AJ31<DataInput!$B$20),\"\",(IF((('Xi,Yi'!AH31+AJ31)>DataInput!$B$21),\"\",('Xi,Yi'!AG31+AK31+AJ31/SQRT(3))))))))))))))","v":""},{"$f":"IF(AG31=\"\",\"\",(IF('Xi,Yi'!AH31=\"\",\"\",(IF(('Xi,Yi'!AH31+AJ31<DataInput!$B$20),\"\",(IF((('Xi,Yi'!AH31+AJ31)>DataInput!$B$21),\"\",('Xi,Yi'!AH31+AJ31))))))))","v":""},{"$f":"IF(AG31=\"\",\"\",IF(AH31=\"\",\"\",(DataInput!$B$4+(DataInput!$D$4-DataInput!$B$4)*RAND())))","v":""},{"$f":"DataInput!$B$16*RAND()","v":6.0938511702481639},{"$f":"DataInput!$B$15*RAND()","v":7.6614638811223807},{"$f":"(IF('Xi,Yi'!AL31=\"\",\"\",(IF((('Xi,Yi'!AL31+AP31+AO31/SQRT(3))<DataInput!$B$18),\"\",(IF((('Xi,Yi'!AL31+AP31+AO31/SQRT(3))>DataInput!$B$19),\"\",(IF('Xi,Yi'!AM31=\"\",\"\",(IF(('Xi,Yi'!AM31+AO31<DataInput!$B$20),\"\",(IF((('Xi,Yi'!AM31+AO31)>DataInput!$B$21),\"\",('Xi,Yi'!AL31+AP31+AO31/SQRT(3))))))))))))))","v":""},{"$f":"IF(AL31=\"\",\"\",(IF('Xi,Yi'!AM31=\"\",\"\",(IF(('Xi,Yi'!AM31+AO31<DataInput!$B$20),\"\",(IF((('Xi,Yi'!AM31+AO31)>DataInput!$B$21),\"\",('Xi,Yi'!AM31+AO31))))))))","v":""},{"$f":"IF(AL31=\"\",\"\",IF(AM31=\"\",\"\",(DataInput!$B$4+(DataInput!$D$4-DataInput!$B$4)*RAND())))","v":""},{"$f":"DataInput!$B$16*RAND()","v":10.889283006746938},{"$f":"DataInput!$B$15*RAND()","v":13.713412624953975},{"$f":"(IF('Xi,Yi'!AQ31=\"\",\"\",(IF((('Xi,Yi'!AQ31+AU31+AT31/SQRT(3))<DataInput!$B$18),\"\",(IF((('Xi,Yi'!AQ31+AU31+AT31/SQRT(3))>DataInput!$B$19),\"\",(IF('Xi,Yi'!AR31=\"\",\"\",(IF(('Xi,Yi'!AR31+AT31<DataInput!$B$20),\"\",(IF((('Xi,Yi'!AR31+AT31)>DataInput!$B$21),\"\",('Xi,Yi'!AQ31+AU31+AT31/SQRT(3))))))))))))))","v":""},{"$f":"IF(AQ31=\"\",\"\",(IF('Xi,Yi'!AR31=\"\",\"\",(IF(('Xi,Yi'!AR31+AT31<DataInput!$B$20),\"\",(IF((('Xi,Yi'!AR31+AT31)>DataInput!$B$21),\"\",('Xi,Yi'!AR31+AT31))))))))","v":""},{"$f":"IF(AQ31=\"\",\"\",IF(AR31=\"\",\"\",(DataInput!$B$4+(DataInput!$D$4-DataInput!$B$4)*RAND())))","v":""},{"$f":"DataInput!$B$16*RAND()","v":12.990230623943015},{"$f":"DataInput!$B$15*RAND()","v":0.48121757508726248},{"$f":"(IF('Xi,Yi'!AV31=\"\",\"\",(IF((('Xi,Yi'!AV31+AZ31+AY31/SQRT(3))<DataInput!$B$18),\"\",(IF((('Xi,Yi'!AV31+AZ31+AY31/SQRT(3))>DataInput!$B$19),\"\",(IF('Xi,Yi'!AW31=\"\",\"\",(IF(('Xi,Yi'!AW31+AY31<DataInput!$B$20),\"\",(IF((('Xi,Yi'!AW31+AY31)>DataInput!$B$21),\"\",('Xi,Yi'!AV31+AZ31+AY31/SQRT(3))))))))))))))","v":""},{"$f":"IF(AV31=\"\",\"\",(IF('Xi,Yi'!AW31=\"\",\"\",(IF(('Xi,Yi'!AW31+AY31<DataInput!$B$20),\"\",(IF((('Xi,Yi'!AW31+AY31)>DataInput!$B$21),\"\",('Xi,Yi'!AW31+AY31))))))))","v":""},{"$f":"IF(AV31=\"\",\"\",IF(AW31=\"\",\"\",(DataInput!$B$4+(DataInput!$D$4-DataInput!$B$4)*RAND())))","v":""},{"$f":"DataInput!$B$16*RAND()","v":1.5630983920717736},{"$f":"DataInput!$B$15*RAND()","v":3.2682970941199661},{"$f":"(IF('Xi,Yi'!BA31=\"\",\"\",(IF((('Xi,Yi'!BA31+BE31+BD31/SQRT(3))<DataInput!$B$18),\"\",(IF((('Xi,Yi'!BA31+BE31+BD31/SQRT(3))>DataInput!$B$19),\"\",(IF('Xi,Yi'!BB31=\"\",\"\",(IF(('Xi,Yi'!BB31+BD31<DataInput!$B$20),\"\",(IF((('Xi,Yi'!BB31+BD31)>DataInput!$B$21),\"\",('Xi,Yi'!BA31+BE31+BD31/SQRT(3))))))))))))))","v":""},{"$f":"IF(BA31=\"\",\"\",(IF('Xi,Yi'!BB31=\"\",\"\",(IF(('Xi,Yi'!BB31+BD31<DataInput!$B$20),\"\",(IF((('Xi,Yi'!BB31+BD31)>DataInput!$B$21),\"\",('Xi,Yi'!BB31+BD31))))))))","v":""},{"$f":"IF(BA31=\"\",\"\",IF(BB31=\"\",\"\",(DataInput!$B$4+(DataInput!$D$4-DataInput!$B$4)*RAND())))","v":""},{"$f":"DataInput!$B$16*RAND()","v":6.7684006752653882},{"$f":"DataInput!$B$15*RAND()","v":1.589165495990809}]
[null,null,null,null,null,null,null,{"$f":"(IF('Xi,Yi'!H32=\"\",\"\",(IF((('Xi,Yi'!H32+L32+K32/SQRT(3))<DataInput!$B$18),\"\",(IF((('Xi,Yi'!H32+L32+K32/SQRT(3))>DataInput!$B$19),\"\",(IF('Xi,Yi'!I32=\"\",\"\",(IF(('Xi,Yi'!I32+K32<DataInput!$B$20),\"\",(IF((('Xi,Yi'!I32+K32)>DataInput!$B$21),\"\",('Xi,Yi'!H32+L32+K32/SQRT(3))))))))))))))","v":""},{"$f":"IF(H32=\"\",\"\",(IF('Xi,Yi'!I32=\"\",\"\",(IF(('Xi,Yi'!I32+K32<DataInput!$B$20),\"\",(IF((('Xi,Yi'!I32+K32)>DataInput!$B$21),\"\",('Xi,Yi'!I32+K32))))))))","v":""},{"$f":"IF(H32=\"\",\"\",IF(I32=\"\",\"\",(DataInput!$B$4+(DataInput!$D$4-DataInput!$B$4)*RAND())))","v":""},{"$f":"DataInput!$B$16*RAND()","v":11.241878217632282},{"$f":"DataInput!$B$15*RAND()","v":13.196934149169211},{"$f":"(IF('Xi,Yi'!M32=\"\",\"\",(IF((('Xi,Yi'!M32+Q32+P32/SQRT(3))<DataInput!$B$18),\"\",(IF((('Xi,Yi'!M32+Q32+P32/SQRT(3))>DataInput!$B$19),\"\",(IF('Xi,Yi'!N32=\"\",\"\",(IF(('Xi,Yi'!N32+P32<DataInput!$B$20),\"\",(IF((('Xi,Yi'!N32+P32)>DataInput!$B$21),\"\",('Xi,Yi'!M32+Q32+P32/SQRT(3))))))))))))))","v":""},{"$f":"IF(M32=\"\",\"\",(IF('Xi,Yi'!N32=\"\",\"\",(IF(('Xi,Yi'!N32+P32<DataInput!$B$20),\"\",(IF((('Xi,Yi'!N32+P32)>DataInput!$B$21),\"\",('Xi,Yi'!N32+P32))))))))","v":""},{"$f":"IF(M32=\"\",\"\",IF(N32=\"\",\"\",(DataInput!$B$4+(DataInput!$D$4-DataInput!$B$4)*RAND())))","v":""},{"$f":"DataInput!$B$16*RAND()","v":5.1734964629578473},{"$f":"DataInput!$B$15*RAND()","v":4.3960614099508089},{"$f":"(IF('Xi,Yi'!R32=\"\",\"\",(IF((('Xi,Yi'!R32+V32+U32/SQRT(3))<DataInput!$B$18),\"\",(IF((('Xi,Yi'!R32+V32+U32/SQRT(3))>DataInput!$B$19),\"\",(IF('Xi,Yi'!S32=\"\",\"\",(IF(('Xi,Yi'!S32+U32<DataInput!$B$20),\"\",(IF((('Xi,Yi'!S32+U32)>DataInput!$B$21),\"\",('Xi,Yi'!R32+V32+U32/SQRT(3))))))))))))))","v":""},{"$f":"IF(R32=\"\",\"\",(IF('Xi,Yi'!S32=\"\",\"\",(IF(('Xi,Yi'!S32+U32<DataInput!$B$20),\"\",(IF((('Xi,Yi'!S32+U32)>DataInput!$B$21),\"\",('Xi,Yi'!S32+U32))))))))","v":""},{"$f":"IF(R32=\"\",\"\",IF(S32=\"\",\"\",(DataInput!$B$4+(DataInput!$D$4-DataInput!$B$4)*RAND())))","v":""},{"$f":"DataInput!$B$16*RAND()","v":11.272839304031457},{"$f":"DataInput!$B$15*RAND()","v":3.0373870255380613},{"$f":"(IF('Xi,Yi'!W32=\"\",\"\",(IF((('Xi,Yi'!W32+AA32+Z32/SQRT(3))<DataInput!$B$18),\"\",(IF((('Xi,Yi'!W32+AA32+Z32/SQRT(3))>DataInput!$B$19),\"\",(IF('Xi,Yi'!X32=\"\",\"\",(IF(('Xi,Yi'!X32+Z32<DataInput!$B$20),\"\",(IF((('Xi,Yi'!X32+Z32)>DataInput!$B$21),\"\",('Xi,Yi'!W32+AA32+Z32/SQRT(3))))))))))))))","v":""},{"$f":"IF(W32=\"\",\"\",(IF('Xi,Yi'!X32=\"\",\"\",(IF(('Xi,Yi'!X32+Z32<DataInput!$B$20),\"\",(IF((('Xi,Yi'!X32+Z32)>DataInput!$B$21),\"\",('Xi,Yi'!X32+Z32))))))))","v":""},{"$f":"IF(W32=\"\",\"\",IF(X32=\"\",\"\",(DataInput!$B$4+(DataInput!$D$4-DataInput!$B$4)*RAND())))","v":""},{"$f":"DataInput!$B$16*RAND()","v":5.1725022710871098},{"$f":"DataInput!$B$15*RAND()","v":12.49573353671212},{"$f":"(IF('Xi,Yi'!AB32=\"\",\"\",(IF((('Xi,Yi'!AB32+AF32+AE32/SQRT(3))<DataInput!$B$18),\"\",(IF((('Xi,Yi'!AB32+AF32+AE32/SQRT(3))>DataInput!$B$19),\"\",(IF('Xi,Yi'!AC32=\"\",\"\",(IF(('Xi,Yi'!AC32+AE32<DataInput!$B$20),\"\",(IF((('Xi,Yi'!AC32+AE32)>DataInput!$B$21),\"\",('Xi,Yi'!AB32+AF32+AE32/SQRT(3))))))))))))))","v":""},{"$f":"IF(AB32=\"\",\"\",(IF('Xi,Yi'!AC32=\"\",\"\",(IF(('Xi,Yi'!AC32+AE32<DataInput!$B$20),\"\",(IF((('Xi,Yi'!AC32+AE32)>DataInput!$B$21),\"\",('Xi,Yi'!AC32+AE32))))))))","v":""},{"$f":"IF(AB32=\"\",\"\",IF(AC32=\"\",\"\",(DataInput!$B$4+(DataInput!$D$4-DataInput!$B$4)*RAND())))","v":""},{"$f":"DataInput!$B$16*RAND()","v":8.1111255492332432},{"$f":"DataInput!$B$15*RAND()","v":3.3672356811176409},{"$f":"(IF('Xi,Yi'!AG32=\"\",\"\",(IF((('Xi,Yi'!AG32+AK32+AJ32/SQRT(3))<DataInput!$B$18),\"\",(IF((('Xi,Yi'!AG32+AK32+AJ32/SQRT(3))>DataInput!$B$19),\"\",(IF('Xi,Yi'!AH32=\"\",\"\",(IF(('Xi,Yi'!AH32+AJ32<DataInput!$B$20),\"\",(IF((('Xi,Yi'!AH32+AJ32)>DataInput!$B$21),\"\",('Xi,Yi'!AG32+AK32+AJ32/SQRT(3))))))))))))))","v":""},{"$f":"IF(AG32=\"\",\"\",(IF('Xi,Yi'!AH32=\"\",\"\",(IF(('Xi,Yi'!AH32+AJ32<DataInput!$B$20),\"\",(IF((('Xi,Yi'!AH32+AJ32)>DataInput!$B$21),\"\",('Xi,Yi'!AH32+AJ32))))))))","v":""},{"$f":"IF(AG32=\"\",\"\",IF(AH32=\"\",\"\",(DataInput!$B$4+(DataInput!$D$4-DataInput!$B$4)*RAND())))","v":""},{"$f":"DataInput!$B$16*RAND()","v":13.427412052733175},{"$f":"DataInput!$B$15*RAND()","v":6.164278725911152},{"$f":"(IF('Xi,Yi'!AL32=\"\",\"\",(IF((('Xi,Yi'!AL32+AP32+AO32/SQRT(3))<DataInput!$B$18),\"\",(IF((('Xi,Yi'!AL32+AP32+AO32/SQRT(3))>DataInput!$B$19),\"\",(IF('Xi,Yi'!AM32=\"\",\"\",(IF(('Xi,Yi'!AM32+AO32<DataInput!$B$20),\"\",(IF((('Xi,Yi'!AM32+AO32)>DataInput!$B$21),\"\",('Xi,Yi'!AL32+AP32+AO32/SQRT(3))))))))))))))","v":""},{"$f":"IF(AL32=\"\",\"\",(IF('Xi,Yi'!AM32=\"\",\"\",(IF(('Xi,Yi'!AM32+AO32<DataInput!$B$20),\"\",(IF((('Xi,Yi'!AM32+AO32)>DataInput!$B$21),\"\",('Xi,Yi'!AM32+AO32))))))))","v":""},{"$f":"IF(AL32=\"\",\"\",IF(AM32=\"\",\"\",(DataInput!$B$4+(DataInput!$D$4-DataInput!$B$4)*RAND())))","v":""},{"$f":"DataInput!$B$16*RAND()","v":9.453660848180375},{"$f":"DataInput!$B$15*RAND()","v":1.369248656843669},{"$f":"(IF('Xi,Yi'!AQ32=\"\",\"\",(IF((('Xi,Yi'!AQ32+AU32+AT32/SQRT(3))<DataInput!$B$18),\"\",(IF((('Xi,Yi'!AQ32+AU32+AT32/SQRT(3))>DataInput!$B$19),\"\",(IF('Xi,Yi'!AR32=\"\",\"\",(IF(('Xi,Yi'!AR32+AT32<DataInput!$B$20),\"\",(IF((('Xi,Yi'!AR32+AT32)>DataInput!$B$21),\"\",('Xi,Yi'!AQ32+AU32+AT32/SQRT(3))))))))))))))","v":""},{"$f":"IF(AQ32=\"\",\"\",(IF('Xi,Yi'!AR32=\"\",\"\",(IF(('Xi,Yi'!AR32+AT32<DataInput!$B$20),\"\",(IF((('Xi,Yi'!AR32+AT32)>DataInput!$B$21),\"\",('Xi,Yi'!AR32+AT32))))))))","v":""},{"$f":"IF(AQ32=\"\",\"\",IF(AR32=\"\",\"\",(DataInput!$B$4+(DataInput!$D$4-DataInput!$B$4)*RAND())))","v":""},{"$f":"DataInput!$B$16*RAND()","v":11.636662923077456},{"$f":"DataInput!$B$15*RAND()","v":2.636266880785227},{"$f":"(IF('Xi,Yi'!AV32=\"\",\"\",(IF((('Xi,Yi'!AV32+AZ32+AY32/SQRT(3))<DataInput!$B$18),\"\",(IF((('Xi,Yi'!AV32+AZ32+AY32/SQRT(3))>DataInput!$B$19),\"\",(IF('Xi,Yi'!AW32=\"\",\"\",(IF(('Xi,Yi'!AW32+AY32<DataInput!$B$20),\"\",(IF((('Xi,Yi'!AW32+AY32)>DataInput!$B$21),\"\",('Xi,Yi'!AV32+AZ32+AY32/SQRT(3))))))))))))))","v":""},{"$f":"IF(AV32=\"\",\"\",(IF('Xi,Yi'!AW32=\"\",\"\",(IF(('Xi,Yi'!AW32+AY32<DataInput!$B$20),\"\",(IF((('Xi,Yi'!AW32+AY32)>DataInput!$B$21),\"\",('Xi,Yi'!AW32+AY32))))))))","v":""},{"$f":"IF(AV32=\"\",\"\",IF(AW32=\"\",\"\",(DataInput!$B$4+(DataInput!$D$4-DataInput!$B$4)*RAND())))","v":""},{"$f":"DataInput!$B$16*RAND()","v":8.6853671470392122},{"$f":"DataInput!$B$15*RAND()","v":2.2784016548568871},{"$f":"(IF('Xi,Yi'!BA32=\"\",\"\",(IF((('Xi,Yi'!BA32+BE32+BD32/SQRT(3))<DataInput!$B$18),\"\",(IF((('Xi,Yi'!BA32+BE32+BD32/SQRT(3))>DataInput!$B$19),\"\",(IF('Xi,Yi'!BB32=\"\",\"\",(IF(('Xi,Yi'!BB32+BD32<DataInput!$B$20),\"\",(IF((('Xi,Yi'!BB32+BD32)>DataInput!$B$21),\"\",('Xi,Yi'!BA32+BE32+BD32/SQRT(3))))))))))))))","v":""},{"$f":"IF(BA32=\"\",\"\",(IF('Xi,Yi'!BB32=\"\",\"\",(IF(('Xi,Yi'!BB32+BD32<DataInput!$B$20),\"\",(IF((('Xi,Yi'!BB32+BD32)>DataInput!$B$21),\"\",('Xi,Yi'!BB32+BD32))))))))","v":""},{"$f":"IF(BA32=\"\",\"\",IF(BB32=\"\",\"\",(DataInput!$B$4+(DataInput!$D$4-DataInput!$B$4)*RAND())))","v":""},{"$f":"DataInput!$B$16*RAND()","v":11.070450905391192},{"$f":"DataInput!$B$15*RAND()","v":12.85701064096253}]
[null,null,null,null,null,null,null,{"$f":"(IF('Xi,Yi'!H33=\"\",\"\",(IF((('Xi,Yi'!H33+L33+K33/SQRT(3))<DataInput!$B$18),\"\",(IF((('Xi,Yi'!H33+L33+K33/SQRT(3))>DataInput!$B$19),\"\",(IF('Xi,Yi'!I33=\"\",\"\",(IF(('Xi,Yi'!I33+K33<DataInput!$B$20),\"\",(IF((('Xi,Yi'!I33+K33)>DataInput!$B$21),\"\",('Xi,Yi'!H33+L33+K33/SQRT(3))))))))))))))","v":""},{"$f":"IF(H33=\"\",\"\",(IF('Xi,Yi'!I33=\"\",\"\",(IF(('Xi,Yi'!I33+K33<DataInput!$B$20),\"\",(IF((('Xi,Yi'!I33+K33)>DataInput!$B$21),\"\",('Xi,Yi'!I33+K33))))))))","v":""},{"$f":"IF(H33=\"\",\"\",IF(I33=\"\",\"\",(DataInput!$B$4+(DataInput!$D$4-DataInput!$B$4)*RAND())))","v":""},{"$f":"DataInput!$B$16*RAND()","v":3.4461505297272503},{"$f":"DataInput!$B$15*RAND()","v":2.57270340338115},{"$f":"(IF('Xi,Yi'!M33=\"\",\"\",(IF((('Xi,Yi'!M33+Q33+P33/SQRT(3))<DataInput!$B$18),\"\",(IF((('Xi,Yi'!M33+Q33+P33/SQRT(3))>DataInput!$B$19),\"\",(IF('Xi,Yi'!N33=\"\",\"\",(IF(('Xi,Yi'!N33+P33<DataInput!$B$20),\"\",(IF((('Xi,Yi'!N33+P33)>DataInput!$B$21),\"\",('Xi,Yi'!M33+Q33+P33/SQRT(3))))))))))))))","v":""},{"$f":"IF(M33=\"\",\"\",(IF('Xi,Yi'!N33=\"\",\"\",(IF(('Xi,Yi'!N33+P33<DataInput!$B$20),\"\",(IF((('Xi,Yi'!N33+P33)>DataInput!$B$21),\"\",('Xi,Yi'!N33+P33))))))))","v":""},{"$f":"IF(M33=\"\",\"\",IF(N33=\"\",\"\",(DataInput!$B$4+(DataInput!$D$4-DataInput!$B$4)*RAND())))","v":""},{"$f":"DataInput!$B$16*RAND()","v":12.954592041547595},{"$f":"DataInput!$B$15*RAND()","v":13.540029488594723},{"$f":"(IF('Xi,Yi'!R33=\"\",\"\",(IF((('Xi,Yi'!R33+V33+U33/SQRT(3))<DataInput!$B$18),\"\",(IF((('Xi,Yi'!R33+V33+U33/SQRT(3))>DataInput!$B$19),\"\",(IF('Xi,Yi'!S33=\"\",\"\",(IF(('Xi,Yi'!S33+U33<DataInput!$B$20),\"\",(IF((('Xi,Yi'!S33+U33)>DataInput!$B$21),\"\",('Xi,Yi'!R33+V33+U33/SQRT(3))))))))))))))","v":""},{"$f":"IF(R33=\"\",\"\",(IF('Xi,Yi'!S33=\"\",\"\",(IF(('Xi,Yi'!S33+U33<DataInput!$B$20),\"\",(IF((('Xi,Yi'!S33+U33)>DataInput!$B$21),\"\",('Xi,Yi'!S33+U33))))))))","v":""},{"$f":"IF(R33=\"\",\"\",IF(S33=\"\",\"\",(DataInput!$B$4+(DataInput!$D$4-DataInput!$B$4)*RAND())))","v":""},{"$f":"DataInput!$B$16*RAND()","v":7.1526267158293999},{"$f":"DataInput!$B$15*RAND()","v":2.8388327338217545},{"$f":"(IF('Xi,Yi'!W33=\"\",\"\",(IF((('Xi,Yi'!W33+AA33+Z33/SQRT(3))<DataInput!$B$18),\"\",(IF((('Xi,Yi'!W33+AA33+Z33/SQRT(3))>DataInput!$B$19),\"\",(IF('Xi,Yi'!X33=\"\",\"\",(IF(('Xi,Yi'!X33+Z33<DataInput!$B$20),\"\",(IF((('Xi,Yi'!X33+Z33)>DataInput!$B$21),\"\",('Xi,Yi'!W33+AA33+Z33/SQRT(3))))))))))))))","v":""},{"$f":"IF(W33=\"\",\"\",(IF('Xi,Yi'!X33=\"\",\"\",(IF(('Xi,Yi'!X33+Z33<DataInput!$B$20),\"\",(IF((('Xi,Yi'!X33+Z33)>DataInput!$B$21),\"\",('Xi,Yi'!X33+Z33))))))))","v":""},{"$f":"IF(W33=\"\",\"\",IF(X33=\"\",\"\",(DataInput!$B$4+(DataInput!$D$4-DataInput!$B$4)*RAND())))","v":""},{"$f":"DataInput!$B$16*RAND()","v":5.659092806539415},{"$f":"DataInput!$B$15*RAND()","v":18.983681730558494},{"$f":"(IF('Xi,Yi'!AB33=\"\",\"\",(IF((('Xi,Yi'!AB33+AF33+AE33/SQRT(3))<DataInput!$B$18),\"\",(IF((('Xi,Yi'!AB33+AF33+AE33/SQRT(3))>DataInput!$B$19),\"\",(IF('Xi,Yi'!AC33=\"\",\"\",(IF(('Xi,Yi'!AC33+AE33<DataInput!$B$20),\"\",(IF((('Xi,Yi'!AC33+AE33)>DataInput!$B$21),\"\",('Xi,Yi'!AB33+AF33+AE33/SQRT(3))))))))))))))","v":""},{"$f":"IF(AB33=\"\",\"\",(IF('Xi,Yi'!AC33=\"\",\"\",(IF(('Xi,Yi'!AC33+AE33<DataInput!$B$20),\"\",(IF((('Xi,Yi'!AC33+AE33)>DataInput!$B$21),\"\",('Xi,Yi'!AC33+AE33))))))))","v":""},{"$f":"IF(AB33=\"\",\"\",IF(AC33=\"\",\"\",(DataInput!$B$4+(DataInput!$D$4-DataInput!$B$4)*RAND())))","v":""},{"$f":"DataInput!$B$16*RAND()","v":11.106874989707144},{"$f":"DataInput!$B$15*RAND()","v":11.297987254040523},{"$f":"(IF('Xi,Yi'!AG33=\"\",\"\",(IF((('Xi,Yi'!AG33+AK33+AJ33/SQRT(3))<DataInput!$B$18),\"\",(IF((('Xi,Yi'!AG33+AK33+AJ33/SQRT(3))>DataInput!$B$19),\"\",(IF('Xi,Yi'!AH33=\"\",\"\",(IF(('Xi,Yi'!AH33+AJ33<DataInput!$B$20),\"\",(IF((('Xi,Yi'!AH33+AJ33)>DataInput!$B$21),\"\",('Xi,Yi'!AG33+AK33+AJ33/SQRT(3))))))))))))))","v":""},{"$f":"IF(AG33=\"\",\"\",(IF('Xi,Yi'!AH33=\"\",\"\",(IF(('Xi,Yi'!AH33+AJ33<DataInput!$B$20),\"\",(IF((('Xi,Yi'!AH33+AJ33)>DataInput!$B$21),\"\",('Xi,Yi'!AH33+AJ33))))))))","v":""},{"$f":"IF(AG33=\"\",\"\",IF(AH33=\"\",\"\",(DataInput!$B$4+(DataInput!$D$4-DataInput!$B$4)*RAND())))","v":""},{"$f":"DataInput!$B$16*RAND()","v":13.778562982575565},{"$f":"DataInput!$B$15*RAND()","v":16.692382146717655},{"$f":"(IF('Xi,Yi'!AL33=\"\",\"\",(IF((('Xi,Yi'!AL33+AP33+AO33/SQRT(3))<DataInput!$B$18),\"\",(IF((('Xi,Yi'!AL33+AP33+AO33/SQRT(3))>DataInput!$B$19),\"\",(IF('Xi,Yi'!AM33=\"\",\"\",(IF(('Xi,Yi'!AM33+AO33<DataInput!$B$20),\"\",(IF((('Xi,Yi'!AM33+AO33)>DataInput!$B$21),\"\",('Xi,Yi'!AL33+AP33+AO33/SQRT(3))))))))))))))","v":""},{"$f":"IF(AL33=\"\",\"\",(IF('Xi,Yi'!AM33=\"\",\"\",(IF(('Xi,Yi'!AM33+AO33<DataInput!$B$20),\"\",(IF((('Xi,Yi'!AM33+AO33)>DataInput!$B$21),\"\",('Xi,Yi'!AM33+AO33))))))))","v":""},{"$f":"IF(AL33=\"\",\"\",IF(AM33=\"\",\"\",(DataInput!$B$4+(DataInput!$D$4-DataInput!$B$4)*RAND())))","v":""},{"$f":"DataInput!$B$16*RAND()","v":10.066017092562024},{"$f":"DataInput!$B$15*RAND()","v":18.058756884639688},{"$f":"(IF('Xi,Yi'!AQ33=\"\",\"\",(IF((('Xi,Yi'!AQ33+AU33+AT33/SQRT(3))<DataInput!$B$18),\"\",(IF((('Xi,Yi'!AQ33+AU33+AT33/SQRT(3))>DataInput!$B$19),\"\",(IF('Xi,Yi'!AR33=\"\",\"\",(IF(('Xi,Yi'!AR33+AT33<DataInput!$B$20),\"\",(IF((('Xi,Yi'!AR33+AT33)>DataInput!$B$21),\"\",('Xi,Yi'!AQ33+AU33+AT33/SQRT(3))))))))))))))","v":""},{"$f":"IF(AQ33=\"\",\"\",(IF('Xi,Yi'!AR33=\"\",\"\",(IF(('Xi,Yi'!AR33+AT33<DataInput!$B$20),\"\",(IF((('Xi,Yi'!AR33+AT33)>DataInput!$B$21),\"\",('Xi,Yi'!AR33+AT33))))))))","v":""},{"$f":"IF(AQ33=\"\",\"\",IF(AR33=\"\",\"\",(DataInput!$B$4+(DataInput!$D$4-DataInput!$B$4)*RAND())))","v":""},{"$f":"DataInput!$B$16*RAND()","v":10.935431383431336},{"$f":"DataInput!$B$15*RAND()","v":19.307091028079164},{"$f":"(IF('Xi,Yi'!AV33=\"\",\"\",(IF((('Xi,Yi'!AV33+AZ33+AY33/SQRT(3))<DataInput!$B$18),\"\",(IF((('Xi,Yi'!AV33+AZ33+AY33/SQRT(3))>DataInput!$B$19),\"\",(IF('Xi,Yi'!AW33=\"\",\"\",(IF(('Xi,Yi'!AW33+AY33<DataInput!$B$20),\"\",(IF((('Xi,Yi'!AW33+AY33)>DataInput!$B$21),\"\",('Xi,Yi'!AV33+AZ33+AY33/SQRT(3))))))))))))))","v":""},{"$f":"IF(AV33=\"\",\"\",(IF('Xi,Yi'!AW33=\"\",\"\",(IF(('Xi,Yi'!AW33+AY33<DataInput!$B$20),\"\",(IF((('Xi,Yi'!AW33+AY33)>DataInput!$B$21),\"\",('Xi,Yi'!AW33+AY33))))))))","v":""},{"$f":"IF(AV33=\"\",\"\",IF(AW33=\"\",\"\",(DataInput!$B$4+(DataInput!$D$4-DataInput!$B$4)*RAND())))","v":""},{"$f":"DataInput!$B$16*RAND()","v":7.4382412726221414},{"$f":"DataInput!$B$15*RAND()","v":10.441839710576867},{"$f":"(IF('Xi,Yi'!BA33=\"\",\"\",(IF((('Xi,Yi'!BA33+BE33+BD33/SQRT(3))<DataInput!$B$18),\"\",(IF((('Xi,Yi'!BA33+BE33+BD33/SQRT(3))>DataInput!$B$19),\"\",(IF('Xi,Yi'!BB33=\"\",\"\",(IF(('Xi,Yi'!BB33+BD33<DataInput!$B$20),\"\",(IF((('Xi,Yi'!BB33+BD33)>DataInput!$B$21),\"\",('Xi,Yi'!BA33+BE33+BD33/SQRT(3))))))))))))))","v":""},{"$f":"IF(BA33=\"\",\"\",(IF('Xi,Yi'!BB33=\"\",\"\",(IF(('Xi,Yi'!BB33+BD33<DataInput!$B$20),\"\",(IF((('Xi,Yi'!BB33+BD33)>DataInput!$B$21),\"\",('Xi,Yi'!BB33+BD33))))))))","v":""},{"$f":"IF(BA33=\"\",\"\",IF(BB33=\"\",\"\",(DataInput!$B$4+(DataInput!$D$4-DataInput!$B$4)*RAND())))","v":""},{"$f":"DataInput!$B$16*RAND()","v":16.857998759497676},{"$f":"DataInput!$B$15*RAND()","v":19.388480968478092}]
[null,null,null,null,null,null,null,{"$f":"(IF('Xi,Yi'!H34=\"\",\"\",(IF((('Xi,Yi'!H34+L34+K34/SQRT(3))<DataInput!$B$18),\"\",(IF((('Xi,Yi'!H34+L34+K34/SQRT(3))>DataInput!$B$19),\"\",(IF('Xi,Yi'!I34=\"\",\"\",(IF(('Xi,Yi'!I34+K34<DataInput!$B$20),\"\",(IF((('Xi,Yi'!I34+K34)>DataInput!$B$21),\"\",('Xi,Yi'!H34+L34+K34/SQRT(3))))))))))))))","v":""},{"$f":"IF(H34=\"\",\"\",(IF('Xi,Yi'!I34=\"\",\"\",(IF(('Xi,Yi'!I34+K34<DataInput!$B$20),\"\",(IF((('Xi,Yi'!I34+K34)>DataInput!$B$21),\"\",('Xi,Yi'!I34+K34))))))))","v":""},{"$f":"IF(H34=\"\",\"\",IF(I34=\"\",\"\",(DataInput!$B$4+(DataInput!$D$4-DataInput!$B$4)*RAND())))","v":""},{"$f":"DataInput!$B$16*RAND()","v":12.564366348244086},{"$f":"DataInput!$B$15*RAND()","v":1.3556279513321867},{"$f":"(IF('Xi,Yi'!M34=\"\",\"\",(IF((('Xi,Yi'!M34+Q34+P34/SQRT(3))<DataInput!$B$18),\"\",(IF((('Xi,Yi'!M34+Q34+P34/SQRT(3))>DataInput!$B$19),\"\",(IF('Xi,Yi'!N34=\"\",\"\",(IF(('Xi,Yi'!N34+P34<DataInput!$B$20),\"\",(IF((('Xi,Yi'!N34+P34)>DataInput!$B$21),\"\",('Xi,Yi'!M34+Q34+P34/SQRT(3))))))))))))))","v":""},{"$f":"IF(M34=\"\",\"\",(IF('Xi,Yi'!N34=\"\",\"\",(IF(('Xi,Yi'!N34+P34<DataInput!$B$20),\"\",(IF((('Xi,Yi'!N34+P34)>DataInput!$B$21),\"\",('Xi,Yi'!N34+P34))))))))","v":""},{"$f":"IF(M34=\"\",\"\",IF(N34=\"\",\"\",(DataInput!$B$4+(DataInput!$D$4-DataInput!$B$4)*RAND())))","v":""},{"$f":"DataInput!$B$16*RAND()","v":6.6184596449947195},{"$f":"DataInput!$B$15*RAND()","v":12.553317795050539},{"$f":"(IF('Xi,Yi'!R34=\"\",\"\",(IF((('Xi,Yi'!R34+V34+U34/SQRT(3))<DataInput!$B$18),\"\",(IF((('Xi,Yi'!R34+V34+U34/SQRT(3))>DataInput!$B$19),\"\",(IF('Xi,Yi'!S34=\"\",\"\",(IF(('Xi,Yi'!S34+U34<DataInput!$B$20),\"\",(IF((('Xi,Yi'!S34+U34)>DataInput!$B$21),\"\",('Xi,Yi'!R34+V34+U34/SQRT(3))))))))))))))","v":""},{"$f":"IF(R34=\"\",\"\",(IF('Xi,Yi'!S34=\"\",\"\",(IF(('Xi,Yi'!S34+U34<DataInput!$B$20),\"\",(IF((('Xi,Yi'!S34+U34)>DataInput!$B$21),\"\",('Xi,Yi'!S34+U34))))))))","v":""},{"$f":"IF(R34=\"\",\"\",IF(S34=\"\",\"\",(DataInput!$B$4+(DataInput!$D$4-DataInput!$B$4)*RAND())))","v":""},{"$f":"DataInput!$B$16*RAND()","v":11.312925371866266},{"$f":"DataInput!$B$15*RAND()","v":6.8274788346926796},{"$f":"(IF('Xi,Yi'!W34=\"\",\"\",(IF((('Xi,Yi'!W34+AA34+Z34/SQRT(3))<DataInput!$B$18),\"\",(IF((('Xi,Yi'!W34+AA34+Z34/SQRT(3))>DataInput!$B$19),\"\",(IF('Xi,Yi'!X34=\"\",\"\",(IF(('Xi,Yi'!X34+Z34<DataInput!$B$20),\"\",(IF((('Xi,Yi'!X34+Z34)>DataInput!$B$21),\"\",('Xi,Yi'!W34+AA34+Z34/SQRT(3))))))))))))))","v":""},{"$f":"IF(W34=\"\",\"\",(IF('Xi,Yi'!X34=\"\",\"\",(IF(('Xi,Yi'!X34+Z34<DataInput!$B$20),\"\",(IF((('Xi,Yi'!X34+Z34)>DataInput!$B$21),\"\",('Xi,Yi'!X34+Z34))))))))","v":""},{"$f":"IF(W34=\"\",\"\",IF(X34=\"\",\"\",(DataInput!$B$4+(DataInput!$D$4-DataInput!$B$4)*RAND())))","v":""},{"$f":"DataInput!$B$16*RAND()","v":15.467607230362939},{"$f":"DataInput!$B$15*RAND()","v":4.3471863207893398},{"$f":"(IF('Xi,Yi'!AB34=\"\",\"\",(IF((('Xi,Yi'!AB34+AF34+AE34/SQRT(3))<DataInput!$B$18),\"\",(IF((('Xi,Yi'!AB34+AF34+AE34/SQRT(3))>DataInput!$B$19),\"\",(IF('Xi,Yi'!AC34=\"\",\"\",(IF(('Xi,Yi'!AC34+AE34<DataInput!$B$20),\"\",(IF((('Xi,Yi'!AC34+AE34)>DataInput!$B$21),\"\",('Xi,Yi'!AB34+AF34+AE34/SQRT(3))))))))))))))","v":""},{"$f":"IF(AB34=\"\",\"\",(IF('Xi,Yi'!AC34=\"\",\"\",(IF(('Xi,Yi'!AC34+AE34<DataInput!$B$20),\"\",(IF((('Xi,Yi'!AC34+AE34)>DataInput!$B$21),\"\",('Xi,Yi'!AC34+AE34))))))))","v":""},{"$f":"IF(AB34=\"\",\"\",IF(AC34=\"\",\"\",(DataInput!$B$4+(DataInput!$D$4-DataInput!$B$4)*RAND())))","v":""},{"$f":"DataInput!$B$16*RAND()","v":16.401037682294362},{"$f":"DataInput!$B$15*RAND()","v":12.457296862745064},{"$f":"(IF('Xi,Yi'!AG34=\"\",\"\",(IF((('Xi,Yi'!AG34+AK34+AJ34/SQRT(3))<DataInput!$B$18),\"\",(IF((('Xi,Yi'!AG34+AK34+AJ34/SQRT(3))>DataInput!$B$19),\"\",(IF('Xi,Yi'!AH34=\"\",\"\",(IF(('Xi,Yi'!AH34+AJ34<DataInput!$B$20),\"\",(IF((('Xi,Yi'!AH34+AJ34)>DataInput!$B$21),\"\",('Xi,Yi'!AG34+AK34+AJ34/SQRT(3))))))))))))))","v":""},{"$f":"IF(AG34=\"\",\"\",(IF('Xi,Yi'!AH34=\"\",\"\",(IF(('Xi,Yi'!AH34+AJ34<DataInput!$B$20),\"\",(IF((('Xi,Yi'!AH34+AJ34)>DataInput!$B$21),\"\",('Xi,Yi'!AH34+AJ34))))))))","v":""},{"$f":"IF(AG34=\"\",\"\",IF(AH34=\"\",\"\",(DataInput!$B$4+(DataInput!$D$4-DataInput!$B$4)*RAND())))","v":""},{"$f":"DataInput!$B$16*RAND()","v":6.6134378075770934},{"$f":"DataInput!$B$15*RAND()","v":12.953153209443787},{"$f":"(IF('Xi,Yi'!AL34=\"\",\"\",(IF((('Xi,Yi'!AL34+AP34+AO34/SQRT(3))<DataInput!$B$18),\"\",(IF((('Xi,Yi'!AL34+AP34+AO34/SQRT(3))>DataInput!$B$19),\"\",(IF('Xi,Yi'!AM34=\"\",\"\",(IF(('Xi,Yi'!AM34+AO34<DataInput!$B$20),\"\",(IF((('Xi,Yi'!AM34+AO34)>DataInput!$B$21),\"\",('Xi,Yi'!AL34+AP34+AO34/SQRT(3))))))))))))))","v":""},{"$f":"IF(AL34=\"\",\"\",(IF('Xi,Yi'!AM34=\"\",\"\",(IF(('Xi,Yi'!AM34+AO34<DataInput!$B$20),\"\",(IF((('Xi,Yi'!AM34+AO34)>DataInput!$B$21),\"\",('Xi,Yi'!AM34+AO34))))))))","v":""},{"$f":"IF(AL34=\"\",\"\",IF(AM34=\"\",\"\",(DataInput!$B$4+(DataInput!$D$4-DataInput!$B$4)*RAND())))","v":""},{"$f":"DataInput!$B$16*RAND()","v":12.730407617353432},{"$f":"DataInput!$B$15*RAND()","v":18.775708123210435},{"$f":"(IF('Xi,Yi'!AQ34=\"\",\"\",(IF((('Xi,Yi'!AQ34+AU34+AT34/SQRT(3))<DataInput!$B$18),\"\",(IF((('Xi,Yi'!AQ34+AU34+AT34/SQRT(3))>DataInput!$B$19),\"\",(IF('Xi,Yi'!AR34=\"\",\"\",(IF(('Xi,Yi'!AR34+AT34<DataInput!$B$20),\"\",(IF((('Xi,Yi'!AR34+AT34)>DataInput!$B$21),\"\",('Xi,Yi'!AQ34+AU34+AT34/SQRT(3))))))))))))))","v":""},{"$f":"IF(AQ34=\"\",\"\",(IF('Xi,Yi'!AR34=\"\",\"\",(IF(('Xi,Yi'!AR34+AT34<DataInput!$B$20),\"\",(IF((('Xi,Yi'!AR34+AT34)>DataInput!$B$21),\"\",('Xi,Yi'!AR34+AT34))))))))","v":""},{"$f":"IF(AQ34=\"\",\"\",IF(AR34=\"\",\"\",(DataInput!$B$4+(DataInput!$D$4-DataInput!$B$4)*RAND())))","v":""},{"$f":"DataInput!$B$16*RAND()","v":5.1542441054900472},{"$f":"DataInput!$B$15*RAND()","v":3.3981834415888219},{"$f":"(IF('Xi,Yi'!AV34=\"\",\"\",(IF((('Xi,Yi'!AV34+AZ34+AY34/SQRT(3))<DataInput!$B$18),\"\",(IF((('Xi,Yi'!AV34+AZ34+AY34/SQRT(3))>DataInput!$B$19),\"\",(IF('Xi,Yi'!AW34=\"\",\"\",(IF(('Xi,Yi'!AW34+AY34<DataInput!$B$20),\"\",(IF((('Xi,Yi'!AW34+AY34)>DataInput!$B$21),\"\",('Xi,Yi'!AV34+AZ34+AY34/SQRT(3))))))))))))))","v":""},{"$f":"IF(AV34=\"\",\"\",(IF('Xi,Yi'!AW34=\"\",\"\",(IF(('Xi,Yi'!AW34+AY34<DataInput!$B$20),\"\",(IF((('Xi,Yi'!AW34+AY34)>DataInput!$B$21),\"\",('Xi,Yi'!AW34+AY34))))))))","v":""},{"$f":"IF(AV34=\"\",\"\",IF(AW34=\"\",\"\",(DataInput!$B$4+(DataInput!$D$4-DataInput!$B$4)*RAND())))","v":""},{"$f":"DataInput!$B$16*RAND()","v":2.0421792045832836},{"$f":"DataInput!$B$15*RAND()","v":11.554269389009971},{"$f":"(IF('Xi,Yi'!BA34=\"\",\"\",(IF((('Xi,Yi'!BA34+BE34+BD34/SQRT(3))<DataInput!$B$18),\"\",(IF((('Xi,Yi'!BA34+BE34+BD34/SQRT(3))>DataInput!$B$19),\"\",(IF('Xi,Yi'!BB34=\"\",\"\",(IF(('Xi,Yi'!BB34+BD34<DataInput!$B$20),\"\",(IF((('Xi,Yi'!BB34+BD34)>DataInput!$B$21),\"\",('Xi,Yi'!BA34+BE34+BD34/SQRT(3))))))))))))))","v":""},{"$f":"IF(BA34=\"\",\"\",(IF('Xi,Yi'!BB34=\"\",\"\",(IF(('Xi,Yi'!BB34+BD34<DataInput!$B$20),\"\",(IF((('Xi,Yi'!BB34+BD34)>DataInput!$B$21),\"\",('Xi,Yi'!BB34+BD34))))))))","v":""},{"$f":"IF(BA34=\"\",\"\",IF(BB34=\"\",\"\",(DataInput!$B$4+(DataInput!$D$4-DataInput!$B$4)*RAND())))","v":""},{"$f":"DataInput!$B$16*RAND()","v":13.276432945277252},{"$f":"DataInput!$B$15*RAND()","v":12.716012019825339}]
[null,null,null,null,null,null,null,{"$f":"(IF('Xi,Yi'!H35=\"\",\"\",(IF((('Xi,Yi'!H35+L35+K35/SQRT(3))<DataInput!$B$18),\"\",(IF((('Xi,Yi'!H35+L35+K35/SQRT(3))>DataInput!$B$19),\"\",(IF('Xi,Yi'!I35=\"\",\"\",(IF(('Xi,Yi'!I35+K35<DataInput!$B$20),\"\",(IF((('Xi,Yi'!I35+K35)>DataInput!$B$21),\"\",('Xi,Yi'!H35+L35+K35/SQRT(3))))))))))))))","v":""},{"$f":"IF(H35=\"\",\"\",(IF('Xi,Yi'!I35=\"\",\"\",(IF(('Xi,Yi'!I35+K35<DataInput!$B$20),\"\",(IF((('Xi,Yi'!I35+K35)>DataInput!$B$21),\"\",('Xi,Yi'!I35+K35))))))))","v":""},{"$f":"IF(H35=\"\",\"\",IF(I35=\"\",\"\",(DataInput!$B$4+(DataInput!$D$4-DataInput!$B$4)*RAND())))","v":""},{"$f":"DataInput!$B$16*RAND()","v":13.231439524748893},{"$f":"DataInput!$B$15*RAND()","v":0.69494628027232519},{"$f":"(IF('Xi,Yi'!M35=\"\",\"\",(IF((('Xi,Yi'!M35+Q35+P35/SQRT(3))<DataInput!$B$18),\"\",(IF((('Xi,Yi'!M35+Q35+P35/SQRT(3))>DataInput!$B$19),\"\",(IF('Xi,Yi'!N35=\"\",\"\",(IF(('Xi,Yi'!N35+P35<DataInput!$B$20),\"\",(IF((('Xi,Yi'!N35+P35)>DataInput!$B$21),\"\",('Xi,Yi'!M35+Q35+P35/SQRT(3))))))))))))))","v":""},{"$f":"IF(M35=\"\",\"\",(IF('Xi,Yi'!N35=\"\",\"\",(IF(('Xi,Yi'!N35+P35<DataInput!$B$20),\"\",(IF((('Xi,Yi'!N35+P35)>DataInput!$B$21),\"\",('Xi,Yi'!N35+P35))))))))","v":""},{"$f":"IF(M35=\"\",\"\",IF(N35=\"\",\"\",(DataInput!$B$4+(DataInput!$D$4-DataInput!$B$4)*RAND())))","v":""},{"$f":"DataInput!$B$16*RAND()","v":9.1326380102710516},{"$f":"DataInput!$B$15*RAND()","v":4.4505605375096193},{"$f":"(IF('Xi,Yi'!R35=\"\",\"\",(IF((('Xi,Yi'!R35+V35+U35/SQRT(3))<DataInput!$B$18),\"\",(IF((('Xi,Yi'!R35+V35+U35/SQRT(3))>DataInput!$B$19),\"\",(IF('Xi,Yi'!S35=\"\",\"\",(IF(('Xi,Yi'!S35+U35<DataInput!$B$20),\"\",(IF((('Xi,Yi'!S35+U35)>DataInput!$B$21),\"\",('Xi,Yi'!R35+V35+U35/SQRT(3))))))))))))))","v":""},{"$f":"IF(R35=\"\",\"\",(IF('Xi,Yi'!S35=\"\",\"\",(IF(('Xi,Yi'!S35+U35<DataInput!$B$20),\"\",(IF((('Xi,Yi'!S35+U35)>DataInput!$B$21),\"\",('Xi,Yi'!S35+U35))))))))","v":""},{"$f":"IF(R35=\"\",\"\",IF(S35=\"\",\"\",(DataInput!$B$4+(DataInput!$D$4-DataInput!$B$4)*RAND())))","v":""},{"$f":"DataInput!$B$16*RAND()","v":10.399931035246214},{"$f":"DataInput!$B$15*RAND()","v":0.58198404736877019},{"$f":"(IF('Xi,Yi'!W35=\"\",\"\",(IF((('Xi,Yi'!W35+AA35+Z35/SQRT(3))<DataInput!$B$18),\"\",(IF((('Xi,Yi'!W35+AA35+Z35/SQRT(3))>DataInput!$B$19),\"\",(IF('Xi,Yi'!X35=\"\",\"\",(IF(('Xi,Yi'!X35+Z35<DataInput!$B$20),\"\",(IF((('Xi,Yi'!X35+Z35)>DataInput!$B$21),\"\",('Xi,Yi'!W35+AA35+Z35/SQRT(3))))))))))))))","v":""},{"$f":"IF(W35=\"\",\"\",(IF('Xi,Yi'!X35=\"\",\"\",(IF(('Xi,Yi'!X35+Z35<DataInput!$B$20),\"\",(IF((('Xi,Yi'!X35+Z35)>DataInput!$B$21),\"\",('Xi,Yi'!X35+Z35))))))))","v":""},{"$f":"IF(W35=\"\",\"\",IF(X35=\"\",\"\",(DataInput!$B$4+(DataInput!$D$4-DataInput!$B$4)*RAND())))","v":""},{"$f":"DataInput!$B$16*RAND()","v":6.248618695621885},{"$f":"DataInput!$B$15*RAND()","v":14.016815189000708},{"$f":"(IF('Xi,Yi'!AB35=\"\",\"\",(IF((('Xi,Yi'!AB35+AF35+AE35/SQRT(3))<DataInput!$B$18),\"\",(IF((('Xi,Yi'!AB35+AF35+AE35/SQRT(3))>DataInput!$B$19),\"\",(IF('Xi,Yi'!AC35=\"\",\"\",(IF(('Xi,Yi'!AC35+AE35<DataInput!$B$20),\"\",(IF((('Xi,Yi'!AC35+AE35)>DataInput!$B$21),\"\",('Xi,Yi'!AB35+AF35+AE35/SQRT(3))))))))))))))","v":""},{"$f":"IF(AB35=\"\",\"\",(IF('Xi,Yi'!AC35=\"\",\"\",(IF(('Xi,Yi'!AC35+AE35<DataInput!$B$20),\"\",(IF((('Xi,Yi'!AC35+AE35)>DataInput!$B$21),\"\",('Xi,Yi'!AC35+AE35))))))))","v":""},{"$f":"IF(AB35=\"\",\"\",IF(AC35=\"\",\"\",(DataInput!$B$4+(DataInput!$D$4-DataInput!$B$4)*RAND())))","v":""},{"$f":"DataInput!$B$16*RAND()","v":3.5868639526025925},{"$f":"DataInput!$B$15*RAND()","v":8.2457437801682598},{"$f":"(IF('Xi,Yi'!AG35=\"\",\"\",(IF((('Xi,Yi'!AG35+AK35+AJ35/SQRT(3))<DataInput!$B$18),\"\",(IF((('Xi,Yi'!AG35+AK35+AJ35/SQRT(3))>DataInput!$B$19),\"\",(IF('Xi,Yi'!AH35=\"\",\"\",(IF(('Xi,Yi'!AH35+AJ35<DataInput!$B$20),\"\",(IF((('Xi,Yi'!AH35+AJ35)>DataInput!$B$21),\"\",('Xi,Yi'!AG35+AK35+AJ35/SQRT(3))))))))))))))","v":""},{"$f":"IF(AG35=\"\",\"\",(IF('Xi,Yi'!AH35=\"\",\"\",(IF(('Xi,Yi'!AH35+AJ35<DataInput!$B$20),\"\",(IF((('Xi,Yi'!AH35+AJ35)>DataInput!$B$21),\"\",('Xi,Yi'!AH35+AJ35))))))))","v":""},{"$f":"IF(AG35=\"\",\"\",IF(AH35=\"\",\"\",(DataInput!$B$4+(DataInput!$D$4-DataInput!$B$4)*RAND())))","v":""},{"$f":"DataInput!$B$16*RAND()","v":16.474122137285377},{"$f":"DataInput!$B$15*RAND()","v":3.6197450443376447},{"$f":"(IF('Xi,Yi'!AL35=\"\",\"\",(IF((('Xi,Yi'!AL35+AP35+AO35/SQRT(3))<DataInput!$B$18),\"\",(IF((('Xi,Yi'!AL35+AP35+AO35/SQRT(3))>DataInput!$B$19),\"\",(IF('Xi,Yi'!AM35=\"\",\"\",(IF(('Xi,Yi'!AM35+AO35<DataInput!$B$20),\"\",(IF((('Xi,Yi'!AM35+AO35)>DataInput!$B$21),\"\",('Xi,Yi'!AL35+AP35+AO35/SQRT(3))))))))))))))","v":""},{"$f":"IF(AL35=\"\",\"\",(IF('Xi,Yi'!AM35=\"\",\"\",(IF(('Xi,Yi'!AM35+AO35<DataInput!$B$20),\"\",(IF((('Xi,Yi'!AM35+AO35)>DataInput!$B$21),\"\",('Xi,Yi'!AM35+AO35))))))))","v":""},{"$f":"IF(AL35=\"\",\"\",IF(AM35=\"\",\"\",(DataInput!$B$4+(DataInput!$D$4-DataInput!$B$4)*RAND())))","v":""},{"$f":"DataInput!$B$16*RAND()","v":15.571132896957732},{"$f":"DataInput!$B$15*RAND()","v":4.5292229800908803},{"$f":"(IF('Xi,Yi'!AQ35=\"\",\"\",(IF((('Xi,Yi'!AQ35+AU35+AT35/SQRT(3))<DataInput!$B$18),\"\",(IF((('Xi,Yi'!AQ35+AU35+AT35/SQRT(3))>DataInput!$B$19),\"\",(IF('Xi,Yi'!AR35=\"\",\"\",(IF(('Xi,Yi'!AR35+AT35<DataInput!$B$20),\"\",(IF((('Xi,Yi'!AR35+AT35)>DataInput!$B$21),\"\",('Xi,Yi'!AQ35+AU35+AT35/SQRT(3))))))))))))))","v":""},{"$f":"IF(AQ35=\"\",\"\",(IF('Xi,Yi'!AR35=\"\",\"\",(IF(('Xi,Yi'!AR35+AT35<DataInput!$B$20),\"\",(IF((('Xi,Yi'!AR35+AT35)>DataInput!$B$21),\"\",('Xi,Yi'!AR35+AT35))))))))","v":""},{"$f":"IF(AQ35=\"\",\"\",IF(AR35=\"\",\"\",(DataInput!$B$4+(DataInput!$D$4-DataInput!$B$4)*RAND())))","v":""},{"$f":"DataInput!$B$16*RAND()","v":15.948205847084795},{"$f":"DataInput!$B$15*RAND()","v":14.004423970632361},{"$f":"(IF('Xi,Yi'!AV35=\"\",\"\",(IF((('Xi,Yi'!AV35+AZ35+AY35/SQRT(3))<DataInput!$B$18),\"\",(IF((('Xi,Yi'!AV35+AZ35+AY35/SQRT(3))>DataInput!$B$19),\"\",(IF('Xi,Yi'!AW35=\"\",\"\",(IF(('Xi,Yi'!AW35+AY35<DataInput!$B$20),\"\",(IF((('Xi,Yi'!AW35+AY35)>DataInput!$B$21),\"\",('Xi,Yi'!AV35+AZ35+AY35/SQRT(3))))))))))))))","v":""},{"$f":"IF(AV35=\"\",\"\",(IF('Xi,Yi'!AW35=\"\",\"\",(IF(('Xi,Yi'!AW35+AY35<DataInput!$B$20),\"\",(IF((('Xi,Yi'!AW35+AY35)>DataInput!$B$21),\"\",('Xi,Yi'!AW35+AY35))))))))","v":""},{"$f":"IF(AV35=\"\",\"\",IF(AW35=\"\",\"\",(DataInput!$B$4+(DataInput!$D$4-DataInput!$B$4)*RAND())))","v":""},{"$f":"DataInput!$B$16*RAND()","v":13.727742847113268},{"$f":"DataInput!$B$15*RAND()","v":16.783123191836093},{"$f":"(IF('Xi,Yi'!BA35=\"\",\"\",(IF((('Xi,Yi'!BA35+BE35+BD35/SQRT(3))<DataInput!$B$18),\"\",(IF((('Xi,Yi'!BA35+BE35+BD35/SQRT(3))>DataInput!$B$19),\"\",(IF('Xi,Yi'!BB35=\"\",\"\",(IF(('Xi,Yi'!BB35+BD35<DataInput!$B$20),\"\",(IF((('Xi,Yi'!BB35+BD35)>DataInput!$B$21),\"\",('Xi,Yi'!BA35+BE35+BD35/SQRT(3))))))))))))))","v":""},{"$f":"IF(BA35=\"\",\"\",(IF('Xi,Yi'!BB35=\"\",\"\",(IF(('Xi,Yi'!BB35+BD35<DataInput!$B$20),\"\",(IF((('Xi,Yi'!BB35+BD35)>DataInput!$B$21),\"\",('Xi,Yi'!BB35+BD35))))))))","v":""},{"$f":"IF(BA35=\"\",\"\",IF(BB35=\"\",\"\",(DataInput!$B$4+(DataInput!$D$4-DataInput!$B$4)*RAND())))","v":""},{"$f":"DataInput!$B$16*RAND()","v":6.4953300006632917},{"$f":"DataInput!$B$15*RAND()","v":6.2741612269903655}]
[null,null,null,null,null,null,null,{"$f":"(IF('Xi,Yi'!H36=\"\",\"\",(IF((('Xi,Yi'!H36+L36+K36/SQRT(3))<DataInput!$B$18),\"\",(IF((('Xi,Yi'!H36+L36+K36/SQRT(3))>DataInput!$B$19),\"\",(IF('Xi,Yi'!I36=\"\",\"\",(IF(('Xi,Yi'!I36+K36<DataInput!$B$20),\"\",(IF((('Xi,Yi'!I36+K36)>DataInput!$B$21),\"\",('Xi,Yi'!H36+L36+K36/SQRT(3))))))))))))))","v":""},{"$f":"IF(H36=\"\",\"\",(IF('Xi,Yi'!I36=\"\",\"\",(IF(('Xi,Yi'!I36+K36<DataInput!$B$20),\"\",(IF((('Xi,Yi'!I36+K36)>DataInput!$B$21),\"\",('Xi,Yi'!I36+K36))))))))","v":""},{"$f":"IF(H36=\"\",\"\",IF(I36=\"\",\"\",(DataInput!$B$4+(DataInput!$D$4-DataInput!$B$4)*RAND())))","v":""},{"$f":"DataInput!$B$16*RAND()","v":15.307716275886083},{"$f":"DataInput!$B$15*RAND()","v":2.9931491295993826},{"$f":"(IF('Xi,Yi'!M36=\"\",\"\",(IF((('Xi,Yi'!M36+Q36+P36/SQRT(3))<DataInput!$B$18),\"\",(IF((('Xi,Yi'!M36+Q36+P36/SQRT(3))>DataInput!$B$19),\"\",(IF('Xi,Yi'!N36=\"\",\"\",(IF(('Xi,Yi'!N36+P36<DataInput!$B$20),\"\",(IF((('Xi,Yi'!N36+P36)>DataInput!$B$21),\"\",('Xi,Yi'!M36+Q36+P36/SQRT(3))))))))))))))","v":""},{"$f":"IF(M36=\"\",\"\",(IF('Xi,Yi'!N36=\"\",\"\",(IF(('Xi,Yi'!N36+P36<DataInput!$B$20),\"\",(IF((('Xi,Yi'!N36+P36)>DataInput!$B$21),\"\",('Xi,Yi'!N36+P36))))))))","v":""},{"$f":"IF(M36=\"\",\"\",IF(N36=\"\",\"\",(DataInput!$B$4+(DataInput!$D$4-DataInput!$B$4)*RAND())))","v":""},{"$f":"DataInput!$B$16*RAND()","v":2.4805055694473688},{"$f":"DataInput!$B$15*RAND()","v":1.7510658110357495},{"$f":"(IF('Xi,Yi'!R36=\"\",\"\",(IF((('Xi,Yi'!R36+V36+U36/SQRT(3))<DataInput!$B$18),\"\",(IF((('Xi,Yi'!R36+V36+U36/SQRT(3))>DataInput!$B$19),\"\",(IF('Xi,Yi'!S36=\"\",\"\",(IF(('Xi,Yi'!S36+U36<DataInput!$B$20),\"\",(IF((('Xi,Yi'!S36+U36)>DataInput!$B$21),\"\",('Xi,Yi'!R36+V36+U36/SQRT(3))))))))))))))","v":""},{"$f":"IF(R36=\"\",\"\",(IF('Xi,Yi'!S36=\"\",\"\",(IF(('Xi,Yi'!S36+U36<DataInput!$B$20),\"\",(IF((('Xi,Yi'!S36+U36)>DataInput!$B$21),\"\",('Xi,Yi'!S36+U36))))))))","v":""},{"$f":"IF(R36=\"\",\"\",IF(S36=\"\",\"\",(DataInput!$B$4+(DataInput!$D$4-DataInput!$B$4)*RAND())))","v":""},{"$f":"DataInput!$B$16*RAND()","v":16.671736850151579},{"$f":"DataInput!$B$15*RAND()","v":10.475990059207835},{"$f":"(IF('Xi,Yi'!W36=\"\",\"\",(IF((('Xi,Yi'!W36+AA36+Z36/SQRT(3))<DataInput!$B$18),\"\",(IF((('Xi,Yi'!W36+AA36+Z36/SQRT(3))>DataInput!$B$19),\"\",(IF('Xi,Yi'!X36=\"\",\"\",(IF(('Xi,Yi'!X36+Z36<DataInput!$B$20),\"\",(IF((('Xi,Yi'!X36+Z36)>DataInput!$B$21),\"\",('Xi,Yi'!W36+AA36+Z36/SQRT(3))))))))))))))","v":""},{"$f":"IF(W36=\"\",\"\",(IF('Xi,Yi'!X36=\"\",\"\",(IF(('Xi,Yi'!X36+Z36<DataInput!$B$20),\"\",(IF((('Xi,Yi'!X36+Z36)>DataInput!$B$21),\"\",('Xi,Yi'!X36+Z36))))))))","v":""},{"$f":"IF(W36=\"\",\"\",IF(X36=\"\",\"\",(DataInput!$B$4+(DataInput!$D$4-DataInput!$B$4)*RAND())))","v":""},{"$f":"DataInput!$B$16*RAND()","v":4.3535463054490542},{"$f":"DataInput!$B$15*RAND()","v":8.2455810568887831},{"$f":"(IF('Xi,Yi'!AB36=\"\",\"\",(IF((('Xi,Yi'!AB36+AF36+AE36/SQRT(3))<DataInput!$B$18),\"\",(IF((('Xi,Yi'!AB36+AF36+AE36/SQRT(3))>DataInput!$B$19),\"\",(IF('Xi,Yi'!AC36=\"\",\"\",(IF(('Xi,Yi'!AC36+AE36<DataInput!$B$20),\"\",(IF((('Xi,Yi'!AC36+AE36)>DataInput!$B$21),\"\",('Xi,Yi'!AB36+AF36+AE36/SQRT(3))))))))))))))","v":""},{"$f":"IF(AB36=\"\",\"\",(IF('Xi,Yi'!AC36=\"\",\"\",(IF(('Xi,Yi'!AC36+AE36<DataInput!$B$20),\"\",(IF((('Xi,Yi'!AC36+AE36)>DataInput!$B$21),\"\",('Xi,Yi'!AC36+AE36))))))))","v":""},{"$f":"IF(AB36=\"\",\"\",IF(AC36=\"\",\"\",(DataInput!$B$4+(DataInput!$D$4-DataInput!$B$4)*RAND())))","v":""},{"$f":"DataInput!$B$16*RAND()","v":13.192333531130409},{"$f":"DataInput!$B$15*RAND()","v":16.281885844879099},{"$f":"(IF('Xi,Yi'!AG36=\"\",\"\",(IF((('Xi,Yi'!AG36+AK36+AJ36/SQRT(3))<DataInput!$B$18),\"\",(IF((('Xi,Yi'!AG36+AK36+AJ36/SQRT(3))>DataInput!$B$19),\"\",(IF('Xi,Yi'!AH36=\"\",\"\",(IF(('Xi,Yi'!AH36+AJ36<DataInput!$B$20),\"\",(IF((('Xi,Yi'!AH36+AJ36)>DataInput!$B$21),\"\",('Xi,Yi'!AG36+AK36+AJ36/SQRT(3))))))))))))))","v":""},{"$f":"IF(AG36=\"\",\"\",(IF('Xi,Yi'!AH36=\"\",\"\",(IF(('Xi,Yi'!AH36+AJ36<DataInput!$B$20),\"\",(IF((('Xi,Yi'!AH36+AJ36)>DataInput!$B$21),\"\",('Xi,Yi'!AH36+AJ36))))))))","v":""},{"$f":"IF(AG36=\"\",\"\",IF(AH36=\"\",\"\",(DataInput!$B$4+(DataInput!$D$4-DataInput!$B$4)*RAND())))","v":""},{"$f":"DataInput!$B$16*RAND()","v":13.896698171433899},{"$f":"DataInput!$B$15*RAND()","v":14.785249681746125},{"$f":"(IF('Xi,Yi'!AL36=\"\",\"\",(IF((('Xi,Yi'!AL36+AP36+AO36/SQRT(3))<DataInput!$B$18),\"\",(IF((('Xi,Yi'!AL36+AP36+AO36/SQRT(3))>DataInput!$B$19),\"\",(IF('Xi,Yi'!AM36=\"\",\"\",(IF(('Xi,Yi'!AM36+AO36<DataInput!$B$20),\"\",(IF((('Xi,Yi'!AM36+AO36)>DataInput!$B$21),\"\",('Xi,Yi'!AL36+AP36+AO36/SQRT(3))))))))))))))","v":""},{"$f":"IF(AL36=\"\",\"\",(IF('Xi,Yi'!AM36=\"\",\"\",(IF(('Xi,Yi'!AM36+AO36<DataInput!$B$20),\"\",(IF((('Xi,Yi'!AM36+AO36)>DataInput!$B$21),\"\",('Xi,Yi'!AM36+AO36))))))))","v":""},{"$f":"IF(AL36=\"\",\"\",IF(AM36=\"\",\"\",(DataInput!$B$4+(DataInput!$D$4-DataInput!$B$4)*RAND())))","v":""},{"$f":"DataInput!$B$16*RAND()","v":11.124686717473695},{"$f":"DataInput!$B$15*RAND()","v":2.4752962625422974},{"$f":"(IF('Xi,Yi'!AQ36=\"\",\"\",(IF((('Xi,Yi'!AQ36+AU36+AT36/SQRT(3))<DataInput!$B$18),\"\",(IF((('Xi,Yi'!AQ36+AU36+AT36/SQRT(3))>DataInput!$B$19),\"\",(IF('Xi,Yi'!AR36=\"\",\"\",(IF(('Xi,Yi'!AR36+AT36<DataInput!$B$20),\"\",(IF((('Xi,Yi'!AR36+AT36)>DataInput!$B$21),\"\",('Xi,Yi'!AQ36+AU36+AT36/SQRT(3))))))))))))))","v":""},{"$f":"IF(AQ36=\"\",\"\",(IF('Xi,Yi'!AR36=\"\",\"\",(IF(('Xi,Yi'!AR36+AT36<DataInput!$B$20),\"\",(IF((('Xi,Yi'!AR36+AT36)>DataInput!$B$21),\"\",('Xi,Yi'!AR36+AT36))))))))","v":""},{"$f":"IF(AQ36=\"\",\"\",IF(AR36=\"\",\"\",(DataInput!$B$4+(DataInput!$D$4-DataInput!$B$4)*RAND())))","v":""},{"$f":"DataInput!$B$16*RAND()","v":2.5091200722411937},{"$f":"DataInput!$B$15*RAND()","v":13.658929942740777},{"$f":"(IF('Xi,Yi'!AV36=\"\",\"\",(IF((('Xi,Yi'!AV36+AZ36+AY36/SQRT(3))<DataInput!$B$18),\"\",(IF((('Xi,Yi'!AV36+AZ36+AY36/SQRT(3))>DataInput!$B$19),\"\",(IF('Xi,Yi'!AW36=\"\",\"\",(IF(('Xi,Yi'!AW36+AY36<DataInput!$B$20),\"\",(IF((('Xi,Yi'!AW36+AY36)>DataInput!$B$21),\"\",('Xi,Yi'!AV36+AZ36+AY36/SQRT(3))))))))))))))","v":""},{"$f":"IF(AV36=\"\",\"\",(IF('Xi,Yi'!AW36=\"\",\"\",(IF(('Xi,Yi'!AW36+AY36<DataInput!$B$20),\"\",(IF((('Xi,Yi'!AW36+AY36)>DataInput!$B$21),\"\",('Xi,Yi'!AW36+AY36))))))))","v":""},{"$f":"IF(AV36=\"\",\"\",IF(AW36=\"\",\"\",(DataInput!$B$4+(DataInput!$D$4-DataInput!$B$4)*RAND())))","v":""},{"$f":"DataInput!$B$16*RAND()","v":6.8215095454497607},{"$f":"DataInput!$B$15*RAND()","v":19.312933479468253},{"$f":"(IF('Xi,Yi'!BA36=\"\",\"\",(IF((('Xi,Yi'!BA36+BE36+BD36/SQRT(3))<DataInput!$B$18),\"\",(IF((('Xi,Yi'!BA36+BE36+BD36/SQRT(3))>DataInput!$B$19),\"\",(IF('Xi,Yi'!BB36=\"\",\"\",(IF(('Xi,Yi'!BB36+BD36<DataInput!$B$20),\"\",(IF((('Xi,Yi'!BB36+BD36)>DataInput!$B$21),\"\",('Xi,Yi'!BA36+BE36+BD36/SQRT(3))))))))))))))","v":""},{"$f":"IF(BA36=\"\",\"\",(IF('Xi,Yi'!BB36=\"\",\"\",(IF(('Xi,Yi'!BB36+BD36<DataInput!$B$20),\"\",(IF((('Xi,Yi'!BB36+BD36)>DataInput!$B$21),\"\",('Xi,Yi'!BB36+BD36))))))))","v":""},{"$f":"IF(BA36=\"\",\"\",IF(BB36=\"\",\"\",(DataInput!$B$4+(DataInput!$D$4-DataInput!$B$4)*RAND())))","v":""},{"$f":"DataInput!$B$16*RAND()","v":4.258217247870526},{"$f":"DataInput!$B$15*RAND()","v":18.314182903198144}]
[null,null,null,null,null,null,null,{"$f":"(IF('Xi,Yi'!H37=\"\",\"\",(IF((('Xi,Yi'!H37+L37+K37/SQRT(3))<DataInput!$B$18),\"\",(IF((('Xi,Yi'!H37+L37+K37/SQRT(3))>DataInput!$B$19),\"\",(IF('Xi,Yi'!I37=\"\",\"\",(IF(('Xi,Yi'!I37+K37<DataInput!$B$20),\"\",(IF((('Xi,Yi'!I37+K37)>DataInput!$B$21),\"\",('Xi,Yi'!H37+L37+K37/SQRT(3))))))))))))))","v":""},{"$f":"IF(H37=\"\",\"\",(IF('Xi,Yi'!I37=\"\",\"\",(IF(('Xi,Yi'!I37+K37<DataInput!$B$20),\"\",(IF((('Xi,Yi'!I37+K37)>DataInput!$B$21),\"\",('Xi,Yi'!I37+K37))))))))","v":""},{"$f":"IF(H37=\"\",\"\",IF(I37=\"\",\"\",(DataInput!$B$4+(DataInput!$D$4-DataInput!$B$4)*RAND())))","v":""},{"$f":"DataInput!$B$16*RAND()","v":3.9138603074121008},{"$f":"DataInput!$B$15*RAND()","v":12.63123882124391},{"$f":"(IF('Xi,Yi'!M37=\"\",\"\",(IF((('Xi,Yi'!M37+Q37+P37/SQRT(3))<DataInput!$B$18),\"\",(IF((('Xi,Yi'!M37+Q37+P37/SQRT(3))>DataInput!$B$19),\"\",(IF('Xi,Yi'!N37=\"\",\"\",(IF(('Xi,Yi'!N37+P37<DataInput!$B$20),\"\",(IF((('Xi,Yi'!N37+P37)>DataInput!$B$21),\"\",('Xi,Yi'!M37+Q37+P37/SQRT(3))))))))))))))","v":""},{"$f":"IF(M37=\"\",\"\",(IF('Xi,Yi'!N37=\"\",\"\",(IF(('Xi,Yi'!N37+P37<DataInput!$B$20),\"\",(IF((('Xi,Yi'!N37+P37)>DataInput!$B$21),\"\",('Xi,Yi'!N37+P37))))))))","v":""},{"$f":"IF(M37=\"\",\"\",IF(N37=\"\",\"\",(DataInput!$B$4+(DataInput!$D$4-DataInput!$B$4)*RAND())))","v":""},{"$f":"DataInput!$B$16*RAND()","v":15.873156392563621},{"$f":"DataInput!$B$15*RAND()","v":10.523851754873705},{"$f":"(IF('Xi,Yi'!R37=\"\",\"\",(IF((('Xi,Yi'!R37+V37+U37/SQRT(3))<DataInput!$B$18),\"\",(IF((('Xi,Yi'!R37+V37+U37/SQRT(3))>DataInput!$B$19),\"\",(IF('Xi,Yi'!S37=\"\",\"\",(IF(('Xi,Yi'!S37+U37<DataInput!$B$20),\"\",(IF((('Xi,Yi'!S37+U37)>DataInput!$B$21),\"\",('Xi,Yi'!R37+V37+U37/SQRT(3))))))))))))))","v":""},{"$f":"IF(R37=\"\",\"\",(IF('Xi,Yi'!S37=\"\",\"\",(IF(('Xi,Yi'!S37+U37<DataInput!$B$20),\"\",(IF((('Xi,Yi'!S37+U37)>DataInput!$B$21),\"\",('Xi,Yi'!S37+U37))))))))","v":""},{"$f":"IF(R37=\"\",\"\",IF(S37=\"\",\"\",(DataInput!$B$4+(DataInput!$D$4-DataInput!$B$4)*RAND())))","v":""},{"$f":"DataInput!$B$16*RAND()","v":12.913617459136592},{"$f":"DataInput!$B$15*RAND()","v":7.5284211559925787},{"$f":"(IF('Xi,Yi'!W37=\"\",\"\",(IF((('Xi,Yi'!W37+AA37+Z37/SQRT(3))<DataInput!$B$18),\"\",(IF((('Xi,Yi'!W37+AA37+Z37/SQRT(3))>DataInput!$B$19),\"\",(IF('Xi,Yi'!X37=\"\",\"\",(IF(('Xi,Yi'!X37+Z37<DataInput!$B$20),\"\",(IF((('Xi,Yi'!X37+Z37)>DataInput!$B$21),\"\",('Xi,Yi'!W37+AA37+Z37/SQRT(3))))))))))))))","v":""},{"$f":"IF(W37=\"\",\"\",(IF('Xi,Yi'!X37=\"\",\"\",(IF(('Xi,Yi'!X37+Z37<DataInput!$B$20),\"\",(IF((('Xi,Yi'!X37+Z37)>DataInput!$B$21),\"\",('Xi,Yi'!X37+Z37))))))))","v":""},{"$f":"IF(W37=\"\",\"\",IF(X37=\"\",\"\",(DataInput!$B$4+(DataInput!$D$4-DataInput!$B$4)*RAND())))","v":""},{"$f":"DataInput!$B$16*RAND()","v":6.90500987910207},{"$f":"DataInput!$B$15*RAND()","v":14.463512685363252},{"$f":"(IF('Xi,Yi'!AB37=\"\",\"\",(IF((('Xi,Yi'!AB37+AF37+AE37/SQRT(3))<DataInput!$B$18),\"\",(IF((('Xi,Yi'!AB37+AF37+AE37/SQRT(3))>DataInput!$B$19),\"\",(IF('Xi,Yi'!AC37=\"\",\"\",(IF(('Xi,Yi'!AC37+AE37<DataInput!$B$20),\"\",(IF((('Xi,Yi'!AC37+AE37)>DataInput!$B$21),\"\",('Xi,Yi'!AB37+AF37+AE37/SQRT(3))))))))))))))","v":""},{"$f":"IF(AB37=\"\",\"\",(IF('Xi,Yi'!AC37=\"\",\"\",(IF(('Xi,Yi'!AC37+AE37<DataInput!$B$20),\"\",(IF((('Xi,Yi'!AC37+AE37)>DataInput!$B$21),\"\",('Xi,Yi'!AC37+AE37))))))))","v":""},{"$f":"IF(AB37=\"\",\"\",IF(AC37=\"\",\"\",(DataInput!$B$4+(DataInput!$D$4-DataInput!$B$4)*RAND())))","v":""},{"$f":"DataInput!$B$16*RAND()","v":3.11854114423581},{"$f":"DataInput!$B$15*RAND()","v":17.862678187894907},{"$f":"(IF('Xi,Yi'!AG37=\"\",\"\",(IF((('Xi,Yi'!AG37+AK37+AJ37/SQRT(3))<DataInput!$B$18),\"\",(IF((('Xi,Yi'!AG37+AK37+AJ37/SQRT(3))>DataInput!$B$19),\"\",(IF('Xi,Yi'!AH37=\"\",\"\",(IF(('Xi,Yi'!AH37+AJ37<DataInput!$B$20),\"\",(IF((('Xi,Yi'!AH37+AJ37)>DataInput!$B$21),\"\",('Xi,Yi'!AG37+AK37+AJ37/SQRT(3))))))))))))))","v":""},{"$f":"IF(AG37=\"\",\"\",(IF('Xi,Yi'!AH37=\"\",\"\",(IF(('Xi,Yi'!AH37+AJ37<DataInput!$B$20),\"\",(IF((('Xi,Yi'!AH37+AJ37)>DataInput!$B$21),\"\",('Xi,Yi'!AH37+AJ37))))))))","v":""},{"$f":"IF(AG37=\"\",\"\",IF(AH37=\"\",\"\",(DataInput!$B$4+(DataInput!$D$4-DataInput!$B$4)*RAND())))","v":""},{"$f":"DataInput!$B$16*RAND()","v":16.997872999763626},{"$f":"DataInput!$B$15*RAND()","v":9.712486926224754},{"$f":"(IF('Xi,Yi'!AL37=\"\",\"\",(IF((('Xi,Yi'!AL37+AP37+AO37/SQRT(3))<DataInput!$B$18),\"\",(IF((('Xi,Yi'!AL37+AP37+AO37/SQRT(3))>DataInput!$B$19),\"\",(IF('Xi,Yi'!AM37=\"\",\"\",(IF(('Xi,Yi'!AM37+AO37<DataInput!$B$20),\"\",(IF((('Xi,Yi'!AM37+AO37)>DataInput!$B$21),\"\",('Xi,Yi'!AL37+AP37+AO37/SQRT(3))))))))))))))","v":""},{"$f":"IF(AL37=\"\",\"\",(IF('Xi,Yi'!AM37=\"\",\"\",(IF(('Xi,Yi'!AM37+AO37<DataInput!$B$20),\"\",(IF((('Xi,Yi'!AM37+AO37)>DataInput!$B$21),\"\",('Xi,Yi'!AM37+AO37))))))))","v":""},{"$f":"IF(AL37=\"\",\"\",IF(AM37=\"\",\"\",(DataInput!$B$4+(DataInput!$D$4-DataInput!$B$4)*RAND())))","v":""},{"$f":"DataInput!$B$16*RAND()","v":11.760013498274446},{"$f":"DataInput!$B$15*RAND()","v":12.821527231270498},{"$f":"(IF('Xi,Yi'!AQ37=\"\",\"\",(IF((('Xi,Yi'!AQ37+AU37+AT37/SQRT(3))<DataInput!$B$18),\"\",(IF((('Xi,Yi'!AQ37+AU37+AT37/SQRT(3))>DataInput!$B$19),\"\",(IF('Xi,Yi'!AR37=\"\",\"\",(IF(('Xi,Yi'!AR37+AT37<DataInput!$B$20),\"\",(IF((('Xi,Yi'!AR37+AT37)>DataInput!$B$21),\"\",('Xi,Yi'!AQ37+AU37+AT37/SQRT(3))))))))))))))","v":""},{"$f":"IF(AQ37=\"\",\"\",(IF('Xi,Yi'!AR37=\"\",\"\",(IF(('Xi,Yi'!AR37+AT37<DataInput!$B$20),\"\",(IF((('Xi,Yi'!AR37+AT37)>DataInput!$B$21),\"\",('Xi,Yi'!AR37+AT37))))))))","v":""},{"$f":"IF(AQ37=\"\",\"\",IF(AR37=\"\",\"\",(DataInput!$B$4+(DataInput!$D$4-DataInput!$B$4)*RAND())))","v":""},{"$f":"DataInput!$B$16*RAND()","v":6.4956716831156873},{"$f":"DataInput!$B$15*RAND()","v":15.79937214018379},{"$f":"(IF('Xi,Yi'!AV37=\"\",\"\",(IF((('Xi,Yi'!AV37+AZ37+AY37/SQRT(3))<DataInput!$B$18),\"\",(IF((('Xi,Yi'!AV37+AZ37+AY37/SQRT(3))>DataInput!$B$19),\"\",(IF('Xi,Yi'!AW37=\"\",\"\",(IF(('Xi,Yi'!AW37+AY37<DataInput!$B$20),\"\",(IF((('Xi,Yi'!AW37+AY37)>DataInput!$B$21),\"\",('Xi,Yi'!AV37+AZ37+AY37/SQRT(3))))))))))))))","v":""},{"$f":"IF(AV37=\"\",\"\",(IF('Xi,Yi'!AW37=\"\",\"\",(IF(('Xi,Yi'!AW37+AY37<DataInput!$B$20),\"\",(IF((('Xi,Yi'!AW37+AY37)>DataInput!$B$21),\"\",('Xi,Yi'!AW37+AY37))))))))","v":""},{"$f":"IF(AV37=\"\",\"\",IF(AW37=\"\",\"\",(DataInput!$B$4+(DataInput!$D$4-DataInput!$B$4)*RAND())))","v":""},{"$f":"DataInput!$B$16*RAND()","v":12.416039816239593},{"$f":"DataInput!$B$15*RAND()","v":19.245514304323716},{"$f":"(IF('Xi,Yi'!BA37=\"\",\"\",(IF((('Xi,Yi'!BA37+BE37+BD37/SQRT(3))<DataInput!$B$18),\"\",(IF((('Xi,Yi'!BA37+BE37+BD37/SQRT(3))>DataInput!$B$19),\"\",(IF('Xi,Yi'!BB37=\"\",\"\",(IF(('Xi,Yi'!BB37+BD37<DataInput!$B$20),\"\",(IF((('Xi,Yi'!BB37+BD37)>DataInput!$B$21),\"\",('Xi,Yi'!BA37+BE37+BD37/SQRT(3))))))))))))))","v":""},{"$f":"IF(BA37=\"\",\"\",(IF('Xi,Yi'!BB37=\"\",\"\",(IF(('Xi,Yi'!BB37+BD37<DataInput!$B$20),\"\",(IF((('Xi,Yi'!BB37+BD37)>DataInput!$B$21),\"\",('Xi,Yi'!BB37+BD37))))))))","v":""},{"$f":"IF(BA37=\"\",\"\",IF(BB37=\"\",\"\",(DataInput!$B$4+(DataInput!$D$4-DataInput!$B$4)*RAND())))","v":""},{"$f":"DataInput!$B$16*RAND()","v":16.175576919167341},{"$f":"DataInput!$B$15*RAND()","v":14.856445095094346}]
[null,null,null,null,null,null,null,{"$f":"(IF('Xi,Yi'!H38=\"\",\"\",(IF((('Xi,Yi'!H38+L38+K38/SQRT(3))<DataInput!$B$18),\"\",(IF((('Xi,Yi'!H38+L38+K38/SQRT(3))>DataInput!$B$19),\"\",(IF('Xi,Yi'!I38=\"\",\"\",(IF(('Xi,Yi'!I38+K38<DataInput!$B$20),\"\",(IF((('Xi,Yi'!I38+K38)>DataInput!$B$21),\"\",('Xi,Yi'!H38+L38+K38/SQRT(3))))))))))))))","v":""},{"$f":"IF(H38=\"\",\"\",(IF('Xi,Yi'!I38=\"\",\"\",(IF(('Xi,Yi'!I38+K38<DataInput!$B$20),\"\",(IF((('Xi,Yi'!I38+K38)>DataInput!$B$21),\"\",('Xi,Yi'!I38+K38))))))))","v":""},{"$f":"IF(H38=\"\",\"\",IF(I38=\"\",\"\",(DataInput!$B$4+(DataInput!$D$4-DataInput!$B$4)*RAND())))","v":""},{"$f":"DataInput!$B$16*RAND()","v":9.4945223290450151},{"$f":"DataInput!$B$15*RAND()","v":3.6036485401679137},{"$f":"(IF('Xi,Yi'!M38=\"\",\"\",(IF((('Xi,Yi'!M38+Q38+P38/SQRT(3))<DataInput!$B$18),\"\",(IF((('Xi,Yi'!M38+Q38+P38/SQRT(3))>DataInput!$B$19),\"\",(IF('Xi,Yi'!N38=\"\",\"\",(IF(('Xi,Yi'!N38+P38<DataInput!$B$20),\"\",(IF((('Xi,Yi'!N38+P38)>DataInput!$B$21),\"\",('Xi,Yi'!M38+Q38+P38/SQRT(3))))))))))))))","v":""},{"$f":"IF(M38=\"\",\"\",(IF('Xi,Yi'!N38=\"\",\"\",(IF(('Xi,Yi'!N38+P38<DataInput!$B$20),\"\",(IF((('Xi,Yi'!N38+P38)>DataInput!$B$21),\"\",('Xi,Yi'!N38+P38))))))))","v":""},{"$f":"IF(M38=\"\",\"\",IF(N38=\"\",\"\",(DataInput!$B$4+(DataInput!$D$4-DataInput!$B$4)*RAND())))","v":""},{"$f":"DataInput!$B$16*RAND()","v":15.279919121773617},{"$f":"DataInput!$B$15*RAND()","v":18.396187227071042},{"$f":"(IF('Xi,Yi'!R38=\"\",\"\",(IF((('Xi,Yi'!R38+V38+U38/SQRT(3))<DataInput!$B$18),\"\",(IF((('Xi,Yi'!R38+V38+U38/SQRT(3))>DataInput!$B$19),\"\",(IF('Xi,Yi'!S38=\"\",\"\",(IF(('Xi,Yi'!S38+U38<DataInput!$B$20),\"\",(IF((('Xi,Yi'!S38+U38)>DataInput!$B$21),\"\",('Xi,Yi'!R38+V38+U38/SQRT(3))))))))))))))","v":""},{"$f":"IF(R38=\"\",\"\",(IF('Xi,Yi'!S38=\"\",\"\",(IF(('Xi,Yi'!S38+U38<DataInput!$B$20),\"\",(IF((('Xi,Yi'!S38+U38)>DataInput!$B$21),\"\",('Xi,Yi'!S38+U38))))))))","v":""},{"$f":"IF(R38=\"\",\"\",IF(S38=\"\",\"\",(DataInput!$B$4+(DataInput!$D$4-DataInput!$B$4)*RAND())))","v":""},{"$f":"DataInput!$B$16*RAND()","v":12.486648475791144},{"$f":"DataInput!$B$15*RAND()","v":18.515405835326916},{"$f":"(IF('Xi,Yi'!W38=\"\",\"\",(IF((('Xi,Yi'!W38+AA38+Z38/SQRT(3))<DataInput!$B$18),\"\",(IF((('Xi,Yi'!W38+AA38+Z38/SQRT(3))>DataInput!$B$19),\"\",(IF('Xi,Yi'!X38=\"\",\"\",(IF(('Xi,Yi'!X38+Z38<DataInput!$B$20),\"\",(IF((('Xi,Yi'!X38+Z38)>DataInput!$B$21),\"\",('Xi,Yi'!W38+AA38+Z38/SQRT(3))))))))))))))","v":""},{"$f":"IF(W38=\"\",\"\",(IF('Xi,Yi'!X38=\"\",\"\",(IF(('Xi,Yi'!X38+Z38<DataInput!$B$20),\"\",(IF((('Xi,Yi'!X38+Z38)>DataInput!$B$21),\"\",('Xi,Yi'!X38+Z38))))))))","v":""},{"$f":"IF(W38=\"\",\"\",IF(X38=\"\",\"\",(DataInput!$B$4+(DataInput!$D$4-DataInput!$B$4)*RAND())))","v":""},{"$f":"DataInput!$B$16*RAND()","v":9.3225044387904266},{"$f":"DataInput!$B$15*RAND()","v":11.709843391598554},{"$f":"(IF('Xi,Yi'!AB38=\"\",\"\",(IF((('Xi,Yi'!AB38+AF38+AE38/SQRT(3))<DataInput!$B$18),\"\",(IF((('Xi,Yi'!AB38+AF38+AE38/SQRT(3))>DataInput!$B$19),\"\",(IF('Xi,Yi'!AC38=\"\",\"\",(IF(('Xi,Yi'!AC38+AE38<DataInput!$B$20),\"\",(IF((('Xi,Yi'!AC38+AE38)>DataInput!$B$21),\"\",('Xi,Yi'!AB38+AF38+AE38/SQRT(3))))))))))))))","v":""},{"$f":"IF(AB38=\"\",\"\",(IF('Xi,Yi'!AC38=\"\",\"\",(IF(('Xi,Yi'!AC38+AE38<DataInput!$B$20),\"\",(IF((('Xi,Yi'!AC38+AE38)>DataInput!$B$21),\"\",('Xi,Yi'!AC38+AE38))))))))","v":""},{"$f":"IF(AB38=\"\",\"\",IF(AC38=\"\",\"\",(DataInput!$B$4+(DataInput!$D$4-DataInput!$B$4)*RAND())))","v":""},{"$f":"DataInput!$B$16*RAND()","v":11.546581146743486},{"$f":"DataInput!$B$15*RAND()","v":1.377661870708611},{"$f":"(IF('Xi,Yi'!AG38=\"\",\"\",(IF((('Xi,Yi'!AG38+AK38+AJ38/SQRT(3))<DataInput!$B$18),\"\",(IF((('Xi,Yi'!AG38+AK38+AJ38/SQRT(3))>DataInput!$B$19),\"\",(IF('Xi,Yi'!AH38=\"\",\"\",(IF(('Xi,Yi'!AH38+AJ38<DataInput!$B$20),\"\",(IF((('Xi,Yi'!AH38+AJ38)>DataInput!$B$21),\"\",('Xi,Yi'!AG38+AK38+AJ38/SQRT(3))))))))))))))","v":""},{"$f":"IF(AG38=\"\",\"\",(IF('Xi,Yi'!AH38=\"\",\"\",(IF(('Xi,Yi'!AH38+AJ38<DataInput!$B$20),\"\",(IF((('Xi,Yi'!AH38+AJ38)>DataInput!$B$21),\"\",('Xi,Yi'!AH38+AJ38))))))))","v":""},{"$f":"IF(AG38=\"\",\"\",IF(AH38=\"\",\"\",(DataInput!$B$4+(DataInput!$D$4-DataInput!$B$4)*RAND())))","v":""},{"$f":"DataInput!$B$16*RAND()","v":14.273623287685901},{"$f":"DataInput!$B$15*RAND()","v":15.283910767704176},{"$f":"(IF('Xi,Yi'!AL38=\"\",\"\",(IF((('Xi,Yi'!AL38+AP38+AO38/SQRT(3))<DataInput!$B$18),\"\",(IF((('Xi,Yi'!AL38+AP38+AO38/SQRT(3))>DataInput!$B$19),\"\",(IF('Xi,Yi'!AM38=\"\",\"\",(IF(('Xi,Yi'!AM38+AO38<DataInput!$B$20),\"\",(IF((('Xi,Yi'!AM38+AO38)>DataInput!$B$21),\"\",('Xi,Yi'!AL38+AP38+AO38/SQRT(3))))))))))))))","v":""},{"$f":"IF(AL38=\"\",\"\",(IF('Xi,Yi'!AM38=\"\",\"\",(IF(('Xi,Yi'!AM38+AO38<DataInput!$B$20),\"\",(IF((('Xi,Yi'!AM38+AO38)>DataInput!$B$21),\"\",('Xi,Yi'!AM38+AO38))))))))","v":""},{"$f":"IF(AL38=\"\",\"\",IF(AM38=\"\",\"\",(DataInput!$B$4+(DataInput!$D$4-DataInput!$B$4)*RAND())))","v":""},{"$f":"DataInput!$B$16*RAND()","v":9.6675315148645975},{"$f":"DataInput!$B$15*RAND()","v":3.0455424295511624},{"$f":"(IF('Xi,Yi'!AQ38=\"\",\"\",(IF((('Xi,Yi'!AQ38+AU38+AT38/SQRT(3))<DataInput!$B$18),\"\",(IF((('Xi,Yi'!AQ38+AU38+AT38/SQRT(3))>DataInput!$B$19),\"\",(IF('Xi,Yi'!AR38=\"\",\"\",(IF(('Xi,Yi'!AR38+AT38<DataInput!$B$20),\"\",(IF((('Xi,Yi'!AR38+AT38)>DataInput!$B$21),\"\",('Xi,Yi'!AQ38+AU38+AT38/SQRT(3))))))))))))))","v":""},{"$f":"IF(AQ38=\"\",\"\",(IF('Xi,Yi'!AR38=\"\",\"\",(IF(('Xi,Yi'!AR38+AT38<DataInput!$B$20),\"\",(IF((('Xi,Yi'!AR38+AT38)>DataInput!$B$21),\"\",('Xi,Yi'!AR38+AT38))))))))","v":""},{"$f":"IF(AQ38=\"\",\"\",IF(AR38=\"\",\"\",(DataInput!$B$4+(DataInput!$D$4-DataInput!$B$4)*RAND())))","v":""},{"$f":"DataInput!$B$16*RAND()","v":3.022721136775818},{"$f":"DataInput!$B$15*RAND()","v":14.455968395032931},{"$f":"(IF('Xi,Yi'!AV38=\"\",\"\",(IF((('Xi,Yi'!AV38+AZ38+AY38/SQRT(3))<DataInput!$B$18),\"\",(IF((('Xi,Yi'!AV38+AZ38+AY38/SQRT(3))>DataInput!$B$19),\"\",(IF('Xi,Yi'!AW38=\"\",\"\",(IF(('Xi,Yi'!AW38+AY38<DataInput!$B$20),\"\",(IF((('Xi,Yi'!AW38+AY38)>DataInput!$B$21),\"\",('Xi,Yi'!AV38+AZ38+AY38/SQRT(3))))))))))))))","v":""},{"$f":"IF(AV38=\"\",\"\",(IF('Xi,Yi'!AW38=\"\",\"\",(IF(('Xi,Yi'!AW38+AY38<DataInput!$B$20),\"\",(IF((('Xi,Yi'!AW38+AY38)>DataInput!$B$21),\"\",('Xi,Yi'!AW38+AY38))))))))","v":""},{"$f":"IF(AV38=\"\",\"\",IF(AW38=\"\",\"\",(DataInput!$B$4+(DataInput!$D$4-DataInput!$B$4)*RAND())))","v":""},{"$f":"DataInput!$B$16*RAND()","v":2.1861606214785074},{"$f":"DataInput!$B$15*RAND()","v":19.548821670770156},{"$f":"(IF('Xi,Yi'!BA38=\"\",\"\",(IF((('Xi,Yi'!BA38+BE38+BD38/SQRT(3))<DataInput!$B$18),\"\",(IF((('Xi,Yi'!BA38+BE38+BD38/SQRT(3))>DataInput!$B$19),\"\",(IF('Xi,Yi'!BB38=\"\",\"\",(IF(('Xi,Yi'!BB38+BD38<DataInput!$B$20),\"\",(IF((('Xi,Yi'!BB38+BD38)>DataInput!$B$21),\"\",('Xi,Yi'!BA38+BE38+BD38/SQRT(3))))))))))))))","v":""},{"$f":"IF(BA38=\"\",\"\",(IF('Xi,Yi'!BB38=\"\",\"\",(IF(('Xi,Yi'!BB38+BD38<DataInput!$B$20),\"\",(IF((('Xi,Yi'!BB38+BD38)>DataInput!$B$21),\"\",('Xi,Yi'!BB38+BD38))))))))","v":""},{"$f":"IF(BA38=\"\",\"\",IF(BB38=\"\",\"\",(DataInput!$B$4+(DataInput!$D$4-DataInput!$B$4)*RAND())))","v":""},{"$f":"DataInput!$B$16*RAND()","v":15.421680433460567},{"$f":"DataInput!$B$15*RAND()","v":16.977892118025132}]
[null,null,null,null,null,null,null,{"$f":"(IF('Xi,Yi'!H39=\"\",\"\",(IF((('Xi,Yi'!H39+L39+K39/SQRT(3))<DataInput!$B$18),\"\",(IF((('Xi,Yi'!H39+L39+K39/SQRT(3))>DataInput!$B$19),\"\",(IF('Xi,Yi'!I39=\"\",\"\",(IF(('Xi,Yi'!I39+K39<DataInput!$B$20),\"\",(IF((('Xi,Yi'!I39+K39)>DataInput!$B$21),\"\",('Xi,Yi'!H39+L39+K39/SQRT(3))))))))))))))","v":35.13487534123113},{"$f":"IF(H39=\"\",\"\",(IF('Xi,Yi'!I39=\"\",\"\",(IF(('Xi,Yi'!I39+K39<DataInput!$B$20),\"\",(IF((('Xi,Yi'!I39+K39)>DataInput!$B$21),\"\",('Xi,Yi'!I39+K39))))))))","v":1.0117207353791251},{"$f":"IF(H39=\"\",\"\",IF(I39=\"\",\"\",(DataInput!$B$4+(DataInput!$D$4-DataInput!$B$4)*RAND())))","v":8.7633967423200811},{"$f":"DataInput!$B$16*RAND()","v":13.911720735379125},{"$f":"DataInput!$B$15*RAND()","v":2.1029396297690943},{"$f":"(IF('Xi,Yi'!M39=\"\",\"\",(IF((('Xi,Yi'!M39+Q39+P39/SQRT(3))<DataInput!$B$18),\"\",(IF((('Xi,Yi'!M39+Q39+P39/SQRT(3))>DataInput!$B$19),\"\",(IF('Xi,Yi'!N39=\"\",\"\",(IF(('Xi,Yi'!N39+P39<DataInput!$B$20),\"\",(IF((('Xi,Yi'!N39+P39)>DataInput!$B$21),\"\",('Xi,Yi'!M39+Q39+P39/SQRT(3))))))))))))))","v":""},{"$f":"IF(M39=\"\",\"\",(IF('Xi,Yi'!N39=\"\",\"\",(IF(('Xi,Yi'!N39+P39<DataInput!$B$20),\"\",(IF((('Xi,Yi'!N39+P39)>DataInput!$B$21),\"\",('Xi,Yi'!N39+P39))))))))","v":""},{"$f":"IF(M39=\"\",\"\",IF(N39=\"\",\"\",(DataInput!$B$4+(DataInput!$D$4-DataInput!$B$4)*RAND())))","v":""},{"$f":"DataInput!$B$16*RAND()","v":2.6514397510656389},{"$f":"DataInput!$B$15*RAND()","v":3.2331677777585202},{"$f":"(IF('Xi,Yi'!R39=\"\",\"\",(IF((('Xi,Yi'!R39+V39+U39/SQRT(3))<DataInput!$B$18),\"\",(IF((('Xi,Yi'!R39+V39+U39/SQRT(3))>DataInput!$B$19),\"\",(IF('Xi,Yi'!S39=\"\",\"\",(IF(('Xi,Yi'!S39+U39<DataInput!$B$20),\"\",(IF((('Xi,Yi'!S39+U39)>DataInput!$B$21),\"\",('Xi,Yi'!R39+V39+U39/SQRT(3))))))))))))))","v":""},{"$f":"IF(R39=\"\",\"\",(IF('Xi,Yi'!S39=\"\",\"\",(IF(('Xi,Yi'!S39+U39<DataInput!$B$20),\"\",(IF((('Xi,Yi'!S39+U39)>DataInput!$B$21),\"\",('Xi,Yi'!S39+U39))))))))","v":""},{"$f":"IF(R39=\"\",\"\",IF(S39=\"\",\"\",(DataInput!$B$4+(DataInput!$D$4-DataInput!$B$4)*RAND())))","v":""},{"$f":"DataInput!$B$16*RAND()","v":1.0684866740257757},{"$f":"DataInput!$B$15*RAND()","v":9.979500792367423},{"$f":"(IF('Xi,Yi'!W39=\"\",\"\",(IF((('Xi,Yi'!W39+AA39+Z39/SQRT(3))<DataInput!$B$18),\"\",(IF((('Xi,Yi'!W39+AA39+Z39/SQRT(3))>DataInput!$B$19),\"\",(IF('Xi,Yi'!X39=\"\",\"\",(IF(('Xi,Yi'!X39+Z39<DataInput!$B$20),\"\",(IF((('Xi,Yi'!X39+Z39)>DataInput!$B$21),\"\",('Xi,Yi'!W39+AA39+Z39/SQRT(3))))))))))))))","v":""},{"$f":"IF(W39=\"\",\"\",(IF('Xi,Yi'!X39=\"\",\"\",(IF(('Xi,Yi'!X39+Z39<DataInput!$B$20),\"\",(IF((('Xi,Yi'!X39+Z39)>DataInput!$B$21),\"\",('Xi,Yi'!X39+Z39))))))))","v":""},{"$f":"IF(W39=\"\",\"\",IF(X39=\"\",\"\",(DataInput!$B$4+(DataInput!$D$4-DataInput!$B$4)*RAND())))","v":""},{"$f":"DataInput!$B$16*RAND()","v":8.9123787600109825},{"$f":"DataInput!$B$15*RAND()","v":9.8443312200790682},{"$f":"(IF('Xi,Yi'!AB39=\"\",\"\",(IF((('Xi,Yi'!AB39+AF39+AE39/SQRT(3))<DataInput!$B$18),\"\",(IF((('Xi,Yi'!AB39+AF39+AE39/SQRT(3))>DataInput!$B$19),\"\",(IF('Xi,Yi'!AC39=\"\",\"\",(IF(('Xi,Yi'!AC39+AE39<DataInput!$B$20),\"\",(IF((('Xi,Yi'!AC39+AE39)>DataInput!$B$21),\"\",('Xi,Yi'!AB39+AF39+AE39/SQRT(3))))))))))))))","v":""},{"$f":"IF(AB39=\"\",\"\",(IF('Xi,Yi'!AC39=\"\",\"\",(IF(('Xi,Yi'!AC39+AE39<DataInput!$B$20),\"\",(IF((('Xi,Yi'!AC39+AE39)>DataInput!$B$21),\"\",('Xi,Yi'!AC39+AE39))))))))","v":""},{"$f":"IF(AB39=\"\",\"\",IF(AC39=\"\",\"\",(DataInput!$B$4+(DataInput!$D$4-DataInput!$B$4)*RAND())))","v":""},{"$f":"DataInput!$B$16*RAND()","v":1.3629570811701242},{"$f":"DataInput!$B$15*RAND()","v":13.311599250611831},{"$f":"(IF('Xi,Yi'!AG39=\"\",\"\",(IF((('Xi,Yi'!AG39+AK39+AJ39/SQRT(3))<DataInput!$B$18),\"\",(IF((('Xi,Yi'!AG39+AK39+AJ39/SQRT(3))>DataInput!$B$19),\"\",(IF('Xi,Yi'!AH39=\"\",\"\",(IF(('Xi,Yi'!AH39+AJ39<DataInput!$B$20),\"\",(IF((('Xi,Yi'!AH39+AJ39)>DataInput!$B$21),\"\",('Xi,Yi'!AG39+AK39+AJ39/SQRT(3))))))))))))))","v":""},{"$f":"IF(AG39=\"\",\"\",(IF('Xi,Yi'!AH39=\"\",\"\",(IF(('Xi,Yi'!AH39+AJ39<DataInput!$B$20),\"\",(IF((('Xi,Yi'!AH39+AJ39)>DataInput!$B$21),\"\",('Xi,Yi'!AH39+AJ39))))))))","v":""},{"$f":"IF(AG39=\"\",\"\",IF(AH39=\"\",\"\",(DataInput!$B$4+(DataInput!$D$4-DataInput!$B$4)*RAND())))","v":""},{"$f":"DataInput!$B$16*RAND()","v":16.552666012115285},{"$f":"DataInput!$B$15*RAND()","v":3.9193685136188301},{"$f":"(IF('Xi,Yi'!AL39=\"\",\"\",(IF((('Xi,Yi'!AL39+AP39+AO39/SQRT(3))<DataInput!$B$18),\"\",(IF((('Xi,Yi'!AL39+AP39+AO39/SQRT(3))>DataInput!$B$19),\"\",(IF('Xi,Yi'!AM39=\"\",\"\",(IF(('Xi,Yi'!AM39+AO39<DataInput!$B$20),\"\",(IF((('Xi,Yi'!AM39+AO39)>DataInput!$B$21),\"\",('Xi,Yi'!AL39+AP39+AO39/SQRT(3))))))))))))))","v":""},{"$f":"IF(AL39=\"\",\"\",(IF('Xi,Yi'!AM39=\"\",\"\",(IF(('Xi,Yi'!AM39+AO39<DataInput!$B$20),\"\",(IF((('Xi,Yi'!AM39+AO39)>DataInput!$B$21),\"\",('Xi,Yi'!AM39+AO39))))))))","v":""},{"$f":"IF(AL39=\"\",\"\",IF(AM39=\"\",\"\",(DataInput!$B$4+(DataInput!$D$4-DataInput!$B$4)*RAND())))","v":""},{"$f":"DataInput!$B$16*RAND()","v":13.883386929240341},{"$f":"DataInput!$B$15*RAND()","v":19.24895034965461},{"$f":"(IF('Xi,Yi'!AQ39=\"\",\"\",(IF((('Xi,Yi'!AQ39+AU39+AT39/SQRT(3))<DataInput!$B$18),\"\",(IF((('Xi,Yi'!AQ39+AU39+AT39/SQRT(3))>DataInput!$B$19),\"\",(IF('Xi,Yi'!AR39=\"\",\"\",(IF(('Xi,Yi'!AR39+AT39<DataInput!$B$20),\"\",(IF((('Xi,Yi'!AR39+AT39)>DataInput!$B$21),\"\",('Xi,Yi'!AQ39+AU39+AT39/SQRT(3))))))))))))))","v":""},{"$f":"IF(AQ39=\"\",\"\",(IF('Xi,Yi'!AR39=\"\",\"\",(IF(('Xi,Yi'!AR39+AT39<DataInput!$B$20),\"\",(IF((('Xi,Yi'!AR39+AT39)>DataInput!$B$21),\"\",('Xi,Yi'!AR39+AT39))))))))","v":""},{"$f":"IF(AQ39=\"\",\"\",IF(AR39=\"\",\"\",(DataInput!$B$4+(DataInput!$D$4-DataInput!$B$4)*RAND())))","v":""},{"$f":"DataInput!$B$16*RAND()","v":4.5032486488049832},{"$f":"DataInput!$B$15*RAND()","v":0.91325940936727557},{"$f":"(IF('Xi,Yi'!AV39=\"\",\"\",(IF((('Xi,Yi'!AV39+AZ39+AY39/SQRT(3))<DataInput!$B$18),\"\",(IF((('Xi,Yi'!AV39+AZ39+AY39/SQRT(3))>DataInput!$B$19),\"\",(IF('Xi,Yi'!AW39=\"\",\"\",(IF(('Xi,Yi'!AW39+AY39<DataInput!$B$20),\"\",(IF((('Xi,Yi'!AW39+AY39)>DataInput!$B$21),\"\",('Xi,Yi'!AV39+AZ39+AY39/SQRT(3))))))))))))))","v":""},{"$f":"IF(AV39=\"\",\"\",(IF('Xi,Yi'!AW39=\"\",\"\",(IF(('Xi,Yi'!AW39+AY39<DataInput!$B$20),\"\",(IF((('Xi,Yi'!AW39+AY39)>DataInput!$B$21),\"\",('Xi,Yi'!AW39+AY39))))))))","v":""},{"$f":"IF(AV39=\"\",\"\",IF(AW39=\"\",\"\",(DataInput!$B$4+(DataInput!$D$4-DataInput!$B$4)*RAND())))","v":""},{"$f":"DataInput!$B$16*RAND()","v":11.608519220538575},{"$f":"DataInput!$B$15*RAND()","v":6.6435036563615171},{"$f":"(IF('Xi,Yi'!BA39=\"\",\"\",(IF((('Xi,Yi'!BA39+BE39+BD39/SQRT(3))<DataInput!$B$18),\"\",(IF((('Xi,Yi'!BA39+BE39+BD39/SQRT(3))>DataInput!$B$19),\"\",(IF('Xi,Yi'!BB39=\"\",\"\",(IF(('Xi,Yi'!BB39+BD39<DataInput!$B$20),\"\",(IF((('Xi,Yi'!BB39+BD39)>DataInput!$B$21),\"\",('Xi,Yi'!BA39+BE39+BD39/SQRT(3))))))))))))))","v":""},{"$f":"IF(BA39=\"\",\"\",(IF('Xi,Yi'!BB39=\"\",\"\",(IF(('Xi,Yi'!BB39+BD39<DataInput!$B$20),\"\",(IF((('Xi,Yi'!BB39+BD39)>DataInput!$B$21),\"\",('Xi,Yi'!BB39+BD39))))))))","v":""},{"$f":"IF(BA39=\"\",\"\",IF(BB39=\"\",\"\",(DataInput!$B$4+(DataInput!$D$4-DataInput!$B$4)*RAND())))","v":""},{"$f":"DataInput!$B$16*RAND()","v":1.8036365581732368},{"$f":"DataInput!$B$15*RAND()","v":5.7486381194902121}]
[null,null,null,null,null,null,null,{"$f":"(IF('Xi,Yi'!H40=\"\",\"\",(IF((('Xi,Yi'!H40+L40+K40/SQRT(3))<DataInput!$B$18),\"\",(IF((('Xi,Yi'!H40+L40+K40/SQRT(3))>DataInput!$B$19),\"\",(IF('Xi,Yi'!I40=\"\",\"\",(IF(('Xi,Yi'!I40+K40<DataInput!$B$20),\"\",(IF((('Xi,Yi'!I40+K40)>DataInput!$B$21),\"\",('Xi,Yi'!H40+L40+K40/SQRT(3))))))))))))))","v":""},{"$f":"IF(H40=\"\",\"\",(IF('Xi,Yi'!I40=\"\",\"\",(IF(('Xi,Yi'!I40+K40<DataInput!$B$20),\"\",(IF((('Xi,Yi'!I40+K40)>DataInput!$B$21),\"\",('Xi,Yi'!I40+K40))))))))","v":""},{"$f":"IF(H40=\"\",\"\",IF(I40=\"\",\"\",(DataInput!$B$4+(DataInput!$D$4-DataInput!$B$4)*RAND())))","v":""},{"$f":"DataInput!$B$16*RAND()","v":12.060525927810909},{"$f":"DataInput!$B$15*RAND()","v":9.6481772920953901},{"$f":"(IF('Xi,Yi'!M40=\"\",\"\",(IF((('Xi,Yi'!M40+Q40+P40/SQRT(3))<DataInput!$B$18),\"\",(IF((('Xi,Yi'!M40+Q40+P40/SQRT(3))>DataInput!$B$19),\"\",(IF('Xi,Yi'!N40=\"\",\"\",(IF(('Xi,Yi'!N40+P40<DataInput!$B$20),\"\",(IF((('Xi,Yi'!N40+P40)>DataInput!$B$21),\"\",('Xi,Yi'!M40+Q40+P40/SQRT(3))))))))))))))","v":""},{"$f":"IF(M40=\"\",\"\",(IF('Xi,Yi'!N40=\"\",\"\",(IF(('Xi,Yi'!N40+P40<DataInput!$B$20),\"\",(IF((('Xi,Yi'!N40+P40)>DataInput!$B$21),\"\",('Xi,Yi'!N40+P40))))))))","v":""},{"$f":"IF(M40=\"\",\"\",IF(N40=\"\",\"\",(DataInput!$B$4+(DataInput!$D$4-DataInput!$B$4)*RAND())))","v":""},{"$f":"DataInput!$B$16*RAND()","v":1.0856533266624031},{"$f":"DataInput!$B$15*RAND()","v":14.733765266502546},{"$f":"(IF('Xi,Yi'!R40=\"\",\"\",(IF((('Xi,Yi'!R40+V40+U40/SQRT(3))<DataInput!$B$18),\"\",(IF((('Xi,Yi'!R40+V40+U40/SQRT(3))>DataInput!$B$19),\"\",(IF('Xi,Yi'!S40=\"\",\"\",(IF(('Xi,Yi'!S40+U40<DataInput!$B$20),\"\",(IF((('Xi,Yi'!S40+U40)>DataInput!$B$21),\"\",('Xi,Yi'!R40+V40+U40/SQRT(3))))))))))))))","v":""},{"$f":"IF(R40=\"\",\"\",(IF('Xi,Yi'!S40=\"\",\"\",(IF(('Xi,Yi'!S40+U40<DataInput!$B$20),\"\",(IF((('Xi,Yi'!S40+U40)>DataInput!$B$21),\"\",('Xi,Yi'!S40+U40))))))))","v":""},{"$f":"IF(R40=\"\",\"\",IF(S40=\"\",\"\",(DataInput!$B$4+(DataInput!$D$4-DataInput!$B$4)*RAND())))","v":""},{"$f":"DataInput!$B$16*RAND()","v":4.5597246890607792},{"$f":"DataInput!$B$15*RAND()","v":3.3527145595604271},{"$f":"(IF('Xi,Yi'!W40=\"\",\"\",(IF((('Xi,Yi'!W40+AA40+Z40/SQRT(3))<DataInput!$B$18),\"\",(IF((('Xi,Yi'!W40+AA40+Z40/SQRT(3))>DataInput!$B$19),\"\",(IF('Xi,Yi'!X40=\"\",\"\",(IF(('Xi,Yi'!X40+Z40<DataInput!$B$20),\"\",(IF((('Xi,Yi'!X40+Z40)>DataInput!$B$21),\"\",('Xi,Yi'!W40+AA40+Z40/SQRT(3))))))))))))))","v":""},{"$f":"IF(W40=\"\",\"\",(IF('Xi,Yi'!X40=\"\",\"\",(IF(('Xi,Yi'!X40+Z40<DataInput!$B$20),\"\",(IF((('Xi,Yi'!X40+Z40)>DataInput!$B$21),\"\",('Xi,Yi'!X40+Z40))))))))","v":""},{"$f":"IF(W40=\"\",\"\",IF(X40=\"\",\"\",(DataInput!$B$4+(DataInput!$D$4-DataInput!$B$4)*RAND())))","v":""},{"$f":"DataInput!$B$16*RAND()","v":9.2169356112663881},{"$f":"DataInput!$B$15*RAND()","v":0.92670995388213639},{"$f":"(IF('Xi,Yi'!AB40=\"\",\"\",(IF((('Xi,Yi'!AB40+AF40+AE40/SQRT(3))<DataInput!$B$18),\"\",(IF((('Xi,Yi'!AB40+AF40+AE40/SQRT(3))>DataInput!$B$19),\"\",(IF('Xi,Yi'!AC40=\"\",\"\",(IF(('Xi,Yi'!AC40+AE40<DataInput!$B$20),\"\",(IF((('Xi,Yi'!AC40+AE40)>DataInput!$B$21),\"\",('Xi,Yi'!AB40+AF40+AE40/SQRT(3))))))))))))))","v":""},{"$f":"IF(AB40=\"\",\"\",(IF('Xi,Yi'!AC40=\"\",\"\",(IF(('Xi,Yi'!AC40+AE40<DataInput!$B$20),\"\",(IF((('Xi,Yi'!AC40+AE40)>DataInput!$B$21),\"\",('Xi,Yi'!AC40+AE40))))))))","v":""},{"$f":"IF(AB40=\"\",\"\",IF(AC40=\"\",\"\",(DataInput!$B$4+(DataInput!$D$4-DataInput!$B$4)*RAND())))","v":""},{"$f":"DataInput!$B$16*RAND()","v":10.655631409760975},{"$f":"DataInput!$B$15*RAND()","v":1.0021884902828442},{"$f":"(IF('Xi,Yi'!AG40=\"\",\"\",(IF((('Xi,Yi'!AG40+AK40+AJ40/SQRT(3))<DataInput!$B$18),\"\",(IF((('Xi,Yi'!AG40+AK40+AJ40/SQRT(3))>DataInput!$B$19),\"\",(IF('Xi,Yi'!AH40=\"\",\"\",(IF(('Xi,Yi'!AH40+AJ40<DataInput!$B$20),\"\",(IF((('Xi,Yi'!AH40+AJ40)>DataInput!$B$21),\"\",('Xi,Yi'!AG40+AK40+AJ40/SQRT(3))))))))))))))","v":""},{"$f":"IF(AG40=\"\",\"\",(IF('Xi,Yi'!AH40=\"\",\"\",(IF(('Xi,Yi'!AH40+AJ40<DataInput!$B$20),\"\",(IF((('Xi,Yi'!AH40+AJ40)>DataInput!$B$21),\"\",('Xi,Yi'!AH40+AJ40))))))))","v":""},{"$f":"IF(AG40=\"\",\"\",IF(AH40=\"\",\"\",(DataInput!$B$4+(DataInput!$D$4-DataInput!$B$4)*RAND())))","v":""},{"$f":"DataInput!$B$16*RAND()","v":6.3432457469022996},{"$f":"DataInput!$B$15*RAND()","v":16.224294797427412},{"$f":"(IF('Xi,Yi'!AL40=\"\",\"\",(IF((('Xi,Yi'!AL40+AP40+AO40/SQRT(3))<DataInput!$B$18),\"\",(IF((('Xi,Yi'!AL40+AP40+AO40/SQRT(3))>DataInput!$B$19),\"\",(IF('Xi,Yi'!AM40=\"\",\"\",(IF(('Xi,Yi'!AM40+AO40<DataInput!$B$20),\"\",(IF((('Xi,Yi'!AM40+AO40)>DataInput!$B$21),\"\",('Xi,Yi'!AL40+AP40+AO40/SQRT(3))))))))))))))","v":""},{"$f":"IF(AL40=\"\",\"\",(IF('Xi,Yi'!AM40=\"\",\"\",(IF(('Xi,Yi'!AM40+AO40<DataInput!$B$20),\"\",(IF((('Xi,Yi'!AM40+AO40)>DataInput!$B$21),\"\",('Xi,Yi'!AM40+AO40))))))))","v":""},{"$f":"IF(AL40=\"\",\"\",IF(AM40=\"\",\"\",(DataInput!$B$4+(DataInput!$D$4-DataInput!$B$4)*RAND())))","v":""},{"$f":"DataInput!$B$16*RAND()","v":0.231584719284612},{"$f":"DataInput!$B$15*RAND()","v":19.058398454514482},{"$f":"(IF('Xi,Yi'!AQ40=\"\",\"\",(IF((('Xi,Yi'!AQ40+AU40+AT40/SQRT(3))<DataInput!$B$18),\"\",(IF((('Xi,Yi'!AQ40+AU40+AT40/SQRT(3))>DataInput!$B$19),\"\",(IF('Xi,Yi'!AR40=\"\",\"\",(IF(('Xi,Yi'!AR40+AT40<DataInput!$B$20),\"\",(IF((('Xi,Yi'!AR40+AT40)>DataInput!$B$21),\"\",('Xi,Yi'!AQ40+AU40+AT40/SQRT(3))))))))))))))","v":""},{"$f":"IF(AQ40=\"\",\"\",(IF('Xi,Yi'!AR40=\"\",\"\",(IF(('Xi,Yi'!AR40+AT40<DataInput!$B$20),\"\",(IF((('Xi,Yi'!AR40+AT40)>DataInput!$B$21),\"\",('Xi,Yi'!AR40+AT40))))))))","v":""},{"$f":"IF(AQ40=\"\",\"\",IF(AR40=\"\",\"\",(DataInput!$B$4+(DataInput!$D$4-DataInput!$B$4)*RAND())))","v":""},{"$f":"DataInput!$B$16*RAND()","v":13.238679966512608},{"$f":"DataInput!$B$15*RAND()","v":16.882609269369759},{"$f":"(IF('Xi,Yi'!AV40=\"\",\"\",(IF((('Xi,Yi'!AV40+AZ40+AY40/SQRT(3))<DataInput!$B$18),\"\",(IF((('Xi,Yi'!AV40+AZ40+AY40/SQRT(3))>DataInput!$B$19),\"\",(IF('Xi,Yi'!AW40=\"\",\"\",(IF(('Xi,Yi'!AW40+AY40<DataInput!$B$20),\"\",(IF((('Xi,Yi'!AW40+AY40)>DataInput!$B$21),\"\",('Xi,Yi'!AV40+AZ40+AY40/SQRT(3))))))))))))))","v":""},{"$f":"IF(AV40=\"\",\"\",(IF('Xi,Yi'!AW40=\"\",\"\",(IF(('Xi,Yi'!AW40+AY40<DataInput!$B$20),\"\",(IF((('Xi,Yi'!AW40+AY40)>DataInput!$B$21),\"\",('Xi,Yi'!AW40+AY40))))))))","v":""},{"$f":"IF(AV40=\"\",\"\",IF(AW40=\"\",\"\",(DataInput!$B$4+(DataInput!$D$4-DataInput!$B$4)*RAND())))","v":""},{"$f":"DataInput!$B$16*RAND()","v":0.87683400455973604},{"$f":"DataInput!$B$15*RAND()","v":9.6925617276335423},{"$f":"(IF('Xi,Yi'!BA40=\"\",\"\",(IF((('Xi,Yi'!BA40+BE40+BD40/SQRT(3))<DataInput!$B$18),\"\",(IF((('Xi,Yi'!BA40+BE40+BD40/SQRT(3))>DataInput!$B$19),\"\",(IF('Xi,Yi'!BB40=\"\",\"\",(IF(('Xi,Yi'!BB40+BD40<DataInput!$B$20),\"\",(IF((('Xi,Yi'!BB40+BD40)>DataInput!$B$21),\"\",('Xi,Yi'!BA40+BE40+BD40/SQRT(3))))))))))))))","v":""},{"$f":"IF(BA40=\"\",\"\",(IF('Xi,Yi'!BB40=\"\",\"\",(IF(('Xi,Yi'!BB40+BD40<DataInput!$B$20),\"\",(IF((('Xi,Yi'!BB40+BD40)>DataInput!$B$21),\"\",('Xi,Yi'!BB40+BD40))))))))","v":""},{"$f":"IF(BA40=\"\",\"\",IF(BB40=\"\",\"\",(DataInput!$B$4+(DataInput!$D$4-DataInput!$B$4)*RAND())))","v":""},{"$f":"DataInput!$B$16*RAND()","v":3.5949288182184906},{"$f":"DataInput!$B$15*RAND()","v":12.187068249046144}]
[null,null,null,null,null,null,null,{"$f":"(IF('Xi,Yi'!H41=\"\",\"\",(IF((('Xi,Yi'!H41+L41+K41/SQRT(3))<DataInput!$B$18),\"\",(IF((('Xi,Yi'!H41+L41+K41/SQRT(3))>DataInput!$B$19),\"\",(IF('Xi,Yi'!I41=\"\",\"\",(IF(('Xi,Yi'!I41+K41<DataInput!$B$20),\"\",(IF((('Xi,Yi'!I41+K41)>DataInput!$B$21),\"\",('Xi,Yi'!H41+L41+K41/SQRT(3))))))))))))))","v":""},{"$f":"IF(H41=\"\",\"\",(IF('Xi,Yi'!I41=\"\",\"\",(IF(('Xi,Yi'!I41+K41<DataInput!$B$20),\"\",(IF((('Xi,Yi'!I41+K41)>DataInput!$B$21),\"\",('Xi,Yi'!I41+K41))))))))","v":""},{"$f":"IF(H41=\"\",\"\",IF(I41=\"\",\"\",(DataInput!$B$4+(DataInput!$D$4-DataInput!$B$4)*RAND())))","v":""},{"$f":"DataInput!$B$16*RAND()","v":12.084916679302166},{"$f":"DataInput!$B$15*RAND()","v":4.0430796917156986},{"$f":"(IF('Xi,Yi'!M41=\"\",\"\",(IF((('Xi,Yi'!M41+Q41+P41/SQRT(3))<DataInput!$B$18),\"\",(IF((('Xi,Yi'!M41+Q41+P41/SQRT(3))>DataInput!$B$19),\"\",(IF('Xi,Yi'!N41=\"\",\"\",(IF(('Xi,Yi'!N41+P41<DataInput!$B$20),\"\",(IF((('Xi,Yi'!N41+P41)>DataInput!$B$21),\"\",('Xi,Yi'!M41+Q41+P41/SQRT(3))))))))))))))","v":""},{"$f":"IF(M41=\"\",\"\",(IF('Xi,Yi'!N41=\"\",\"\",(IF(('Xi,Yi'!N41+P41<DataInput!$B$20),\"\",(IF((('Xi,Yi'!N41+P41)>DataInput!$B$21),\"\",('Xi,Yi'!N41+P41))))))))","v":""},{"$f":"IF(M41=\"\",\"\",IF(N41=\"\",\"\",(DataInput!$B$4+(DataInput!$D$4-DataInput!$B$4)*RAND())))","v":""},{"$f":"DataInput!$B$16*RAND()","v":4.6527979341447008},{"$f":"DataInput!$B$15*RAND()","v":9.9941497972341793},{"$f":"(IF('Xi,Yi'!R41=\"\",\"\",(IF((('Xi,Yi'!R41+V41+U41/SQRT(3))<DataInput!$B$18),\"\",(IF((('Xi,Yi'!R41+V41+U41/SQRT(3))>DataInput!$B$19),\"\",(IF('Xi,Yi'!S41=\"\",\"\",(IF(('Xi,Yi'!S41+U41<DataInput!$B$20),\"\",(IF((('Xi,Yi'!S41+U41)>DataInput!$B$21),\"\",('Xi,Yi'!R41+V41+U41/SQRT(3))))))))))))))","v":""},{"$f":"IF(R41=\"\",\"\",(IF('Xi,Yi'!S41=\"\",\"\",(IF(('Xi,Yi'!S41+U41<DataInput!$B$20),\"\",(IF((('Xi,Yi'!S41+U41)>DataInput!$B$21),\"\",('Xi,Yi'!S41+U41))))))))","v":""},{"$f":"IF(R41=\"\",\"\",IF(S41=\"\",\"\",(DataInput!$B$4+(DataInput!$D$4-DataInput!$B$4)*RAND())))","v":""},{"$f":"DataInput!$B$16*RAND()","v":13.305447638784816},{"$f":"DataInput!$B$15*RAND()","v":11.197784641753557},{"$f":"(IF('Xi,Yi'!W41=\"\",\"\",(IF((('Xi,Yi'!W41+AA41+Z41/SQRT(3))<DataInput!$B$18),\"\",(IF((('Xi,Yi'!W41+AA41+Z41/SQRT(3))>DataInput!$B$19),\"\",(IF('Xi,Yi'!X41=\"\",\"\",(IF(('Xi,Yi'!X41+Z41<DataInput!$B$20),\"\",(IF((('Xi,Yi'!X41+Z41)>DataInput!$B$21),\"\",('Xi,Yi'!W41+AA41+Z41/SQRT(3))))))))))))))","v":""},{"$f":"IF(W41=\"\",\"\",(IF('Xi,Yi'!X41=\"\",\"\",(IF(('Xi,Yi'!X41+Z41<DataInput!$B$20),\"\",(IF((('Xi,Yi'!X41+Z41)>DataInput!$B$21),\"\",('Xi,Yi'!X41+Z41))))))))","v":""},{"$f":"IF(W41=\"\",\"\",IF(X41=\"\",\"\",(DataInput!$B$4+(DataInput!$D$4-DataInput!$B$4)*RAND())))","v":""},{"$f":"DataInput!$B$16*RAND()","v":1.1516298937705791},{"$f":"DataInput!$B$15*RAND()","v":1.9525812001528073},{"$f":"(IF('Xi,Yi'!AB41=\"\",\"\",(IF((('Xi,Yi'!AB41+AF41+AE41/SQRT(3))<DataInput!$B$18),\"\",(IF((('Xi,Yi'!AB41+AF41+AE41/SQRT(3))>DataInput!$B$19),\"\",(IF('Xi,Yi'!AC41=\"\",\"\",(IF(('Xi,Yi'!AC41+AE41<DataInput!$B$20),\"\",(IF((('Xi,Yi'!AC41+AE41)>DataInput!$B$21),\"\",('Xi,Yi'!AB41+AF41+AE41/SQRT(3))))))))))))))","v":""},{"$f":"IF(AB41=\"\",\"\",(IF('Xi,Yi'!AC41=\"\",\"\",(IF(('Xi,Yi'!AC41+AE41<DataInput!$B$20),\"\",(IF((('Xi,Yi'!AC41+AE41)>DataInput!$B$21),\"\",('Xi,Yi'!AC41+AE41))))))))","v":""},{"$f":"IF(AB41=\"\",\"\",IF(AC41=\"\",\"\",(DataInput!$B$4+(DataInput!$D$4-DataInput!$B$4)*RAND())))","v":""},{"$f":"DataInput!$B$16*RAND()","v":13.272456672629424},{"$f":"DataInput!$B$15*RAND()","v":17.716623466052365},{"$f":"(IF('Xi,Yi'!AG41=\"\",\"\",(IF((('Xi,Yi'!AG41+AK41+AJ41/SQRT(3))<DataInput!$B$18),\"\",(IF((('Xi,Yi'!AG41+AK41+AJ41/SQRT(3))>DataInput!$B$19),\"\",(IF('Xi,Yi'!AH41=\"\",\"\",(IF(('Xi,Yi'!AH41+AJ41<DataInput!$B$20),\"\",(IF((('Xi,Yi'!AH41+AJ41)>DataInput!$B$21),\"\",('Xi,Yi'!AG41+AK41+AJ41/SQRT(3))))))))))))))","v":""},{"$f":"IF(AG41=\"\",\"\",(IF('Xi,Yi'!AH41=\"\",\"\",(IF(('Xi,Yi'!AH41+AJ41<DataInput!$B$20),\"\",(IF((('Xi,Yi'!AH41+AJ41)>DataInput!$B$21),\"\",('Xi,Yi'!AH41+AJ41))))))))","v":""},{"$f":"IF(AG41=\"\",\"\",IF(AH41=\"\",\"\",(DataInput!$B$4+(DataInput!$D$4-DataInput!$B$4)*RAND())))","v":""},{"$f":"DataInput!$B$16*RAND()","v":8.4639433601573693},{"$f":"DataInput!$B$15*RAND()","v":14.141633724182809},{"$f":"(IF('Xi,Yi'!AL41=\"\",\"\",(IF((('Xi,Yi'!AL41+AP41+AO41/SQRT(3))<DataInput!$B$18),\"\",(IF((('Xi,Yi'!AL41+AP41+AO41/SQRT(3))>DataInput!$B$19),\"\",(IF('Xi,Yi'!AM41=\"\",\"\",(IF(('Xi,Yi'!AM41+AO41<DataInput!$B$20),\"\",(IF((('Xi,Yi'!AM41+AO41)>DataInput!$B$21),\"\",('Xi,Yi'!AL41+AP41+AO41/SQRT(3))))))))))))))","v":""},{"$f":"IF(AL41=\"\",\"\",(IF('Xi,Yi'!AM41=\"\",\"\",(IF(('Xi,Yi'!AM41+AO41<DataInput!$B$20),\"\",(IF((('Xi,Yi'!AM41+AO41)>DataInput!$B$21),\"\",('Xi,Yi'!AM41+AO41))))))))","v":""},{"$f":"IF(AL41=\"\",\"\",IF(AM41=\"\",\"\",(DataInput!$B$4+(DataInput!$D$4-DataInput!$B$4)*RAND())))","v":""},{"$f":"DataInput!$B$16*RAND()","v":11.322100644333027},{"$f":"DataInput!$B$15*RAND()","v":7.2106899661663331},{"$f":"(IF('Xi,Yi'!AQ41=\"\",\"\",(IF((('Xi,Yi'!AQ41+AU41+AT41/SQRT(3))<DataInput!$B$18),\"\",(IF((('Xi,Yi'!AQ41+AU41+AT41/SQRT(3))>DataInput!$B$19),\"\",(IF('Xi,Yi'!AR41=\"\",\"\",(IF(('Xi,Yi'!AR41+AT41<DataInput!$B$20),\"\",(IF((('Xi,Yi'!AR41+AT41)>DataInput!$B$21),\"\",('Xi,Yi'!AQ41+AU41+AT41/SQRT(3))))))))))))))","v":""},{"$f":"IF(AQ41=\"\",\"\",(IF('Xi,Yi'!AR41=\"\",\"\",(IF(('Xi,Yi'!AR41+AT41<DataInput!$B$20),\"\",(IF((('Xi,Yi'!AR41+AT41)>DataInput!$B$21),\"\",('Xi,Yi'!AR41+AT41))))))))","v":""},{"$f":"IF(AQ41=\"\",\"\",IF(AR41=\"\",\"\",(DataInput!$B$4+(DataInput!$D$4-DataInput!$B$4)*RAND())))","v":""},{"$f":"DataInput!$B$16*RAND()","v":12.075492568524409},{"$f":"DataInput!$B$15*RAND()","v":9.9987641738490396},{"$f":"(IF('Xi,Yi'!AV41=\"\",\"\",(IF((('Xi,Yi'!AV41+AZ41+AY41/SQRT(3))<DataInput!$B$18),\"\",(IF((('Xi,Yi'!AV41+AZ41+AY41/SQRT(3))>DataInput!$B$19),\"\",(IF('Xi,Yi'!AW41=\"\",\"\",(IF(('Xi,Yi'!AW41+AY41<DataInput!$B$20),\"\",(IF((('Xi,Yi'!AW41+AY41)>DataInput!$B$21),\"\",('Xi,Yi'!AV41+AZ41+AY41/SQRT(3))))))))))))))","v":""},{"$f":"IF(AV41=\"\",\"\",(IF('Xi,Yi'!AW41=\"\",\"\",(IF(('Xi,Yi'!AW41+AY41<DataInput!$B$20),\"\",(IF((('Xi,Yi'!AW41+AY41)>DataInput!$B$21),\"\",('Xi,Yi'!AW41+AY41))))))))","v":""},{"$f":"IF(AV41=\"\",\"\",IF(AW41=\"\",\"\",(DataInput!$B$4+(DataInput!$D$4-DataInput!$B$4)*RAND())))","v":""},{"$f":"DataInput!$B$16*RAND()","v":2.6794013161374757},{"$f":"DataInput!$B$15*RAND()","v":8.9144390100000681},{"$f":"(IF('Xi,Yi'!BA41=\"\",\"\",(IF((('Xi,Yi'!BA41+BE41+BD41/SQRT(3))<DataInput!$B$18),\"\",(IF((('Xi,Yi'!BA41+BE41+BD41/SQRT(3))>DataInput!$B$19),\"\",(IF('Xi,Yi'!BB41=\"\",\"\",(IF(('Xi,Yi'!BB41+BD41<DataInput!$B$20),\"\",(IF((('Xi,Yi'!BB41+BD41)>DataInput!$B$21),\"\",('Xi,Yi'!BA41+BE41+BD41/SQRT(3))))))))))))))","v":""},{"$f":"IF(BA41=\"\",\"\",(IF('Xi,Yi'!BB41=\"\",\"\",(IF(('Xi,Yi'!BB41+BD41<DataInput!$B$20),\"\",(IF((('Xi,Yi'!BB41+BD41)>DataInput!$B$21),\"\",('Xi,Yi'!BB41+BD41))))))))","v":""},{"$f":"IF(BA41=\"\",\"\",IF(BB41=\"\",\"\",(DataInput!$B$4+(DataInput!$D$4-DataInput!$B$4)*RAND())))","v":""},{"$f":"DataInput!$B$16*RAND()","v":16.088285611556866},{"$f":"DataInput!$B$15*RAND()","v":7.3148436149076783}]
[null,null,null,null,null,null,null,{"$f":"(IF('Xi,Yi'!H42=\"\",\"\",(IF((('Xi,Yi'!H42+L42+K42/SQRT(3))<DataInput!$B$18),\"\",(IF((('Xi,Yi'!H42+L42+K42/SQRT(3))>DataInput!$B$19),\"\",(IF('Xi,Yi'!I42=\"\",\"\",(IF(('Xi,Yi'!I42+K42<DataInput!$B$20),\"\",(IF((('Xi,Yi'!I42+K42)>DataInput!$B$21),\"\",('Xi,Yi'!H42+L42+K42/SQRT(3))))))))))))))","v":96.367052139272303},{"$f":"IF(H42=\"\",\"\",(IF('Xi,Yi'!I42=\"\",\"\",(IF(('Xi,Yi'!I42+K42<DataInput!$B$20),\"\",(IF((('Xi,Yi'!I42+K42)>DataInput!$B$21),\"\",('Xi,Yi'!I42+K42))))))))","v":1.0290457138797109},{"$f":"IF(H42=\"\",\"\",IF(I42=\"\",\"\",(DataInput!$B$4+(DataInput!$D$4-DataInput!$B$4)*RAND())))","v":7.43524555167006},{"$f":"DataInput!$B$16*RAND()","v":13.929045713879711},{"$f":"DataInput!$B$15*RAND()","v":4.5251138468092371},{"$f":"(IF('Xi,Yi'!M42=\"\",\"\",(IF((('Xi,Yi'!M42+Q42+P42/SQRT(3))<DataInput!$B$18),\"\",(IF((('Xi,Yi'!M42+Q42+P42/SQRT(3))>DataInput!$B$19),\"\",(IF('Xi,Yi'!N42=\"\",\"\",(IF(('Xi,Yi'!N42+P42<DataInput!$B$20),\"\",(IF((('Xi,Yi'!N42+P42)>DataInput!$B$21),\"\",('Xi,Yi'!M42+Q42+P42/SQRT(3))))))))))))))","v":""},{"$f":"IF(M42=\"\",\"\",(IF('Xi,Yi'!N42=\"\",\"\",(IF(('Xi,Yi'!N42+P42<DataInput!$B$20),\"\",(IF((('Xi,Yi'!N42+P42)>DataInput!$B$21),\"\",('Xi,Yi'!N42+P42))))))))","v":""},{"$f":"IF(M42=\"\",\"\",IF(N42=\"\",\"\",(DataInput!$B$4+(DataInput!$D$4-DataInput!$B$4)*RAND())))","v":""},{"$f":"DataInput!$B$16*RAND()","v":13.239612626639371},{"$f":"DataInput!$B$15*RAND()","v":0.73935474144307534},{"$f":"(IF('Xi,Yi'!R42=\"\",\"\",(IF((('Xi,Yi'!R42+V42+U42/SQRT(3))<DataInput!$B$18),\"\",(IF((('Xi,Yi'!R42+V42+U42/SQRT(3))>DataInput!$B$19),\"\",(IF('Xi,Yi'!S42=\"\",\"\",(IF(('Xi,Yi'!S42+U42<DataInput!$B$20),\"\",(IF((('Xi,Yi'!S42+U42)>DataInput!$B$21),\"\",('Xi,Yi'!R42+V42+U42/SQRT(3))))))))))))))","v":""},{"$f":"IF(R42=\"\",\"\",(IF('Xi,Yi'!S42=\"\",\"\",(IF(('Xi,Yi'!S42+U42<DataInput!$B$20),\"\",(IF((('Xi,Yi'!S42+U42)>DataInput!$B$21),\"\",('Xi,Yi'!S42+U42))))))))","v":""},{"$f":"IF(R42=\"\",\"\",IF(S42=\"\",\"\",(DataInput!$B$4+(DataInput!$D$4-DataInput!$B$4)*RAND())))","v":""},{"$f":"DataInput!$B$16*RAND()","v":1.4399040250564017},{"$f":"DataInput!$B$15*RAND()","v":13.968017213526865},{"$f":"(IF('Xi,Yi'!W42=\"\",\"\",(IF((('Xi,Yi'!W42+AA42+Z42/SQRT(3))<DataInput!$B$18),\"\",(IF((('Xi,Yi'!W42+AA42+Z42/SQRT(3))>DataInput!$B$19),\"\",(IF('Xi,Yi'!X42=\"\",\"\",(IF(('Xi,Yi'!X42+Z42<DataInput!$B$20),\"\",(IF((('Xi,Yi'!X42+Z42)>DataInput!$B$21),\"\",('Xi,Yi'!W42+AA42+Z42/SQRT(3))))))))))))))","v":""},{"$f":"IF(W42=\"\",\"\",(IF('Xi,Yi'!X42=\"\",\"\",(IF(('Xi,Yi'!X42+Z42<DataInput!$B$20),\"\",(IF((('Xi,Yi'!X42+Z42)>DataInput!$B$21),\"\",('Xi,Yi'!X42+Z42))))))))","v":""},{"$f":"IF(W42=\"\",\"\",IF(X42=\"\",\"\",(DataInput!$B$4+(DataInput!$D$4-DataInput!$B$4)*RAND())))","v":""},{"$f":"DataInput!$B$16*RAND()","v":6.4098345686142881},{"$f":"DataInput!$B$15*RAND()","v":7.0974538301720376},{"$f":"(IF('Xi,Yi'!AB42=\"\",\"\",(IF((('Xi,Yi'!AB42+AF42+AE42/SQRT(3))<DataInput!$B$18),\"\",(IF((('Xi,Yi'!AB42+AF42+AE42/SQRT(3))>DataInput!$B$19),\"\",(IF('Xi,Yi'!AC42=\"\",\"\",(IF(('Xi,Yi'!AC42+AE42<DataInput!$B$20),\"\",(IF((('Xi,Yi'!AC42+AE42)>DataInput!$B$21),\"\",('Xi,Yi'!AB42+AF42+AE42/SQRT(3))))))))))))))","v":""},{"$f":"IF(AB42=\"\",\"\",(IF('Xi,Yi'!AC42=\"\",\"\",(IF(('Xi,Yi'!AC42+AE42<DataInput!$B$20),\"\",(IF((('Xi,Yi'!AC42+AE42)>DataInput!$B$21),\"\",('Xi,Yi'!AC42+AE42))))))))","v":""},{"$f":"IF(AB42=\"\",\"\",IF(AC42=\"\",\"\",(DataInput!$B$4+(DataInput!$D$4-DataInput!$B$4)*RAND())))","v":""},{"$f":"DataInput!$B$16*RAND()","v":13.718364494626169},{"$f":"DataInput!$B$15*RAND()","v":5.3216442464512284},{"$f":"(IF('Xi,Yi'!AG42=\"\",\"\",(IF((('Xi,Yi'!AG42+AK42+AJ42/SQRT(3))<DataInput!$B$18),\"\",(IF((('Xi,Yi'!AG42+AK42+AJ42/SQRT(3))>DataInput!$B$19),\"\",(IF('Xi,Yi'!AH42=\"\",\"\",(IF(('Xi,Yi'!AH42+AJ42<DataInput!$B$20),\"\",(IF((('Xi,Yi'!AH42+AJ42)>DataInput!$B$21),\"\",('Xi,Yi'!AG42+AK42+AJ42/SQRT(3))))))))))))))","v":""},{"$f":"IF(AG42=\"\",\"\",(IF('Xi,Yi'!AH42=\"\",\"\",(IF(('Xi,Yi'!AH42+AJ42<DataInput!$B$20),\"\",(IF((('Xi,Yi'!AH42+AJ42)>DataInput!$B$21),\"\",('Xi,Yi'!AH42+AJ42))))))))","v":""},{"$f":"IF(AG42=\"\",\"\",IF(AH42=\"\",\"\",(DataInput!$B$4+(DataInput!$D$4-DataInput!$B$4)*RAND())))","v":""},{"$f":"DataInput!$B$16*RAND()","v":14.708311719067357},{"$f":"DataInput!$B$15*RAND()","v":15.860512486434349},{"$f":"(IF('Xi,Yi'!AL42=\"\",\"\",(IF((('Xi,Yi'!AL42+AP42+AO42/SQRT(3))<DataInput!$B$18),\"\",(IF((('Xi,Yi'!AL42+AP42+AO42/SQRT(3))>DataInput!$B$19),\"\",(IF('Xi,Yi'!AM42=\"\",\"\",(IF(('Xi,Yi'!AM42+AO42<DataInput!$B$20),\"\",(IF((('Xi,Yi'!AM42+AO42)>DataInput!$B$21),\"\",('Xi,Yi'!AL42+AP42+AO42/SQRT(3))))))))))))))","v":""},{"$f":"IF(AL42=\"\",\"\",(IF('Xi,Yi'!AM42=\"\",\"\",(IF(('Xi,Yi'!AM42+AO42<DataInput!$B$20),\"\",(IF((('Xi,Yi'!AM42+AO42)>DataInput!$B$21),\"\",('Xi,Yi'!AM42+AO42))))))))","v":""},{"$f":"IF(AL42=\"\",\"\",IF(AM42=\"\",\"\",(DataInput!$B$4+(DataInput!$D$4-DataInput!$B$4)*RAND())))","v":""},{"$f":"DataInput!$B$16*RAND()","v":1.7201329029896144},{"$f":"DataInput!$B$15*RAND()","v":5.1279194804941},{"$f":"(IF('Xi,Yi'!AQ42=\"\",\"\",(IF((('Xi,Yi'!AQ42+AU42+AT42/SQRT(3))<DataInput!$B$18),\"\",(IF((('Xi,Yi'!AQ42+AU42+AT42/SQRT(3))>DataInput!$B$19),\"\",(IF('Xi,Yi'!AR42=\"\",\"\",(IF(('Xi,Yi'!AR42+AT42<DataInput!$B$20),\"\",(IF((('Xi,Yi'!AR42+AT42)>DataInput!$B$21),\"\",('Xi,Yi'!AQ42+AU42+AT42/SQRT(3))))))))))))))","v":""},{"$f":"IF(AQ42=\"\",\"\",(IF('Xi,Yi'!AR42=\"\",\"\",(IF(('Xi,Yi'!AR42+AT42<DataInput!$B$20),\"\",(IF((('Xi,Yi'!AR42+AT42)>DataInput!$B$21),\"\",('Xi,Yi'!AR42+AT42))))))))","v":""},{"$f":"IF(AQ42=\"\",\"\",IF(AR42=\"\",\"\",(DataInput!$B$4+(DataInput!$D$4-DataInput!$B$4)*RAND())))","v":""},{"$f":"DataInput!$B$16*RAND()","v":5.1521900479669629},{"$f":"DataInput!$B$15*RAND()","v":13.707490996585051},{"$f":"(IF('Xi,Yi'!AV42=\"\",\"\",(IF((('Xi,Yi'!AV42+AZ42+AY42/SQRT(3))<DataInput!$B$18),\"\",(IF((('Xi,Yi'!AV42+AZ42+AY42/SQRT(3))>DataInput!$B$19),\"\",(IF('Xi,Yi'!AW42=\"\",\"\",(IF(('Xi,Yi'!AW42+AY42<DataInput!$B$20),\"\",(IF((('Xi,Yi'!AW42+AY42)>DataInput!$B$21),\"\",('Xi,Yi'!AV42+AZ42+AY42/SQRT(3))))))))))))))","v":""},{"$f":"IF(AV42=\"\",\"\",(IF('Xi,Yi'!AW42=\"\",\"\",(IF(('Xi,Yi'!AW42+AY42<DataInput!$B$20),\"\",(IF((('Xi,Yi'!AW42+AY42)>DataInput!$B$21),\"\",('Xi,Yi'!AW42+AY42))))))))","v":""},{"$f":"IF(AV42=\"\",\"\",IF(AW42=\"\",\"\",(DataInput!$B$4+(DataInput!$D$4-DataInput!$B$4)*RAND())))","v":""},{"$f":"DataInput!$B$16*RAND()","v":10.996179436784496},{"$f":"DataInput!$B$15*RAND()","v":7.2713503199503258},{"$f":"(IF('Xi,Yi'!BA42=\"\",\"\",(IF((('Xi,Yi'!BA42+BE42+BD42/SQRT(3))<DataInput!$B$18),\"\",(IF((('Xi,Yi'!BA42+BE42+BD42/SQRT(3))>DataInput!$B$19),\"\",(IF('Xi,Yi'!BB42=\"\",\"\",(IF(('Xi,Yi'!BB42+BD42<DataInput!$B$20),\"\",(IF((('Xi,Yi'!BB42+BD42)>DataInput!$B$21),\"\",('Xi,Yi'!BA42+BE42+BD42/SQRT(3))))))))))))))","v":""},{"$f":"IF(BA42=\"\",\"\",(IF('Xi,Yi'!BB42=\"\",\"\",(IF(('Xi,Yi'!BB42+BD42<DataInput!$B$20),\"\",(IF((('Xi,Yi'!BB42+BD42)>DataInput!$B$21),\"\",('Xi,Yi'!BB42+BD42))))))))","v":""},{"$f":"IF(BA42=\"\",\"\",IF(BB42=\"\",\"\",(DataInput!$B$4+(DataInput!$D$4-DataInput!$B$4)*RAND())))","v":""},{"$f":"DataInput!$B$16*RAND()","v":16.76332806779331},{"$f":"DataInput!$B$15*RAND()","v":18.733079931383035}]
[null,null,null,null,null,null,null,{"$f":"(IF('Xi,Yi'!H43=\"\",\"\",(IF((('Xi,Yi'!H43+L43+K43/SQRT(3))<DataInput!$B$18),\"\",(IF((('Xi,Yi'!H43+L43+K43/SQRT(3))>DataInput!$B$19),\"\",(IF('Xi,Yi'!I43=\"\",\"\",(IF(('Xi,Yi'!I43+K43<DataInput!$B$20),\"\",(IF((('Xi,Yi'!I43+K43)>DataInput!$B$21),\"\",('Xi,Yi'!H43+L43+K43/SQRT(3))))))))))))))","v":""},{"$f":"IF(H43=\"\",\"\",(IF('Xi,Yi'!I43=\"\",\"\",(IF(('Xi,Yi'!I43+K43<DataInput!$B$20),\"\",(IF((('Xi,Yi'!I43+K43)>DataInput!$B$21),\"\",('Xi,Yi'!I43+K43))))))))","v":""},{"$f":"IF(H43=\"\",\"\",IF(I43=\"\",\"\",(DataInput!$B$4+(DataInput!$D$4-DataInput!$B$4)*RAND())))","v":""},{"$f":"DataInput!$B$16*RAND()","v":3.1461699887382033},{"$f":"DataInput!$B$15*RAND()","v":18.258945183847199},{"$f":"(IF('Xi,Yi'!M43=\"\",\"\",(IF((('Xi,Yi'!M43+Q43+P43/SQRT(3))<DataInput!$B$18),\"\",(IF((('Xi,Yi'!M43+Q43+P43/SQRT(3))>DataInput!$B$19),\"\",(IF('Xi,Yi'!N43=\"\",\"\",(IF(('Xi,Yi'!N43+P43<DataInput!$B$20),\"\",(IF((('Xi,Yi'!N43+P43)>DataInput!$B$21),\"\",('Xi,Yi'!M43+Q43+P43/SQRT(3))))))))))))))","v":""},{"$f":"IF(M43=\"\",\"\",(IF('Xi,Yi'!N43=\"\",\"\",(IF(('Xi,Yi'!N43+P43<DataInput!$B$20),\"\",(IF((('Xi,Yi'!N43+P43)>DataInput!$B$21),\"\",('Xi,Yi'!N43+P43))))))))","v":""},{"$f":"IF(M43=\"\",\"\",IF(N43=\"\",\"\",(DataInput!$B$4+(DataInput!$D$4-DataInput!$B$4)*RAND())))","v":""},{"$f":"DataInput!$B$16*RAND()","v":7.7857246021423743},{"$f":"DataInput!$B$15*RAND()","v":0.75119634693320569},{"$f":"(IF('Xi,Yi'!R43=\"\",\"\",(IF((('Xi,Yi'!R43+V43+U43/SQRT(3))<DataInput!$B$18),\"\",(IF((('Xi,Yi'!R43+V43+U43/SQRT(3))>DataInput!$B$19),\"\",(IF('Xi,Yi'!S43=\"\",\"\",(IF(('Xi,Yi'!S43+U43<DataInput!$B$20),\"\",(IF((('Xi,Yi'!S43+U43)>DataInput!$B$21),\"\",('Xi,Yi'!R43+V43+U43/SQRT(3))))))))))))))","v":""},{"$f":"IF(R43=\"\",\"\",(IF('Xi,Yi'!S43=\"\",\"\",(IF(('Xi,Yi'!S43+U43<DataInput!$B$20),\"\",(IF((('Xi,Yi'!S43+U43)>DataInput!$B$21),\"\",('Xi,Yi'!S43+U43))))))))","v":""},{"$f":"IF(R43=\"\",\"\",IF(S43=\"\",\"\",(DataInput!$B$4+(DataInput!$D$4-DataInput!$B$4)*RAND())))","v":""},{"$f":"DataInput!$B$16*RAND()","v":7.2248578909784502},{"$f":"DataInput!$B$15*RAND()","v":8.0574565909078224},{"$f":"(IF('Xi,Yi'!W43=\"\",\"\",(IF((('Xi,Yi'!W43+AA43+Z43/SQRT(3))<DataInput!$B$18),\"\",(IF((('Xi,Yi'!W43+AA43+Z43/SQRT(3))>DataInput!$B$19),\"\",(IF('Xi,Yi'!X43=\"\",\"\",(IF(('Xi,Yi'!X43+Z43<DataInput!$B$20),\"\",(IF((('Xi,Yi'!X43+Z43)>DataInput!$B$21),\"\",('Xi,Yi'!W43+AA43+Z43/SQRT(3))))))))))))))","v":""},{"$f":"IF(W43=\"\",\"\",(IF('Xi,Yi'!X43=\"\",\"\",(IF(('Xi,Yi'!X43+Z43<DataInput!$B$20),\"\",(IF((('Xi,Yi'!X43+Z43)>DataInput!$B$21),\"\",('Xi,Yi'!X43+Z43))))))))","v":""},{"$f":"IF(W43=\"\",\"\",IF(X43=\"\",\"\",(DataInput!$B$4+(DataInput!$D$4-DataInput!$B$4)*RAND())))","v":""},{"$f":"DataInput!$B$16*RAND()","v":4.8492498525172687},{"$f":"DataInput!$B$15*RAND()","v":5.5672576260526636},{"$f":"(IF('Xi,Yi'!AB43=\"\",\"\",(IF((('Xi,Yi'!AB43+AF43+AE43/SQRT(3))<DataInput!$B$18),\"\",(IF((('Xi,Yi'!AB43+AF43+AE43/SQRT(3))>DataInput!$B$19),\"\",(IF('Xi,Yi'!AC43=\"\",\"\",(IF(('Xi,Yi'!AC43+AE43<DataInput!$B$20),\"\",(IF((('Xi,Yi'!AC43+AE43)>DataInput!$B$21),\"\",('Xi,Yi'!AB43+AF43+AE43/SQRT(3))))))))))))))","v":""},{"$f":"IF(AB43=\"\",\"\",(IF('Xi,Yi'!AC43=\"\",\"\",(IF(('Xi,Yi'!AC43+AE43<DataInput!$B$20),\"\",(IF((('Xi,Yi'!AC43+AE43)>DataInput!$B$21),\"\",('Xi,Yi'!AC43+AE43))))))))","v":""},{"$f":"IF(AB43=\"\",\"\",IF(AC43=\"\",\"\",(DataInput!$B$4+(DataInput!$D$4-DataInput!$B$4)*RAND())))","v":""},{"$f":"DataInput!$B$16*RAND()","v":2.9883429837458499},{"$f":"DataInput!$B$15*RAND()","v":4.5491444539597481},{"$f":"(IF('Xi,Yi'!AG43=\"\",\"\",(IF((('Xi,Yi'!AG43+AK43+AJ43/SQRT(3))<DataInput!$B$18),\"\",(IF((('Xi,Yi'!AG43+AK43+AJ43/SQRT(3))>DataInput!$B$19),\"\",(IF('Xi,Yi'!AH43=\"\",\"\",(IF(('Xi,Yi'!AH43+AJ43<DataInput!$B$20),\"\",(IF((('Xi,Yi'!AH43+AJ43)>DataInput!$B$21),\"\",('Xi,Yi'!AG43+AK43+AJ43/SQRT(3))))))))))))))","v":""},{"$f":"IF(AG43=\"\",\"\",(IF('Xi,Yi'!AH43=\"\",\"\",(IF(('Xi,Yi'!AH43+AJ43<DataInput!$B$20),\"\",(IF((('Xi,Yi'!AH43+AJ43)>DataInput!$B$21),\"\",('Xi,Yi'!AH43+AJ43))))))))","v":""},{"$f":"IF(AG43=\"\",\"\",IF(AH43=\"\",\"\",(DataInput!$B$4+(DataInput!$D$4-DataInput!$B$4)*RAND())))","v":""},{"$f":"DataInput!$B$16*RAND()","v":11.471100777925889},{"$f":"DataInput!$B$15*RAND()","v":10.485191416573983},{"$f":"(IF('Xi,Yi'!AL43=\"\",\"\",(IF((('Xi,Yi'!AL43+AP43+AO43/SQRT(3))<DataInput!$B$18),\"\",(IF((('Xi,Yi'!AL43+AP43+AO43/SQRT(3))>DataInput!$B$19),\"\",(IF('Xi,Yi'!AM43=\"\",\"\",(IF(('Xi,Yi'!AM43+AO43<DataInput!$B$20),\"\",(IF((('Xi,Yi'!AM43+AO43)>DataInput!$B$21),\"\",('Xi,Yi'!AL43+AP43+AO43/SQRT(3))))))))))))))","v":""},{"$f":"IF(AL43=\"\",\"\",(IF('Xi,Yi'!AM43=\"\",\"\",(IF(('Xi,Yi'!AM43+AO43<DataInput!$B$20),\"\",(IF((('Xi,Yi'!AM43+AO43)>DataInput!$B$21),\"\",('Xi,Yi'!AM43+AO43))))))))","v":""},{"$f":"IF(AL43=\"\",\"\",IF(AM43=\"\",\"\",(DataInput!$B$4+(DataInput!$D$4-DataInput!$B$4)*RAND())))","v":""},{"$f":"DataInput!$B$16*RAND()","v":4.6910832083918326},{"$f":"DataInput!$B$15*RAND()","v":13.800103190916795},{"$f":"(IF('Xi,Yi'!AQ43=\"\",\"\",(IF((('Xi,Yi'!AQ43+AU43+AT43/SQRT(3))<DataInput!$B$18),\"\",(IF((('Xi,Yi'!AQ43+AU43+AT43/SQRT(3))>DataInput!$B$19),\"\",(IF('Xi,Yi'!AR43=\"\",\"\",(IF(('Xi,Yi'!AR43+AT43<DataInput!$B$20),\"\",(IF((('Xi,Yi'!AR43+AT43)>DataInput!$B$21),\"\",('Xi,Yi'!AQ43+AU43+AT43/SQRT(3))))))))))))))","v":""},{"$f":"IF(AQ43=\"\",\"\",(IF('Xi,Yi'!AR43=\"\",\"\",(IF(('Xi,Yi'!AR43+AT43<DataInput!$B$20),\"\",(IF((('Xi,Yi'!AR43+AT43)>DataInput!$B$21),\"\",('Xi,Yi'!AR43+AT43))))))))","v":""},{"$f":"IF(AQ43=\"\",\"\",IF(AR43=\"\",\"\",(DataInput!$B$4+(DataInput!$D$4-DataInput!$B$4)*RAND())))","v":""},{"$f":"DataInput!$B$16*RAND()","v":12.035649191156139},{"$f":"DataInput!$B$15*RAND()","v":11.106365468953527},{"$f":"(IF('Xi,Yi'!AV43=\"\",\"\",(IF((('Xi,Yi'!AV43+AZ43+AY43/SQRT(3))<DataInput!$B$18),\"\",(IF((('Xi,Yi'!AV43+AZ43+AY43/SQRT(3))>DataInput!$B$19),\"\",(IF('Xi,Yi'!AW43=\"\",\"\",(IF(('Xi,Yi'!AW43+AY43<DataInput!$B$20),\"\",(IF((('Xi,Yi'!AW43+AY43)>DataInput!$B$21),\"\",('Xi,Yi'!AV43+AZ43+AY43/SQRT(3))))))))))))))","v":""},{"$f":"IF(AV43=\"\",\"\",(IF('Xi,Yi'!AW43=\"\",\"\",(IF(('Xi,Yi'!AW43+AY43<DataInput!$B$20),\"\",(IF((('Xi,Yi'!AW43+AY43)>DataInput!$B$21),\"\",('Xi,Yi'!AW43+AY43))))))))","v":""},{"$f":"IF(AV43=\"\",\"\",IF(AW43=\"\",\"\",(DataInput!$B$4+(DataInput!$D$4-DataInput!$B$4)*RAND())))","v":""},{"$f":"DataInput!$B$16*RAND()","v":6.3202832748917714},{"$f":"DataInput!$B$15*RAND()","v":0.49236920398368483},{"$f":"(IF('Xi,Yi'!BA43=\"\",\"\",(IF((('Xi,Yi'!BA43+BE43+BD43/SQRT(3))<DataInput!$B$18),\"\",(IF((('Xi,Yi'!BA43+BE43+BD43/SQRT(3))>DataInput!$B$19),\"\",(IF('Xi,Yi'!BB43=\"\",\"\",(IF(('Xi,Yi'!BB43+BD43<DataInput!$B$20),\"\",(IF((('Xi,Yi'!BB43+BD43)>DataInput!$B$21),\"\",('Xi,Yi'!BA43+BE43+BD43/SQRT(3))))))))))))))","v":""},{"$f":"IF(BA43=\"\",\"\",(IF('Xi,Yi'!BB43=\"\",\"\",(IF(('Xi,Yi'!BB43+BD43<DataInput!$B$20),\"\",(IF((('Xi,Yi'!BB43+BD43)>DataInput!$B$21),\"\",('Xi,Yi'!BB43+BD43))))))))","v":""},{"$f":"IF(BA43=\"\",\"\",IF(BB43=\"\",\"\",(DataInput!$B$4+(DataInput!$D$4-DataInput!$B$4)*RAND())))","v":""},{"$f":"DataInput!$B$16*RAND()","v":10.950481812729054},{"$f":"DataInput!$B$15*RAND()","v":8.5842912608813791}]
[null,null,null,null,null,null,null,{"$f":"(IF('Xi,Yi'!H44=\"\",\"\",(IF((('Xi,Yi'!H44+L44+K44/SQRT(3))<DataInput!$B$18),\"\",(IF((('Xi,Yi'!H44+L44+K44/SQRT(3))>DataInput!$B$19),\"\",(IF('Xi,Yi'!I44=\"\",\"\",(IF(('Xi,Yi'!I44+K44<DataInput!$B$20),\"\",(IF((('Xi,Yi'!I44+K44)>DataInput!$B$21),\"\",('Xi,Yi'!H44+L44+K44/SQRT(3))))))))))))))","v":""},{"$f":"IF(H44=\"\",\"\",(IF('Xi,Yi'!I44=\"\",\"\",(IF(('Xi,Yi'!I44+K44<DataInput!$B$20),\"\",(IF((('Xi,Yi'!I44+K44)>DataInput!$B$21),\"\",('Xi,Yi'!I44+K44))))))))","v":""},{"$f":"IF(H44=\"\",\"\",IF(I44=\"\",\"\",(DataInput!$B$4+(DataInput!$D$4-DataInput!$B$4)*RAND())))","v":""},{"$f":"DataInput!$B$16*RAND()","v":16.367159515561912},{"$f":"DataInput!$B$15*RAND()","v":4.7980603235383708},{"$f":"(IF('Xi,Yi'!M44=\"\",\"\",(IF((('Xi,Yi'!M44+Q44+P44/SQRT(3))<DataInput!$B$18),\"\",(IF((('Xi,Yi'!M44+Q44+P44/SQRT(3))>DataInput!$B$19),\"\",(IF('Xi,Yi'!N44=\"\",\"\",(IF(('Xi,Yi'!N44+P44<DataInput!$B$20),\"\",(IF((('Xi,Yi'!N44+P44)>DataInput!$B$21),\"\",('Xi,Yi'!M44+Q44+P44/SQRT(3))))))))))))))","v":""},{"$f":"IF(M44=\"\",\"\",(IF('Xi,Yi'!N44=\"\",\"\",(IF(('Xi,Yi'!N44+P44<DataInput!$B$20),\"\",(IF((('Xi,Yi'!N44+P44)>DataInput!$B$21),\"\",('Xi,Yi'!N44+P44))))))))","v":""},{"$f":"IF(M44=\"\",\"\",IF(N44=\"\",\"\",(DataInput!$B$4+(DataInput!$D$4-DataInput!$B$4)*RAND())))","v":""},{"$f":"DataInput!$B$16*RAND()","v":12.931255560222894},{"$f":"DataInput!$B$15*RAND()","v":18.8466334376416},{"$f":"(IF('Xi,Yi'!R44=\"\",\"\",(IF((('Xi,Yi'!R44+V44+U44/SQRT(3))<DataInput!$B$18),\"\",(IF((('Xi,Yi'!R44+V44+U44/SQRT(3))>DataInput!$B$19),\"\",(IF('Xi,Yi'!S44=\"\",\"\",(IF(('Xi,Yi'!S44+U44<DataInput!$B$20),\"\",(IF((('Xi,Yi'!S44+U44)>DataInput!$B$21),\"\",('Xi,Yi'!R44+V44+U44/SQRT(3))))))))))))))","v":""},{"$f":"IF(R44=\"\",\"\",(IF('Xi,Yi'!S44=\"\",\"\",(IF(('Xi,Yi'!S44+U44<DataInput!$B$20),\"\",(IF((('Xi,Yi'!S44+U44)>DataInput!$B$21),\"\",('Xi,Yi'!S44+U44))))))))","v":""},{"$f":"IF(R44=\"\",\"\",IF(S44=\"\",\"\",(DataInput!$B$4+(DataInput!$D$4-DataInput!$B$4)*RAND())))","v":""},{"$f":"DataInput!$B$16*RAND()","v":16.958587425391627},{"$f":"DataInput!$B$15*RAND()","v":4.3137958671118515},{"$f":"(IF('Xi,Yi'!W44=\"\",\"\",(IF((('Xi,Yi'!W44+AA44+Z44/SQRT(3))<DataInput!$B$18),\"\",(IF((('Xi,Yi'!W44+AA44+Z44/SQRT(3))>DataInput!$B$19),\"\",(IF('Xi,Yi'!X44=\"\",\"\",(IF(('Xi,Yi'!X44+Z44<DataInput!$B$20),\"\",(IF((('Xi,Yi'!X44+Z44)>DataInput!$B$21),\"\",('Xi,Yi'!W44+AA44+Z44/SQRT(3))))))))))))))","v":""},{"$f":"IF(W44=\"\",\"\",(IF('Xi,Yi'!X44=\"\",\"\",(IF(('Xi,Yi'!X44+Z44<DataInput!$B$20),\"\",(IF((('Xi,Yi'!X44+Z44)>DataInput!$B$21),\"\",('Xi,Yi'!X44+Z44))))))))","v":""},{"$f":"IF(W44=\"\",\"\",IF(X44=\"\",\"\",(DataInput!$B$4+(DataInput!$D$4-DataInput!$B$4)*RAND())))","v":""},{"$f":"DataInput!$B$16*RAND()","v":3.8904887391045238},{"$f":"DataInput!$B$15*RAND()","v":10.470174137146941},{"$f":"(IF('Xi,Yi'!AB44=\"\",\"\",(IF((('Xi,Yi'!AB44+AF44+AE44/SQRT(3))<DataInput!$B$18),\"\",(IF((('Xi,Yi'!AB44+AF44+AE44/SQRT(3))>DataInput!$B$19),\"\",(IF('Xi,Yi'!AC44=\"\",\"\",(IF(('Xi,Yi'!AC44+AE44<DataInput!$B$20),\"\",(IF((('Xi,Yi'!AC44+AE44)>DataInput!$B$21),\"\",('Xi,Yi'!AB44+AF44+AE44/SQRT(3))))))))))))))","v":""},{"$f":"IF(AB44=\"\",\"\",(IF('Xi,Yi'!AC44=\"\",\"\",(IF(('Xi,Yi'!AC44+AE44<DataInput!$B$20),\"\",(IF((('Xi,Yi'!AC44+AE44)>DataInput!$B$21),\"\",('Xi,Yi'!AC44+AE44))))))))","v":""},{"$f":"IF(AB44=\"\",\"\",IF(AC44=\"\",\"\",(DataInput!$B$4+(DataInput!$D$4-DataInput!$B$4)*RAND())))","v":""},{"$f":"DataInput!$B$16*RAND()","v":3.6026848723508609},{"$f":"DataInput!$B$15*RAND()","v":17.047928015677879},{"$f":"(IF('Xi,Yi'!AG44=\"\",\"\",(IF((('Xi,Yi'!AG44+AK44+AJ44/SQRT(3))<DataInput!$B$18),\"\",(IF((('Xi,Yi'!AG44+AK44+AJ44/SQRT(3))>DataInput!$B$19),\"\",(IF('Xi,Yi'!AH44=\"\",\"\",(IF(('Xi,Yi'!AH44+AJ44<DataInput!$B$20),\"\",(IF((('Xi,Yi'!AH44+AJ44)>DataInput!$B$21),\"\",('Xi,Yi'!AG44+AK44+AJ44/SQRT(3))))))))))))))","v":""},{"$f":"IF(AG44=\"\",\"\",(IF('Xi,Yi'!AH44=\"\",\"\",(IF(('Xi,Yi'!AH44+AJ44<DataInput!$B$20),\"\",(IF((('Xi,Yi'!AH44+AJ44)>DataInput!$B$21),\"\",('Xi,Yi'!AH44+AJ44))))))))","v":""},{"$f":"IF(AG44=\"\",\"\",IF(AH44=\"\",\"\",(DataInput!$B$4+(DataInput!$D$4-DataInput!$B$4)*RAND())))","v":""},{"$f":"DataInput!$B$16*RAND()","v":15.999476731214216},{"$f":"DataInput!$B$15*RAND()","v":17.364931054123375},{"$f":"(IF('Xi,Yi'!AL44=\"\",\"\",(IF((('Xi,Yi'!AL44+AP44+AO44/SQRT(3))<DataInput!$B$18),\"\",(IF((('Xi,Yi'!AL44+AP44+AO44/SQRT(3))>DataInput!$B$19),\"\",(IF('Xi,Yi'!AM44=\"\",\"\",(IF(('Xi,Yi'!AM44+AO44<DataInput!$B$20),\"\",(IF((('Xi,Yi'!AM44+AO44)>DataInput!$B$21),\"\",('Xi,Yi'!AL44+AP44+AO44/SQRT(3))))))))))))))","v":""},{"$f":"IF(AL44=\"\",\"\",(IF('Xi,Yi'!AM44=\"\",\"\",(IF(('Xi,Yi'!AM44+AO44<DataInput!$B$20),\"\",(IF((('Xi,Yi'!AM44+AO44)>DataInput!$B$21),\"\",('Xi,Yi'!AM44+AO44))))))))","v":""},{"$f":"IF(AL44=\"\",\"\",IF(AM44=\"\",\"\",(DataInput!$B$4+(DataInput!$D$4-DataInput!$B$4)*RAND())))","v":""},{"$f":"DataInput!$B$16*RAND()","v":6.6616324447515725},{"$f":"DataInput!$B$15*RAND()","v":0.77871548796101264},{"$f":"(IF('Xi,Yi'!AQ44=\"\",\"\",(IF((('Xi,Yi'!AQ44+AU44+AT44/SQRT(3))<DataInput!$B$18),\"\",(IF((('Xi,Yi'!AQ44+AU44+AT44/SQRT(3))>DataInput!$B$19),\"\",(IF('Xi,Yi'!AR44=\"\",\"\",(IF(('Xi,Yi'!AR44+AT44<DataInput!$B$20),\"\",(IF((('Xi,Yi'!AR44+AT44)>DataInput!$B$21),\"\",('Xi,Yi'!AQ44+AU44+AT44/SQRT(3))))))))))))))","v":""},{"$f":"IF(AQ44=\"\",\"\",(IF('Xi,Yi'!AR44=\"\",\"\",(IF(('Xi,Yi'!AR44+AT44<DataInput!$B$20),\"\",(IF((('Xi,Yi'!AR44+AT44)>DataInput!$B$21),\"\",('Xi,Yi'!AR44+AT44))))))))","v":""},{"$f":"IF(AQ44=\"\",\"\",IF(AR44=\"\",\"\",(DataInput!$B$4+(DataInput!$D$4-DataInput!$B$4)*RAND())))","v":""},{"$f":"DataInput!$B$16*RAND()","v":1.6820021929066309},{"$f":"DataInput!$B$15*RAND()","v":11.015777978144403},{"$f":"(IF('Xi,Yi'!AV44=\"\",\"\",(IF((('Xi,Yi'!AV44+AZ44+AY44/SQRT(3))<DataInput!$B$18),\"\",(IF((('Xi,Yi'!AV44+AZ44+AY44/SQRT(3))>DataInput!$B$19),\"\",(IF('Xi,Yi'!AW44=\"\",\"\",(IF(('Xi,Yi'!AW44+AY44<DataInput!$B$20),\"\",(IF((('Xi,Yi'!AW44+AY44)>DataInput!$B$21),\"\",('Xi,Yi'!AV44+AZ44+AY44/SQRT(3))))))))))))))","v":""},{"$f":"IF(AV44=\"\",\"\",(IF('Xi,Yi'!AW44=\"\",\"\",(IF(('Xi,Yi'!AW44+AY44<DataInput!$B$20),\"\",(IF((('Xi,Yi'!AW44+AY44)>DataInput!$B$21),\"\",('Xi,Yi'!AW44+AY44))))))))","v":""},{"$f":"IF(AV44=\"\",\"\",IF(AW44=\"\",\"\",(DataInput!$B$4+(DataInput!$D$4-DataInput!$B$4)*RAND())))","v":""},{"$f":"DataInput!$B$16*RAND()","v":7.5351327061249851},{"$f":"DataInput!$B$15*RAND()","v":17.223607332062361},{"$f":"(IF('Xi,Yi'!BA44=\"\",\"\",(IF((('Xi,Yi'!BA44+BE44+BD44/SQRT(3))<DataInput!$B$18),\"\",(IF((('Xi,Yi'!BA44+BE44+BD44/SQRT(3))>DataInput!$B$19),\"\",(IF('Xi,Yi'!BB44=\"\",\"\",(IF(('Xi,Yi'!BB44+BD44<DataInput!$B$20),\"\",(IF((('Xi,Yi'!BB44+BD44)>DataInput!$B$21),\"\",('Xi,Yi'!BA44+BE44+BD44/SQRT(3))))))))))))))","v":""},{"$f":"IF(BA44=\"\",\"\",(IF('Xi,Yi'!BB44=\"\",\"\",(IF(('Xi,Yi'!BB44+BD44<DataInput!$B$20),\"\",(IF((('Xi,Yi'!BB44+BD44)>DataInput!$B$21),\"\",('Xi,Yi'!BB44+BD44))))))))","v":""},{"$f":"IF(BA44=\"\",\"\",IF(BB44=\"\",\"\",(DataInput!$B$4+(DataInput!$D$4-DataInput!$B$4)*RAND())))","v":""},{"$f":"DataInput!$B$16*RAND()","v":13.622930199776313},{"$f":"DataInput!$B$15*RAND()","v":4.0722569052015531}]
[null,null,null,null,null,null,null,{"$f":"(IF('Xi,Yi'!H45=\"\",\"\",(IF((('Xi,Yi'!H45+L45+K45/SQRT(3))<DataInput!$B$18),\"\",(IF((('Xi,Yi'!H45+L45+K45/SQRT(3))>DataInput!$B$19),\"\",(IF('Xi,Yi'!I45=\"\",\"\",(IF(('Xi,Yi'!I45+K45<DataInput!$B$20),\"\",(IF((('Xi,Yi'!I45+K45)>DataInput!$B$21),\"\",('Xi,Yi'!H45+L45+K45/SQRT(3))))))))))))))","v":""},{"$f":"IF(H45=\"\",\"\",(IF('Xi,Yi'!I45=\"\",\"\",(IF(('Xi,Yi'!I45+K45<DataInput!$B$20),\"\",(IF((('Xi,Yi'!I45+K45)>DataInput!$B$21),\"\",('Xi,Yi'!I45+K45))))))))","v":""},{"$f":"IF(H45=\"\",\"\",IF(I45=\"\",\"\",(DataInput!$B$4+(DataInput!$D$4-DataInput!$B$4)*RAND())))","v":""},{"$f":"DataInput!$B$16*RAND()","v":0.32388788265718926},{"$f":"DataInput!$B$15*RAND()","v":9.442425025190273},{"$f":"(IF('Xi,Yi'!M45=\"\",\"\",(IF((('Xi,Yi'!M45+Q45+P45/SQRT(3))<DataInput!$B$18),\"\",(IF((('Xi,Yi'!M45+Q45+P45/SQRT(3))>DataInput!$B$19),\"\",(IF('Xi,Yi'!N45=\"\",\"\",(IF(('Xi,Yi'!N45+P45<DataInput!$B$20),\"\",(IF((('Xi,Yi'!N45+P45)>DataInput!$B$21),\"\",('Xi,Yi'!M45+Q45+P45/SQRT(3))))))))))))))","v":""},{"$f":"IF(M45=\"\",\"\",(IF('Xi,Yi'!N45=\"\",\"\",(IF(('Xi,Yi'!N45+P45<DataInput!$B$20),\"\",(IF((('Xi,Yi'!N45+P45)>DataInput!$B$21),\"\",('Xi,Yi'!N45+P45))))))))","v":""},{"$f":"IF(M45=\"\",\"\",IF(N45=\"\",\"\",(DataInput!$B$4+(DataInput!$D$4-DataInput!$B$4)*RAND())))","v":""},{"$f":"DataInput!$B$16*RAND()","v":10.912037607568507},{"$f":"DataInput!$B$15*RAND()","v":10.093007918472034},{"$f":"(IF('Xi,Yi'!R45=\"\",\"\",(IF((('Xi,Yi'!R45+V45+U45/SQRT(3))<DataInput!$B$18),\"\",(IF((('Xi,Yi'!R45+V45+U45/SQRT(3))>DataInput!$B$19),\"\",(IF('Xi,Yi'!S45=\"\",\"\",(IF(('Xi,Yi'!S45+U45<DataInput!$B$20),\"\",(IF((('Xi,Yi'!S45+U45)>DataInput!$B$21),\"\",('Xi,Yi'!R45+V45+U45/SQRT(3))))))))))))))","v":""},{"$f":"IF(R45=\"\",\"\",(IF('Xi,Yi'!S45=\"\",\"\",(IF(('Xi,Yi'!S45+U45<DataInput!$B$20),\"\",(IF((('Xi,Yi'!S45+U45)>DataInput!$B$21),\"\",('Xi,Yi'!S45+U45))))))))","v":""},{"$f":"IF(R45=\"\",\"\",IF(S45=\"\",\"\",(DataInput!$B$4+(DataInput!$D$4-DataInput!$B$4)*RAND())))","v":""},{"$f":"DataInput!$B$16*RAND()","v":15.805855153527874},{"$f":"DataInput!$B$15*RAND()","v":8.7845441939097153},{"$f":"(IF('Xi,Yi'!W45=\"\",\"\",(IF((('Xi,Yi'!W45+AA45+Z45/SQRT(3))<DataInput!$B$18),\"\",(IF((('Xi,Yi'!W45+AA45+Z45/SQRT(3))>DataInput!$B$19),\"\",(IF('Xi,Yi'!X45=\"\",\"\",(IF(('Xi,Yi'!X45+Z45<DataInput!$B$20),\"\",(IF((('Xi,Yi'!X45+Z45)>DataInput!$B$21),\"\",('Xi,Yi'!W45+AA45+Z45/SQRT(3))))))))))))))","v":""},{"$f":"IF(W45=\"\",\"\",(IF('Xi,Yi'!X45=\"\",\"\",(IF(('Xi,Yi'!X45+Z45<DataInput!$B$20),\"\",(IF((('Xi,Yi'!X45+Z45)>DataInput!$B$21),\"\",('Xi,Yi'!X45+Z45))))))))","v":""},{"$f":"IF(W45=\"\",\"\",IF(X45=\"\",\"\",(DataInput!$B$4+(DataInput!$D$4-DataInput!$B$4)*RAND())))","v":""},{"$f":"DataInput!$B$16*RAND()","v":14.986996095775739},{"$f":"DataInput!$B$15*RAND()","v":19.540683894371234},{"$f":"(IF('Xi,Yi'!AB45=\"\",\"\",(IF((('Xi,Yi'!AB45+AF45+AE45/SQRT(3))<DataInput!$B$18),\"\",(IF((('Xi,Yi'!AB45+AF45+AE45/SQRT(3))>DataInput!$B$19),\"\",(IF('Xi,Yi'!AC45=\"\",\"\",(IF(('Xi,Yi'!AC45+AE45<DataInput!$B$20),\"\",(IF((('Xi,Yi'!AC45+AE45)>DataInput!$B$21),\"\",('Xi,Yi'!AB45+AF45+AE45/SQRT(3))))))))))))))","v":""},{"$f":"IF(AB45=\"\",\"\",(IF('Xi,Yi'!AC45=\"\",\"\",(IF(('Xi,Yi'!AC45+AE45<DataInput!$B$20),\"\",(IF((('Xi,Yi'!AC45+AE45)>DataInput!$B$21),\"\",('Xi,Yi'!AC45+AE45))))))))","v":""},{"$f":"IF(AB45=\"\",\"\",IF(AC45=\"\",\"\",(DataInput!$B$4+(DataInput!$D$4-DataInput!$B$4)*RAND())))","v":""},{"$f":"DataInput!$B$16*RAND()","v":7.3964423919921378},{"$f":"DataInput!$B$15*RAND()","v":13.05749918742365},{"$f":"(IF('Xi,Yi'!AG45=\"\",\"\",(IF((('Xi,Yi'!AG45+AK45+AJ45/SQRT(3))<DataInput!$B$18),\"\",(IF((('Xi,Yi'!AG45+AK45+AJ45/SQRT(3))>DataInput!$B$19),\"\",(IF('Xi,Yi'!AH45=\"\",\"\",(IF(('Xi,Yi'!AH45+AJ45<DataInput!$B$20),\"\",(IF((('Xi,Yi'!AH45+AJ45)>DataInput!$B$21),\"\",('Xi,Yi'!AG45+AK45+AJ45/SQRT(3))))))))))))))","v":""},{"$f":"IF(AG45=\"\",\"\",(IF('Xi,Yi'!AH45=\"\",\"\",(IF(('Xi,Yi'!AH45+AJ45<DataInput!$B$20),\"\",(IF((('Xi,Yi'!AH45+AJ45)>DataInput!$B$21),\"\",('Xi,Yi'!AH45+AJ45))))))))","v":""},{"$f":"IF(AG45=\"\",\"\",IF(AH45=\"\",\"\",(DataInput!$B$4+(DataInput!$D$4-DataInput!$B$4)*RAND())))","v":""},{"$f":"DataInput!$B$16*RAND()","v":3.1314100491026209},{"$f":"DataInput!$B$15*RAND()","v":13.42819103328565},{"$f":"(IF('Xi,Yi'!AL45=\"\",\"\",(IF((('Xi,Yi'!AL45+AP45+AO45/SQRT(3))<DataInput!$B$18),\"\",(IF((('Xi,Yi'!AL45+AP45+AO45/SQRT(3))>DataInput!$B$19),\"\",(IF('Xi,Yi'!AM45=\"\",\"\",(IF(('Xi,Yi'!AM45+AO45<DataInput!$B$20),\"\",(IF((('Xi,Yi'!AM45+AO45)>DataInput!$B$21),\"\",('Xi,Yi'!AL45+AP45+AO45/SQRT(3))))))))))))))","v":""},{"$f":"IF(AL45=\"\",\"\",(IF('Xi,Yi'!AM45=\"\",\"\",(IF(('Xi,Yi'!AM45+AO45<DataInput!$B$20),\"\",(IF((('Xi,Yi'!AM45+AO45)>DataInput!$B$21),\"\",('Xi,Yi'!AM45+AO45))))))))","v":""},{"$f":"IF(AL45=\"\",\"\",IF(AM45=\"\",\"\",(DataInput!$B$4+(DataInput!$D$4-DataInput!$B$4)*RAND())))","v":""},{"$f":"DataInput!$B$16*RAND()","v":2.4139228638146002},{"$f":"DataInput!$B$15*RAND()","v":7.636184426650753},{"$f":"(IF('Xi,Yi'!AQ45=\"\",\"\",(IF((('Xi,Yi'!AQ45+AU45+AT45/SQRT(3))<DataInput!$B$18),\"\",(IF((('Xi,Yi'!AQ45+AU45+AT45/SQRT(3))>DataInput!$B$19),\"\",(IF('Xi,Yi'!AR45=\"\",\"\",(IF(('Xi,Yi'!AR45+AT45<DataInput!$B$20),\"\",(IF((('Xi,Yi'!AR45+AT45)>DataInput!$B$21),\"\",('Xi,Yi'!AQ45+AU45+AT45/SQRT(3))))))))))))))","v":""},{"$f":"IF(AQ45=\"\",\"\",(IF('Xi,Yi'!AR45=\"\",\"\",(IF(('Xi,Yi'!AR45+AT45<DataInput!$B$20),\"\",(IF((('Xi,Yi'!AR45+AT45)>DataInput!$B$21),\"\",('Xi,Yi'!AR45+AT45))))))))","v":""},{"$f":"IF(AQ45=\"\",\"\",IF(AR45=\"\",\"\",(DataInput!$B$4+(DataInput!$D$4-DataInput!$B$4)*RAND())))","v":""},{"$f":"DataInput!$B$16*RAND()","v":7.4023993425807042},{"$f":"DataInput!$B$15*RAND()","v":14.575265688183546},{"$f":"(IF('Xi,Yi'!AV45=\"\",\"\",(IF((('Xi,Yi'!AV45+AZ45+AY45/SQRT(3))<DataInput!$B$18),\"\",(IF((('Xi,Yi'!AV45+AZ45+AY45/SQRT(3))>DataInput!$B$19),\"\",(IF('Xi,Yi'!AW45=\"\",\"\",(IF(('Xi,Yi'!AW45+AY45<DataInput!$B$20),\"\",(IF((('Xi,Yi'!AW45+AY45)>DataInput!$B$21),\"\",('Xi,Yi'!AV45+AZ45+AY45/SQRT(3))))))))))))))","v":""},{"$f":"IF(AV45=\"\",\"\",(IF('Xi,Yi'!AW45=\"\",\"\",(IF(('Xi,Yi'!AW45+AY45<DataInput!$B$20),\"\",(IF((('Xi,Yi'!AW45+AY45)>DataInput!$B$21),\"\",('Xi,Yi'!AW45+AY45))))))))","v":""},{"$f":"IF(AV45=\"\",\"\",IF(AW45=\"\",\"\",(DataInput!$B$4+(DataInput!$D$4-DataInput!$B$4)*RAND())))","v":""},{"$f":"DataInput!$B$16*RAND()","v":13.089688596004603},{"$f":"DataInput!$B$15*RAND()","v":6.4592342130041418},{"$f":"(IF('Xi,Yi'!BA45=\"\",\"\",(IF((('Xi,Yi'!BA45+BE45+BD45/SQRT(3))<DataInput!$B$18),\"\",(IF((('Xi,Yi'!BA45+BE45+BD45/SQRT(3))>DataInput!$B$19),\"\",(IF('Xi,Yi'!BB45=\"\",\"\",(IF(('Xi,Yi'!BB45+BD45<DataInput!$B$20),\"\",(IF((('Xi,Yi'!BB45+BD45)>DataInput!$B$21),\"\",('Xi,Yi'!BA45+BE45+BD45/SQRT(3))))))))))))))","v":""},{"$f":"IF(BA45=\"\",\"\",(IF('Xi,Yi'!BB45=\"\",\"\",(IF(('Xi,Yi'!BB45+BD45<DataInput!$B$20),\"\",(IF((('Xi,Yi'!BB45+BD45)>DataInput!$B$21),\"\",('Xi,Yi'!BB45+BD45))))))))","v":""},{"$f":"IF(BA45=\"\",\"\",IF(BB45=\"\",\"\",(DataInput!$B$4+(DataInput!$D$4-DataInput!$B$4)*RAND())))","v":""},{"$f":"DataInput!$B$16*RAND()","v":16.059894008822443},{"$f":"DataInput!$B$15*RAND()","v":15.741934231368388}]
[null,null,null,null,null,null,null,{"$f":"(IF('Xi,Yi'!H46=\"\",\"\",(IF((('Xi,Yi'!H46+L46+K46/SQRT(3))<DataInput!$B$18),\"\",(IF((('Xi,Yi'!H46+L46+K46/SQRT(3))>DataInput!$B$19),\"\",(IF('Xi,Yi'!I46=\"\",\"\",(IF(('Xi,Yi'!I46+K46<DataInput!$B$20),\"\",(IF((('Xi,Yi'!I46+K46)>DataInput!$B$21),\"\",('Xi,Yi'!H46+L46+K46/SQRT(3))))))))))))))","v":""},{"$f":"IF(H46=\"\",\"\",(IF('Xi,Yi'!I46=\"\",\"\",(IF(('Xi,Yi'!I46+K46<DataInput!$B$20),\"\",(IF((('Xi,Yi'!I46+K46)>DataInput!$B$21),\"\",('Xi,Yi'!I46+K46))))))))","v":""},{"$f":"IF(H46=\"\",\"\",IF(I46=\"\",\"\",(DataInput!$B$4+(DataInput!$D$4-DataInput!$B$4)*RAND())))","v":""},{"$f":"DataInput!$B$16*RAND()","v":1.6956458991711991},{"$f":"DataInput!$B$15*RAND()","v":11.499471138504298},{"$f":"(IF('Xi,Yi'!M46=\"\",\"\",(IF((('Xi,Yi'!M46+Q46+P46/SQRT(3))<DataInput!$B$18),\"\",(IF((('Xi,Yi'!M46+Q46+P46/SQRT(3))>DataInput!$B$19),\"\",(IF('Xi,Yi'!N46=\"\",\"\",(IF(('Xi,Yi'!N46+P46<DataInput!$B$20),\"\",(IF((('Xi,Yi'!N46+P46)>DataInput!$B$21),\"\",('Xi,Yi'!M46+Q46+P46/SQRT(3))))))))))))))","v":""},{"$f":"IF(M46=\"\",\"\",(IF('Xi,Yi'!N46=\"\",\"\",(IF(('Xi,Yi'!N46+P46<DataInput!$B$20),\"\",(IF((('Xi,Yi'!N46+P46)>DataInput!$B$21),\"\",('Xi,Yi'!N46+P46))))))))","v":""},{"$f":"IF(M46=\"\",\"\",IF(N46=\"\",\"\",(DataInput!$B$4+(DataInput!$D$4-DataInput!$B$4)*RAND())))","v":""},{"$f":"DataInput!$B$16*RAND()","v":2.0577561809771607},{"$f":"DataInput!$B$15*RAND()","v":0.36208525014008502},{"$f":"(IF('Xi,Yi'!R46=\"\",\"\",(IF((('Xi,Yi'!R46+V46+U46/SQRT(3))<DataInput!$B$18),\"\",(IF((('Xi,Yi'!R46+V46+U46/SQRT(3))>DataInput!$B$19),\"\",(IF('Xi,Yi'!S46=\"\",\"\",(IF(('Xi,Yi'!S46+U46<DataInput!$B$20),\"\",(IF((('Xi,Yi'!S46+U46)>DataInput!$B$21),\"\",('Xi,Yi'!R46+V46+U46/SQRT(3))))))))))))))","v":""},{"$f":"IF(R46=\"\",\"\",(IF('Xi,Yi'!S46=\"\",\"\",(IF(('Xi,Yi'!S46+U46<DataInput!$B$20),\"\",(IF((('Xi,Yi'!S46+U46)>DataInput!$B$21),\"\",('Xi,Yi'!S46+U46))))))))","v":""},{"$f":"IF(R46=\"\",\"\",IF(S46=\"\",\"\",(DataInput!$B$4+(DataInput!$D$4-DataInput!$B$4)*RAND())))","v":""},{"$f":"DataInput!$B$16*RAND()","v":9.0480382995408153},{"$f":"DataInput!$B$15*RAND()","v":4.2043552984050168},{"$f":"(IF('Xi,Yi'!W46=\"\",\"\",(IF((('Xi,Yi'!W46+AA46+Z46/SQRT(3))<DataInput!$B$18),\"\",(IF((('Xi,Yi'!W46+AA46+Z46/SQRT(3))>DataInput!$B$19),\"\",(IF('Xi,Yi'!X46=\"\",\"\",(IF(('Xi,Yi'!X46+Z46<DataInput!$B$20),\"\",(IF((('Xi,Yi'!X46+Z46)>DataInput!$B$21),\"\",('Xi,Yi'!W46+AA46+Z46/SQRT(3))))))))))))))","v":""},{"$f":"IF(W46=\"\",\"\",(IF('Xi,Yi'!X46=\"\",\"\",(IF(('Xi,Yi'!X46+Z46<DataInput!$B$20),\"\",(IF((('Xi,Yi'!X46+Z46)>DataInput!$B$21),\"\",('Xi,Yi'!X46+Z46))))))))","v":""},{"$f":"IF(W46=\"\",\"\",IF(X46=\"\",\"\",(DataInput!$B$4+(DataInput!$D$4-DataInput!$B$4)*RAND())))","v":""},{"$f":"DataInput!$B$16*RAND()","v":4.1499964588096532},{"$f":"DataInput!$B$15*RAND()","v":9.1138511671899671},{"$f":"(IF('Xi,Yi'!AB46=\"\",\"\",(IF((('Xi,Yi'!AB46+AF46+AE46/SQRT(3))<DataInput!$B$18),\"\",(IF((('Xi,Yi'!AB46+AF46+AE46/SQRT(3))>DataInput!$B$19),\"\",(IF('Xi,Yi'!AC46=\"\",\"\",(IF(('Xi,Yi'!AC46+AE46<DataInput!$B$20),\"\",(IF((('Xi,Yi'!AC46+AE46)>DataInput!$B$21),\"\",('Xi,Yi'!AB46+AF46+AE46/SQRT(3))))))))))))))","v":""},{"$f":"IF(AB46=\"\",\"\",(IF('Xi,Yi'!AC46=\"\",\"\",(IF(('Xi,Yi'!AC46+AE46<DataInput!$B$20),\"\",(IF((('Xi,Yi'!AC46+AE46)>DataInput!$B$21),\"\",('Xi,Yi'!AC46+AE46))))))))","v":""},{"$f":"IF(AB46=\"\",\"\",IF(AC46=\"\",\"\",(DataInput!$B$4+(DataInput!$D$4-DataInput!$B$4)*RAND())))","v":""},{"$f":"DataInput!$B$16*RAND()","v":11.39056295722815},{"$f":"DataInput!$B$15*RAND()","v":13.437646879481687},{"$f":"(IF('Xi,Yi'!AG46=\"\",\"\",(IF((('Xi,Yi'!AG46+AK46+AJ46/SQRT(3))<DataInput!$B$18),\"\",(IF((('Xi,Yi'!AG46+AK46+AJ46/SQRT(3))>DataInput!$B$19),\"\",(IF('Xi,Yi'!AH46=\"\",\"\",(IF(('Xi,Yi'!AH46+AJ46<DataInput!$B$20),\"\",(IF((('Xi,Yi'!AH46+AJ46)>DataInput!$B$21),\"\",('Xi,Yi'!AG46+AK46+AJ46/SQRT(3))))))))))))))","v":""},{"$f":"IF(AG46=\"\",\"\",(IF('Xi,Yi'!AH46=\"\",\"\",(IF(('Xi,Yi'!AH46+AJ46<DataInput!$B$20),\"\",(IF((('Xi,Yi'!AH46+AJ46)>DataInput!$B$21),\"\",('Xi,Yi'!AH46+AJ46))))))))","v":""},{"$f":"IF(AG46=\"\",\"\",IF(AH46=\"\",\"\",(DataInput!$B$4+(DataInput!$D$4-DataInput!$B$4)*RAND())))","v":""},{"$f":"DataInput!$B$16*RAND()","v":0.95541625226503279},{"$f":"DataInput!$B$15*RAND()","v":15.553901770941309},{"$f":"(IF('Xi,Yi'!AL46=\"\",\"\",(IF((('Xi,Yi'!AL46+AP46+AO46/SQRT(3))<DataInput!$B$18),\"\",(IF((('Xi,Yi'!AL46+AP46+AO46/SQRT(3))>DataInput!$B$19),\"\",(IF('Xi,Yi'!AM46=\"\",\"\",(IF(('Xi,Yi'!AM46+AO46<DataInput!$B$20),\"\",(IF((('Xi,Yi'!AM46+AO46)>DataInput!$B$21),\"\",('Xi,Yi'!AL46+AP46+AO46/SQRT(3))))))))))))))","v":""},{"$f":"IF(AL46=\"\",\"\",(IF('Xi,Yi'!AM46=\"\",\"\",(IF(('Xi,Yi'!AM46+AO46<DataInput!$B$20),\"\",(IF((('Xi,Yi'!AM46+AO46)>DataInput!$B$21),\"\",('Xi,Yi'!AM46+AO46))))))))","v":""},{"$f":"IF(AL46=\"\",\"\",IF(AM46=\"\",\"\",(DataInput!$B$4+(DataInput!$D$4-DataInput!$B$4)*RAND())))","v":""},{"$f":"DataInput!$B$16*RAND()","v":2.4469206740154985},{"$f":"DataInput!$B$15*RAND()","v":14.97959749030516},{"$f":"(IF('Xi,Yi'!AQ46=\"\",\"\",(IF((('Xi,Yi'!AQ46+AU46+AT46/SQRT(3))<DataInput!$B$18),\"\",(IF((('Xi,Yi'!AQ46+AU46+AT46/SQRT(3))>DataInput!$B$19),\"\",(IF('Xi,Yi'!AR46=\"\",\"\",(IF(('Xi,Yi'!AR46+AT46<DataInput!$B$20),\"\",(IF((('Xi,Yi'!AR46+AT46)>DataInput!$B$21),\"\",('Xi,Yi'!AQ46+AU46+AT46/SQRT(3))))))))))))))","v":""},{"$f":"IF(AQ46=\"\",\"\",(IF('Xi,Yi'!AR46=\"\",\"\",(IF(('Xi,Yi'!AR46+AT46<DataInput!$B$20),\"\",(IF((('Xi,Yi'!AR46+AT46)>DataInput!$B$21),\"\",('Xi,Yi'!AR46+AT46))))))))","v":""},{"$f":"IF(AQ46=\"\",\"\",IF(AR46=\"\",\"\",(DataInput!$B$4+(DataInput!$D$4-DataInput!$B$4)*RAND())))","v":""},{"$f":"DataInput!$B$16*RAND()","v":16.019928984125229},{"$f":"DataInput!$B$15*RAND()","v":8.359489536599046},{"$f":"(IF('Xi,Yi'!AV46=\"\",\"\",(IF((('Xi,Yi'!AV46+AZ46+AY46/SQRT(3))<DataInput!$B$18),\"\",(IF((('Xi,Yi'!AV46+AZ46+AY46/SQRT(3))>DataInput!$B$19),\"\",(IF('Xi,Yi'!AW46=\"\",\"\",(IF(('Xi,Yi'!AW46+AY46<DataInput!$B$20),\"\",(IF((('Xi,Yi'!AW46+AY46)>DataInput!$B$21),\"\",('Xi,Yi'!AV46+AZ46+AY46/SQRT(3))))))))))))))","v":""},{"$f":"IF(AV46=\"\",\"\",(IF('Xi,Yi'!AW46=\"\",\"\",(IF(('Xi,Yi'!AW46+AY46<DataInput!$B$20),\"\",(IF((('Xi,Yi'!AW46+AY46)>DataInput!$B$21),\"\",('Xi,Yi'!AW46+AY46))))))))","v":""},{"$f":"IF(AV46=\"\",\"\",IF(AW46=\"\",\"\",(DataInput!$B$4+(DataInput!$D$4-DataInput!$B$4)*RAND())))","v":""},{"$f":"DataInput!$B$16*RAND()","v":10.521660573330214},{"$f":"DataInput!$B$15*RAND()","v":3.85631021151868},{"$f":"(IF('Xi,Yi'!BA46=\"\",\"\",(IF((('Xi,Yi'!BA46+BE46+BD46/SQRT(3))<DataInput!$B$18),\"\",(IF((('Xi,Yi'!BA46+BE46+BD46/SQRT(3))>DataInput!$B$19),\"\",(IF('Xi,Yi'!BB46=\"\",\"\",(IF(('Xi,Yi'!BB46+BD46<DataInput!$B$20),\"\",(IF((('Xi,Yi'!BB46+BD46)>DataInput!$B$21),\"\",('Xi,Yi'!BA46+BE46+BD46/SQRT(3))))))))))))))","v":""},{"$f":"IF(BA46=\"\",\"\",(IF('Xi,Yi'!BB46=\"\",\"\",(IF(('Xi,Yi'!BB46+BD46<DataInput!$B$20),\"\",(IF((('Xi,Yi'!BB46+BD46)>DataInput!$B$21),\"\",('Xi,Yi'!BB46+BD46))))))))","v":""},{"$f":"IF(BA46=\"\",\"\",IF(BB46=\"\",\"\",(DataInput!$B$4+(DataInput!$D$4-DataInput!$B$4)*RAND())))","v":""},{"$f":"DataInput!$B$16*RAND()","v":4.9350731754496939},{"$f":"DataInput!$B$15*RAND()","v":11.960842736384395}]
[null,null,null,null,null,null,null,{"$f":"(IF('Xi,Yi'!H47=\"\",\"\",(IF((('Xi,Yi'!H47+L47+K47/SQRT(3))<DataInput!$B$18),\"\",(IF((('Xi,Yi'!H47+L47+K47/SQRT(3))>DataInput!$B$19),\"\",(IF('Xi,Yi'!I47=\"\",\"\",(IF(('Xi,Yi'!I47+K47<DataInput!$B$20),\"\",(IF((('Xi,Yi'!I47+K47)>DataInput!$B$21),\"\",('Xi,Yi'!H47+L47+K47/SQRT(3))))))))))))))","v":""},{"$f":"IF(H47=\"\",\"\",(IF('Xi,Yi'!I47=\"\",\"\",(IF(('Xi,Yi'!I47+K47<DataInput!$B$20),\"\",(IF((('Xi,Yi'!I47+K47)>DataInput!$B$21),\"\",('Xi,Yi'!I47+K47))))))))","v":""},{"$f":"IF(H47=\"\",\"\",IF(I47=\"\",\"\",(DataInput!$B$4+(DataInput!$D$4-DataInput!$B$4)*RAND())))","v":""},{"$f":"DataInput!$B$16*RAND()","v":14.147045775277512},{"$f":"DataInput!$B$15*RAND()","v":17.39354666546518},{"$f":"(IF('Xi,Yi'!M47=\"\",\"\",(IF((('Xi,Yi'!M47+Q47+P47/SQRT(3))<DataInput!$B$18),\"\",(IF((('Xi,Yi'!M47+Q47+P47/SQRT(3))>DataInput!$B$19),\"\",(IF('Xi,Yi'!N47=\"\",\"\",(IF(('Xi,Yi'!N47+P47<DataInput!$B$20),\"\",(IF((('Xi,Yi'!N47+P47)>DataInput!$B$21),\"\",('Xi,Yi'!M47+Q47+P47/SQRT(3))))))))))))))","v":""},{"$f":"IF(M47=\"\",\"\",(IF('Xi,Yi'!N47=\"\",\"\",(IF(('Xi,Yi'!N47+P47<DataInput!$B$20),\"\",(IF((('Xi,Yi'!N47+P47)>DataInput!$B$21),\"\",('Xi,Yi'!N47+P47))))))))","v":""},{"$f":"IF(M47=\"\",\"\",IF(N47=\"\",\"\",(DataInput!$B$4+(DataInput!$D$4-DataInput!$B$4)*RAND())))","v":""},{"$f":"DataInput!$B$16*RAND()","v":13.162997164534112},{"$f":"DataInput!$B$15*RAND()","v":8.3633056525436658},{"$f":"(IF('Xi,Yi'!R47=\"\",\"\",(IF((('Xi,Yi'!R47+V47+U47/SQRT(3))<DataInput!$B$18),\"\",(IF((('Xi,Yi'!R47+V47+U47/SQRT(3))>DataInput!$B$19),\"\",(IF('Xi,Yi'!S47=\"\",\"\",(IF(('Xi,Yi'!S47+U47<DataInput!$B$20),\"\",(IF((('Xi,Yi'!S47+U47)>DataInput!$B$21),\"\",('Xi,Yi'!R47+V47+U47/SQRT(3))))))))))))))","v":""},{"$f":"IF(R47=\"\",\"\",(IF('Xi,Yi'!S47=\"\",\"\",(IF(('Xi,Yi'!S47+U47<DataInput!$B$20),\"\",(IF((('Xi,Yi'!S47+U47)>DataInput!$B$21),\"\",('Xi,Yi'!S47+U47))))))))","v":""},{"$f":"IF(R47=\"\",\"\",IF(S47=\"\",\"\",(DataInput!$B$4+(DataInput!$D$4-DataInput!$B$4)*RAND())))","v":""},{"$f":"DataInput!$B$16*RAND()","v":13.753822665000461},{"$f":"DataInput!$B$15*RAND()","v":5.8805668814756391},{"$f":"(IF('Xi,Yi'!W47=\"\",\"\",(IF((('Xi,Yi'!W47+AA47+Z47/SQRT(3))<DataInput!$B$18),\"\",(IF((('Xi,Yi'!W47+AA47+Z47/SQRT(3))>DataInput!$B$19),\"\",(IF('Xi,Yi'!X47=\"\",\"\",(IF(('Xi,Yi'!X47+Z47<DataInput!$B$20),\"\",(IF((('Xi,Yi'!X47+Z47)>DataInput!$B$21),\"\",('Xi,Yi'!W47+AA47+Z47/SQRT(3))))))))))))))","v":""},{"$f":"IF(W47=\"\",\"\",(IF('Xi,Yi'!X47=\"\",\"\",(IF(('Xi,Yi'!X47+Z47<DataInput!$B$20),\"\",(IF((('Xi,Yi'!X47+Z47)>DataInput!$B$21),\"\",('Xi,Yi'!X47+Z47))))))))","v":""},{"$f":"IF(W47=\"\",\"\",IF(X47=\"\",\"\",(DataInput!$B$4+(DataInput!$D$4-DataInput!$B$4)*RAND())))","v":""},{"$f":"DataInput!$B$16*RAND()","v":13.474970987242443},{"$f":"DataInput!$B$15*RAND()","v":12.028695024936168},{"$f":"(IF('Xi,Yi'!AB47=\"\",\"\",(IF((('Xi,Yi'!AB47+AF47+AE47/SQRT(3))<DataInput!$B$18),\"\",(IF((('Xi,Yi'!AB47+AF47+AE47/SQRT(3))>DataInput!$B$19),\"\",(IF('Xi,Yi'!AC47=\"\",\"\",(IF(('Xi,Yi'!AC47+AE47<DataInput!$B$20),\"\",(IF((('Xi,Yi'!AC47+AE47)>DataInput!$B$21),\"\",('Xi,Yi'!AB47+AF47+AE47/SQRT(3))))))))))))))","v":""},{"$f":"IF(AB47=\"\",\"\",(IF('Xi,Yi'!AC47=\"\",\"\",(IF(('Xi,Yi'!AC47+AE47<DataInput!$B$20),\"\",(IF((('Xi,Yi'!AC47+AE47)>DataInput!$B$21),\"\",('Xi,Yi'!AC47+AE47))))))))","v":""},{"$f":"IF(AB47=\"\",\"\",IF(AC47=\"\",\"\",(DataInput!$B$4+(DataInput!$D$4-DataInput!$B$4)*RAND())))","v":""},{"$f":"DataInput!$B$16*RAND()","v":1.9607693843152147},{"$f":"DataInput!$B$15*RAND()","v":0.45556779601009928},{"$f":"(IF('Xi,Yi'!AG47=\"\",\"\",(IF((('Xi,Yi'!AG47+AK47+AJ47/SQRT(3))<DataInput!$B$18),\"\",(IF((('Xi,Yi'!AG47+AK47+AJ47/SQRT(3))>DataInput!$B$19),\"\",(IF('Xi,Yi'!AH47=\"\",\"\",(IF(('Xi,Yi'!AH47+AJ47<DataInput!$B$20),\"\",(IF((('Xi,Yi'!AH47+AJ47)>DataInput!$B$21),\"\",('Xi,Yi'!AG47+AK47+AJ47/SQRT(3))))))))))))))","v":""},{"$f":"IF(AG47=\"\",\"\",(IF('Xi,Yi'!AH47=\"\",\"\",(IF(('Xi,Yi'!AH47+AJ47<DataInput!$B$20),\"\",(IF((('Xi,Yi'!AH47+AJ47)>DataInput!$B$21),\"\",('Xi,Yi'!AH47+AJ47))))))))","v":""},{"$f":"IF(AG47=\"\",\"\",IF(AH47=\"\",\"\",(DataInput!$B$4+(DataInput!$D$4-DataInput!$B$4)*RAND())))","v":""},{"$f":"DataInput!$B$16*RAND()","v":13.790412859228706},{"$f":"DataInput!$B$15*RAND()","v":3.3782290811872664},{"$f":"(IF('Xi,Yi'!AL47=\"\",\"\",(IF((('Xi,Yi'!AL47+AP47+AO47/SQRT(3))<DataInput!$B$18),\"\",(IF((('Xi,Yi'!AL47+AP47+AO47/SQRT(3))>DataInput!$B$19),\"\",(IF('Xi,Yi'!AM47=\"\",\"\",(IF(('Xi,Yi'!AM47+AO47<DataInput!$B$20),\"\",(IF((('Xi,Yi'!AM47+AO47)>DataInput!$B$21),\"\",('Xi,Yi'!AL47+AP47+AO47/SQRT(3))))))))))))))","v":""},{"$f":"IF(AL47=\"\",\"\",(IF('Xi,Yi'!AM47=\"\",\"\",(IF(('Xi,Yi'!AM47+AO47<DataInput!$B$20),\"\",(IF((('Xi,Yi'!AM47+AO47)>DataInput!$B$21),\"\",('Xi,Yi'!AM47+AO47))))))))","v":""},{"$f":"IF(AL47=\"\",\"\",IF(AM47=\"\",\"\",(DataInput!$B$4+(DataInput!$D$4-DataInput!$B$4)*RAND())))","v":""},{"$f":"DataInput!$B$16*RAND()","v":12.107734810451124},{"$f":"DataInput!$B$15*RAND()","v":0.87691607367617241},{"$f":"(IF('Xi,Yi'!AQ47=\"\",\"\",(IF((('Xi,Yi'!AQ47+AU47+AT47/SQRT(3))<DataInput!$B$18),\"\",(IF((('Xi,Yi'!AQ47+AU47+AT47/SQRT(3))>DataInput!$B$19),\"\",(IF('Xi,Yi'!AR47=\"\",\"\",(IF(('Xi,Yi'!AR47+AT47<DataInput!$B$20),\"\",(IF((('Xi,Yi'!AR47+AT47)>DataInput!$B$21),\"\",('Xi,Yi'!AQ47+AU47+AT47/SQRT(3))))))))))))))","v":""},{"$f":"IF(AQ47=\"\",\"\",(IF('Xi,Yi'!AR47=\"\",\"\",(IF(('Xi,Yi'!AR47+AT47<DataInput!$B$20),\"\",(IF((('Xi,Yi'!AR47+AT47)>DataInput!$B$21),\"\",('Xi,Yi'!AR47+AT47))))))))","v":""},{"$f":"IF(AQ47=\"\",\"\",IF(AR47=\"\",\"\",(DataInput!$B$4+(DataInput!$D$4-DataInput!$B$4)*RAND())))","v":""},{"$f":"DataInput!$B$16*RAND()","v":16.444412606528235},{"$f":"DataInput!$B$15*RAND()","v":3.9410827665272605},{"$f":"(IF('Xi,Yi'!AV47=\"\",\"\",(IF((('Xi,Yi'!AV47+AZ47+AY47/SQRT(3))<DataInput!$B$18),\"\",(IF((('Xi,Yi'!AV47+AZ47+AY47/SQRT(3))>DataInput!$B$19),\"\",(IF('Xi,Yi'!AW47=\"\",\"\",(IF(('Xi,Yi'!AW47+AY47<DataInput!$B$20),\"\",(IF((('Xi,Yi'!AW47+AY47)>DataInput!$B$21),\"\",('Xi,Yi'!AV47+AZ47+AY47/SQRT(3))))))))))))))","v":""},{"$f":"IF(AV47=\"\",\"\",(IF('Xi,Yi'!AW47=\"\",\"\",(IF(('Xi,Yi'!AW47+AY47<DataInput!$B$20),\"\",(IF((('Xi,Yi'!AW47+AY47)>DataInput!$B$21),\"\",('Xi,Yi'!AW47+AY47))))))))","v":""},{"$f":"IF(AV47=\"\",\"\",IF(AW47=\"\",\"\",(DataInput!$B$4+(DataInput!$D$4-DataInput!$B$4)*RAND())))","v":""},{"$f":"DataInput!$B$16*RAND()","v":14.178613708277714},{"$f":"DataInput!$B$15*RAND()","v":16.738826643200127},{"$f":"(IF('Xi,Yi'!BA47=\"\",\"\",(IF((('Xi,Yi'!BA47+BE47+BD47/SQRT(3))<DataInput!$B$18),\"\",(IF((('Xi,Yi'!BA47+BE47+BD47/SQRT(3))>DataInput!$B$19),\"\",(IF('Xi,Yi'!BB47=\"\",\"\",(IF(('Xi,Yi'!BB47+BD47<DataInput!$B$20),\"\",(IF((('Xi,Yi'!BB47+BD47)>DataInput!$B$21),\"\",('Xi,Yi'!BA47+BE47+BD47/SQRT(3))))))))))))))","v":""},{"$f":"IF(BA47=\"\",\"\",(IF('Xi,Yi'!BB47=\"\",\"\",(IF(('Xi,Yi'!BB47+BD47<DataInput!$B$20),\"\",(IF((('Xi,Yi'!BB47+BD47)>DataInput!$B$21),\"\",('Xi,Yi'!BB47+BD47))))))))","v":""},{"$f":"IF(BA47=\"\",\"\",IF(BB47=\"\",\"\",(DataInput!$B$4+(DataInput!$D$4-DataInput!$B$4)*RAND())))","v":""},{"$f":"DataInput!$B$16*RAND()","v":13.016941914040261},{"$f":"DataInput!$B$15*RAND()","v":6.1163908572871044}]
[null,null,null,null,null,null,null,{"$f":"(IF('Xi,Yi'!H48=\"\",\"\",(IF((('Xi,Yi'!H48+L48+K48/SQRT(3))<DataInput!$B$18),\"\",(IF((('Xi,Yi'!H48+L48+K48/SQRT(3))>DataInput!$B$19),\"\",(IF('Xi,Yi'!I48=\"\",\"\",(IF(('Xi,Yi'!I48+K48<DataInput!$B$20),\"\",(IF((('Xi,Yi'!I48+K48)>DataInput!$B$21),\"\",('Xi,Yi'!H48+L48+K48/SQRT(3))))))))))))))","v":""},{"$f":"IF(H48=\"\",\"\",(IF('Xi,Yi'!I48=\"\",\"\",(IF(('Xi,Yi'!I48+K48<DataInput!$B$20),\"\",(IF((('Xi,Yi'!I48+K48)>DataInput!$B$21),\"\",('Xi,Yi'!I48+K48))))))))","v":""},{"$f":"IF(H48=\"\",\"\",IF(I48=\"\",\"\",(DataInput!$B$4+(DataInput!$D$4-DataInput!$B$4)*RAND())))","v":""},{"$f":"DataInput!$B$16*RAND()","v":1.5506428417467029},{"$f":"DataInput!$B$15*RAND()","v":1.376077267427001},{"$f":"(IF('Xi,Yi'!M48=\"\",\"\",(IF((('Xi,Yi'!M48+Q48+P48/SQRT(3))<DataInput!$B$18),\"\",(IF((('Xi,Yi'!M48+Q48+P48/SQRT(3))>DataInput!$B$19),\"\",(IF('Xi,Yi'!N48=\"\",\"\",(IF(('Xi,Yi'!N48+P48<DataInput!$B$20),\"\",(IF((('Xi,Yi'!N48+P48)>DataInput!$B$21),\"\",('Xi,Yi'!M48+Q48+P48/SQRT(3))))))))))))))","v":""},{"$f":"IF(M48=\"\",\"\",(IF('Xi,Yi'!N48=\"\",\"\",(IF(('Xi,Yi'!N48+P48<DataInput!$B$20),\"\",(IF((('Xi,Yi'!N48+P48)>DataInput!$B$21),\"\",('Xi,Yi'!N48+P48))))))))","v":""},{"$f":"IF(M48=\"\",\"\",IF(N48=\"\",\"\",(DataInput!$B$4+(DataInput!$D$4-DataInput!$B$4)*RAND())))","v":""},{"$f":"DataInput!$B$16*RAND()","v":1.4452363594915207},{"$f":"DataInput!$B$15*RAND()","v":3.8986093284460064},{"$f":"(IF('Xi,Yi'!R48=\"\",\"\",(IF((('Xi,Yi'!R48+V48+U48/SQRT(3))<DataInput!$B$18),\"\",(IF((('Xi,Yi'!R48+V48+U48/SQRT(3))>DataInput!$B$19),\"\",(IF('Xi,Yi'!S48=\"\",\"\",(IF(('Xi,Yi'!S48+U48<DataInput!$B$20),\"\",(IF((('Xi,Yi'!S48+U48)>DataInput!$B$21),\"\",('Xi,Yi'!R48+V48+U48/SQRT(3))))))))))))))","v":""},{"$f":"IF(R48=\"\",\"\",(IF('Xi,Yi'!S48=\"\",\"\",(IF(('Xi,Yi'!S48+U48<DataInput!$B$20),\"\",(IF((('Xi,Yi'!S48+U48)>DataInput!$B$21),\"\",('Xi,Yi'!S48+U48))))))))","v":""},{"$f":"IF(R48=\"\",\"\",IF(S48=\"\",\"\",(DataInput!$B$4+(DataInput!$D$4-DataInput!$B$4)*RAND())))","v":""},{"$f":"DataInput!$B$16*RAND()","v":8.7223342185355399},{"$f":"DataInput!$B$15*RAND()","v":7.6075896469965985},{"$f":"(IF('Xi,Yi'!W48=\"\",\"\",(IF((('Xi,Yi'!W48+AA48+Z48/SQRT(3))<DataInput!$B$18),\"\",(IF((('Xi,Yi'!W48+AA48+Z48/SQRT(3))>DataInput!$B$19),\"\",(IF('Xi,Yi'!X48=\"\",\"\",(IF(('Xi,Yi'!X48+Z48<DataInput!$B$20),\"\",(IF((('Xi,Yi'!X48+Z48)>DataInput!$B$21),\"\",('Xi,Yi'!W48+AA48+Z48/SQRT(3))))))))))))))","v":""},{"$f":"IF(W48=\"\",\"\",(IF('Xi,Yi'!X48=\"\",\"\",(IF(('Xi,Yi'!X48+Z48<DataInput!$B$20),\"\",(IF((('Xi,Yi'!X48+Z48)>DataInput!$B$21),\"\",('Xi,Yi'!X48+Z48))))))))","v":""},{"$f":"IF(W48=\"\",\"\",IF(X48=\"\",\"\",(DataInput!$B$4+(DataInput!$D$4-DataInput!$B$4)*RAND())))","v":""},{"$f":"DataInput!$B$16*RAND()","v":4.9759545646981573},{"$f":"DataInput!$B$15*RAND()","v":14.357371034399456},{"$f":"(IF('Xi,Yi'!AB48=\"\",\"\",(IF((('Xi,Yi'!AB48+AF48+AE48/SQRT(3))<DataInput!$B$18),\"\",(IF((('Xi,Yi'!AB48+AF48+AE48/SQRT(3))>DataInput!$B$19),\"\",(IF('Xi,Yi'!AC48=\"\",\"\",(IF(('Xi,Yi'!AC48+AE48<DataInput!$B$20),\"\",(IF((('Xi,Yi'!AC48+AE48)>DataInput!$B$21),\"\",('Xi,Yi'!AB48+AF48+AE48/SQRT(3))))))))))))))","v":""},{"$f":"IF(AB48=\"\",\"\",(IF('Xi,Yi'!AC48=\"\",\"\",(IF(('Xi,Yi'!AC48+AE48<DataInput!$B$20),\"\",(IF((('Xi,Yi'!AC48+AE48)>DataInput!$B$21),\"\",('Xi,Yi'!AC48+AE48))))))))","v":""},{"$f":"IF(AB48=\"\",\"\",IF(AC48=\"\",\"\",(DataInput!$B$4+(DataInput!$D$4-DataInput!$B$4)*RAND())))","v":""},{"$f":"DataInput!$B$16*RAND()","v":11.01211373362908},{"$f":"DataInput!$B$15*RAND()","v":1.5458772475756701},{"$f":"(IF('Xi,Yi'!AG48=\"\",\"\",(IF((('Xi,Yi'!AG48+AK48+AJ48/SQRT(3))<DataInput!$B$18),\"\",(IF((('Xi,Yi'!AG48+AK48+AJ48/SQRT(3))>DataInput!$B$19),\"\",(IF('Xi,Yi'!AH48=\"\",\"\",(IF(('Xi,Yi'!AH48+AJ48<DataInput!$B$20),\"\",(IF((('Xi,Yi'!AH48+AJ48)>DataInput!$B$21),\"\",('Xi,Yi'!AG48+AK48+AJ48/SQRT(3))))))))))))))","v":""},{"$f":"IF(AG48=\"\",\"\",(IF('Xi,Yi'!AH48=\"\",\"\",(IF(('Xi,Yi'!AH48+AJ48<DataInput!$B$20),\"\",(IF((('Xi,Yi'!AH48+AJ48)>DataInput!$B$21),\"\",('Xi,Yi'!AH48+AJ48))))))))","v":""},{"$f":"IF(AG48=\"\",\"\",IF(AH48=\"\",\"\",(DataInput!$B$4+(DataInput!$D$4-DataInput!$B$4)*RAND())))","v":""},{"$f":"DataInput!$B$16*RAND()","v":11.765627281612726},{"$f":"DataInput!$B$15*RAND()","v":4.8898589649149766},{"$f":"(IF('Xi,Yi'!AL48=\"\",\"\",(IF((('Xi,Yi'!AL48+AP48+AO48/SQRT(3))<DataInput!$B$18),\"\",(IF((('Xi,Yi'!AL48+AP48+AO48/SQRT(3))>DataInput!$B$19),\"\",(IF('Xi,Yi'!AM48=\"\",\"\",(IF(('Xi,Yi'!AM48+AO48<DataInput!$B$20),\"\",(IF((('Xi,Yi'!AM48+AO48)>DataInput!$B$21),\"\",('Xi,Yi'!AL48+AP48+AO48/SQRT(3))))))))))))))","v":""},{"$f":"IF(AL48=\"\",\"\",(IF('Xi,Yi'!AM48=\"\",\"\",(IF(('Xi,Yi'!AM48+AO48<DataInput!$B$20),\"\",(IF((('Xi,Yi'!AM48+AO48)>DataInput!$B$21),\"\",('Xi,Yi'!AM48+AO48))))))))","v":""},{"$f":"IF(AL48=\"\",\"\",IF(AM48=\"\",\"\",(DataInput!$B$4+(DataInput!$D$4-DataInput!$B$4)*RAND())))","v":""},{"$f":"DataInput!$B$16*RAND()","v":11.227613336609554},{"$f":"DataInput!$B$15*RAND()","v":13.583810908120041},{"$f":"(IF('Xi,Yi'!AQ48=\"\",\"\",(IF((('Xi,Yi'!AQ48+AU48+AT48/SQRT(3))<DataInput!$B$18),\"\",(IF((('Xi,Yi'!AQ48+AU48+AT48/SQRT(3))>DataInput!$B$19),\"\",(IF('Xi,Yi'!AR48=\"\",\"\",(IF(('Xi,Yi'!AR48+AT48<DataInput!$B$20),\"\",(IF((('Xi,Yi'!AR48+AT48)>DataInput!$B$21),\"\",('Xi,Yi'!AQ48+AU48+AT48/SQRT(3))))))))))))))","v":""},{"$f":"IF(AQ48=\"\",\"\",(IF('Xi,Yi'!AR48=\"\",\"\",(IF(('Xi,Yi'!AR48+AT48<DataInput!$B$20),\"\",(IF((('Xi,Yi'!AR48+AT48)>DataInput!$B$21),\"\",('Xi,Yi'!AR48+AT48))))))))","v":""},{"$f":"IF(AQ48=\"\",\"\",IF(AR48=\"\",\"\",(DataInput!$B$4+(DataInput!$D$4-DataInput!$B$4)*RAND())))","v":""},{"$f":"DataInput!$B$16*RAND()","v":1.7148530676789426},{"$f":"DataInput!$B$15*RAND()","v":17.546441473508509},{"$f":"(IF('Xi,Yi'!AV48=\"\",\"\",(IF((('Xi,Yi'!AV48+AZ48+AY48/SQRT(3))<DataInput!$B$18),\"\",(IF((('Xi,Yi'!AV48+AZ48+AY48/SQRT(3))>DataInput!$B$19),\"\",(IF('Xi,Yi'!AW48=\"\",\"\",(IF(('Xi,Yi'!AW48+AY48<DataInput!$B$20),\"\",(IF((('Xi,Yi'!AW48+AY48)>DataInput!$B$21),\"\",('Xi,Yi'!AV48+AZ48+AY48/SQRT(3))))))))))))))","v":""},{"$f":"IF(AV48=\"\",\"\",(IF('Xi,Yi'!AW48=\"\",\"\",(IF(('Xi,Yi'!AW48+AY48<DataInput!$B$20),\"\",(IF((('Xi,Yi'!AW48+AY48)>DataInput!$B$21),\"\",('Xi,Yi'!AW48+AY48))))))))","v":""},{"$f":"IF(AV48=\"\",\"\",IF(AW48=\"\",\"\",(DataInput!$B$4+(DataInput!$D$4-DataInput!$B$4)*RAND())))","v":""},{"$f":"DataInput!$B$16*RAND()","v":3.6446199372958734},{"$f":"DataInput!$B$15*RAND()","v":15.736023506353057},{"$f":"(IF('Xi,Yi'!BA48=\"\",\"\",(IF((('Xi,Yi'!BA48+BE48+BD48/SQRT(3))<DataInput!$B$18),\"\",(IF((('Xi,Yi'!BA48+BE48+BD48/SQRT(3))>DataInput!$B$19),\"\",(IF('Xi,Yi'!BB48=\"\",\"\",(IF(('Xi,Yi'!BB48+BD48<DataInput!$B$20),\"\",(IF((('Xi,Yi'!BB48+BD48)>DataInput!$B$21),\"\",('Xi,Yi'!BA48+BE48+BD48/SQRT(3))))))))))))))","v":""},{"$f":"IF(BA48=\"\",\"\",(IF('Xi,Yi'!BB48=\"\",\"\",(IF(('Xi,Yi'!BB48+BD48<DataInput!$B$20),\"\",(IF((('Xi,Yi'!BB48+BD48)>DataInput!$B$21),\"\",('Xi,Yi'!BB48+BD48))))))))","v":""},{"$f":"IF(BA48=\"\",\"\",IF(BB48=\"\",\"\",(DataInput!$B$4+(DataInput!$D$4-DataInput!$B$4)*RAND())))","v":""},{"$f":"DataInput!$B$16*RAND()","v":8.2540034477847257},{"$f":"DataInput!$B$15*RAND()","v":6.7494518622552455}]
[null,null,null,null,null,null,null,{"$f":"(IF('Xi,Yi'!H49=\"\",\"\",(IF((('Xi,Yi'!H49+L49+K49/SQRT(3))<DataInput!$B$18),\"\",(IF((('Xi,Yi'!H49+L49+K49/SQRT(3))>DataInput!$B$19),\"\",(IF('Xi,Yi'!I49=\"\",\"\",(IF(('Xi,Yi'!I49+K49<DataInput!$B$20),\"\",(IF((('Xi,Yi'!I49+K49)>DataInput!$B$21),\"\",('Xi,Yi'!H49+L49+K49/SQRT(3))))))))))))))","v":""},{"$f":"IF(H49=\"\",\"\",(IF('Xi,Yi'!I49=\"\",\"\",(IF(('Xi,Yi'!I49+K49<DataInput!$B$20),\"\",(IF((('Xi,Yi'!I49+K49)>DataInput!$B$21),\"\",('Xi,Yi'!I49+K49))))))))","v":""},{"$f":"IF(H49=\"\",\"\",IF(I49=\"\",\"\",(DataInput!$B$4+(DataInput!$D$4-DataInput!$B$4)*RAND())))","v":""},{"$f":"DataInput!$B$16*RAND()","v":5.0785773955243672},{"$f":"DataInput!$B$15*RAND()","v":3.4297994732809332},{"$f":"(IF('Xi,Yi'!M49=\"\",\"\",(IF((('Xi,Yi'!M49+Q49+P49/SQRT(3))<DataInput!$B$18),\"\",(IF((('Xi,Yi'!M49+Q49+P49/SQRT(3))>DataInput!$B$19),\"\",(IF('Xi,Yi'!N49=\"\",\"\",(IF(('Xi,Yi'!N49+P49<DataInput!$B$20),\"\",(IF((('Xi,Yi'!N49+P49)>DataInput!$B$21),\"\",('Xi,Yi'!M49+Q49+P49/SQRT(3))))))))))))))","v":""},{"$f":"IF(M49=\"\",\"\",(IF('Xi,Yi'!N49=\"\",\"\",(IF(('Xi,Yi'!N49+P49<DataInput!$B$20),\"\",(IF((('Xi,Yi'!N49+P49)>DataInput!$B$21),\"\",('Xi,Yi'!N49+P49))))))))","v":""},{"$f":"IF(M49=\"\",\"\",IF(N49=\"\",\"\",(DataInput!$B$4+(DataInput!$D$4-DataInput!$B$4)*RAND())))","v":""},{"$f":"DataInput!$B$16*RAND()","v":16.174504992749107},{"$f":"DataInput!$B$15*RAND()","v":2.1866142226693519},{"$f":"(IF('Xi,Yi'!R49=\"\",\"\",(IF((('Xi,Yi'!R49+V49+U49/SQRT(3))<DataInput!$B$18),\"\",(IF((('Xi,Yi'!R49+V49+U49/SQRT(3))>DataInput!$B$19),\"\",(IF('Xi,Yi'!S49=\"\",\"\",(IF(('Xi,Yi'!S49+U49<DataInput!$B$20),\"\",(IF((('Xi,Yi'!S49+U49)>DataInput!$B$21),\"\",('Xi,Yi'!R49+V49+U49/SQRT(3))))))))))))))","v":""},{"$f":"IF(R49=\"\",\"\",(IF('Xi,Yi'!S49=\"\",\"\",(IF(('Xi,Yi'!S49+U49<DataInput!$B$20),\"\",(IF((('Xi,Yi'!S49+U49)>DataInput!$B$21),\"\",('Xi,Yi'!S49+U49))))))))","v":""},{"$f":"IF(R49=\"\",\"\",IF(S49=\"\",\"\",(DataInput!$B$4+(DataInput!$D$4-DataInput!$B$4)*RAND())))","v":""},{"$f":"DataInput!$B$16*RAND()","v":13.475666679167002},{"$f":"DataInput!$B$15*RAND()","v":6.5683187572832038},{"$f":"(IF('Xi,Yi'!W49=\"\",\"\",(IF((('Xi,Yi'!W49+AA49+Z49/SQRT(3))<DataInput!$B$18),\"\",(IF((('Xi,Yi'!W49+AA49+Z49/SQRT(3))>DataInput!$B$19),\"\",(IF('Xi,Yi'!X49=\"\",\"\",(IF(('Xi,Yi'!X49+Z49<DataInput!$B$20),\"\",(IF((('Xi,Yi'!X49+Z49)>DataInput!$B$21),\"\",('Xi,Yi'!W49+AA49+Z49/SQRT(3))))))))))))))","v":""},{"$f":"IF(W49=\"\",\"\",(IF('Xi,Yi'!X49=\"\",\"\",(IF(('Xi,Yi'!X49+Z49<DataInput!$B$20),\"\",(IF((('Xi,Yi'!X49+Z49)>DataInput!$B$21),\"\",('Xi,Yi'!X49+Z49))))))))","v":""},{"$f":"IF(W49=\"\",\"\",IF(X49=\"\",\"\",(DataInput!$B$4+(DataInput!$D$4-DataInput!$B$4)*RAND())))","v":""},{"$f":"DataInput!$B$16*RAND()","v":2.744975015907464},{"$f":"DataInput!$B$15*RAND()","v":16.059595216627365},{"$f":"(IF('Xi,Yi'!AB49=\"\",\"\",(IF((('Xi,Yi'!AB49+AF49+AE49/SQRT(3))<DataInput!$B$18),\"\",(IF((('Xi,Yi'!AB49+AF49+AE49/SQRT(3))>DataInput!$B$19),\"\",(IF('Xi,Yi'!AC49=\"\",\"\",(IF(('Xi,Yi'!AC49+AE49<DataInput!$B$20),\"\",(IF((('Xi,Yi'!AC49+AE49)>DataInput!$B$21),\"\",('Xi,Yi'!AB49+AF49+AE49/SQRT(3))))))))))))))","v":""},{"$f":"IF(AB49=\"\",\"\",(IF('Xi,Yi'!AC49=\"\",\"\",(IF(('Xi,Yi'!AC49+AE49<DataInput!$B$20),\"\",(IF((('Xi,Yi'!AC49+AE49)>DataInput!$B$21),\"\",('Xi,Yi'!AC49+AE49))))))))","v":""},{"$f":"IF(AB49=\"\",\"\",IF(AC49=\"\",\"\",(DataInput!$B$4+(DataInput!$D$4-DataInput!$B$4)*RAND())))","v":""},{"$f":"DataInput!$B$16*RAND()","v":4.9936235047098823},{"$f":"DataInput!$B$15*RAND()","v":11.576731465470205},{"$f":"(IF('Xi,Yi'!AG49=\"\",\"\",(IF((('Xi,Yi'!AG49+AK49+AJ49/SQRT(3))<DataInput!$B$18),\"\",(IF((('Xi,Yi'!AG49+AK49+AJ49/SQRT(3))>DataInput!$B$19),\"\",(IF('Xi,Yi'!AH49=\"\",\"\",(IF(('Xi,Yi'!AH49+AJ49<DataInput!$B$20),\"\",(IF((('Xi,Yi'!AH49+AJ49)>DataInput!$B$21),\"\",('Xi,Yi'!AG49+AK49+AJ49/SQRT(3))))))))))))))","v":""},{"$f":"IF(AG49=\"\",\"\",(IF('Xi,Yi'!AH49=\"\",\"\",(IF(('Xi,Yi'!AH49+AJ49<DataInput!$B$20),\"\",(IF((('Xi,Yi'!AH49+AJ49)>DataInput!$B$21),\"\",('Xi,Yi'!AH49+AJ49))))))))","v":""},{"$f":"IF(AG49=\"\",\"\",IF(AH49=\"\",\"\",(DataInput!$B$4+(DataInput!$D$4-DataInput!$B$4)*RAND())))","v":""},{"$f":"DataInput!$B$16*RAND()","v":5.9551798412227068},{"$f":"DataInput!$B$15*RAND()","v":16.125705611689281},{"$f":"(IF('Xi,Yi'!AL49=\"\",\"\",(IF((('Xi,Yi'!AL49+AP49+AO49/SQRT(3))<DataInput!$B$18),\"\",(IF((('Xi,Yi'!AL49+AP49+AO49/SQRT(3))>DataInput!$B$19),\"\",(IF('Xi,Yi'!AM49=\"\",\"\",(IF(('Xi,Yi'!AM49+AO49<DataInput!$B$20),\"\",(IF((('Xi,Yi'!AM49+AO49)>DataInput!$B$21),\"\",('Xi,Yi'!AL49+AP49+AO49/SQRT(3))))))))))))))","v":""},{"$f":"IF(AL49=\"\",\"\",(IF('Xi,Yi'!AM49=\"\",\"\",(IF(('Xi,Yi'!AM49+AO49<DataInput!$B$20),\"\",(IF((('Xi,Yi'!AM49+AO49)>DataInput!$B$21),\"\",('Xi,Yi'!AM49+AO49))))))))","v":""},{"$f":"IF(AL49=\"\",\"\",IF(AM49=\"\",\"\",(DataInput!$B$4+(DataInput!$D$4-DataInput!$B$4)*RAND())))","v":""},{"$f":"DataInput!$B$16*RAND()","v":9.0957796307267902},{"$f":"DataInput!$B$15*RAND()","v":7.566449695731122},{"$f":"(IF('Xi,Yi'!AQ49=\"\",\"\",(IF((('Xi,Yi'!AQ49+AU49+AT49/SQRT(3))<DataInput!$B$18),\"\",(IF((('Xi,Yi'!AQ49+AU49+AT49/SQRT(3))>DataInput!$B$19),\"\",(IF('Xi,Yi'!AR49=\"\",\"\",(IF(('Xi,Yi'!AR49+AT49<DataInput!$B$20),\"\",(IF((('Xi,Yi'!AR49+AT49)>DataInput!$B$21),\"\",('Xi,Yi'!AQ49+AU49+AT49/SQRT(3))))))))))))))","v":""},{"$f":"IF(AQ49=\"\",\"\",(IF('Xi,Yi'!AR49=\"\",\"\",(IF(('Xi,Yi'!AR49+AT49<DataInput!$B$20),\"\",(IF((('Xi,Yi'!AR49+AT49)>DataInput!$B$21),\"\",('Xi,Yi'!AR49+AT49))))))))","v":""},{"$f":"IF(AQ49=\"\",\"\",IF(AR49=\"\",\"\",(DataInput!$B$4+(DataInput!$D$4-DataInput!$B$4)*RAND())))","v":""},{"$f":"DataInput!$B$16*RAND()","v":11.633323838102665},{"$f":"DataInput!$B$15*RAND()","v":12.098827270574024},{"$f":"(IF('Xi,Yi'!AV49=\"\",\"\",(IF((('Xi,Yi'!AV49+AZ49+AY49/SQRT(3))<DataInput!$B$18),\"\",(IF((('Xi,Yi'!AV49+AZ49+AY49/SQRT(3))>DataInput!$B$19),\"\",(IF('Xi,Yi'!AW49=\"\",\"\",(IF(('Xi,Yi'!AW49+AY49<DataInput!$B$20),\"\",(IF((('Xi,Yi'!AW49+AY49)>DataInput!$B$21),\"\",('Xi,Yi'!AV49+AZ49+AY49/SQRT(3))))))))))))))","v":""},{"$f":"IF(AV49=\"\",\"\",(IF('Xi,Yi'!AW49=\"\",\"\",(IF(('Xi,Yi'!AW49+AY49<DataInput!$B$20),\"\",(IF((('Xi,Yi'!AW49+AY49)>DataInput!$B$21),\"\",('Xi,Yi'!AW49+AY49))))))))","v":""},{"$f":"IF(AV49=\"\",\"\",IF(AW49=\"\",\"\",(DataInput!$B$4+(DataInput!$D$4-DataInput!$B$4)*RAND())))","v":""},{"$f":"DataInput!$B$16*RAND()","v":14.418134263201596},{"$f":"DataInput!$B$15*RAND()","v":11.649991408501432},{"$f":"(IF('Xi,Yi'!BA49=\"\",\"\",(IF((('Xi,Yi'!BA49+BE49+BD49/SQRT(3))<DataInput!$B$18),\"\",(IF((('Xi,Yi'!BA49+BE49+BD49/SQRT(3))>DataInput!$B$19),\"\",(IF('Xi,Yi'!BB49=\"\",\"\",(IF(('Xi,Yi'!BB49+BD49<DataInput!$B$20),\"\",(IF((('Xi,Yi'!BB49+BD49)>DataInput!$B$21),\"\",('Xi,Yi'!BA49+BE49+BD49/SQRT(3))))))))))))))","v":""},{"$f":"IF(BA49=\"\",\"\",(IF('Xi,Yi'!BB49=\"\",\"\",(IF(('Xi,Yi'!BB49+BD49<DataInput!$B$20),\"\",(IF((('Xi,Yi'!BB49+BD49)>DataInput!$B$21),\"\",('Xi,Yi'!BB49+BD49))))))))","v":""},{"$f":"IF(BA49=\"\",\"\",IF(BB49=\"\",\"\",(DataInput!$B$4+(DataInput!$D$4-DataInput!$B$4)*RAND())))","v":""},{"$f":"DataInput!$B$16*RAND()","v":11.718049152257118},{"$f":"DataInput!$B$15*RAND()","v":11.990431910596451}]

{"sheet":"Graphic","index":3,"n_rows":4,"n_cols":1,"rows_kept":4,"cut":false,"hidden":false,"merged":[]}
["Note: The 'Source Data' may need to be adjusted manually in order to allow the triangular grid pattern and sampling points to appear."]
["Move the mouse pointer to the center of the plot area and then right-click the mouse.  Select 'Source Data' from the menu."]
["Select 'Series' tab. Click collapse dialog buttons at the right end of X Values and Y Values boxes to adjust for the appropriate ranges of source data."]
["You may need to hold the \"Control\" key to select multiple columns of data."]

{"sheet":"Grid","index":4,"n_rows":24,"n_cols":5,"rows_kept":24,"cut":false,"hidden":false,"merged":[]}
["Triangular Grid Node Coordinates "]
[]
[null,null,"Xi (Even Row)","Xi (Odd Row)","Yi"]
[-10,null,{"$f":"IF((($C$14+A4*DataInput!$B$15)<(DataInput!$B$18-DataInput!$B$15)),\"\",IF(($C$14+A4*DataInput!$B$15)>(DataInput!$B$19),\"\",$C$14+A4*DataInput!$B$15))","v":""},{"$f":"IF((($C$14+(A4+0.5)*DataInput!$B$15)<(DataInput!$B$18-DataInput!$B$15)),\"\",IF(($C$14+(A4+0.5)*DataInput!$B$15)>(DataInput!$B$19),\"\",$C$14+(A4+0.5)*DataInput!$B$15))","v":""},{"$f":"IF(($E$14+A4*DataInput!$B$16)<(DataInput!$B$20-DataInput!$B$16),\"\",IF(($E$14+A4*DataInput!$B$16)>(DataInput!$B$21),\"\",$E$14+A4*DataInput!$B$16))","v":""}]
[-9,null,{"$f":"IF((($C$14+A5*DataInput!$B$15)<(DataInput!$B$18-DataInput!$B$15)),\"\",IF(($C$14+A5*DataInput!$B$15)>(DataInput!$B$19),\"\",$C$14+A5*DataInput!$B$15))","v":""},{"$f":"IF((($C$14+(A5+0.5)*DataInput!$B$15)<(DataInput!$B$18-DataInput!$B$15)),\"\",IF(($C$14+(A5+0.5)*DataInput!$B$15)>(DataInput!$B$19),\"\",$C$14+(A5+0.5)*DataInput!$B$15))","v":""},{"$f":"IF(($E$14+A5*DataInput!$B$16)<(DataInput!$B$20-DataInput!$B$16),\"\",IF(($E$14+A5*DataInput!$B$16)>(DataInput!$B$21),\"\",$E$14+A5*DataInput!$B$16))","v":""}]
[-8,null,{"$f":"IF((($C$14+A6*DataInput!$B$15)<(DataInput!$B$18-DataInput!$B$15)),\"\",IF(($C$14+A6*DataInput!$B$15)>(DataInput!$B$19),\"\",$C$14+A6*DataInput!$B$15))","v":""},{"$f":"IF((($C$14+(A6+0.5)*DataInput!$B$15)<(DataInput!$B$18-DataInput!$B$15)),\"\",IF(($C$14+(A6+0.5)*DataInput!$B$15)>(DataInput!$B$19),\"\",$C$14+(A6+0.5)*DataInput!$B$15))","v":""},{"$f":"IF(($E$14+A6*DataInput!$B$16)<(DataInput!$B$20-DataInput!$B$16),\"\",IF(($E$14+A6*DataInput!$B$16)>(DataInput!$B$21),\"\",$E$14+A6*DataInput!$B$16))","v":""}]
[-7,null,{"$f":"IF((($C$14+A7*DataInput!$B$15)<(DataInput!$B$18-DataInput!$B$15)),\"\",IF(($C$14+A7*DataInput!$B$15)>(DataInput!$B$19),\"\",$C$14+A7*DataInput!$B$15))","v":""},{"$f":"IF((($C$14+(A7+0.5)*DataInput!$B$15)<(DataInput!$B$18-DataInput!$B$15)),\"\",IF(($C$14+(A7+0.5)*DataInput!$B$15)>(DataInput!$B$19),\"\",$C$14+(A7+0.5)*DataInput!$B$15))","v":""},{"$f":"IF(($E$14+A7*DataInput!$B$16)<(DataInput!$B$20-DataInput!$B$16),\"\",IF(($E$14+A7*DataInput!$B$16)>(DataInput!$B$21),\"\",$E$14+A7*DataInput!$B$16))","v":""}]
[-6,null,{"$f":"IF((($C$14+A8*DataInput!$B$15)<(DataInput!$B$18-DataInput!$B$15)),\"\",IF(($C$14+A8*DataInput!$B$15)>(DataInput!$B$19),\"\",$C$14+A8*DataInput!$B$15))","v":""},{"$f":"IF((($C$14+(A8+0.5)*DataInput!$B$15)<(DataInput!$B$18-DataInput!$B$15)),\"\",IF(($C$14+(A8+0.5)*DataInput!$B$15)>(DataInput!$B$19),\"\",$C$14+(A8+0.5)*DataInput!$B$15))","v":""},{"$f":"IF(($E$14+A8*DataInput!$B$16)<(DataInput!$B$20-DataInput!$B$16),\"\",IF(($E$14+A8*DataInput!$B$16)>(DataInput!$B$21),\"\",$E$14+A8*DataInput!$B$16))","v":""}]
[-5,null,{"$f":"IF((($C$14+A9*DataInput!$B$15)<(DataInput!$B$18-DataInput!$B$15)),\"\",IF(($C$14+A9*DataInput!$B$15)>(DataInput!$B$19),\"\",$C$14+A9*DataInput!$B$15))","v":""},{"$f":"IF((($C$14+(A9+0.5)*DataInput!$B$15)<(DataInput!$B$18-DataInput!$B$15)),\"\",IF(($C$14+(A9+0.5)*DataInput!$B$15)>(DataInput!$B$19),\"\",$C$14+(A9+0.5)*DataInput!$B$15))","v":""},{"$f":"IF(($E$14+A9*DataInput!$B$16)<(DataInput!$B$20-DataInput!$B$16),\"\",IF(($E$14+A9*DataInput!$B$16)>(DataInput!$B$21),\"\",$E$14+A9*DataInput!$B$16))","v":""}]
[-4,null,{"$f":"IF((($C$14+A10*DataInput!$B$15)<(DataInput!$B$18-DataInput!$B$15)),\"\",IF(($C$14+A10*DataInput!$B$15)>(DataInput!$B$19),\"\",$C$14+A10*DataInput!$B$15))","v":""},{"$f":"IF((($C$14+(A10+0.5)*DataInput!$B$15)<(DataInput!$B$18-DataInput!$B$15)),\"\",IF(($C$14+(A10+0.5)*DataInput!$B$15)>(DataInput!$B$19),\"\",$C$14+(A10+0.5)*DataInput!$B$15))","v":""},{"$f":"IF(($E$14+A10*DataInput!$B$16)<(DataInput!$B$20-DataInput!$B$16),\"\",IF(($E$14+A10*DataInput!$B$16)>(DataInput!$B$21),\"\",$E$14+A10*DataInput!$B$16))","v":""}]
[-3,null,{"$f":"IF((($C$14+A11*DataInput!$B$15)<(DataInput!$B$18-DataInput!$B$15)),\"\",IF(($C$14+A11*DataInput!$B$15)>(DataInput!$B$19),\"\",$C$14+A11*DataInput!$B$15))","v":""},{"$f":"IF((($C$14+(A11+0.5)*DataInput!$B$15)<(DataInput!$B$18-DataInput!$B$15)),\"\",IF(($C$14+(A11+0.5)*DataInput!$B$15)>(DataInput!$B$19),\"\",$C$14+(A11+0.5)*DataInput!$B$15))","v":""},{"$f":"IF(($E$14+A11*DataInput!$B$16)<(DataInput!$B$20-DataInput!$B$16),\"\",IF(($E$14+A11*DataInput!$B$16)>(DataInput!$B$21),\"\",$E$14+A11*DataInput!$B$16))","v":""}]
[-2,null,{"$f":"IF((($C$14+A12*DataInput!$B$15)<(DataInput!$B$18-DataInput!$B$15)),\"\",IF(($C$14+A12*DataInput!$B$15)>(DataInput!$B$19),\"\",$C$14+A12*DataInput!$B$15))","v":""},{"$f":"IF((($C$14+(A12+0.5)*DataInput!$B$15)<(DataInput!$B$18-DataInput!$B$15)),\"\",IF(($C$14+(A12+0.5)*DataInput!$B$15)>(DataInput!$B$19),\"\",$C$14+(A12+0.5)*DataInput!$B$15))","v":-14.200000000000003},{"$f":"IF(($E$14+A12*DataInput!$B$16)<(DataInput!$B$20-DataInput!$B$16),\"\",IF(($E$14+A12*DataInput!$B$16)>(DataInput!$B$21),\"\",$E$14+A12*DataInput!$B$16))","v":""}]
[-1,null,{"$f":"IF((($C$14+A13*DataInput!$B$15)<(DataInput!$B$18-DataInput!$B$15)),\"\",IF(($C$14+A13*DataInput!$B$15)>(DataInput!$B$19),\"\",$C$14+A13*DataInput!$B$15))","v":-4.4000000000000021},{"$f":"IF((($C$14+(A13+0.5)*DataInput!$B$15)<(DataInput!$B$18-DataInput!$B$15)),\"\",IF(($C$14+(A13+0.5)*DataInput!$B$15)>(DataInput!$B$19),\"\",$C$14+(A13+0.5)*DataInput!$B$15))","v":5.3999999999999986},{"$f":"IF(($E$14+A13*DataInput!$B$16)<(DataInput!$B$20-DataInput!$B$16),\"\",IF(($E$14+A13*DataInput!$B$16)>(DataInput!$B$21),\"\",$E$14+A13*DataInput!$B$16))","v":-12.9}]
[0,null,{"$f":"DataInput!B23","v":15.2},{"$f":"IF((($C$14+(A14+0.5)*DataInput!$B$15)<(DataInput!$B$18-DataInput!$B$15)),\"\",IF(($C$14+(A14+0.5)*DataInput!$B$15)>(DataInput!$B$19),\"\",$C$14+(A14+0.5)*DataInput!$B$15))","v":25},{"$f":"DataInput!B24","v":4.0999999999999996}]
[1,null,{"$f":"IF((($C$14+A15*DataInput!$B$15)<(DataInput!$B$18-DataInput!$B$15)),\"\",IF(($C$14+A15*DataInput!$B$15)>(DataInput!$B$19),\"\",$C$14+A15*DataInput!$B$15))","v":34.799999999999997},{"$f":"IF((($C$14+(A15+0.5)*DataInput!$B$15)<(DataInput!$B$18-DataInput!$B$15)),\"\",IF(($C$14+(A15+0.5)*DataInput!$B$15)>(DataInput!$B$19),\"\",$C$14+(A15+0.5)*DataInput!$B$15))","v":44.6},{"$f":"IF(($E$14+A15*DataInput!$B$16)<(DataInput!$B$20-DataInput!$B$16),\"\",IF(($E$14+A15*DataInput!$B$16)>(DataInput!$B$21),\"\",$E$14+A15*DataInput!$B$16))","v":21.1}]
[2,null,{"$f":"IF((($C$14+A16*DataInput!$B$15)<(DataInput!$B$18-DataInput!$B$15)),\"\",IF(($C$14+A16*DataInput!$B$15)>(DataInput!$B$19),\"\",$C$14+A16*DataInput!$B$15))","v":54.400000000000006},{"$f":"IF((($C$14+(A16+0.5)*DataInput!$B$15)<(DataInput!$B$18-DataInput!$B$15)),\"\",IF(($C$14+(A16+0.5)*DataInput!$B$15)>(DataInput!$B$19),\"\",$C$14+(A16+0.5)*DataInput!$B$15))","v":64.2},{"$f":"IF(($E$14+A16*DataInput!$B$16)<(DataInput!$B$20-DataInput!$B$16),\"\",IF(($E$14+A16*DataInput!$B$16)>(DataInput!$B$21),\"\",$E$14+A16*DataInput!$B$16))","v":38.1}]
[3,null,{"$f":"IF((($C$14+A17*DataInput!$B$15)<(DataInput!$B$18-DataInput!$B$15)),\"\",IF(($C$14+A17*DataInput!$B$15)>(DataInput!$B$19),\"\",$C$14+A17*DataInput!$B$15))","v":74},{"$f":"IF((($C$14+(A17+0.5)*DataInput!$B$15)<(DataInput!$B$18-DataInput!$B$15)),\"\",IF(($C$14+(A17+0.5)*DataInput!$B$15)>(DataInput!$B$19),\"\",$C$14+(A17+0.5)*DataInput!$B$15))","v":83.800000000000011},{"$f":"IF(($E$14+A17*DataInput!$B$16)<(DataInput!$B$20-DataInput!$B$16),\"\",IF(($E$14+A17*DataInput!$B$16)>(DataInput!$B$21),\"\",$E$14+A17*DataInput!$B$16))","v":""}]
[4,null,{"$f":"IF((($C$14+A18*DataInput!$B$15)<(DataInput!$B$18-DataInput!$B$15)),\"\",IF(($C$14+A18*DataInput!$B$15)>(DataInput!$B$19),\"\",$C$14+A18*DataInput!$B$15))","v":93.600000000000009},{"$f":"IF((($C$14+(A18+0.5)*DataInput!$B$15)<(DataInput!$B$18-DataInput!$B$15)),\"\",IF(($C$14+(A18+0.5)*DataInput!$B$15)>(DataInput!$B$19),\"\",$C$14+(A18+0.5)*DataInput!$B$15))","v":""},{"$f":"IF(($E$14+A18*DataInput!$B$16)<(DataInput!$B$20-DataInput!$B$16),\"\",IF(($E$14+A18*DataInput!$B$16)>(DataInput!$B$21),\"\",$E$14+A18*DataInput!$B$16))","v":""}]
[5,null,{"$f":"IF((($C$14+A19*DataInput!$B$15)<(DataInput!$B$18-DataInput!$B$15)),\"\",IF(($C$14+A19*DataInput!$B$15)>(DataInput!$B$19),\"\",$C$14+A19*DataInput!$B$15))","v":""},{"$f":"IF((($C$14+(A19+0.5)*DataInput!$B$15)<(DataInput!$B$18-DataInput!$B$15)),\"\",IF(($C$14+(A19+0.5)*DataInput!$B$15)>(DataInput!$B$19),\"\",$C$14+(A19+0.5)*DataInput!$B$15))","v":""},{"$f":"IF(($E$14+A19*DataInput!$B$16)<(DataInput!$B$20-DataInput!$B$16),\"\",IF(($E$14+A19*DataInput!$B$16)>(DataInput!$B$21),\"\",$E$14+A19*DataInput!$B$16))","v":""}]
[6,null,{"$f":"IF((($C$14+A20*DataInput!$B$15)<(DataInput!$B$18-DataInput!$B$15)),\"\",IF(($C$14+A20*DataInput!$B$15)>(DataInput!$B$19),\"\",$C$14+A20*DataInput!$B$15))","v":""},{"$f":"IF((($C$14+(A20+0.5)*DataInput!$B$15)<(DataInput!$B$18-DataInput!$B$15)),\"\",IF(($C$14+(A20+0.5)*DataInput!$B$15)>(DataInput!$B$19),\"\",$C$14+(A20+0.5)*DataInput!$B$15))","v":""},{"$f":"IF(($E$14+A20*DataInput!$B$16)<(DataInput!$B$20-DataInput!$B$16),\"\",IF(($E$14+A20*DataInput!$B$16)>(DataInput!$B$21),\"\",$E$14+A20*DataInput!$B$16))","v":""}]
[7,null,{"$f":"IF((($C$14+A21*DataInput!$B$15)<(DataInput!$B$18-DataInput!$B$15)),\"\",IF(($C$14+A21*DataInput!$B$15)>(DataInput!$B$19),\"\",$C$14+A21*DataInput!$B$15))","v":""},{"$f":"IF((($C$14+(A21+0.5)*DataInput!$B$15)<(DataInput!$B$18-DataInput!$B$15)),\"\",IF(($C$14+(A21+0.5)*DataInput!$B$15)>(DataInput!$B$19),\"\",$C$14+(A21+0.5)*DataInput!$B$15))","v":""},{"$f":"IF(($E$14+A21*DataInput!$B$16)<(DataInput!$B$20-DataInput!$B$16),\"\",IF(($E$14+A21*DataInput!$B$16)>(DataInput!$B$21),\"\",$E$14+A21*DataInput!$B$16))","v":""}]
[8,null,{"$f":"IF((($C$14+A22*DataInput!$B$15)<(DataInput!$B$18-DataInput!$B$15)),\"\",IF(($C$14+A22*DataInput!$B$15)>(DataInput!$B$19),\"\",$C$14+A22*DataInput!$B$15))","v":""},{"$f":"IF((($C$14+(A22+0.5)*DataInput!$B$15)<(DataInput!$B$18-DataInput!$B$15)),\"\",IF(($C$14+(A22+0.5)*DataInput!$B$15)>(DataInput!$B$19),\"\",$C$14+(A22+0.5)*DataInput!$B$15))","v":""},{"$f":"IF(($E$14+A22*DataInput!$B$16)<(DataInput!$B$20-DataInput!$B$16),\"\",IF(($E$14+A22*DataInput!$B$16)>(DataInput!$B$21),\"\",$E$14+A22*DataInput!$B$16))","v":""}]
[9,null,{"$f":"IF((($C$14+A23*DataInput!$B$15)<(DataInput!$B$18-DataInput!$B$15)),\"\",IF(($C$14+A23*DataInput!$B$15)>(DataInput!$B$19),\"\",$C$14+A23*DataInput!$B$15))","v":""},{"$f":"IF((($C$14+(A23+0.5)*DataInput!$B$15)<(DataInput!$B$18-DataInput!$B$15)),\"\",IF(($C$14+(A23+0.5)*DataInput!$B$15)>(DataInput!$B$19),\"\",$C$14+(A23+0.5)*DataInput!$B$15))","v":""},{"$f":"IF(($E$14+A23*DataInput!$B$16)<(DataInput!$B$20-DataInput!$B$16),\"\",IF(($E$14+A23*DataInput!$B$16)>(DataInput!$B$21),\"\",$E$14+A23*DataInput!$B$16))","v":""}]
[10,null,{"$f":"IF((($C$14+A24*DataInput!$B$15)<(DataInput!$B$18-DataInput!$B$15)),\"\",IF(($C$14+A24*DataInput!$B$15)>(DataInput!$B$19),\"\",$C$14+A24*DataInput!$B$15))","v":""},{"$f":"IF((($C$14+(A24+0.5)*DataInput!$B$15)<(DataInput!$B$18-DataInput!$B$15)),\"\",IF(($C$14+(A24+0.5)*DataInput!$B$15)>(DataInput!$B$19),\"\",$C$14+(A24+0.5)*DataInput!$B$15))","v":""},{"$f":"IF(($E$14+A24*DataInput!$B$16)<(DataInput!$B$20-DataInput!$B$16),\"\",IF(($E$14+A24*DataInput!$B$16)>(DataInput!$B$21),\"\",$E$14+A24*DataInput!$B$16))","v":""}]

{"sheet":"About","index":5,"n_rows":12,"n_cols":3,"rows_kept":12,"cut":false,"hidden":false,"merged":[[11,0,11,11],[1,2,1,9],[0,0,10,1],[0,2,0,9],[0,10,10,11],[2,2,2,9],[3,2,3,9],[4,2,4,9],[5,2,10,9]]}
[null,null,"Systematic Random Sampling Workbook"]
[]
[null,null,"Pennsylvania Department of Environmental Protection"]
[null,null,"Land Recycling Program"]
[]
[]
[]
[]
[]
[]
[]
["Please forward comments or suggestions to Frank Nemec at fnemec@pa.gov"]