<?xml version="1.0" encoding="utf-8" ?>
<?meta name="GENERATOR" content="XML::Smart/1.6.9 Perl/5.008005 [linux]" ?>
<metadata>
  <Esri>
    <CreaDate>20070518</CreaDate>
    <CreaTime>07323300</CreaTime>
    <SyncOnce>FALSE</SyncOnce>
    <ModDate>20070518</ModDate>
    <ModTime>07323300</ModTime>
    <MetaID>{8F90BB37-6336-40A9-9ECB-F17BC3520006}</MetaID>
    <SyncDate>20070518</SyncDate>
    <SyncTime>07323300</SyncTime>
  </Esri>
  <idinfo>
    <ptcontac>
      <cntinfo>
        <cntaddr>
          <addrtype>mailing and physical address</addrtype>
          <address>Bureau of Topographic and Geologic Survey</address>
          <address>3240 Schoolhouse Road</address>
          <city>Middletown</city>
          <state>PA</state>
          <postal>17057</postal>
          <country>USA</country>
        </cntaddr>
        <cntperp>
          <cntper></cntper>
          <cntorg>PAMAP Program, PA Department of Conservation and Natural Resources, Bureau of Topographic and Geologic Survey</cntorg>
        </cntperp>
        <cntpos>Director</cntpos>
        <cntvoice>(717) 702-2017</cntvoice>
        <cntfax></cntfax>
        <cntemail>RA-PAMAP@state.pa.us</cntemail>
        <hours>0800-1630</hours>
      </cntinfo>
    </ptcontac>
    <citation>
      <citeinfo>
        <origin>PAMAP Program, PA Department of Conservation and Natural Resources, Bureau of Topographic and Geologic Survey</origin>
        <pubdate>20070615</pubdate>
        <title>PAMAP Program 2006 Color Orthophotos of Pennsylvania</title>
        <pubinfo>
          <pubplace>Middletown, PA</pubplace>
          <publish>PAMAP Program, PA Department of Conservation and Natural Resources, Bureau of Topographic and Geologic Survey</publish>
        </pubinfo>
        <ftname Sync="TRUE">41001350PAN.tif</ftname>
        <onlink Sync="TRUE"/>
        <geoform Sync="TRUE">remote-sensing image</geoform>
        <serinfo>
          <sername>PAMAP Program</sername>
        </serinfo>
      </citeinfo>
    </citation>
    <keywords>
      <theme>
        <themekey>digital orthophoto</themekey>
        <themekey>digital image map</themekey>
        <themekey>aerial photograph</themekey>
        <themekey>rectified photograph</themekey>
        <themekey>rectified image</themekey>
        <themekey>orthophoto</themekey>
        <themekey>DEM</themekey>
        <themekt>None</themekt>
        <themekey>LiDAR</themekey>
      </theme>
      <place>
        <placekt>None</placekt>
        <placekey>Pennsylvania</placekey>
        <placekey>Venango County</placekey>
      </place>
    </keywords>
    <descript>
      <abstract>An orthoimage is remotely sensed image data that has been positionally corrected for camera lens distortion, vertical displacement and variations in aircraft altitude and orientation.  Orthoimagery combines the image characteristics of a photograph with the geometric qualities of a map.  The PAMAP 2006 natural color orthoimages were produced at 1-foot pixel resolution. Each orthoimage provides imagery for a 10,000 x 10,000 ft. block on the ground. The projected coordinate system is Pennsylvania State Plane North with a NAD83 datum. There is no image overlap between adjacent files. The orthoimage filenames were derived from the northwest corner of each ortho tile using the first four digits of the northing and easting coordinates referenced to the Pennsylvania State Plane coordinate system, followed by the State designator "PA," and the State Plane zone designator "N." This dataset consists of 10000 x 10000 ft. uncompressed natural color (24-bit) GeoTIFF files at a pixel resolution of 1 foot.  The imagery was captured at a negative scale of 1:19200 for the purpose of producing orthophotos.</abstract>
      <purpose>Aerial survey of the Commonwealth of Pennsylvania.  Orthophotos serve a variety of purposes, from interim maps to field references for earth science investigations and analysis. The digital orthophoto is useful as a layer of a geographic information system and as a tool for revision of digital line graphs and topographic maps.</purpose>
      <langdata Sync="TRUE">en</langdata>
    </descript>
    <timeperd>
      <timeinfo>
        <rngdates>
          <begdate>20060327</begdate>
          <enddate>20060410</enddate>
        </rngdates>
        <sngdate>
          <caldate></caldate>
        </sngdate>
        <mdattim>
          <sngdate>
            <caldate></caldate>
          </sngdate>
        </mdattim>
      </timeinfo>
      <current>ground condition</current>
    </timeperd>
    <status>
      <progress>Complete</progress>
      <update>Unknown</update>
    </status>
    <spdom>
      <bounding>
        <westbc Sync="TRUE">-80.000216</westbc>
        <eastbc Sync="TRUE">-79.962921</eastbc>
        <northbc Sync="TRUE">41.270617</northbc>
        <southbc Sync="TRUE">41.242473</southbc>
      </bounding>
      <lboundng>
        <leftbc Sync="TRUE">1350000.000000</leftbc>
        <rightbc Sync="TRUE">1360000.000000</rightbc>
        <bottombc Sync="TRUE">400000.000000</bottombc>
        <topbc Sync="TRUE">410000.000000</topbc>
      </lboundng>
    </spdom>
    <useconst>The Originator, Publisher and Distributor exclude any and all implied warranties and make no warranty or representation with respect to the data files or accompanying documentation, including quality, performance, merchantability or fitness for a particular purpose. These data files and documentation are provided 'as is' and the User assumes the entire risk as to their quality and performance.  The Originator and Publisher, as indicated in the metadata, should be clearly cited in any product derived from this data. Any modifications to this data must be described in any digital or hardcopy product derived from this data.</useconst>
    <natvform>GeoTIFF</natvform>
    <accconst>None</accconst>
    <datacred>PAMAP Program, Bureau of Topographic and Geologic Survey, PA Department of Conservation and Natural Resources</datacred>
    <native Sync="TRUE">Microsoft Windows XP Version 5.1 (Build 2600) Service Pack 2; ESRI ArcCatalog 9.2.1.1332</native>
  </idinfo>
  <dataqual>
    <lineage>
      <procstep>
        <procdesc>Horizontal and Vertical control points were acquired utilizing GPS collection techniques.  All control was prepared under the supervision of licensed Professional Land Surveyors.</procdesc>
        <procdate>20060424</procdate>
        <srcprod>GPS Ground Control</srcprod>
      </procstep>
      <procstep>
        <procdesc>Aerial photography utilizing airborne GPS techniques was acquired with 60% forward overlap and 30% sidelap at an altitude of 9600' AMT producing a negative scale of 1" = 1600'.  Aerial photography was exposed on color negative aerial film.</procdesc>
        <procdate>20060410</procdate>
        <srcprod>Aerial Photography</srcprod>
      </procstep>
      <procstep>
        <procdesc>Softcopy aerotriangulation utilizes the GPS ground control, airborne GPS data, and image coordinate measurements which are run through bundle block adjustment software computing the exterior orientation parameters for each image of the photogrammetric project.  The original aerial film was scanned utilizing a precision photogrammetric scanner at a resolution of 12.5 microns.  Using these scans the aerotriangulation process employs a rigorous mathematical model which detects measurement errors, and corrects for systematic image distorion, film shrikage, atmospheric refraction and camera lens distortions.  The final bundle adjustment results are inspected to ensure that the RMSE meets the required 1 part in 10000.</procdesc>
        <srcused>GPS Ground Control</srcused>
        <procdate>20061122</procdate>
        <srcprod>Analytical Aerotriangulation</srcprod>
        <srcused>Aerial Photography</srcused>
      </procstep>
      <procstep>
        <procdesc>LiDAR collection and processing generally adhered to FEMA Guidelines and Specifications for Flood Hazard Mapping Partners, Appendix A: Guidance for Aerial Mapping &amp; Surveying, Section A.8: Airborne Light Detection and Ranging (LiDAR) Surveys.  Raw LiDAR data was collected using a sensor equipped with an airborne GPS/IMU system.  Flight lines with a 30% sidelap were flown with a nominal average LiDAR point spacing of 1.4 meters using a 43 degree field of view (full angle) at a laser pulse rate of 40.6 kHz.  The raw LiDAR data is processed and filtered to remove LiDAR points on elevated features such as vegetation, buildings, cars, etc. in order to create a bare earth surface meeting the accuracies required for orthophoto and contour generation.  </procdesc>
        <procdate>20070219</procdate>
        <srcprod>Processed LiDAR</srcprod>
        <srcused>Raw LiDAR</srcused>
        <srcused>GPS Ground Control</srcused>
      </procstep>
      <procstep>
        <procdesc>To supplement the LiDAR data, photogrammetrically compiled breaklines are collected along various planimetric features and significant breaks in grade.  The processed LiDAR data is combined and integrated with these breaklines to generate a final terrain surface of the project area.  This surface was then used to support the accurate generation of the orthophotos and 2' contours.</procdesc>
        <srcused>Aerial Photography</srcused>
        <procdate>20070220</procdate>
        <srcprod>DEM</srcprod>
        <srcused>Analytical Aerotriangulation</srcused>
        <srcused>Processed LiDAR</srcused>
      </procstep>
      <procstep>
        <procdesc>Digital orthorectification includes a spatial and radiometric transformation of the scanned image from line/sample space into the specified ground coordinate system.  The interior and exterior orientation parameters from the aerotriangulation process are used to project each pixel into the ground coordinate system, while the DEM is used to correct for relief displacement.  Once the images are ortho-rectified, they are checked for geometric accuracy and image quality, and tone-balanced.  The individual overlapping orthophotos are mosaicked together and the final tiles are then extracted from the image set to the project tiling scheme.</procdesc>
        <srcused>Aerial Photography</srcused>
        <procdate>20070614</procdate>
        <srcprod>Color Digital Orthophotography</srcprod>
        <srcused>Analytical Aerotriangulation</srcused>
        <srcused>DEM</srcused>
      </procstep>
      <srcinfo>
        <srccite>
          <citeinfo>
            <title>GPS Photo Control Survey</title>
            <origin>RETTEW Associates, Inc.</origin>
            <pubdate>20060424</pubdate>
          </citeinfo>
        </srccite>
        <typesrc>CD-ROM</typesrc>
        <srccitea>GPS Ground Control</srccitea>
        <srccontr>GPS control points are used to support the acquisition of the imagery and LiDAR data.  Photo identifiable ground control points (panels) based on the control plan are utilized in the analytical aerotriangulation process.  A number of "blind-point" panels were established and used during the QA/QC check of the orthophotos, LiDAR data and contour information.  All horizontal and vertical control was prepared under the supervision of licensed Professional Land Surveyors.</srccontr>
        <srctime>
          <timeinfo>
            <sngdate>
              <caldate>20060424</caldate>
            </sngdate>
          </timeinfo>
          <srccurr>ground condition</srccurr>
        </srctime>
      </srcinfo>
      <srcinfo>
        <srccite>
          <citeinfo>
            <title>Color Aerial Photography</title>
            <geoform>remote-sensing image</geoform>
            <pubdate>20060410</pubdate>
            <origin>Photo Science, Inc.</origin>
          </citeinfo>
        </srccite>
        <srcscale>19200</srcscale>
        <typesrc>filmstrip</typesrc>
        <srccitea>Aerial Photography</srccitea>
        <srccontr>Color aerial photography to be used in the creation of digital orthophotos, breaklines, and topographic contours.</srccontr>
        <srctime>
          <timeinfo>
            <rngdates>
              <begdate>20060327</begdate>
              <enddate>20060410</enddate>
            </rngdates>
          </timeinfo>
          <srccurr>ground condition</srccurr>
        </srctime>
      </srcinfo>
      <srcinfo>
        <srccite>
          <citeinfo>
            <title>LiDAR</title>
            <origin>Photo Science, Inc.</origin>
            <pubdate>20060408</pubdate>
          </citeinfo>
        </srccite>
        <typesrc>disc</typesrc>
        <srctime>
          <timeinfo>
            <rngdates>
              <begdate>20060327</begdate>
              <enddate>20060408</enddate>
            </rngdates>
          </timeinfo>
          <srccurr>ground condition</srccurr>
        </srctime>
        <srccitea>Raw LiDAR</srccitea>
        <srccontr>LiDAR elevation data used in the creation of the terrain surface.</srccontr>
      </srcinfo>
      <procstep>
        <procdesc Sync="TRUE">Metadata imported.</procdesc>
        <srcused Sync="TRUE">D:\metadata\723_Venango\GeoTIFF_Tile\metadata.xml</srcused>
        <date Sync="TRUE">20070518</date>
        <time Sync="TRUE">07323300</time>
      </procstep>
    </lineage>
    <attracc>
      <attraccr>The accuracy of the ground control is confirmed by the evaluation of the results of the analytical bundle adjustment.  The residuals of the final adjustment ensured compliance with NSSDA standards.  The Pre Adjustment Gross Error Detection Statistical Test (Data Snooping, with a confidence level of 99.9%) have been applied to all observations included in the aerial triangulations. To detect small gross errors, during Adjustment Robust Estimators were used with the same confidence level and a power of the test of 1-beta=0.2. Systematic errors were eliminated through self calibration and through Additional Parameters. Their numerical stability, statistical significance, internal and external reliability were checked using Student-t test with the same confidence level and Variance/Co-variance analysis. Finally, the arrived variance factor C was submitted to a Chi-square test against the pre-adjustment variance factor using a confidence level 99.9%.  

During the scanning of the original aerial film, the image histogram for each frame is carefully examined to ensure that the image has been scanned so that the minimum and maximum brightness values are captured to eliminate any loss of detail due to saturation of dark or light areas.  

The LiDAR flying height, field of view, laser repetition rate, aircraft speed, and the maximum baseline distances from the aerial platform to the ground based GPS stations have been fine tuned to ensure an RMSEz of the processed data at the 18.5 cm level for the base earth surface as required by the FEMA guidelines.

See the PAMAP Technical Proposal dated January 11, 2006 for further QA/QC procedures.
</attraccr>
    </attracc>
    <logic>All files are inspected by the Production Manager to ensure that they conform to the specified file naming conventions, all files load in their correct geographic position when loaded using the ASCII file header, all files conform to the project specifications for pixel resolution, file standard, dimensions, and compression, and all files do not contain blemishes such as visible seam lines, tone differences, data dropout or artifacts; scan swathing, or warped bridges and overpasses.</logic>
    <complete>All imagery is visually inspected for completeness to ensure that no gaps or image misplacement exists in the image area.  Imagery is mosaicked to ensure complete coverage for map sheets.  The imagery has been checked to ensure that the boundary and the content has been covered in its entirety.</complete>
    <posacc>
      <horizpa>
        <horizpar>The horizontal accuracy standard follows the NSSDA-1998 standard.  The maximum permissible RMSE for 95% of the horizontal check points for the mapping product is 5 feet or better.</horizpar>
      </horizpa>
      <vertacc>
        <vertaccr>The DEM data meets the required vertical accuracy necessary to ensure that the horizontal accuracies of the orthophotos and contours are met.</vertaccr>
      </vertacc>
    </posacc>
  </dataqual>
  <metainfo>
    <metd Sync="TRUE">20070518</metd>
    <metc>
      <cntinfo>
        <cntaddr>
          <addrtype>mailing and physical address</addrtype>
          <address>Penn State Institutes for the Environment</address>
          <address>Penn State University</address>
          <address>117 Land &amp; Water Research Building</address>
          <city>University Park</city>
          <state>PA</state>
          <postal>16802</postal>
          <country>USA</country>
        </cntaddr>
        <cntpos></cntpos>
        <cntvoice>814-863-0104</cntvoice>
        <cntfax>814-865-3378</cntfax>
        <cntemail>pasda@psu.edu</cntemail>
        <cntorgp>
          <cntorg>Pennsylvania Spatial Data Access (PASDA)</cntorg>
          <cntper></cntper>
        </cntorgp>
      </cntinfo>
    </metc>
    <metstdn>FGDC Content Standards for Digital Geospatial Metadata</metstdn>
    <metstdv>FGDC-STD-001-1998</metstdv>
    <langmeta Sync="TRUE">en</langmeta>
    <mettc Sync="TRUE">local time</mettc>
    <metextns>
      <onlink Sync="TRUE">http://www.esri.com/metadata/esriprof80.html</onlink>
      <metprof Sync="TRUE">ESRI Metadata Profile</metprof>
    </metextns>
  </metainfo>
  <mdDateSt Sync="TRUE">20070518</mdDateSt>
  <distinfo>
    <distrib>
      <cntinfo>
        <cntaddr>
          <addrtype>mailing and physical address</addrtype>
          <address>Penn State Institutes for the Environment</address>
          <address>Penn State University</address>
          <address>117 Land &amp; Water Research Building</address>
          <city>University Park</city>
          <state>PA</state>
          <postal>16802</postal>
          <country>USA</country>
        </cntaddr>
        <cntperp>
          <cntper></cntper>
          <cntorg>Pennsylvania Spatial Data Access (PASDA)</cntorg>
        </cntperp>
        <cntvoice>814-863-0104</cntvoice>
        <cntemail>pasda@psu.edu</cntemail>
        <cntpos></cntpos>
        <cntfax>814-865-3378</cntfax>
      </cntinfo>
    </distrib>
    <distliab>The USER shall indemnify, save harmless, and, if requested, defend those parties involved with the development and distribution of this data, their officers, agents, and employees from and against any suits, claims, or actions for injury, death, or property damage arising out of the use of or any defect in the FILES or any accompanying documentation. Those parties involved with the development and distribution excluded any and all implied warranties, including warranties or merchantability and fitness for a particular purpose and makes no warranty or representation, either express or implied, with respect to the FILES or accompanying documentation, including its quality, performance, merchantability, or fitness for a particular purpose. The FILES and documentation are provided "as is" and the USER assumes the entire risk as to its quality and performance. Those parties involved with the development and distribution of this data will not be liable for any direct, indirect, special, incidental, or consequential damages arising out of the use or inability to use the FILES or any accompanying documentation.</distliab>
    <resdesc Sync="TRUE">Downloadable Data</resdesc>
    <stdorder>
      <digform>
        <digtinfo>
          <transize Sync="TRUE">0.000</transize>
          <dssize Sync="TRUE">0.000</dssize>
        </digtinfo>
      </digform>
    </stdorder>
  </distinfo>
  <spdoinfo>
    <direct>Raster</direct>
    <rastinfo>
      <rasttype Sync="TRUE">Pixel</rasttype>
      <rowcount Sync="TRUE">10000</rowcount>
      <colcount Sync="TRUE">10000</colcount>
      <rastxsz Sync="TRUE">1.000000</rastxsz>
      <rastysz Sync="TRUE">1.000000</rastysz>
      <rastbpp Sync="TRUE">8</rastbpp>
      <vrtcount Sync="TRUE">1</vrtcount>
      <rastorig Sync="TRUE">Upper Left</rastorig>
      <rastcmap Sync="TRUE">FALSE</rastcmap>
      <rastcomp Sync="TRUE">None</rastcomp>
      <rastband Sync="TRUE">3</rastband>
      <rastdtyp Sync="TRUE">pixel codes</rastdtyp>
      <rastplyr Sync="TRUE">FALSE</rastplyr>
      <rastifor Sync="TRUE"/>
    </rastinfo>
  </spdoinfo>
  <spref>
    <horizsys>
      <geodetic>
        <horizdn Sync="TRUE">North American Datum of 1983</horizdn>
        <ellips Sync="TRUE">Geodetic Reference System 80</ellips>
        <semiaxis Sync="TRUE">6378137.000000</semiaxis>
        <denflat Sync="TRUE">298.257222</denflat>
      </geodetic>
      <planar>
        <planci>
          <coordrep>
            <absres Sync="TRUE">1.000000</absres>
            <ordres Sync="TRUE">1.000000</ordres>
          </coordrep>
          <plance>coordinate pair</plance>
          <plandu Sync="TRUE">survey feet</plandu>
        </planci>
        <mapproj>
          <mapprojn Sync="TRUE">Pennsylvania State Plane North - NAD83</mapprojn>
          <lambertc>
            <stdparll Sync="TRUE">40.883333</stdparll>
            <stdparll Sync="TRUE">41.950000</stdparll>
            <longcm Sync="TRUE">-77.750000</longcm>
            <latprjo Sync="TRUE">40.166667</latprjo>
            <feast Sync="TRUE">1968500.000000</feast>
            <fnorth Sync="TRUE">0.000000</fnorth>
          </lambertc>
        </mapproj>
      </planar>
      <cordsysn>
        <geogcsn Sync="TRUE">GCS_North_American_1983</geogcsn>
        <projcsn Sync="TRUE">NAD_1983_StatePlane_Pennsylvania_North_FIPS_3701_Feet</projcsn>
      </cordsysn>
    </horizsys>
  </spref>
  <eainfo>
    <overview>
      <eaover>A digital number from 0 to 255 will be assigned to each pixel.  For the color imagery this number refers to a color look-up table which will contain the red, green, and blue (RGB) values, each from 0 to 255, for that digital number.</eaover>
      <eadetcit>Where applicable, all data conforms to the PAMAP Technical Proposal dated January 11, 2006.</eadetcit>
    </overview>
  </eainfo>
  <dataIdInfo>
    <envirDesc Sync="TRUE">Microsoft Windows XP Version 5.1 (Build 2600) Service Pack 2; ESRI ArcCatalog 9.2.1.1332</envirDesc>
    <dataLang>
      <languageCode Sync="TRUE" value="en"/>
    </dataLang>
    <idCitation>
      <resTitle Sync="TRUE">41001350PAN.tif</resTitle>
      <presForm>
        <PresFormCd Sync="TRUE" value="005"/>
      </presForm>
    </idCitation>
    <spatRpType>
      <SpatRepTypCd Sync="TRUE" value="002"/>
    </spatRpType>
    <dataExt>
      <geoEle>
        <GeoBndBox esriExtentType="native">
          <westBL Sync="TRUE">1350000</westBL>
          <eastBL Sync="TRUE">1360000</eastBL>
          <northBL Sync="TRUE">410000</northBL>
          <southBL Sync="TRUE">400000</southBL>
          <exTypeCode Sync="TRUE">1</exTypeCode>
        </GeoBndBox>
      </geoEle>
    </dataExt>
    <geoBox esriExtentType="decdegrees">
      <westBL Sync="TRUE">-80.000216</westBL>
      <eastBL Sync="TRUE">-79.962921</eastBL>
      <northBL Sync="TRUE">41.270617</northBL>
      <southBL Sync="TRUE">41.242473</southBL>
      <exTypeCode Sync="TRUE">1</exTypeCode>
    </geoBox>
  </dataIdInfo>
  <mdLang>
    <languageCode Sync="TRUE" value="en"/>
  </mdLang>
  <mdStanName Sync="TRUE">ISO 19115 Geographic Information - Metadata</mdStanName>
  <mdStanVer Sync="TRUE">DIS_ESRI1.0</mdStanVer>
  <mdChar>
    <CharSetCd Sync="TRUE" value="004"/>
  </mdChar>
  <mdHrLv>
    <ScopeCd Sync="TRUE" value="005"/>
  </mdHrLv>
  <mdHrLvName Sync="TRUE">dataset</mdHrLvName>
  <distInfo>
    <distributor>
      <distorTran>
        <onLineSrc>
          <linkage Sync="TRUE"/>
          <protocol Sync="TRUE">Local Area Network</protocol>
          <orDesc Sync="TRUE">002</orDesc>
        </onLineSrc>
        <transSize Sync="TRUE">0.000</transSize>
      </distorTran>
      <distorFormat>
